{"text_format":"2","workbook":"xlsx","n_sheets":5,"sheets":["Baza","Start","Data","TOT","SETKA"],"not_rendered":{"charts":1,"images":0,"macros":0,"external_links":0,"defined_names":5,"comments":0,"pivot_tables":0},"unopened":[],"bounds":{"document_bytes":16777216,"sheet_cells":100000,"run_cost":"one","rows_first":2000,"rows_last":500,"rows_between":2000,"halvings":0,"cell_chars":16384,"cell_head_chars":4096},"cells_cut":0,"cells_raw":0,"read":"whole","date_system":"1900"}

{"sheet":"Baza","index":0,"n_rows":33,"n_cols":27,"rows_kept":33,"cut":false,"hidden":false,"merged":[]}
[]
[null,"Столбец1","№","G","NN","DN","M","Date","Start","B","Room","Name","Y","T","K","A","GTD","KO","Win","R","F","B$","KO$","WIN$","Profit","AFS","Grafik"]
[null,{"$f":"TEXT(Baza[[#This Row],[Start]],\"ч:мм\")&\" \"&IF(OR(Baza[[#This Row],[Room]]=\"ES\",Baza[[#This Row],[Room]]=\"WN\"),\"€\",\"$\")&Baza[[#This Row],[B]]&\" [\"&Baza[[#This Row],[Room]]&\"] \"&Baza[[#This Row],[Name]]","v":"11:00 $1,1 [PP] Bounty Hunter"},1,{"$f":"YEAR(Baza[[#This Row],[Date]])","v":2021},{"$f":"WEEKNUM(Baza[[#This Row],[Date]],2)","v":1},{"$f":"CHOOSE(WEEKDAY(Baza[[#This Row],[Date]],2),\"понедельник\",\"вторник\",\"среда\",\"четверг\",\"пятница\",\"суббота\",\"воскресенье\")","v":"пятница"},{"$f":"CHOOSE(MONTH(Baza[[#This Row],[Date]]),\"январь\",\"февраль\",\"март\",\"апрель\",\"май\",\"июнь\",\"июль\",\"август\",\"сентябрь\",\"октябрь\",\"ноябрь\",\"декабрь\")","v":"январь"},"2021-01-01","11:00:00",1.1000000000000001,"PP","Bounty Hunter",8,"-","K","-",50,null,null,null,"-",{"$f":"IF(OR(Baza[[#This Row],[Room]]=\"ES\",Baza[[#This Row],[Room]]=\"WN\"),(Baza[[#This Row],[B]]*1.12) +(Baza[[#This Row],[R]]*Baza[[#This Row],[B]]*1.12),Baza[[#This Row],[B]]*Baza[[#This Row],[R]]+Baza[[#This Row],[B]])","v":1.1000000000000001},{"$f":"IF(OR(Baza[[#This Row],[Room]]=\"ES\",Baza[[#This Row],[Room]]=\"WN\"),Baza[[#This Row],[KO]]*1.12,Baza[[#This Row],[KO]])","v":0},{"$f":"IF(OR(Baza[[#This Row],[Room]]=\"ES\",Baza[[#This Row],[Room]]=\"WN\"),Baza[[#This Row],[Win]]*1.12,Baza[[#This Row],[Win]])","v":0},{"$f":"Baza[[#This Row],[WIN$]]+Baza[[#This Row],[KO$]]-Baza[[#This Row],[B$]]","v":-1.1000000000000001},{"$f":"IF(OR(Baza[[#This Row],[A]]=\"XP\",Baza[[#This Row],[A]]=\"XP2\",Baza[[#This Row],[A]]=\"F\"),AVERAGEIFS(Baza[AFS],Baza[A],\"-\"),Baza[[#This Row],[GTD]]/Baza[[#This Row],[B]])","v":45.454545454545453},{"$f":"SUM($Y$2:Y3)","v":-1.1000000000000001}]
[null,{"$f":"TEXT(Baza[[#This Row],[Start]],\"ч:мм\")&\" \"&IF(OR(Baza[[#This Row],[Room]]=\"ES\",Baza[[#This Row],[Room]]=\"WN\"),\"€\",\"$\")&Baza[[#This Row],[B]]&\" [\"&Baza[[#This Row],[Room]]&\"] \"&Baza[[#This Row],[Name]]","v":"11:00 €1 [WN] Monster Stack"},2,{"$f":"YEAR(Baza[[#This Row],[Date]])","v":2021},{"$f":"WEEKNUM(Baza[[#This Row],[Date]],2)","v":1},{"$f":"CHOOSE(WEEKDAY(Baza[[#This Row],[Date]],2),\"понедельник\",\"вторник\",\"среда\",\"четверг\",\"пятница\",\"суббота\",\"воскресенье\")","v":"пятница"},{"$f":"CHOOSE(MONTH(Baza[[#This Row],[Date]]),\"январь\",\"февраль\",\"март\",\"апрель\",\"май\",\"июнь\",\"июль\",\"август\",\"сентябрь\",\"октябрь\",\"ноябрь\",\"декабрь\")","v":"январь"},"2021-01-01","11:00:00",1,"WN","Monster Stack",6,"-","-","-",150,null,null,null,"-",{"$f":"IF(OR(Baza[[#This Row],[Room]]=\"ES\",Baza[[#This Row],[Room]]=\"WN\"),(Baza[[#This Row],[B]]*1.12) +(Baza[[#This Row],[R]]*Baza[[#This Row],[B]]*1.12),Baza[[#This Row],[B]]*Baza[[#This Row],[R]]+Baza[[#This Row],[B]])","v":1.1200000000000001},{"$f":"IF(OR(Baza[[#This Row],[Room]]=\"ES\",Baza[[#This Row],[Room]]=\"WN\"),Baza[[#This Row],[KO]]*1.12,Baza[[#This Row],[KO]])","v":0},{"$f":"IF(OR(Baza[[#This Row],[Room]]=\"ES\",Baza[[#This Row],[Room]]=\"WN\"),Baza[[#This Row],[Win]]*1.12,Baza[[#This Row],[Win]])","v":0},{"$f":"Baza[[#This Row],[WIN$]]+Baza[[#This Row],[KO$]]-Baza[[#This Row],[B$]]","v":-1.1200000000000001},{"$f":"IF(OR(Baza[[#This Row],[A]]=\"XP\",Baza[[#This Row],[A]]=\"XP2\",Baza[[#This Row],[A]]=\"F\"),AVERAGEIFS(Baza[AFS],Baza[A],\"-\"),Baza[[#This Row],[GTD]]/Baza[[#This Row],[B]])","v":150},{"$f":"SUM($Y$2:Y4)","v":-2.2200000000000002}]
[null,{"$f":"TEXT(Baza[[#This Row],[Start]],\"ч:мм\")&\" \"&IF(OR(Baza[[#This Row],[Room]]=\"ES\",Baza[[#This Row],[Room]]=\"WN\"),\"€\",\"$\")&Baza[[#This Row],[B]]&\" [\"&Baza[[#This Row],[Room]]&\"] \"&Baza[[#This Row],[Name]]","v":"11:15 $2,2 [PP] Deepstack"},3,{"$f":"YEAR(Baza[[#This Row],[Date]])","v":2021},{"$f":"WEEKNUM(Baza[[#This Row],[Date]],2)","v":1},{"$f":"CHOOSE(WEEKDAY(Baza[[#This Row],[Date]],2),\"понедельник\",\"вторник\",\"среда\",\"четверг\",\"пятница\",\"суббота\",\"воскресенье\")","v":"пятница"},{"$f":"CHOOSE(MONTH(Baza[[#This Row],[Date]]),\"январь\",\"февраль\",\"март\",\"апрель\",\"май\",\"июнь\",\"июль\",\"август\",\"сентябрь\",\"октябрь\",\"ноябрь\",\"декабрь\")","v":"январь"},"2021-01-01","11:15:00",2.2000000000000002,"PP","Deepstack",8,"-","-","-",200,null,null,null,"-",{"$f":"IF(OR(Baza[[#This Row],[Room]]=\"ES\",Baza[[#This Row],[Room]]=\"WN\"),(Baza[[#This Row],[B]]*1.12) +(Baza[[#This Row],[R]]*Baza[[#This Row],[B]]*1.12),Baza[[#This Row],[B]]*Baza[[#This Row],[R]]+Baza[[#This Row],[B]])","v":2.2000000000000002},{"$f":"IF(OR(Baza[[#This Row],[Room]]=\"ES\",Baza[[#This Row],[Room]]=\"WN\"),Baza[[#This Row],[KO]]*1.12,Baza[[#This Row],[KO]])","v":0},{"$f":"IF(OR(Baza[[#This Row],[Room]]=\"ES\",Baza[[#This Row],[Room]]=\"WN\"),Baza[[#This Row],[Win]]*1.12,Baza[[#This Row],[Win]])","v":0},{"$f":"Baza[[#This Row],[WIN$]]+Baza[[#This Row],[KO$]]-Baza[[#This Row],[B$]]","v":-2.2000000000000002},{"$f":"IF(OR(Baza[[#This Row],[A]]=\"XP\",Baza[[#This Row],[A]]=\"XP2\",Baza[[#This Row],[A]]=\"F\"),AVERAGEIFS(Baza[AFS],Baza[A],\"-\"),Baza[[#This Row],[GTD]]/Baza[[#This Row],[B]])","v":90.909090909090907},{"$f":"SUM($Y$2:Y5)","v":-4.42}]
[null,{"$f":"TEXT(Baza[[#This Row],[Start]],\"ч:мм\")&\" \"&IF(OR(Baza[[#This Row],[Room]]=\"ES\",Baza[[#This Row],[Room]]=\"WN\"),\"€\",\"$\")&Baza[[#This Row],[B]]&\" [\"&Baza[[#This Row],[Room]]&\"] \"&Baza[[#This Row],[Name]]","v":"11:30 $2,1 [GG] Bounty Hunters"},4,{"$f":"YEAR(Baza[[#This Row],[Date]])","v":2021},{"$f":"WEEKNUM(Baza[[#This Row],[Date]],2)","v":1},{"$f":"CHOOSE(WEEKDAY(Baza[[#This Row],[Date]],2),\"понедельник\",\"вторник\",\"среда\",\"четверг\",\"пятница\",\"суббота\",\"воскресенье\")","v":"пятница"},{"$f":"CHOOSE(MONTH(Baza[[#This Row],[Date]]),\"январь\",\"февраль\",\"март\",\"апрель\",\"май\",\"июнь\",\"июль\",\"август\",\"сентябрь\",\"октябрь\",\"ноябрь\",\"декабрь\")","v":"январь"},"2021-01-01","11:30:00",2.1,"GG","Bounty Hunters",8,"-","K","-",1200,null,null,null,"-",{"$f":"IF(OR(Baza[[#This Row],[Room]]=\"ES\",Baza[[#This Row],[Room]]=\"WN\"),(Baza[[#This Row],[B]]*1.12) +(Baza[[#This Row],[R]]*Baza[[#This Row],[B]]*1.12),Baza[[#This Row],[B]]*Baza[[#This Row],[R]]+Baza[[#This Row],[B]])","v":2.1},{"$f":"IF(OR(Baza[[#This Row],[Room]]=\"ES\",Baza[[#This Row],[Room]]=\"WN\"),Baza[[#This Row],[KO]]*1.12,Baza[[#This Row],[KO]])","v":0},{"$f":"IF(OR(Baza[[#This Row],[Room]]=\"ES\",Baza[[#This Row],[Room]]=\"WN\"),Baza[[#This Row],[Win]]*1.12,Baza[[#This Row],[Win]])","v":0},{"$f":"Baza[[#This Row],[WIN$]]+Baza[[#This Row],[KO$]]-Baza[[#This Row],[B$]]","v":-2.1},{"$f":"IF(OR(Baza[[#This Row],[A]]=\"XP\",Baza[[#This Row],[A]]=\"XP2\",Baza[[#This Row],[A]]=\"F\"),AVERAGEIFS(Baza[AFS],Baza[A],\"-\"),Baza[[#This Row],[GTD]]/Baza[[#This Row],[B]])","v":571.42857142857144},{"$f":"SUM($Y$2:Y6)","v":-6.52}]
[null,{"$f":"TEXT(Baza[[#This Row],[Start]],\"ч:мм\")&\" \"&IF(OR(Baza[[#This Row],[Room]]=\"ES\",Baza[[#This Row],[Room]]=\"WN\"),\"€\",\"$\")&Baza[[#This Row],[B]]&\" [\"&Baza[[#This Row],[Room]]&\"] \"&Baza[[#This Row],[Name]]","v":"12:00 $1,1 [PP] Deepstack"},5,{"$f":"YEAR(Baza[[#This Row],[Date]])","v":2021},{"$f":"WEEKNUM(Baza[[#This Row],[Date]],2)","v":1},{"$f":"CHOOSE(WEEKDAY(Baza[[#This Row],[Date]],2),\"понедельник\",\"вторник\",\"среда\",\"четверг\",\"пятница\",\"суббота\",\"воскресенье\")","v":"пятница"},{"$f":"CHOOSE(MONTH(Baza[[#This Row],[Date]]),\"январь\",\"февраль\",\"март\",\"апрель\",\"май\",\"июнь\",\"июль\",\"август\",\"сентябрь\",\"октябрь\",\"ноябрь\",\"декабрь\")","v":"январь"},"2021-01-01","12:00:00",1.1000000000000001,"PP","Deepstack",8,"-","-","-",150,null,null,null,"-",{"$f":"IF(OR(Baza[[#This Row],[Room]]=\"ES\",Baza[[#This Row],[Room]]=\"WN\"),(Baza[[#This Row],[B]]*1.12) +(Baza[[#This Row],[R]]*Baza[[#This Row],[B]]*1.12),Baza[[#This Row],[B]]*Baza[[#This Row],[R]]+Baza[[#This Row],[B]])","v":1.1000000000000001},{"$f":"IF(OR(Baza[[#This Row],[Room]]=\"ES\",Baza[[#This Row],[Room]]=\"WN\"),Baza[[#This Row],[KO]]*1.12,Baza[[#This Row],[KO]])","v":0},{"$f":"IF(OR(Baza[[#This Row],[Room]]=\"ES\",Baza[[#This Row],[Room]]=\"WN\"),Baza[[#This Row],[Win]]*1.12,Baza[[#This Row],[Win]])","v":0},{"$f":"Baza[[#This Row],[WIN$]]+Baza[[#This Row],[KO$]]-Baza[[#This Row],[B$]]","v":-1.1000000000000001},{"$f":"IF(OR(Baza[[#This Row],[A]]=\"XP\",Baza[[#This Row],[A]]=\"XP2\",Baza[[#This Row],[A]]=\"F\"),AVERAGEIFS(Baza[AFS],Baza[A],\"-\"),Baza[[#This Row],[GTD]]/Baza[[#This Row],[B]])","v":136.36363636363635},{"$f":"SUM($Y$2:Y7)","v":-7.6199999999999992}]
[null,{"$f":"TEXT(Baza[[#This Row],[Start]],\"ч:мм\")&\" \"&IF(OR(Baza[[#This Row],[Room]]=\"ES\",Baza[[#This Row],[Room]]=\"WN\"),\"€\",\"$\")&Baza[[#This Row],[B]]&\" [\"&Baza[[#This Row],[Room]]&\"] \"&Baza[[#This Row],[Name]]","v":"12:00 $1,1 [PS] Big"},6,{"$f":"YEAR(Baza[[#This Row],[Date]])","v":2021},{"$f":"WEEKNUM(Baza[[#This Row],[Date]],2)","v":1},{"$f":"CHOOSE(WEEKDAY(Baza[[#This Row],[Date]],2),\"понедельник\",\"вторник\",\"среда\",\"четверг\",\"пятница\",\"суббота\",\"воскресенье\")","v":"пятница"},{"$f":"CHOOSE(MONTH(Baza[[#This Row],[Date]]),\"январь\",\"февраль\",\"март\",\"апрель\",\"май\",\"июнь\",\"июль\",\"август\",\"сентябрь\",\"октябрь\",\"ноябрь\",\"декабрь\")","v":"январь"},"2021-01-01","12:00:00",1.1000000000000001,"PS","Big",9,"-","-","-",500,null,6.26,null,42,{"$f":"IF(OR(Baza[[#This Row],[Room]]=\"ES\",Baza[[#This Row],[Room]]=\"WN\"),(Baza[[#This Row],[B]]*1.12) +(Baza[[#This Row],[R]]*Baza[[#This Row],[B]]*1.12),Baza[[#This Row],[B]]*Baza[[#This Row],[R]]+Baza[[#This Row],[B]])","v":1.1000000000000001},{"$f":"IF(OR(Baza[[#This Row],[Room]]=\"ES\",Baza[[#This Row],[Room]]=\"WN\"),Baza[[#This Row],[KO]]*1.12,Baza[[#This Row],[KO]])","v":0},{"$f":"IF(OR(Baza[[#This Row],[Room]]=\"ES\",Baza[[#This Row],[Room]]=\"WN\"),Baza[[#This Row],[Win]]*1.12,Baza[[#This Row],[Win]])","v":6.26},{"$f":"Baza[[#This Row],[WIN$]]+Baza[[#This Row],[KO$]]-Baza[[#This Row],[B$]]","v":5.16},{"$f":"IF(OR(Baza[[#This Row],[A]]=\"XP\",Baza[[#This Row],[A]]=\"XP2\",Baza[[#This Row],[A]]=\"F\"),AVERAGEIFS(Baza[AFS],Baza[A],\"-\"),Baza[[#This Row],[GTD]]/Baza[[#This Row],[B]])","v":454.5454545454545},{"$f":"SUM($Y$2:Y8)","v":-2.4599999999999991}]
[null,{"$f":"TEXT(Baza[[#This Row],[Start]],\"ч:мм\")&\" \"&IF(OR(Baza[[#This Row],[Room]]=\"ES\",Baza[[#This Row],[Room]]=\"WN\"),\"€\",\"$\")&Baza[[#This Row],[B]]&\" [\"&Baza[[#This Row],[Room]]&\"] \"&Baza[[#This Row],[Name]]","v":"12:00 €2 [WN] Monster Stack"},7,{"$f":"YEAR(Baza[[#This Row],[Date]])","v":2021},{"$f":"WEEKNUM(Baza[[#This Row],[Date]],2)","v":1},{"$f":"CHOOSE(WEEKDAY(Baza[[#This Row],[Date]],2),\"понедельник\",\"вторник\",\"среда\",\"четверг\",\"пятница\",\"суббота\",\"воскресенье\")","v":"пятница"},{"$f":"CHOOSE(MONTH(Baza[[#This Row],[Date]]),\"январь\",\"февраль\",\"март\",\"апрель\",\"май\",\"июнь\",\"июль\",\"август\",\"сентябрь\",\"октябрь\",\"ноябрь\",\"декабрь\")","v":"январь"},"2021-01-01","12:00:00",2,"WN","Monster Stack",6,"-","-","-",200,null,null,null,"-",{"$f":"IF(OR(Baza[[#This Row],[Room]]=\"ES\",Baza[[#This Row],[Room]]=\"WN\"),(Baza[[#This Row],[B]]*1.12) +(Baza[[#This Row],[R]]*Baza[[#This Row],[B]]*1.12),Baza[[#This Row],[B]]*Baza[[#This Row],[R]]+Baza[[#This Row],[B]])","v":2.2400000000000002},{"$f":"IF(OR(Baza[[#This Row],[Room]]=\"ES\",Baza[[#This Row],[Room]]=\"WN\"),Baza[[#This Row],[KO]]*1.12,Baza[[#This Row],[KO]])","v":0},{"$f":"IF(OR(Baza[[#This Row],[Room]]=\"ES\",Baza[[#This Row],[Room]]=\"WN\"),Baza[[#This Row],[Win]]*1.12,Baza[[#This Row],[Win]])","v":0},{"$f":"Baza[[#This Row],[WIN$]]+Baza[[#This Row],[KO$]]-Baza[[#This Row],[B$]]","v":-2.2400000000000002},{"$f":"IF(OR(Baza[[#This Row],[A]]=\"XP\",Baza[[#This Row],[A]]=\"XP2\",Baza[[#This Row],[A]]=\"F\"),AVERAGEIFS(Baza[AFS],Baza[A],\"-\"),Baza[[#This Row],[GTD]]/Baza[[#This Row],[B]])","v":100},{"$f":"SUM($Y$2:Y9)","v":-4.6999999999999993}]
[null,{"$f":"TEXT(Baza[[#This Row],[Start]],\"ч:мм\")&\" \"&IF(OR(Baza[[#This Row],[Room]]=\"ES\",Baza[[#This Row],[Room]]=\"WN\"),\"€\",\"$\")&Baza[[#This Row],[B]]&\" [\"&Baza[[#This Row],[Room]]&\"] \"&Baza[[#This Row],[Name]]","v":"12:30 $1,05 [GG] Bounty Hunters"},8,{"$f":"YEAR(Baza[[#This Row],[Date]])","v":2021},{"$f":"WEEKNUM(Baza[[#This Row],[Date]],2)","v":1},{"$f":"CHOOSE(WEEKDAY(Baza[[#This Row],[Date]],2),\"понедельник\",\"вторник\",\"среда\",\"четверг\",\"пятница\",\"суббота\",\"воскресенье\")","v":"пятница"},{"$f":"CHOOSE(MONTH(Baza[[#This Row],[Date]]),\"январь\",\"февраль\",\"март\",\"апрель\",\"май\",\"июнь\",\"июль\",\"август\",\"сентябрь\",\"октябрь\",\"ноябрь\",\"декабрь\")","v":"январь"},"2021-01-01","12:30:00",1.05,"GG","Bounty Hunters",8,"-","K","-",750,5.04,3.98,null,20,{"$f":"IF(OR(Baza[[#This Row],[Room]]=\"ES\",Baza[[#This Row],[Room]]=\"WN\"),(Baza[[#This Row],[B]]*1.12) +(Baza[[#This Row],[R]]*Baza[[#This Row],[B]]*1.12),Baza[[#This Row],[B]]*Baza[[#This Row],[R]]+Baza[[#This Row],[B]])","v":1.05},{"$f":"IF(OR(Baza[[#This Row],[Room]]=\"ES\",Baza[[#This Row],[Room]]=\"WN\"),Baza[[#This Row],[KO]]*1.12,Baza[[#This Row],[KO]])","v":5.04},{"$f":"IF(OR(Baza[[#This Row],[Room]]=\"ES\",Baza[[#This Row],[Room]]=\"WN\"),Baza[[#This Row],[Win]]*1.12,Baza[[#This Row],[Win]])","v":3.98},{"$f":"Baza[[#This Row],[WIN$]]+Baza[[#This Row],[KO$]]-Baza[[#This Row],[B$]]","v":7.97},{"$f":"IF(OR(Baza[[#This Row],[A]]=\"XP\",Baza[[#This Row],[A]]=\"XP2\",Baza[[#This Row],[A]]=\"F\"),AVERAGEIFS(Baza[AFS],Baza[A],\"-\"),Baza[[#This Row],[GTD]]/Baza[[#This Row],[B]])","v":714.28571428571422},{"$f":"SUM($Y$2:Y10)","v":3.2700000000000005}]
[null,{"$f":"TEXT(Baza[[#This Row],[Start]],\"ч:мм\")&\" \"&IF(OR(Baza[[#This Row],[Room]]=\"ES\",Baza[[#This Row],[Room]]=\"WN\"),\"€\",\"$\")&Baza[[#This Row],[B]]&\" [\"&Baza[[#This Row],[Room]]&\"] \"&Baza[[#This Row],[Name]]","v":"12:30 $1 [PAC] Guaranteed"},9,{"$f":"YEAR(Baza[[#This Row],[Date]])","v":2021},{"$f":"WEEKNUM(Baza[[#This Row],[Date]],2)","v":1},{"$f":"CHOOSE(WEEKDAY(Baza[[#This Row],[Date]],2),\"понедельник\",\"вторник\",\"среда\",\"четверг\",\"пятница\",\"суббота\",\"воскресенье\")","v":"пятница"},{"$f":"CHOOSE(MONTH(Baza[[#This Row],[Date]]),\"январь\",\"февраль\",\"март\",\"апрель\",\"май\",\"июнь\",\"июль\",\"август\",\"сентябрь\",\"октябрь\",\"ноябрь\",\"декабрь\")","v":"январь"},"2021-01-01","12:30:00",1,"PAC","Guaranteed",9,"-","-","-",200,null,null,null,"-",{"$f":"IF(OR(Baza[[#This Row],[Room]]=\"ES\",Baza[[#This Row],[Room]]=\"WN\"),(Baza[[#This Row],[B]]*1.12) +(Baza[[#This Row],[R]]*Baza[[#This Row],[B]]*1.12),Baza[[#This Row],[B]]*Baza[[#This Row],[R]]+Baza[[#This Row],[B]])","v":1},{"$f":"IF(OR(Baza[[#This Row],[Room]]=\"ES\",Baza[[#This Row],[Room]]=\"WN\"),Baza[[#This Row],[KO]]*1.12,Baza[[#This Row],[KO]])","v":0},{"$f":"IF(OR(Baza[[#This Row],[Room]]=\"ES\",Baza[[#This Row],[Room]]=\"WN\"),Baza[[#This Row],[Win]]*1.12,Baza[[#This Row],[Win]])","v":0},{"$f":"Baza[[#This Row],[WIN$]]+Baza[[#This Row],[KO$]]-Baza[[#This Row],[B$]]","v":-1},{"$f":"IF(OR(Baza[[#This Row],[A]]=\"XP\",Baza[[#This Row],[A]]=\"XP2\",Baza[[#This Row],[A]]=\"F\"),AVERAGEIFS(Baza[AFS],Baza[A],\"-\"),Baza[[#This Row],[GTD]]/Baza[[#This Row],[B]])","v":200},{"$f":"SUM($Y$2:Y11)","v":2.2700000000000005}]
[null,{"$f":"TEXT(Baza[[#This Row],[Start]],\"ч:мм\")&\" \"&IF(OR(Baza[[#This Row],[Room]]=\"ES\",Baza[[#This Row],[Room]]=\"WN\"),\"€\",\"$\")&Baza[[#This Row],[B]]&\" [\"&Baza[[#This Row],[Room]]&\"] \"&Baza[[#This Row],[Name]]","v":"12:30 $2,2 [PP] Bounty Hunter"},10,{"$f":"YEAR(Baza[[#This Row],[Date]])","v":2021},{"$f":"WEEKNUM(Baza[[#This Row],[Date]],2)","v":1},{"$f":"CHOOSE(WEEKDAY(Baza[[#This Row],[Date]],2),\"понедельник\",\"вторник\",\"среда\",\"четверг\",\"пятница\",\"суббота\",\"воскресенье\")","v":"пятница"},{"$f":"CHOOSE(MONTH(Baza[[#This Row],[Date]]),\"январь\",\"февраль\",\"март\",\"апрель\",\"май\",\"июнь\",\"июль\",\"август\",\"сентябрь\",\"октябрь\",\"ноябрь\",\"декабрь\")","v":"январь"},"2021-01-01","12:30:00",2.2000000000000002,"PP","Bounty Hunter",8,"-","K","-",200,null,null,null,"-",{"$f":"IF(OR(Baza[[#This Row],[Room]]=\"ES\",Baza[[#This Row],[Room]]=\"WN\"),(Baza[[#This Row],[B]]*1.12) +(Baza[[#This Row],[R]]*Baza[[#This Row],[B]]*1.12),Baza[[#This Row],[B]]*Baza[[#This Row],[R]]+Baza[[#This Row],[B]])","v":2.2000000000000002},{"$f":"IF(OR(Baza[[#This Row],[Room]]=\"ES\",Baza[[#This Row],[Room]]=\"WN\"),Baza[[#This Row],[KO]]*1.12,Baza[[#This Row],[KO]])","v":0},{"$f":"IF(OR(Baza[[#This Row],[Room]]=\"ES\",Baza[[#This Row],[Room]]=\"WN\"),Baza[[#This Row],[Win]]*1.12,Baza[[#This Row],[Win]])","v":0},{"$f":"Baza[[#This Row],[WIN$]]+Baza[[#This Row],[KO$]]-Baza[[#This Row],[B$]]","v":-2.2000000000000002},{"$f":"IF(OR(Baza[[#This Row],[A]]=\"XP\",Baza[[#This Row],[A]]=\"XP2\",Baza[[#This Row],[A]]=\"F\"),AVERAGEIFS(Baza[AFS],Baza[A],\"-\"),Baza[[#This Row],[GTD]]/Baza[[#This Row],[B]])","v":90.909090909090907},{"$f":"SUM($Y$2:Y12)","v":7.0000000000000284E-2}]
[null,{"$f":"TEXT(Baza[[#This Row],[Start]],\"ч:мм\")&\" \"&IF(OR(Baza[[#This Row],[Room]]=\"ES\",Baza[[#This Row],[Room]]=\"WN\"),\"€\",\"$\")&Baza[[#This Row],[B]]&\" [\"&Baza[[#This Row],[Room]]&\"] \"&Baza[[#This Row],[Name]]","v":"13:00 $2 [GG] Big"},11,{"$f":"YEAR(Baza[[#This Row],[Date]])","v":2021},{"$f":"WEEKNUM(Baza[[#This Row],[Date]],2)","v":1},{"$f":"CHOOSE(WEEKDAY(Baza[[#This Row],[Date]],2),\"понедельник\",\"вторник\",\"среда\",\"четверг\",\"пятница\",\"суббота\",\"воскресенье\")","v":"пятница"},{"$f":"CHOOSE(MONTH(Baza[[#This Row],[Date]]),\"январь\",\"февраль\",\"март\",\"апрель\",\"май\",\"июнь\",\"июль\",\"август\",\"сентябрь\",\"октябрь\",\"ноябрь\",\"декабрь\")","v":"январь"},"2021-01-01","13:00:00",2,"GG","Big",8,"-","-","-",750,null,null,null,"-",{"$f":"IF(OR(Baza[[#This Row],[Room]]=\"ES\",Baza[[#This Row],[Room]]=\"WN\"),(Baza[[#This Row],[B]]*1.12) +(Baza[[#This Row],[R]]*Baza[[#This Row],[B]]*1.12),Baza[[#This Row],[B]]*Baza[[#This Row],[R]]+Baza[[#This Row],[B]])","v":2},{"$f":"IF(OR(Baza[[#This Row],[Room]]=\"ES\",Baza[[#This Row],[Room]]=\"WN\"),Baza[[#This Row],[KO]]*1.12,Baza[[#This Row],[KO]])","v":0},{"$f":"IF(OR(Baza[[#This Row],[Room]]=\"ES\",Baza[[#This Row],[Room]]=\"WN\"),Baza[[#This Row],[Win]]*1.12,Baza[[#This Row],[Win]])","v":0},{"$f":"Baza[[#This Row],[WIN$]]+Baza[[#This Row],[KO$]]-Baza[[#This Row],[B$]]","v":-2},{"$f":"IF(OR(Baza[[#This Row],[A]]=\"XP\",Baza[[#This Row],[A]]=\"XP2\",Baza[[#This Row],[A]]=\"F\"),AVERAGEIFS(Baza[AFS],Baza[A],\"-\"),Baza[[#This Row],[GTD]]/Baza[[#This Row],[B]])","v":375},{"$f":"SUM($Y$2:Y13)","v":-1.9299999999999997}]
[null,{"$f":"TEXT(Baza[[#This Row],[Start]],\"ч:мм\")&\" \"&IF(OR(Baza[[#This Row],[Room]]=\"ES\",Baza[[#This Row],[Room]]=\"WN\"),\"€\",\"$\")&Baza[[#This Row],[B]]&\" [\"&Baza[[#This Row],[Room]]&\"] \"&Baza[[#This Row],[Name]]","v":"13:00 $1,1 [PP] Bounty Hunter"},12,{"$f":"YEAR(Baza[[#This Row],[Date]])","v":2021},{"$f":"WEEKNUM(Baza[[#This Row],[Date]],2)","v":1},{"$f":"CHOOSE(WEEKDAY(Baza[[#This Row],[Date]],2),\"понедельник\",\"вторник\",\"среда\",\"четверг\",\"пятница\",\"суббота\",\"воскресенье\")","v":"пятница"},{"$f":"CHOOSE(MONTH(Baza[[#This Row],[Date]]),\"январь\",\"февраль\",\"март\",\"апрель\",\"май\",\"июнь\",\"июль\",\"август\",\"сентябрь\",\"октябрь\",\"ноябрь\",\"декабрь\")","v":"январь"},"2021-01-01","13:00:00",1.1000000000000001,"PP","Bounty Hunter",8,"-","K","-",100,1.37,1.25,null,18,{"$f":"IF(OR(Baza[[#This Row],[Room]]=\"ES\",Baza[[#This Row],[Room]]=\"WN\"),(Baza[[#This Row],[B]]*1.12) +(Baza[[#This Row],[R]]*Baza[[#This Row],[B]]*1.12),Baza[[#This Row],[B]]*Baza[[#This Row],[R]]+Baza[[#This Row],[B]])","v":1.1000000000000001},{"$f":"IF(OR(Baza[[#This Row],[Room]]=\"ES\",Baza[[#This Row],[Room]]=\"WN\"),Baza[[#This Row],[KO]]*1.12,Baza[[#This Row],[KO]])","v":1.37},{"$f":"IF(OR(Baza[[#This Row],[Room]]=\"ES\",Baza[[#This Row],[Room]]=\"WN\"),Baza[[#This Row],[Win]]*1.12,Baza[[#This Row],[Win]])","v":1.25},{"$f":"Baza[[#This Row],[WIN$]]+Baza[[#This Row],[KO$]]-Baza[[#This Row],[B$]]","v":1.52},{"$f":"IF(OR(Baza[[#This Row],[A]]=\"XP\",Baza[[#This Row],[A]]=\"XP2\",Baza[[#This Row],[A]]=\"F\"),AVERAGEIFS(Baza[AFS],Baza[A],\"-\"),Baza[[#This Row],[GTD]]/Baza[[#This Row],[B]])","v":90.909090909090907},{"$f":"SUM($Y$2:Y14)","v":-0.4099999999999997}]
[null,{"$f":"TEXT(Baza[[#This Row],[Start]],\"ч:мм\")&\" \"&IF(OR(Baza[[#This Row],[Room]]=\"ES\",Baza[[#This Row],[Room]]=\"WN\"),\"€\",\"$\")&Baza[[#This Row],[B]]&\" [\"&Baza[[#This Row],[Room]]&\"] \"&Baza[[#This Row],[Name]]","v":"14:00 $2,2 [PAC] Guaranteed"},13,{"$f":"YEAR(Baza[[#This Row],[Date]])","v":2021},{"$f":"WEEKNUM(Baza[[#This Row],[Date]],2)","v":1},{"$f":"CHOOSE(WEEKDAY(Baza[[#This Row],[Date]],2),\"понедельник\",\"вторник\",\"среда\",\"четверг\",\"пятница\",\"суббота\",\"воскресенье\")","v":"пятница"},{"$f":"CHOOSE(MONTH(Baza[[#This Row],[Date]]),\"январь\",\"февраль\",\"март\",\"апрель\",\"май\",\"июнь\",\"июль\",\"август\",\"сентябрь\",\"октябрь\",\"ноябрь\",\"декабрь\")","v":"январь"},"2021-01-01","14:00:00",2.2000000000000002,"PAC","Guaranteed",9,"-","-","-",500,null,null,null,"-",{"$f":"IF(OR(Baza[[#This Row],[Room]]=\"ES\",Baza[[#This Row],[Room]]=\"WN\"),(Baza[[#This Row],[B]]*1.12) +(Baza[[#This Row],[R]]*Baza[[#This Row],[B]]*1.12),Baza[[#This Row],[B]]*Baza[[#This Row],[R]]+Baza[[#This Row],[B]])","v":2.2000000000000002},{"$f":"IF(OR(Baza[[#This Row],[Room]]=\"ES\",Baza[[#This Row],[Room]]=\"WN\"),Baza[[#This Row],[KO]]*1.12,Baza[[#This Row],[KO]])","v":0},{"$f":"IF(OR(Baza[[#This Row],[Room]]=\"ES\",Baza[[#This Row],[Room]]=\"WN\"),Baza[[#This Row],[Win]]*1.12,Baza[[#This Row],[Win]])","v":0},{"$f":"Baza[[#This Row],[WIN$]]+Baza[[#This Row],[KO$]]-Baza[[#This Row],[B$]]","v":-2.2000000000000002},{"$f":"IF(OR(Baza[[#This Row],[A]]=\"XP\",Baza[[#This Row],[A]]=\"XP2\",Baza[[#This Row],[A]]=\"F\"),AVERAGEIFS(Baza[AFS],Baza[A],\"-\"),Baza[[#This Row],[GTD]]/Baza[[#This Row],[B]])","v":227.27272727272725},{"$f":"SUM($Y$2:Y15)","v":-2.61}]
[null,{"$f":"TEXT(Baza[[#This Row],[Start]],\"ч:мм\")&\" \"&IF(OR(Baza[[#This Row],[Room]]=\"ES\",Baza[[#This Row],[Room]]=\"WN\"),\"€\",\"$\")&Baza[[#This Row],[B]]&\" [\"&Baza[[#This Row],[Room]]&\"] \"&Baza[[#This Row],[Name]]","v":"14:20 $1,1 [PS] Progressive KO"},14,{"$f":"YEAR(Baza[[#This Row],[Date]])","v":2021},{"$f":"WEEKNUM(Baza[[#This Row],[Date]],2)","v":1},{"$f":"CHOOSE(WEEKDAY(Baza[[#This Row],[Date]],2),\"понедельник\",\"вторник\",\"среда\",\"четверг\",\"пятница\",\"суббота\",\"воскресенье\")","v":"пятница"},{"$f":"CHOOSE(MONTH(Baza[[#This Row],[Date]]),\"январь\",\"февраль\",\"март\",\"апрель\",\"май\",\"июнь\",\"июль\",\"август\",\"сентябрь\",\"октябрь\",\"ноябрь\",\"декабрь\")","v":"январь"},"2021-01-01","14:20:00",1.1000000000000001,"PS","Progressive KO",9,"-","K","-",2000,null,null,null,"-",{"$f":"IF(OR(Baza[[#This Row],[Room]]=\"ES\",Baza[[#This Row],[Room]]=\"WN\"),(Baza[[#This Row],[B]]*1.12) +(Baza[[#This Row],[R]]*Baza[[#This Row],[B]]*1.12),Baza[[#This Row],[B]]*Baza[[#This Row],[R]]+Baza[[#This Row],[B]])","v":1.1000000000000001},{"$f":"IF(OR(Baza[[#This Row],[Room]]=\"ES\",Baza[[#This Row],[Room]]=\"WN\"),Baza[[#This Row],[KO]]*1.12,Baza[[#This Row],[KO]])","v":0},{"$f":"IF(OR(Baza[[#This Row],[Room]]=\"ES\",Baza[[#This Row],[Room]]=\"WN\"),Baza[[#This Row],[Win]]*1.12,Baza[[#This Row],[Win]])","v":0},{"$f":"Baza[[#This Row],[WIN$]]+Baza[[#This Row],[KO$]]-Baza[[#This Row],[B$]]","v":-1.1000000000000001},{"$f":"IF(OR(Baza[[#This Row],[A]]=\"XP\",Baza[[#This Row],[A]]=\"XP2\",Baza[[#This Row],[A]]=\"F\"),AVERAGEIFS(Baza[AFS],Baza[A],\"-\"),Baza[[#This Row],[GTD]]/Baza[[#This Row],[B]])","v":1818.181818181818},{"$f":"SUM($Y$2:Y16)","v":-3.71}]
[null,{"$f":"TEXT(Baza[[#This Row],[Start]],\"ч:мм\")&\" \"&IF(OR(Baza[[#This Row],[Room]]=\"ES\",Baza[[#This Row],[Room]]=\"WN\"),\"€\",\"$\")&Baza[[#This Row],[B]]&\" [\"&Baza[[#This Row],[Room]]&\"] \"&Baza[[#This Row],[Name]]","v":"14:30 $1,05 [GG] Bounty Hunters"},15,{"$f":"YEAR(Baza[[#This Row],[Date]])","v":2021},{"$f":"WEEKNUM(Baza[[#This Row],[Date]],2)","v":1},{"$f":"CHOOSE(WEEKDAY(Baza[[#This Row],[Date]],2),\"понедельник\",\"вторник\",\"среда\",\"четверг\",\"пятница\",\"суббота\",\"воскресенье\")","v":"пятница"},{"$f":"CHOOSE(MONTH(Baza[[#This Row],[Date]]),\"январь\",\"февраль\",\"март\",\"апрель\",\"май\",\"июнь\",\"июль\",\"август\",\"сентябрь\",\"октябрь\",\"ноябрь\",\"декабрь\")","v":"январь"},"2021-01-01","14:30:00",1.05,"GG","Bounty Hunters",8,"-","K","-",750,null,null,null,"-",{"$f":"IF(OR(Baza[[#This Row],[Room]]=\"ES\",Baza[[#This Row],[Room]]=\"WN\"),(Baza[[#This Row],[B]]*1.12) +(Baza[[#This Row],[R]]*Baza[[#This Row],[B]]*1.12),Baza[[#This Row],[B]]*Baza[[#This Row],[R]]+Baza[[#This Row],[B]])","v":1.05},{"$f":"IF(OR(Baza[[#This Row],[Room]]=\"ES\",Baza[[#This Row],[Room]]=\"WN\"),Baza[[#This Row],[KO]]*1.12,Baza[[#This Row],[KO]])","v":0},{"$f":"IF(OR(Baza[[#This Row],[Room]]=\"ES\",Baza[[#This Row],[Room]]=\"WN\"),Baza[[#This Row],[Win]]*1.12,Baza[[#This Row],[Win]])","v":0},{"$f":"Baza[[#This Row],[WIN$]]+Baza[[#This Row],[KO$]]-Baza[[#This Row],[B$]]","v":-1.05},{"$f":"IF(OR(Baza[[#This Row],[A]]=\"XP\",Baza[[#This Row],[A]]=\"XP2\",Baza[[#This Row],[A]]=\"F\"),AVERAGEIFS(Baza[AFS],Baza[A],\"-\"),Baza[[#This Row],[GTD]]/Baza[[#This Row],[B]])","v":714.28571428571422},{"$f":"SUM($Y$2:Y17)","v":-4.76}]
[null,{"$f":"TEXT(Baza[[#This Row],[Start]],\"ч:мм\")&\" \"&IF(OR(Baza[[#This Row],[Room]]=\"ES\",Baza[[#This Row],[Room]]=\"WN\"),\"€\",\"$\")&Baza[[#This Row],[B]]&\" [\"&Baza[[#This Row],[Room]]&\"] \"&Baza[[#This Row],[Name]]","v":"15:00 $1,1 [PP] Bounty Hunter"},16,{"$f":"YEAR(Baza[[#This Row],[Date]])","v":2021},{"$f":"WEEKNUM(Baza[[#This Row],[Date]],2)","v":1},{"$f":"CHOOSE(WEEKDAY(Baza[[#This Row],[Date]],2),\"понедельник\",\"вторник\",\"среда\",\"четверг\",\"пятница\",\"суббота\",\"воскресенье\")","v":"пятница"},{"$f":"CHOOSE(MONTH(Baza[[#This Row],[Date]]),\"январь\",\"февраль\",\"март\",\"апрель\",\"май\",\"июнь\",\"июль\",\"август\",\"сентябрь\",\"октябрь\",\"ноябрь\",\"декабрь\")","v":"январь"},"2021-01-01","15:00:00",1.1000000000000001,"PP","Bounty Hunter",8,"-","K","-",200,null,null,null,"-",{"$f":"IF(OR(Baza[[#This Row],[Room]]=\"ES\",Baza[[#This Row],[Room]]=\"WN\"),(Baza[[#This Row],[B]]*1.12) +(Baza[[#This Row],[R]]*Baza[[#This Row],[B]]*1.12),Baza[[#This Row],[B]]*Baza[[#This Row],[R]]+Baza[[#This Row],[B]])","v":1.1000000000000001},{"$f":"IF(OR(Baza[[#This Row],[Room]]=\"ES\",Baza[[#This Row],[Room]]=\"WN\"),Baza[[#This Row],[KO]]*1.12,Baza[[#This Row],[KO]])","v":0},{"$f":"IF(OR(Baza[[#This Row],[Room]]=\"ES\",Baza[[#This Row],[Room]]=\"WN\"),Baza[[#This Row],[Win]]*1.12,Baza[[#This Row],[Win]])","v":0},{"$f":"Baza[[#This Row],[WIN$]]+Baza[[#This Row],[KO$]]-Baza[[#This Row],[B$]]","v":-1.1000000000000001},{"$f":"IF(OR(Baza[[#This Row],[A]]=\"XP\",Baza[[#This Row],[A]]=\"XP2\",Baza[[#This Row],[A]]=\"F\"),AVERAGEIFS(Baza[AFS],Baza[A],\"-\"),Baza[[#This Row],[GTD]]/Baza[[#This Row],[B]])","v":181.81818181818181},{"$f":"SUM($Y$2:Y18)","v":-5.8599999999999994}]
[null,{"$f":"TEXT(Baza[[#This Row],[Start]],\"ч:мм\")&\" \"&IF(OR(Baza[[#This Row],[Room]]=\"ES\",Baza[[#This Row],[Room]]=\"WN\"),\"€\",\"$\")&Baza[[#This Row],[B]]&\" [\"&Baza[[#This Row],[Room]]&\"] \"&Baza[[#This Row],[Name]]","v":"15:00 $1,1 [PS] GTD"},17,{"$f":"YEAR(Baza[[#This Row],[Date]])","v":2021},{"$f":"WEEKNUM(Baza[[#This Row],[Date]],2)","v":1},{"$f":"CHOOSE(WEEKDAY(Baza[[#This Row],[Date]],2),\"понедельник\",\"вторник\",\"среда\",\"четверг\",\"пятница\",\"суббота\",\"воскресенье\")","v":"пятница"},{"$f":"CHOOSE(MONTH(Baza[[#This Row],[Date]]),\"январь\",\"февраль\",\"март\",\"апрель\",\"май\",\"июнь\",\"июль\",\"август\",\"сентябрь\",\"октябрь\",\"ноябрь\",\"декабрь\")","v":"январь"},"2021-01-01","15:00:00",1.1000000000000001,"PS","GTD",9,"-","-","-",750,null,6.47,null,19,{"$f":"IF(OR(Baza[[#This Row],[Room]]=\"ES\",Baza[[#This Row],[Room]]=\"WN\"),(Baza[[#This Row],[B]]*1.12) +(Baza[[#This Row],[R]]*Baza[[#This Row],[B]]*1.12),Baza[[#This Row],[B]]*Baza[[#This Row],[R]]+Baza[[#This Row],[B]])","v":1.1000000000000001},{"$f":"IF(OR(Baza[[#This Row],[Room]]=\"ES\",Baza[[#This Row],[Room]]=\"WN\"),Baza[[#This Row],[KO]]*1.12,Baza[[#This Row],[KO]])","v":0},{"$f":"IF(OR(Baza[[#This Row],[Room]]=\"ES\",Baza[[#This Row],[Room]]=\"WN\"),Baza[[#This Row],[Win]]*1.12,Baza[[#This Row],[Win]])","v":6.47},{"$f":"Baza[[#This Row],[WIN$]]+Baza[[#This Row],[KO$]]-Baza[[#This Row],[B$]]","v":5.3699999999999992},{"$f":"IF(OR(Baza[[#This Row],[A]]=\"XP\",Baza[[#This Row],[A]]=\"XP2\",Baza[[#This Row],[A]]=\"F\"),AVERAGEIFS(Baza[AFS],Baza[A],\"-\"),Baza[[#This Row],[GTD]]/Baza[[#This Row],[B]])","v":681.81818181818176},{"$f":"SUM($Y$2:Y19)","v":-0.49000000000000021}]
[null,{"$f":"TEXT(Baza[[#This Row],[Start]],\"ч:мм\")&\" \"&IF(OR(Baza[[#This Row],[Room]]=\"ES\",Baza[[#This Row],[Room]]=\"WN\"),\"€\",\"$\")&Baza[[#This Row],[B]]&\" [\"&Baza[[#This Row],[Room]]&\"] \"&Baza[[#This Row],[Name]]","v":"15:00 €1 [WN] Monster Stack"},18,{"$f":"YEAR(Baza[[#This Row],[Date]])","v":2021},{"$f":"WEEKNUM(Baza[[#This Row],[Date]],2)","v":1},{"$f":"CHOOSE(WEEKDAY(Baza[[#This Row],[Date]],2),\"понедельник\",\"вторник\",\"среда\",\"четверг\",\"пятница\",\"суббота\",\"воскресенье\")","v":"пятница"},{"$f":"CHOOSE(MONTH(Baza[[#This Row],[Date]]),\"январь\",\"февраль\",\"март\",\"апрель\",\"май\",\"июнь\",\"июль\",\"август\",\"сентябрь\",\"октябрь\",\"ноябрь\",\"декабрь\")","v":"январь"},"2021-01-01","15:00:00",1,"WN","Monster Stack",6,"-","-","-",250,null,null,null,"-",{"$f":"IF(OR(Baza[[#This Row],[Room]]=\"ES\",Baza[[#This Row],[Room]]=\"WN\"),(Baza[[#This Row],[B]]*1.12) +(Baza[[#This Row],[R]]*Baza[[#This Row],[B]]*1.12),Baza[[#This Row],[B]]*Baza[[#This Row],[R]]+Baza[[#This Row],[B]])","v":1.1200000000000001},{"$f":"IF(OR(Baza[[#This Row],[Room]]=\"ES\",Baza[[#This Row],[Room]]=\"WN\"),Baza[[#This Row],[KO]]*1.12,Baza[[#This Row],[KO]])","v":0},{"$f":"IF(OR(Baza[[#This Row],[Room]]=\"ES\",Baza[[#This Row],[Room]]=\"WN\"),Baza[[#This Row],[Win]]*1.12,Baza[[#This Row],[Win]])","v":0},{"$f":"Baza[[#This Row],[WIN$]]+Baza[[#This Row],[KO$]]-Baza[[#This Row],[B$]]","v":-1.1200000000000001},{"$f":"IF(OR(Baza[[#This Row],[A]]=\"XP\",Baza[[#This Row],[A]]=\"XP2\",Baza[[#This Row],[A]]=\"F\"),AVERAGEIFS(Baza[AFS],Baza[A],\"-\"),Baza[[#This Row],[GTD]]/Baza[[#This Row],[B]])","v":250},{"$f":"SUM($Y$2:Y20)","v":-1.6100000000000003}]
[null,{"$f":"TEXT(Baza[[#This Row],[Start]],\"ч:мм\")&\" \"&IF(OR(Baza[[#This Row],[Room]]=\"ES\",Baza[[#This Row],[Room]]=\"WN\"),\"€\",\"$\")&Baza[[#This Row],[B]]&\" [\"&Baza[[#This Row],[Room]]&\"] \"&Baza[[#This Row],[Name]]","v":"16:00 $1 [PAC] 6-Max Think Fast"},19,{"$f":"YEAR(Baza[[#This Row],[Date]])","v":2021},{"$f":"WEEKNUM(Baza[[#This Row],[Date]],2)","v":1},{"$f":"CHOOSE(WEEKDAY(Baza[[#This Row],[Date]],2),\"понедельник\",\"вторник\",\"среда\",\"четверг\",\"пятница\",\"суббота\",\"воскресенье\")","v":"пятница"},{"$f":"CHOOSE(MONTH(Baza[[#This Row],[Date]]),\"январь\",\"февраль\",\"март\",\"апрель\",\"май\",\"июнь\",\"июль\",\"август\",\"сентябрь\",\"октябрь\",\"ноябрь\",\"декабрь\")","v":"январь"},"2021-01-01","16:00:00",1,"PAC","6-Max Think Fast",6,"-","-","-",300,null,null,null,"-",{"$f":"IF(OR(Baza[[#This Row],[Room]]=\"ES\",Baza[[#This Row],[Room]]=\"WN\"),(Baza[[#This Row],[B]]*1.12) +(Baza[[#This Row],[R]]*Baza[[#This Row],[B]]*1.12),Baza[[#This Row],[B]]*Baza[[#This Row],[R]]+Baza[[#This Row],[B]])","v":1},{"$f":"IF(OR(Baza[[#This Row],[Room]]=\"ES\",Baza[[#This Row],[Room]]=\"WN\"),Baza[[#This Row],[KO]]*1.12,Baza[[#This Row],[KO]])","v":0},{"$f":"IF(OR(Baza[[#This Row],[Room]]=\"ES\",Baza[[#This Row],[Room]]=\"WN\"),Baza[[#This Row],[Win]]*1.12,Baza[[#This Row],[Win]])","v":0},{"$f":"Baza[[#This Row],[WIN$]]+Baza[[#This Row],[KO$]]-Baza[[#This Row],[B$]]","v":-1},{"$f":"IF(OR(Baza[[#This Row],[A]]=\"XP\",Baza[[#This Row],[A]]=\"XP2\",Baza[[#This Row],[A]]=\"F\"),AVERAGEIFS(Baza[AFS],Baza[A],\"-\"),Baza[[#This Row],[GTD]]/Baza[[#This Row],[B]])","v":300},{"$f":"SUM($Y$2:Y21)","v":-2.6100000000000003}]
[null,{"$f":"TEXT(Baza[[#This Row],[Start]],\"ч:мм\")&\" \"&IF(OR(Baza[[#This Row],[Room]]=\"ES\",Baza[[#This Row],[Room]]=\"WN\"),\"€\",\"$\")&Baza[[#This Row],[B]]&\" [\"&Baza[[#This Row],[Room]]&\"] \"&Baza[[#This Row],[Name]]","v":"16:15 $1,1 [PAC] Guaranteed PKO"},20,{"$f":"YEAR(Baza[[#This Row],[Date]])","v":2021},{"$f":"WEEKNUM(Baza[[#This Row],[Date]],2)","v":1},{"$f":"CHOOSE(WEEKDAY(Baza[[#This Row],[Date]],2),\"понедельник\",\"вторник\",\"среда\",\"четверг\",\"пятница\",\"суббота\",\"воскресенье\")","v":"пятница"},{"$f":"CHOOSE(MONTH(Baza[[#This Row],[Date]]),\"январь\",\"февраль\",\"март\",\"апрель\",\"май\",\"июнь\",\"июль\",\"август\",\"сентябрь\",\"октябрь\",\"ноябрь\",\"декабрь\")","v":"январь"},"2021-01-01","16:15:00",1.1000000000000001,"PAC","Guaranteed PKO",9,"-","K","-",300,0.25,null,null,"-",{"$f":"IF(OR(Baza[[#This Row],[Room]]=\"ES\",Baza[[#This Row],[Room]]=\"WN\"),(Baza[[#This Row],[B]]*1.12) +(Baza[[#This Row],[R]]*Baza[[#This Row],[B]]*1.12),Baza[[#This Row],[B]]*Baza[[#This Row],[R]]+Baza[[#This Row],[B]])","v":1.1000000000000001},{"$f":"IF(OR(Baza[[#This Row],[Room]]=\"ES\",Baza[[#This Row],[Room]]=\"WN\"),Baza[[#This Row],[KO]]*1.12,Baza[[#This Row],[KO]])","v":0.25},{"$f":"IF(OR(Baza[[#This Row],[Room]]=\"ES\",Baza[[#This Row],[Room]]=\"WN\"),Baza[[#This Row],[Win]]*1.12,Baza[[#This Row],[Win]])","v":0},{"$f":"Baza[[#This Row],[WIN$]]+Baza[[#This Row],[KO$]]-Baza[[#This Row],[B$]]","v":-0.85000000000000009},{"$f":"IF(OR(Baza[[#This Row],[A]]=\"XP\",Baza[[#This Row],[A]]=\"XP2\",Baza[[#This Row],[A]]=\"F\"),AVERAGEIFS(Baza[AFS],Baza[A],\"-\"),Baza[[#This Row],[GTD]]/Baza[[#This Row],[B]])","v":272.72727272727269},{"$f":"SUM($Y$2:Y22)","v":-3.4600000000000004}]
[null,{"$f":"TEXT(Baza[[#This Row],[Start]],\"ч:мм\")&\" \"&IF(OR(Baza[[#This Row],[Room]]=\"ES\",Baza[[#This Row],[Room]]=\"WN\"),\"€\",\"$\")&Baza[[#This Row],[B]]&\" [\"&Baza[[#This Row],[Room]]&\"] \"&Baza[[#This Row],[Name]]","v":"16:15 $1,1 [PS] GTD"},21,{"$f":"YEAR(Baza[[#This Row],[Date]])","v":2021},{"$f":"WEEKNUM(Baza[[#This Row],[Date]],2)","v":1},{"$f":"CHOOSE(WEEKDAY(Baza[[#This Row],[Date]],2),\"понедельник\",\"вторник\",\"среда\",\"четверг\",\"пятница\",\"суббота\",\"воскресенье\")","v":"пятница"},{"$f":"CHOOSE(MONTH(Baza[[#This Row],[Date]]),\"январь\",\"февраль\",\"март\",\"апрель\",\"май\",\"июнь\",\"июль\",\"август\",\"сентябрь\",\"октябрь\",\"ноябрь\",\"декабрь\")","v":"январь"},"2021-01-01","16:15:00",1.1000000000000001,"PS","GTD",9,"-","-","-",1500,null,3.97,null,145,{"$f":"IF(OR(Baza[[#This Row],[Room]]=\"ES\",Baza[[#This Row],[Room]]=\"WN\"),(Baza[[#This Row],[B]]*1.12) +(Baza[[#This Row],[R]]*Baza[[#This Row],[B]]*1.12),Baza[[#This Row],[B]]*Baza[[#This Row],[R]]+Baza[[#This Row],[B]])","v":1.1000000000000001},{"$f":"IF(OR(Baza[[#This Row],[Room]]=\"ES\",Baza[[#This Row],[Room]]=\"WN\"),Baza[[#This Row],[KO]]*1.12,Baza[[#This Row],[KO]])","v":0},{"$f":"IF(OR(Baza[[#This Row],[Room]]=\"ES\",Baza[[#This Row],[Room]]=\"WN\"),Baza[[#This Row],[Win]]*1.12,Baza[[#This Row],[Win]])","v":3.97},{"$f":"Baza[[#This Row],[WIN$]]+Baza[[#This Row],[KO$]]-Baza[[#This Row],[B$]]","v":2.87},{"$f":"IF(OR(Baza[[#This Row],[A]]=\"XP\",Baza[[#This Row],[A]]=\"XP2\",Baza[[#This Row],[A]]=\"F\"),AVERAGEIFS(Baza[AFS],Baza[A],\"-\"),Baza[[#This Row],[GTD]]/Baza[[#This Row],[B]])","v":1363.6363636363635},{"$f":"SUM($Y$2:Y23)","v":-0.5900000000000003}]
[null,{"$f":"TEXT(Baza[[#This Row],[Start]],\"ч:мм\")&\" \"&IF(OR(Baza[[#This Row],[Room]]=\"ES\",Baza[[#This Row],[Room]]=\"WN\"),\"€\",\"$\")&Baza[[#This Row],[B]]&\" [\"&Baza[[#This Row],[Room]]&\"] \"&Baza[[#This Row],[Name]]","v":"16:30 $2,2 [PAC] Guaranteed"},22,{"$f":"YEAR(Baza[[#This Row],[Date]])","v":2021},{"$f":"WEEKNUM(Baza[[#This Row],[Date]],2)","v":1},{"$f":"CHOOSE(WEEKDAY(Baza[[#This Row],[Date]],2),\"понедельник\",\"вторник\",\"среда\",\"четверг\",\"пятница\",\"суббота\",\"воскресенье\")","v":"пятница"},{"$f":"CHOOSE(MONTH(Baza[[#This Row],[Date]]),\"январь\",\"февраль\",\"март\",\"апрель\",\"май\",\"июнь\",\"июль\",\"август\",\"сентябрь\",\"октябрь\",\"ноябрь\",\"декабрь\")","v":"январь"},"2021-01-01","16:30:00",2.2000000000000002,"PAC","Guaranteed",9,"-","-","-",500,null,null,null,"-",{"$f":"IF(OR(Baza[[#This Row],[Room]]=\"ES\",Baza[[#This Row],[Room]]=\"WN\"),(Baza[[#This Row],[B]]*1.12) +(Baza[[#This Row],[R]]*Baza[[#This Row],[B]]*1.12),Baza[[#This Row],[B]]*Baza[[#This Row],[R]]+Baza[[#This Row],[B]])","v":2.2000000000000002},{"$f":"IF(OR(Baza[[#This Row],[Room]]=\"ES\",Baza[[#This Row],[Room]]=\"WN\"),Baza[[#This Row],[KO]]*1.12,Baza[[#This Row],[KO]])","v":0},{"$f":"IF(OR(Baza[[#This Row],[Room]]=\"ES\",Baza[[#This Row],[Room]]=\"WN\"),Baza[[#This Row],[Win]]*1.12,Baza[[#This Row],[Win]])","v":0},{"$f":"Baza[[#This Row],[WIN$]]+Baza[[#This Row],[KO$]]-Baza[[#This Row],[B$]]","v":-2.2000000000000002},{"$f":"IF(OR(Baza[[#This Row],[A]]=\"XP\",Baza[[#This Row],[A]]=\"XP2\",Baza[[#This Row],[A]]=\"F\"),AVERAGEIFS(Baza[AFS],Baza[A],\"-\"),Baza[[#This Row],[GTD]]/Baza[[#This Row],[B]])","v":227.27272727272725},{"$f":"SUM($Y$2:Y24)","v":-2.7900000000000005}]
[null,{"$f":"TEXT(Baza[[#This Row],[Start]],\"ч:мм\")&\" \"&IF(OR(Baza[[#This Row],[Room]]=\"ES\",Baza[[#This Row],[Room]]=\"WN\"),\"€\",\"$\")&Baza[[#This Row],[B]]&\" [\"&Baza[[#This Row],[Room]]&\"] \"&Baza[[#This Row],[Name]]","v":"11:00 $1,1 [PP] Bounty Hunter"},23,{"$f":"YEAR(Baza[[#This Row],[Date]])","v":2021},{"$f":"WEEKNUM(Baza[[#This Row],[Date]],2)","v":1},{"$f":"CHOOSE(WEEKDAY(Baza[[#This Row],[Date]],2),\"понедельник\",\"вторник\",\"среда\",\"четверг\",\"пятница\",\"суббота\",\"воскресенье\")","v":"суббота"},{"$f":"CHOOSE(MONTH(Baza[[#This Row],[Date]]),\"январь\",\"февраль\",\"март\",\"апрель\",\"май\",\"июнь\",\"июль\",\"август\",\"сентябрь\",\"октябрь\",\"ноябрь\",\"декабрь\")","v":"январь"},"2021-01-02","11:00:00",1.1000000000000001,"PP","Bounty Hunter",8,"-","K","-",75,null,null,null,"-",{"$f":"IF(OR(Baza[[#This Row],[Room]]=\"ES\",Baza[[#This Row],[Room]]=\"WN\"),(Baza[[#This Row],[B]]*1.12) +(Baza[[#This Row],[R]]*Baza[[#This Row],[B]]*1.12),Baza[[#This Row],[B]]*Baza[[#This Row],[R]]+Baza[[#This Row],[B]])","v":1.1000000000000001},{"$f":"IF(OR(Baza[[#This Row],[Room]]=\"ES\",Baza[[#This Row],[Room]]=\"WN\"),Baza[[#This Row],[KO]]*1.12,Baza[[#This Row],[KO]])","v":0},{"$f":"IF(OR(Baza[[#This Row],[Room]]=\"ES\",Baza[[#This Row],[Room]]=\"WN\"),Baza[[#This Row],[Win]]*1.12,Baza[[#This Row],[Win]])","v":0},{"$f":"Baza[[#This Row],[WIN$]]+Baza[[#This Row],[KO$]]-Baza[[#This Row],[B$]]","v":-1.1000000000000001},{"$f":"IF(OR(Baza[[#This Row],[A]]=\"XP\",Baza[[#This Row],[A]]=\"XP2\",Baza[[#This Row],[A]]=\"F\"),AVERAGEIFS(Baza[AFS],Baza[A],\"-\"),Baza[[#This Row],[GTD]]/Baza[[#This Row],[B]])","v":68.181818181818173},{"$f":"SUM($Y$2:Y25)","v":-3.8900000000000006}]
[null,{"$f":"TEXT(Baza[[#This Row],[Start]],\"ч:мм\")&\" \"&IF(OR(Baza[[#This Row],[Room]]=\"ES\",Baza[[#This Row],[Room]]=\"WN\"),\"€\",\"$\")&Baza[[#This Row],[B]]&\" [\"&Baza[[#This Row],[Room]]&\"] \"&Baza[[#This Row],[Name]]","v":"11:00 €1 [WN] Monster Stack"},24,{"$f":"YEAR(Baza[[#This Row],[Date]])","v":2021},{"$f":"WEEKNUM(Baza[[#This Row],[Date]],2)","v":1},{"$f":"CHOOSE(WEEKDAY(Baza[[#This Row],[Date]],2),\"понедельник\",\"вторник\",\"среда\",\"четверг\",\"пятница\",\"суббота\",\"воскресенье\")","v":"суббота"},{"$f":"CHOOSE(MONTH(Baza[[#This Row],[Date]]),\"январь\",\"февраль\",\"март\",\"апрель\",\"май\",\"июнь\",\"июль\",\"август\",\"сентябрь\",\"октябрь\",\"ноябрь\",\"декабрь\")","v":"январь"},"2021-01-02","11:00:00",1,"WN","Monster Stack",6,"-","-","-",150,null,62.92,null,1,{"$f":"IF(OR(Baza[[#This Row],[Room]]=\"ES\",Baza[[#This Row],[Room]]=\"WN\"),(Baza[[#This Row],[B]]*1.12) +(Baza[[#This Row],[R]]*Baza[[#This Row],[B]]*1.12),Baza[[#This Row],[B]]*Baza[[#This Row],[R]]+Baza[[#This Row],[B]])","v":1.1200000000000001},{"$f":"IF(OR(Baza[[#This Row],[Room]]=\"ES\",Baza[[#This Row],[Room]]=\"WN\"),Baza[[#This Row],[KO]]*1.12,Baza[[#This Row],[KO]])","v":0},{"$f":"IF(OR(Baza[[#This Row],[Room]]=\"ES\",Baza[[#This Row],[Room]]=\"WN\"),Baza[[#This Row],[Win]]*1.12,Baza[[#This Row],[Win]])","v":70.470400000000012},{"$f":"Baza[[#This Row],[WIN$]]+Baza[[#This Row],[KO$]]-Baza[[#This Row],[B$]]","v":69.350400000000008},{"$f":"IF(OR(Baza[[#This Row],[A]]=\"XP\",Baza[[#This Row],[A]]=\"XP2\",Baza[[#This Row],[A]]=\"F\"),AVERAGEIFS(Baza[AFS],Baza[A],\"-\"),Baza[[#This Row],[GTD]]/Baza[[#This Row],[B]])","v":150},{"$f":"SUM($Y$2:Y26)","v":65.460400000000007}]
[null,{"$f":"TEXT(Baza[[#This Row],[Start]],\"ч:мм\")&\" \"&IF(OR(Baza[[#This Row],[Room]]=\"ES\",Baza[[#This Row],[Room]]=\"WN\"),\"€\",\"$\")&Baza[[#This Row],[B]]&\" [\"&Baza[[#This Row],[Room]]&\"] \"&Baza[[#This Row],[Name]]","v":"11:15 $2,2 [PP] Deepstack"},25,{"$f":"YEAR(Baza[[#This Row],[Date]])","v":2021},{"$f":"WEEKNUM(Baza[[#This Row],[Date]],2)","v":1},{"$f":"CHOOSE(WEEKDAY(Baza[[#This Row],[Date]],2),\"понедельник\",\"вторник\",\"среда\",\"четверг\",\"пятница\",\"суббота\",\"воскресенье\")","v":"суббота"},{"$f":"CHOOSE(MONTH(Baza[[#This Row],[Date]]),\"январь\",\"февраль\",\"март\",\"апрель\",\"май\",\"июнь\",\"июль\",\"август\",\"сентябрь\",\"октябрь\",\"ноябрь\",\"декабрь\")","v":"январь"},"2021-01-02","11:15:00",2.2000000000000002,"PP","Deepstack",8,"-","-","-",300,null,null,null,"-",{"$f":"IF(OR(Baza[[#This Row],[Room]]=\"ES\",Baza[[#This Row],[Room]]=\"WN\"),(Baza[[#This Row],[B]]*1.12) +(Baza[[#This Row],[R]]*Baza[[#This Row],[B]]*1.12),Baza[[#This Row],[B]]*Baza[[#This Row],[R]]+Baza[[#This Row],[B]])","v":2.2000000000000002},{"$f":"IF(OR(Baza[[#This Row],[Room]]=\"ES\",Baza[[#This Row],[Room]]=\"WN\"),Baza[[#This Row],[KO]]*1.12,Baza[[#This Row],[KO]])","v":0},{"$f":"IF(OR(Baza[[#This Row],[Room]]=\"ES\",Baza[[#This Row],[Room]]=\"WN\"),Baza[[#This Row],[Win]]*1.12,Baza[[#This Row],[Win]])","v":0},{"$f":"Baza[[#This Row],[WIN$]]+Baza[[#This Row],[KO$]]-Baza[[#This Row],[B$]]","v":-2.2000000000000002},{"$f":"IF(OR(Baza[[#This Row],[A]]=\"XP\",Baza[[#This Row],[A]]=\"XP2\",Baza[[#This Row],[A]]=\"F\"),AVERAGEIFS(Baza[AFS],Baza[A],\"-\"),Baza[[#This Row],[GTD]]/Baza[[#This Row],[B]])","v":136.36363636363635},{"$f":"SUM($Y$2:Y27)","v":63.260400000000004}]
[null,{"$f":"TEXT(Baza[[#This Row],[Start]],\"ч:мм\")&\" \"&IF(OR(Baza[[#This Row],[Room]]=\"ES\",Baza[[#This Row],[Room]]=\"WN\"),\"€\",\"$\")&Baza[[#This Row],[B]]&\" [\"&Baza[[#This Row],[Room]]&\"] \"&Baza[[#This Row],[Name]]","v":"11:30 $2,1 [GG] Bounty Hunters"},26,{"$f":"YEAR(Baza[[#This Row],[Date]])","v":2021},{"$f":"WEEKNUM(Baza[[#This Row],[Date]],2)","v":1},{"$f":"CHOOSE(WEEKDAY(Baza[[#This Row],[Date]],2),\"понедельник\",\"вторник\",\"среда\",\"четверг\",\"пятница\",\"суббота\",\"воскресенье\")","v":"суббота"},{"$f":"CHOOSE(MONTH(Baza[[#This Row],[Date]]),\"январь\",\"февраль\",\"март\",\"апрель\",\"май\",\"июнь\",\"июль\",\"август\",\"сентябрь\",\"октябрь\",\"ноябрь\",\"декабрь\")","v":"январь"},"2021-01-02","11:30:00",2.1,"GG","Bounty Hunters",8,"-","K","-",1200,0.5,null,null,"-",{"$f":"IF(OR(Baza[[#This Row],[Room]]=\"ES\",Baza[[#This Row],[Room]]=\"WN\"),(Baza[[#This Row],[B]]*1.12) +(Baza[[#This Row],[R]]*Baza[[#This Row],[B]]*1.12),Baza[[#This Row],[B]]*Baza[[#This Row],[R]]+Baza[[#This Row],[B]])","v":2.1},{"$f":"IF(OR(Baza[[#This Row],[Room]]=\"ES\",Baza[[#This Row],[Room]]=\"WN\"),Baza[[#This Row],[KO]]*1.12,Baza[[#This Row],[KO]])","v":0.5},{"$f":"IF(OR(Baza[[#This Row],[Room]]=\"ES\",Baza[[#This Row],[Room]]=\"WN\"),Baza[[#This Row],[Win]]*1.12,Baza[[#This Row],[Win]])","v":0},{"$f":"Baza[[#This Row],[WIN$]]+Baza[[#This Row],[KO$]]-Baza[[#This Row],[B$]]","v":-1.6},{"$f":"IF(OR(Baza[[#This Row],[A]]=\"XP\",Baza[[#This Row],[A]]=\"XP2\",Baza[[#This Row],[A]]=\"F\"),AVERAGEIFS(Baza[AFS],Baza[A],\"-\"),Baza[[#This Row],[GTD]]/Baza[[#This Row],[B]])","v":571.42857142857144},{"$f":"SUM($Y$2:Y28)","v":61.660400000000003}]
[null,{"$f":"TEXT(Baza[[#This Row],[Start]],\"ч:мм\")&\" \"&IF(OR(Baza[[#This Row],[Room]]=\"ES\",Baza[[#This Row],[Room]]=\"WN\"),\"€\",\"$\")&Baza[[#This Row],[B]]&\" [\"&Baza[[#This Row],[Room]]&\"] \"&Baza[[#This Row],[Name]]","v":"11:30 $3,3 [PP] Bounty Hunter"},27,{"$f":"YEAR(Baza[[#This Row],[Date]])","v":2021},{"$f":"WEEKNUM(Baza[[#This Row],[Date]],2)","v":1},{"$f":"CHOOSE(WEEKDAY(Baza[[#This Row],[Date]],2),\"понедельник\",\"вторник\",\"среда\",\"четверг\",\"пятница\",\"суббота\",\"воскресенье\")","v":"суббота"},{"$f":"CHOOSE(MONTH(Baza[[#This Row],[Date]]),\"январь\",\"февраль\",\"март\",\"апрель\",\"май\",\"июнь\",\"июль\",\"август\",\"сентябрь\",\"октябрь\",\"ноябрь\",\"декабрь\")","v":"январь"},"2021-01-02","11:30:00",3.3,"PP","Bounty Hunter",8,"-","K","-",500,null,null,null,"-",{"$f":"IF(OR(Baza[[#This Row],[Room]]=\"ES\",Baza[[#This Row],[Room]]=\"WN\"),(Baza[[#This Row],[B]]*1.12) +(Baza[[#This Row],[R]]*Baza[[#This Row],[B]]*1.12),Baza[[#This Row],[B]]*Baza[[#This Row],[R]]+Baza[[#This Row],[B]])","v":3.3},{"$f":"IF(OR(Baza[[#This Row],[Room]]=\"ES\",Baza[[#This Row],[Room]]=\"WN\"),Baza[[#This Row],[KO]]*1.12,Baza[[#This Row],[KO]])","v":0},{"$f":"IF(OR(Baza[[#This Row],[Room]]=\"ES\",Baza[[#This Row],[Room]]=\"WN\"),Baza[[#This Row],[Win]]*1.12,Baza[[#This Row],[Win]])","v":0},{"$f":"Baza[[#This Row],[WIN$]]+Baza[[#This Row],[KO$]]-Baza[[#This Row],[B$]]","v":-3.3},{"$f":"IF(OR(Baza[[#This Row],[A]]=\"XP\",Baza[[#This Row],[A]]=\"XP2\",Baza[[#This Row],[A]]=\"F\"),AVERAGEIFS(Baza[AFS],Baza[A],\"-\"),Baza[[#This Row],[GTD]]/Baza[[#This Row],[B]])","v":151.51515151515153},{"$f":"SUM($Y$2:Y29)","v":58.360400000000006}]
[null,{"$f":"TEXT(Baza[[#This Row],[Start]],\"ч:мм\")&\" \"&IF(OR(Baza[[#This Row],[Room]]=\"ES\",Baza[[#This Row],[Room]]=\"WN\"),\"€\",\"$\")&Baza[[#This Row],[B]]&\" [\"&Baza[[#This Row],[Room]]&\"] \"&Baza[[#This Row],[Name]]","v":"11:40 $3,3 [PS] GTD"},28,{"$f":"YEAR(Baza[[#This Row],[Date]])","v":2021},{"$f":"WEEKNUM(Baza[[#This Row],[Date]],2)","v":1},{"$f":"CHOOSE(WEEKDAY(Baza[[#This Row],[Date]],2),\"понедельник\",\"вторник\",\"среда\",\"четверг\",\"пятница\",\"суббота\",\"воскресенье\")","v":"суббота"},{"$f":"CHOOSE(MONTH(Baza[[#This Row],[Date]]),\"январь\",\"февраль\",\"март\",\"апрель\",\"май\",\"июнь\",\"июль\",\"август\",\"сентябрь\",\"октябрь\",\"ноябрь\",\"декабрь\")","v":"январь"},"2021-01-02","11:40:00",3.3,"PS","GTD",9,"-","-","-",1000,null,null,null,"-",{"$f":"IF(OR(Baza[[#This Row],[Room]]=\"ES\",Baza[[#This Row],[Room]]=\"WN\"),(Baza[[#This Row],[B]]*1.12) +(Baza[[#This Row],[R]]*Baza[[#This Row],[B]]*1.12),Baza[[#This Row],[B]]*Baza[[#This Row],[R]]+Baza[[#This Row],[B]])","v":3.3},{"$f":"IF(OR(Baza[[#This Row],[Room]]=\"ES\",Baza[[#This Row],[Room]]=\"WN\"),Baza[[#This Row],[KO]]*1.12,Baza[[#This Row],[KO]])","v":0},{"$f":"IF(OR(Baza[[#This Row],[Room]]=\"ES\",Baza[[#This Row],[Room]]=\"WN\"),Baza[[#This Row],[Win]]*1.12,Baza[[#This Row],[Win]])","v":0},{"$f":"Baza[[#This Row],[WIN$]]+Baza[[#This Row],[KO$]]-Baza[[#This Row],[B$]]","v":-3.3},{"$f":"IF(OR(Baza[[#This Row],[A]]=\"XP\",Baza[[#This Row],[A]]=\"XP2\",Baza[[#This Row],[A]]=\"F\"),AVERAGEIFS(Baza[AFS],Baza[A],\"-\"),Baza[[#This Row],[GTD]]/Baza[[#This Row],[B]])","v":303.03030303030306},{"$f":"SUM($Y$2:Y30)","v":55.060400000000008}]
[null,{"$f":"TEXT(Baza[[#This Row],[Start]],\"ч:мм\")&\" \"&IF(OR(Baza[[#This Row],[Room]]=\"ES\",Baza[[#This Row],[Room]]=\"WN\"),\"€\",\"$\")&Baza[[#This Row],[B]]&\" [\"&Baza[[#This Row],[Room]]&\"] \"&Baza[[#This Row],[Name]]","v":"12:00 $1,1 [PP] Deepstack"},29,{"$f":"YEAR(Baza[[#This Row],[Date]])","v":2021},{"$f":"WEEKNUM(Baza[[#This Row],[Date]],2)","v":1},{"$f":"CHOOSE(WEEKDAY(Baza[[#This Row],[Date]],2),\"понедельник\",\"вторник\",\"среда\",\"четверг\",\"пятница\",\"суббота\",\"воскресенье\")","v":"суббота"},{"$f":"CHOOSE(MONTH(Baza[[#This Row],[Date]]),\"январь\",\"февраль\",\"март\",\"апрель\",\"май\",\"июнь\",\"июль\",\"август\",\"сентябрь\",\"октябрь\",\"ноябрь\",\"декабрь\")","v":"январь"},"2021-01-02","12:00:00",1.1000000000000001,"PP","Deepstack",8,"-","-","-",200,null,null,null,"-",{"$f":"IF(OR(Baza[[#This Row],[Room]]=\"ES\",Baza[[#This Row],[Room]]=\"WN\"),(Baza[[#This Row],[B]]*1.12) +(Baza[[#This Row],[R]]*Baza[[#This Row],[B]]*1.12),Baza[[#This Row],[B]]*Baza[[#This Row],[R]]+Baza[[#This Row],[B]])","v":1.1000000000000001},{"$f":"IF(OR(Baza[[#This Row],[Room]]=\"ES\",Baza[[#This Row],[Room]]=\"WN\"),Baza[[#This Row],[KO]]*1.12,Baza[[#This Row],[KO]])","v":0},{"$f":"IF(OR(Baza[[#This Row],[Room]]=\"ES\",Baza[[#This Row],[Room]]=\"WN\"),Baza[[#This Row],[Win]]*1.12,Baza[[#This Row],[Win]])","v":0},{"$f":"Baza[[#This Row],[WIN$]]+Baza[[#This Row],[KO$]]-Baza[[#This Row],[B$]]","v":-1.1000000000000001},{"$f":"IF(OR(Baza[[#This Row],[A]]=\"XP\",Baza[[#This Row],[A]]=\"XP2\",Baza[[#This Row],[A]]=\"F\"),AVERAGEIFS(Baza[AFS],Baza[A],\"-\"),Baza[[#This Row],[GTD]]/Baza[[#This Row],[B]])","v":181.81818181818181},{"$f":"SUM($Y$2:Y31)","v":53.960400000000007}]
[null,{"$f":"TEXT(Baza[[#This Row],[Start]],\"ч:мм\")&\" \"&IF(OR(Baza[[#This Row],[Room]]=\"ES\",Baza[[#This Row],[Room]]=\"WN\"),\"€\",\"$\")&Baza[[#This Row],[B]]&\" [\"&Baza[[#This Row],[Room]]&\"] \"&Baza[[#This Row],[Name]]","v":"12:00 $1,1 [PS] Big"},30,{"$f":"YEAR(Baza[[#This Row],[Date]])","v":2021},{"$f":"WEEKNUM(Baza[[#This Row],[Date]],2)","v":1},{"$f":"CHOOSE(WEEKDAY(Baza[[#This Row],[Date]],2),\"понедельник\",\"вторник\",\"среда\",\"четверг\",\"пятница\",\"суббота\",\"воскресенье\")","v":"суббота"},{"$f":"CHOOSE(MONTH(Baza[[#This Row],[Date]]),\"январь\",\"февраль\",\"март\",\"апрель\",\"май\",\"июнь\",\"июль\",\"август\",\"сентябрь\",\"октябрь\",\"ноябрь\",\"декабрь\")","v":"январь"},"2021-01-02","12:00:00",1.1000000000000001,"PS","Big",9,"-","-","-",1500,null,4.5199999999999996,null,74,{"$f":"IF(OR(Baza[[#This Row],[Room]]=\"ES\",Baza[[#This Row],[Room]]=\"WN\"),(Baza[[#This Row],[B]]*1.12) +(Baza[[#This Row],[R]]*Baza[[#This Row],[B]]*1.12),Baza[[#This Row],[B]]*Baza[[#This Row],[R]]+Baza[[#This Row],[B]])","v":1.1000000000000001},{"$f":"IF(OR(Baza[[#This Row],[Room]]=\"ES\",Baza[[#This Row],[Room]]=\"WN\"),Baza[[#This Row],[KO]]*1.12,Baza[[#This Row],[KO]])","v":0},{"$f":"IF(OR(Baza[[#This Row],[Room]]=\"ES\",Baza[[#This Row],[Room]]=\"WN\"),Baza[[#This Row],[Win]]*1.12,Baza[[#This Row],[Win]])","v":4.5199999999999996},{"$f":"Baza[[#This Row],[WIN$]]+Baza[[#This Row],[KO$]]-Baza[[#This Row],[B$]]","v":3.4199999999999995},{"$f":"IF(OR(Baza[[#This Row],[A]]=\"XP\",Baza[[#This Row],[A]]=\"XP2\",Baza[[#This Row],[A]]=\"F\"),AVERAGEIFS(Baza[AFS],Baza[A],\"-\"),Baza[[#This Row],[GTD]]/Baza[[#This Row],[B]])","v":1363.6363636363635},{"$f":"SUM($Y$2:Y32)","v":57.380400000000009}]
[null,{"$f":"TEXT(Baza[[#This Row],[Start]],\"ч:мм\")&\" \"&IF(OR(Baza[[#This Row],[Room]]=\"ES\",Baza[[#This Row],[Room]]=\"WN\"),\"€\",\"$\")&Baza[[#This Row],[B]]&\" [\"&Baza[[#This Row],[Room]]&\"] \"&Baza[[#This Row],[Name]]","v":"12:00 €2 [WN] Monster Stack"},31,{"$f":"YEAR(Baza[[#This Row],[Date]])","v":2021},{"$f":"WEEKNUM(Baza[[#This Row],[Date]],2)","v":1},{"$f":"CHOOSE(WEEKDAY(Baza[[#This Row],[Date]],2),\"понедельник\",\"вторник\",\"среда\",\"четверг\",\"пятница\",\"суббота\",\"воскресенье\")","v":"суббота"},{"$f":"CHOOSE(MONTH(Baza[[#This Row],[Date]]),\"январь\",\"февраль\",\"март\",\"апрель\",\"май\",\"июнь\",\"июль\",\"август\",\"сентябрь\",\"октябрь\",\"ноябрь\",\"декабрь\")","v":"январь"},"2021-01-02","12:00:00",2,"WN","Monster Stack",6,"-","-","-",200,null,null,null,"-",{"$f":"IF(OR(Baza[[#This Row],[Room]]=\"ES\",Baza[[#This Row],[Room]]=\"WN\"),(Baza[[#This Row],[B]]*1.12) +(Baza[[#This Row],[R]]*Baza[[#This Row],[B]]*1.12),Baza[[#This Row],[B]]*Baza[[#This Row],[R]]+Baza[[#This Row],[B]])","v":2.2400000000000002},{"$f":"IF(OR(Baza[[#This Row],[Room]]=\"ES\",Baza[[#This Row],[Room]]=\"WN\"),Baza[[#This Row],[KO]]*1.12,Baza[[#This Row],[KO]])","v":0},{"$f":"IF(OR(Baza[[#This Row],[Room]]=\"ES\",Baza[[#This Row],[Room]]=\"WN\"),Baza[[#This Row],[Win]]*1.12,Baza[[#This Row],[Win]])","v":0},{"$f":"Baza[[#This Row],[WIN$]]+Baza[[#This Row],[KO$]]-Baza[[#This Row],[B$]]","v":-2.2400000000000002},{"$f":"IF(OR(Baza[[#This Row],[A]]=\"XP\",Baza[[#This Row],[A]]=\"XP2\",Baza[[#This Row],[A]]=\"F\"),AVERAGEIFS(Baza[AFS],Baza[A],\"-\"),Baza[[#This Row],[GTD]]/Baza[[#This Row],[B]])","v":100},{"$f":"SUM($Y$2:Y33)","v":55.140400000000007}]

{"sheet":"Start","index":1,"n_rows":80,"n_cols":10,"rows_kept":80,"cut":false,"hidden":false,"merged":[]}
[]
[null,"#","Games","Buy-in","AFS","ROI","ITM","Bounty","WIN","PROF"]
[null,{"$f":"IFERROR(INDEX(Baza[Столбец1],SMALL(IF(SMALL(IF(COUNTIF($B$2:$B2,Baza[Столбец1])=0,COUNTIF(Baza[Столбец1],\"<\"&Baza[Столбец1])+1,\"\"),1)=COUNTIF(Baza[Столбец1],\"<\"&Baza[Столбец1])+1,ROW(Baza[Столбец1])-MIN(ROW(Baza[Столбец1]))+1),1)),\"\")","v":"11:00 $1,1 [PP] Bounty Hunter"},{"$f":"IF(Таблица4[[#This Row],['#]]=\"\",\"\",COUNTIFS(Baza[Столбец1],Таблица4[[#This Row],['#]])+SUMIFS(Baza[R],Baza[Столбец1],Таблица4[[#This Row],['#]]))","v":2},{"$f":"IF(Таблица4[[#This Row],['#]]=\"\",\"\",SUMIFS(Baza[B$],Baza[Столбец1],Таблица4[[#This Row],['#]]))","v":2.2000000000000002},{"$f":"IFERROR(AVERAGEIFS(Baza[AFS],Baza[Столбец1],Таблица4[[#This Row],['#]])+(AVERAGEIFS(Baza[AFS],Baza[Столбец1],Таблица4[[#This Row],['#]])*0.2),\"\")","v":68.181818181818173},{"$f":"IFERROR(J3/D3*100,\"\")","v":-100},{"$f":"IFERROR(COUNTIFS(Baza[Столбец1],Таблица4[[#This Row],['#]],Baza[Win],\">0\")/C3*100,\"\")","v":0},{"$f":"IF(SUMIFS(Baza[KO$],Baza[Столбец1],Таблица4[[#This Row],['#]])=0,\"\",SUMIFS(Baza[KO$],Baza[Столбец1],Таблица4[[#This Row],['#]]))","v":""},{"$f":"IF(SUMIFS(Baza[WIN$],Baza[Столбец1],Таблица4[[#This Row],['#]])=0,\"\",SUMIFS(Baza[WIN$],Baza[Столбец1],Таблица4[[#This Row],['#]]))","v":""},{"$f":"IFERROR(IF(I3=\"\",0,I3)+IF(H3=\"\",0,H3)-D3,\"\")","v":-2.2000000000000002}]
[null,{"$f":"IFERROR(INDEX(Baza[Столбец1],SMALL(IF(SMALL(IF(COUNTIF($B$2:$B3,Baza[Столбец1])=0,COUNTIF(Baza[Столбец1],\"<\"&Baza[Столбец1])+1,\"\"),1)=COUNTIF(Baza[Столбец1],\"<\"&Baza[Столбец1])+1,ROW(Baza[Столбец1])-MIN(ROW(Baza[Столбец1]))+1),1)),\"\")","v":"11:00 €1 [WN] Monster Stack"},{"$f":"IF(Таблица4[[#This Row],['#]]=\"\",\"\",COUNTIFS(Baza[Столбец1],Таблица4[[#This Row],['#]])+SUMIFS(Baza[R],Baza[Столбец1],Таблица4[[#This Row],['#]]))","v":2},{"$f":"IF(Таблица4[[#This Row],['#]]=\"\",\"\",SUMIFS(Baza[B$],Baza[Столбец1],Таблица4[[#This Row],['#]]))","v":2.2400000000000002},{"$f":"IFERROR(AVERAGEIFS(Baza[AFS],Baza[Столбец1],Таблица4[[#This Row],['#]])+(AVERAGEIFS(Baza[AFS],Baza[Столбец1],Таблица4[[#This Row],['#]])*0.2),\"\")","v":180},3046.0000000000005,{"$f":"IFERROR(COUNTIFS(Baza[Столбец1],Таблица4[[#This Row],['#]],Baza[Win],\">0\")/C4*100,\"\")","v":50},{"$f":"IF(SUMIFS(Baza[KO$],Baza[Столбец1],Таблица4[[#This Row],['#]])=0,\"\",SUMIFS(Baza[KO$],Baza[Столбец1],Таблица4[[#This Row],['#]]))","v":""},{"$f":"IF(SUMIFS(Baza[WIN$],Baza[Столбец1],Таблица4[[#This Row],['#]])=0,\"\",SUMIFS(Baza[WIN$],Baza[Столбец1],Таблица4[[#This Row],['#]]))","v":70.470400000000012},68.230400000000017]
[null,{"$f":"IFERROR(INDEX(Baza[Столбец1],SMALL(IF(SMALL(IF(COUNTIF($B$2:$B4,Baza[Столбец1])=0,COUNTIF(Baza[Столбец1],\"<\"&Baza[Столбец1])+1,\"\"),1)=COUNTIF(Baza[Столбец1],\"<\"&Baza[Столбец1])+1,ROW(Baza[Столбец1])-MIN(ROW(Baza[Столбец1]))+1),1)),\"\")","v":"11:15 $2,2 [PP] Deepstack"},{"$f":"IF(Таблица4[[#This Row],['#]]=\"\",\"\",COUNTIFS(Baza[Столбец1],Таблица4[[#This Row],['#]])+SUMIFS(Baza[R],Baza[Столбец1],Таблица4[[#This Row],['#]]))","v":2},{"$f":"IF(Таблица4[[#This Row],['#]]=\"\",\"\",SUMIFS(Baza[B$],Baza[Столбец1],Таблица4[[#This Row],['#]]))","v":4.4000000000000004},{"$f":"IFERROR(AVERAGEIFS(Baza[AFS],Baza[Столбец1],Таблица4[[#This Row],['#]])+(AVERAGEIFS(Baza[AFS],Baza[Столбец1],Таблица4[[#This Row],['#]])*0.2),\"\")","v":136.36363636363635},-100,{"$f":"IFERROR(COUNTIFS(Baza[Столбец1],Таблица4[[#This Row],['#]],Baza[Win],\">0\")/C5*100,\"\")","v":0},{"$f":"IF(SUMIFS(Baza[KO$],Baza[Столбец1],Таблица4[[#This Row],['#]])=0,\"\",SUMIFS(Baza[KO$],Baza[Столбец1],Таблица4[[#This Row],['#]]))","v":""},{"$f":"IF(SUMIFS(Baza[WIN$],Baza[Столбец1],Таблица4[[#This Row],['#]])=0,\"\",SUMIFS(Baza[WIN$],Baza[Столбец1],Таблица4[[#This Row],['#]]))","v":""},-4.4000000000000004]
[null,{"$f":"IFERROR(INDEX(Baza[Столбец1],SMALL(IF(SMALL(IF(COUNTIF($B$2:$B5,Baza[Столбец1])=0,COUNTIF(Baza[Столбец1],\"<\"&Baza[Столбец1])+1,\"\"),1)=COUNTIF(Baza[Столбец1],\"<\"&Baza[Столбец1])+1,ROW(Baza[Столбец1])-MIN(ROW(Baza[Столбец1]))+1),1)),\"\")","v":"11:30 $2,1 [GG] Bounty Hunters"},{"$f":"IF(Таблица4[[#This Row],['#]]=\"\",\"\",COUNTIFS(Baza[Столбец1],Таблица4[[#This Row],['#]])+SUMIFS(Baza[R],Baza[Столбец1],Таблица4[[#This Row],['#]]))","v":2},{"$f":"IF(Таблица4[[#This Row],['#]]=\"\",\"\",SUMIFS(Baza[B$],Baza[Столбец1],Таблица4[[#This Row],['#]]))","v":4.2},{"$f":"IFERROR(AVERAGEIFS(Baza[AFS],Baza[Столбец1],Таблица4[[#This Row],['#]])+(AVERAGEIFS(Baza[AFS],Baza[Столбец1],Таблица4[[#This Row],['#]])*0.2),\"\")","v":685.71428571428578},-88.095238095238088,{"$f":"IFERROR(COUNTIFS(Baza[Столбец1],Таблица4[[#This Row],['#]],Baza[Win],\">0\")/C6*100,\"\")","v":0},{"$f":"IF(SUMIFS(Baza[KO$],Baza[Столбец1],Таблица4[[#This Row],['#]])=0,\"\",SUMIFS(Baza[KO$],Baza[Столбец1],Таблица4[[#This Row],['#]]))","v":0.5},{"$f":"IF(SUMIFS(Baza[WIN$],Baza[Столбец1],Таблица4[[#This Row],['#]])=0,\"\",SUMIFS(Baza[WIN$],Baza[Столбец1],Таблица4[[#This Row],['#]]))","v":""},-3.7]
[null,{"$f":"IFERROR(INDEX(Baza[Столбец1],SMALL(IF(SMALL(IF(COUNTIF($B$2:$B6,Baza[Столбец1])=0,COUNTIF(Baza[Столбец1],\"<\"&Baza[Столбец1])+1,\"\"),1)=COUNTIF(Baza[Столбец1],\"<\"&Baza[Столбец1])+1,ROW(Baza[Столбец1])-MIN(ROW(Baza[Столбец1]))+1),1)),\"\")","v":"11:30 $3,3 [PP] Bounty Hunter"},{"$f":"IF(Таблица4[[#This Row],['#]]=\"\",\"\",COUNTIFS(Baza[Столбец1],Таблица4[[#This Row],['#]])+SUMIFS(Baza[R],Baza[Столбец1],Таблица4[[#This Row],['#]]))","v":1},{"$f":"IF(Таблица4[[#This Row],['#]]=\"\",\"\",SUMIFS(Baza[B$],Baza[Столбец1],Таблица4[[#This Row],['#]]))","v":3.3},{"$f":"IFERROR(AVERAGEIFS(Baza[AFS],Baza[Столбец1],Таблица4[[#This Row],['#]])+(AVERAGEIFS(Baza[AFS],Baza[Столбец1],Таблица4[[#This Row],['#]])*0.2),\"\")","v":181.81818181818184},-100,{"$f":"IFERROR(COUNTIFS(Baza[Столбец1],Таблица4[[#This Row],['#]],Baza[Win],\">0\")/C7*100,\"\")","v":0},{"$f":"IF(SUMIFS(Baza[KO$],Baza[Столбец1],Таблица4[[#This Row],['#]])=0,\"\",SUMIFS(Baza[KO$],Baza[Столбец1],Таблица4[[#This Row],['#]]))","v":""},{"$f":"IF(SUMIFS(Baza[WIN$],Baza[Столбец1],Таблица4[[#This Row],['#]])=0,\"\",SUMIFS(Baza[WIN$],Baza[Столбец1],Таблица4[[#This Row],['#]]))","v":""},-3.3]
[null,{"$f":"IFERROR(INDEX(Baza[Столбец1],SMALL(IF(SMALL(IF(COUNTIF($B$2:$B7,Baza[Столбец1])=0,COUNTIF(Baza[Столбец1],\"<\"&Baza[Столбец1])+1,\"\"),1)=COUNTIF(Baza[Столбец1],\"<\"&Baza[Столбец1])+1,ROW(Baza[Столбец1])-MIN(ROW(Baza[Столбец1]))+1),1)),\"\")","v":"11:40 $3,3 [PS] GTD"},{"$f":"IF(Таблица4[[#This Row],['#]]=\"\",\"\",COUNTIFS(Baza[Столбец1],Таблица4[[#This Row],['#]])+SUMIFS(Baza[R],Baza[Столбец1],Таблица4[[#This Row],['#]]))","v":1},{"$f":"IF(Таблица4[[#This Row],['#]]=\"\",\"\",SUMIFS(Baza[B$],Baza[Столбец1],Таблица4[[#This Row],['#]]))","v":3.3},{"$f":"IFERROR(AVERAGEIFS(Baza[AFS],Baza[Столбец1],Таблица4[[#This Row],['#]])+(AVERAGEIFS(Baza[AFS],Baza[Столбец1],Таблица4[[#This Row],['#]])*0.2),\"\")","v":363.63636363636368},-100,{"$f":"IFERROR(COUNTIFS(Baza[Столбец1],Таблица4[[#This Row],['#]],Baza[Win],\">0\")/C8*100,\"\")","v":0},{"$f":"IF(SUMIFS(Baza[KO$],Baza[Столбец1],Таблица4[[#This Row],['#]])=0,\"\",SUMIFS(Baza[KO$],Baza[Столбец1],Таблица4[[#This Row],['#]]))","v":""},{"$f":"IF(SUMIFS(Baza[WIN$],Baza[Столбец1],Таблица4[[#This Row],['#]])=0,\"\",SUMIFS(Baza[WIN$],Baza[Столбец1],Таблица4[[#This Row],['#]]))","v":""},-3.3]
[null,{"$f":"IFERROR(INDEX(Baza[Столбец1],SMALL(IF(SMALL(IF(COUNTIF($B$2:$B8,Baza[Столбец1])=0,COUNTIF(Baza[Столбец1],\"<\"&Baza[Столбец1])+1,\"\"),1)=COUNTIF(Baza[Столбец1],\"<\"&Baza[Столбец1])+1,ROW(Baza[Столбец1])-MIN(ROW(Baza[Столбец1]))+1),1)),\"\")","v":"12:00 $1,1 [PP] Deepstack"},{"$f":"IF(Таблица4[[#This Row],['#]]=\"\",\"\",COUNTIFS(Baza[Столбец1],Таблица4[[#This Row],['#]])+SUMIFS(Baza[R],Baza[Столбец1],Таблица4[[#This Row],['#]]))","v":2},{"$f":"IF(Таблица4[[#This Row],['#]]=\"\",\"\",SUMIFS(Baza[B$],Baza[Столбец1],Таблица4[[#This Row],['#]]))","v":2.2000000000000002},{"$f":"IFERROR(AVERAGEIFS(Baza[AFS],Baza[Столбец1],Таблица4[[#This Row],['#]])+(AVERAGEIFS(Baza[AFS],Baza[Столбец1],Таблица4[[#This Row],['#]])*0.2),\"\")","v":190.90909090909088},-100,{"$f":"IFERROR(COUNTIFS(Baza[Столбец1],Таблица4[[#This Row],['#]],Baza[Win],\">0\")/C9*100,\"\")","v":0},{"$f":"IF(SUMIFS(Baza[KO$],Baza[Столбец1],Таблица4[[#This Row],['#]])=0,\"\",SUMIFS(Baza[KO$],Baza[Столбец1],Таблица4[[#This Row],['#]]))","v":""},{"$f":"IF(SUMIFS(Baza[WIN$],Baza[Столбец1],Таблица4[[#This Row],['#]])=0,\"\",SUMIFS(Baza[WIN$],Baza[Столбец1],Таблица4[[#This Row],['#]]))","v":""},-2.2000000000000002]
[null,{"$f":"IFERROR(INDEX(Baza[Столбец1],SMALL(IF(SMALL(IF(COUNTIF($B$2:$B9,Baza[Столбец1])=0,COUNTIF(Baza[Столбец1],\"<\"&Baza[Столбец1])+1,\"\"),1)=COUNTIF(Baza[Столбец1],\"<\"&Baza[Столбец1])+1,ROW(Baza[Столбец1])-MIN(ROW(Baza[Столбец1]))+1),1)),\"\")","v":"12:00 $1,1 [PS] Big"},{"$f":"IF(Таблица4[[#This Row],['#]]=\"\",\"\",COUNTIFS(Baza[Столбец1],Таблица4[[#This Row],['#]])+SUMIFS(Baza[R],Baza[Столбец1],Таблица4[[#This Row],['#]]))","v":2},{"$f":"IF(Таблица4[[#This Row],['#]]=\"\",\"\",SUMIFS(Baza[B$],Baza[Столбец1],Таблица4[[#This Row],['#]]))","v":2.2000000000000002},{"$f":"IFERROR(AVERAGEIFS(Baza[AFS],Baza[Столбец1],Таблица4[[#This Row],['#]])+(AVERAGEIFS(Baza[AFS],Baza[Столбец1],Таблица4[[#This Row],['#]])*0.2),\"\")","v":1090.9090909090908},389.99999999999989,{"$f":"IFERROR(COUNTIFS(Baza[Столбец1],Таблица4[[#This Row],['#]],Baza[Win],\">0\")/C10*100,\"\")","v":100},{"$f":"IF(SUMIFS(Baza[KO$],Baza[Столбец1],Таблица4[[#This Row],['#]])=0,\"\",SUMIFS(Baza[KO$],Baza[Столбец1],Таблица4[[#This Row],['#]]))","v":""},{"$f":"IF(SUMIFS(Baza[WIN$],Baza[Столбец1],Таблица4[[#This Row],['#]])=0,\"\",SUMIFS(Baza[WIN$],Baza[Столбец1],Таблица4[[#This Row],['#]]))","v":10.78},8.5799999999999983]
[null,{"$f":"IFERROR(INDEX(Baza[Столбец1],SMALL(IF(SMALL(IF(COUNTIF($B$2:$B10,Baza[Столбец1])=0,COUNTIF(Baza[Столбец1],\"<\"&Baza[Столбец1])+1,\"\"),1)=COUNTIF(Baza[Столбец1],\"<\"&Baza[Столбец1])+1,ROW(Baza[Столбец1])-MIN(ROW(Baza[Столбец1]))+1),1)),\"\")","v":"12:00 €2 [WN] Monster Stack"},{"$f":"IF(Таблица4[[#This Row],['#]]=\"\",\"\",COUNTIFS(Baza[Столбец1],Таблица4[[#This Row],['#]])+SUMIFS(Baza[R],Baza[Столбец1],Таблица4[[#This Row],['#]]))","v":2},{"$f":"IF(Таблица4[[#This Row],['#]]=\"\",\"\",SUMIFS(Baza[B$],Baza[Столбец1],Таблица4[[#This Row],['#]]))","v":4.4800000000000004},{"$f":"IFERROR(AVERAGEIFS(Baza[AFS],Baza[Столбец1],Таблица4[[#This Row],['#]])+(AVERAGEIFS(Baza[AFS],Baza[Столбец1],Таблица4[[#This Row],['#]])*0.2),\"\")","v":120},-100,{"$f":"IFERROR(COUNTIFS(Baza[Столбец1],Таблица4[[#This Row],['#]],Baza[Win],\">0\")/C11*100,\"\")","v":0},{"$f":"IF(SUMIFS(Baza[KO$],Baza[Столбец1],Таблица4[[#This Row],['#]])=0,\"\",SUMIFS(Baza[KO$],Baza[Столбец1],Таблица4[[#This Row],['#]]))","v":""},{"$f":"IF(SUMIFS(Baza[WIN$],Baza[Столбец1],Таблица4[[#This Row],['#]])=0,\"\",SUMIFS(Baza[WIN$],Baza[Столбец1],Таблица4[[#This Row],['#]]))","v":""},-4.4800000000000004]
[null,{"$f":"IFERROR(INDEX(Baza[Столбец1],SMALL(IF(SMALL(IF(COUNTIF($B$2:$B11,Baza[Столбец1])=0,COUNTIF(Baza[Столбец1],\"<\"&Baza[Столбец1])+1,\"\"),1)=COUNTIF(Baza[Столбец1],\"<\"&Baza[Столбец1])+1,ROW(Baza[Столбец1])-MIN(ROW(Baza[Столбец1]))+1),1)),\"\")","v":"12:30 $1 [PAC] Guaranteed"},{"$f":"IF(Таблица4[[#This Row],['#]]=\"\",\"\",COUNTIFS(Baza[Столбец1],Таблица4[[#This Row],['#]])+SUMIFS(Baza[R],Baza[Столбец1],Таблица4[[#This Row],['#]]))","v":1},{"$f":"IF(Таблица4[[#This Row],['#]]=\"\",\"\",SUMIFS(Baza[B$],Baza[Столбец1],Таблица4[[#This Row],['#]]))","v":1},{"$f":"IFERROR(AVERAGEIFS(Baza[AFS],Baza[Столбец1],Таблица4[[#This Row],['#]])+(AVERAGEIFS(Baza[AFS],Baza[Столбец1],Таблица4[[#This Row],['#]])*0.2),\"\")","v":240},-100,{"$f":"IFERROR(COUNTIFS(Baza[Столбец1],Таблица4[[#This Row],['#]],Baza[Win],\">0\")/C12*100,\"\")","v":0},{"$f":"IF(SUMIFS(Baza[KO$],Baza[Столбец1],Таблица4[[#This Row],['#]])=0,\"\",SUMIFS(Baza[KO$],Baza[Столбец1],Таблица4[[#This Row],['#]]))","v":""},{"$f":"IF(SUMIFS(Baza[WIN$],Baza[Столбец1],Таблица4[[#This Row],['#]])=0,\"\",SUMIFS(Baza[WIN$],Baza[Столбец1],Таблица4[[#This Row],['#]]))","v":""},-1]
[null,{"$f":"IFERROR(INDEX(Baza[Столбец1],SMALL(IF(SMALL(IF(COUNTIF($B$2:$B12,Baza[Столбец1])=0,COUNTIF(Baza[Столбец1],\"<\"&Baza[Столбец1])+1,\"\"),1)=COUNTIF(Baza[Столбец1],\"<\"&Baza[Столбец1])+1,ROW(Baza[Столбец1])-MIN(ROW(Baza[Столбец1]))+1),1)),\"\")","v":"12:30 $1,05 [GG] Bounty Hunters"},{"$f":"IF(Таблица4[[#This Row],['#]]=\"\",\"\",COUNTIFS(Baza[Столбец1],Таблица4[[#This Row],['#]])+SUMIFS(Baza[R],Baza[Столбец1],Таблица4[[#This Row],['#]]))","v":1},{"$f":"IF(Таблица4[[#This Row],['#]]=\"\",\"\",SUMIFS(Baza[B$],Baza[Столбец1],Таблица4[[#This Row],['#]]))","v":1.05},{"$f":"IFERROR(AVERAGEIFS(Baza[AFS],Baza[Столбец1],Таблица4[[#This Row],['#]])+(AVERAGEIFS(Baza[AFS],Baza[Столбец1],Таблица4[[#This Row],['#]])*0.2),\"\")","v":857.14285714285711},759.04761904761904,{"$f":"IFERROR(COUNTIFS(Baza[Столбец1],Таблица4[[#This Row],['#]],Baza[Win],\">0\")/C13*100,\"\")","v":100},{"$f":"IF(SUMIFS(Baza[KO$],Baza[Столбец1],Таблица4[[#This Row],['#]])=0,\"\",SUMIFS(Baza[KO$],Baza[Столбец1],Таблица4[[#This Row],['#]]))","v":5.04},{"$f":"IF(SUMIFS(Baza[WIN$],Baza[Столбец1],Таблица4[[#This Row],['#]])=0,\"\",SUMIFS(Baza[WIN$],Baza[Столбец1],Таблица4[[#This Row],['#]]))","v":3.98},7.97]
[null,{"$f":"IFERROR(INDEX(Baza[Столбец1],SMALL(IF(SMALL(IF(COUNTIF($B$2:$B13,Baza[Столбец1])=0,COUNTIF(Baza[Столбец1],\"<\"&Baza[Столбец1])+1,\"\"),1)=COUNTIF(Baza[Столбец1],\"<\"&Baza[Столбец1])+1,ROW(Baza[Столбец1])-MIN(ROW(Baza[Столбец1]))+1),1)),\"\")","v":"12:30 $2,2 [PP] Bounty Hunter"},{"$f":"IF(Таблица4[[#This Row],['#]]=\"\",\"\",COUNTIFS(Baza[Столбец1],Таблица4[[#This Row],['#]])+SUMIFS(Baza[R],Baza[Столбец1],Таблица4[[#This Row],['#]]))","v":1},{"$f":"IF(Таблица4[[#This Row],['#]]=\"\",\"\",SUMIFS(Baza[B$],Baza[Столбец1],Таблица4[[#This Row],['#]]))","v":2.2000000000000002},{"$f":"IFERROR(AVERAGEIFS(Baza[AFS],Baza[Столбец1],Таблица4[[#This Row],['#]])+(AVERAGEIFS(Baza[AFS],Baza[Столбец1],Таблица4[[#This Row],['#]])*0.2),\"\")","v":109.09090909090909},-100,{"$f":"IFERROR(COUNTIFS(Baza[Столбец1],Таблица4[[#This Row],['#]],Baza[Win],\">0\")/C14*100,\"\")","v":0},{"$f":"IF(SUMIFS(Baza[KO$],Baza[Столбец1],Таблица4[[#This Row],['#]])=0,\"\",SUMIFS(Baza[KO$],Baza[Столбец1],Таблица4[[#This Row],['#]]))","v":""},{"$f":"IF(SUMIFS(Baza[WIN$],Baza[Столбец1],Таблица4[[#This Row],['#]])=0,\"\",SUMIFS(Baza[WIN$],Baza[Столбец1],Таблица4[[#This Row],['#]]))","v":""},-2.2000000000000002]
[null,{"$f":"IFERROR(INDEX(Baza[Столбец1],SMALL(IF(SMALL(IF(COUNTIF($B$2:$B14,Baza[Столбец1])=0,COUNTIF(Baza[Столбец1],\"<\"&Baza[Столбец1])+1,\"\"),1)=COUNTIF(Baza[Столбец1],\"<\"&Baza[Столбец1])+1,ROW(Baza[Столбец1])-MIN(ROW(Baza[Столбец1]))+1),1)),\"\")","v":"13:00 $1,1 [PP] Bounty Hunter"},{"$f":"IF(Таблица4[[#This Row],['#]]=\"\",\"\",COUNTIFS(Baza[Столбец1],Таблица4[[#This Row],['#]])+SUMIFS(Baza[R],Baza[Столбец1],Таблица4[[#This Row],['#]]))","v":1},{"$f":"IF(Таблица4[[#This Row],['#]]=\"\",\"\",SUMIFS(Baza[B$],Baza[Столбец1],Таблица4[[#This Row],['#]]))","v":1.1000000000000001},{"$f":"IFERROR(AVERAGEIFS(Baza[AFS],Baza[Столбец1],Таблица4[[#This Row],['#]])+(AVERAGEIFS(Baza[AFS],Baza[Столбец1],Таблица4[[#This Row],['#]])*0.2),\"\")","v":109.09090909090909},138.18181818181816,{"$f":"IFERROR(COUNTIFS(Baza[Столбец1],Таблица4[[#This Row],['#]],Baza[Win],\">0\")/C15*100,\"\")","v":100},{"$f":"IF(SUMIFS(Baza[KO$],Baza[Столбец1],Таблица4[[#This Row],['#]])=0,\"\",SUMIFS(Baza[KO$],Baza[Столбец1],Таблица4[[#This Row],['#]]))","v":1.37},{"$f":"IF(SUMIFS(Baza[WIN$],Baza[Столбец1],Таблица4[[#This Row],['#]])=0,\"\",SUMIFS(Baza[WIN$],Baza[Столбец1],Таблица4[[#This Row],['#]]))","v":1.25},1.52]
[null,{"$f":"IFERROR(INDEX(Baza[Столбец1],SMALL(IF(SMALL(IF(COUNTIF($B$2:$B15,Baza[Столбец1])=0,COUNTIF(Baza[Столбец1],\"<\"&Baza[Столбец1])+1,\"\"),1)=COUNTIF(Baza[Столбец1],\"<\"&Baza[Столбец1])+1,ROW(Baza[Столбец1])-MIN(ROW(Baza[Столбец1]))+1),1)),\"\")","v":"13:00 $2 [GG] Big"},{"$f":"IF(Таблица4[[#This Row],['#]]=\"\",\"\",COUNTIFS(Baza[Столбец1],Таблица4[[#This Row],['#]])+SUMIFS(Baza[R],Baza[Столбец1],Таблица4[[#This Row],['#]]))","v":1},{"$f":"IF(Таблица4[[#This Row],['#]]=\"\",\"\",SUMIFS(Baza[B$],Baza[Столбец1],Таблица4[[#This Row],['#]]))","v":2},{"$f":"IFERROR(AVERAGEIFS(Baza[AFS],Baza[Столбец1],Таблица4[[#This Row],['#]])+(AVERAGEIFS(Baza[AFS],Baza[Столбец1],Таблица4[[#This Row],['#]])*0.2),\"\")","v":450},-100,{"$f":"IFERROR(COUNTIFS(Baza[Столбец1],Таблица4[[#This Row],['#]],Baza[Win],\">0\")/C16*100,\"\")","v":0},{"$f":"IF(SUMIFS(Baza[KO$],Baza[Столбец1],Таблица4[[#This Row],['#]])=0,\"\",SUMIFS(Baza[KO$],Baza[Столбец1],Таблица4[[#This Row],['#]]))","v":""},{"$f":"IF(SUMIFS(Baza[WIN$],Baza[Столбец1],Таблица4[[#This Row],['#]])=0,\"\",SUMIFS(Baza[WIN$],Baza[Столбец1],Таблица4[[#This Row],['#]]))","v":""},-2]
[null,{"$f":"IFERROR(INDEX(Baza[Столбец1],SMALL(IF(SMALL(IF(COUNTIF($B$2:$B16,Baza[Столбец1])=0,COUNTIF(Baza[Столбец1],\"<\"&Baza[Столбец1])+1,\"\"),1)=COUNTIF(Baza[Столбец1],\"<\"&Baza[Столбец1])+1,ROW(Baza[Столбец1])-MIN(ROW(Baza[Столбец1]))+1),1)),\"\")","v":"14:00 $2,2 [PAC] Guaranteed"},{"$f":"IF(Таблица4[[#This Row],['#]]=\"\",\"\",COUNTIFS(Baza[Столбец1],Таблица4[[#This Row],['#]])+SUMIFS(Baza[R],Baza[Столбец1],Таблица4[[#This Row],['#]]))","v":1},{"$f":"IF(Таблица4[[#This Row],['#]]=\"\",\"\",SUMIFS(Baza[B$],Baza[Столбец1],Таблица4[[#This Row],['#]]))","v":2.2000000000000002},{"$f":"IFERROR(AVERAGEIFS(Baza[AFS],Baza[Столбец1],Таблица4[[#This Row],['#]])+(AVERAGEIFS(Baza[AFS],Baza[Столбец1],Таблица4[[#This Row],['#]])*0.2),\"\")","v":272.72727272727269},-100,{"$f":"IFERROR(COUNTIFS(Baza[Столбец1],Таблица4[[#This Row],['#]],Baza[Win],\">0\")/C17*100,\"\")","v":0},{"$f":"IF(SUMIFS(Baza[KO$],Baza[Столбец1],Таблица4[[#This Row],['#]])=0,\"\",SUMIFS(Baza[KO$],Baza[Столбец1],Таблица4[[#This Row],['#]]))","v":""},{"$f":"IF(SUMIFS(Baza[WIN$],Baza[Столбец1],Таблица4[[#This Row],['#]])=0,\"\",SUMIFS(Baza[WIN$],Baza[Столбец1],Таблица4[[#This Row],['#]]))","v":""},-2.2000000000000002]
[null,{"$f":"IFERROR(INDEX(Baza[Столбец1],SMALL(IF(SMALL(IF(COUNTIF($B$2:$B17,Baza[Столбец1])=0,COUNTIF(Baza[Столбец1],\"<\"&Baza[Столбец1])+1,\"\"),1)=COUNTIF(Baza[Столбец1],\"<\"&Baza[Столбец1])+1,ROW(Baza[Столбец1])-MIN(ROW(Baza[Столбец1]))+1),1)),\"\")","v":"14:20 $1,1 [PS] Progressive KO"},{"$f":"IF(Таблица4[[#This Row],['#]]=\"\",\"\",COUNTIFS(Baza[Столбец1],Таблица4[[#This Row],['#]])+SUMIFS(Baza[R],Baza[Столбец1],Таблица4[[#This Row],['#]]))","v":1},{"$f":"IF(Таблица4[[#This Row],['#]]=\"\",\"\",SUMIFS(Baza[B$],Baza[Столбец1],Таблица4[[#This Row],['#]]))","v":1.1000000000000001},{"$f":"IFERROR(AVERAGEIFS(Baza[AFS],Baza[Столбец1],Таблица4[[#This Row],['#]])+(AVERAGEIFS(Baza[AFS],Baza[Столбец1],Таблица4[[#This Row],['#]])*0.2),\"\")","v":2181.8181818181815},-100,{"$f":"IFERROR(COUNTIFS(Baza[Столбец1],Таблица4[[#This Row],['#]],Baza[Win],\">0\")/C18*100,\"\")","v":0},{"$f":"IF(SUMIFS(Baza[KO$],Baza[Столбец1],Таблица4[[#This Row],['#]])=0,\"\",SUMIFS(Baza[KO$],Baza[Столбец1],Таблица4[[#This Row],['#]]))","v":""},{"$f":"IF(SUMIFS(Baza[WIN$],Baza[Столбец1],Таблица4[[#This Row],['#]])=0,\"\",SUMIFS(Baza[WIN$],Baza[Столбец1],Таблица4[[#This Row],['#]]))","v":""},-1.1000000000000001]
[null,{"$f":"IFERROR(INDEX(Baza[Столбец1],SMALL(IF(SMALL(IF(COUNTIF($B$2:$B18,Baza[Столбец1])=0,COUNTIF(Baza[Столбец1],\"<\"&Baza[Столбец1])+1,\"\"),1)=COUNTIF(Baza[Столбец1],\"<\"&Baza[Столбец1])+1,ROW(Baza[Столбец1])-MIN(ROW(Baza[Столбец1]))+1),1)),\"\")","v":"14:30 $1,05 [GG] Bounty Hunters"},{"$f":"IF(Таблица4[[#This Row],['#]]=\"\",\"\",COUNTIFS(Baza[Столбец1],Таблица4[[#This Row],['#]])+SUMIFS(Baza[R],Baza[Столбец1],Таблица4[[#This Row],['#]]))","v":1},{"$f":"IF(Таблица4[[#This Row],['#]]=\"\",\"\",SUMIFS(Baza[B$],Baza[Столбец1],Таблица4[[#This Row],['#]]))","v":1.05},{"$f":"IFERROR(AVERAGEIFS(Baza[AFS],Baza[Столбец1],Таблица4[[#This Row],['#]])+(AVERAGEIFS(Baza[AFS],Baza[Столбец1],Таблица4[[#This Row],['#]])*0.2),\"\")","v":857.14285714285711},-100,{"$f":"IFERROR(COUNTIFS(Baza[Столбец1],Таблица4[[#This Row],['#]],Baza[Win],\">0\")/C19*100,\"\")","v":0},{"$f":"IF(SUMIFS(Baza[KO$],Baza[Столбец1],Таблица4[[#This Row],['#]])=0,\"\",SUMIFS(Baza[KO$],Baza[Столбец1],Таблица4[[#This Row],['#]]))","v":""},{"$f":"IF(SUMIFS(Baza[WIN$],Baza[Столбец1],Таблица4[[#This Row],['#]])=0,\"\",SUMIFS(Baza[WIN$],Baza[Столбец1],Таблица4[[#This Row],['#]]))","v":""},-1.05]
[null,{"$f":"IFERROR(INDEX(Baza[Столбец1],SMALL(IF(SMALL(IF(COUNTIF($B$2:$B19,Baza[Столбец1])=0,COUNTIF(Baza[Столбец1],\"<\"&Baza[Столбец1])+1,\"\"),1)=COUNTIF(Baza[Столбец1],\"<\"&Baza[Столбец1])+1,ROW(Baza[Столбец1])-MIN(ROW(Baza[Столбец1]))+1),1)),\"\")","v":"15:00 $1,1 [PP] Bounty Hunter"},{"$f":"IF(Таблица4[[#This Row],['#]]=\"\",\"\",COUNTIFS(Baza[Столбец1],Таблица4[[#This Row],['#]])+SUMIFS(Baza[R],Baza[Столбец1],Таблица4[[#This Row],['#]]))","v":1},{"$f":"IF(Таблица4[[#This Row],['#]]=\"\",\"\",SUMIFS(Baza[B$],Baza[Столбец1],Таблица4[[#This Row],['#]]))","v":1.1000000000000001},{"$f":"IFERROR(AVERAGEIFS(Baza[AFS],Baza[Столбец1],Таблица4[[#This Row],['#]])+(AVERAGEIFS(Baza[AFS],Baza[Столбец1],Таблица4[[#This Row],['#]])*0.2),\"\")","v":218.18181818181819},-100,{"$f":"IFERROR(COUNTIFS(Baza[Столбец1],Таблица4[[#This Row],['#]],Baza[Win],\">0\")/C20*100,\"\")","v":0},{"$f":"IF(SUMIFS(Baza[KO$],Baza[Столбец1],Таблица4[[#This Row],['#]])=0,\"\",SUMIFS(Baza[KO$],Baza[Столбец1],Таблица4[[#This Row],['#]]))","v":""},{"$f":"IF(SUMIFS(Baza[WIN$],Baza[Столбец1],Таблица4[[#This Row],['#]])=0,\"\",SUMIFS(Baza[WIN$],Baza[Столбец1],Таблица4[[#This Row],['#]]))","v":""},-1.1000000000000001]
[null,{"$f":"IFERROR(INDEX(Baza[Столбец1],SMALL(IF(SMALL(IF(COUNTIF($B$2:$B20,Baza[Столбец1])=0,COUNTIF(Baza[Столбец1],\"<\"&Baza[Столбец1])+1,\"\"),1)=COUNTIF(Baza[Столбец1],\"<\"&Baza[Столбец1])+1,ROW(Baza[Столбец1])-MIN(ROW(Baza[Столбец1]))+1),1)),\"\")","v":"15:00 $1,1 [PS] GTD"},{"$f":"IF(Таблица4[[#This Row],['#]]=\"\",\"\",COUNTIFS(Baza[Столбец1],Таблица4[[#This Row],['#]])+SUMIFS(Baza[R],Baza[Столбец1],Таблица4[[#This Row],['#]]))","v":1},{"$f":"IF(Таблица4[[#This Row],['#]]=\"\",\"\",SUMIFS(Baza[B$],Baza[Столбец1],Таблица4[[#This Row],['#]]))","v":1.1000000000000001},{"$f":"IFERROR(AVERAGEIFS(Baza[AFS],Baza[Столбец1],Таблица4[[#This Row],['#]])+(AVERAGEIFS(Baza[AFS],Baza[Столбец1],Таблица4[[#This Row],['#]])*0.2),\"\")","v":818.18181818181813},488.18181818181807,{"$f":"IFERROR(COUNTIFS(Baza[Столбец1],Таблица4[[#This Row],['#]],Baza[Win],\">0\")/C21*100,\"\")","v":100},{"$f":"IF(SUMIFS(Baza[KO$],Baza[Столбец1],Таблица4[[#This Row],['#]])=0,\"\",SUMIFS(Baza[KO$],Baza[Столбец1],Таблица4[[#This Row],['#]]))","v":""},{"$f":"IF(SUMIFS(Baza[WIN$],Baza[Столбец1],Таблица4[[#This Row],['#]])=0,\"\",SUMIFS(Baza[WIN$],Baza[Столбец1],Таблица4[[#This Row],['#]]))","v":6.47},5.3699999999999992]
[null,{"$f":"IFERROR(INDEX(Baza[Столбец1],SMALL(IF(SMALL(IF(COUNTIF($B$2:$B21,Baza[Столбец1])=0,COUNTIF(Baza[Столбец1],\"<\"&Baza[Столбец1])+1,\"\"),1)=COUNTIF(Baza[Столбец1],\"<\"&Baza[Столбец1])+1,ROW(Baza[Столбец1])-MIN(ROW(Baza[Столбец1]))+1),1)),\"\")","v":"15:00 €1 [WN] Monster Stack"},{"$f":"IF(Таблица4[[#This Row],['#]]=\"\",\"\",COUNTIFS(Baza[Столбец1],Таблица4[[#This Row],['#]])+SUMIFS(Baza[R],Baza[Столбец1],Таблица4[[#This Row],['#]]))","v":1},{"$f":"IF(Таблица4[[#This Row],['#]]=\"\",\"\",SUMIFS(Baza[B$],Baza[Столбец1],Таблица4[[#This Row],['#]]))","v":1.1200000000000001},{"$f":"IFERROR(AVERAGEIFS(Baza[AFS],Baza[Столбец1],Таблица4[[#This Row],['#]])+(AVERAGEIFS(Baza[AFS],Baza[Столбец1],Таблица4[[#This Row],['#]])*0.2),\"\")","v":300},-100,{"$f":"IFERROR(COUNTIFS(Baza[Столбец1],Таблица4[[#This Row],['#]],Baza[Win],\">0\")/C22*100,\"\")","v":0},{"$f":"IF(SUMIFS(Baza[KO$],Baza[Столбец1],Таблица4[[#This Row],['#]])=0,\"\",SUMIFS(Baza[KO$],Baza[Столбец1],Таблица4[[#This Row],['#]]))","v":""},{"$f":"IF(SUMIFS(Baza[WIN$],Baza[Столбец1],Таблица4[[#This Row],['#]])=0,\"\",SUMIFS(Baza[WIN$],Baza[Столбец1],Таблица4[[#This Row],['#]]))","v":""},-1.1200000000000001]
[null,{"$f":"IFERROR(INDEX(Baza[Столбец1],SMALL(IF(SMALL(IF(COUNTIF($B$2:$B22,Baza[Столбец1])=0,COUNTIF(Baza[Столбец1],\"<\"&Baza[Столбец1])+1,\"\"),1)=COUNTIF(Baza[Столбец1],\"<\"&Baza[Столбец1])+1,ROW(Baza[Столбец1])-MIN(ROW(Baza[Столбец1]))+1),1)),\"\")","v":"16:00 $1 [PAC] 6-Max Think Fast"},{"$f":"IF(Таблица4[[#This Row],['#]]=\"\",\"\",COUNTIFS(Baza[Столбец1],Таблица4[[#This Row],['#]])+SUMIFS(Baza[R],Baza[Столбец1],Таблица4[[#This Row],['#]]))","v":1},{"$f":"IF(Таблица4[[#This Row],['#]]=\"\",\"\",SUMIFS(Baza[B$],Baza[Столбец1],Таблица4[[#This Row],['#]]))","v":1},{"$f":"IFERROR(AVERAGEIFS(Baza[AFS],Baza[Столбец1],Таблица4[[#This Row],['#]])+(AVERAGEIFS(Baza[AFS],Baza[Столбец1],Таблица4[[#This Row],['#]])*0.2),\"\")","v":360},-100,{"$f":"IFERROR(COUNTIFS(Baza[Столбец1],Таблица4[[#This Row],['#]],Baza[Win],\">0\")/C23*100,\"\")","v":0},{"$f":"IF(SUMIFS(Baza[KO$],Baza[Столбец1],Таблица4[[#This Row],['#]])=0,\"\",SUMIFS(Baza[KO$],Baza[Столбец1],Таблица4[[#This Row],['#]]))","v":""},{"$f":"IF(SUMIFS(Baza[WIN$],Baza[Столбец1],Таблица4[[#This Row],['#]])=0,\"\",SUMIFS(Baza[WIN$],Baza[Столбец1],Таблица4[[#This Row],['#]]))","v":""},-1]
[null,{"$f":"IFERROR(INDEX(Baza[Столбец1],SMALL(IF(SMALL(IF(COUNTIF($B$2:$B23,Baza[Столбец1])=0,COUNTIF(Baza[Столбец1],\"<\"&Baza[Столбец1])+1,\"\"),1)=COUNTIF(Baza[Столбец1],\"<\"&Baza[Столбец1])+1,ROW(Baza[Столбец1])-MIN(ROW(Baza[Столбец1]))+1),1)),\"\")","v":"16:15 $1,1 [PAC] Guaranteed PKO"},{"$f":"IF(Таблица4[[#This Row],['#]]=\"\",\"\",COUNTIFS(Baza[Столбец1],Таблица4[[#This Row],['#]])+SUMIFS(Baza[R],Baza[Столбец1],Таблица4[[#This Row],['#]]))","v":1},{"$f":"IF(Таблица4[[#This Row],['#]]=\"\",\"\",SUMIFS(Baza[B$],Baza[Столбец1],Таблица4[[#This Row],['#]]))","v":1.1000000000000001},{"$f":"IFERROR(AVERAGEIFS(Baza[AFS],Baza[Столбец1],Таблица4[[#This Row],['#]])+(AVERAGEIFS(Baza[AFS],Baza[Столбец1],Таблица4[[#This Row],['#]])*0.2),\"\")","v":327.27272727272725},-77.272727272727266,{"$f":"IFERROR(COUNTIFS(Baza[Столбец1],Таблица4[[#This Row],['#]],Baza[Win],\">0\")/C24*100,\"\")","v":0},{"$f":"IF(SUMIFS(Baza[KO$],Baza[Столбец1],Таблица4[[#This Row],['#]])=0,\"\",SUMIFS(Baza[KO$],Baza[Столбец1],Таблица4[[#This Row],['#]]))","v":0.25},{"$f":"IF(SUMIFS(Baza[WIN$],Baza[Столбец1],Таблица4[[#This Row],['#]])=0,\"\",SUMIFS(Baza[WIN$],Baza[Столбец1],Таблица4[[#This Row],['#]]))","v":""},-0.85000000000000009]
[null,{"$f":"IFERROR(INDEX(Baza[Столбец1],SMALL(IF(SMALL(IF(COUNTIF($B$2:$B24,Baza[Столбец1])=0,COUNTIF(Baza[Столбец1],\"<\"&Baza[Столбец1])+1,\"\"),1)=COUNTIF(Baza[Столбец1],\"<\"&Baza[Столбец1])+1,ROW(Baza[Столбец1])-MIN(ROW(Baza[Столбец1]))+1),1)),\"\")","v":"16:15 $1,1 [PS] GTD"},{"$f":"IF(Таблица4[[#This Row],['#]]=\"\",\"\",COUNTIFS(Baza[Столбец1],Таблица4[[#This Row],['#]])+SUMIFS(Baza[R],Baza[Столбец1],Таблица4[[#This Row],['#]]))","v":1},{"$f":"IF(Таблица4[[#This Row],['#]]=\"\",\"\",SUMIFS(Baza[B$],Baza[Столбец1],Таблица4[[#This Row],['#]]))","v":1.1000000000000001},{"$f":"IFERROR(AVERAGEIFS(Baza[AFS],Baza[Столбец1],Таблица4[[#This Row],['#]])+(AVERAGEIFS(Baza[AFS],Baza[Столбец1],Таблица4[[#This Row],['#]])*0.2),\"\")","v":1636.3636363636363},260.90909090909088,{"$f":"IFERROR(COUNTIFS(Baza[Столбец1],Таблица4[[#This Row],['#]],Baza[Win],\">0\")/C25*100,\"\")","v":100},{"$f":"IF(SUMIFS(Baza[KO$],Baza[Столбец1],Таблица4[[#This Row],['#]])=0,\"\",SUMIFS(Baza[KO$],Baza[Столбец1],Таблица4[[#This Row],['#]]))","v":""},{"$f":"IF(SUMIFS(Baza[WIN$],Baza[Столбец1],Таблица4[[#This Row],['#]])=0,\"\",SUMIFS(Baza[WIN$],Baza[Столбец1],Таблица4[[#This Row],['#]]))","v":3.97},2.87]
[null,{"$f":"IFERROR(INDEX(Baza[Столбец1],SMALL(IF(SMALL(IF(COUNTIF($B$2:$B25,Baza[Столбец1])=0,COUNTIF(Baza[Столбец1],\"<\"&Baza[Столбец1])+1,\"\"),1)=COUNTIF(Baza[Столбец1],\"<\"&Baza[Столбец1])+1,ROW(Baza[Столбец1])-MIN(ROW(Baza[Столбец1]))+1),1)),\"\")","v":"16:30 $2,2 [PAC] Guaranteed"},{"$f":"IF(Таблица4[[#This Row],['#]]=\"\",\"\",COUNTIFS(Baza[Столбец1],Таблица4[[#This Row],['#]])+SUMIFS(Baza[R],Baza[Столбец1],Таблица4[[#This Row],['#]]))","v":1},{"$f":"IF(Таблица4[[#This Row],['#]]=\"\",\"\",SUMIFS(Baza[B$],Baza[Столбец1],Таблица4[[#This Row],['#]]))","v":2.2000000000000002},{"$f":"IFERROR(AVERAGEIFS(Baza[AFS],Baza[Столбец1],Таблица4[[#This Row],['#]])+(AVERAGEIFS(Baza[AFS],Baza[Столбец1],Таблица4[[#This Row],['#]])*0.2),\"\")","v":272.72727272727269},-100,{"$f":"IFERROR(COUNTIFS(Baza[Столбец1],Таблица4[[#This Row],['#]],Baza[Win],\">0\")/C26*100,\"\")","v":0},{"$f":"IF(SUMIFS(Baza[KO$],Baza[Столбец1],Таблица4[[#This Row],['#]])=0,\"\",SUMIFS(Baza[KO$],Baza[Столбец1],Таблица4[[#This Row],['#]]))","v":""},{"$f":"IF(SUMIFS(Baza[WIN$],Baza[Столбец1],Таблица4[[#This Row],['#]])=0,\"\",SUMIFS(Baza[WIN$],Baza[Столбец1],Таблица4[[#This Row],['#]]))","v":""},-2.2000000000000002]
[null,{"$f":"IFERROR(INDEX(Baza[Столбец1],SMALL(IF(SMALL(IF(COUNTIF($B$2:$B26,Baza[Столбец1])=0,COUNTIF(Baza[Столбец1],\"<\"&Baza[Столбец1])+1,\"\"),1)=COUNTIF(Baza[Столбец1],\"<\"&Baza[Столбец1])+1,ROW(Baza[Столбец1])-MIN(ROW(Baza[Столбец1]))+1),1)),\"\")","v":""},{"$f":"IF(Таблица4[[#This Row],['#]]=\"\",\"\",COUNTIFS(Baza[Столбец1],Таблица4[[#This Row],['#]])+SUMIFS(Baza[R],Baza[Столбец1],Таблица4[[#This Row],['#]]))","v":""},{"$f":"IF(Таблица4[[#This Row],['#]]=\"\",\"\",SUMIFS(Baza[B$],Baza[Столбец1],Таблица4[[#This Row],['#]]))","v":""},{"$f":"IFERROR(AVERAGEIFS(Baza[AFS],Baza[Столбец1],Таблица4[[#This Row],['#]])+(AVERAGEIFS(Baza[AFS],Baza[Столбец1],Таблица4[[#This Row],['#]])*0.2),\"\")","v":""},"",{"$f":"IFERROR(COUNTIFS(Baza[Столбец1],Таблица4[[#This Row],['#]],Baza[Win],\">0\")/C27*100,\"\")","v":""},{"$f":"IF(SUMIFS(Baza[KO$],Baza[Столбец1],Таблица4[[#This Row],['#]])=0,\"\",SUMIFS(Baza[KO$],Baza[Столбец1],Таблица4[[#This Row],['#]]))","v":""},{"$f":"IF(SUMIFS(Baza[WIN$],Baza[Столбец1],Таблица4[[#This Row],['#]])=0,\"\",SUMIFS(Baza[WIN$],Baza[Столбец1],Таблица4[[#This Row],['#]]))","v":""},""]
[null,{"$f":"IFERROR(INDEX(Baza[Столбец1],SMALL(IF(SMALL(IF(COUNTIF($B$2:$B27,Baza[Столбец1])=0,COUNTIF(Baza[Столбец1],\"<\"&Baza[Столбец1])+1,\"\"),1)=COUNTIF(Baza[Столбец1],\"<\"&Baza[Столбец1])+1,ROW(Baza[Столбец1])-MIN(ROW(Baza[Столбец1]))+1),1)),\"\")","v":""},{"$f":"IF(Таблица4[[#This Row],['#]]=\"\",\"\",COUNTIFS(Baza[Столбец1],Таблица4[[#This Row],['#]])+SUMIFS(Baza[R],Baza[Столбец1],Таблица4[[#This Row],['#]]))","v":""},{"$f":"IF(Таблица4[[#This Row],['#]]=\"\",\"\",SUMIFS(Baza[B$],Baza[Столбец1],Таблица4[[#This Row],['#]]))","v":""},{"$f":"IFERROR(AVERAGEIFS(Baza[AFS],Baza[Столбец1],Таблица4[[#This Row],['#]])+(AVERAGEIFS(Baza[AFS],Baza[Столбец1],Таблица4[[#This Row],['#]])*0.2),\"\")","v":""},"",{"$f":"IFERROR(COUNTIFS(Baza[Столбец1],Таблица4[[#This Row],['#]],Baza[Win],\">0\")/C28*100,\"\")","v":""},{"$f":"IF(SUMIFS(Baza[KO$],Baza[Столбец1],Таблица4[[#This Row],['#]])=0,\"\",SUMIFS(Baza[KO$],Baza[Столбец1],Таблица4[[#This Row],['#]]))","v":""},{"$f":"IF(SUMIFS(Baza[WIN$],Baza[Столбец1],Таблица4[[#This Row],['#]])=0,\"\",SUMIFS(Baza[WIN$],Baza[Столбец1],Таблица4[[#This Row],['#]]))","v":""},""]
[null,{"$f":"IFERROR(INDEX(Baza[Столбец1],SMALL(IF(SMALL(IF(COUNTIF($B$2:$B28,Baza[Столбец1])=0,COUNTIF(Baza[Столбец1],\"<\"&Baza[Столбец1])+1,\"\"),1)=COUNTIF(Baza[Столбец1],\"<\"&Baza[Столбец1])+1,ROW(Baza[Столбец1])-MIN(ROW(Baza[Столбец1]))+1),1)),\"\")","v":""},{"$f":"IF(Таблица4[[#This Row],['#]]=\"\",\"\",COUNTIFS(Baza[Столбец1],Таблица4[[#This Row],['#]])+SUMIFS(Baza[R],Baza[Столбец1],Таблица4[[#This Row],['#]]))","v":""},{"$f":"IF(Таблица4[[#This Row],['#]]=\"\",\"\",SUMIFS(Baza[B$],Baza[Столбец1],Таблица4[[#This Row],['#]]))","v":""},{"$f":"IFERROR(AVERAGEIFS(Baza[AFS],Baza[Столбец1],Таблица4[[#This Row],['#]])+(AVERAGEIFS(Baza[AFS],Baza[Столбец1],Таблица4[[#This Row],['#]])*0.2),\"\")","v":""},"",{"$f":"IFERROR(COUNTIFS(Baza[Столбец1],Таблица4[[#This Row],['#]],Baza[Win],\">0\")/C29*100,\"\")","v":""},{"$f":"IF(SUMIFS(Baza[KO$],Baza[Столбец1],Таблица4[[#This Row],['#]])=0,\"\",SUMIFS(Baza[KO$],Baza[Столбец1],Таблица4[[#This Row],['#]]))","v":""},{"$f":"IF(SUMIFS(Baza[WIN$],Baza[Столбец1],Таблица4[[#This Row],['#]])=0,\"\",SUMIFS(Baza[WIN$],Baza[Столбец1],Таблица4[[#This Row],['#]]))","v":""},""]
[null,{"$f":"IFERROR(INDEX(Baza[Столбец1],SMALL(IF(SMALL(IF(COUNTIF($B$2:$B29,Baza[Столбец1])=0,COUNTIF(Baza[Столбец1],\"<\"&Baza[Столбец1])+1,\"\"),1)=COUNTIF(Baza[Столбец1],\"<\"&Baza[Столбец1])+1,ROW(Baza[Столбец1])-MIN(ROW(Baza[Столбец1]))+1),1)),\"\")","v":""},{"$f":"IF(Таблица4[[#This Row],['#]]=\"\",\"\",COUNTIFS(Baza[Столбец1],Таблица4[[#This Row],['#]])+SUMIFS(Baza[R],Baza[Столбец1],Таблица4[[#This Row],['#]]))","v":""},{"$f":"IF(Таблица4[[#This Row],['#]]=\"\",\"\",SUMIFS(Baza[B$],Baza[Столбец1],Таблица4[[#This Row],['#]]))","v":""},{"$f":"IFERROR(AVERAGEIFS(Baza[AFS],Baza[Столбец1],Таблица4[[#This Row],['#]])+(AVERAGEIFS(Baza[AFS],Baza[Столбец1],Таблица4[[#This Row],['#]])*0.2),\"\")","v":""},"",{"$f":"IFERROR(COUNTIFS(Baza[Столбец1],Таблица4[[#This Row],['#]],Baza[Win],\">0\")/C30*100,\"\")","v":""},{"$f":"IF(SUMIFS(Baza[KO$],Baza[Столбец1],Таблица4[[#This Row],['#]])=0,\"\",SUMIFS(Baza[KO$],Baza[Столбец1],Таблица4[[#This Row],['#]]))","v":""},{"$f":"IF(SUMIFS(Baza[WIN$],Baza[Столбец1],Таблица4[[#This Row],['#]])=0,\"\",SUMIFS(Baza[WIN$],Baza[Столбец1],Таблица4[[#This Row],['#]]))","v":""},""]
[null,{"$f":"IFERROR(INDEX(Baza[Столбец1],SMALL(IF(SMALL(IF(COUNTIF($B$2:$B30,Baza[Столбец1])=0,COUNTIF(Baza[Столбец1],\"<\"&Baza[Столбец1])+1,\"\"),1)=COUNTIF(Baza[Столбец1],\"<\"&Baza[Столбец1])+1,ROW(Baza[Столбец1])-MIN(ROW(Baza[Столбец1]))+1),1)),\"\")","v":""},{"$f":"IF(Таблица4[[#This Row],['#]]=\"\",\"\",COUNTIFS(Baza[Столбец1],Таблица4[[#This Row],['#]])+SUMIFS(Baza[R],Baza[Столбец1],Таблица4[[#This Row],['#]]))","v":""},{"$f":"IF(Таблица4[[#This Row],['#]]=\"\",\"\",SUMIFS(Baza[B$],Baza[Столбец1],Таблица4[[#This Row],['#]]))","v":""},{"$f":"IFERROR(AVERAGEIFS(Baza[AFS],Baza[Столбец1],Таблица4[[#This Row],['#]])+(AVERAGEIFS(Baza[AFS],Baza[Столбец1],Таблица4[[#This Row],['#]])*0.2),\"\")","v":""},"",{"$f":"IFERROR(COUNTIFS(Baza[Столбец1],Таблица4[[#This Row],['#]],Baza[Win],\">0\")/C31*100,\"\")","v":""},{"$f":"IF(SUMIFS(Baza[KO$],Baza[Столбец1],Таблица4[[#This Row],['#]])=0,\"\",SUMIFS(Baza[KO$],Baza[Столбец1],Таблица4[[#This Row],['#]]))","v":""},{"$f":"IF(SUMIFS(Baza[WIN$],Baza[Столбец1],Таблица4[[#This Row],['#]])=0,\"\",SUMIFS(Baza[WIN$],Baza[Столбец1],Таблица4[[#This Row],['#]]))","v":""},""]
[null,{"$f":"IFERROR(INDEX(Baza[Столбец1],SMALL(IF(SMALL(IF(COUNTIF($B$2:$B31,Baza[Столбец1])=0,COUNTIF(Baza[Столбец1],\"<\"&Baza[Столбец1])+1,\"\"),1)=COUNTIF(Baza[Столбец1],\"<\"&Baza[Столбец1])+1,ROW(Baza[Столбец1])-MIN(ROW(Baza[Столбец1]))+1),1)),\"\")","v":""},{"$f":"IF(Таблица4[[#This Row],['#]]=\"\",\"\",COUNTIFS(Baza[Столбец1],Таблица4[[#This Row],['#]])+SUMIFS(Baza[R],Baza[Столбец1],Таблица4[[#This Row],['#]]))","v":""},{"$f":"IF(Таблица4[[#This Row],['#]]=\"\",\"\",SUMIFS(Baza[B$],Baza[Столбец1],Таблица4[[#This Row],['#]]))","v":""},{"$f":"IFERROR(AVERAGEIFS(Baza[AFS],Baza[Столбец1],Таблица4[[#This Row],['#]])+(AVERAGEIFS(Baza[AFS],Baza[Столбец1],Таблица4[[#This Row],['#]])*0.2),\"\")","v":""},"",{"$f":"IFERROR(COUNTIFS(Baza[Столбец1],Таблица4[[#This Row],['#]],Baza[Win],\">0\")/C32*100,\"\")","v":""},{"$f":"IF(SUMIFS(Baza[KO$],Baza[Столбец1],Таблица4[[#This Row],['#]])=0,\"\",SUMIFS(Baza[KO$],Baza[Столбец1],Таблица4[[#This Row],['#]]))","v":""},{"$f":"IF(SUMIFS(Baza[WIN$],Baza[Столбец1],Таблица4[[#This Row],['#]])=0,\"\",SUMIFS(Baza[WIN$],Baza[Столбец1],Таблица4[[#This Row],['#]]))","v":""},""]
[null,{"$f":"IFERROR(INDEX(Baza[Столбец1],SMALL(IF(SMALL(IF(COUNTIF($B$2:$B32,Baza[Столбец1])=0,COUNTIF(Baza[Столбец1],\"<\"&Baza[Столбец1])+1,\"\"),1)=COUNTIF(Baza[Столбец1],\"<\"&Baza[Столбец1])+1,ROW(Baza[Столбец1])-MIN(ROW(Baza[Столбец1]))+1),1)),\"\")","v":""},{"$f":"IF(Таблица4[[#This Row],['#]]=\"\",\"\",COUNTIFS(Baza[Столбец1],Таблица4[[#This Row],['#]])+SUMIFS(Baza[R],Baza[Столбец1],Таблица4[[#This Row],['#]]))","v":""},{"$f":"IF(Таблица4[[#This Row],['#]]=\"\",\"\",SUMIFS(Baza[B$],Baza[Столбец1],Таблица4[[#This Row],['#]]))","v":""},{"$f":"IFERROR(AVERAGEIFS(Baza[AFS],Baza[Столбец1],Таблица4[[#This Row],['#]])+(AVERAGEIFS(Baza[AFS],Baza[Столбец1],Таблица4[[#This Row],['#]])*0.2),\"\")","v":""},"",{"$f":"IFERROR(COUNTIFS(Baza[Столбец1],Таблица4[[#This Row],['#]],Baza[Win],\">0\")/C33*100,\"\")","v":""},{"$f":"IF(SUMIFS(Baza[KO$],Baza[Столбец1],Таблица4[[#This Row],['#]])=0,\"\",SUMIFS(Baza[KO$],Baza[Столбец1],Таблица4[[#This Row],['#]]))","v":""},{"$f":"IF(SUMIFS(Baza[WIN$],Baza[Столбец1],Таблица4[[#This Row],['#]])=0,\"\",SUMIFS(Baza[WIN$],Baza[Столбец1],Таблица4[[#This Row],['#]]))","v":""},""]
[null,{"$f":"IFERROR(INDEX(Baza[Столбец1],SMALL(IF(SMALL(IF(COUNTIF($B$2:$B33,Baza[Столбец1])=0,COUNTIF(Baza[Столбец1],\"<\"&Baza[Столбец1])+1,\"\"),1)=COUNTIF(Baza[Столбец1],\"<\"&Baza[Столбец1])+1,ROW(Baza[Столбец1])-MIN(ROW(Baza[Столбец1]))+1),1)),\"\")","v":""},{"$f":"IF(Таблица4[[#This Row],['#]]=\"\",\"\",COUNTIFS(Baza[Столбец1],Таблица4[[#This Row],['#]])+SUMIFS(Baza[R],Baza[Столбец1],Таблица4[[#This Row],['#]]))","v":""},{"$f":"IF(Таблица4[[#This Row],['#]]=\"\",\"\",SUMIFS(Baza[B$],Baza[Столбец1],Таблица4[[#This Row],['#]]))","v":""},{"$f":"IFERROR(AVERAGEIFS(Baza[AFS],Baza[Столбец1],Таблица4[[#This Row],['#]])+(AVERAGEIFS(Baza[AFS],Baza[Столбец1],Таблица4[[#This Row],['#]])*0.2),\"\")","v":""},"",{"$f":"IFERROR(COUNTIFS(Baza[Столбец1],Таблица4[[#This Row],['#]],Baza[Win],\">0\")/C34*100,\"\")","v":""},{"$f":"IF(SUMIFS(Baza[KO$],Baza[Столбец1],Таблица4[[#This Row],['#]])=0,\"\",SUMIFS(Baza[KO$],Baza[Столбец1],Таблица4[[#This Row],['#]]))","v":""},{"$f":"IF(SUMIFS(Baza[WIN$],Baza[Столбец1],Таблица4[[#This Row],['#]])=0,\"\",SUMIFS(Baza[WIN$],Baza[Столбец1],Таблица4[[#This Row],['#]]))","v":""},""]
[null,{"$f":"IFERROR(INDEX(Baza[Столбец1],SMALL(IF(SMALL(IF(COUNTIF($B$2:$B34,Baza[Столбец1])=0,COUNTIF(Baza[Столбец1],\"<\"&Baza[Столбец1])+1,\"\"),1)=COUNTIF(Baza[Столбец1],\"<\"&Baza[Столбец1])+1,ROW(Baza[Столбец1])-MIN(ROW(Baza[Столбец1]))+1),1)),\"\")","v":""},{"$f":"IF(Таблица4[[#This Row],['#]]=\"\",\"\",COUNTIFS(Baza[Столбец1],Таблица4[[#This Row],['#]])+SUMIFS(Baza[R],Baza[Столбец1],Таблица4[[#This Row],['#]]))","v":""},{"$f":"IF(Таблица4[[#This Row],['#]]=\"\",\"\",SUMIFS(Baza[B$],Baza[Столбец1],Таблица4[[#This Row],['#]]))","v":""},{"$f":"IFERROR(AVERAGEIFS(Baza[AFS],Baza[Столбец1],Таблица4[[#This Row],['#]])+(AVERAGEIFS(Baza[AFS],Baza[Столбец1],Таблица4[[#This Row],['#]])*0.2),\"\")","v":""},{"$f":"IFERROR(J35/D35*100,\"\")","v":""},{"$f":"IFERROR(COUNTIFS(Baza[Столбец1],Таблица4[[#This Row],['#]],Baza[Win],\">0\")/C35*100,\"\")","v":""},{"$f":"IF(SUMIFS(Baza[KO$],Baza[Столбец1],Таблица4[[#This Row],['#]])=0,\"\",SUMIFS(Baza[KO$],Baza[Столбец1],Таблица4[[#This Row],['#]]))","v":""},{"$f":"IF(SUMIFS(Baza[WIN$],Baza[Столбец1],Таблица4[[#This Row],['#]])=0,\"\",SUMIFS(Baza[WIN$],Baza[Столбец1],Таблица4[[#This Row],['#]]))","v":""},{"$f":"IFERROR(IF(I35=\"\",0,I35)+IF(H35=\"\",0,H35)-D35,\"\")","v":""}]
[null,{"$f":"IFERROR(INDEX(Baza[Столбец1],SMALL(IF(SMALL(IF(COUNTIF($B$2:$B35,Baza[Столбец1])=0,COUNTIF(Baza[Столбец1],\"<\"&Baza[Столбец1])+1,\"\"),1)=COUNTIF(Baza[Столбец1],\"<\"&Baza[Столбец1])+1,ROW(Baza[Столбец1])-MIN(ROW(Baza[Столбец1]))+1),1)),\"\")","v":""},{"$f":"IF(Таблица4[[#This Row],['#]]=\"\",\"\",COUNTIFS(Baza[Столбец1],Таблица4[[#This Row],['#]])+SUMIFS(Baza[R],Baza[Столбец1],Таблица4[[#This Row],['#]]))","v":""},{"$f":"IF(Таблица4[[#This Row],['#]]=\"\",\"\",SUMIFS(Baza[B$],Baza[Столбец1],Таблица4[[#This Row],['#]]))","v":""},{"$f":"IFERROR(AVERAGEIFS(Baza[AFS],Baza[Столбец1],Таблица4[[#This Row],['#]])+(AVERAGEIFS(Baza[AFS],Baza[Столбец1],Таблица4[[#This Row],['#]])*0.2),\"\")","v":""},"",{"$f":"IFERROR(COUNTIFS(Baza[Столбец1],Таблица4[[#This Row],['#]],Baza[Win],\">0\")/C36*100,\"\")","v":""},{"$f":"IF(SUMIFS(Baza[KO$],Baza[Столбец1],Таблица4[[#This Row],['#]])=0,\"\",SUMIFS(Baza[KO$],Baza[Столбец1],Таблица4[[#This Row],['#]]))","v":""},{"$f":"IF(SUMIFS(Baza[WIN$],Baza[Столбец1],Таблица4[[#This Row],['#]])=0,\"\",SUMIFS(Baza[WIN$],Baza[Столбец1],Таблица4[[#This Row],['#]]))","v":""},""]
[null,{"$f":"IFERROR(INDEX(Baza[Столбец1],SMALL(IF(SMALL(IF(COUNTIF($B$2:$B36,Baza[Столбец1])=0,COUNTIF(Baza[Столбец1],\"<\"&Baza[Столбец1])+1,\"\"),1)=COUNTIF(Baza[Столбец1],\"<\"&Baza[Столбец1])+1,ROW(Baza[Столбец1])-MIN(ROW(Baza[Столбец1]))+1),1)),\"\")","v":""},{"$f":"IF(Таблица4[[#This Row],['#]]=\"\",\"\",COUNTIFS(Baza[Столбец1],Таблица4[[#This Row],['#]])+SUMIFS(Baza[R],Baza[Столбец1],Таблица4[[#This Row],['#]]))","v":""},{"$f":"IF(Таблица4[[#This Row],['#]]=\"\",\"\",SUMIFS(Baza[B$],Baza[Столбец1],Таблица4[[#This Row],['#]]))","v":""},{"$f":"IFERROR(AVERAGEIFS(Baza[AFS],Baza[Столбец1],Таблица4[[#This Row],['#]])+(AVERAGEIFS(Baza[AFS],Baza[Столбец1],Таблица4[[#This Row],['#]])*0.2),\"\")","v":""},"",{"$f":"IFERROR(COUNTIFS(Baza[Столбец1],Таблица4[[#This Row],['#]],Baza[Win],\">0\")/C37*100,\"\")","v":""},{"$f":"IF(SUMIFS(Baza[KO$],Baza[Столбец1],Таблица4[[#This Row],['#]])=0,\"\",SUMIFS(Baza[KO$],Baza[Столбец1],Таблица4[[#This Row],['#]]))","v":""},{"$f":"IF(SUMIFS(Baza[WIN$],Baza[Столбец1],Таблица4[[#This Row],['#]])=0,\"\",SUMIFS(Baza[WIN$],Baza[Столбец1],Таблица4[[#This Row],['#]]))","v":""},""]
[null,{"$f":"IFERROR(INDEX(Baza[Столбец1],SMALL(IF(SMALL(IF(COUNTIF($B$2:$B37,Baza[Столбец1])=0,COUNTIF(Baza[Столбец1],\"<\"&Baza[Столбец1])+1,\"\"),1)=COUNTIF(Baza[Столбец1],\"<\"&Baza[Столбец1])+1,ROW(Baza[Столбец1])-MIN(ROW(Baza[Столбец1]))+1),1)),\"\")","v":""},{"$f":"IF(Таблица4[[#This Row],['#]]=\"\",\"\",COUNTIFS(Baza[Столбец1],Таблица4[[#This Row],['#]])+SUMIFS(Baza[R],Baza[Столбец1],Таблица4[[#This Row],['#]]))","v":""},{"$f":"IF(Таблица4[[#This Row],['#]]=\"\",\"\",SUMIFS(Baza[B$],Baza[Столбец1],Таблица4[[#This Row],['#]]))","v":""},{"$f":"IFERROR(AVERAGEIFS(Baza[AFS],Baza[Столбец1],Таблица4[[#This Row],['#]])+(AVERAGEIFS(Baza[AFS],Baza[Столбец1],Таблица4[[#This Row],['#]])*0.2),\"\")","v":""},"",{"$f":"IFERROR(COUNTIFS(Baza[Столбец1],Таблица4[[#This Row],['#]],Baza[Win],\">0\")/C38*100,\"\")","v":""},{"$f":"IF(SUMIFS(Baza[KO$],Baza[Столбец1],Таблица4[[#This Row],['#]])=0,\"\",SUMIFS(Baza[KO$],Baza[Столбец1],Таблица4[[#This Row],['#]]))","v":""},{"$f":"IF(SUMIFS(Baza[WIN$],Baza[Столбец1],Таблица4[[#This Row],['#]])=0,\"\",SUMIFS(Baza[WIN$],Baza[Столбец1],Таблица4[[#This Row],['#]]))","v":""},""]
[null,{"$f":"IFERROR(INDEX(Baza[Столбец1],SMALL(IF(SMALL(IF(COUNTIF($B$2:$B38,Baza[Столбец1])=0,COUNTIF(Baza[Столбец1],\"<\"&Baza[Столбец1])+1,\"\"),1)=COUNTIF(Baza[Столбец1],\"<\"&Baza[Столбец1])+1,ROW(Baza[Столбец1])-MIN(ROW(Baza[Столбец1]))+1),1)),\"\")","v":""},{"$f":"IF(Таблица4[[#This Row],['#]]=\"\",\"\",COUNTIFS(Baza[Столбец1],Таблица4[[#This Row],['#]])+SUMIFS(Baza[R],Baza[Столбец1],Таблица4[[#This Row],['#]]))","v":""},{"$f":"IF(Таблица4[[#This Row],['#]]=\"\",\"\",SUMIFS(Baza[B$],Baza[Столбец1],Таблица4[[#This Row],['#]]))","v":""},{"$f":"IFERROR(AVERAGEIFS(Baza[AFS],Baza[Столбец1],Таблица4[[#This Row],['#]])+(AVERAGEIFS(Baza[AFS],Baza[Столбец1],Таблица4[[#This Row],['#]])*0.2),\"\")","v":""},"",{"$f":"IFERROR(COUNTIFS(Baza[Столбец1],Таблица4[[#This Row],['#]],Baza[Win],\">0\")/C39*100,\"\")","v":""},{"$f":"IF(SUMIFS(Baza[KO$],Baza[Столбец1],Таблица4[[#This Row],['#]])=0,\"\",SUMIFS(Baza[KO$],Baza[Столбец1],Таблица4[[#This Row],['#]]))","v":""},{"$f":"IF(SUMIFS(Baza[WIN$],Baza[Столбец1],Таблица4[[#This Row],['#]])=0,\"\",SUMIFS(Baza[WIN$],Baza[Столбец1],Таблица4[[#This Row],['#]]))","v":""},""]
[null,{"$f":"IFERROR(INDEX(Baza[Столбец1],SMALL(IF(SMALL(IF(COUNTIF($B$2:$B39,Baza[Столбец1])=0,COUNTIF(Baza[Столбец1],\"<\"&Baza[Столбец1])+1,\"\"),1)=COUNTIF(Baza[Столбец1],\"<\"&Baza[Столбец1])+1,ROW(Baza[Столбец1])-MIN(ROW(Baza[Столбец1]))+1),1)),\"\")","v":""},{"$f":"IF(Таблица4[[#This Row],['#]]=\"\",\"\",COUNTIFS(Baza[Столбец1],Таблица4[[#This Row],['#]])+SUMIFS(Baza[R],Baza[Столбец1],Таблица4[[#This Row],['#]]))","v":""},{"$f":"IF(Таблица4[[#This Row],['#]]=\"\",\"\",SUMIFS(Baza[B$],Baza[Столбец1],Таблица4[[#This Row],['#]]))","v":""},{"$f":"IFERROR(AVERAGEIFS(Baza[AFS],Baza[Столбец1],Таблица4[[#This Row],['#]])+(AVERAGEIFS(Baza[AFS],Baza[Столбец1],Таблица4[[#This Row],['#]])*0.2),\"\")","v":""},"",{"$f":"IFERROR(COUNTIFS(Baza[Столбец1],Таблица4[[#This Row],['#]],Baza[Win],\">0\")/C40*100,\"\")","v":""},{"$f":"IF(SUMIFS(Baza[KO$],Baza[Столбец1],Таблица4[[#This Row],['#]])=0,\"\",SUMIFS(Baza[KO$],Baza[Столбец1],Таблица4[[#This Row],['#]]))","v":""},{"$f":"IF(SUMIFS(Baza[WIN$],Baza[Столбец1],Таблица4[[#This Row],['#]])=0,\"\",SUMIFS(Baza[WIN$],Baza[Столбец1],Таблица4[[#This Row],['#]]))","v":""},""]
[null,{"$f":"IFERROR(INDEX(Baza[Столбец1],SMALL(IF(SMALL(IF(COUNTIF($B$2:$B40,Baza[Столбец1])=0,COUNTIF(Baza[Столбец1],\"<\"&Baza[Столбец1])+1,\"\"),1)=COUNTIF(Baza[Столбец1],\"<\"&Baza[Столбец1])+1,ROW(Baza[Столбец1])-MIN(ROW(Baza[Столбец1]))+1),1)),\"\")","v":""},{"$f":"IF(Таблица4[[#This Row],['#]]=\"\",\"\",COUNTIFS(Baza[Столбец1],Таблица4[[#This Row],['#]])+SUMIFS(Baza[R],Baza[Столбец1],Таблица4[[#This Row],['#]]))","v":""},{"$f":"IF(Таблица4[[#This Row],['#]]=\"\",\"\",SUMIFS(Baza[B$],Baza[Столбец1],Таблица4[[#This Row],['#]]))","v":""},{"$f":"IFERROR(AVERAGEIFS(Baza[AFS],Baza[Столбец1],Таблица4[[#This Row],['#]])+(AVERAGEIFS(Baza[AFS],Baza[Столбец1],Таблица4[[#This Row],['#]])*0.2),\"\")","v":""},"",{"$f":"IFERROR(COUNTIFS(Baza[Столбец1],Таблица4[[#This Row],['#]],Baza[Win],\">0\")/C41*100,\"\")","v":""},{"$f":"IF(SUMIFS(Baza[KO$],Baza[Столбец1],Таблица4[[#This Row],['#]])=0,\"\",SUMIFS(Baza[KO$],Baza[Столбец1],Таблица4[[#This Row],['#]]))","v":""},{"$f":"IF(SUMIFS(Baza[WIN$],Baza[Столбец1],Таблица4[[#This Row],['#]])=0,\"\",SUMIFS(Baza[WIN$],Baza[Столбец1],Таблица4[[#This Row],['#]]))","v":""},""]
[null,{"$f":"IFERROR(INDEX(Baza[Столбец1],SMALL(IF(SMALL(IF(COUNTIF($B$2:$B41,Baza[Столбец1])=0,COUNTIF(Baza[Столбец1],\"<\"&Baza[Столбец1])+1,\"\"),1)=COUNTIF(Baza[Столбец1],\"<\"&Baza[Столбец1])+1,ROW(Baza[Столбец1])-MIN(ROW(Baza[Столбец1]))+1),1)),\"\")","v":""},{"$f":"IF(Таблица4[[#This Row],['#]]=\"\",\"\",COUNTIFS(Baza[Столбец1],Таблица4[[#This Row],['#]])+SUMIFS(Baza[R],Baza[Столбец1],Таблица4[[#This Row],['#]]))","v":""},{"$f":"IF(Таблица4[[#This Row],['#]]=\"\",\"\",SUMIFS(Baza[B$],Baza[Столбец1],Таблица4[[#This Row],['#]]))","v":""},{"$f":"IFERROR(AVERAGEIFS(Baza[AFS],Baza[Столбец1],Таблица4[[#This Row],['#]])+(AVERAGEIFS(Baza[AFS],Baza[Столбец1],Таблица4[[#This Row],['#]])*0.2),\"\")","v":""},"",{"$f":"IFERROR(COUNTIFS(Baza[Столбец1],Таблица4[[#This Row],['#]],Baza[Win],\">0\")/C42*100,\"\")","v":""},{"$f":"IF(SUMIFS(Baza[KO$],Baza[Столбец1],Таблица4[[#This Row],['#]])=0,\"\",SUMIFS(Baza[KO$],Baza[Столбец1],Таблица4[[#This Row],['#]]))","v":""},{"$f":"IF(SUMIFS(Baza[WIN$],Baza[Столбец1],Таблица4[[#This Row],['#]])=0,\"\",SUMIFS(Baza[WIN$],Baza[Столбец1],Таблица4[[#This Row],['#]]))","v":""},""]
[null,{"$f":"IFERROR(INDEX(Baza[Столбец1],SMALL(IF(SMALL(IF(COUNTIF($B$2:$B42,Baza[Столбец1])=0,COUNTIF(Baza[Столбец1],\"<\"&Baza[Столбец1])+1,\"\"),1)=COUNTIF(Baza[Столбец1],\"<\"&Baza[Столбец1])+1,ROW(Baza[Столбец1])-MIN(ROW(Baza[Столбец1]))+1),1)),\"\")","v":""},{"$f":"IF(Таблица4[[#This Row],['#]]=\"\",\"\",COUNTIFS(Baza[Столбец1],Таблица4[[#This Row],['#]])+SUMIFS(Baza[R],Baza[Столбец1],Таблица4[[#This Row],['#]]))","v":""},{"$f":"IF(Таблица4[[#This Row],['#]]=\"\",\"\",SUMIFS(Baza[B$],Baza[Столбец1],Таблица4[[#This Row],['#]]))","v":""},{"$f":"IFERROR(AVERAGEIFS(Baza[AFS],Baza[Столбец1],Таблица4[[#This Row],['#]])+(AVERAGEIFS(Baza[AFS],Baza[Столбец1],Таблица4[[#This Row],['#]])*0.2),\"\")","v":""},"",{"$f":"IFERROR(COUNTIFS(Baza[Столбец1],Таблица4[[#This Row],['#]],Baza[Win],\">0\")/C43*100,\"\")","v":""},{"$f":"IF(SUMIFS(Baza[KO$],Baza[Столбец1],Таблица4[[#This Row],['#]])=0,\"\",SUMIFS(Baza[KO$],Baza[Столбец1],Таблица4[[#This Row],['#]]))","v":""},{"$f":"IF(SUMIFS(Baza[WIN$],Baza[Столбец1],Таблица4[[#This Row],['#]])=0,\"\",SUMIFS(Baza[WIN$],Baza[Столбец1],Таблица4[[#This Row],['#]]))","v":""},""]
[null,{"$f":"IFERROR(INDEX(Baza[Столбец1],SMALL(IF(SMALL(IF(COUNTIF($B$2:$B43,Baza[Столбец1])=0,COUNTIF(Baza[Столбец1],\"<\"&Baza[Столбец1])+1,\"\"),1)=COUNTIF(Baza[Столбец1],\"<\"&Baza[Столбец1])+1,ROW(Baza[Столбец1])-MIN(ROW(Baza[Столбец1]))+1),1)),\"\")","v":""},{"$f":"IF(Таблица4[[#This Row],['#]]=\"\",\"\",COUNTIFS(Baza[Столбец1],Таблица4[[#This Row],['#]])+SUMIFS(Baza[R],Baza[Столбец1],Таблица4[[#This Row],['#]]))","v":""},{"$f":"IF(Таблица4[[#This Row],['#]]=\"\",\"\",SUMIFS(Baza[B$],Baza[Столбец1],Таблица4[[#This Row],['#]]))","v":""},{"$f":"IFERROR(AVERAGEIFS(Baza[AFS],Baza[Столбец1],Таблица4[[#This Row],['#]])+(AVERAGEIFS(Baza[AFS],Baza[Столбец1],Таблица4[[#This Row],['#]])*0.2),\"\")","v":""},"",{"$f":"IFERROR(COUNTIFS(Baza[Столбец1],Таблица4[[#This Row],['#]],Baza[Win],\">0\")/C44*100,\"\")","v":""},{"$f":"IF(SUMIFS(Baza[KO$],Baza[Столбец1],Таблица4[[#This Row],['#]])=0,\"\",SUMIFS(Baza[KO$],Baza[Столбец1],Таблица4[[#This Row],['#]]))","v":""},{"$f":"IF(SUMIFS(Baza[WIN$],Baza[Столбец1],Таблица4[[#This Row],['#]])=0,\"\",SUMIFS(Baza[WIN$],Baza[Столбец1],Таблица4[[#This Row],['#]]))","v":""},""]
[null,{"$f":"IFERROR(INDEX(Baza[Столбец1],SMALL(IF(SMALL(IF(COUNTIF($B$2:$B44,Baza[Столбец1])=0,COUNTIF(Baza[Столбец1],\"<\"&Baza[Столбец1])+1,\"\"),1)=COUNTIF(Baza[Столбец1],\"<\"&Baza[Столбец1])+1,ROW(Baza[Столбец1])-MIN(ROW(Baza[Столбец1]))+1),1)),\"\")","v":""},{"$f":"IF(Таблица4[[#This Row],['#]]=\"\",\"\",COUNTIFS(Baza[Столбец1],Таблица4[[#This Row],['#]])+SUMIFS(Baza[R],Baza[Столбец1],Таблица4[[#This Row],['#]]))","v":""},{"$f":"IF(Таблица4[[#This Row],['#]]=\"\",\"\",SUMIFS(Baza[B$],Baza[Столбец1],Таблица4[[#This Row],['#]]))","v":""},{"$f":"IFERROR(AVERAGEIFS(Baza[AFS],Baza[Столбец1],Таблица4[[#This Row],['#]])+(AVERAGEIFS(Baza[AFS],Baza[Столбец1],Таблица4[[#This Row],['#]])*0.2),\"\")","v":""},"",{"$f":"IFERROR(COUNTIFS(Baza[Столбец1],Таблица4[[#This Row],['#]],Baza[Win],\">0\")/C45*100,\"\")","v":""},{"$f":"IF(SUMIFS(Baza[KO$],Baza[Столбец1],Таблица4[[#This Row],['#]])=0,\"\",SUMIFS(Baza[KO$],Baza[Столбец1],Таблица4[[#This Row],['#]]))","v":""},{"$f":"IF(SUMIFS(Baza[WIN$],Baza[Столбец1],Таблица4[[#This Row],['#]])=0,\"\",SUMIFS(Baza[WIN$],Baza[Столбец1],Таблица4[[#This Row],['#]]))","v":""},""]
[null,{"$f":"IFERROR(INDEX(Baza[Столбец1],SMALL(IF(SMALL(IF(COUNTIF($B$2:$B45,Baza[Столбец1])=0,COUNTIF(Baza[Столбец1],\"<\"&Baza[Столбец1])+1,\"\"),1)=COUNTIF(Baza[Столбец1],\"<\"&Baza[Столбец1])+1,ROW(Baza[Столбец1])-MIN(ROW(Baza[Столбец1]))+1),1)),\"\")","v":""},{"$f":"IF(Таблица4[[#This Row],['#]]=\"\",\"\",COUNTIFS(Baza[Столбец1],Таблица4[[#This Row],['#]])+SUMIFS(Baza[R],Baza[Столбец1],Таблица4[[#This Row],['#]]))","v":""},{"$f":"IF(Таблица4[[#This Row],['#]]=\"\",\"\",SUMIFS(Baza[B$],Baza[Столбец1],Таблица4[[#This Row],['#]]))","v":""},{"$f":"IFERROR(AVERAGEIFS(Baza[AFS],Baza[Столбец1],Таблица4[[#This Row],['#]])+(AVERAGEIFS(Baza[AFS],Baza[Столбец1],Таблица4[[#This Row],['#]])*0.2),\"\")","v":""},"",{"$f":"IFERROR(COUNTIFS(Baza[Столбец1],Таблица4[[#This Row],['#]],Baza[Win],\">0\")/C46*100,\"\")","v":""},{"$f":"IF(SUMIFS(Baza[KO$],Baza[Столбец1],Таблица4[[#This Row],['#]])=0,\"\",SUMIFS(Baza[KO$],Baza[Столбец1],Таблица4[[#This Row],['#]]))","v":""},{"$f":"IF(SUMIFS(Baza[WIN$],Baza[Столбец1],Таблица4[[#This Row],['#]])=0,\"\",SUMIFS(Baza[WIN$],Baza[Столбец1],Таблица4[[#This Row],['#]]))","v":""},""]
[null,{"$f":"IFERROR(INDEX(Baza[Столбец1],SMALL(IF(SMALL(IF(COUNTIF($B$2:$B46,Baza[Столбец1])=0,COUNTIF(Baza[Столбец1],\"<\"&Baza[Столбец1])+1,\"\"),1)=COUNTIF(Baza[Столбец1],\"<\"&Baza[Столбец1])+1,ROW(Baza[Столбец1])-MIN(ROW(Baza[Столбец1]))+1),1)),\"\")","v":""},{"$f":"IF(Таблица4[[#This Row],['#]]=\"\",\"\",COUNTIFS(Baza[Столбец1],Таблица4[[#This Row],['#]])+SUMIFS(Baza[R],Baza[Столбец1],Таблица4[[#This Row],['#]]))","v":""},{"$f":"IF(Таблица4[[#This Row],['#]]=\"\",\"\",SUMIFS(Baza[B$],Baza[Столбец1],Таблица4[[#This Row],['#]]))","v":""},{"$f":"IFERROR(AVERAGEIFS(Baza[AFS],Baza[Столбец1],Таблица4[[#This Row],['#]])+(AVERAGEIFS(Baza[AFS],Baza[Столбец1],Таблица4[[#This Row],['#]])*0.2),\"\")","v":""},"",{"$f":"IFERROR(COUNTIFS(Baza[Столбец1],Таблица4[[#This Row],['#]],Baza[Win],\">0\")/C47*100,\"\")","v":""},{"$f":"IF(SUMIFS(Baza[KO$],Baza[Столбец1],Таблица4[[#This Row],['#]])=0,\"\",SUMIFS(Baza[KO$],Baza[Столбец1],Таблица4[[#This Row],['#]]))","v":""},{"$f":"IF(SUMIFS(Baza[WIN$],Baza[Столбец1],Таблица4[[#This Row],['#]])=0,\"\",SUMIFS(Baza[WIN$],Baza[Столбец1],Таблица4[[#This Row],['#]]))","v":""},""]
[null,{"$f":"IFERROR(INDEX(Baza[Столбец1],SMALL(IF(SMALL(IF(COUNTIF($B$2:$B47,Baza[Столбец1])=0,COUNTIF(Baza[Столбец1],\"<\"&Baza[Столбец1])+1,\"\"),1)=COUNTIF(Baza[Столбец1],\"<\"&Baza[Столбец1])+1,ROW(Baza[Столбец1])-MIN(ROW(Baza[Столбец1]))+1),1)),\"\")","v":""},{"$f":"IF(Таблица4[[#This Row],['#]]=\"\",\"\",COUNTIFS(Baza[Столбец1],Таблица4[[#This Row],['#]])+SUMIFS(Baza[R],Baza[Столбец1],Таблица4[[#This Row],['#]]))","v":""},{"$f":"IF(Таблица4[[#This Row],['#]]=\"\",\"\",SUMIFS(Baza[B$],Baza[Столбец1],Таблица4[[#This Row],['#]]))","v":""},{"$f":"IFERROR(AVERAGEIFS(Baza[AFS],Baza[Столбец1],Таблица4[[#This Row],['#]])+(AVERAGEIFS(Baza[AFS],Baza[Столбец1],Таблица4[[#This Row],['#]])*0.2),\"\")","v":""},"",{"$f":"IFERROR(COUNTIFS(Baza[Столбец1],Таблица4[[#This Row],['#]],Baza[Win],\">0\")/C48*100,\"\")","v":""},{"$f":"IF(SUMIFS(Baza[KO$],Baza[Столбец1],Таблица4[[#This Row],['#]])=0,\"\",SUMIFS(Baza[KO$],Baza[Столбец1],Таблица4[[#This Row],['#]]))","v":""},{"$f":"IF(SUMIFS(Baza[WIN$],Baza[Столбец1],Таблица4[[#This Row],['#]])=0,\"\",SUMIFS(Baza[WIN$],Baza[Столбец1],Таблица4[[#This Row],['#]]))","v":""},""]
[null,{"$f":"IFERROR(INDEX(Baza[Столбец1],SMALL(IF(SMALL(IF(COUNTIF($B$2:$B48,Baza[Столбец1])=0,COUNTIF(Baza[Столбец1],\"<\"&Baza[Столбец1])+1,\"\"),1)=COUNTIF(Baza[Столбец1],\"<\"&Baza[Столбец1])+1,ROW(Baza[Столбец1])-MIN(ROW(Baza[Столбец1]))+1),1)),\"\")","v":""},{"$f":"IF(Таблица4[[#This Row],['#]]=\"\",\"\",COUNTIFS(Baza[Столбец1],Таблица4[[#This Row],['#]])+SUMIFS(Baza[R],Baza[Столбец1],Таблица4[[#This Row],['#]]))","v":""},{"$f":"IF(Таблица4[[#This Row],['#]]=\"\",\"\",SUMIFS(Baza[B$],Baza[Столбец1],Таблица4[[#This Row],['#]]))","v":""},{"$f":"IFERROR(AVERAGEIFS(Baza[AFS],Baza[Столбец1],Таблица4[[#This Row],['#]])+(AVERAGEIFS(Baza[AFS],Baza[Столбец1],Таблица4[[#This Row],['#]])*0.2),\"\")","v":""},"",{"$f":"IFERROR(COUNTIFS(Baza[Столбец1],Таблица4[[#This Row],['#]],Baza[Win],\">0\")/C49*100,\"\")","v":""},{"$f":"IF(SUMIFS(Baza[KO$],Baza[Столбец1],Таблица4[[#This Row],['#]])=0,\"\",SUMIFS(Baza[KO$],Baza[Столбец1],Таблица4[[#This Row],['#]]))","v":""},{"$f":"IF(SUMIFS(Baza[WIN$],Baza[Столбец1],Таблица4[[#This Row],['#]])=0,\"\",SUMIFS(Baza[WIN$],Baza[Столбец1],Таблица4[[#This Row],['#]]))","v":""},""]
[null,{"$f":"IFERROR(INDEX(Baza[Столбец1],SMALL(IF(SMALL(IF(COUNTIF($B$2:$B49,Baza[Столбец1])=0,COUNTIF(Baza[Столбец1],\"<\"&Baza[Столбец1])+1,\"\"),1)=COUNTIF(Baza[Столбец1],\"<\"&Baza[Столбец1])+1,ROW(Baza[Столбец1])-MIN(ROW(Baza[Столбец1]))+1),1)),\"\")","v":""},{"$f":"IF(Таблица4[[#This Row],['#]]=\"\",\"\",COUNTIFS(Baza[Столбец1],Таблица4[[#This Row],['#]])+SUMIFS(Baza[R],Baza[Столбец1],Таблица4[[#This Row],['#]]))","v":""},{"$f":"IF(Таблица4[[#This Row],['#]]=\"\",\"\",SUMIFS(Baza[B$],Baza[Столбец1],Таблица4[[#This Row],['#]]))","v":""},{"$f":"IFERROR(AVERAGEIFS(Baza[AFS],Baza[Столбец1],Таблица4[[#This Row],['#]])+(AVERAGEIFS(Baza[AFS],Baza[Столбец1],Таблица4[[#This Row],['#]])*0.2),\"\")","v":""},"",{"$f":"IFERROR(COUNTIFS(Baza[Столбец1],Таблица4[[#This Row],['#]],Baza[Win],\">0\")/C50*100,\"\")","v":""},{"$f":"IF(SUMIFS(Baza[KO$],Baza[Столбец1],Таблица4[[#This Row],['#]])=0,\"\",SUMIFS(Baza[KO$],Baza[Столбец1],Таблица4[[#This Row],['#]]))","v":""},{"$f":"IF(SUMIFS(Baza[WIN$],Baza[Столбец1],Таблица4[[#This Row],['#]])=0,\"\",SUMIFS(Baza[WIN$],Baza[Столбец1],Таблица4[[#This Row],['#]]))","v":""},""]
[null,{"$f":"IFERROR(INDEX(Baza[Столбец1],SMALL(IF(SMALL(IF(COUNTIF($B$2:$B50,Baza[Столбец1])=0,COUNTIF(Baza[Столбец1],\"<\"&Baza[Столбец1])+1,\"\"),1)=COUNTIF(Baza[Столбец1],\"<\"&Baza[Столбец1])+1,ROW(Baza[Столбец1])-MIN(ROW(Baza[Столбец1]))+1),1)),\"\")","v":""},{"$f":"IF(Таблица4[[#This Row],['#]]=\"\",\"\",COUNTIFS(Baza[Столбец1],Таблица4[[#This Row],['#]])+SUMIFS(Baza[R],Baza[Столбец1],Таблица4[[#This Row],['#]]))","v":""},{"$f":"IF(Таблица4[[#This Row],['#]]=\"\",\"\",SUMIFS(Baza[B$],Baza[Столбец1],Таблица4[[#This Row],['#]]))","v":""},{"$f":"IFERROR(AVERAGEIFS(Baza[AFS],Baza[Столбец1],Таблица4[[#This Row],['#]])+(AVERAGEIFS(Baza[AFS],Baza[Столбец1],Таблица4[[#This Row],['#]])*0.2),\"\")","v":""},"",{"$f":"IFERROR(COUNTIFS(Baza[Столбец1],Таблица4[[#This Row],['#]],Baza[Win],\">0\")/C51*100,\"\")","v":""},{"$f":"IF(SUMIFS(Baza[KO$],Baza[Столбец1],Таблица4[[#This Row],['#]])=0,\"\",SUMIFS(Baza[KO$],Baza[Столбец1],Таблица4[[#This Row],['#]]))","v":""},{"$f":"IF(SUMIFS(Baza[WIN$],Baza[Столбец1],Таблица4[[#This Row],['#]])=0,\"\",SUMIFS(Baza[WIN$],Baza[Столбец1],Таблица4[[#This Row],['#]]))","v":""},""]
[null,{"$f":"IFERROR(INDEX(Baza[Столбец1],SMALL(IF(SMALL(IF(COUNTIF($B$2:$B51,Baza[Столбец1])=0,COUNTIF(Baza[Столбец1],\"<\"&Baza[Столбец1])+1,\"\"),1)=COUNTIF(Baza[Столбец1],\"<\"&Baza[Столбец1])+1,ROW(Baza[Столбец1])-MIN(ROW(Baza[Столбец1]))+1),1)),\"\")","v":""},{"$f":"IF(Таблица4[[#This Row],['#]]=\"\",\"\",COUNTIFS(Baza[Столбец1],Таблица4[[#This Row],['#]])+SUMIFS(Baza[R],Baza[Столбец1],Таблица4[[#This Row],['#]]))","v":""},{"$f":"IF(Таблица4[[#This Row],['#]]=\"\",\"\",SUMIFS(Baza[B$],Baza[Столбец1],Таблица4[[#This Row],['#]]))","v":""},{"$f":"IFERROR(AVERAGEIFS(Baza[AFS],Baza[Столбец1],Таблица4[[#This Row],['#]])+(AVERAGEIFS(Baza[AFS],Baza[Столбец1],Таблица4[[#This Row],['#]])*0.2),\"\")","v":""},"",{"$f":"IFERROR(COUNTIFS(Baza[Столбец1],Таблица4[[#This Row],['#]],Baza[Win],\">0\")/C52*100,\"\")","v":""},{"$f":"IF(SUMIFS(Baza[KO$],Baza[Столбец1],Таблица4[[#This Row],['#]])=0,\"\",SUMIFS(Baza[KO$],Baza[Столбец1],Таблица4[[#This Row],['#]]))","v":""},{"$f":"IF(SUMIFS(Baza[WIN$],Baza[Столбец1],Таблица4[[#This Row],['#]])=0,\"\",SUMIFS(Baza[WIN$],Baza[Столбец1],Таблица4[[#This Row],['#]]))","v":""},""]
[null,{"$f":"IFERROR(INDEX(Baza[Столбец1],SMALL(IF(SMALL(IF(COUNTIF($B$2:$B52,Baza[Столбец1])=0,COUNTIF(Baza[Столбец1],\"<\"&Baza[Столбец1])+1,\"\"),1)=COUNTIF(Baza[Столбец1],\"<\"&Baza[Столбец1])+1,ROW(Baza[Столбец1])-MIN(ROW(Baza[Столбец1]))+1),1)),\"\")","v":""},{"$f":"IF(Таблица4[[#This Row],['#]]=\"\",\"\",COUNTIFS(Baza[Столбец1],Таблица4[[#This Row],['#]])+SUMIFS(Baza[R],Baza[Столбец1],Таблица4[[#This Row],['#]]))","v":""},{"$f":"IF(Таблица4[[#This Row],['#]]=\"\",\"\",SUMIFS(Baza[B$],Baza[Столбец1],Таблица4[[#This Row],['#]]))","v":""},{"$f":"IFERROR(AVERAGEIFS(Baza[AFS],Baza[Столбец1],Таблица4[[#This Row],['#]])+(AVERAGEIFS(Baza[AFS],Baza[Столбец1],Таблица4[[#This Row],['#]])*0.2),\"\")","v":""},"",{"$f":"IFERROR(COUNTIFS(Baza[Столбец1],Таблица4[[#This Row],['#]],Baza[Win],\">0\")/C53*100,\"\")","v":""},{"$f":"IF(SUMIFS(Baza[KO$],Baza[Столбец1],Таблица4[[#This Row],['#]])=0,\"\",SUMIFS(Baza[KO$],Baza[Столбец1],Таблица4[[#This Row],['#]]))","v":""},{"$f":"IF(SUMIFS(Baza[WIN$],Baza[Столбец1],Таблица4[[#This Row],['#]])=0,\"\",SUMIFS(Baza[WIN$],Baza[Столбец1],Таблица4[[#This Row],['#]]))","v":""},""]
[null,{"$f":"IFERROR(INDEX(Baza[Столбец1],SMALL(IF(SMALL(IF(COUNTIF($B$2:$B53,Baza[Столбец1])=0,COUNTIF(Baza[Столбец1],\"<\"&Baza[Столбец1])+1,\"\"),1)=COUNTIF(Baza[Столбец1],\"<\"&Baza[Столбец1])+1,ROW(Baza[Столбец1])-MIN(ROW(Baza[Столбец1]))+1),1)),\"\")","v":""},{"$f":"IF(Таблица4[[#This Row],['#]]=\"\",\"\",COUNTIFS(Baza[Столбец1],Таблица4[[#This Row],['#]])+SUMIFS(Baza[R],Baza[Столбец1],Таблица4[[#This Row],['#]]))","v":""},{"$f":"IF(Таблица4[[#This Row],['#]]=\"\",\"\",SUMIFS(Baza[B$],Baza[Столбец1],Таблица4[[#This Row],['#]]))","v":""},{"$f":"IFERROR(AVERAGEIFS(Baza[AFS],Baza[Столбец1],Таблица4[[#This Row],['#]])+(AVERAGEIFS(Baza[AFS],Baza[Столбец1],Таблица4[[#This Row],['#]])*0.2),\"\")","v":""},"",{"$f":"IFERROR(COUNTIFS(Baza[Столбец1],Таблица4[[#This Row],['#]],Baza[Win],\">0\")/C54*100,\"\")","v":""},{"$f":"IF(SUMIFS(Baza[KO$],Baza[Столбец1],Таблица4[[#This Row],['#]])=0,\"\",SUMIFS(Baza[KO$],Baza[Столбец1],Таблица4[[#This Row],['#]]))","v":""},{"$f":"IF(SUMIFS(Baza[WIN$],Baza[Столбец1],Таблица4[[#This Row],['#]])=0,\"\",SUMIFS(Baza[WIN$],Baza[Столбец1],Таблица4[[#This Row],['#]]))","v":""},""]
[null,{"$f":"IFERROR(INDEX(Baza[Столбец1],SMALL(IF(SMALL(IF(COUNTIF($B$2:$B54,Baza[Столбец1])=0,COUNTIF(Baza[Столбец1],\"<\"&Baza[Столбец1])+1,\"\"),1)=COUNTIF(Baza[Столбец1],\"<\"&Baza[Столбец1])+1,ROW(Baza[Столбец1])-MIN(ROW(Baza[Столбец1]))+1),1)),\"\")","v":""},{"$f":"IF(Таблица4[[#This Row],['#]]=\"\",\"\",COUNTIFS(Baza[Столбец1],Таблица4[[#This Row],['#]])+SUMIFS(Baza[R],Baza[Столбец1],Таблица4[[#This Row],['#]]))","v":""},{"$f":"IF(Таблица4[[#This Row],['#]]=\"\",\"\",SUMIFS(Baza[B$],Baza[Столбец1],Таблица4[[#This Row],['#]]))","v":""},{"$f":"IFERROR(AVERAGEIFS(Baza[AFS],Baza[Столбец1],Таблица4[[#This Row],['#]])+(AVERAGEIFS(Baza[AFS],Baza[Столбец1],Таблица4[[#This Row],['#]])*0.2),\"\")","v":""},"",{"$f":"IFERROR(COUNTIFS(Baza[Столбец1],Таблица4[[#This Row],['#]],Baza[Win],\">0\")/C55*100,\"\")","v":""},{"$f":"IF(SUMIFS(Baza[KO$],Baza[Столбец1],Таблица4[[#This Row],['#]])=0,\"\",SUMIFS(Baza[KO$],Baza[Столбец1],Таблица4[[#This Row],['#]]))","v":""},{"$f":"IF(SUMIFS(Baza[WIN$],Baza[Столбец1],Таблица4[[#This Row],['#]])=0,\"\",SUMIFS(Baza[WIN$],Baza[Столбец1],Таблица4[[#This Row],['#]]))","v":""},""]
[null,{"$f":"IFERROR(INDEX(Baza[Столбец1],SMALL(IF(SMALL(IF(COUNTIF($B$2:$B55,Baza[Столбец1])=0,COUNTIF(Baza[Столбец1],\"<\"&Baza[Столбец1])+1,\"\"),1)=COUNTIF(Baza[Столбец1],\"<\"&Baza[Столбец1])+1,ROW(Baza[Столбец1])-MIN(ROW(Baza[Столбец1]))+1),1)),\"\")","v":""},{"$f":"IF(Таблица4[[#This Row],['#]]=\"\",\"\",COUNTIFS(Baza[Столбец1],Таблица4[[#This Row],['#]])+SUMIFS(Baza[R],Baza[Столбец1],Таблица4[[#This Row],['#]]))","v":""},{"$f":"IF(Таблица4[[#This Row],['#]]=\"\",\"\",SUMIFS(Baza[B$],Baza[Столбец1],Таблица4[[#This Row],['#]]))","v":""},{"$f":"IFERROR(AVERAGEIFS(Baza[AFS],Baza[Столбец1],Таблица4[[#This Row],['#]])+(AVERAGEIFS(Baza[AFS],Baza[Столбец1],Таблица4[[#This Row],['#]])*0.2),\"\")","v":""},"",{"$f":"IFERROR(COUNTIFS(Baza[Столбец1],Таблица4[[#This Row],['#]],Baza[Win],\">0\")/C56*100,\"\")","v":""},{"$f":"IF(SUMIFS(Baza[KO$],Baza[Столбец1],Таблица4[[#This Row],['#]])=0,\"\",SUMIFS(Baza[KO$],Baza[Столбец1],Таблица4[[#This Row],['#]]))","v":""},{"$f":"IF(SUMIFS(Baza[WIN$],Baza[Столбец1],Таблица4[[#This Row],['#]])=0,\"\",SUMIFS(Baza[WIN$],Baza[Столбец1],Таблица4[[#This Row],['#]]))","v":""},""]
[null,{"$f":"IFERROR(INDEX(Baza[Столбец1],SMALL(IF(SMALL(IF(COUNTIF($B$2:$B56,Baza[Столбец1])=0,COUNTIF(Baza[Столбец1],\"<\"&Baza[Столбец1])+1,\"\"),1)=COUNTIF(Baza[Столбец1],\"<\"&Baza[Столбец1])+1,ROW(Baza[Столбец1])-MIN(ROW(Baza[Столбец1]))+1),1)),\"\")","v":""},{"$f":"IF(Таблица4[[#This Row],['#]]=\"\",\"\",COUNTIFS(Baza[Столбец1],Таблица4[[#This Row],['#]])+SUMIFS(Baza[R],Baza[Столбец1],Таблица4[[#This Row],['#]]))","v":""},{"$f":"IF(Таблица4[[#This Row],['#]]=\"\",\"\",SUMIFS(Baza[B$],Baza[Столбец1],Таблица4[[#This Row],['#]]))","v":""},{"$f":"IFERROR(AVERAGEIFS(Baza[AFS],Baza[Столбец1],Таблица4[[#This Row],['#]])+(AVERAGEIFS(Baza[AFS],Baza[Столбец1],Таблица4[[#This Row],['#]])*0.2),\"\")","v":""},"",{"$f":"IFERROR(COUNTIFS(Baza[Столбец1],Таблица4[[#This Row],['#]],Baza[Win],\">0\")/C57*100,\"\")","v":""},{"$f":"IF(SUMIFS(Baza[KO$],Baza[Столбец1],Таблица4[[#This Row],['#]])=0,\"\",SUMIFS(Baza[KO$],Baza[Столбец1],Таблица4[[#This Row],['#]]))","v":""},{"$f":"IF(SUMIFS(Baza[WIN$],Baza[Столбец1],Таблица4[[#This Row],['#]])=0,\"\",SUMIFS(Baza[WIN$],Baza[Столбец1],Таблица4[[#This Row],['#]]))","v":""},""]
[null,{"$f":"IFERROR(INDEX(Baza[Столбец1],SMALL(IF(SMALL(IF(COUNTIF($B$2:$B57,Baza[Столбец1])=0,COUNTIF(Baza[Столбец1],\"<\"&Baza[Столбец1])+1,\"\"),1)=COUNTIF(Baza[Столбец1],\"<\"&Baza[Столбец1])+1,ROW(Baza[Столбец1])-MIN(ROW(Baza[Столбец1]))+1),1)),\"\")","v":""},{"$f":"IF(Таблица4[[#This Row],['#]]=\"\",\"\",COUNTIFS(Baza[Столбец1],Таблица4[[#This Row],['#]])+SUMIFS(Baza[R],Baza[Столбец1],Таблица4[[#This Row],['#]]))","v":""},{"$f":"IF(Таблица4[[#This Row],['#]]=\"\",\"\",SUMIFS(Baza[B$],Baza[Столбец1],Таблица4[[#This Row],['#]]))","v":""},{"$f":"IFERROR(AVERAGEIFS(Baza[AFS],Baza[Столбец1],Таблица4[[#This Row],['#]])+(AVERAGEIFS(Baza[AFS],Baza[Столбец1],Таблица4[[#This Row],['#]])*0.2),\"\")","v":""},"",{"$f":"IFERROR(COUNTIFS(Baza[Столбец1],Таблица4[[#This Row],['#]],Baza[Win],\">0\")/C58*100,\"\")","v":""},{"$f":"IF(SUMIFS(Baza[KO$],Baza[Столбец1],Таблица4[[#This Row],['#]])=0,\"\",SUMIFS(Baza[KO$],Baza[Столбец1],Таблица4[[#This Row],['#]]))","v":""},{"$f":"IF(SUMIFS(Baza[WIN$],Baza[Столбец1],Таблица4[[#This Row],['#]])=0,\"\",SUMIFS(Baza[WIN$],Baza[Столбец1],Таблица4[[#This Row],['#]]))","v":""},""]
[null,{"$f":"IFERROR(INDEX(Baza[Столбец1],SMALL(IF(SMALL(IF(COUNTIF($B$2:$B58,Baza[Столбец1])=0,COUNTIF(Baza[Столбец1],\"<\"&Baza[Столбец1])+1,\"\"),1)=COUNTIF(Baza[Столбец1],\"<\"&Baza[Столбец1])+1,ROW(Baza[Столбец1])-MIN(ROW(Baza[Столбец1]))+1),1)),\"\")","v":""},{"$f":"IF(Таблица4[[#This Row],['#]]=\"\",\"\",COUNTIFS(Baza[Столбец1],Таблица4[[#This Row],['#]])+SUMIFS(Baza[R],Baza[Столбец1],Таблица4[[#This Row],['#]]))","v":""},{"$f":"IF(Таблица4[[#This Row],['#]]=\"\",\"\",SUMIFS(Baza[B$],Baza[Столбец1],Таблица4[[#This Row],['#]]))","v":""},{"$f":"IFERROR(AVERAGEIFS(Baza[AFS],Baza[Столбец1],Таблица4[[#This Row],['#]])+(AVERAGEIFS(Baza[AFS],Baza[Столбец1],Таблица4[[#This Row],['#]])*0.2),\"\")","v":""},"",{"$f":"IFERROR(COUNTIFS(Baza[Столбец1],Таблица4[[#This Row],['#]],Baza[Win],\">0\")/C59*100,\"\")","v":""},{"$f":"IF(SUMIFS(Baza[KO$],Baza[Столбец1],Таблица4[[#This Row],['#]])=0,\"\",SUMIFS(Baza[KO$],Baza[Столбец1],Таблица4[[#This Row],['#]]))","v":""},{"$f":"IF(SUMIFS(Baza[WIN$],Baza[Столбец1],Таблица4[[#This Row],['#]])=0,\"\",SUMIFS(Baza[WIN$],Baza[Столбец1],Таблица4[[#This Row],['#]]))","v":""},""]
[null,{"$f":"IFERROR(INDEX(Baza[Столбец1],SMALL(IF(SMALL(IF(COUNTIF($B$2:$B59,Baza[Столбец1])=0,COUNTIF(Baza[Столбец1],\"<\"&Baza[Столбец1])+1,\"\"),1)=COUNTIF(Baza[Столбец1],\"<\"&Baza[Столбец1])+1,ROW(Baza[Столбец1])-MIN(ROW(Baza[Столбец1]))+1),1)),\"\")","v":""},{"$f":"IF(Таблица4[[#This Row],['#]]=\"\",\"\",COUNTIFS(Baza[Столбец1],Таблица4[[#This Row],['#]])+SUMIFS(Baza[R],Baza[Столбец1],Таблица4[[#This Row],['#]]))","v":""},{"$f":"IF(Таблица4[[#This Row],['#]]=\"\",\"\",SUMIFS(Baza[B$],Baza[Столбец1],Таблица4[[#This Row],['#]]))","v":""},{"$f":"IFERROR(AVERAGEIFS(Baza[AFS],Baza[Столбец1],Таблица4[[#This Row],['#]])+(AVERAGEIFS(Baza[AFS],Baza[Столбец1],Таблица4[[#This Row],['#]])*0.2),\"\")","v":""},"",{"$f":"IFERROR(COUNTIFS(Baza[Столбец1],Таблица4[[#This Row],['#]],Baza[Win],\">0\")/C60*100,\"\")","v":""},{"$f":"IF(SUMIFS(Baza[KO$],Baza[Столбец1],Таблица4[[#This Row],['#]])=0,\"\",SUMIFS(Baza[KO$],Baza[Столбец1],Таблица4[[#This Row],['#]]))","v":""},{"$f":"IF(SUMIFS(Baza[WIN$],Baza[Столбец1],Таблица4[[#This Row],['#]])=0,\"\",SUMIFS(Baza[WIN$],Baza[Столбец1],Таблица4[[#This Row],['#]]))","v":""},""]
[null,{"$f":"IFERROR(INDEX(Baza[Столбец1],SMALL(IF(SMALL(IF(COUNTIF($B$2:$B60,Baza[Столбец1])=0,COUNTIF(Baza[Столбец1],\"<\"&Baza[Столбец1])+1,\"\"),1)=COUNTIF(Baza[Столбец1],\"<\"&Baza[Столбец1])+1,ROW(Baza[Столбец1])-MIN(ROW(Baza[Столбец1]))+1),1)),\"\")","v":""},{"$f":"IF(Таблица4[[#This Row],['#]]=\"\",\"\",COUNTIFS(Baza[Столбец1],Таблица4[[#This Row],['#]])+SUMIFS(Baza[R],Baza[Столбец1],Таблица4[[#This Row],['#]]))","v":""},{"$f":"IF(Таблица4[[#This Row],['#]]=\"\",\"\",SUMIFS(Baza[B$],Baza[Столбец1],Таблица4[[#This Row],['#]]))","v":""},{"$f":"IFERROR(AVERAGEIFS(Baza[AFS],Baza[Столбец1],Таблица4[[#This Row],['#]])+(AVERAGEIFS(Baza[AFS],Baza[Столбец1],Таблица4[[#This Row],['#]])*0.2),\"\")","v":""},"",{"$f":"IFERROR(COUNTIFS(Baza[Столбец1],Таблица4[[#This Row],['#]],Baza[Win],\">0\")/C61*100,\"\")","v":""},{"$f":"IF(SUMIFS(Baza[KO$],Baza[Столбец1],Таблица4[[#This Row],['#]])=0,\"\",SUMIFS(Baza[KO$],Baza[Столбец1],Таблица4[[#This Row],['#]]))","v":""},{"$f":"IF(SUMIFS(Baza[WIN$],Baza[Столбец1],Таблица4[[#This Row],['#]])=0,\"\",SUMIFS(Baza[WIN$],Baza[Столбец1],Таблица4[[#This Row],['#]]))","v":""},""]
[null,{"$f":"IFERROR(INDEX(Baza[Столбец1],SMALL(IF(SMALL(IF(COUNTIF($B$2:$B61,Baza[Столбец1])=0,COUNTIF(Baza[Столбец1],\"<\"&Baza[Столбец1])+1,\"\"),1)=COUNTIF(Baza[Столбец1],\"<\"&Baza[Столбец1])+1,ROW(Baza[Столбец1])-MIN(ROW(Baza[Столбец1]))+1),1)),\"\")","v":""},{"$f":"IF(Таблица4[[#This Row],['#]]=\"\",\"\",COUNTIFS(Baza[Столбец1],Таблица4[[#This Row],['#]])+SUMIFS(Baza[R],Baza[Столбец1],Таблица4[[#This Row],['#]]))","v":""},{"$f":"IF(Таблица4[[#This Row],['#]]=\"\",\"\",SUMIFS(Baza[B$],Baza[Столбец1],Таблица4[[#This Row],['#]]))","v":""},{"$f":"IFERROR(AVERAGEIFS(Baza[AFS],Baza[Столбец1],Таблица4[[#This Row],['#]])+(AVERAGEIFS(Baza[AFS],Baza[Столбец1],Таблица4[[#This Row],['#]])*0.2),\"\")","v":""},"",{"$f":"IFERROR(COUNTIFS(Baza[Столбец1],Таблица4[[#This Row],['#]],Baza[Win],\">0\")/C62*100,\"\")","v":""},{"$f":"IF(SUMIFS(Baza[KO$],Baza[Столбец1],Таблица4[[#This Row],['#]])=0,\"\",SUMIFS(Baza[KO$],Baza[Столбец1],Таблица4[[#This Row],['#]]))","v":""},{"$f":"IF(SUMIFS(Baza[WIN$],Baza[Столбец1],Таблица4[[#This Row],['#]])=0,\"\",SUMIFS(Baza[WIN$],Baza[Столбец1],Таблица4[[#This Row],['#]]))","v":""},""]
[null,{"$f":"IFERROR(INDEX(Baza[Столбец1],SMALL(IF(SMALL(IF(COUNTIF($B$2:$B62,Baza[Столбец1])=0,COUNTIF(Baza[Столбец1],\"<\"&Baza[Столбец1])+1,\"\"),1)=COUNTIF(Baza[Столбец1],\"<\"&Baza[Столбец1])+1,ROW(Baza[Столбец1])-MIN(ROW(Baza[Столбец1]))+1),1)),\"\")","v":""},{"$f":"IF(Таблица4[[#This Row],['#]]=\"\",\"\",COUNTIFS(Baza[Столбец1],Таблица4[[#This Row],['#]])+SUMIFS(Baza[R],Baza[Столбец1],Таблица4[[#This Row],['#]]))","v":""},{"$f":"IF(Таблица4[[#This Row],['#]]=\"\",\"\",SUMIFS(Baza[B$],Baza[Столбец1],Таблица4[[#This Row],['#]]))","v":""},{"$f":"IFERROR(AVERAGEIFS(Baza[AFS],Baza[Столбец1],Таблица4[[#This Row],['#]])+(AVERAGEIFS(Baza[AFS],Baza[Столбец1],Таблица4[[#This Row],['#]])*0.2),\"\")","v":""},"",{"$f":"IFERROR(COUNTIFS(Baza[Столбец1],Таблица4[[#This Row],['#]],Baza[Win],\">0\")/C63*100,\"\")","v":""},{"$f":"IF(SUMIFS(Baza[KO$],Baza[Столбец1],Таблица4[[#This Row],['#]])=0,\"\",SUMIFS(Baza[KO$],Baza[Столбец1],Таблица4[[#This Row],['#]]))","v":""},{"$f":"IF(SUMIFS(Baza[WIN$],Baza[Столбец1],Таблица4[[#This Row],['#]])=0,\"\",SUMIFS(Baza[WIN$],Baza[Столбец1],Таблица4[[#This Row],['#]]))","v":""},""]
[null,{"$f":"IFERROR(INDEX(Baza[Столбец1],SMALL(IF(SMALL(IF(COUNTIF($B$2:$B63,Baza[Столбец1])=0,COUNTIF(Baza[Столбец1],\"<\"&Baza[Столбец1])+1,\"\"),1)=COUNTIF(Baza[Столбец1],\"<\"&Baza[Столбец1])+1,ROW(Baza[Столбец1])-MIN(ROW(Baza[Столбец1]))+1),1)),\"\")","v":""},{"$f":"IF(Таблица4[[#This Row],['#]]=\"\",\"\",COUNTIFS(Baza[Столбец1],Таблица4[[#This Row],['#]])+SUMIFS(Baza[R],Baza[Столбец1],Таблица4[[#This Row],['#]]))","v":""},{"$f":"IF(Таблица4[[#This Row],['#]]=\"\",\"\",SUMIFS(Baza[B$],Baza[Столбец1],Таблица4[[#This Row],['#]]))","v":""},{"$f":"IFERROR(AVERAGEIFS(Baza[AFS],Baza[Столбец1],Таблица4[[#This Row],['#]])+(AVERAGEIFS(Baza[AFS],Baza[Столбец1],Таблица4[[#This Row],['#]])*0.2),\"\")","v":""},"",{"$f":"IFERROR(COUNTIFS(Baza[Столбец1],Таблица4[[#This Row],['#]],Baza[Win],\">0\")/C64*100,\"\")","v":""},{"$f":"IF(SUMIFS(Baza[KO$],Baza[Столбец1],Таблица4[[#This Row],['#]])=0,\"\",SUMIFS(Baza[KO$],Baza[Столбец1],Таблица4[[#This Row],['#]]))","v":""},{"$f":"IF(SUMIFS(Baza[WIN$],Baza[Столбец1],Таблица4[[#This Row],['#]])=0,\"\",SUMIFS(Baza[WIN$],Baza[Столбец1],Таблица4[[#This Row],['#]]))","v":""},""]
[null,{"$f":"IFERROR(INDEX(Baza[Столбец1],SMALL(IF(SMALL(IF(COUNTIF($B$2:$B64,Baza[Столбец1])=0,COUNTIF(Baza[Столбец1],\"<\"&Baza[Столбец1])+1,\"\"),1)=COUNTIF(Baza[Столбец1],\"<\"&Baza[Столбец1])+1,ROW(Baza[Столбец1])-MIN(ROW(Baza[Столбец1]))+1),1)),\"\")","v":""},{"$f":"IF(Таблица4[[#This Row],['#]]=\"\",\"\",COUNTIFS(Baza[Столбец1],Таблица4[[#This Row],['#]])+SUMIFS(Baza[R],Baza[Столбец1],Таблица4[[#This Row],['#]]))","v":""},{"$f":"IF(Таблица4[[#This Row],['#]]=\"\",\"\",SUMIFS(Baza[B$],Baza[Столбец1],Таблица4[[#This Row],['#]]))","v":""},{"$f":"IFERROR(AVERAGEIFS(Baza[AFS],Baza[Столбец1],Таблица4[[#This Row],['#]])+(AVERAGEIFS(Baza[AFS],Baza[Столбец1],Таблица4[[#This Row],['#]])*0.2),\"\")","v":""},"",{"$f":"IFERROR(COUNTIFS(Baza[Столбец1],Таблица4[[#This Row],['#]],Baza[Win],\">0\")/C65*100,\"\")","v":""},{"$f":"IF(SUMIFS(Baza[KO$],Baza[Столбец1],Таблица4[[#This Row],['#]])=0,\"\",SUMIFS(Baza[KO$],Baza[Столбец1],Таблица4[[#This Row],['#]]))","v":""},{"$f":"IF(SUMIFS(Baza[WIN$],Baza[Столбец1],Таблица4[[#This Row],['#]])=0,\"\",SUMIFS(Baza[WIN$],Baza[Столбец1],Таблица4[[#This Row],['#]]))","v":""},""]
[null,{"$f":"IFERROR(INDEX(Baza[Столбец1],SMALL(IF(SMALL(IF(COUNTIF($B$2:$B65,Baza[Столбец1])=0,COUNTIF(Baza[Столбец1],\"<\"&Baza[Столбец1])+1,\"\"),1)=COUNTIF(Baza[Столбец1],\"<\"&Baza[Столбец1])+1,ROW(Baza[Столбец1])-MIN(ROW(Baza[Столбец1]))+1),1)),\"\")","v":""},{"$f":"IF(Таблица4[[#This Row],['#]]=\"\",\"\",COUNTIFS(Baza[Столбец1],Таблица4[[#This Row],['#]])+SUMIFS(Baza[R],Baza[Столбец1],Таблица4[[#This Row],['#]]))","v":""},{"$f":"IF(Таблица4[[#This Row],['#]]=\"\",\"\",SUMIFS(Baza[B$],Baza[Столбец1],Таблица4[[#This Row],['#]]))","v":""},{"$f":"IFERROR(AVERAGEIFS(Baza[AFS],Baza[Столбец1],Таблица4[[#This Row],['#]])+(AVERAGEIFS(Baza[AFS],Baza[Столбец1],Таблица4[[#This Row],['#]])*0.2),\"\")","v":""},"",{"$f":"IFERROR(COUNTIFS(Baza[Столбец1],Таблица4[[#This Row],['#]],Baza[Win],\">0\")/C66*100,\"\")","v":""},{"$f":"IF(SUMIFS(Baza[KO$],Baza[Столбец1],Таблица4[[#This Row],['#]])=0,\"\",SUMIFS(Baza[KO$],Baza[Столбец1],Таблица4[[#This Row],['#]]))","v":""},{"$f":"IF(SUMIFS(Baza[WIN$],Baza[Столбец1],Таблица4[[#This Row],['#]])=0,\"\",SUMIFS(Baza[WIN$],Baza[Столбец1],Таблица4[[#This Row],['#]]))","v":""},""]
[null,{"$f":"IFERROR(INDEX(Baza[Столбец1],SMALL(IF(SMALL(IF(COUNTIF($B$2:$B66,Baza[Столбец1])=0,COUNTIF(Baza[Столбец1],\"<\"&Baza[Столбец1])+1,\"\"),1)=COUNTIF(Baza[Столбец1],\"<\"&Baza[Столбец1])+1,ROW(Baza[Столбец1])-MIN(ROW(Baza[Столбец1]))+1),1)),\"\")","v":""},{"$f":"IF(Таблица4[[#This Row],['#]]=\"\",\"\",COUNTIFS(Baza[Столбец1],Таблица4[[#This Row],['#]])+SUMIFS(Baza[R],Baza[Столбец1],Таблица4[[#This Row],['#]]))","v":""},{"$f":"IF(Таблица4[[#This Row],['#]]=\"\",\"\",SUMIFS(Baza[B$],Baza[Столбец1],Таблица4[[#This Row],['#]]))","v":""},{"$f":"IFERROR(AVERAGEIFS(Baza[AFS],Baza[Столбец1],Таблица4[[#This Row],['#]])+(AVERAGEIFS(Baza[AFS],Baza[Столбец1],Таблица4[[#This Row],['#]])*0.2),\"\")","v":""},{"$f":"IFERROR(J67/D67*100,\"\")","v":""},{"$f":"IFERROR(COUNTIFS(Baza[Столбец1],Таблица4[[#This Row],['#]],Baza[Win],\">0\")/C67*100,\"\")","v":""},{"$f":"IF(SUMIFS(Baza[KO$],Baza[Столбец1],Таблица4[[#This Row],['#]])=0,\"\",SUMIFS(Baza[KO$],Baza[Столбец1],Таблица4[[#This Row],['#]]))","v":""},{"$f":"IF(SUMIFS(Baza[WIN$],Baza[Столбец1],Таблица4[[#This Row],['#]])=0,\"\",SUMIFS(Baza[WIN$],Baza[Столбец1],Таблица4[[#This Row],['#]]))","v":""},{"$f":"IFERROR(IF(I67=\"\",0,I67)+IF(H67=\"\",0,H67)-D67,\"\")","v":""}]
[null,{"$f":"IFERROR(INDEX(Baza[Столбец1],SMALL(IF(SMALL(IF(COUNTIF($B$2:$B67,Baza[Столбец1])=0,COUNTIF(Baza[Столбец1],\"<\"&Baza[Столбец1])+1,\"\"),1)=COUNTIF(Baza[Столбец1],\"<\"&Baza[Столбец1])+1,ROW(Baza[Столбец1])-MIN(ROW(Baza[Столбец1]))+1),1)),\"\")","v":""},{"$f":"IF(Таблица4[[#This Row],['#]]=\"\",\"\",COUNTIFS(Baza[Столбец1],Таблица4[[#This Row],['#]])+SUMIFS(Baza[R],Baza[Столбец1],Таблица4[[#This Row],['#]]))","v":""},{"$f":"IF(Таблица4[[#This Row],['#]]=\"\",\"\",SUMIFS(Baza[B$],Baza[Столбец1],Таблица4[[#This Row],['#]]))","v":""},{"$f":"IFERROR(AVERAGEIFS(Baza[AFS],Baza[Столбец1],Таблица4[[#This Row],['#]])+(AVERAGEIFS(Baza[AFS],Baza[Столбец1],Таблица4[[#This Row],['#]])*0.2),\"\")","v":""},"",{"$f":"IFERROR(COUNTIFS(Baza[Столбец1],Таблица4[[#This Row],['#]],Baza[Win],\">0\")/C68*100,\"\")","v":""},{"$f":"IF(SUMIFS(Baza[KO$],Baza[Столбец1],Таблица4[[#This Row],['#]])=0,\"\",SUMIFS(Baza[KO$],Baza[Столбец1],Таблица4[[#This Row],['#]]))","v":""},{"$f":"IF(SUMIFS(Baza[WIN$],Baza[Столбец1],Таблица4[[#This Row],['#]])=0,\"\",SUMIFS(Baza[WIN$],Baza[Столбец1],Таблица4[[#This Row],['#]]))","v":""},""]
[null,{"$f":"IFERROR(INDEX(Baza[Столбец1],SMALL(IF(SMALL(IF(COUNTIF($B$2:$B68,Baza[Столбец1])=0,COUNTIF(Baza[Столбец1],\"<\"&Baza[Столбец1])+1,\"\"),1)=COUNTIF(Baza[Столбец1],\"<\"&Baza[Столбец1])+1,ROW(Baza[Столбец1])-MIN(ROW(Baza[Столбец1]))+1),1)),\"\")","v":""},{"$f":"IF(Таблица4[[#This Row],['#]]=\"\",\"\",COUNTIFS(Baza[Столбец1],Таблица4[[#This Row],['#]])+SUMIFS(Baza[R],Baza[Столбец1],Таблица4[[#This Row],['#]]))","v":""},{"$f":"IF(Таблица4[[#This Row],['#]]=\"\",\"\",SUMIFS(Baza[B$],Baza[Столбец1],Таблица4[[#This Row],['#]]))","v":""},{"$f":"IFERROR(AVERAGEIFS(Baza[AFS],Baza[Столбец1],Таблица4[[#This Row],['#]])+(AVERAGEIFS(Baza[AFS],Baza[Столбец1],Таблица4[[#This Row],['#]])*0.2),\"\")","v":""},"",{"$f":"IFERROR(COUNTIFS(Baza[Столбец1],Таблица4[[#This Row],['#]],Baza[Win],\">0\")/C69*100,\"\")","v":""},{"$f":"IF(SUMIFS(Baza[KO$],Baza[Столбец1],Таблица4[[#This Row],['#]])=0,\"\",SUMIFS(Baza[KO$],Baza[Столбец1],Таблица4[[#This Row],['#]]))","v":""},{"$f":"IF(SUMIFS(Baza[WIN$],Baza[Столбец1],Таблица4[[#This Row],['#]])=0,\"\",SUMIFS(Baza[WIN$],Baza[Столбец1],Таблица4[[#This Row],['#]]))","v":""},""]
[null,{"$f":"IFERROR(INDEX(Baza[Столбец1],SMALL(IF(SMALL(IF(COUNTIF($B$2:$B69,Baza[Столбец1])=0,COUNTIF(Baza[Столбец1],\"<\"&Baza[Столбец1])+1,\"\"),1)=COUNTIF(Baza[Столбец1],\"<\"&Baza[Столбец1])+1,ROW(Baza[Столбец1])-MIN(ROW(Baza[Столбец1]))+1),1)),\"\")","v":""},{"$f":"IF(Таблица4[[#This Row],['#]]=\"\",\"\",COUNTIFS(Baza[Столбец1],Таблица4[[#This Row],['#]])+SUMIFS(Baza[R],Baza[Столбец1],Таблица4[[#This Row],['#]]))","v":""},{"$f":"IF(Таблица4[[#This Row],['#]]=\"\",\"\",SUMIFS(Baza[B$],Baza[Столбец1],Таблица4[[#This Row],['#]]))","v":""},{"$f":"IFERROR(AVERAGEIFS(Baza[AFS],Baza[Столбец1],Таблица4[[#This Row],['#]])+(AVERAGEIFS(Baza[AFS],Baza[Столбец1],Таблица4[[#This Row],['#]])*0.2),\"\")","v":""},"",{"$f":"IFERROR(COUNTIFS(Baza[Столбец1],Таблица4[[#This Row],['#]],Baza[Win],\">0\")/C70*100,\"\")","v":""},{"$f":"IF(SUMIFS(Baza[KO$],Baza[Столбец1],Таблица4[[#This Row],['#]])=0,\"\",SUMIFS(Baza[KO$],Baza[Столбец1],Таблица4[[#This Row],['#]]))","v":""},{"$f":"IF(SUMIFS(Baza[WIN$],Baza[Столбец1],Таблица4[[#This Row],['#]])=0,\"\",SUMIFS(Baza[WIN$],Baza[Столбец1],Таблица4[[#This Row],['#]]))","v":""},""]
[null,{"$f":"IFERROR(INDEX(Baza[Столбец1],SMALL(IF(SMALL(IF(COUNTIF($B$2:$B70,Baza[Столбец1])=0,COUNTIF(Baza[Столбец1],\"<\"&Baza[Столбец1])+1,\"\"),1)=COUNTIF(Baza[Столбец1],\"<\"&Baza[Столбец1])+1,ROW(Baza[Столбец1])-MIN(ROW(Baza[Столбец1]))+1),1)),\"\")","v":""},{"$f":"IF(Таблица4[[#This Row],['#]]=\"\",\"\",COUNTIFS(Baza[Столбец1],Таблица4[[#This Row],['#]])+SUMIFS(Baza[R],Baza[Столбец1],Таблица4[[#This Row],['#]]))","v":""},{"$f":"IF(Таблица4[[#This Row],['#]]=\"\",\"\",SUMIFS(Baza[B$],Baza[Столбец1],Таблица4[[#This Row],['#]]))","v":""},{"$f":"IFERROR(AVERAGEIFS(Baza[AFS],Baza[Столбец1],Таблица4[[#This Row],['#]])+(AVERAGEIFS(Baza[AFS],Baza[Столбец1],Таблица4[[#This Row],['#]])*0.2),\"\")","v":""},"",{"$f":"IFERROR(COUNTIFS(Baza[Столбец1],Таблица4[[#This Row],['#]],Baza[Win],\">0\")/C71*100,\"\")","v":""},{"$f":"IF(SUMIFS(Baza[KO$],Baza[Столбец1],Таблица4[[#This Row],['#]])=0,\"\",SUMIFS(Baza[KO$],Baza[Столбец1],Таблица4[[#This Row],['#]]))","v":""},{"$f":"IF(SUMIFS(Baza[WIN$],Baza[Столбец1],Таблица4[[#This Row],['#]])=0,\"\",SUMIFS(Baza[WIN$],Baza[Столбец1],Таблица4[[#This Row],['#]]))","v":""},""]
[null,{"$f":"IFERROR(INDEX(Baza[Столбец1],SMALL(IF(SMALL(IF(COUNTIF($B$2:$B71,Baza[Столбец1])=0,COUNTIF(Baza[Столбец1],\"<\"&Baza[Столбец1])+1,\"\"),1)=COUNTIF(Baza[Столбец1],\"<\"&Baza[Столбец1])+1,ROW(Baza[Столбец1])-MIN(ROW(Baza[Столбец1]))+1),1)),\"\")","v":""},{"$f":"IF(Таблица4[[#This Row],['#]]=\"\",\"\",COUNTIFS(Baza[Столбец1],Таблица4[[#This Row],['#]])+SUMIFS(Baza[R],Baza[Столбец1],Таблица4[[#This Row],['#]]))","v":""},{"$f":"IF(Таблица4[[#This Row],['#]]=\"\",\"\",SUMIFS(Baza[B$],Baza[Столбец1],Таблица4[[#This Row],['#]]))","v":""},{"$f":"IFERROR(AVERAGEIFS(Baza[AFS],Baza[Столбец1],Таблица4[[#This Row],['#]])+(AVERAGEIFS(Baza[AFS],Baza[Столбец1],Таблица4[[#This Row],['#]])*0.2),\"\")","v":""},"",{"$f":"IFERROR(COUNTIFS(Baza[Столбец1],Таблица4[[#This Row],['#]],Baza[Win],\">0\")/C72*100,\"\")","v":""},{"$f":"IF(SUMIFS(Baza[KO$],Baza[Столбец1],Таблица4[[#This Row],['#]])=0,\"\",SUMIFS(Baza[KO$],Baza[Столбец1],Таблица4[[#This Row],['#]]))","v":""},{"$f":"IF(SUMIFS(Baza[WIN$],Baza[Столбец1],Таблица4[[#This Row],['#]])=0,\"\",SUMIFS(Baza[WIN$],Baza[Столбец1],Таблица4[[#This Row],['#]]))","v":""},""]
[null,{"$f":"IFERROR(INDEX(Baza[Столбец1],SMALL(IF(SMALL(IF(COUNTIF($B$2:$B72,Baza[Столбец1])=0,COUNTIF(Baza[Столбец1],\"<\"&Baza[Столбец1])+1,\"\"),1)=COUNTIF(Baza[Столбец1],\"<\"&Baza[Столбец1])+1,ROW(Baza[Столбец1])-MIN(ROW(Baza[Столбец1]))+1),1)),\"\")","v":""},{"$f":"IF(Таблица4[[#This Row],['#]]=\"\",\"\",COUNTIFS(Baza[Столбец1],Таблица4[[#This Row],['#]])+SUMIFS(Baza[R],Baza[Столбец1],Таблица4[[#This Row],['#]]))","v":""},{"$f":"IF(Таблица4[[#This Row],['#]]=\"\",\"\",SUMIFS(Baza[B$],Baza[Столбец1],Таблица4[[#This Row],['#]]))","v":""},{"$f":"IFERROR(AVERAGEIFS(Baza[AFS],Baza[Столбец1],Таблица4[[#This Row],['#]])+(AVERAGEIFS(Baza[AFS],Baza[Столбец1],Таблица4[[#This Row],['#]])*0.2),\"\")","v":""},"",{"$f":"IFERROR(COUNTIFS(Baza[Столбец1],Таблица4[[#This Row],['#]],Baza[Win],\">0\")/C73*100,\"\")","v":""},{"$f":"IF(SUMIFS(Baza[KO$],Baza[Столбец1],Таблица4[[#This Row],['#]])=0,\"\",SUMIFS(Baza[KO$],Baza[Столбец1],Таблица4[[#This Row],['#]]))","v":""},{"$f":"IF(SUMIFS(Baza[WIN$],Baza[Столбец1],Таблица4[[#This Row],['#]])=0,\"\",SUMIFS(Baza[WIN$],Baza[Столбец1],Таблица4[[#This Row],['#]]))","v":""},""]
[null,{"$f":"IFERROR(INDEX(Baza[Столбец1],SMALL(IF(SMALL(IF(COUNTIF($B$2:$B73,Baza[Столбец1])=0,COUNTIF(Baza[Столбец1],\"<\"&Baza[Столбец1])+1,\"\"),1)=COUNTIF(Baza[Столбец1],\"<\"&Baza[Столбец1])+1,ROW(Baza[Столбец1])-MIN(ROW(Baza[Столбец1]))+1),1)),\"\")","v":""},{"$f":"IF(Таблица4[[#This Row],['#]]=\"\",\"\",COUNTIFS(Baza[Столбец1],Таблица4[[#This Row],['#]])+SUMIFS(Baza[R],Baza[Столбец1],Таблица4[[#This Row],['#]]))","v":""},{"$f":"IF(Таблица4[[#This Row],['#]]=\"\",\"\",SUMIFS(Baza[B$],Baza[Столбец1],Таблица4[[#This Row],['#]]))","v":""},{"$f":"IFERROR(AVERAGEIFS(Baza[AFS],Baza[Столбец1],Таблица4[[#This Row],['#]])+(AVERAGEIFS(Baza[AFS],Baza[Столбец1],Таблица4[[#This Row],['#]])*0.2),\"\")","v":""},"",{"$f":"IFERROR(COUNTIFS(Baza[Столбец1],Таблица4[[#This Row],['#]],Baza[Win],\">0\")/C74*100,\"\")","v":""},{"$f":"IF(SUMIFS(Baza[KO$],Baza[Столбец1],Таблица4[[#This Row],['#]])=0,\"\",SUMIFS(Baza[KO$],Baza[Столбец1],Таблица4[[#This Row],['#]]))","v":""},{"$f":"IF(SUMIFS(Baza[WIN$],Baza[Столбец1],Таблица4[[#This Row],['#]])=0,\"\",SUMIFS(Baza[WIN$],Baza[Столбец1],Таблица4[[#This Row],['#]]))","v":""},""]
[null,{"$f":"IFERROR(INDEX(Baza[Столбец1],SMALL(IF(SMALL(IF(COUNTIF($B$2:$B74,Baza[Столбец1])=0,COUNTIF(Baza[Столбец1],\"<\"&Baza[Столбец1])+1,\"\"),1)=COUNTIF(Baza[Столбец1],\"<\"&Baza[Столбец1])+1,ROW(Baza[Столбец1])-MIN(ROW(Baza[Столбец1]))+1),1)),\"\")","v":""},{"$f":"IF(Таблица4[[#This Row],['#]]=\"\",\"\",COUNTIFS(Baza[Столбец1],Таблица4[[#This Row],['#]])+SUMIFS(Baza[R],Baza[Столбец1],Таблица4[[#This Row],['#]]))","v":""},{"$f":"IF(Таблица4[[#This Row],['#]]=\"\",\"\",SUMIFS(Baza[B$],Baza[Столбец1],Таблица4[[#This Row],['#]]))","v":""},{"$f":"IFERROR(AVERAGEIFS(Baza[AFS],Baza[Столбец1],Таблица4[[#This Row],['#]])+(AVERAGEIFS(Baza[AFS],Baza[Столбец1],Таблица4[[#This Row],['#]])*0.2),\"\")","v":""},"",{"$f":"IFERROR(COUNTIFS(Baza[Столбец1],Таблица4[[#This Row],['#]],Baza[Win],\">0\")/C75*100,\"\")","v":""},{"$f":"IF(SUMIFS(Baza[KO$],Baza[Столбец1],Таблица4[[#This Row],['#]])=0,\"\",SUMIFS(Baza[KO$],Baza[Столбец1],Таблица4[[#This Row],['#]]))","v":""},{"$f":"IF(SUMIFS(Baza[WIN$],Baza[Столбец1],Таблица4[[#This Row],['#]])=0,\"\",SUMIFS(Baza[WIN$],Baza[Столбец1],Таблица4[[#This Row],['#]]))","v":""},""]
[null,{"$f":"IFERROR(INDEX(Baza[Столбец1],SMALL(IF(SMALL(IF(COUNTIF($B$2:$B75,Baza[Столбец1])=0,COUNTIF(Baza[Столбец1],\"<\"&Baza[Столбец1])+1,\"\"),1)=COUNTIF(Baza[Столбец1],\"<\"&Baza[Столбец1])+1,ROW(Baza[Столбец1])-MIN(ROW(Baza[Столбец1]))+1),1)),\"\")","v":""},{"$f":"IF(Таблица4[[#This Row],['#]]=\"\",\"\",COUNTIFS(Baza[Столбец1],Таблица4[[#This Row],['#]])+SUMIFS(Baza[R],Baza[Столбец1],Таблица4[[#This Row],['#]]))","v":""},{"$f":"IF(Таблица4[[#This Row],['#]]=\"\",\"\",SUMIFS(Baza[B$],Baza[Столбец1],Таблица4[[#This Row],['#]]))","v":""},{"$f":"IFERROR(AVERAGEIFS(Baza[AFS],Baza[Столбец1],Таблица4[[#This Row],['#]])+(AVERAGEIFS(Baza[AFS],Baza[Столбец1],Таблица4[[#This Row],['#]])*0.2),\"\")","v":""},"",{"$f":"IFERROR(COUNTIFS(Baza[Столбец1],Таблица4[[#This Row],['#]],Baza[Win],\">0\")/C76*100,\"\")","v":""},{"$f":"IF(SUMIFS(Baza[KO$],Baza[Столбец1],Таблица4[[#This Row],['#]])=0,\"\",SUMIFS(Baza[KO$],Baza[Столбец1],Таблица4[[#This Row],['#]]))","v":""},{"$f":"IF(SUMIFS(Baza[WIN$],Baza[Столбец1],Таблица4[[#This Row],['#]])=0,\"\",SUMIFS(Baza[WIN$],Baza[Столбец1],Таблица4[[#This Row],['#]]))","v":""},""]
[null,{"$f":"IFERROR(INDEX(Baza[Столбец1],SMALL(IF(SMALL(IF(COUNTIF($B$2:$B76,Baza[Столбец1])=0,COUNTIF(Baza[Столбец1],\"<\"&Baza[Столбец1])+1,\"\"),1)=COUNTIF(Baza[Столбец1],\"<\"&Baza[Столбец1])+1,ROW(Baza[Столбец1])-MIN(ROW(Baza[Столбец1]))+1),1)),\"\")","v":""},{"$f":"IF(Таблица4[[#This Row],['#]]=\"\",\"\",COUNTIFS(Baza[Столбец1],Таблица4[[#This Row],['#]])+SUMIFS(Baza[R],Baza[Столбец1],Таблица4[[#This Row],['#]]))","v":""},{"$f":"IF(Таблица4[[#This Row],['#]]=\"\",\"\",SUMIFS(Baza[B$],Baza[Столбец1],Таблица4[[#This Row],['#]]))","v":""},{"$f":"IFERROR(AVERAGEIFS(Baza[AFS],Baza[Столбец1],Таблица4[[#This Row],['#]])+(AVERAGEIFS(Baza[AFS],Baza[Столбец1],Таблица4[[#This Row],['#]])*0.2),\"\")","v":""},"",{"$f":"IFERROR(COUNTIFS(Baza[Столбец1],Таблица4[[#This Row],['#]],Baza[Win],\">0\")/C77*100,\"\")","v":""},{"$f":"IF(SUMIFS(Baza[KO$],Baza[Столбец1],Таблица4[[#This Row],['#]])=0,\"\",SUMIFS(Baza[KO$],Baza[Столбец1],Таблица4[[#This Row],['#]]))","v":""},{"$f":"IF(SUMIFS(Baza[WIN$],Baza[Столбец1],Таблица4[[#This Row],['#]])=0,\"\",SUMIFS(Baza[WIN$],Baza[Столбец1],Таблица4[[#This Row],['#]]))","v":""},""]
[null,{"$f":"IFERROR(INDEX(Baza[Столбец1],SMALL(IF(SMALL(IF(COUNTIF($B$2:$B77,Baza[Столбец1])=0,COUNTIF(Baza[Столбец1],\"<\"&Baza[Столбец1])+1,\"\"),1)=COUNTIF(Baza[Столбец1],\"<\"&Baza[Столбец1])+1,ROW(Baza[Столбец1])-MIN(ROW(Baza[Столбец1]))+1),1)),\"\")","v":""},{"$f":"IF(Таблица4[[#This Row],['#]]=\"\",\"\",COUNTIFS(Baza[Столбец1],Таблица4[[#This Row],['#]])+SUMIFS(Baza[R],Baza[Столбец1],Таблица4[[#This Row],['#]]))","v":""},{"$f":"IF(Таблица4[[#This Row],['#]]=\"\",\"\",SUMIFS(Baza[B$],Baza[Столбец1],Таблица4[[#This Row],['#]]))","v":""},{"$f":"IFERROR(AVERAGEIFS(Baza[AFS],Baza[Столбец1],Таблица4[[#This Row],['#]])+(AVERAGEIFS(Baza[AFS],Baza[Столбец1],Таблица4[[#This Row],['#]])*0.2),\"\")","v":""},"",{"$f":"IFERROR(COUNTIFS(Baza[Столбец1],Таблица4[[#This Row],['#]],Baza[Win],\">0\")/C78*100,\"\")","v":""},{"$f":"IF(SUMIFS(Baza[KO$],Baza[Столбец1],Таблица4[[#This Row],['#]])=0,\"\",SUMIFS(Baza[KO$],Baza[Столбец1],Таблица4[[#This Row],['#]]))","v":""},{"$f":"IF(SUMIFS(Baza[WIN$],Baza[Столбец1],Таблица4[[#This Row],['#]])=0,\"\",SUMIFS(Baza[WIN$],Baza[Столбец1],Таблица4[[#This Row],['#]]))","v":""},""]
[null,{"$f":"IFERROR(INDEX(Baza[Столбец1],SMALL(IF(SMALL(IF(COUNTIF($B$2:$B78,Baza[Столбец1])=0,COUNTIF(Baza[Столбец1],\"<\"&Baza[Столбец1])+1,\"\"),1)=COUNTIF(Baza[Столбец1],\"<\"&Baza[Столбец1])+1,ROW(Baza[Столбец1])-MIN(ROW(Baza[Столбец1]))+1),1)),\"\")","v":""},{"$f":"IF(Таблица4[[#This Row],['#]]=\"\",\"\",COUNTIFS(Baza[Столбец1],Таблица4[[#This Row],['#]])+SUMIFS(Baza[R],Baza[Столбец1],Таблица4[[#This Row],['#]]))","v":""},{"$f":"IF(Таблица4[[#This Row],['#]]=\"\",\"\",SUMIFS(Baza[B$],Baza[Столбец1],Таблица4[[#This Row],['#]]))","v":""},{"$f":"IFERROR(AVERAGEIFS(Baza[AFS],Baza[Столбец1],Таблица4[[#This Row],['#]])+(AVERAGEIFS(Baza[AFS],Baza[Столбец1],Таблица4[[#This Row],['#]])*0.2),\"\")","v":""},"",{"$f":"IFERROR(COUNTIFS(Baza[Столбец1],Таблица4[[#This Row],['#]],Baza[Win],\">0\")/C79*100,\"\")","v":""},{"$f":"IF(SUMIFS(Baza[KO$],Baza[Столбец1],Таблица4[[#This Row],['#]])=0,\"\",SUMIFS(Baza[KO$],Baza[Столбец1],Таблица4[[#This Row],['#]]))","v":""},{"$f":"IF(SUMIFS(Baza[WIN$],Baza[Столбец1],Таблица4[[#This Row],['#]])=0,\"\",SUMIFS(Baza[WIN$],Baza[Столбец1],Таблица4[[#This Row],['#]]))","v":""},""]
[null,{"$f":"IFERROR(INDEX(Baza[Столбец1],SMALL(IF(SMALL(IF(COUNTIF($B$2:$B79,Baza[Столбец1])=0,COUNTIF(Baza[Столбец1],\"<\"&Baza[Столбец1])+1,\"\"),1)=COUNTIF(Baza[Столбец1],\"<\"&Baza[Столбец1])+1,ROW(Baza[Столбец1])-MIN(ROW(Baza[Столбец1]))+1),1)),\"\")","v":""},{"$f":"IF(Таблица4[[#This Row],['#]]=\"\",\"\",COUNTIFS(Baza[Столбец1],Таблица4[[#This Row],['#]])+SUMIFS(Baza[R],Baza[Столбец1],Таблица4[[#This Row],['#]]))","v":""},{"$f":"IF(Таблица4[[#This Row],['#]]=\"\",\"\",SUMIFS(Baza[B$],Baza[Столбец1],Таблица4[[#This Row],['#]]))","v":""},{"$f":"IFERROR(AVERAGEIFS(Baza[AFS],Baza[Столбец1],Таблица4[[#This Row],['#]])+(AVERAGEIFS(Baza[AFS],Baza[Столбец1],Таблица4[[#This Row],['#]])*0.2),\"\")","v":""},"",{"$f":"IFERROR(COUNTIFS(Baza[Столбец1],Таблица4[[#This Row],['#]],Baza[Win],\">0\")/C80*100,\"\")","v":""},{"$f":"IF(SUMIFS(Baza[KO$],Baza[Столбец1],Таблица4[[#This Row],['#]])=0,\"\",SUMIFS(Baza[KO$],Baza[Столбец1],Таблица4[[#This Row],['#]]))","v":""},{"$f":"IF(SUMIFS(Baza[WIN$],Baza[Столбец1],Таблица4[[#This Row],['#]])=0,\"\",SUMIFS(Baza[WIN$],Baza[Столбец1],Таблица4[[#This Row],['#]]))","v":""},""]

{"sheet":"Data","index":2,"n_rows":80,"n_cols":11,"rows_kept":80,"cut":false,"hidden":false,"merged":[]}
[]
[null,"#","Games","Buy-in","ABI","AFS","ROI","ITM","Bounty","WIN","PROF"]
[null,{"$f":"IFERROR(INDEX(Baza[Date],SMALL(IF(SMALL(IF(COUNTIF($B$2:$B2,Baza[Date])=0,COUNTIF(Baza[Date],\"<\"&Baza[Date])+1,\"\"),1)=COUNTIF(Baza[Date],\"<\"&Baza[Date])+1,ROW(Baza[Date])-MIN(ROW(Baza[Date]))+1),1)),\"\")","v":"2021-01-01"},{"$f":"IF(Таблица46[[#This Row],['#]]=\"\",\"\",COUNTIFS(Baza[Date],Таблица46[[#This Row],['#]])+SUMIFS(Baza[R],Baza[Date],Таблица46[[#This Row],['#]]))","v":22},{"$f":"IF(Таблица46[[#This Row],['#]]=\"\",\"\",SUMIFS(Baza[B$],Baza[Date],Таблица46[[#This Row],['#]]))","v":31.38000000000001},{"$f":"IFERROR(D3/C3,\"\")","v":1.4263636363636367},{"$f":"IFERROR(AVERAGEIFS(Baza[AFS],Baza[Date],Таблица46[[#This Row],['#]])+(AVERAGEIFS(Baza[AFS],Baza[Date],Таблица46[[#This Row],['#]])*0.2),\"\")","v":494.00826446280996},{"$f":"IFERROR(K3/D3*100,\"\")","v":-8.8910133843212513},{"$f":"IFERROR(COUNTIFS(Baza[Date],Таблица46[[#This Row],['#]],Baza[Win],\">0\")/C3*100,\"\")","v":22.727272727272727},{"$f":"IF(SUMIFS(Baza[KO$],Baza[Date],Таблица46[[#This Row],['#]])=0,\"\",SUMIFS(Baza[KO$],Baza[Date],Таблица46[[#This Row],['#]]))","v":6.66},{"$f":"IF(SUMIFS(Baza[WIN$],Baza[Date],Таблица46[[#This Row],['#]])=0,\"\",SUMIFS(Baza[WIN$],Baza[Date],Таблица46[[#This Row],['#]]))","v":21.93},{"$f":"IFERROR(IF(J3=\"\",0,J3)+IF(I3=\"\",0,I3)-D3,\"\")","v":-2.7900000000000098}]
[null,{"$f":"IFERROR(INDEX(Baza[Date],SMALL(IF(SMALL(IF(COUNTIF($B$2:$B3,Baza[Date])=0,COUNTIF(Baza[Date],\"<\"&Baza[Date])+1,\"\"),1)=COUNTIF(Baza[Date],\"<\"&Baza[Date])+1,ROW(Baza[Date])-MIN(ROW(Baza[Date]))+1),1)),\"\")","v":"2021-01-02"},{"$f":"IF(Таблица46[[#This Row],['#]]=\"\",\"\",COUNTIFS(Baza[Date],Таблица46[[#This Row],['#]])+SUMIFS(Baza[R],Baza[Date],Таблица46[[#This Row],['#]]))","v":9},{"$f":"IF(Таблица46[[#This Row],['#]]=\"\",\"\",SUMIFS(Baza[B$],Baza[Date],Таблица46[[#This Row],['#]]))","v":17.560000000000002},1.9511111111111115,{"$f":"IFERROR(AVERAGEIFS(Baza[AFS],Baza[Date],Таблица46[[#This Row],['#]])+(AVERAGEIFS(Baza[AFS],Baza[Date],Таблица46[[#This Row],['#]])*0.2),\"\")","v":403.4632034632034},329.89977220956723,{"$f":"IFERROR(COUNTIFS(Baza[Date],Таблица46[[#This Row],['#]],Baza[Win],\">0\")/C4*100,\"\")","v":22.222222222222221},{"$f":"IF(SUMIFS(Baza[KO$],Baza[Date],Таблица46[[#This Row],['#]])=0,\"\",SUMIFS(Baza[KO$],Baza[Date],Таблица46[[#This Row],['#]]))","v":0.5},{"$f":"IF(SUMIFS(Baza[WIN$],Baza[Date],Таблица46[[#This Row],['#]])=0,\"\",SUMIFS(Baza[WIN$],Baza[Date],Таблица46[[#This Row],['#]]))","v":74.990400000000008},57.930400000000006]
[null,{"$f":"IFERROR(INDEX(Baza[Date],SMALL(IF(SMALL(IF(COUNTIF($B$2:$B4,Baza[Date])=0,COUNTIF(Baza[Date],\"<\"&Baza[Date])+1,\"\"),1)=COUNTIF(Baza[Date],\"<\"&Baza[Date])+1,ROW(Baza[Date])-MIN(ROW(Baza[Date]))+1),1)),\"\")","v":""},{"$f":"IF(Таблица46[[#This Row],['#]]=\"\",\"\",COUNTIFS(Baza[Date],Таблица46[[#This Row],['#]])+SUMIFS(Baza[R],Baza[Date],Таблица46[[#This Row],['#]]))","v":""},{"$f":"IF(Таблица46[[#This Row],['#]]=\"\",\"\",SUMIFS(Baza[B$],Baza[Date],Таблица46[[#This Row],['#]]))","v":""},"",{"$f":"IFERROR(AVERAGEIFS(Baza[AFS],Baza[Date],Таблица46[[#This Row],['#]])+(AVERAGEIFS(Baza[AFS],Baza[Date],Таблица46[[#This Row],['#]])*0.2),\"\")","v":""},"",{"$f":"IFERROR(COUNTIFS(Baza[Date],Таблица46[[#This Row],['#]],Baza[Win],\">0\")/C5*100,\"\")","v":""},{"$f":"IF(SUMIFS(Baza[KO$],Baza[Date],Таблица46[[#This Row],['#]])=0,\"\",SUMIFS(Baza[KO$],Baza[Date],Таблица46[[#This Row],['#]]))","v":""},{"$f":"IF(SUMIFS(Baza[WIN$],Baza[Date],Таблица46[[#This Row],['#]])=0,\"\",SUMIFS(Baza[WIN$],Baza[Date],Таблица46[[#This Row],['#]]))","v":""},""]
[null,{"$f":"IFERROR(INDEX(Baza[Date],SMALL(IF(SMALL(IF(COUNTIF($B$2:$B5,Baza[Date])=0,COUNTIF(Baza[Date],\"<\"&Baza[Date])+1,\"\"),1)=COUNTIF(Baza[Date],\"<\"&Baza[Date])+1,ROW(Baza[Date])-MIN(ROW(Baza[Date]))+1),1)),\"\")","v":""},{"$f":"IF(Таблица46[[#This Row],['#]]=\"\",\"\",COUNTIFS(Baza[Date],Таблица46[[#This Row],['#]])+SUMIFS(Baza[R],Baza[Date],Таблица46[[#This Row],['#]]))","v":""},{"$f":"IF(Таблица46[[#This Row],['#]]=\"\",\"\",SUMIFS(Baza[B$],Baza[Date],Таблица46[[#This Row],['#]]))","v":""},{"$f":"IFERROR(D6/C6,\"\")","v":""},{"$f":"IFERROR(AVERAGEIFS(Baza[AFS],Baza[Date],Таблица46[[#This Row],['#]])+(AVERAGEIFS(Baza[AFS],Baza[Date],Таблица46[[#This Row],['#]])*0.2),\"\")","v":""},"",{"$f":"IFERROR(COUNTIFS(Baza[Date],Таблица46[[#This Row],['#]],Baza[Win],\">0\")/C6*100,\"\")","v":""},{"$f":"IF(SUMIFS(Baza[KO$],Baza[Date],Таблица46[[#This Row],['#]])=0,\"\",SUMIFS(Baza[KO$],Baza[Date],Таблица46[[#This Row],['#]]))","v":""},{"$f":"IF(SUMIFS(Baza[WIN$],Baza[Date],Таблица46[[#This Row],['#]])=0,\"\",SUMIFS(Baza[WIN$],Baza[Date],Таблица46[[#This Row],['#]]))","v":""},""]
[null,{"$f":"IFERROR(INDEX(Baza[Date],SMALL(IF(SMALL(IF(COUNTIF($B$2:$B6,Baza[Date])=0,COUNTIF(Baza[Date],\"<\"&Baza[Date])+1,\"\"),1)=COUNTIF(Baza[Date],\"<\"&Baza[Date])+1,ROW(Baza[Date])-MIN(ROW(Baza[Date]))+1),1)),\"\")","v":""},{"$f":"IF(Таблица46[[#This Row],['#]]=\"\",\"\",COUNTIFS(Baza[Date],Таблица46[[#This Row],['#]])+SUMIFS(Baza[R],Baza[Date],Таблица46[[#This Row],['#]]))","v":""},{"$f":"IF(Таблица46[[#This Row],['#]]=\"\",\"\",SUMIFS(Baza[B$],Baza[Date],Таблица46[[#This Row],['#]]))","v":""},"",{"$f":"IFERROR(AVERAGEIFS(Baza[AFS],Baza[Date],Таблица46[[#This Row],['#]])+(AVERAGEIFS(Baza[AFS],Baza[Date],Таблица46[[#This Row],['#]])*0.2),\"\")","v":""},"",{"$f":"IFERROR(COUNTIFS(Baza[Date],Таблица46[[#This Row],['#]],Baza[Win],\">0\")/C7*100,\"\")","v":""},{"$f":"IF(SUMIFS(Baza[KO$],Baza[Date],Таблица46[[#This Row],['#]])=0,\"\",SUMIFS(Baza[KO$],Baza[Date],Таблица46[[#This Row],['#]]))","v":""},{"$f":"IF(SUMIFS(Baza[WIN$],Baza[Date],Таблица46[[#This Row],['#]])=0,\"\",SUMIFS(Baza[WIN$],Baza[Date],Таблица46[[#This Row],['#]]))","v":""},""]
[null,{"$f":"IFERROR(INDEX(Baza[Date],SMALL(IF(SMALL(IF(COUNTIF($B$2:$B7,Baza[Date])=0,COUNTIF(Baza[Date],\"<\"&Baza[Date])+1,\"\"),1)=COUNTIF(Baza[Date],\"<\"&Baza[Date])+1,ROW(Baza[Date])-MIN(ROW(Baza[Date]))+1),1)),\"\")","v":""},{"$f":"IF(Таблица46[[#This Row],['#]]=\"\",\"\",COUNTIFS(Baza[Date],Таблица46[[#This Row],['#]])+SUMIFS(Baza[R],Baza[Date],Таблица46[[#This Row],['#]]))","v":""},{"$f":"IF(Таблица46[[#This Row],['#]]=\"\",\"\",SUMIFS(Baza[B$],Baza[Date],Таблица46[[#This Row],['#]]))","v":""},"",{"$f":"IFERROR(AVERAGEIFS(Baza[AFS],Baza[Date],Таблица46[[#This Row],['#]])+(AVERAGEIFS(Baza[AFS],Baza[Date],Таблица46[[#This Row],['#]])*0.2),\"\")","v":""},"",{"$f":"IFERROR(COUNTIFS(Baza[Date],Таблица46[[#This Row],['#]],Baza[Win],\">0\")/C8*100,\"\")","v":""},{"$f":"IF(SUMIFS(Baza[KO$],Baza[Date],Таблица46[[#This Row],['#]])=0,\"\",SUMIFS(Baza[KO$],Baza[Date],Таблица46[[#This Row],['#]]))","v":""},{"$f":"IF(SUMIFS(Baza[WIN$],Baza[Date],Таблица46[[#This Row],['#]])=0,\"\",SUMIFS(Baza[WIN$],Baza[Date],Таблица46[[#This Row],['#]]))","v":""},""]
[null,{"$f":"IFERROR(INDEX(Baza[Date],SMALL(IF(SMALL(IF(COUNTIF($B$2:$B8,Baza[Date])=0,COUNTIF(Baza[Date],\"<\"&Baza[Date])+1,\"\"),1)=COUNTIF(Baza[Date],\"<\"&Baza[Date])+1,ROW(Baza[Date])-MIN(ROW(Baza[Date]))+1),1)),\"\")","v":""},{"$f":"IF(Таблица46[[#This Row],['#]]=\"\",\"\",COUNTIFS(Baza[Date],Таблица46[[#This Row],['#]])+SUMIFS(Baza[R],Baza[Date],Таблица46[[#This Row],['#]]))","v":""},{"$f":"IF(Таблица46[[#This Row],['#]]=\"\",\"\",SUMIFS(Baza[B$],Baza[Date],Таблица46[[#This Row],['#]]))","v":""},"",{"$f":"IFERROR(AVERAGEIFS(Baza[AFS],Baza[Date],Таблица46[[#This Row],['#]])+(AVERAGEIFS(Baza[AFS],Baza[Date],Таблица46[[#This Row],['#]])*0.2),\"\")","v":""},"",{"$f":"IFERROR(COUNTIFS(Baza[Date],Таблица46[[#This Row],['#]],Baza[Win],\">0\")/C9*100,\"\")","v":""},{"$f":"IF(SUMIFS(Baza[KO$],Baza[Date],Таблица46[[#This Row],['#]])=0,\"\",SUMIFS(Baza[KO$],Baza[Date],Таблица46[[#This Row],['#]]))","v":""},{"$f":"IF(SUMIFS(Baza[WIN$],Baza[Date],Таблица46[[#This Row],['#]])=0,\"\",SUMIFS(Baza[WIN$],Baza[Date],Таблица46[[#This Row],['#]]))","v":""},""]
[null,{"$f":"IFERROR(INDEX(Baza[Date],SMALL(IF(SMALL(IF(COUNTIF($B$2:$B9,Baza[Date])=0,COUNTIF(Baza[Date],\"<\"&Baza[Date])+1,\"\"),1)=COUNTIF(Baza[Date],\"<\"&Baza[Date])+1,ROW(Baza[Date])-MIN(ROW(Baza[Date]))+1),1)),\"\")","v":""},{"$f":"IF(Таблица46[[#This Row],['#]]=\"\",\"\",COUNTIFS(Baza[Date],Таблица46[[#This Row],['#]])+SUMIFS(Baza[R],Baza[Date],Таблица46[[#This Row],['#]]))","v":""},{"$f":"IF(Таблица46[[#This Row],['#]]=\"\",\"\",SUMIFS(Baza[B$],Baza[Date],Таблица46[[#This Row],['#]]))","v":""},"",{"$f":"IFERROR(AVERAGEIFS(Baza[AFS],Baza[Date],Таблица46[[#This Row],['#]])+(AVERAGEIFS(Baza[AFS],Baza[Date],Таблица46[[#This Row],['#]])*0.2),\"\")","v":""},"",{"$f":"IFERROR(COUNTIFS(Baza[Date],Таблица46[[#This Row],['#]],Baza[Win],\">0\")/C10*100,\"\")","v":""},{"$f":"IF(SUMIFS(Baza[KO$],Baza[Date],Таблица46[[#This Row],['#]])=0,\"\",SUMIFS(Baza[KO$],Baza[Date],Таблица46[[#This Row],['#]]))","v":""},{"$f":"IF(SUMIFS(Baza[WIN$],Baza[Date],Таблица46[[#This Row],['#]])=0,\"\",SUMIFS(Baza[WIN$],Baza[Date],Таблица46[[#This Row],['#]]))","v":""},""]
[null,{"$f":"IFERROR(INDEX(Baza[Date],SMALL(IF(SMALL(IF(COUNTIF($B$2:$B10,Baza[Date])=0,COUNTIF(Baza[Date],\"<\"&Baza[Date])+1,\"\"),1)=COUNTIF(Baza[Date],\"<\"&Baza[Date])+1,ROW(Baza[Date])-MIN(ROW(Baza[Date]))+1),1)),\"\")","v":""},{"$f":"IF(Таблица46[[#This Row],['#]]=\"\",\"\",COUNTIFS(Baza[Date],Таблица46[[#This Row],['#]])+SUMIFS(Baza[R],Baza[Date],Таблица46[[#This Row],['#]]))","v":""},{"$f":"IF(Таблица46[[#This Row],['#]]=\"\",\"\",SUMIFS(Baza[B$],Baza[Date],Таблица46[[#This Row],['#]]))","v":""},"",{"$f":"IFERROR(AVERAGEIFS(Baza[AFS],Baza[Date],Таблица46[[#This Row],['#]])+(AVERAGEIFS(Baza[AFS],Baza[Date],Таблица46[[#This Row],['#]])*0.2),\"\")","v":""},"",{"$f":"IFERROR(COUNTIFS(Baza[Date],Таблица46[[#This Row],['#]],Baza[Win],\">0\")/C11*100,\"\")","v":""},{"$f":"IF(SUMIFS(Baza[KO$],Baza[Date],Таблица46[[#This Row],['#]])=0,\"\",SUMIFS(Baza[KO$],Baza[Date],Таблица46[[#This Row],['#]]))","v":""},{"$f":"IF(SUMIFS(Baza[WIN$],Baza[Date],Таблица46[[#This Row],['#]])=0,\"\",SUMIFS(Baza[WIN$],Baza[Date],Таблица46[[#This Row],['#]]))","v":""},""]
[null,{"$f":"IFERROR(INDEX(Baza[Date],SMALL(IF(SMALL(IF(COUNTIF($B$2:$B11,Baza[Date])=0,COUNTIF(Baza[Date],\"<\"&Baza[Date])+1,\"\"),1)=COUNTIF(Baza[Date],\"<\"&Baza[Date])+1,ROW(Baza[Date])-MIN(ROW(Baza[Date]))+1),1)),\"\")","v":""},{"$f":"IF(Таблица46[[#This Row],['#]]=\"\",\"\",COUNTIFS(Baza[Date],Таблица46[[#This Row],['#]])+SUMIFS(Baza[R],Baza[Date],Таблица46[[#This Row],['#]]))","v":""},{"$f":"IF(Таблица46[[#This Row],['#]]=\"\",\"\",SUMIFS(Baza[B$],Baza[Date],Таблица46[[#This Row],['#]]))","v":""},"",{"$f":"IFERROR(AVERAGEIFS(Baza[AFS],Baza[Date],Таблица46[[#This Row],['#]])+(AVERAGEIFS(Baza[AFS],Baza[Date],Таблица46[[#This Row],['#]])*0.2),\"\")","v":""},"",{"$f":"IFERROR(COUNTIFS(Baza[Date],Таблица46[[#This Row],['#]],Baza[Win],\">0\")/C12*100,\"\")","v":""},{"$f":"IF(SUMIFS(Baza[KO$],Baza[Date],Таблица46[[#This Row],['#]])=0,\"\",SUMIFS(Baza[KO$],Baza[Date],Таблица46[[#This Row],['#]]))","v":""},{"$f":"IF(SUMIFS(Baza[WIN$],Baza[Date],Таблица46[[#This Row],['#]])=0,\"\",SUMIFS(Baza[WIN$],Baza[Date],Таблица46[[#This Row],['#]]))","v":""},""]
[null,{"$f":"IFERROR(INDEX(Baza[Date],SMALL(IF(SMALL(IF(COUNTIF($B$2:$B12,Baza[Date])=0,COUNTIF(Baza[Date],\"<\"&Baza[Date])+1,\"\"),1)=COUNTIF(Baza[Date],\"<\"&Baza[Date])+1,ROW(Baza[Date])-MIN(ROW(Baza[Date]))+1),1)),\"\")","v":""},{"$f":"IF(Таблица46[[#This Row],['#]]=\"\",\"\",COUNTIFS(Baza[Date],Таблица46[[#This Row],['#]])+SUMIFS(Baza[R],Baza[Date],Таблица46[[#This Row],['#]]))","v":""},{"$f":"IF(Таблица46[[#This Row],['#]]=\"\",\"\",SUMIFS(Baza[B$],Baza[Date],Таблица46[[#This Row],['#]]))","v":""},"",{"$f":"IFERROR(AVERAGEIFS(Baza[AFS],Baza[Date],Таблица46[[#This Row],['#]])+(AVERAGEIFS(Baza[AFS],Baza[Date],Таблица46[[#This Row],['#]])*0.2),\"\")","v":""},"",{"$f":"IFERROR(COUNTIFS(Baza[Date],Таблица46[[#This Row],['#]],Baza[Win],\">0\")/C13*100,\"\")","v":""},{"$f":"IF(SUMIFS(Baza[KO$],Baza[Date],Таблица46[[#This Row],['#]])=0,\"\",SUMIFS(Baza[KO$],Baza[Date],Таблица46[[#This Row],['#]]))","v":""},{"$f":"IF(SUMIFS(Baza[WIN$],Baza[Date],Таблица46[[#This Row],['#]])=0,\"\",SUMIFS(Baza[WIN$],Baza[Date],Таблица46[[#This Row],['#]]))","v":""},""]
[null,{"$f":"IFERROR(INDEX(Baza[Date],SMALL(IF(SMALL(IF(COUNTIF($B$2:$B13,Baza[Date])=0,COUNTIF(Baza[Date],\"<\"&Baza[Date])+1,\"\"),1)=COUNTIF(Baza[Date],\"<\"&Baza[Date])+1,ROW(Baza[Date])-MIN(ROW(Baza[Date]))+1),1)),\"\")","v":""},{"$f":"IF(Таблица46[[#This Row],['#]]=\"\",\"\",COUNTIFS(Baza[Date],Таблица46[[#This Row],['#]])+SUMIFS(Baza[R],Baza[Date],Таблица46[[#This Row],['#]]))","v":""},{"$f":"IF(Таблица46[[#This Row],['#]]=\"\",\"\",SUMIFS(Baza[B$],Baza[Date],Таблица46[[#This Row],['#]]))","v":""},"",{"$f":"IFERROR(AVERAGEIFS(Baza[AFS],Baza[Date],Таблица46[[#This Row],['#]])+(AVERAGEIFS(Baza[AFS],Baza[Date],Таблица46[[#This Row],['#]])*0.2),\"\")","v":""},"",{"$f":"IFERROR(COUNTIFS(Baza[Date],Таблица46[[#This Row],['#]],Baza[Win],\">0\")/C14*100,\"\")","v":""},{"$f":"IF(SUMIFS(Baza[KO$],Baza[Date],Таблица46[[#This Row],['#]])=0,\"\",SUMIFS(Baza[KO$],Baza[Date],Таблица46[[#This Row],['#]]))","v":""},{"$f":"IF(SUMIFS(Baza[WIN$],Baza[Date],Таблица46[[#This Row],['#]])=0,\"\",SUMIFS(Baza[WIN$],Baza[Date],Таблица46[[#This Row],['#]]))","v":""},""]
[null,{"$f":"IFERROR(INDEX(Baza[Date],SMALL(IF(SMALL(IF(COUNTIF($B$2:$B14,Baza[Date])=0,COUNTIF(Baza[Date],\"<\"&Baza[Date])+1,\"\"),1)=COUNTIF(Baza[Date],\"<\"&Baza[Date])+1,ROW(Baza[Date])-MIN(ROW(Baza[Date]))+1),1)),\"\")","v":""},{"$f":"IF(Таблица46[[#This Row],['#]]=\"\",\"\",COUNTIFS(Baza[Date],Таблица46[[#This Row],['#]])+SUMIFS(Baza[R],Baza[Date],Таблица46[[#This Row],['#]]))","v":""},{"$f":"IF(Таблица46[[#This Row],['#]]=\"\",\"\",SUMIFS(Baza[B$],Baza[Date],Таблица46[[#This Row],['#]]))","v":""},"",{"$f":"IFERROR(AVERAGEIFS(Baza[AFS],Baza[Date],Таблица46[[#This Row],['#]])+(AVERAGEIFS(Baza[AFS],Baza[Date],Таблица46[[#This Row],['#]])*0.2),\"\")","v":""},"",{"$f":"IFERROR(COUNTIFS(Baza[Date],Таблица46[[#This Row],['#]],Baza[Win],\">0\")/C15*100,\"\")","v":""},{"$f":"IF(SUMIFS(Baza[KO$],Baza[Date],Таблица46[[#This Row],['#]])=0,\"\",SUMIFS(Baza[KO$],Baza[Date],Таблица46[[#This Row],['#]]))","v":""},{"$f":"IF(SUMIFS(Baza[WIN$],Baza[Date],Таблица46[[#This Row],['#]])=0,\"\",SUMIFS(Baza[WIN$],Baza[Date],Таблица46[[#This Row],['#]]))","v":""},""]
[null,{"$f":"IFERROR(INDEX(Baza[Date],SMALL(IF(SMALL(IF(COUNTIF($B$2:$B15,Baza[Date])=0,COUNTIF(Baza[Date],\"<\"&Baza[Date])+1,\"\"),1)=COUNTIF(Baza[Date],\"<\"&Baza[Date])+1,ROW(Baza[Date])-MIN(ROW(Baza[Date]))+1),1)),\"\")","v":""},{"$f":"IF(Таблица46[[#This Row],['#]]=\"\",\"\",COUNTIFS(Baza[Date],Таблица46[[#This Row],['#]])+SUMIFS(Baza[R],Baza[Date],Таблица46[[#This Row],['#]]))","v":""},{"$f":"IF(Таблица46[[#This Row],['#]]=\"\",\"\",SUMIFS(Baza[B$],Baza[Date],Таблица46[[#This Row],['#]]))","v":""},"",{"$f":"IFERROR(AVERAGEIFS(Baza[AFS],Baza[Date],Таблица46[[#This Row],['#]])+(AVERAGEIFS(Baza[AFS],Baza[Date],Таблица46[[#This Row],['#]])*0.2),\"\")","v":""},"",{"$f":"IFERROR(COUNTIFS(Baza[Date],Таблица46[[#This Row],['#]],Baza[Win],\">0\")/C16*100,\"\")","v":""},{"$f":"IF(SUMIFS(Baza[KO$],Baza[Date],Таблица46[[#This Row],['#]])=0,\"\",SUMIFS(Baza[KO$],Baza[Date],Таблица46[[#This Row],['#]]))","v":""},{"$f":"IF(SUMIFS(Baza[WIN$],Baza[Date],Таблица46[[#This Row],['#]])=0,\"\",SUMIFS(Baza[WIN$],Baza[Date],Таблица46[[#This Row],['#]]))","v":""},""]
[null,{"$f":"IFERROR(INDEX(Baza[Date],SMALL(IF(SMALL(IF(COUNTIF($B$2:$B16,Baza[Date])=0,COUNTIF(Baza[Date],\"<\"&Baza[Date])+1,\"\"),1)=COUNTIF(Baza[Date],\"<\"&Baza[Date])+1,ROW(Baza[Date])-MIN(ROW(Baza[Date]))+1),1)),\"\")","v":""},{"$f":"IF(Таблица46[[#This Row],['#]]=\"\",\"\",COUNTIFS(Baza[Date],Таблица46[[#This Row],['#]])+SUMIFS(Baza[R],Baza[Date],Таблица46[[#This Row],['#]]))","v":""},{"$f":"IF(Таблица46[[#This Row],['#]]=\"\",\"\",SUMIFS(Baza[B$],Baza[Date],Таблица46[[#This Row],['#]]))","v":""},"",{"$f":"IFERROR(AVERAGEIFS(Baza[AFS],Baza[Date],Таблица46[[#This Row],['#]])+(AVERAGEIFS(Baza[AFS],Baza[Date],Таблица46[[#This Row],['#]])*0.2),\"\")","v":""},"",{"$f":"IFERROR(COUNTIFS(Baza[Date],Таблица46[[#This Row],['#]],Baza[Win],\">0\")/C17*100,\"\")","v":""},{"$f":"IF(SUMIFS(Baza[KO$],Baza[Date],Таблица46[[#This Row],['#]])=0,\"\",SUMIFS(Baza[KO$],Baza[Date],Таблица46[[#This Row],['#]]))","v":""},{"$f":"IF(SUMIFS(Baza[WIN$],Baza[Date],Таблица46[[#This Row],['#]])=0,\"\",SUMIFS(Baza[WIN$],Baza[Date],Таблица46[[#This Row],['#]]))","v":""},""]
[null,{"$f":"IFERROR(INDEX(Baza[Date],SMALL(IF(SMALL(IF(COUNTIF($B$2:$B17,Baza[Date])=0,COUNTIF(Baza[Date],\"<\"&Baza[Date])+1,\"\"),1)=COUNTIF(Baza[Date],\"<\"&Baza[Date])+1,ROW(Baza[Date])-MIN(ROW(Baza[Date]))+1),1)),\"\")","v":""},{"$f":"IF(Таблица46[[#This Row],['#]]=\"\",\"\",COUNTIFS(Baza[Date],Таблица46[[#This Row],['#]])+SUMIFS(Baza[R],Baza[Date],Таблица46[[#This Row],['#]]))","v":""},{"$f":"IF(Таблица46[[#This Row],['#]]=\"\",\"\",SUMIFS(Baza[B$],Baza[Date],Таблица46[[#This Row],['#]]))","v":""},"",{"$f":"IFERROR(AVERAGEIFS(Baza[AFS],Baza[Date],Таблица46[[#This Row],['#]])+(AVERAGEIFS(Baza[AFS],Baza[Date],Таблица46[[#This Row],['#]])*0.2),\"\")","v":""},"",{"$f":"IFERROR(COUNTIFS(Baza[Date],Таблица46[[#This Row],['#]],Baza[Win],\">0\")/C18*100,\"\")","v":""},{"$f":"IF(SUMIFS(Baza[KO$],Baza[Date],Таблица46[[#This Row],['#]])=0,\"\",SUMIFS(Baza[KO$],Baza[Date],Таблица46[[#This Row],['#]]))","v":""},{"$f":"IF(SUMIFS(Baza[WIN$],Baza[Date],Таблица46[[#This Row],['#]])=0,\"\",SUMIFS(Baza[WIN$],Baza[Date],Таблица46[[#This Row],['#]]))","v":""},""]
[null,{"$f":"IFERROR(INDEX(Baza[Date],SMALL(IF(SMALL(IF(COUNTIF($B$2:$B18,Baza[Date])=0,COUNTIF(Baza[Date],\"<\"&Baza[Date])+1,\"\"),1)=COUNTIF(Baza[Date],\"<\"&Baza[Date])+1,ROW(Baza[Date])-MIN(ROW(Baza[Date]))+1),1)),\"\")","v":""},{"$f":"IF(Таблица46[[#This Row],['#]]=\"\",\"\",COUNTIFS(Baza[Date],Таблица46[[#This Row],['#]])+SUMIFS(Baza[R],Baza[Date],Таблица46[[#This Row],['#]]))","v":""},{"$f":"IF(Таблица46[[#This Row],['#]]=\"\",\"\",SUMIFS(Baza[B$],Baza[Date],Таблица46[[#This Row],['#]]))","v":""},"",{"$f":"IFERROR(AVERAGEIFS(Baza[AFS],Baza[Date],Таблица46[[#This Row],['#]])+(AVERAGEIFS(Baza[AFS],Baza[Date],Таблица46[[#This Row],['#]])*0.2),\"\")","v":""},"",{"$f":"IFERROR(COUNTIFS(Baza[Date],Таблица46[[#This Row],['#]],Baza[Win],\">0\")/C19*100,\"\")","v":""},{"$f":"IF(SUMIFS(Baza[KO$],Baza[Date],Таблица46[[#This Row],['#]])=0,\"\",SUMIFS(Baza[KO$],Baza[Date],Таблица46[[#This Row],['#]]))","v":""},{"$f":"IF(SUMIFS(Baza[WIN$],Baza[Date],Таблица46[[#This Row],['#]])=0,\"\",SUMIFS(Baza[WIN$],Baza[Date],Таблица46[[#This Row],['#]]))","v":""},""]
[null,{"$f":"IFERROR(INDEX(Baza[Date],SMALL(IF(SMALL(IF(COUNTIF($B$2:$B19,Baza[Date])=0,COUNTIF(Baza[Date],\"<\"&Baza[Date])+1,\"\"),1)=COUNTIF(Baza[Date],\"<\"&Baza[Date])+1,ROW(Baza[Date])-MIN(ROW(Baza[Date]))+1),1)),\"\")","v":""},{"$f":"IF(Таблица46[[#This Row],['#]]=\"\",\"\",COUNTIFS(Baza[Date],Таблица46[[#This Row],['#]])+SUMIFS(Baza[R],Baza[Date],Таблица46[[#This Row],['#]]))","v":""},{"$f":"IF(Таблица46[[#This Row],['#]]=\"\",\"\",SUMIFS(Baza[B$],Baza[Date],Таблица46[[#This Row],['#]]))","v":""},"",{"$f":"IFERROR(AVERAGEIFS(Baza[AFS],Baza[Date],Таблица46[[#This Row],['#]])+(AVERAGEIFS(Baza[AFS],Baza[Date],Таблица46[[#This Row],['#]])*0.2),\"\")","v":""},"",{"$f":"IFERROR(COUNTIFS(Baza[Date],Таблица46[[#This Row],['#]],Baza[Win],\">0\")/C20*100,\"\")","v":""},{"$f":"IF(SUMIFS(Baza[KO$],Baza[Date],Таблица46[[#This Row],['#]])=0,\"\",SUMIFS(Baza[KO$],Baza[Date],Таблица46[[#This Row],['#]]))","v":""},{"$f":"IF(SUMIFS(Baza[WIN$],Baza[Date],Таблица46[[#This Row],['#]])=0,\"\",SUMIFS(Baza[WIN$],Baza[Date],Таблица46[[#This Row],['#]]))","v":""},""]
[null,{"$f":"IFERROR(INDEX(Baza[Date],SMALL(IF(SMALL(IF(COUNTIF($B$2:$B20,Baza[Date])=0,COUNTIF(Baza[Date],\"<\"&Baza[Date])+1,\"\"),1)=COUNTIF(Baza[Date],\"<\"&Baza[Date])+1,ROW(Baza[Date])-MIN(ROW(Baza[Date]))+1),1)),\"\")","v":""},{"$f":"IF(Таблица46[[#This Row],['#]]=\"\",\"\",COUNTIFS(Baza[Date],Таблица46[[#This Row],['#]])+SUMIFS(Baza[R],Baza[Date],Таблица46[[#This Row],['#]]))","v":""},{"$f":"IF(Таблица46[[#This Row],['#]]=\"\",\"\",SUMIFS(Baza[B$],Baza[Date],Таблица46[[#This Row],['#]]))","v":""},"",{"$f":"IFERROR(AVERAGEIFS(Baza[AFS],Baza[Date],Таблица46[[#This Row],['#]])+(AVERAGEIFS(Baza[AFS],Baza[Date],Таблица46[[#This Row],['#]])*0.2),\"\")","v":""},"",{"$f":"IFERROR(COUNTIFS(Baza[Date],Таблица46[[#This Row],['#]],Baza[Win],\">0\")/C21*100,\"\")","v":""},{"$f":"IF(SUMIFS(Baza[KO$],Baza[Date],Таблица46[[#This Row],['#]])=0,\"\",SUMIFS(Baza[KO$],Baza[Date],Таблица46[[#This Row],['#]]))","v":""},{"$f":"IF(SUMIFS(Baza[WIN$],Baza[Date],Таблица46[[#This Row],['#]])=0,\"\",SUMIFS(Baza[WIN$],Baza[Date],Таблица46[[#This Row],['#]]))","v":""},""]
[null,{"$f":"IFERROR(INDEX(Baza[Date],SMALL(IF(SMALL(IF(COUNTIF($B$2:$B21,Baza[Date])=0,COUNTIF(Baza[Date],\"<\"&Baza[Date])+1,\"\"),1)=COUNTIF(Baza[Date],\"<\"&Baza[Date])+1,ROW(Baza[Date])-MIN(ROW(Baza[Date]))+1),1)),\"\")","v":""},{"$f":"IF(Таблица46[[#This Row],['#]]=\"\",\"\",COUNTIFS(Baza[Date],Таблица46[[#This Row],['#]])+SUMIFS(Baza[R],Baza[Date],Таблица46[[#This Row],['#]]))","v":""},{"$f":"IF(Таблица46[[#This Row],['#]]=\"\",\"\",SUMIFS(Baza[B$],Baza[Date],Таблица46[[#This Row],['#]]))","v":""},"",{"$f":"IFERROR(AVERAGEIFS(Baza[AFS],Baza[Date],Таблица46[[#This Row],['#]])+(AVERAGEIFS(Baza[AFS],Baza[Date],Таблица46[[#This Row],['#]])*0.2),\"\")","v":""},"",{"$f":"IFERROR(COUNTIFS(Baza[Date],Таблица46[[#This Row],['#]],Baza[Win],\">0\")/C22*100,\"\")","v":""},{"$f":"IF(SUMIFS(Baza[KO$],Baza[Date],Таблица46[[#This Row],['#]])=0,\"\",SUMIFS(Baza[KO$],Baza[Date],Таблица46[[#This Row],['#]]))","v":""},{"$f":"IF(SUMIFS(Baza[WIN$],Baza[Date],Таблица46[[#This Row],['#]])=0,\"\",SUMIFS(Baza[WIN$],Baza[Date],Таблица46[[#This Row],['#]]))","v":""},""]
[null,{"$f":"IFERROR(INDEX(Baza[Date],SMALL(IF(SMALL(IF(COUNTIF($B$2:$B22,Baza[Date])=0,COUNTIF(Baza[Date],\"<\"&Baza[Date])+1,\"\"),1)=COUNTIF(Baza[Date],\"<\"&Baza[Date])+1,ROW(Baza[Date])-MIN(ROW(Baza[Date]))+1),1)),\"\")","v":""},{"$f":"IF(Таблица46[[#This Row],['#]]=\"\",\"\",COUNTIFS(Baza[Date],Таблица46[[#This Row],['#]])+SUMIFS(Baza[R],Baza[Date],Таблица46[[#This Row],['#]]))","v":""},{"$f":"IF(Таблица46[[#This Row],['#]]=\"\",\"\",SUMIFS(Baza[B$],Baza[Date],Таблица46[[#This Row],['#]]))","v":""},"",{"$f":"IFERROR(AVERAGEIFS(Baza[AFS],Baza[Date],Таблица46[[#This Row],['#]])+(AVERAGEIFS(Baza[AFS],Baza[Date],Таблица46[[#This Row],['#]])*0.2),\"\")","v":""},"",{"$f":"IFERROR(COUNTIFS(Baza[Date],Таблица46[[#This Row],['#]],Baza[Win],\">0\")/C23*100,\"\")","v":""},{"$f":"IF(SUMIFS(Baza[KO$],Baza[Date],Таблица46[[#This Row],['#]])=0,\"\",SUMIFS(Baza[KO$],Baza[Date],Таблица46[[#This Row],['#]]))","v":""},{"$f":"IF(SUMIFS(Baza[WIN$],Baza[Date],Таблица46[[#This Row],['#]])=0,\"\",SUMIFS(Baza[WIN$],Baza[Date],Таблица46[[#This Row],['#]]))","v":""},""]
[null,{"$f":"IFERROR(INDEX(Baza[Date],SMALL(IF(SMALL(IF(COUNTIF($B$2:$B23,Baza[Date])=0,COUNTIF(Baza[Date],\"<\"&Baza[Date])+1,\"\"),1)=COUNTIF(Baza[Date],\"<\"&Baza[Date])+1,ROW(Baza[Date])-MIN(ROW(Baza[Date]))+1),1)),\"\")","v":""},{"$f":"IF(Таблица46[[#This Row],['#]]=\"\",\"\",COUNTIFS(Baza[Date],Таблица46[[#This Row],['#]])+SUMIFS(Baza[R],Baza[Date],Таблица46[[#This Row],['#]]))","v":""},{"$f":"IF(Таблица46[[#This Row],['#]]=\"\",\"\",SUMIFS(Baza[B$],Baza[Date],Таблица46[[#This Row],['#]]))","v":""},"",{"$f":"IFERROR(AVERAGEIFS(Baza[AFS],Baza[Date],Таблица46[[#This Row],['#]])+(AVERAGEIFS(Baza[AFS],Baza[Date],Таблица46[[#This Row],['#]])*0.2),\"\")","v":""},"",{"$f":"IFERROR(COUNTIFS(Baza[Date],Таблица46[[#This Row],['#]],Baza[Win],\">0\")/C24*100,\"\")","v":""},{"$f":"IF(SUMIFS(Baza[KO$],Baza[Date],Таблица46[[#This Row],['#]])=0,\"\",SUMIFS(Baza[KO$],Baza[Date],Таблица46[[#This Row],['#]]))","v":""},{"$f":"IF(SUMIFS(Baza[WIN$],Baza[Date],Таблица46[[#This Row],['#]])=0,\"\",SUMIFS(Baza[WIN$],Baza[Date],Таблица46[[#This Row],['#]]))","v":""},""]
[null,{"$f":"IFERROR(INDEX(Baza[Date],SMALL(IF(SMALL(IF(COUNTIF($B$2:$B24,Baza[Date])=0,COUNTIF(Baza[Date],\"<\"&Baza[Date])+1,\"\"),1)=COUNTIF(Baza[Date],\"<\"&Baza[Date])+1,ROW(Baza[Date])-MIN(ROW(Baza[Date]))+1),1)),\"\")","v":""},{"$f":"IF(Таблица46[[#This Row],['#]]=\"\",\"\",COUNTIFS(Baza[Date],Таблица46[[#This Row],['#]])+SUMIFS(Baza[R],Baza[Date],Таблица46[[#This Row],['#]]))","v":""},{"$f":"IF(Таблица46[[#This Row],['#]]=\"\",\"\",SUMIFS(Baza[B$],Baza[Date],Таблица46[[#This Row],['#]]))","v":""},"",{"$f":"IFERROR(AVERAGEIFS(Baza[AFS],Baza[Date],Таблица46[[#This Row],['#]])+(AVERAGEIFS(Baza[AFS],Baza[Date],Таблица46[[#This Row],['#]])*0.2),\"\")","v":""},"",{"$f":"IFERROR(COUNTIFS(Baza[Date],Таблица46[[#This Row],['#]],Baza[Win],\">0\")/C25*100,\"\")","v":""},{"$f":"IF(SUMIFS(Baza[KO$],Baza[Date],Таблица46[[#This Row],['#]])=0,\"\",SUMIFS(Baza[KO$],Baza[Date],Таблица46[[#This Row],['#]]))","v":""},{"$f":"IF(SUMIFS(Baza[WIN$],Baza[Date],Таблица46[[#This Row],['#]])=0,\"\",SUMIFS(Baza[WIN$],Baza[Date],Таблица46[[#This Row],['#]]))","v":""},""]
[null,{"$f":"IFERROR(INDEX(Baza[Date],SMALL(IF(SMALL(IF(COUNTIF($B$2:$B25,Baza[Date])=0,COUNTIF(Baza[Date],\"<\"&Baza[Date])+1,\"\"),1)=COUNTIF(Baza[Date],\"<\"&Baza[Date])+1,ROW(Baza[Date])-MIN(ROW(Baza[Date]))+1),1)),\"\")","v":""},{"$f":"IF(Таблица46[[#This Row],['#]]=\"\",\"\",COUNTIFS(Baza[Date],Таблица46[[#This Row],['#]])+SUMIFS(Baza[R],Baza[Date],Таблица46[[#This Row],['#]]))","v":""},{"$f":"IF(Таблица46[[#This Row],['#]]=\"\",\"\",SUMIFS(Baza[B$],Baza[Date],Таблица46[[#This Row],['#]]))","v":""},"",{"$f":"IFERROR(AVERAGEIFS(Baza[AFS],Baza[Date],Таблица46[[#This Row],['#]])+(AVERAGEIFS(Baza[AFS],Baza[Date],Таблица46[[#This Row],['#]])*0.2),\"\")","v":""},"",{"$f":"IFERROR(COUNTIFS(Baza[Date],Таблица46[[#This Row],['#]],Baza[Win],\">0\")/C26*100,\"\")","v":""},{"$f":"IF(SUMIFS(Baza[KO$],Baza[Date],Таблица46[[#This Row],['#]])=0,\"\",SUMIFS(Baza[KO$],Baza[Date],Таблица46[[#This Row],['#]]))","v":""},{"$f":"IF(SUMIFS(Baza[WIN$],Baza[Date],Таблица46[[#This Row],['#]])=0,\"\",SUMIFS(Baza[WIN$],Baza[Date],Таблица46[[#This Row],['#]]))","v":""},""]
[null,{"$f":"IFERROR(INDEX(Baza[Date],SMALL(IF(SMALL(IF(COUNTIF($B$2:$B26,Baza[Date])=0,COUNTIF(Baza[Date],\"<\"&Baza[Date])+1,\"\"),1)=COUNTIF(Baza[Date],\"<\"&Baza[Date])+1,ROW(Baza[Date])-MIN(ROW(Baza[Date]))+1),1)),\"\")","v":""},{"$f":"IF(Таблица46[[#This Row],['#]]=\"\",\"\",COUNTIFS(Baza[Date],Таблица46[[#This Row],['#]])+SUMIFS(Baza[R],Baza[Date],Таблица46[[#This Row],['#]]))","v":""},{"$f":"IF(Таблица46[[#This Row],['#]]=\"\",\"\",SUMIFS(Baza[B$],Baza[Date],Таблица46[[#This Row],['#]]))","v":""},"",{"$f":"IFERROR(AVERAGEIFS(Baza[AFS],Baza[Date],Таблица46[[#This Row],['#]])+(AVERAGEIFS(Baza[AFS],Baza[Date],Таблица46[[#This Row],['#]])*0.2),\"\")","v":""},"",{"$f":"IFERROR(COUNTIFS(Baza[Date],Таблица46[[#This Row],['#]],Baza[Win],\">0\")/C27*100,\"\")","v":""},{"$f":"IF(SUMIFS(Baza[KO$],Baza[Date],Таблица46[[#This Row],['#]])=0,\"\",SUMIFS(Baza[KO$],Baza[Date],Таблица46[[#This Row],['#]]))","v":""},{"$f":"IF(SUMIFS(Baza[WIN$],Baza[Date],Таблица46[[#This Row],['#]])=0,\"\",SUMIFS(Baza[WIN$],Baza[Date],Таблица46[[#This Row],['#]]))","v":""},""]
[null,{"$f":"IFERROR(INDEX(Baza[Date],SMALL(IF(SMALL(IF(COUNTIF($B$2:$B27,Baza[Date])=0,COUNTIF(Baza[Date],\"<\"&Baza[Date])+1,\"\"),1)=COUNTIF(Baza[Date],\"<\"&Baza[Date])+1,ROW(Baza[Date])-MIN(ROW(Baza[Date]))+1),1)),\"\")","v":""},{"$f":"IF(Таблица46[[#This Row],['#]]=\"\",\"\",COUNTIFS(Baza[Date],Таблица46[[#This Row],['#]])+SUMIFS(Baza[R],Baza[Date],Таблица46[[#This Row],['#]]))","v":""},{"$f":"IF(Таблица46[[#This Row],['#]]=\"\",\"\",SUMIFS(Baza[B$],Baza[Date],Таблица46[[#This Row],['#]]))","v":""},"",{"$f":"IFERROR(AVERAGEIFS(Baza[AFS],Baza[Date],Таблица46[[#This Row],['#]])+(AVERAGEIFS(Baza[AFS],Baza[Date],Таблица46[[#This Row],['#]])*0.2),\"\")","v":""},"",{"$f":"IFERROR(COUNTIFS(Baza[Date],Таблица46[[#This Row],['#]],Baza[Win],\">0\")/C28*100,\"\")","v":""},{"$f":"IF(SUMIFS(Baza[KO$],Baza[Date],Таблица46[[#This Row],['#]])=0,\"\",SUMIFS(Baza[KO$],Baza[Date],Таблица46[[#This Row],['#]]))","v":""},{"$f":"IF(SUMIFS(Baza[WIN$],Baza[Date],Таблица46[[#This Row],['#]])=0,\"\",SUMIFS(Baza[WIN$],Baza[Date],Таблица46[[#This Row],['#]]))","v":""},""]
[null,{"$f":"IFERROR(INDEX(Baza[Date],SMALL(IF(SMALL(IF(COUNTIF($B$2:$B28,Baza[Date])=0,COUNTIF(Baza[Date],\"<\"&Baza[Date])+1,\"\"),1)=COUNTIF(Baza[Date],\"<\"&Baza[Date])+1,ROW(Baza[Date])-MIN(ROW(Baza[Date]))+1),1)),\"\")","v":""},{"$f":"IF(Таблица46[[#This Row],['#]]=\"\",\"\",COUNTIFS(Baza[Date],Таблица46[[#This Row],['#]])+SUMIFS(Baza[R],Baza[Date],Таблица46[[#This Row],['#]]))","v":""},{"$f":"IF(Таблица46[[#This Row],['#]]=\"\",\"\",SUMIFS(Baza[B$],Baza[Date],Таблица46[[#This Row],['#]]))","v":""},"",{"$f":"IFERROR(AVERAGEIFS(Baza[AFS],Baza[Date],Таблица46[[#This Row],['#]])+(AVERAGEIFS(Baza[AFS],Baza[Date],Таблица46[[#This Row],['#]])*0.2),\"\")","v":""},"",{"$f":"IFERROR(COUNTIFS(Baza[Date],Таблица46[[#This Row],['#]],Baza[Win],\">0\")/C29*100,\"\")","v":""},{"$f":"IF(SUMIFS(Baza[KO$],Baza[Date],Таблица46[[#This Row],['#]])=0,\"\",SUMIFS(Baza[KO$],Baza[Date],Таблица46[[#This Row],['#]]))","v":""},{"$f":"IF(SUMIFS(Baza[WIN$],Baza[Date],Таблица46[[#This Row],['#]])=0,\"\",SUMIFS(Baza[WIN$],Baza[Date],Таблица46[[#This Row],['#]]))","v":""},""]
[null,{"$f":"IFERROR(INDEX(Baza[Date],SMALL(IF(SMALL(IF(COUNTIF($B$2:$B29,Baza[Date])=0,COUNTIF(Baza[Date],\"<\"&Baza[Date])+1,\"\"),1)=COUNTIF(Baza[Date],\"<\"&Baza[Date])+1,ROW(Baza[Date])-MIN(ROW(Baza[Date]))+1),1)),\"\")","v":""},{"$f":"IF(Таблица46[[#This Row],['#]]=\"\",\"\",COUNTIFS(Baza[Date],Таблица46[[#This Row],['#]])+SUMIFS(Baza[R],Baza[Date],Таблица46[[#This Row],['#]]))","v":""},{"$f":"IF(Таблица46[[#This Row],['#]]=\"\",\"\",SUMIFS(Baza[B$],Baza[Date],Таблица46[[#This Row],['#]]))","v":""},"",{"$f":"IFERROR(AVERAGEIFS(Baza[AFS],Baza[Date],Таблица46[[#This Row],['#]])+(AVERAGEIFS(Baza[AFS],Baza[Date],Таблица46[[#This Row],['#]])*0.2),\"\")","v":""},"",{"$f":"IFERROR(COUNTIFS(Baza[Date],Таблица46[[#This Row],['#]],Baza[Win],\">0\")/C30*100,\"\")","v":""},{"$f":"IF(SUMIFS(Baza[KO$],Baza[Date],Таблица46[[#This Row],['#]])=0,\"\",SUMIFS(Baza[KO$],Baza[Date],Таблица46[[#This Row],['#]]))","v":""},{"$f":"IF(SUMIFS(Baza[WIN$],Baza[Date],Таблица46[[#This Row],['#]])=0,\"\",SUMIFS(Baza[WIN$],Baza[Date],Таблица46[[#This Row],['#]]))","v":""},""]
[null,{"$f":"IFERROR(INDEX(Baza[Date],SMALL(IF(SMALL(IF(COUNTIF($B$2:$B30,Baza[Date])=0,COUNTIF(Baza[Date],\"<\"&Baza[Date])+1,\"\"),1)=COUNTIF(Baza[Date],\"<\"&Baza[Date])+1,ROW(Baza[Date])-MIN(ROW(Baza[Date]))+1),1)),\"\")","v":""},{"$f":"IF(Таблица46[[#This Row],['#]]=\"\",\"\",COUNTIFS(Baza[Date],Таблица46[[#This Row],['#]])+SUMIFS(Baza[R],Baza[Date],Таблица46[[#This Row],['#]]))","v":""},{"$f":"IF(Таблица46[[#This Row],['#]]=\"\",\"\",SUMIFS(Baza[B$],Baza[Date],Таблица46[[#This Row],['#]]))","v":""},"",{"$f":"IFERROR(AVERAGEIFS(Baza[AFS],Baza[Date],Таблица46[[#This Row],['#]])+(AVERAGEIFS(Baza[AFS],Baza[Date],Таблица46[[#This Row],['#]])*0.2),\"\")","v":""},"",{"$f":"IFERROR(COUNTIFS(Baza[Date],Таблица46[[#This Row],['#]],Baza[Win],\">0\")/C31*100,\"\")","v":""},{"$f":"IF(SUMIFS(Baza[KO$],Baza[Date],Таблица46[[#This Row],['#]])=0,\"\",SUMIFS(Baza[KO$],Baza[Date],Таблица46[[#This Row],['#]]))","v":""},{"$f":"IF(SUMIFS(Baza[WIN$],Baza[Date],Таблица46[[#This Row],['#]])=0,\"\",SUMIFS(Baza[WIN$],Baza[Date],Таблица46[[#This Row],['#]]))","v":""},""]
[null,{"$f":"IFERROR(INDEX(Baza[Date],SMALL(IF(SMALL(IF(COUNTIF($B$2:$B31,Baza[Date])=0,COUNTIF(Baza[Date],\"<\"&Baza[Date])+1,\"\"),1)=COUNTIF(Baza[Date],\"<\"&Baza[Date])+1,ROW(Baza[Date])-MIN(ROW(Baza[Date]))+1),1)),\"\")","v":""},{"$f":"IF(Таблица46[[#This Row],['#]]=\"\",\"\",COUNTIFS(Baza[Date],Таблица46[[#This Row],['#]])+SUMIFS(Baza[R],Baza[Date],Таблица46[[#This Row],['#]]))","v":""},{"$f":"IF(Таблица46[[#This Row],['#]]=\"\",\"\",SUMIFS(Baza[B$],Baza[Date],Таблица46[[#This Row],['#]]))","v":""},"",{"$f":"IFERROR(AVERAGEIFS(Baza[AFS],Baza[Date],Таблица46[[#This Row],['#]])+(AVERAGEIFS(Baza[AFS],Baza[Date],Таблица46[[#This Row],['#]])*0.2),\"\")","v":""},"",{"$f":"IFERROR(COUNTIFS(Baza[Date],Таблица46[[#This Row],['#]],Baza[Win],\">0\")/C32*100,\"\")","v":""},{"$f":"IF(SUMIFS(Baza[KO$],Baza[Date],Таблица46[[#This Row],['#]])=0,\"\",SUMIFS(Baza[KO$],Baza[Date],Таблица46[[#This Row],['#]]))","v":""},{"$f":"IF(SUMIFS(Baza[WIN$],Baza[Date],Таблица46[[#This Row],['#]])=0,\"\",SUMIFS(Baza[WIN$],Baza[Date],Таблица46[[#This Row],['#]]))","v":""},""]
[null,{"$f":"IFERROR(INDEX(Baza[Date],SMALL(IF(SMALL(IF(COUNTIF($B$2:$B32,Baza[Date])=0,COUNTIF(Baza[Date],\"<\"&Baza[Date])+1,\"\"),1)=COUNTIF(Baza[Date],\"<\"&Baza[Date])+1,ROW(Baza[Date])-MIN(ROW(Baza[Date]))+1),1)),\"\")","v":""},{"$f":"IF(Таблица46[[#This Row],['#]]=\"\",\"\",COUNTIFS(Baza[Date],Таблица46[[#This Row],['#]])+SUMIFS(Baza[R],Baza[Date],Таблица46[[#This Row],['#]]))","v":""},{"$f":"IF(Таблица46[[#This Row],['#]]=\"\",\"\",SUMIFS(Baza[B$],Baza[Date],Таблица46[[#This Row],['#]]))","v":""},"",{"$f":"IFERROR(AVERAGEIFS(Baza[AFS],Baza[Date],Таблица46[[#This Row],['#]])+(AVERAGEIFS(Baza[AFS],Baza[Date],Таблица46[[#This Row],['#]])*0.2),\"\")","v":""},"",{"$f":"IFERROR(COUNTIFS(Baza[Date],Таблица46[[#This Row],['#]],Baza[Win],\">0\")/C33*100,\"\")","v":""},{"$f":"IF(SUMIFS(Baza[KO$],Baza[Date],Таблица46[[#This Row],['#]])=0,\"\",SUMIFS(Baza[KO$],Baza[Date],Таблица46[[#This Row],['#]]))","v":""},{"$f":"IF(SUMIFS(Baza[WIN$],Baza[Date],Таблица46[[#This Row],['#]])=0,\"\",SUMIFS(Baza[WIN$],Baza[Date],Таблица46[[#This Row],['#]]))","v":""},""]
[null,{"$f":"IFERROR(INDEX(Baza[Date],SMALL(IF(SMALL(IF(COUNTIF($B$2:$B33,Baza[Date])=0,COUNTIF(Baza[Date],\"<\"&Baza[Date])+1,\"\"),1)=COUNTIF(Baza[Date],\"<\"&Baza[Date])+1,ROW(Baza[Date])-MIN(ROW(Baza[Date]))+1),1)),\"\")","v":""},{"$f":"IF(Таблица46[[#This Row],['#]]=\"\",\"\",COUNTIFS(Baza[Date],Таблица46[[#This Row],['#]])+SUMIFS(Baza[R],Baza[Date],Таблица46[[#This Row],['#]]))","v":""},{"$f":"IF(Таблица46[[#This Row],['#]]=\"\",\"\",SUMIFS(Baza[B$],Baza[Date],Таблица46[[#This Row],['#]]))","v":""},"",{"$f":"IFERROR(AVERAGEIFS(Baza[AFS],Baza[Date],Таблица46[[#This Row],['#]])+(AVERAGEIFS(Baza[AFS],Baza[Date],Таблица46[[#This Row],['#]])*0.2),\"\")","v":""},"",{"$f":"IFERROR(COUNTIFS(Baza[Date],Таблица46[[#This Row],['#]],Baza[Win],\">0\")/C34*100,\"\")","v":""},{"$f":"IF(SUMIFS(Baza[KO$],Baza[Date],Таблица46[[#This Row],['#]])=0,\"\",SUMIFS(Baza[KO$],Baza[Date],Таблица46[[#This Row],['#]]))","v":""},{"$f":"IF(SUMIFS(Baza[WIN$],Baza[Date],Таблица46[[#This Row],['#]])=0,\"\",SUMIFS(Baza[WIN$],Baza[Date],Таблица46[[#This Row],['#]]))","v":""},""]
[null,{"$f":"IFERROR(INDEX(Baza[Date],SMALL(IF(SMALL(IF(COUNTIF($B$2:$B34,Baza[Date])=0,COUNTIF(Baza[Date],\"<\"&Baza[Date])+1,\"\"),1)=COUNTIF(Baza[Date],\"<\"&Baza[Date])+1,ROW(Baza[Date])-MIN(ROW(Baza[Date]))+1),1)),\"\")","v":""},{"$f":"IF(Таблица46[[#This Row],['#]]=\"\",\"\",COUNTIFS(Baza[Date],Таблица46[[#This Row],['#]])+SUMIFS(Baza[R],Baza[Date],Таблица46[[#This Row],['#]]))","v":""},{"$f":"IF(Таблица46[[#This Row],['#]]=\"\",\"\",SUMIFS(Baza[B$],Baza[Date],Таблица46[[#This Row],['#]]))","v":""},"",{"$f":"IFERROR(AVERAGEIFS(Baza[AFS],Baza[Date],Таблица46[[#This Row],['#]])+(AVERAGEIFS(Baza[AFS],Baza[Date],Таблица46[[#This Row],['#]])*0.2),\"\")","v":""},{"$f":"IFERROR(K35/D35*100,\"\")","v":""},{"$f":"IFERROR(COUNTIFS(Baza[Date],Таблица46[[#This Row],['#]],Baza[Win],\">0\")/C35*100,\"\")","v":""},{"$f":"IF(SUMIFS(Baza[KO$],Baza[Date],Таблица46[[#This Row],['#]])=0,\"\",SUMIFS(Baza[KO$],Baza[Date],Таблица46[[#This Row],['#]]))","v":""},{"$f":"IF(SUMIFS(Baza[WIN$],Baza[Date],Таблица46[[#This Row],['#]])=0,\"\",SUMIFS(Baza[WIN$],Baza[Date],Таблица46[[#This Row],['#]]))","v":""},{"$f":"IFERROR(IF(J35=\"\",0,J35)+IF(I35=\"\",0,I35)-D35,\"\")","v":""}]
[null,{"$f":"IFERROR(INDEX(Baza[Date],SMALL(IF(SMALL(IF(COUNTIF($B$2:$B35,Baza[Date])=0,COUNTIF(Baza[Date],\"<\"&Baza[Date])+1,\"\"),1)=COUNTIF(Baza[Date],\"<\"&Baza[Date])+1,ROW(Baza[Date])-MIN(ROW(Baza[Date]))+1),1)),\"\")","v":""},{"$f":"IF(Таблица46[[#This Row],['#]]=\"\",\"\",COUNTIFS(Baza[Date],Таблица46[[#This Row],['#]])+SUMIFS(Baza[R],Baza[Date],Таблица46[[#This Row],['#]]))","v":""},{"$f":"IF(Таблица46[[#This Row],['#]]=\"\",\"\",SUMIFS(Baza[B$],Baza[Date],Таблица46[[#This Row],['#]]))","v":""},"",{"$f":"IFERROR(AVERAGEIFS(Baza[AFS],Baza[Date],Таблица46[[#This Row],['#]])+(AVERAGEIFS(Baza[AFS],Baza[Date],Таблица46[[#This Row],['#]])*0.2),\"\")","v":""},"",{"$f":"IFERROR(COUNTIFS(Baza[Date],Таблица46[[#This Row],['#]],Baza[Win],\">0\")/C36*100,\"\")","v":""},{"$f":"IF(SUMIFS(Baza[KO$],Baza[Date],Таблица46[[#This Row],['#]])=0,\"\",SUMIFS(Baza[KO$],Baza[Date],Таблица46[[#This Row],['#]]))","v":""},{"$f":"IF(SUMIFS(Baza[WIN$],Baza[Date],Таблица46[[#This Row],['#]])=0,\"\",SUMIFS(Baza[WIN$],Baza[Date],Таблица46[[#This Row],['#]]))","v":""},""]
[null,{"$f":"IFERROR(INDEX(Baza[Date],SMALL(IF(SMALL(IF(COUNTIF($B$2:$B36,Baza[Date])=0,COUNTIF(Baza[Date],\"<\"&Baza[Date])+1,\"\"),1)=COUNTIF(Baza[Date],\"<\"&Baza[Date])+1,ROW(Baza[Date])-MIN(ROW(Baza[Date]))+1),1)),\"\")","v":""},{"$f":"IF(Таблица46[[#This Row],['#]]=\"\",\"\",COUNTIFS(Baza[Date],Таблица46[[#This Row],['#]])+SUMIFS(Baza[R],Baza[Date],Таблица46[[#This Row],['#]]))","v":""},{"$f":"IF(Таблица46[[#This Row],['#]]=\"\",\"\",SUMIFS(Baza[B$],Baza[Date],Таблица46[[#This Row],['#]]))","v":""},"",{"$f":"IFERROR(AVERAGEIFS(Baza[AFS],Baza[Date],Таблица46[[#This Row],['#]])+(AVERAGEIFS(Baza[AFS],Baza[Date],Таблица46[[#This Row],['#]])*0.2),\"\")","v":""},"",{"$f":"IFERROR(COUNTIFS(Baza[Date],Таблица46[[#This Row],['#]],Baza[Win],\">0\")/C37*100,\"\")","v":""},{"$f":"IF(SUMIFS(Baza[KO$],Baza[Date],Таблица46[[#This Row],['#]])=0,\"\",SUMIFS(Baza[KO$],Baza[Date],Таблица46[[#This Row],['#]]))","v":""},{"$f":"IF(SUMIFS(Baza[WIN$],Baza[Date],Таблица46[[#This Row],['#]])=0,\"\",SUMIFS(Baza[WIN$],Baza[Date],Таблица46[[#This Row],['#]]))","v":""},""]
[null,{"$f":"IFERROR(INDEX(Baza[Date],SMALL(IF(SMALL(IF(COUNTIF($B$2:$B37,Baza[Date])=0,COUNTIF(Baza[Date],\"<\"&Baza[Date])+1,\"\"),1)=COUNTIF(Baza[Date],\"<\"&Baza[Date])+1,ROW(Baza[Date])-MIN(ROW(Baza[Date]))+1),1)),\"\")","v":""},{"$f":"IF(Таблица46[[#This Row],['#]]=\"\",\"\",COUNTIFS(Baza[Date],Таблица46[[#This Row],['#]])+SUMIFS(Baza[R],Baza[Date],Таблица46[[#This Row],['#]]))","v":""},{"$f":"IF(Таблица46[[#This Row],['#]]=\"\",\"\",SUMIFS(Baza[B$],Baza[Date],Таблица46[[#This Row],['#]]))","v":""},"",{"$f":"IFERROR(AVERAGEIFS(Baza[AFS],Baza[Date],Таблица46[[#This Row],['#]])+(AVERAGEIFS(Baza[AFS],Baza[Date],Таблица46[[#This Row],['#]])*0.2),\"\")","v":""},"",{"$f":"IFERROR(COUNTIFS(Baza[Date],Таблица46[[#This Row],['#]],Baza[Win],\">0\")/C38*100,\"\")","v":""},{"$f":"IF(SUMIFS(Baza[KO$],Baza[Date],Таблица46[[#This Row],['#]])=0,\"\",SUMIFS(Baza[KO$],Baza[Date],Таблица46[[#This Row],['#]]))","v":""},{"$f":"IF(SUMIFS(Baza[WIN$],Baza[Date],Таблица46[[#This Row],['#]])=0,\"\",SUMIFS(Baza[WIN$],Baza[Date],Таблица46[[#This Row],['#]]))","v":""},""]
[null,{"$f":"IFERROR(INDEX(Baza[Date],SMALL(IF(SMALL(IF(COUNTIF($B$2:$B38,Baza[Date])=0,COUNTIF(Baza[Date],\"<\"&Baza[Date])+1,\"\"),1)=COUNTIF(Baza[Date],\"<\"&Baza[Date])+1,ROW(Baza[Date])-MIN(ROW(Baza[Date]))+1),1)),\"\")","v":""},{"$f":"IF(Таблица46[[#This Row],['#]]=\"\",\"\",COUNTIFS(Baza[Date],Таблица46[[#This Row],['#]])+SUMIFS(Baza[R],Baza[Date],Таблица46[[#This Row],['#]]))","v":""},{"$f":"IF(Таблица46[[#This Row],['#]]=\"\",\"\",SUMIFS(Baza[B$],Baza[Date],Таблица46[[#This Row],['#]]))","v":""},"",{"$f":"IFERROR(AVERAGEIFS(Baza[AFS],Baza[Date],Таблица46[[#This Row],['#]])+(AVERAGEIFS(Baza[AFS],Baza[Date],Таблица46[[#This Row],['#]])*0.2),\"\")","v":""},"",{"$f":"IFERROR(COUNTIFS(Baza[Date],Таблица46[[#This Row],['#]],Baza[Win],\">0\")/C39*100,\"\")","v":""},{"$f":"IF(SUMIFS(Baza[KO$],Baza[Date],Таблица46[[#This Row],['#]])=0,\"\",SUMIFS(Baza[KO$],Baza[Date],Таблица46[[#This Row],['#]]))","v":""},{"$f":"IF(SUMIFS(Baza[WIN$],Baza[Date],Таблица46[[#This Row],['#]])=0,\"\",SUMIFS(Baza[WIN$],Baza[Date],Таблица46[[#This Row],['#]]))","v":""},""]
[null,{"$f":"IFERROR(INDEX(Baza[Date],SMALL(IF(SMALL(IF(COUNTIF($B$2:$B39,Baza[Date])=0,COUNTIF(Baza[Date],\"<\"&Baza[Date])+1,\"\"),1)=COUNTIF(Baza[Date],\"<\"&Baza[Date])+1,ROW(Baza[Date])-MIN(ROW(Baza[Date]))+1),1)),\"\")","v":""},{"$f":"IF(Таблица46[[#This Row],['#]]=\"\",\"\",COUNTIFS(Baza[Date],Таблица46[[#This Row],['#]])+SUMIFS(Baza[R],Baza[Date],Таблица46[[#This Row],['#]]))","v":""},{"$f":"IF(Таблица46[[#This Row],['#]]=\"\",\"\",SUMIFS(Baza[B$],Baza[Date],Таблица46[[#This Row],['#]]))","v":""},"",{"$f":"IFERROR(AVERAGEIFS(Baza[AFS],Baza[Date],Таблица46[[#This Row],['#]])+(AVERAGEIFS(Baza[AFS],Baza[Date],Таблица46[[#This Row],['#]])*0.2),\"\")","v":""},"",{"$f":"IFERROR(COUNTIFS(Baza[Date],Таблица46[[#This Row],['#]],Baza[Win],\">0\")/C40*100,\"\")","v":""},{"$f":"IF(SUMIFS(Baza[KO$],Baza[Date],Таблица46[[#This Row],['#]])=0,\"\",SUMIFS(Baza[KO$],Baza[Date],Таблица46[[#This Row],['#]]))","v":""},{"$f":"IF(SUMIFS(Baza[WIN$],Baza[Date],Таблица46[[#This Row],['#]])=0,\"\",SUMIFS(Baza[WIN$],Baza[Date],Таблица46[[#This Row],['#]]))","v":""},""]
[null,{"$f":"IFERROR(INDEX(Baza[Date],SMALL(IF(SMALL(IF(COUNTIF($B$2:$B40,Baza[Date])=0,COUNTIF(Baza[Date],\"<\"&Baza[Date])+1,\"\"),1)=COUNTIF(Baza[Date],\"<\"&Baza[Date])+1,ROW(Baza[Date])-MIN(ROW(Baza[Date]))+1),1)),\"\")","v":""},{"$f":"IF(Таблица46[[#This Row],['#]]=\"\",\"\",COUNTIFS(Baza[Date],Таблица46[[#This Row],['#]])+SUMIFS(Baza[R],Baza[Date],Таблица46[[#This Row],['#]]))","v":""},{"$f":"IF(Таблица46[[#This Row],['#]]=\"\",\"\",SUMIFS(Baza[B$],Baza[Date],Таблица46[[#This Row],['#]]))","v":""},"",{"$f":"IFERROR(AVERAGEIFS(Baza[AFS],Baza[Date],Таблица46[[#This Row],['#]])+(AVERAGEIFS(Baza[AFS],Baza[Date],Таблица46[[#This Row],['#]])*0.2),\"\")","v":""},"",{"$f":"IFERROR(COUNTIFS(Baza[Date],Таблица46[[#This Row],['#]],Baza[Win],\">0\")/C41*100,\"\")","v":""},{"$f":"IF(SUMIFS(Baza[KO$],Baza[Date],Таблица46[[#This Row],['#]])=0,\"\",SUMIFS(Baza[KO$],Baza[Date],Таблица46[[#This Row],['#]]))","v":""},{"$f":"IF(SUMIFS(Baza[WIN$],Baza[Date],Таблица46[[#This Row],['#]])=0,\"\",SUMIFS(Baza[WIN$],Baza[Date],Таблица46[[#This Row],['#]]))","v":""},""]
[null,{"$f":"IFERROR(INDEX(Baza[Date],SMALL(IF(SMALL(IF(COUNTIF($B$2:$B41,Baza[Date])=0,COUNTIF(Baza[Date],\"<\"&Baza[Date])+1,\"\"),1)=COUNTIF(Baza[Date],\"<\"&Baza[Date])+1,ROW(Baza[Date])-MIN(ROW(Baza[Date]))+1),1)),\"\")","v":""},{"$f":"IF(Таблица46[[#This Row],['#]]=\"\",\"\",COUNTIFS(Baza[Date],Таблица46[[#This Row],['#]])+SUMIFS(Baza[R],Baza[Date],Таблица46[[#This Row],['#]]))","v":""},{"$f":"IF(Таблица46[[#This Row],['#]]=\"\",\"\",SUMIFS(Baza[B$],Baza[Date],Таблица46[[#This Row],['#]]))","v":""},"",{"$f":"IFERROR(AVERAGEIFS(Baza[AFS],Baza[Date],Таблица46[[#This Row],['#]])+(AVERAGEIFS(Baza[AFS],Baza[Date],Таблица46[[#This Row],['#]])*0.2),\"\")","v":""},"",{"$f":"IFERROR(COUNTIFS(Baza[Date],Таблица46[[#This Row],['#]],Baza[Win],\">0\")/C42*100,\"\")","v":""},{"$f":"IF(SUMIFS(Baza[KO$],Baza[Date],Таблица46[[#This Row],['#]])=0,\"\",SUMIFS(Baza[KO$],Baza[Date],Таблица46[[#This Row],['#]]))","v":""},{"$f":"IF(SUMIFS(Baza[WIN$],Baza[Date],Таблица46[[#This Row],['#]])=0,\"\",SUMIFS(Baza[WIN$],Baza[Date],Таблица46[[#This Row],['#]]))","v":""},""]
[null,{"$f":"IFERROR(INDEX(Baza[Date],SMALL(IF(SMALL(IF(COUNTIF($B$2:$B42,Baza[Date])=0,COUNTIF(Baza[Date],\"<\"&Baza[Date])+1,\"\"),1)=COUNTIF(Baza[Date],\"<\"&Baza[Date])+1,ROW(Baza[Date])-MIN(ROW(Baza[Date]))+1),1)),\"\")","v":""},{"$f":"IF(Таблица46[[#This Row],['#]]=\"\",\"\",COUNTIFS(Baza[Date],Таблица46[[#This Row],['#]])+SUMIFS(Baza[R],Baza[Date],Таблица46[[#This Row],['#]]))","v":""},{"$f":"IF(Таблица46[[#This Row],['#]]=\"\",\"\",SUMIFS(Baza[B$],Baza[Date],Таблица46[[#This Row],['#]]))","v":""},"",{"$f":"IFERROR(AVERAGEIFS(Baza[AFS],Baza[Date],Таблица46[[#This Row],['#]])+(AVERAGEIFS(Baza[AFS],Baza[Date],Таблица46[[#This Row],['#]])*0.2),\"\")","v":""},"",{"$f":"IFERROR(COUNTIFS(Baza[Date],Таблица46[[#This Row],['#]],Baza[Win],\">0\")/C43*100,\"\")","v":""},{"$f":"IF(SUMIFS(Baza[KO$],Baza[Date],Таблица46[[#This Row],['#]])=0,\"\",SUMIFS(Baza[KO$],Baza[Date],Таблица46[[#This Row],['#]]))","v":""},{"$f":"IF(SUMIFS(Baza[WIN$],Baza[Date],Таблица46[[#This Row],['#]])=0,\"\",SUMIFS(Baza[WIN$],Baza[Date],Таблица46[[#This Row],['#]]))","v":""},""]
[null,{"$f":"IFERROR(INDEX(Baza[Date],SMALL(IF(SMALL(IF(COUNTIF($B$2:$B43,Baza[Date])=0,COUNTIF(Baza[Date],\"<\"&Baza[Date])+1,\"\"),1)=COUNTIF(Baza[Date],\"<\"&Baza[Date])+1,ROW(Baza[Date])-MIN(ROW(Baza[Date]))+1),1)),\"\")","v":""},{"$f":"IF(Таблица46[[#This Row],['#]]=\"\",\"\",COUNTIFS(Baza[Date],Таблица46[[#This Row],['#]])+SUMIFS(Baza[R],Baza[Date],Таблица46[[#This Row],['#]]))","v":""},{"$f":"IF(Таблица46[[#This Row],['#]]=\"\",\"\",SUMIFS(Baza[B$],Baza[Date],Таблица46[[#This Row],['#]]))","v":""},"",{"$f":"IFERROR(AVERAGEIFS(Baza[AFS],Baza[Date],Таблица46[[#This Row],['#]])+(AVERAGEIFS(Baza[AFS],Baza[Date],Таблица46[[#This Row],['#]])*0.2),\"\")","v":""},"",{"$f":"IFERROR(COUNTIFS(Baza[Date],Таблица46[[#This Row],['#]],Baza[Win],\">0\")/C44*100,\"\")","v":""},{"$f":"IF(SUMIFS(Baza[KO$],Baza[Date],Таблица46[[#This Row],['#]])=0,\"\",SUMIFS(Baza[KO$],Baza[Date],Таблица46[[#This Row],['#]]))","v":""},{"$f":"IF(SUMIFS(Baza[WIN$],Baza[Date],Таблица46[[#This Row],['#]])=0,\"\",SUMIFS(Baza[WIN$],Baza[Date],Таблица46[[#This Row],['#]]))","v":""},""]
[null,{"$f":"IFERROR(INDEX(Baza[Date],SMALL(IF(SMALL(IF(COUNTIF($B$2:$B44,Baza[Date])=0,COUNTIF(Baza[Date],\"<\"&Baza[Date])+1,\"\"),1)=COUNTIF(Baza[Date],\"<\"&Baza[Date])+1,ROW(Baza[Date])-MIN(ROW(Baza[Date]))+1),1)),\"\")","v":""},{"$f":"IF(Таблица46[[#This Row],['#]]=\"\",\"\",COUNTIFS(Baza[Date],Таблица46[[#This Row],['#]])+SUMIFS(Baza[R],Baza[Date],Таблица46[[#This Row],['#]]))","v":""},{"$f":"IF(Таблица46[[#This Row],['#]]=\"\",\"\",SUMIFS(Baza[B$],Baza[Date],Таблица46[[#This Row],['#]]))","v":""},"",{"$f":"IFERROR(AVERAGEIFS(Baza[AFS],Baza[Date],Таблица46[[#This Row],['#]])+(AVERAGEIFS(Baza[AFS],Baza[Date],Таблица46[[#This Row],['#]])*0.2),\"\")","v":""},"",{"$f":"IFERROR(COUNTIFS(Baza[Date],Таблица46[[#This Row],['#]],Baza[Win],\">0\")/C45*100,\"\")","v":""},{"$f":"IF(SUMIFS(Baza[KO$],Baza[Date],Таблица46[[#This Row],['#]])=0,\"\",SUMIFS(Baza[KO$],Baza[Date],Таблица46[[#This Row],['#]]))","v":""},{"$f":"IF(SUMIFS(Baza[WIN$],Baza[Date],Таблица46[[#This Row],['#]])=0,\"\",SUMIFS(Baza[WIN$],Baza[Date],Таблица46[[#This Row],['#]]))","v":""},""]
[null,{"$f":"IFERROR(INDEX(Baza[Date],SMALL(IF(SMALL(IF(COUNTIF($B$2:$B45,Baza[Date])=0,COUNTIF(Baza[Date],\"<\"&Baza[Date])+1,\"\"),1)=COUNTIF(Baza[Date],\"<\"&Baza[Date])+1,ROW(Baza[Date])-MIN(ROW(Baza[Date]))+1),1)),\"\")","v":""},{"$f":"IF(Таблица46[[#This Row],['#]]=\"\",\"\",COUNTIFS(Baza[Date],Таблица46[[#This Row],['#]])+SUMIFS(Baza[R],Baza[Date],Таблица46[[#This Row],['#]]))","v":""},{"$f":"IF(Таблица46[[#This Row],['#]]=\"\",\"\",SUMIFS(Baza[B$],Baza[Date],Таблица46[[#This Row],['#]]))","v":""},"",{"$f":"IFERROR(AVERAGEIFS(Baza[AFS],Baza[Date],Таблица46[[#This Row],['#]])+(AVERAGEIFS(Baza[AFS],Baza[Date],Таблица46[[#This Row],['#]])*0.2),\"\")","v":""},"",{"$f":"IFERROR(COUNTIFS(Baza[Date],Таблица46[[#This Row],['#]],Baza[Win],\">0\")/C46*100,\"\")","v":""},{"$f":"IF(SUMIFS(Baza[KO$],Baza[Date],Таблица46[[#This Row],['#]])=0,\"\",SUMIFS(Baza[KO$],Baza[Date],Таблица46[[#This Row],['#]]))","v":""},{"$f":"IF(SUMIFS(Baza[WIN$],Baza[Date],Таблица46[[#This Row],['#]])=0,\"\",SUMIFS(Baza[WIN$],Baza[Date],Таблица46[[#This Row],['#]]))","v":""},""]
[null,{"$f":"IFERROR(INDEX(Baza[Date],SMALL(IF(SMALL(IF(COUNTIF($B$2:$B46,Baza[Date])=0,COUNTIF(Baza[Date],\"<\"&Baza[Date])+1,\"\"),1)=COUNTIF(Baza[Date],\"<\"&Baza[Date])+1,ROW(Baza[Date])-MIN(ROW(Baza[Date]))+1),1)),\"\")","v":""},{"$f":"IF(Таблица46[[#This Row],['#]]=\"\",\"\",COUNTIFS(Baza[Date],Таблица46[[#This Row],['#]])+SUMIFS(Baza[R],Baza[Date],Таблица46[[#This Row],['#]]))","v":""},{"$f":"IF(Таблица46[[#This Row],['#]]=\"\",\"\",SUMIFS(Baza[B$],Baza[Date],Таблица46[[#This Row],['#]]))","v":""},"",{"$f":"IFERROR(AVERAGEIFS(Baza[AFS],Baza[Date],Таблица46[[#This Row],['#]])+(AVERAGEIFS(Baza[AFS],Baza[Date],Таблица46[[#This Row],['#]])*0.2),\"\")","v":""},"",{"$f":"IFERROR(COUNTIFS(Baza[Date],Таблица46[[#This Row],['#]],Baza[Win],\">0\")/C47*100,\"\")","v":""},{"$f":"IF(SUMIFS(Baza[KO$],Baza[Date],Таблица46[[#This Row],['#]])=0,\"\",SUMIFS(Baza[KO$],Baza[Date],Таблица46[[#This Row],['#]]))","v":""},{"$f":"IF(SUMIFS(Baza[WIN$],Baza[Date],Таблица46[[#This Row],['#]])=0,\"\",SUMIFS(Baza[WIN$],Baza[Date],Таблица46[[#This Row],['#]]))","v":""},""]
[null,{"$f":"IFERROR(INDEX(Baza[Date],SMALL(IF(SMALL(IF(COUNTIF($B$2:$B47,Baza[Date])=0,COUNTIF(Baza[Date],\"<\"&Baza[Date])+1,\"\"),1)=COUNTIF(Baza[Date],\"<\"&Baza[Date])+1,ROW(Baza[Date])-MIN(ROW(Baza[Date]))+1),1)),\"\")","v":""},{"$f":"IF(Таблица46[[#This Row],['#]]=\"\",\"\",COUNTIFS(Baza[Date],Таблица46[[#This Row],['#]])+SUMIFS(Baza[R],Baza[Date],Таблица46[[#This Row],['#]]))","v":""},{"$f":"IF(Таблица46[[#This Row],['#]]=\"\",\"\",SUMIFS(Baza[B$],Baza[Date],Таблица46[[#This Row],['#]]))","v":""},"",{"$f":"IFERROR(AVERAGEIFS(Baza[AFS],Baza[Date],Таблица46[[#This Row],['#]])+(AVERAGEIFS(Baza[AFS],Baza[Date],Таблица46[[#This Row],['#]])*0.2),\"\")","v":""},"",{"$f":"IFERROR(COUNTIFS(Baza[Date],Таблица46[[#This Row],['#]],Baza[Win],\">0\")/C48*100,\"\")","v":""},{"$f":"IF(SUMIFS(Baza[KO$],Baza[Date],Таблица46[[#This Row],['#]])=0,\"\",SUMIFS(Baza[KO$],Baza[Date],Таблица46[[#This Row],['#]]))","v":""},{"$f":"IF(SUMIFS(Baza[WIN$],Baza[Date],Таблица46[[#This Row],['#]])=0,\"\",SUMIFS(Baza[WIN$],Baza[Date],Таблица46[[#This Row],['#]]))","v":""},""]
[null,{"$f":"IFERROR(INDEX(Baza[Date],SMALL(IF(SMALL(IF(COUNTIF($B$2:$B48,Baza[Date])=0,COUNTIF(Baza[Date],\"<\"&Baza[Date])+1,\"\"),1)=COUNTIF(Baza[Date],\"<\"&Baza[Date])+1,ROW(Baza[Date])-MIN(ROW(Baza[Date]))+1),1)),\"\")","v":""},{"$f":"IF(Таблица46[[#This Row],['#]]=\"\",\"\",COUNTIFS(Baza[Date],Таблица46[[#This Row],['#]])+SUMIFS(Baza[R],Baza[Date],Таблица46[[#This Row],['#]]))","v":""},{"$f":"IF(Таблица46[[#This Row],['#]]=\"\",\"\",SUMIFS(Baza[B$],Baza[Date],Таблица46[[#This Row],['#]]))","v":""},"",{"$f":"IFERROR(AVERAGEIFS(Baza[AFS],Baza[Date],Таблица46[[#This Row],['#]])+(AVERAGEIFS(Baza[AFS],Baza[Date],Таблица46[[#This Row],['#]])*0.2),\"\")","v":""},"",{"$f":"IFERROR(COUNTIFS(Baza[Date],Таблица46[[#This Row],['#]],Baza[Win],\">0\")/C49*100,\"\")","v":""},{"$f":"IF(SUMIFS(Baza[KO$],Baza[Date],Таблица46[[#This Row],['#]])=0,\"\",SUMIFS(Baza[KO$],Baza[Date],Таблица46[[#This Row],['#]]))","v":""},{"$f":"IF(SUMIFS(Baza[WIN$],Baza[Date],Таблица46[[#This Row],['#]])=0,\"\",SUMIFS(Baza[WIN$],Baza[Date],Таблица46[[#This Row],['#]]))","v":""},""]
[null,{"$f":"IFERROR(INDEX(Baza[Date],SMALL(IF(SMALL(IF(COUNTIF($B$2:$B49,Baza[Date])=0,COUNTIF(Baza[Date],\"<\"&Baza[Date])+1,\"\"),1)=COUNTIF(Baza[Date],\"<\"&Baza[Date])+1,ROW(Baza[Date])-MIN(ROW(Baza[Date]))+1),1)),\"\")","v":""},{"$f":"IF(Таблица46[[#This Row],['#]]=\"\",\"\",COUNTIFS(Baza[Date],Таблица46[[#This Row],['#]])+SUMIFS(Baza[R],Baza[Date],Таблица46[[#This Row],['#]]))","v":""},{"$f":"IF(Таблица46[[#This Row],['#]]=\"\",\"\",SUMIFS(Baza[B$],Baza[Date],Таблица46[[#This Row],['#]]))","v":""},"",{"$f":"IFERROR(AVERAGEIFS(Baza[AFS],Baza[Date],Таблица46[[#This Row],['#]])+(AVERAGEIFS(Baza[AFS],Baza[Date],Таблица46[[#This Row],['#]])*0.2),\"\")","v":""},"",{"$f":"IFERROR(COUNTIFS(Baza[Date],Таблица46[[#This Row],['#]],Baza[Win],\">0\")/C50*100,\"\")","v":""},{"$f":"IF(SUMIFS(Baza[KO$],Baza[Date],Таблица46[[#This Row],['#]])=0,\"\",SUMIFS(Baza[KO$],Baza[Date],Таблица46[[#This Row],['#]]))","v":""},{"$f":"IF(SUMIFS(Baza[WIN$],Baza[Date],Таблица46[[#This Row],['#]])=0,\"\",SUMIFS(Baza[WIN$],Baza[Date],Таблица46[[#This Row],['#]]))","v":""},""]
[null,{"$f":"IFERROR(INDEX(Baza[Date],SMALL(IF(SMALL(IF(COUNTIF($B$2:$B50,Baza[Date])=0,COUNTIF(Baza[Date],\"<\"&Baza[Date])+1,\"\"),1)=COUNTIF(Baza[Date],\"<\"&Baza[Date])+1,ROW(Baza[Date])-MIN(ROW(Baza[Date]))+1),1)),\"\")","v":""},{"$f":"IF(Таблица46[[#This Row],['#]]=\"\",\"\",COUNTIFS(Baza[Date],Таблица46[[#This Row],['#]])+SUMIFS(Baza[R],Baza[Date],Таблица46[[#This Row],['#]]))","v":""},{"$f":"IF(Таблица46[[#This Row],['#]]=\"\",\"\",SUMIFS(Baza[B$],Baza[Date],Таблица46[[#This Row],['#]]))","v":""},"",{"$f":"IFERROR(AVERAGEIFS(Baza[AFS],Baza[Date],Таблица46[[#This Row],['#]])+(AVERAGEIFS(Baza[AFS],Baza[Date],Таблица46[[#This Row],['#]])*0.2),\"\")","v":""},"",{"$f":"IFERROR(COUNTIFS(Baza[Date],Таблица46[[#This Row],['#]],Baza[Win],\">0\")/C51*100,\"\")","v":""},{"$f":"IF(SUMIFS(Baza[KO$],Baza[Date],Таблица46[[#This Row],['#]])=0,\"\",SUMIFS(Baza[KO$],Baza[Date],Таблица46[[#This Row],['#]]))","v":""},{"$f":"IF(SUMIFS(Baza[WIN$],Baza[Date],Таблица46[[#This Row],['#]])=0,\"\",SUMIFS(Baza[WIN$],Baza[Date],Таблица46[[#This Row],['#]]))","v":""},""]
[null,{"$f":"IFERROR(INDEX(Baza[Date],SMALL(IF(SMALL(IF(COUNTIF($B$2:$B51,Baza[Date])=0,COUNTIF(Baza[Date],\"<\"&Baza[Date])+1,\"\"),1)=COUNTIF(Baza[Date],\"<\"&Baza[Date])+1,ROW(Baza[Date])-MIN(ROW(Baza[Date]))+1),1)),\"\")","v":""},{"$f":"IF(Таблица46[[#This Row],['#]]=\"\",\"\",COUNTIFS(Baza[Date],Таблица46[[#This Row],['#]])+SUMIFS(Baza[R],Baza[Date],Таблица46[[#This Row],['#]]))","v":""},{"$f":"IF(Таблица46[[#This Row],['#]]=\"\",\"\",SUMIFS(Baza[B$],Baza[Date],Таблица46[[#This Row],['#]]))","v":""},"",{"$f":"IFERROR(AVERAGEIFS(Baza[AFS],Baza[Date],Таблица46[[#This Row],['#]])+(AVERAGEIFS(Baza[AFS],Baza[Date],Таблица46[[#This Row],['#]])*0.2),\"\")","v":""},"",{"$f":"IFERROR(COUNTIFS(Baza[Date],Таблица46[[#This Row],['#]],Baza[Win],\">0\")/C52*100,\"\")","v":""},{"$f":"IF(SUMIFS(Baza[KO$],Baza[Date],Таблица46[[#This Row],['#]])=0,\"\",SUMIFS(Baza[KO$],Baza[Date],Таблица46[[#This Row],['#]]))","v":""},{"$f":"IF(SUMIFS(Baza[WIN$],Baza[Date],Таблица46[[#This Row],['#]])=0,\"\",SUMIFS(Baza[WIN$],Baza[Date],Таблица46[[#This Row],['#]]))","v":""},""]
[null,{"$f":"IFERROR(INDEX(Baza[Date],SMALL(IF(SMALL(IF(COUNTIF($B$2:$B52,Baza[Date])=0,COUNTIF(Baza[Date],\"<\"&Baza[Date])+1,\"\"),1)=COUNTIF(Baza[Date],\"<\"&Baza[Date])+1,ROW(Baza[Date])-MIN(ROW(Baza[Date]))+1),1)),\"\")","v":""},{"$f":"IF(Таблица46[[#This Row],['#]]=\"\",\"\",COUNTIFS(Baza[Date],Таблица46[[#This Row],['#]])+SUMIFS(Baza[R],Baza[Date],Таблица46[[#This Row],['#]]))","v":""},{"$f":"IF(Таблица46[[#This Row],['#]]=\"\",\"\",SUMIFS(Baza[B$],Baza[Date],Таблица46[[#This Row],['#]]))","v":""},"",{"$f":"IFERROR(AVERAGEIFS(Baza[AFS],Baza[Date],Таблица46[[#This Row],['#]])+(AVERAGEIFS(Baza[AFS],Baza[Date],Таблица46[[#This Row],['#]])*0.2),\"\")","v":""},"",{"$f":"IFERROR(COUNTIFS(Baza[Date],Таблица46[[#This Row],['#]],Baza[Win],\">0\")/C53*100,\"\")","v":""},{"$f":"IF(SUMIFS(Baza[KO$],Baza[Date],Таблица46[[#This Row],['#]])=0,\"\",SUMIFS(Baza[KO$],Baza[Date],Таблица46[[#This Row],['#]]))","v":""},{"$f":"IF(SUMIFS(Baza[WIN$],Baza[Date],Таблица46[[#This Row],['#]])=0,\"\",SUMIFS(Baza[WIN$],Baza[Date],Таблица46[[#This Row],['#]]))","v":""},""]
[null,{"$f":"IFERROR(INDEX(Baza[Date],SMALL(IF(SMALL(IF(COUNTIF($B$2:$B53,Baza[Date])=0,COUNTIF(Baza[Date],\"<\"&Baza[Date])+1,\"\"),1)=COUNTIF(Baza[Date],\"<\"&Baza[Date])+1,ROW(Baza[Date])-MIN(ROW(Baza[Date]))+1),1)),\"\")","v":""},{"$f":"IF(Таблица46[[#This Row],['#]]=\"\",\"\",COUNTIFS(Baza[Date],Таблица46[[#This Row],['#]])+SUMIFS(Baza[R],Baza[Date],Таблица46[[#This Row],['#]]))","v":""},{"$f":"IF(Таблица46[[#This Row],['#]]=\"\",\"\",SUMIFS(Baza[B$],Baza[Date],Таблица46[[#This Row],['#]]))","v":""},"",{"$f":"IFERROR(AVERAGEIFS(Baza[AFS],Baza[Date],Таблица46[[#This Row],['#]])+(AVERAGEIFS(Baza[AFS],Baza[Date],Таблица46[[#This Row],['#]])*0.2),\"\")","v":""},"",{"$f":"IFERROR(COUNTIFS(Baza[Date],Таблица46[[#This Row],['#]],Baza[Win],\">0\")/C54*100,\"\")","v":""},{"$f":"IF(SUMIFS(Baza[KO$],Baza[Date],Таблица46[[#This Row],['#]])=0,\"\",SUMIFS(Baza[KO$],Baza[Date],Таблица46[[#This Row],['#]]))","v":""},{"$f":"IF(SUMIFS(Baza[WIN$],Baza[Date],Таблица46[[#This Row],['#]])=0,\"\",SUMIFS(Baza[WIN$],Baza[Date],Таблица46[[#This Row],['#]]))","v":""},""]
[null,{"$f":"IFERROR(INDEX(Baza[Date],SMALL(IF(SMALL(IF(COUNTIF($B$2:$B54,Baza[Date])=0,COUNTIF(Baza[Date],\"<\"&Baza[Date])+1,\"\"),1)=COUNTIF(Baza[Date],\"<\"&Baza[Date])+1,ROW(Baza[Date])-MIN(ROW(Baza[Date]))+1),1)),\"\")","v":""},{"$f":"IF(Таблица46[[#This Row],['#]]=\"\",\"\",COUNTIFS(Baza[Date],Таблица46[[#This Row],['#]])+SUMIFS(Baza[R],Baza[Date],Таблица46[[#This Row],['#]]))","v":""},{"$f":"IF(Таблица46[[#This Row],['#]]=\"\",\"\",SUMIFS(Baza[B$],Baza[Date],Таблица46[[#This Row],['#]]))","v":""},"",{"$f":"IFERROR(AVERAGEIFS(Baza[AFS],Baza[Date],Таблица46[[#This Row],['#]])+(AVERAGEIFS(Baza[AFS],Baza[Date],Таблица46[[#This Row],['#]])*0.2),\"\")","v":""},"",{"$f":"IFERROR(COUNTIFS(Baza[Date],Таблица46[[#This Row],['#]],Baza[Win],\">0\")/C55*100,\"\")","v":""},{"$f":"IF(SUMIFS(Baza[KO$],Baza[Date],Таблица46[[#This Row],['#]])=0,\"\",SUMIFS(Baza[KO$],Baza[Date],Таблица46[[#This Row],['#]]))","v":""},{"$f":"IF(SUMIFS(Baza[WIN$],Baza[Date],Таблица46[[#This Row],['#]])=0,\"\",SUMIFS(Baza[WIN$],Baza[Date],Таблица46[[#This Row],['#]]))","v":""},""]
[null,{"$f":"IFERROR(INDEX(Baza[Date],SMALL(IF(SMALL(IF(COUNTIF($B$2:$B55,Baza[Date])=0,COUNTIF(Baza[Date],\"<\"&Baza[Date])+1,\"\"),1)=COUNTIF(Baza[Date],\"<\"&Baza[Date])+1,ROW(Baza[Date])-MIN(ROW(Baza[Date]))+1),1)),\"\")","v":""},{"$f":"IF(Таблица46[[#This Row],['#]]=\"\",\"\",COUNTIFS(Baza[Date],Таблица46[[#This Row],['#]])+SUMIFS(Baza[R],Baza[Date],Таблица46[[#This Row],['#]]))","v":""},{"$f":"IF(Таблица46[[#This Row],['#]]=\"\",\"\",SUMIFS(Baza[B$],Baza[Date],Таблица46[[#This Row],['#]]))","v":""},"",{"$f":"IFERROR(AVERAGEIFS(Baza[AFS],Baza[Date],Таблица46[[#This Row],['#]])+(AVERAGEIFS(Baza[AFS],Baza[Date],Таблица46[[#This Row],['#]])*0.2),\"\")","v":""},"",{"$f":"IFERROR(COUNTIFS(Baza[Date],Таблица46[[#This Row],['#]],Baza[Win],\">0\")/C56*100,\"\")","v":""},{"$f":"IF(SUMIFS(Baza[KO$],Baza[Date],Таблица46[[#This Row],['#]])=0,\"\",SUMIFS(Baza[KO$],Baza[Date],Таблица46[[#This Row],['#]]))","v":""},{"$f":"IF(SUMIFS(Baza[WIN$],Baza[Date],Таблица46[[#This Row],['#]])=0,\"\",SUMIFS(Baza[WIN$],Baza[Date],Таблица46[[#This Row],['#]]))","v":""},""]
[null,{"$f":"IFERROR(INDEX(Baza[Date],SMALL(IF(SMALL(IF(COUNTIF($B$2:$B56,Baza[Date])=0,COUNTIF(Baza[Date],\"<\"&Baza[Date])+1,\"\"),1)=COUNTIF(Baza[Date],\"<\"&Baza[Date])+1,ROW(Baza[Date])-MIN(ROW(Baza[Date]))+1),1)),\"\")","v":""},{"$f":"IF(Таблица46[[#This Row],['#]]=\"\",\"\",COUNTIFS(Baza[Date],Таблица46[[#This Row],['#]])+SUMIFS(Baza[R],Baza[Date],Таблица46[[#This Row],['#]]))","v":""},{"$f":"IF(Таблица46[[#This Row],['#]]=\"\",\"\",SUMIFS(Baza[B$],Baza[Date],Таблица46[[#This Row],['#]]))","v":""},"",{"$f":"IFERROR(AVERAGEIFS(Baza[AFS],Baza[Date],Таблица46[[#This Row],['#]])+(AVERAGEIFS(Baza[AFS],Baza[Date],Таблица46[[#This Row],['#]])*0.2),\"\")","v":""},"",{"$f":"IFERROR(COUNTIFS(Baza[Date],Таблица46[[#This Row],['#]],Baza[Win],\">0\")/C57*100,\"\")","v":""},{"$f":"IF(SUMIFS(Baza[KO$],Baza[Date],Таблица46[[#This Row],['#]])=0,\"\",SUMIFS(Baza[KO$],Baza[Date],Таблица46[[#This Row],['#]]))","v":""},{"$f":"IF(SUMIFS(Baza[WIN$],Baza[Date],Таблица46[[#This Row],['#]])=0,\"\",SUMIFS(Baza[WIN$],Baza[Date],Таблица46[[#This Row],['#]]))","v":""},""]
[null,{"$f":"IFERROR(INDEX(Baza[Date],SMALL(IF(SMALL(IF(COUNTIF($B$2:$B57,Baza[Date])=0,COUNTIF(Baza[Date],\"<\"&Baza[Date])+1,\"\"),1)=COUNTIF(Baza[Date],\"<\"&Baza[Date])+1,ROW(Baza[Date])-MIN(ROW(Baza[Date]))+1),1)),\"\")","v":""},{"$f":"IF(Таблица46[[#This Row],['#]]=\"\",\"\",COUNTIFS(Baza[Date],Таблица46[[#This Row],['#]])+SUMIFS(Baza[R],Baza[Date],Таблица46[[#This Row],['#]]))","v":""},{"$f":"IF(Таблица46[[#This Row],['#]]=\"\",\"\",SUMIFS(Baza[B$],Baza[Date],Таблица46[[#This Row],['#]]))","v":""},"",{"$f":"IFERROR(AVERAGEIFS(Baza[AFS],Baza[Date],Таблица46[[#This Row],['#]])+(AVERAGEIFS(Baza[AFS],Baza[Date],Таблица46[[#This Row],['#]])*0.2),\"\")","v":""},"",{"$f":"IFERROR(COUNTIFS(Baza[Date],Таблица46[[#This Row],['#]],Baza[Win],\">0\")/C58*100,\"\")","v":""},{"$f":"IF(SUMIFS(Baza[KO$],Baza[Date],Таблица46[[#This Row],['#]])=0,\"\",SUMIFS(Baza[KO$],Baza[Date],Таблица46[[#This Row],['#]]))","v":""},{"$f":"IF(SUMIFS(Baza[WIN$],Baza[Date],Таблица46[[#This Row],['#]])=0,\"\",SUMIFS(Baza[WIN$],Baza[Date],Таблица46[[#This Row],['#]]))","v":""},""]
[null,{"$f":"IFERROR(INDEX(Baza[Date],SMALL(IF(SMALL(IF(COUNTIF($B$2:$B58,Baza[Date])=0,COUNTIF(Baza[Date],\"<\"&Baza[Date])+1,\"\"),1)=COUNTIF(Baza[Date],\"<\"&Baza[Date])+1,ROW(Baza[Date])-MIN(ROW(Baza[Date]))+1),1)),\"\")","v":""},{"$f":"IF(Таблица46[[#This Row],['#]]=\"\",\"\",COUNTIFS(Baza[Date],Таблица46[[#This Row],['#]])+SUMIFS(Baza[R],Baza[Date],Таблица46[[#This Row],['#]]))","v":""},{"$f":"IF(Таблица46[[#This Row],['#]]=\"\",\"\",SUMIFS(Baza[B$],Baza[Date],Таблица46[[#This Row],['#]]))","v":""},"",{"$f":"IFERROR(AVERAGEIFS(Baza[AFS],Baza[Date],Таблица46[[#This Row],['#]])+(AVERAGEIFS(Baza[AFS],Baza[Date],Таблица46[[#This Row],['#]])*0.2),\"\")","v":""},"",{"$f":"IFERROR(COUNTIFS(Baza[Date],Таблица46[[#This Row],['#]],Baza[Win],\">0\")/C59*100,\"\")","v":""},{"$f":"IF(SUMIFS(Baza[KO$],Baza[Date],Таблица46[[#This Row],['#]])=0,\"\",SUMIFS(Baza[KO$],Baza[Date],Таблица46[[#This Row],['#]]))","v":""},{"$f":"IF(SUMIFS(Baza[WIN$],Baza[Date],Таблица46[[#This Row],['#]])=0,\"\",SUMIFS(Baza[WIN$],Baza[Date],Таблица46[[#This Row],['#]]))","v":""},""]
[null,{"$f":"IFERROR(INDEX(Baza[Date],SMALL(IF(SMALL(IF(COUNTIF($B$2:$B59,Baza[Date])=0,COUNTIF(Baza[Date],\"<\"&Baza[Date])+1,\"\"),1)=COUNTIF(Baza[Date],\"<\"&Baza[Date])+1,ROW(Baza[Date])-MIN(ROW(Baza[Date]))+1),1)),\"\")","v":""},{"$f":"IF(Таблица46[[#This Row],['#]]=\"\",\"\",COUNTIFS(Baza[Date],Таблица46[[#This Row],['#]])+SUMIFS(Baza[R],Baza[Date],Таблица46[[#This Row],['#]]))","v":""},{"$f":"IF(Таблица46[[#This Row],['#]]=\"\",\"\",SUMIFS(Baza[B$],Baza[Date],Таблица46[[#This Row],['#]]))","v":""},"",{"$f":"IFERROR(AVERAGEIFS(Baza[AFS],Baza[Date],Таблица46[[#This Row],['#]])+(AVERAGEIFS(Baza[AFS],Baza[Date],Таблица46[[#This Row],['#]])*0.2),\"\")","v":""},"",{"$f":"IFERROR(COUNTIFS(Baza[Date],Таблица46[[#This Row],['#]],Baza[Win],\">0\")/C60*100,\"\")","v":""},{"$f":"IF(SUMIFS(Baza[KO$],Baza[Date],Таблица46[[#This Row],['#]])=0,\"\",SUMIFS(Baza[KO$],Baza[Date],Таблица46[[#This Row],['#]]))","v":""},{"$f":"IF(SUMIFS(Baza[WIN$],Baza[Date],Таблица46[[#This Row],['#]])=0,\"\",SUMIFS(Baza[WIN$],Baza[Date],Таблица46[[#This Row],['#]]))","v":""},""]
[null,{"$f":"IFERROR(INDEX(Baza[Date],SMALL(IF(SMALL(IF(COUNTIF($B$2:$B60,Baza[Date])=0,COUNTIF(Baza[Date],\"<\"&Baza[Date])+1,\"\"),1)=COUNTIF(Baza[Date],\"<\"&Baza[Date])+1,ROW(Baza[Date])-MIN(ROW(Baza[Date]))+1),1)),\"\")","v":""},{"$f":"IF(Таблица46[[#This Row],['#]]=\"\",\"\",COUNTIFS(Baza[Date],Таблица46[[#This Row],['#]])+SUMIFS(Baza[R],Baza[Date],Таблица46[[#This Row],['#]]))","v":""},{"$f":"IF(Таблица46[[#This Row],['#]]=\"\",\"\",SUMIFS(Baza[B$],Baza[Date],Таблица46[[#This Row],['#]]))","v":""},"",{"$f":"IFERROR(AVERAGEIFS(Baza[AFS],Baza[Date],Таблица46[[#This Row],['#]])+(AVERAGEIFS(Baza[AFS],Baza[Date],Таблица46[[#This Row],['#]])*0.2),\"\")","v":""},"",{"$f":"IFERROR(COUNTIFS(Baza[Date],Таблица46[[#This Row],['#]],Baza[Win],\">0\")/C61*100,\"\")","v":""},{"$f":"IF(SUMIFS(Baza[KO$],Baza[Date],Таблица46[[#This Row],['#]])=0,\"\",SUMIFS(Baza[KO$],Baza[Date],Таблица46[[#This Row],['#]]))","v":""},{"$f":"IF(SUMIFS(Baza[WIN$],Baza[Date],Таблица46[[#This Row],['#]])=0,\"\",SUMIFS(Baza[WIN$],Baza[Date],Таблица46[[#This Row],['#]]))","v":""},""]
[null,{"$f":"IFERROR(INDEX(Baza[Date],SMALL(IF(SMALL(IF(COUNTIF($B$2:$B61,Baza[Date])=0,COUNTIF(Baza[Date],\"<\"&Baza[Date])+1,\"\"),1)=COUNTIF(Baza[Date],\"<\"&Baza[Date])+1,ROW(Baza[Date])-MIN(ROW(Baza[Date]))+1),1)),\"\")","v":""},{"$f":"IF(Таблица46[[#This Row],['#]]=\"\",\"\",COUNTIFS(Baza[Date],Таблица46[[#This Row],['#]])+SUMIFS(Baza[R],Baza[Date],Таблица46[[#This Row],['#]]))","v":""},{"$f":"IF(Таблица46[[#This Row],['#]]=\"\",\"\",SUMIFS(Baza[B$],Baza[Date],Таблица46[[#This Row],['#]]))","v":""},"",{"$f":"IFERROR(AVERAGEIFS(Baza[AFS],Baza[Date],Таблица46[[#This Row],['#]])+(AVERAGEIFS(Baza[AFS],Baza[Date],Таблица46[[#This Row],['#]])*0.2),\"\")","v":""},"",{"$f":"IFERROR(COUNTIFS(Baza[Date],Таблица46[[#This Row],['#]],Baza[Win],\">0\")/C62*100,\"\")","v":""},{"$f":"IF(SUMIFS(Baza[KO$],Baza[Date],Таблица46[[#This Row],['#]])=0,\"\",SUMIFS(Baza[KO$],Baza[Date],Таблица46[[#This Row],['#]]))","v":""},{"$f":"IF(SUMIFS(Baza[WIN$],Baza[Date],Таблица46[[#This Row],['#]])=0,\"\",SUMIFS(Baza[WIN$],Baza[Date],Таблица46[[#This Row],['#]]))","v":""},""]
[null,{"$f":"IFERROR(INDEX(Baza[Date],SMALL(IF(SMALL(IF(COUNTIF($B$2:$B62,Baza[Date])=0,COUNTIF(Baza[Date],\"<\"&Baza[Date])+1,\"\"),1)=COUNTIF(Baza[Date],\"<\"&Baza[Date])+1,ROW(Baza[Date])-MIN(ROW(Baza[Date]))+1),1)),\"\")","v":""},{"$f":"IF(Таблица46[[#This Row],['#]]=\"\",\"\",COUNTIFS(Baza[Date],Таблица46[[#This Row],['#]])+SUMIFS(Baza[R],Baza[Date],Таблица46[[#This Row],['#]]))","v":""},{"$f":"IF(Таблица46[[#This Row],['#]]=\"\",\"\",SUMIFS(Baza[B$],Baza[Date],Таблица46[[#This Row],['#]]))","v":""},"",{"$f":"IFERROR(AVERAGEIFS(Baza[AFS],Baza[Date],Таблица46[[#This Row],['#]])+(AVERAGEIFS(Baza[AFS],Baza[Date],Таблица46[[#This Row],['#]])*0.2),\"\")","v":""},"",{"$f":"IFERROR(COUNTIFS(Baza[Date],Таблица46[[#This Row],['#]],Baza[Win],\">0\")/C63*100,\"\")","v":""},{"$f":"IF(SUMIFS(Baza[KO$],Baza[Date],Таблица46[[#This Row],['#]])=0,\"\",SUMIFS(Baza[KO$],Baza[Date],Таблица46[[#This Row],['#]]))","v":""},{"$f":"IF(SUMIFS(Baza[WIN$],Baza[Date],Таблица46[[#This Row],['#]])=0,\"\",SUMIFS(Baza[WIN$],Baza[Date],Таблица46[[#This Row],['#]]))","v":""},""]
[null,{"$f":"IFERROR(INDEX(Baza[Date],SMALL(IF(SMALL(IF(COUNTIF($B$2:$B63,Baza[Date])=0,COUNTIF(Baza[Date],\"<\"&Baza[Date])+1,\"\"),1)=COUNTIF(Baza[Date],\"<\"&Baza[Date])+1,ROW(Baza[Date])-MIN(ROW(Baza[Date]))+1),1)),\"\")","v":""},{"$f":"IF(Таблица46[[#This Row],['#]]=\"\",\"\",COUNTIFS(Baza[Date],Таблица46[[#This Row],['#]])+SUMIFS(Baza[R],Baza[Date],Таблица46[[#This Row],['#]]))","v":""},{"$f":"IF(Таблица46[[#This Row],['#]]=\"\",\"\",SUMIFS(Baza[B$],Baza[Date],Таблица46[[#This Row],['#]]))","v":""},"",{"$f":"IFERROR(AVERAGEIFS(Baza[AFS],Baza[Date],Таблица46[[#This Row],['#]])+(AVERAGEIFS(Baza[AFS],Baza[Date],Таблица46[[#This Row],['#]])*0.2),\"\")","v":""},"",{"$f":"IFERROR(COUNTIFS(Baza[Date],Таблица46[[#This Row],['#]],Baza[Win],\">0\")/C64*100,\"\")","v":""},{"$f":"IF(SUMIFS(Baza[KO$],Baza[Date],Таблица46[[#This Row],['#]])=0,\"\",SUMIFS(Baza[KO$],Baza[Date],Таблица46[[#This Row],['#]]))","v":""},{"$f":"IF(SUMIFS(Baza[WIN$],Baza[Date],Таблица46[[#This Row],['#]])=0,\"\",SUMIFS(Baza[WIN$],Baza[Date],Таблица46[[#This Row],['#]]))","v":""},""]
[null,{"$f":"IFERROR(INDEX(Baza[Date],SMALL(IF(SMALL(IF(COUNTIF($B$2:$B64,Baza[Date])=0,COUNTIF(Baza[Date],\"<\"&Baza[Date])+1,\"\"),1)=COUNTIF(Baza[Date],\"<\"&Baza[Date])+1,ROW(Baza[Date])-MIN(ROW(Baza[Date]))+1),1)),\"\")","v":""},{"$f":"IF(Таблица46[[#This Row],['#]]=\"\",\"\",COUNTIFS(Baza[Date],Таблица46[[#This Row],['#]])+SUMIFS(Baza[R],Baza[Date],Таблица46[[#This Row],['#]]))","v":""},{"$f":"IF(Таблица46[[#This Row],['#]]=\"\",\"\",SUMIFS(Baza[B$],Baza[Date],Таблица46[[#This Row],['#]]))","v":""},"",{"$f":"IFERROR(AVERAGEIFS(Baza[AFS],Baza[Date],Таблица46[[#This Row],['#]])+(AVERAGEIFS(Baza[AFS],Baza[Date],Таблица46[[#This Row],['#]])*0.2),\"\")","v":""},"",{"$f":"IFERROR(COUNTIFS(Baza[Date],Таблица46[[#This Row],['#]],Baza[Win],\">0\")/C65*100,\"\")","v":""},{"$f":"IF(SUMIFS(Baza[KO$],Baza[Date],Таблица46[[#This Row],['#]])=0,\"\",SUMIFS(Baza[KO$],Baza[Date],Таблица46[[#This Row],['#]]))","v":""},{"$f":"IF(SUMIFS(Baza[WIN$],Baza[Date],Таблица46[[#This Row],['#]])=0,\"\",SUMIFS(Baza[WIN$],Baza[Date],Таблица46[[#This Row],['#]]))","v":""},""]
[null,{"$f":"IFERROR(INDEX(Baza[Date],SMALL(IF(SMALL(IF(COUNTIF($B$2:$B65,Baza[Date])=0,COUNTIF(Baza[Date],\"<\"&Baza[Date])+1,\"\"),1)=COUNTIF(Baza[Date],\"<\"&Baza[Date])+1,ROW(Baza[Date])-MIN(ROW(Baza[Date]))+1),1)),\"\")","v":""},{"$f":"IF(Таблица46[[#This Row],['#]]=\"\",\"\",COUNTIFS(Baza[Date],Таблица46[[#This Row],['#]])+SUMIFS(Baza[R],Baza[Date],Таблица46[[#This Row],['#]]))","v":""},{"$f":"IF(Таблица46[[#This Row],['#]]=\"\",\"\",SUMIFS(Baza[B$],Baza[Date],Таблица46[[#This Row],['#]]))","v":""},"",{"$f":"IFERROR(AVERAGEIFS(Baza[AFS],Baza[Date],Таблица46[[#This Row],['#]])+(AVERAGEIFS(Baza[AFS],Baza[Date],Таблица46[[#This Row],['#]])*0.2),\"\")","v":""},"",{"$f":"IFERROR(COUNTIFS(Baza[Date],Таблица46[[#This Row],['#]],Baza[Win],\">0\")/C66*100,\"\")","v":""},{"$f":"IF(SUMIFS(Baza[KO$],Baza[Date],Таблица46[[#This Row],['#]])=0,\"\",SUMIFS(Baza[KO$],Baza[Date],Таблица46[[#This Row],['#]]))","v":""},{"$f":"IF(SUMIFS(Baza[WIN$],Baza[Date],Таблица46[[#This Row],['#]])=0,\"\",SUMIFS(Baza[WIN$],Baza[Date],Таблица46[[#This Row],['#]]))","v":""},""]
[null,{"$f":"IFERROR(INDEX(Baza[Date],SMALL(IF(SMALL(IF(COUNTIF($B$2:$B66,Baza[Date])=0,COUNTIF(Baza[Date],\"<\"&Baza[Date])+1,\"\"),1)=COUNTIF(Baza[Date],\"<\"&Baza[Date])+1,ROW(Baza[Date])-MIN(ROW(Baza[Date]))+1),1)),\"\")","v":""},{"$f":"IF(Таблица46[[#This Row],['#]]=\"\",\"\",COUNTIFS(Baza[Date],Таблица46[[#This Row],['#]])+SUMIFS(Baza[R],Baza[Date],Таблица46[[#This Row],['#]]))","v":""},{"$f":"IF(Таблица46[[#This Row],['#]]=\"\",\"\",SUMIFS(Baza[B$],Baza[Date],Таблица46[[#This Row],['#]]))","v":""},{"$f":"IFERROR(D67/C67,\"\")","v":""},{"$f":"IFERROR(AVERAGEIFS(Baza[AFS],Baza[Date],Таблица46[[#This Row],['#]])+(AVERAGEIFS(Baza[AFS],Baza[Date],Таблица46[[#This Row],['#]])*0.2),\"\")","v":""},{"$f":"IFERROR(K67/D67*100,\"\")","v":""},{"$f":"IFERROR(COUNTIFS(Baza[Date],Таблица46[[#This Row],['#]],Baza[Win],\">0\")/C67*100,\"\")","v":""},{"$f":"IF(SUMIFS(Baza[KO$],Baza[Date],Таблица46[[#This Row],['#]])=0,\"\",SUMIFS(Baza[KO$],Baza[Date],Таблица46[[#This Row],['#]]))","v":""},{"$f":"IF(SUMIFS(Baza[WIN$],Baza[Date],Таблица46[[#This Row],['#]])=0,\"\",SUMIFS(Baza[WIN$],Baza[Date],Таблица46[[#This Row],['#]]))","v":""},{"$f":"IFERROR(IF(J67=\"\",0,J67)+IF(I67=\"\",0,I67)-D67,\"\")","v":""}]
[null,{"$f":"IFERROR(INDEX(Baza[Date],SMALL(IF(SMALL(IF(COUNTIF($B$2:$B67,Baza[Date])=0,COUNTIF(Baza[Date],\"<\"&Baza[Date])+1,\"\"),1)=COUNTIF(Baza[Date],\"<\"&Baza[Date])+1,ROW(Baza[Date])-MIN(ROW(Baza[Date]))+1),1)),\"\")","v":""},{"$f":"IF(Таблица46[[#This Row],['#]]=\"\",\"\",COUNTIFS(Baza[Date],Таблица46[[#This Row],['#]])+SUMIFS(Baza[R],Baza[Date],Таблица46[[#This Row],['#]]))","v":""},{"$f":"IF(Таблица46[[#This Row],['#]]=\"\",\"\",SUMIFS(Baza[B$],Baza[Date],Таблица46[[#This Row],['#]]))","v":""},"",{"$f":"IFERROR(AVERAGEIFS(Baza[AFS],Baza[Date],Таблица46[[#This Row],['#]])+(AVERAGEIFS(Baza[AFS],Baza[Date],Таблица46[[#This Row],['#]])*0.2),\"\")","v":""},"",{"$f":"IFERROR(COUNTIFS(Baza[Date],Таблица46[[#This Row],['#]],Baza[Win],\">0\")/C68*100,\"\")","v":""},{"$f":"IF(SUMIFS(Baza[KO$],Baza[Date],Таблица46[[#This Row],['#]])=0,\"\",SUMIFS(Baza[KO$],Baza[Date],Таблица46[[#This Row],['#]]))","v":""},{"$f":"IF(SUMIFS(Baza[WIN$],Baza[Date],Таблица46[[#This Row],['#]])=0,\"\",SUMIFS(Baza[WIN$],Baza[Date],Таблица46[[#This Row],['#]]))","v":""},""]
[null,{"$f":"IFERROR(INDEX(Baza[Date],SMALL(IF(SMALL(IF(COUNTIF($B$2:$B68,Baza[Date])=0,COUNTIF(Baza[Date],\"<\"&Baza[Date])+1,\"\"),1)=COUNTIF(Baza[Date],\"<\"&Baza[Date])+1,ROW(Baza[Date])-MIN(ROW(Baza[Date]))+1),1)),\"\")","v":""},{"$f":"IF(Таблица46[[#This Row],['#]]=\"\",\"\",COUNTIFS(Baza[Date],Таблица46[[#This Row],['#]])+SUMIFS(Baza[R],Baza[Date],Таблица46[[#This Row],['#]]))","v":""},{"$f":"IF(Таблица46[[#This Row],['#]]=\"\",\"\",SUMIFS(Baza[B$],Baza[Date],Таблица46[[#This Row],['#]]))","v":""},"",{"$f":"IFERROR(AVERAGEIFS(Baza[AFS],Baza[Date],Таблица46[[#This Row],['#]])+(AVERAGEIFS(Baza[AFS],Baza[Date],Таблица46[[#This Row],['#]])*0.2),\"\")","v":""},"",{"$f":"IFERROR(COUNTIFS(Baza[Date],Таблица46[[#This Row],['#]],Baza[Win],\">0\")/C69*100,\"\")","v":""},{"$f":"IF(SUMIFS(Baza[KO$],Baza[Date],Таблица46[[#This Row],['#]])=0,\"\",SUMIFS(Baza[KO$],Baza[Date],Таблица46[[#This Row],['#]]))","v":""},{"$f":"IF(SUMIFS(Baza[WIN$],Baza[Date],Таблица46[[#This Row],['#]])=0,\"\",SUMIFS(Baza[WIN$],Baza[Date],Таблица46[[#This Row],['#]]))","v":""},""]
[null,{"$f":"IFERROR(INDEX(Baza[Date],SMALL(IF(SMALL(IF(COUNTIF($B$2:$B69,Baza[Date])=0,COUNTIF(Baza[Date],\"<\"&Baza[Date])+1,\"\"),1)=COUNTIF(Baza[Date],\"<\"&Baza[Date])+1,ROW(Baza[Date])-MIN(ROW(Baza[Date]))+1),1)),\"\")","v":""},{"$f":"IF(Таблица46[[#This Row],['#]]=\"\",\"\",COUNTIFS(Baza[Date],Таблица46[[#This Row],['#]])+SUMIFS(Baza[R],Baza[Date],Таблица46[[#This Row],['#]]))","v":""},{"$f":"IF(Таблица46[[#This Row],['#]]=\"\",\"\",SUMIFS(Baza[B$],Baza[Date],Таблица46[[#This Row],['#]]))","v":""},"",{"$f":"IFERROR(AVERAGEIFS(Baza[AFS],Baza[Date],Таблица46[[#This Row],['#]])+(AVERAGEIFS(Baza[AFS],Baza[Date],Таблица46[[#This Row],['#]])*0.2),\"\")","v":""},"",{"$f":"IFERROR(COUNTIFS(Baza[Date],Таблица46[[#This Row],['#]],Baza[Win],\">0\")/C70*100,\"\")","v":""},{"$f":"IF(SUMIFS(Baza[KO$],Baza[Date],Таблица46[[#This Row],['#]])=0,\"\",SUMIFS(Baza[KO$],Baza[Date],Таблица46[[#This Row],['#]]))","v":""},{"$f":"IF(SUMIFS(Baza[WIN$],Baza[Date],Таблица46[[#This Row],['#]])=0,\"\",SUMIFS(Baza[WIN$],Baza[Date],Таблица46[[#This Row],['#]]))","v":""},""]
[null,{"$f":"IFERROR(INDEX(Baza[Date],SMALL(IF(SMALL(IF(COUNTIF($B$2:$B70,Baza[Date])=0,COUNTIF(Baza[Date],\"<\"&Baza[Date])+1,\"\"),1)=COUNTIF(Baza[Date],\"<\"&Baza[Date])+1,ROW(Baza[Date])-MIN(ROW(Baza[Date]))+1),1)),\"\")","v":""},{"$f":"IF(Таблица46[[#This Row],['#]]=\"\",\"\",COUNTIFS(Baza[Date],Таблица46[[#This Row],['#]])+SUMIFS(Baza[R],Baza[Date],Таблица46[[#This Row],['#]]))","v":""},{"$f":"IF(Таблица46[[#This Row],['#]]=\"\",\"\",SUMIFS(Baza[B$],Baza[Date],Таблица46[[#This Row],['#]]))","v":""},"",{"$f":"IFERROR(AVERAGEIFS(Baza[AFS],Baza[Date],Таблица46[[#This Row],['#]])+(AVERAGEIFS(Baza[AFS],Baza[Date],Таблица46[[#This Row],['#]])*0.2),\"\")","v":""},"",{"$f":"IFERROR(COUNTIFS(Baza[Date],Таблица46[[#This Row],['#]],Baza[Win],\">0\")/C71*100,\"\")","v":""},{"$f":"IF(SUMIFS(Baza[KO$],Baza[Date],Таблица46[[#This Row],['#]])=0,\"\",SUMIFS(Baza[KO$],Baza[Date],Таблица46[[#This Row],['#]]))","v":""},{"$f":"IF(SUMIFS(Baza[WIN$],Baza[Date],Таблица46[[#This Row],['#]])=0,\"\",SUMIFS(Baza[WIN$],Baza[Date],Таблица46[[#This Row],['#]]))","v":""},""]
[null,{"$f":"IFERROR(INDEX(Baza[Date],SMALL(IF(SMALL(IF(COUNTIF($B$2:$B71,Baza[Date])=0,COUNTIF(Baza[Date],\"<\"&Baza[Date])+1,\"\"),1)=COUNTIF(Baza[Date],\"<\"&Baza[Date])+1,ROW(Baza[Date])-MIN(ROW(Baza[Date]))+1),1)),\"\")","v":""},{"$f":"IF(Таблица46[[#This Row],['#]]=\"\",\"\",COUNTIFS(Baza[Date],Таблица46[[#This Row],['#]])+SUMIFS(Baza[R],Baza[Date],Таблица46[[#This Row],['#]]))","v":""},{"$f":"IF(Таблица46[[#This Row],['#]]=\"\",\"\",SUMIFS(Baza[B$],Baza[Date],Таблица46[[#This Row],['#]]))","v":""},"",{"$f":"IFERROR(AVERAGEIFS(Baza[AFS],Baza[Date],Таблица46[[#This Row],['#]])+(AVERAGEIFS(Baza[AFS],Baza[Date],Таблица46[[#This Row],['#]])*0.2),\"\")","v":""},"",{"$f":"IFERROR(COUNTIFS(Baza[Date],Таблица46[[#This Row],['#]],Baza[Win],\">0\")/C72*100,\"\")","v":""},{"$f":"IF(SUMIFS(Baza[KO$],Baza[Date],Таблица46[[#This Row],['#]])=0,\"\",SUMIFS(Baza[KO$],Baza[Date],Таблица46[[#This Row],['#]]))","v":""},{"$f":"IF(SUMIFS(Baza[WIN$],Baza[Date],Таблица46[[#This Row],['#]])=0,\"\",SUMIFS(Baza[WIN$],Baza[Date],Таблица46[[#This Row],['#]]))","v":""},""]
[null,{"$f":"IFERROR(INDEX(Baza[Date],SMALL(IF(SMALL(IF(COUNTIF($B$2:$B72,Baza[Date])=0,COUNTIF(Baza[Date],\"<\"&Baza[Date])+1,\"\"),1)=COUNTIF(Baza[Date],\"<\"&Baza[Date])+1,ROW(Baza[Date])-MIN(ROW(Baza[Date]))+1),1)),\"\")","v":""},{"$f":"IF(Таблица46[[#This Row],['#]]=\"\",\"\",COUNTIFS(Baza[Date],Таблица46[[#This Row],['#]])+SUMIFS(Baza[R],Baza[Date],Таблица46[[#This Row],['#]]))","v":""},{"$f":"IF(Таблица46[[#This Row],['#]]=\"\",\"\",SUMIFS(Baza[B$],Baza[Date],Таблица46[[#This Row],['#]]))","v":""},"",{"$f":"IFERROR(AVERAGEIFS(Baza[AFS],Baza[Date],Таблица46[[#This Row],['#]])+(AVERAGEIFS(Baza[AFS],Baza[Date],Таблица46[[#This Row],['#]])*0.2),\"\")","v":""},"",{"$f":"IFERROR(COUNTIFS(Baza[Date],Таблица46[[#This Row],['#]],Baza[Win],\">0\")/C73*100,\"\")","v":""},{"$f":"IF(SUMIFS(Baza[KO$],Baza[Date],Таблица46[[#This Row],['#]])=0,\"\",SUMIFS(Baza[KO$],Baza[Date],Таблица46[[#This Row],['#]]))","v":""},{"$f":"IF(SUMIFS(Baza[WIN$],Baza[Date],Таблица46[[#This Row],['#]])=0,\"\",SUMIFS(Baza[WIN$],Baza[Date],Таблица46[[#This Row],['#]]))","v":""},""]
[null,{"$f":"IFERROR(INDEX(Baza[Date],SMALL(IF(SMALL(IF(COUNTIF($B$2:$B73,Baza[Date])=0,COUNTIF(Baza[Date],\"<\"&Baza[Date])+1,\"\"),1)=COUNTIF(Baza[Date],\"<\"&Baza[Date])+1,ROW(Baza[Date])-MIN(ROW(Baza[Date]))+1),1)),\"\")","v":""},{"$f":"IF(Таблица46[[#This Row],['#]]=\"\",\"\",COUNTIFS(Baza[Date],Таблица46[[#This Row],['#]])+SUMIFS(Baza[R],Baza[Date],Таблица46[[#This Row],['#]]))","v":""},{"$f":"IF(Таблица46[[#This Row],['#]]=\"\",\"\",SUMIFS(Baza[B$],Baza[Date],Таблица46[[#This Row],['#]]))","v":""},"",{"$f":"IFERROR(AVERAGEIFS(Baza[AFS],Baza[Date],Таблица46[[#This Row],['#]])+(AVERAGEIFS(Baza[AFS],Baza[Date],Таблица46[[#This Row],['#]])*0.2),\"\")","v":""},"",{"$f":"IFERROR(COUNTIFS(Baza[Date],Таблица46[[#This Row],['#]],Baza[Win],\">0\")/C74*100,\"\")","v":""},{"$f":"IF(SUMIFS(Baza[KO$],Baza[Date],Таблица46[[#This Row],['#]])=0,\"\",SUMIFS(Baza[KO$],Baza[Date],Таблица46[[#This Row],['#]]))","v":""},{"$f":"IF(SUMIFS(Baza[WIN$],Baza[Date],Таблица46[[#This Row],['#]])=0,\"\",SUMIFS(Baza[WIN$],Baza[Date],Таблица46[[#This Row],['#]]))","v":""},""]
[null,{"$f":"IFERROR(INDEX(Baza[Date],SMALL(IF(SMALL(IF(COUNTIF($B$2:$B74,Baza[Date])=0,COUNTIF(Baza[Date],\"<\"&Baza[Date])+1,\"\"),1)=COUNTIF(Baza[Date],\"<\"&Baza[Date])+1,ROW(Baza[Date])-MIN(ROW(Baza[Date]))+1),1)),\"\")","v":""},{"$f":"IF(Таблица46[[#This Row],['#]]=\"\",\"\",COUNTIFS(Baza[Date],Таблица46[[#This Row],['#]])+SUMIFS(Baza[R],Baza[Date],Таблица46[[#This Row],['#]]))","v":""},{"$f":"IF(Таблица46[[#This Row],['#]]=\"\",\"\",SUMIFS(Baza[B$],Baza[Date],Таблица46[[#This Row],['#]]))","v":""},"",{"$f":"IFERROR(AVERAGEIFS(Baza[AFS],Baza[Date],Таблица46[[#This Row],['#]])+(AVERAGEIFS(Baza[AFS],Baza[Date],Таблица46[[#This Row],['#]])*0.2),\"\")","v":""},"",{"$f":"IFERROR(COUNTIFS(Baza[Date],Таблица46[[#This Row],['#]],Baza[Win],\">0\")/C75*100,\"\")","v":""},{"$f":"IF(SUMIFS(Baza[KO$],Baza[Date],Таблица46[[#This Row],['#]])=0,\"\",SUMIFS(Baza[KO$],Baza[Date],Таблица46[[#This Row],['#]]))","v":""},{"$f":"IF(SUMIFS(Baza[WIN$],Baza[Date],Таблица46[[#This Row],['#]])=0,\"\",SUMIFS(Baza[WIN$],Baza[Date],Таблица46[[#This Row],['#]]))","v":""},""]
[null,{"$f":"IFERROR(INDEX(Baza[Date],SMALL(IF(SMALL(IF(COUNTIF($B$2:$B75,Baza[Date])=0,COUNTIF(Baza[Date],\"<\"&Baza[Date])+1,\"\"),1)=COUNTIF(Baza[Date],\"<\"&Baza[Date])+1,ROW(Baza[Date])-MIN(ROW(Baza[Date]))+1),1)),\"\")","v":""},{"$f":"IF(Таблица46[[#This Row],['#]]=\"\",\"\",COUNTIFS(Baza[Date],Таблица46[[#This Row],['#]])+SUMIFS(Baza[R],Baza[Date],Таблица46[[#This Row],['#]]))","v":""},{"$f":"IF(Таблица46[[#This Row],['#]]=\"\",\"\",SUMIFS(Baza[B$],Baza[Date],Таблица46[[#This Row],['#]]))","v":""},"",{"$f":"IFERROR(AVERAGEIFS(Baza[AFS],Baza[Date],Таблица46[[#This Row],['#]])+(AVERAGEIFS(Baza[AFS],Baza[Date],Таблица46[[#This Row],['#]])*0.2),\"\")","v":""},"",{"$f":"IFERROR(COUNTIFS(Baza[Date],Таблица46[[#This Row],['#]],Baza[Win],\">0\")/C76*100,\"\")","v":""},{"$f":"IF(SUMIFS(Baza[KO$],Baza[Date],Таблица46[[#This Row],['#]])=0,\"\",SUMIFS(Baza[KO$],Baza[Date],Таблица46[[#This Row],['#]]))","v":""},{"$f":"IF(SUMIFS(Baza[WIN$],Baza[Date],Таблица46[[#This Row],['#]])=0,\"\",SUMIFS(Baza[WIN$],Baza[Date],Таблица46[[#This Row],['#]]))","v":""},""]
[null,{"$f":"IFERROR(INDEX(Baza[Date],SMALL(IF(SMALL(IF(COUNTIF($B$2:$B76,Baza[Date])=0,COUNTIF(Baza[Date],\"<\"&Baza[Date])+1,\"\"),1)=COUNTIF(Baza[Date],\"<\"&Baza[Date])+1,ROW(Baza[Date])-MIN(ROW(Baza[Date]))+1),1)),\"\")","v":""},{"$f":"IF(Таблица46[[#This Row],['#]]=\"\",\"\",COUNTIFS(Baza[Date],Таблица46[[#This Row],['#]])+SUMIFS(Baza[R],Baza[Date],Таблица46[[#This Row],['#]]))","v":""},{"$f":"IF(Таблица46[[#This Row],['#]]=\"\",\"\",SUMIFS(Baza[B$],Baza[Date],Таблица46[[#This Row],['#]]))","v":""},"",{"$f":"IFERROR(AVERAGEIFS(Baza[AFS],Baza[Date],Таблица46[[#This Row],['#]])+(AVERAGEIFS(Baza[AFS],Baza[Date],Таблица46[[#This Row],['#]])*0.2),\"\")","v":""},"",{"$f":"IFERROR(COUNTIFS(Baza[Date],Таблица46[[#This Row],['#]],Baza[Win],\">0\")/C77*100,\"\")","v":""},{"$f":"IF(SUMIFS(Baza[KO$],Baza[Date],Таблица46[[#This Row],['#]])=0,\"\",SUMIFS(Baza[KO$],Baza[Date],Таблица46[[#This Row],['#]]))","v":""},{"$f":"IF(SUMIFS(Baza[WIN$],Baza[Date],Таблица46[[#This Row],['#]])=0,\"\",SUMIFS(Baza[WIN$],Baza[Date],Таблица46[[#This Row],['#]]))","v":""},""]
[null,{"$f":"IFERROR(INDEX(Baza[Date],SMALL(IF(SMALL(IF(COUNTIF($B$2:$B77,Baza[Date])=0,COUNTIF(Baza[Date],\"<\"&Baza[Date])+1,\"\"),1)=COUNTIF(Baza[Date],\"<\"&Baza[Date])+1,ROW(Baza[Date])-MIN(ROW(Baza[Date]))+1),1)),\"\")","v":""},{"$f":"IF(Таблица46[[#This Row],['#]]=\"\",\"\",COUNTIFS(Baza[Date],Таблица46[[#This Row],['#]])+SUMIFS(Baza[R],Baza[Date],Таблица46[[#This Row],['#]]))","v":""},{"$f":"IF(Таблица46[[#This Row],['#]]=\"\",\"\",SUMIFS(Baza[B$],Baza[Date],Таблица46[[#This Row],['#]]))","v":""},"",{"$f":"IFERROR(AVERAGEIFS(Baza[AFS],Baza[Date],Таблица46[[#This Row],['#]])+(AVERAGEIFS(Baza[AFS],Baza[Date],Таблица46[[#This Row],['#]])*0.2),\"\")","v":""},"",{"$f":"IFERROR(COUNTIFS(Baza[Date],Таблица46[[#This Row],['#]],Baza[Win],\">0\")/C78*100,\"\")","v":""},{"$f":"IF(SUMIFS(Baza[KO$],Baza[Date],Таблица46[[#This Row],['#]])=0,\"\",SUMIFS(Baza[KO$],Baza[Date],Таблица46[[#This Row],['#]]))","v":""},{"$f":"IF(SUMIFS(Baza[WIN$],Baza[Date],Таблица46[[#This Row],['#]])=0,\"\",SUMIFS(Baza[WIN$],Baza[Date],Таблица46[[#This Row],['#]]))","v":""},""]
[null,{"$f":"IFERROR(INDEX(Baza[Date],SMALL(IF(SMALL(IF(COUNTIF($B$2:$B78,Baza[Date])=0,COUNTIF(Baza[Date],\"<\"&Baza[Date])+1,\"\"),1)=COUNTIF(Baza[Date],\"<\"&Baza[Date])+1,ROW(Baza[Date])-MIN(ROW(Baza[Date]))+1),1)),\"\")","v":""},{"$f":"IF(Таблица46[[#This Row],['#]]=\"\",\"\",COUNTIFS(Baza[Date],Таблица46[[#This Row],['#]])+SUMIFS(Baza[R],Baza[Date],Таблица46[[#This Row],['#]]))","v":""},{"$f":"IF(Таблица46[[#This Row],['#]]=\"\",\"\",SUMIFS(Baza[B$],Baza[Date],Таблица46[[#This Row],['#]]))","v":""},"",{"$f":"IFERROR(AVERAGEIFS(Baza[AFS],Baza[Date],Таблица46[[#This Row],['#]])+(AVERAGEIFS(Baza[AFS],Baza[Date],Таблица46[[#This Row],['#]])*0.2),\"\")","v":""},"",{"$f":"IFERROR(COUNTIFS(Baza[Date],Таблица46[[#This Row],['#]],Baza[Win],\">0\")/C79*100,\"\")","v":""},{"$f":"IF(SUMIFS(Baza[KO$],Baza[Date],Таблица46[[#This Row],['#]])=0,\"\",SUMIFS(Baza[KO$],Baza[Date],Таблица46[[#This Row],['#]]))","v":""},{"$f":"IF(SUMIFS(Baza[WIN$],Baza[Date],Таблица46[[#This Row],['#]])=0,\"\",SUMIFS(Baza[WIN$],Baza[Date],Таблица46[[#This Row],['#]]))","v":""},""]
[null,{"$f":"IFERROR(INDEX(Baza[Date],SMALL(IF(SMALL(IF(COUNTIF($B$2:$B79,Baza[Date])=0,COUNTIF(Baza[Date],\"<\"&Baza[Date])+1,\"\"),1)=COUNTIF(Baza[Date],\"<\"&Baza[Date])+1,ROW(Baza[Date])-MIN(ROW(Baza[Date]))+1),1)),\"\")","v":""},{"$f":"IF(Таблица46[[#This Row],['#]]=\"\",\"\",COUNTIFS(Baza[Date],Таблица46[[#This Row],['#]])+SUMIFS(Baza[R],Baza[Date],Таблица46[[#This Row],['#]]))","v":""},{"$f":"IF(Таблица46[[#This Row],['#]]=\"\",\"\",SUMIFS(Baza[B$],Baza[Date],Таблица46[[#This Row],['#]]))","v":""},"",{"$f":"IFERROR(AVERAGEIFS(Baza[AFS],Baza[Date],Таблица46[[#This Row],['#]])+(AVERAGEIFS(Baza[AFS],Baza[Date],Таблица46[[#This Row],['#]])*0.2),\"\")","v":""},"",{"$f":"IFERROR(COUNTIFS(Baza[Date],Таблица46[[#This Row],['#]],Baza[Win],\">0\")/C80*100,\"\")","v":""},{"$f":"IF(SUMIFS(Baza[KO$],Baza[Date],Таблица46[[#This Row],['#]])=0,\"\",SUMIFS(Baza[KO$],Baza[Date],Таблица46[[#This Row],['#]]))","v":""},{"$f":"IF(SUMIFS(Baza[WIN$],Baza[Date],Таблица46[[#This Row],['#]])=0,\"\",SUMIFS(Baza[WIN$],Baza[Date],Таблица46[[#This Row],['#]]))","v":""},""]

{"sheet":"TOT","index":3,"n_rows":101,"n_cols":11,"rows_kept":101,"cut":false,"hidden":false,"merged":[]}
{"$rows_empty":26}
[null,null,{"$f":"SUM(C30:C36)","v":31},48.94,{"$f":"D27/C27","v":1.5787096774193548},{"$f":"IFERROR(AVERAGE(Baza[AFS])+(AVERAGE(Baza[AFS])*0.2),\"\")","v":467.72098868873064},{"$f":"IFERROR(K27/D27*100,\"\")","v":112.66939109113201},{"$f":"IFERROR(COUNTIFS(Baza[Win],\">0\")/C27*100,\"\")","v":22.58064516129032},7.16,96.920400000000015,{"$f":"SUM(K30:K36)","v":55.140400000000007}]
[]
[null,"X","Games","Buy-in","ABI","AFS","ROI","ITM","Bounty","WIN","PROF"]
["PS","PokerStars",{"$f":"COUNTIFS(Baza[Room],A30)+SUMIFS(Baza[R],Baza[Room],A30)","v":6},{"$f":"SUMIFS(Baza[B$],Baza[Room],A30)","v":8.8000000000000007},{"$f":"IFERROR(D30/C30,\"\")","v":1.4666666666666668},{"$f":"IFERROR(AVERAGEIFS(Baza[AFS],Baza[Room],A30)+(AVERAGEIFS(Baza[AFS],Baza[Room],A30)*0.2),\"\")","v":1196.9696969696968},{"$f":"IFERROR(K30/D30*100,\"\")","v":141.1363636363636},{"$f":"IFERROR(COUNTIFS(Baza[Room],A30,Baza[Win],\">0\")/C30*100,\"\")","v":66.666666666666657},{"$f":"IF(SUMIFS(Baza[KO$],Baza[Room],A30)=0,\"\",SUMIFS(Baza[KO$],Baza[Room],A30))","v":""},{"$f":"IF(SUMIFS(Baza[WIN$],Baza[Room],A30)=0,\"\",SUMIFS(Baza[WIN$],Baza[Room],A30))","v":21.22},{"$f":"IFERROR(IF(J30=\"\",0,J30)+IF(I30=\"\",0,I30)-D30,\"\")","v":12.419999999999998}]
["ES","PokerStars.es",{"$f":"COUNTIFS(Baza[Room],A31)+SUMIFS(Baza[R],Baza[Room],A31)","v":0},{"$f":"SUMIFS(Baza[B$],Baza[Room],A31)","v":0},"",{"$f":"IFERROR(AVERAGEIFS(Baza[AFS],Baza[Room],A31)+(AVERAGEIFS(Baza[AFS],Baza[Room],A31)*0.2),\"\")","v":""},{"$f":"IFERROR(K31/D31*100,\"\")","v":""},{"$f":"IFERROR(COUNTIFS(Baza[Room],A31,Baza[Win],\">0\")/C31*100,\"\")","v":""},{"$f":"IF(SUMIFS(Baza[KO$],Baza[Room],A31)=0,\"\",SUMIFS(Baza[KO$],Baza[Room],A31))","v":""},{"$f":"IF(SUMIFS(Baza[WIN$],Baza[Room],A31)=0,\"\",SUMIFS(Baza[WIN$],Baza[Room],A31))","v":""},{"$f":"IFERROR(IF(J31=\"\",0,J31)+IF(I31=\"\",0,I31)-D31,\"\")","v":0}]
["PAC","888Poker",{"$f":"COUNTIFS(Baza[Room],A32)+SUMIFS(Baza[R],Baza[Room],A32)","v":5},{"$f":"SUMIFS(Baza[B$],Baza[Room],A32)","v":7.5000000000000009},1.5000000000000002,{"$f":"IFERROR(AVERAGEIFS(Baza[AFS],Baza[Room],A32)+(AVERAGEIFS(Baza[AFS],Baza[Room],A32)*0.2),\"\")","v":294.5454545454545},-96.666666666666671,{"$f":"IFERROR(COUNTIFS(Baza[Room],A32,Baza[Win],\">0\")/C32*100,\"\")","v":0},{"$f":"IF(SUMIFS(Baza[KO$],Baza[Room],A32)=0,\"\",SUMIFS(Baza[KO$],Baza[Room],A32))","v":0.25},{"$f":"IF(SUMIFS(Baza[WIN$],Baza[Room],A32)=0,\"\",SUMIFS(Baza[WIN$],Baza[Room],A32))","v":""},-7.2500000000000009]
["PK","PokerKing",{"$f":"COUNTIFS(Baza[Room],A33)+SUMIFS(Baza[R],Baza[Room],A33)","v":0},{"$f":"SUMIFS(Baza[B$],Baza[Room],A33)","v":0},"",{"$f":"IFERROR(AVERAGEIFS(Baza[AFS],Baza[Room],A33)+(AVERAGEIFS(Baza[AFS],Baza[Room],A33)*0.2),\"\")","v":""},"",{"$f":"IFERROR(COUNTIFS(Baza[Room],A33,Baza[Win],\">0\")/C33*100,\"\")","v":""},{"$f":"IF(SUMIFS(Baza[KO$],Baza[Room],A33)=0,\"\",SUMIFS(Baza[KO$],Baza[Room],A33))","v":""},{"$f":"IF(SUMIFS(Baza[WIN$],Baza[Room],A33)=0,\"\",SUMIFS(Baza[WIN$],Baza[Room],A33))","v":""},0]
["WN","Winamax",{"$f":"COUNTIFS(Baza[Room],A34)+SUMIFS(Baza[R],Baza[Room],A34)","v":5},{"$f":"SUMIFS(Baza[B$],Baza[Room],A34)","v":7.8400000000000007},1.5680000000000001,{"$f":"IFERROR(AVERAGEIFS(Baza[AFS],Baza[Room],A34)+(AVERAGEIFS(Baza[AFS],Baza[Room],A34)*0.2),\"\")","v":180},798.85714285714289,{"$f":"IFERROR(COUNTIFS(Baza[Room],A34,Baza[Win],\">0\")/C34*100,\"\")","v":20},{"$f":"IF(SUMIFS(Baza[KO$],Baza[Room],A34)=0,\"\",SUMIFS(Baza[KO$],Baza[Room],A34))","v":""},{"$f":"IF(SUMIFS(Baza[WIN$],Baza[Room],A34)=0,\"\",SUMIFS(Baza[WIN$],Baza[Room],A34))","v":70.470400000000012},62.630400000000009]
["PP","PartyPoker",{"$f":"COUNTIFS(Baza[Room],A35)+SUMIFS(Baza[R],Baza[Room],A35)","v":10},{"$f":"SUMIFS(Baza[B$],Baza[Room],A35)","v":16.500000000000004},1.6500000000000004,{"$f":"IFERROR(AVERAGEIFS(Baza[AFS],Baza[Room],A35)+(AVERAGEIFS(Baza[AFS],Baza[Room],A35)*0.2),\"\")","v":140.90909090909088},-84.121212121212125,{"$f":"IFERROR(COUNTIFS(Baza[Room],A35,Baza[Win],\">0\")/C35*100,\"\")","v":10},{"$f":"IF(SUMIFS(Baza[KO$],Baza[Room],A35)=0,\"\",SUMIFS(Baza[KO$],Baza[Room],A35))","v":1.37},{"$f":"IF(SUMIFS(Baza[WIN$],Baza[Room],A35)=0,\"\",SUMIFS(Baza[WIN$],Baza[Room],A35))","v":1.25},-13.880000000000003]
["GG","GGPoker",{"$f":"COUNTIFS(Baza[Room],A36)+SUMIFS(Baza[R],Baza[Room],A36)","v":5},{"$f":"SUMIFS(Baza[B$],Baza[Room],A36)","v":8.3000000000000007},1.6600000000000001,{"$f":"IFERROR(AVERAGEIFS(Baza[AFS],Baza[Room],A36)+(AVERAGEIFS(Baza[AFS],Baza[Room],A36)*0.2),\"\")","v":707.14285714285722},14.698795180722875,{"$f":"IFERROR(COUNTIFS(Baza[Room],A36,Baza[Win],\">0\")/C36*100,\"\")","v":20},{"$f":"IF(SUMIFS(Baza[KO$],Baza[Room],A36)=0,\"\",SUMIFS(Baza[KO$],Baza[Room],A36))","v":5.54},{"$f":"IF(SUMIFS(Baza[WIN$],Baza[Room],A36)=0,\"\",SUMIFS(Baza[WIN$],Baza[Room],A36))","v":3.98},1.2199999999999989]
[]
[null,"X","Games","Buy-in","ABI","AFS","ROI","ITM","Bounty","WIN","PROF"]
[null,"январь",{"$f":"COUNTIFS(Baza[M],B39)+SUMIFS(Baza[R],Baza[M],B39)","v":31},{"$f":"SUMIFS(Baza[B$],Baza[M],B39)","v":48.940000000000012},{"$f":"IFERROR(D39/C39,\"\")","v":1.5787096774193552},{"$f":"IFERROR(AVERAGEIFS(Baza[AFS],Baza[M],B39)+(AVERAGEIFS(Baza[AFS],Baza[M],B39)*0.2),\"\")","v":467.72098868873064},{"$f":"IFERROR(K39/D39*100,\"\")","v":112.66939109113197},{"$f":"IFERROR(COUNTIFS(Baza[M],B39,Baza[Win],\">0\")/C39*100,\"\")","v":22.58064516129032},{"$f":"IF(SUMIFS(Baza[KO$],Baza[M],B39)=0,\"\",SUMIFS(Baza[KO$],Baza[M],B39))","v":7.16},{"$f":"IF(SUMIFS(Baza[WIN$],Baza[M],B39)=0,\"\",SUMIFS(Baza[WIN$],Baza[M],B39))","v":96.920400000000015},{"$f":"IFERROR(IF(J39=\"\",0,J39)+IF(I39=\"\",0,I39)-D39,\"\")","v":55.1404}]
[null,"февраль",{"$f":"COUNTIFS(Baza[M],B40)+SUMIFS(Baza[R],Baza[M],B40)","v":0},{"$f":"SUMIFS(Baza[B$],Baza[M],B40)","v":0},{"$f":"IFERROR(D40/C40,\"\")","v":""},{"$f":"IFERROR(AVERAGEIFS(Baza[AFS],Baza[M],B40)+(AVERAGEIFS(Baza[AFS],Baza[M],B40)*0.2),\"\")","v":""},{"$f":"IFERROR(K40/D40*100,\"\")","v":""},{"$f":"IFERROR(COUNTIFS(Baza[M],B40,Baza[Win],\">0\")/C40*100,\"\")","v":""},{"$f":"IF(SUMIFS(Baza[KO$],Baza[M],B40)=0,\"\",SUMIFS(Baza[KO$],Baza[M],B40))","v":""},{"$f":"IF(SUMIFS(Baza[WIN$],Baza[M],B40)=0,\"\",SUMIFS(Baza[WIN$],Baza[M],B40))","v":""},{"$f":"IFERROR(IF(J40=\"\",0,J40)+IF(I40=\"\",0,I40)-D40,\"\")","v":0}]
[null,"март",{"$f":"COUNTIFS(Baza[M],B41)+SUMIFS(Baza[R],Baza[M],B41)","v":0},{"$f":"SUMIFS(Baza[B$],Baza[M],B41)","v":0},"",{"$f":"IFERROR(AVERAGEIFS(Baza[AFS],Baza[M],B41)+(AVERAGEIFS(Baza[AFS],Baza[M],B41)*0.2),\"\")","v":""},"",{"$f":"IFERROR(COUNTIFS(Baza[M],B41,Baza[Win],\">0\")/C41*100,\"\")","v":""},{"$f":"IF(SUMIFS(Baza[KO$],Baza[M],B41)=0,\"\",SUMIFS(Baza[KO$],Baza[M],B41))","v":""},{"$f":"IF(SUMIFS(Baza[WIN$],Baza[M],B41)=0,\"\",SUMIFS(Baza[WIN$],Baza[M],B41))","v":""},0]
[null,"апрель",{"$f":"COUNTIFS(Baza[M],B42)+SUMIFS(Baza[R],Baza[M],B42)","v":0},{"$f":"SUMIFS(Baza[B$],Baza[M],B42)","v":0},"",{"$f":"IFERROR(AVERAGEIFS(Baza[AFS],Baza[M],B42)+(AVERAGEIFS(Baza[AFS],Baza[M],B42)*0.2),\"\")","v":""},"",{"$f":"IFERROR(COUNTIFS(Baza[M],B42,Baza[Win],\">0\")/C42*100,\"\")","v":""},{"$f":"IF(SUMIFS(Baza[KO$],Baza[M],B42)=0,\"\",SUMIFS(Baza[KO$],Baza[M],B42))","v":""},{"$f":"IF(SUMIFS(Baza[WIN$],Baza[M],B42)=0,\"\",SUMIFS(Baza[WIN$],Baza[M],B42))","v":""},0]
[null,"май",{"$f":"COUNTIFS(Baza[M],B43)+SUMIFS(Baza[R],Baza[M],B43)","v":0},{"$f":"SUMIFS(Baza[B$],Baza[M],B43)","v":0},"",{"$f":"IFERROR(AVERAGEIFS(Baza[AFS],Baza[M],B43)+(AVERAGEIFS(Baza[AFS],Baza[M],B43)*0.2),\"\")","v":""},"",{"$f":"IFERROR(COUNTIFS(Baza[M],B43,Baza[Win],\">0\")/C43*100,\"\")","v":""},{"$f":"IF(SUMIFS(Baza[KO$],Baza[M],B43)=0,\"\",SUMIFS(Baza[KO$],Baza[M],B43))","v":""},{"$f":"IF(SUMIFS(Baza[WIN$],Baza[M],B43)=0,\"\",SUMIFS(Baza[WIN$],Baza[M],B43))","v":""},0]
[null,"июнь",{"$f":"COUNTIFS(Baza[M],B44)+SUMIFS(Baza[R],Baza[M],B44)","v":0},{"$f":"SUMIFS(Baza[B$],Baza[M],B44)","v":0},"",{"$f":"IFERROR(AVERAGEIFS(Baza[AFS],Baza[M],B44)+(AVERAGEIFS(Baza[AFS],Baza[M],B44)*0.2),\"\")","v":""},"",{"$f":"IFERROR(COUNTIFS(Baza[M],B44,Baza[Win],\">0\")/C44*100,\"\")","v":""},{"$f":"IF(SUMIFS(Baza[KO$],Baza[M],B44)=0,\"\",SUMIFS(Baza[KO$],Baza[M],B44))","v":""},{"$f":"IF(SUMIFS(Baza[WIN$],Baza[M],B44)=0,\"\",SUMIFS(Baza[WIN$],Baza[M],B44))","v":""},0]
[null,"июль",{"$f":"COUNTIFS(Baza[M],B45)+SUMIFS(Baza[R],Baza[M],B45)","v":0},{"$f":"SUMIFS(Baza[B$],Baza[M],B45)","v":0},"",{"$f":"IFERROR(AVERAGEIFS(Baza[AFS],Baza[M],B45)+(AVERAGEIFS(Baza[AFS],Baza[M],B45)*0.2),\"\")","v":""},"",{"$f":"IFERROR(COUNTIFS(Baza[M],B45,Baza[Win],\">0\")/C45*100,\"\")","v":""},{"$f":"IF(SUMIFS(Baza[KO$],Baza[M],B45)=0,\"\",SUMIFS(Baza[KO$],Baza[M],B45))","v":""},{"$f":"IF(SUMIFS(Baza[WIN$],Baza[M],B45)=0,\"\",SUMIFS(Baza[WIN$],Baza[M],B45))","v":""},0]
[null,"август",{"$f":"COUNTIFS(Baza[M],B46)+SUMIFS(Baza[R],Baza[M],B46)","v":0},{"$f":"SUMIFS(Baza[B$],Baza[M],B46)","v":0},"",{"$f":"IFERROR(AVERAGEIFS(Baza[AFS],Baza[M],B46)+(AVERAGEIFS(Baza[AFS],Baza[M],B46)*0.2),\"\")","v":""},"",{"$f":"IFERROR(COUNTIFS(Baza[M],B46,Baza[Win],\">0\")/C46*100,\"\")","v":""},{"$f":"IF(SUMIFS(Baza[KO$],Baza[M],B46)=0,\"\",SUMIFS(Baza[KO$],Baza[M],B46))","v":""},{"$f":"IF(SUMIFS(Baza[WIN$],Baza[M],B46)=0,\"\",SUMIFS(Baza[WIN$],Baza[M],B46))","v":""},0]
[null,"сентябрь",{"$f":"COUNTIFS(Baza[M],B47)+SUMIFS(Baza[R],Baza[M],B47)","v":0},{"$f":"SUMIFS(Baza[B$],Baza[M],B47)","v":0},"",{"$f":"IFERROR(AVERAGEIFS(Baza[AFS],Baza[M],B47)+(AVERAGEIFS(Baza[AFS],Baza[M],B47)*0.2),\"\")","v":""},"",{"$f":"IFERROR(COUNTIFS(Baza[M],B47,Baza[Win],\">0\")/C47*100,\"\")","v":""},{"$f":"IF(SUMIFS(Baza[KO$],Baza[M],B47)=0,\"\",SUMIFS(Baza[KO$],Baza[M],B47))","v":""},{"$f":"IF(SUMIFS(Baza[WIN$],Baza[M],B47)=0,\"\",SUMIFS(Baza[WIN$],Baza[M],B47))","v":""},0]
[null,"октябрь",{"$f":"COUNTIFS(Baza[M],B48)+SUMIFS(Baza[R],Baza[M],B48)","v":0},{"$f":"SUMIFS(Baza[B$],Baza[M],B48)","v":0},"",{"$f":"IFERROR(AVERAGEIFS(Baza[AFS],Baza[M],B48)+(AVERAGEIFS(Baza[AFS],Baza[M],B48)*0.2),\"\")","v":""},"",{"$f":"IFERROR(COUNTIFS(Baza[M],B48,Baza[Win],\">0\")/C48*100,\"\")","v":""},{"$f":"IF(SUMIFS(Baza[KO$],Baza[M],B48)=0,\"\",SUMIFS(Baza[KO$],Baza[M],B48))","v":""},{"$f":"IF(SUMIFS(Baza[WIN$],Baza[M],B48)=0,\"\",SUMIFS(Baza[WIN$],Baza[M],B48))","v":""},0]
[null,"ноябрь",{"$f":"COUNTIFS(Baza[M],B49)+SUMIFS(Baza[R],Baza[M],B49)","v":0},{"$f":"SUMIFS(Baza[B$],Baza[M],B49)","v":0},"",{"$f":"IFERROR(AVERAGEIFS(Baza[AFS],Baza[M],B49)+(AVERAGEIFS(Baza[AFS],Baza[M],B49)*0.2),\"\")","v":""},"",{"$f":"IFERROR(COUNTIFS(Baza[M],B49,Baza[Win],\">0\")/C49*100,\"\")","v":""},{"$f":"IF(SUMIFS(Baza[KO$],Baza[M],B49)=0,\"\",SUMIFS(Baza[KO$],Baza[M],B49))","v":""},{"$f":"IF(SUMIFS(Baza[WIN$],Baza[M],B49)=0,\"\",SUMIFS(Baza[WIN$],Baza[M],B49))","v":""},0]
[null,"декабрь",{"$f":"COUNTIFS(Baza[M],B50)+SUMIFS(Baza[R],Baza[M],B50)","v":0},{"$f":"SUMIFS(Baza[B$],Baza[M],B50)","v":0},"",{"$f":"IFERROR(AVERAGEIFS(Baza[AFS],Baza[M],B50)+(AVERAGEIFS(Baza[AFS],Baza[M],B50)*0.2),\"\")","v":""},"",{"$f":"IFERROR(COUNTIFS(Baza[M],B50,Baza[Win],\">0\")/C50*100,\"\")","v":""},{"$f":"IF(SUMIFS(Baza[KO$],Baza[M],B50)=0,\"\",SUMIFS(Baza[KO$],Baza[M],B50))","v":""},{"$f":"IF(SUMIFS(Baza[WIN$],Baza[M],B50)=0,\"\",SUMIFS(Baza[WIN$],Baza[M],B50))","v":""},0]
[]
[null,"X","Games","Buy-in","ABI","AFS","ROI","ITM","Bounty","WIN","PROF"]
[null,"понедельник",{"$f":"COUNTIFS(Baza[DN],B53)+SUMIFS(Baza[R],Baza[DN],B53)","v":0},{"$f":"SUMIFS(Baza[B$],Baza[DN],B53)","v":0},{"$f":"IFERROR(D53/C53,\"\")","v":""},{"$f":"IFERROR(AVERAGEIFS(Baza[AFS],Baza[DN],B53)+(AVERAGEIFS(Baza[AFS],Baza[DN],B53)*0.2),\"\")","v":""},{"$f":"IFERROR(K53/D53*100,\"\")","v":""},{"$f":"IFERROR(COUNTIFS(Baza[DN],B53,Baza[Win],\">0\")/C53*100,\"\")","v":""},{"$f":"IF(SUMIFS(Baza[KO$],Baza[DN],B53)=0,\"\",SUMIFS(Baza[KO$],Baza[DN],B53))","v":""},{"$f":"IF(SUMIFS(Baza[WIN$],Baza[DN],B53)=0,\"\",SUMIFS(Baza[WIN$],Baza[DN],B53))","v":""},{"$f":"IFERROR(IF(J53=\"\",0,J53)+IF(I53=\"\",0,I53)-D53,\"\")","v":0}]
[null,"вторник",{"$f":"COUNTIFS(Baza[DN],B54)+SUMIFS(Baza[R],Baza[DN],B54)","v":0},{"$f":"SUMIFS(Baza[B$],Baza[DN],B54)","v":0},{"$f":"IFERROR(D54/C54,\"\")","v":""},{"$f":"IFERROR(AVERAGEIFS(Baza[AFS],Baza[DN],B54)+(AVERAGEIFS(Baza[AFS],Baza[DN],B54)*0.2),\"\")","v":""},{"$f":"IFERROR(K54/D54*100,\"\")","v":""},{"$f":"IFERROR(COUNTIFS(Baza[DN],B54,Baza[Win],\">0\")/C54*100,\"\")","v":""},{"$f":"IF(SUMIFS(Baza[KO$],Baza[DN],B54)=0,\"\",SUMIFS(Baza[KO$],Baza[DN],B54))","v":""},{"$f":"IF(SUMIFS(Baza[WIN$],Baza[DN],B54)=0,\"\",SUMIFS(Baza[WIN$],Baza[DN],B54))","v":""},{"$f":"IFERROR(IF(J54=\"\",0,J54)+IF(I54=\"\",0,I54)-D54,\"\")","v":0}]
[null,"среда",{"$f":"COUNTIFS(Baza[DN],B55)+SUMIFS(Baza[R],Baza[DN],B55)","v":0},{"$f":"SUMIFS(Baza[B$],Baza[DN],B55)","v":0},"",{"$f":"IFERROR(AVERAGEIFS(Baza[AFS],Baza[DN],B55)+(AVERAGEIFS(Baza[AFS],Baza[DN],B55)*0.2),\"\")","v":""},"",{"$f":"IFERROR(COUNTIFS(Baza[DN],B55,Baza[Win],\">0\")/C55*100,\"\")","v":""},{"$f":"IF(SUMIFS(Baza[KO$],Baza[DN],B55)=0,\"\",SUMIFS(Baza[KO$],Baza[DN],B55))","v":""},{"$f":"IF(SUMIFS(Baza[WIN$],Baza[DN],B55)=0,\"\",SUMIFS(Baza[WIN$],Baza[DN],B55))","v":""},0]
[null,"четверг",{"$f":"COUNTIFS(Baza[DN],B56)+SUMIFS(Baza[R],Baza[DN],B56)","v":0},{"$f":"SUMIFS(Baza[B$],Baza[DN],B56)","v":0},"",{"$f":"IFERROR(AVERAGEIFS(Baza[AFS],Baza[DN],B56)+(AVERAGEIFS(Baza[AFS],Baza[DN],B56)*0.2),\"\")","v":""},"",{"$f":"IFERROR(COUNTIFS(Baza[DN],B56,Baza[Win],\">0\")/C56*100,\"\")","v":""},{"$f":"IF(SUMIFS(Baza[KO$],Baza[DN],B56)=0,\"\",SUMIFS(Baza[KO$],Baza[DN],B56))","v":""},{"$f":"IF(SUMIFS(Baza[WIN$],Baza[DN],B56)=0,\"\",SUMIFS(Baza[WIN$],Baza[DN],B56))","v":""},0]
[null,"пятница",{"$f":"COUNTIFS(Baza[DN],B57)+SUMIFS(Baza[R],Baza[DN],B57)","v":22},{"$f":"SUMIFS(Baza[B$],Baza[DN],B57)","v":31.38000000000001},1.4263636363636367,{"$f":"IFERROR(AVERAGEIFS(Baza[AFS],Baza[DN],B57)+(AVERAGEIFS(Baza[AFS],Baza[DN],B57)*0.2),\"\")","v":494.00826446280996},-8.8910133843212513,{"$f":"IFERROR(COUNTIFS(Baza[DN],B57,Baza[Win],\">0\")/C57*100,\"\")","v":22.727272727272727},{"$f":"IF(SUMIFS(Baza[KO$],Baza[DN],B57)=0,\"\",SUMIFS(Baza[KO$],Baza[DN],B57))","v":6.66},{"$f":"IF(SUMIFS(Baza[WIN$],Baza[DN],B57)=0,\"\",SUMIFS(Baza[WIN$],Baza[DN],B57))","v":21.93},-2.7900000000000098]
[null,"суббота",{"$f":"COUNTIFS(Baza[DN],B58)+SUMIFS(Baza[R],Baza[DN],B58)","v":9},{"$f":"SUMIFS(Baza[B$],Baza[DN],B58)","v":17.560000000000002},1.9511111111111115,{"$f":"IFERROR(AVERAGEIFS(Baza[AFS],Baza[DN],B58)+(AVERAGEIFS(Baza[AFS],Baza[DN],B58)*0.2),\"\")","v":403.4632034632034},329.89977220956723,{"$f":"IFERROR(COUNTIFS(Baza[DN],B58,Baza[Win],\">0\")/C58*100,\"\")","v":22.222222222222221},{"$f":"IF(SUMIFS(Baza[KO$],Baza[DN],B58)=0,\"\",SUMIFS(Baza[KO$],Baza[DN],B58))","v":0.5},{"$f":"IF(SUMIFS(Baza[WIN$],Baza[DN],B58)=0,\"\",SUMIFS(Baza[WIN$],Baza[DN],B58))","v":74.990400000000008},57.930400000000006]
[null,"воскресенье",{"$f":"COUNTIFS(Baza[DN],B59)+SUMIFS(Baza[R],Baza[DN],B59)","v":0},{"$f":"SUMIFS(Baza[B$],Baza[DN],B59)","v":0},"",{"$f":"IFERROR(AVERAGEIFS(Baza[AFS],Baza[DN],B59)+(AVERAGEIFS(Baza[AFS],Baza[DN],B59)*0.2),\"\")","v":""},"",{"$f":"IFERROR(COUNTIFS(Baza[DN],B59,Baza[Win],\">0\")/C59*100,\"\")","v":""},{"$f":"IF(SUMIFS(Baza[KO$],Baza[DN],B59)=0,\"\",SUMIFS(Baza[KO$],Baza[DN],B59))","v":""},{"$f":"IF(SUMIFS(Baza[WIN$],Baza[DN],B59)=0,\"\",SUMIFS(Baza[WIN$],Baza[DN],B59))","v":""},0]
[]
[null,"#","Games","Buy-in","ABI","AFS","ROI","ITM","Bounty","WIN","PROF"]
[null,{"$f":"IFERROR(INDEX(Baza[B],SMALL(IF(SMALL(IF(COUNTIF($B$61:$B61,Baza[B])=0,COUNTIF(Baza[B],\"<\"&Baza[B])+1,\"\"),1)=COUNTIF(Baza[B],\"<\"&Baza[B])+1,ROW(Baza[B])-MIN(ROW(Baza[B]))+1),1)),\"\")","v":1},{"$f":"IF(Таблица6[[#This Row],['#]]=\"\",\"\",COUNTIFS(Baza[B],Таблица6[[#This Row],['#]])+SUMIFS(Baza[R],Baza[B],Таблица6[[#This Row],['#]]))","v":5},{"$f":"IF(Таблица6[[#This Row],['#]]=\"\",\"\",SUMIFS(Baza[B$],Baza[B],Таблица6[[#This Row],['#]]))","v":5.36},{"$f":"IFERROR(D62/C62,\"\")","v":1.0720000000000001},{"$f":"IFERROR(AVERAGEIFS(Baza[AFS],Baza[B],Таблица6[[#This Row],['#]])+(AVERAGEIFS(Baza[AFS],Baza[B],Таблица6[[#This Row],['#]])*0.2),\"\")","v":252},{"$f":"IFERROR(K62/D62*100,\"\")","v":1214.7462686567167},{"$f":"IFERROR(COUNTIFS(Baza[B],Таблица6[[#This Row],['#]],Baza[Win],\">0\")/C62*100,\"\")","v":20},{"$f":"IF(SUMIFS(Baza[KO$],Baza[B],Таблица6[[#This Row],['#]])=0,\"\",SUMIFS(Baza[KO$],Baza[B],Таблица6[[#This Row],['#]]))","v":""},{"$f":"IF(SUMIFS(Baza[WIN$],Baza[B],Таблица6[[#This Row],['#]])=0,\"\",SUMIFS(Baza[WIN$],Baza[B],Таблица6[[#This Row],['#]]))","v":70.470400000000012},{"$f":"IFERROR(IF(J62=\"\",0,J62)+IF(I62=\"\",0,I62)-D62,\"\")","v":65.110400000000013}]
[null,{"$f":"IFERROR(INDEX(Baza[B],SMALL(IF(SMALL(IF(COUNTIF($B$61:$B62,Baza[B])=0,COUNTIF(Baza[B],\"<\"&Baza[B])+1,\"\"),1)=COUNTIF(Baza[B],\"<\"&Baza[B])+1,ROW(Baza[B])-MIN(ROW(Baza[B]))+1),1)),\"\")","v":1.05},{"$f":"IF(Таблица6[[#This Row],['#]]=\"\",\"\",COUNTIFS(Baza[B],Таблица6[[#This Row],['#]])+SUMIFS(Baza[R],Baza[B],Таблица6[[#This Row],['#]]))","v":2},{"$f":"IF(Таблица6[[#This Row],['#]]=\"\",\"\",SUMIFS(Baza[B$],Baza[B],Таблица6[[#This Row],['#]]))","v":2.1},1.05,{"$f":"IFERROR(AVERAGEIFS(Baza[AFS],Baza[B],Таблица6[[#This Row],['#]])+(AVERAGEIFS(Baza[AFS],Baza[B],Таблица6[[#This Row],['#]])*0.2),\"\")","v":857.14285714285711},{"$f":"IFERROR(K63/D63*100,\"\")","v":329.52380952380952},{"$f":"IFERROR(COUNTIFS(Baza[B],Таблица6[[#This Row],['#]],Baza[Win],\">0\")/C63*100,\"\")","v":50},{"$f":"IF(SUMIFS(Baza[KO$],Baza[B],Таблица6[[#This Row],['#]])=0,\"\",SUMIFS(Baza[KO$],Baza[B],Таблица6[[#This Row],['#]]))","v":5.04},{"$f":"IF(SUMIFS(Baza[WIN$],Baza[B],Таблица6[[#This Row],['#]])=0,\"\",SUMIFS(Baza[WIN$],Baza[B],Таблица6[[#This Row],['#]]))","v":3.98},{"$f":"IFERROR(IF(J63=\"\",0,J63)+IF(I63=\"\",0,I63)-D63,\"\")","v":6.92}]
[null,{"$f":"IFERROR(INDEX(Baza[B],SMALL(IF(SMALL(IF(COUNTIF($B$61:$B63,Baza[B])=0,COUNTIF(Baza[B],\"<\"&Baza[B])+1,\"\"),1)=COUNTIF(Baza[B],\"<\"&Baza[B])+1,ROW(Baza[B])-MIN(ROW(Baza[B]))+1),1)),\"\")","v":1.1000000000000001},{"$f":"IF(Таблица6[[#This Row],['#]]=\"\",\"\",COUNTIFS(Baza[B],Таблица6[[#This Row],['#]])+SUMIFS(Baza[R],Baza[B],Таблица6[[#This Row],['#]]))","v":12},{"$f":"IF(Таблица6[[#This Row],['#]]=\"\",\"\",SUMIFS(Baza[B$],Baza[B],Таблица6[[#This Row],['#]]))","v":13.199999999999998},1.0999999999999999,{"$f":"IFERROR(AVERAGEIFS(Baza[AFS],Baza[B],Таблица6[[#This Row],['#]])+(AVERAGEIFS(Baza[AFS],Baza[B],Таблица6[[#This Row],['#]])*0.2),\"\")","v":665.90909090909088},{"$f":"IFERROR(K64/D64*100,\"\")","v":82.500000000000028},{"$f":"IFERROR(COUNTIFS(Baza[B],Таблица6[[#This Row],['#]],Baza[Win],\">0\")/C64*100,\"\")","v":41.666666666666671},{"$f":"IF(SUMIFS(Baza[KO$],Baza[B],Таблица6[[#This Row],['#]])=0,\"\",SUMIFS(Baza[KO$],Baza[B],Таблица6[[#This Row],['#]]))","v":1.62},{"$f":"IF(SUMIFS(Baza[WIN$],Baza[B],Таблица6[[#This Row],['#]])=0,\"\",SUMIFS(Baza[WIN$],Baza[B],Таблица6[[#This Row],['#]]))","v":22.47},{"$f":"IFERROR(IF(J64=\"\",0,J64)+IF(I64=\"\",0,I64)-D64,\"\")","v":10.890000000000002}]
[null,{"$f":"IFERROR(INDEX(Baza[B],SMALL(IF(SMALL(IF(COUNTIF($B$61:$B64,Baza[B])=0,COUNTIF(Baza[B],\"<\"&Baza[B])+1,\"\"),1)=COUNTIF(Baza[B],\"<\"&Baza[B])+1,ROW(Baza[B])-MIN(ROW(Baza[B]))+1),1)),\"\")","v":2},{"$f":"IF(Таблица6[[#This Row],['#]]=\"\",\"\",COUNTIFS(Baza[B],Таблица6[[#This Row],['#]])+SUMIFS(Baza[R],Baza[B],Таблица6[[#This Row],['#]]))","v":3},{"$f":"IF(Таблица6[[#This Row],['#]]=\"\",\"\",SUMIFS(Baza[B$],Baza[B],Таблица6[[#This Row],['#]]))","v":6.48},2.16,{"$f":"IFERROR(AVERAGEIFS(Baza[AFS],Baza[B],Таблица6[[#This Row],['#]])+(AVERAGEIFS(Baza[AFS],Baza[B],Таблица6[[#This Row],['#]])*0.2),\"\")","v":230},{"$f":"IFERROR(K65/D65*100,\"\")","v":-100},{"$f":"IFERROR(COUNTIFS(Baza[B],Таблица6[[#This Row],['#]],Baza[Win],\">0\")/C65*100,\"\")","v":0},{"$f":"IF(SUMIFS(Baza[KO$],Baza[B],Таблица6[[#This Row],['#]])=0,\"\",SUMIFS(Baza[KO$],Baza[B],Таблица6[[#This Row],['#]]))","v":""},{"$f":"IF(SUMIFS(Baza[WIN$],Baza[B],Таблица6[[#This Row],['#]])=0,\"\",SUMIFS(Baza[WIN$],Baza[B],Таблица6[[#This Row],['#]]))","v":""},{"$f":"IFERROR(IF(J65=\"\",0,J65)+IF(I65=\"\",0,I65)-D65,\"\")","v":-6.48}]
[null,{"$f":"IFERROR(INDEX(Baza[B],SMALL(IF(SMALL(IF(COUNTIF($B$61:$B65,Baza[B])=0,COUNTIF(Baza[B],\"<\"&Baza[B])+1,\"\"),1)=COUNTIF(Baza[B],\"<\"&Baza[B])+1,ROW(Baza[B])-MIN(ROW(Baza[B]))+1),1)),\"\")","v":2.1},{"$f":"IF(Таблица6[[#This Row],['#]]=\"\",\"\",COUNTIFS(Baza[B],Таблица6[[#This Row],['#]])+SUMIFS(Baza[R],Baza[B],Таблица6[[#This Row],['#]]))","v":2},{"$f":"IF(Таблица6[[#This Row],['#]]=\"\",\"\",SUMIFS(Baza[B$],Baza[B],Таблица6[[#This Row],['#]]))","v":4.2},{"$f":"IFERROR(D66/C66,\"\")","v":2.1},{"$f":"IFERROR(AVERAGEIFS(Baza[AFS],Baza[B],Таблица6[[#This Row],['#]])+(AVERAGEIFS(Baza[AFS],Baza[B],Таблица6[[#This Row],['#]])*0.2),\"\")","v":685.71428571428578},{"$f":"IFERROR(K66/D66*100,\"\")","v":-88.095238095238088},{"$f":"IFERROR(COUNTIFS(Baza[B],Таблица6[[#This Row],['#]],Baza[Win],\">0\")/C66*100,\"\")","v":0},{"$f":"IF(SUMIFS(Baza[KO$],Baza[B],Таблица6[[#This Row],['#]])=0,\"\",SUMIFS(Baza[KO$],Baza[B],Таблица6[[#This Row],['#]]))","v":0.5},{"$f":"IF(SUMIFS(Baza[WIN$],Baza[B],Таблица6[[#This Row],['#]])=0,\"\",SUMIFS(Baza[WIN$],Baza[B],Таблица6[[#This Row],['#]]))","v":""},{"$f":"IFERROR(IF(J66=\"\",0,J66)+IF(I66=\"\",0,I66)-D66,\"\")","v":-3.7}]
[null,{"$f":"IFERROR(INDEX(Baza[B],SMALL(IF(SMALL(IF(COUNTIF($B$61:$B66,Baza[B])=0,COUNTIF(Baza[B],\"<\"&Baza[B])+1,\"\"),1)=COUNTIF(Baza[B],\"<\"&Baza[B])+1,ROW(Baza[B])-MIN(ROW(Baza[B]))+1),1)),\"\")","v":2.2000000000000002},{"$f":"IF(Таблица6[[#This Row],['#]]=\"\",\"\",COUNTIFS(Baza[B],Таблица6[[#This Row],['#]])+SUMIFS(Baza[R],Baza[B],Таблица6[[#This Row],['#]]))","v":5},{"$f":"IF(Таблица6[[#This Row],['#]]=\"\",\"\",SUMIFS(Baza[B$],Baza[B],Таблица6[[#This Row],['#]]))","v":11},2.2000000000000002,{"$f":"IFERROR(AVERAGEIFS(Baza[AFS],Baza[B],Таблица6[[#This Row],['#]])+(AVERAGEIFS(Baza[AFS],Baza[B],Таблица6[[#This Row],['#]])*0.2),\"\")","v":185.45454545454544},-100,{"$f":"IFERROR(COUNTIFS(Baza[B],Таблица6[[#This Row],['#]],Baza[Win],\">0\")/C67*100,\"\")","v":0},{"$f":"IF(SUMIFS(Baza[KO$],Baza[B],Таблица6[[#This Row],['#]])=0,\"\",SUMIFS(Baza[KO$],Baza[B],Таблица6[[#This Row],['#]]))","v":""},{"$f":"IF(SUMIFS(Baza[WIN$],Baza[B],Таблица6[[#This Row],['#]])=0,\"\",SUMIFS(Baza[WIN$],Baza[B],Таблица6[[#This Row],['#]]))","v":""},-11]
[null,{"$f":"IFERROR(INDEX(Baza[B],SMALL(IF(SMALL(IF(COUNTIF($B$61:$B67,Baza[B])=0,COUNTIF(Baza[B],\"<\"&Baza[B])+1,\"\"),1)=COUNTIF(Baza[B],\"<\"&Baza[B])+1,ROW(Baza[B])-MIN(ROW(Baza[B]))+1),1)),\"\")","v":3.3},{"$f":"IF(Таблица6[[#This Row],['#]]=\"\",\"\",COUNTIFS(Baza[B],Таблица6[[#This Row],['#]])+SUMIFS(Baza[R],Baza[B],Таблица6[[#This Row],['#]]))","v":2},{"$f":"IF(Таблица6[[#This Row],['#]]=\"\",\"\",SUMIFS(Baza[B$],Baza[B],Таблица6[[#This Row],['#]]))","v":6.6},3.3,{"$f":"IFERROR(AVERAGEIFS(Baza[AFS],Baza[B],Таблица6[[#This Row],['#]])+(AVERAGEIFS(Baza[AFS],Baza[B],Таблица6[[#This Row],['#]])*0.2),\"\")","v":272.72727272727275},-100,{"$f":"IFERROR(COUNTIFS(Baza[B],Таблица6[[#This Row],['#]],Baza[Win],\">0\")/C68*100,\"\")","v":0},{"$f":"IF(SUMIFS(Baza[KO$],Baza[B],Таблица6[[#This Row],['#]])=0,\"\",SUMIFS(Baza[KO$],Baza[B],Таблица6[[#This Row],['#]]))","v":""},{"$f":"IF(SUMIFS(Baza[WIN$],Baza[B],Таблица6[[#This Row],['#]])=0,\"\",SUMIFS(Baza[WIN$],Baza[B],Таблица6[[#This Row],['#]]))","v":""},-6.6]
[null,{"$f":"IFERROR(INDEX(Baza[B],SMALL(IF(SMALL(IF(COUNTIF($B$61:$B68,Baza[B])=0,COUNTIF(Baza[B],\"<\"&Baza[B])+1,\"\"),1)=COUNTIF(Baza[B],\"<\"&Baza[B])+1,ROW(Baza[B])-MIN(ROW(Baza[B]))+1),1)),\"\")","v":""},{"$f":"IF(Таблица6[[#This Row],['#]]=\"\",\"\",COUNTIFS(Baza[B],Таблица6[[#This Row],['#]])+SUMIFS(Baza[R],Baza[B],Таблица6[[#This Row],['#]]))","v":""},{"$f":"IF(Таблица6[[#This Row],['#]]=\"\",\"\",SUMIFS(Baza[B$],Baza[B],Таблица6[[#This Row],['#]]))","v":""},"",{"$f":"IFERROR(AVERAGEIFS(Baza[AFS],Baza[B],Таблица6[[#This Row],['#]])+(AVERAGEIFS(Baza[AFS],Baza[B],Таблица6[[#This Row],['#]])*0.2),\"\")","v":""},"",{"$f":"IFERROR(COUNTIFS(Baza[B],Таблица6[[#This Row],['#]],Baza[Win],\">0\")/C69*100,\"\")","v":""},{"$f":"IF(SUMIFS(Baza[KO$],Baza[B],Таблица6[[#This Row],['#]])=0,\"\",SUMIFS(Baza[KO$],Baza[B],Таблица6[[#This Row],['#]]))","v":""},{"$f":"IF(SUMIFS(Baza[WIN$],Baza[B],Таблица6[[#This Row],['#]])=0,\"\",SUMIFS(Baza[WIN$],Baza[B],Таблица6[[#This Row],['#]]))","v":""},""]
[null,{"$f":"IFERROR(INDEX(Baza[B],SMALL(IF(SMALL(IF(COUNTIF($B$61:$B69,Baza[B])=0,COUNTIF(Baza[B],\"<\"&Baza[B])+1,\"\"),1)=COUNTIF(Baza[B],\"<\"&Baza[B])+1,ROW(Baza[B])-MIN(ROW(Baza[B]))+1),1)),\"\")","v":""},{"$f":"IF(Таблица6[[#This Row],['#]]=\"\",\"\",COUNTIFS(Baza[B],Таблица6[[#This Row],['#]])+SUMIFS(Baza[R],Baza[B],Таблица6[[#This Row],['#]]))","v":""},{"$f":"IF(Таблица6[[#This Row],['#]]=\"\",\"\",SUMIFS(Baza[B$],Baza[B],Таблица6[[#This Row],['#]]))","v":""},"",{"$f":"IFERROR(AVERAGEIFS(Baza[AFS],Baza[B],Таблица6[[#This Row],['#]])+(AVERAGEIFS(Baza[AFS],Baza[B],Таблица6[[#This Row],['#]])*0.2),\"\")","v":""},"",{"$f":"IFERROR(COUNTIFS(Baza[B],Таблица6[[#This Row],['#]],Baza[Win],\">0\")/C70*100,\"\")","v":""},{"$f":"IF(SUMIFS(Baza[KO$],Baza[B],Таблица6[[#This Row],['#]])=0,\"\",SUMIFS(Baza[KO$],Baza[B],Таблица6[[#This Row],['#]]))","v":""},{"$f":"IF(SUMIFS(Baza[WIN$],Baza[B],Таблица6[[#This Row],['#]])=0,\"\",SUMIFS(Baza[WIN$],Baza[B],Таблица6[[#This Row],['#]]))","v":""},""]
[null,{"$f":"IFERROR(INDEX(Baza[B],SMALL(IF(SMALL(IF(COUNTIF($B$61:$B70,Baza[B])=0,COUNTIF(Baza[B],\"<\"&Baza[B])+1,\"\"),1)=COUNTIF(Baza[B],\"<\"&Baza[B])+1,ROW(Baza[B])-MIN(ROW(Baza[B]))+1),1)),\"\")","v":""},{"$f":"IF(Таблица6[[#This Row],['#]]=\"\",\"\",COUNTIFS(Baza[B],Таблица6[[#This Row],['#]])+SUMIFS(Baza[R],Baza[B],Таблица6[[#This Row],['#]]))","v":""},{"$f":"IF(Таблица6[[#This Row],['#]]=\"\",\"\",SUMIFS(Baza[B$],Baza[B],Таблица6[[#This Row],['#]]))","v":""},"",{"$f":"IFERROR(AVERAGEIFS(Baza[AFS],Baza[B],Таблица6[[#This Row],['#]])+(AVERAGEIFS(Baza[AFS],Baza[B],Таблица6[[#This Row],['#]])*0.2),\"\")","v":""},"",{"$f":"IFERROR(COUNTIFS(Baza[B],Таблица6[[#This Row],['#]],Baza[Win],\">0\")/C71*100,\"\")","v":""},{"$f":"IF(SUMIFS(Baza[KO$],Baza[B],Таблица6[[#This Row],['#]])=0,\"\",SUMIFS(Baza[KO$],Baza[B],Таблица6[[#This Row],['#]]))","v":""},{"$f":"IF(SUMIFS(Baza[WIN$],Baza[B],Таблица6[[#This Row],['#]])=0,\"\",SUMIFS(Baza[WIN$],Baza[B],Таблица6[[#This Row],['#]]))","v":""},""]
[null,{"$f":"IFERROR(INDEX(Baza[B],SMALL(IF(SMALL(IF(COUNTIF($B$61:$B71,Baza[B])=0,COUNTIF(Baza[B],\"<\"&Baza[B])+1,\"\"),1)=COUNTIF(Baza[B],\"<\"&Baza[B])+1,ROW(Baza[B])-MIN(ROW(Baza[B]))+1),1)),\"\")","v":""},{"$f":"IF(Таблица6[[#This Row],['#]]=\"\",\"\",COUNTIFS(Baza[B],Таблица6[[#This Row],['#]])+SUMIFS(Baza[R],Baza[B],Таблица6[[#This Row],['#]]))","v":""},{"$f":"IF(Таблица6[[#This Row],['#]]=\"\",\"\",SUMIFS(Baza[B$],Baza[B],Таблица6[[#This Row],['#]]))","v":""},"",{"$f":"IFERROR(AVERAGEIFS(Baza[AFS],Baza[B],Таблица6[[#This Row],['#]])+(AVERAGEIFS(Baza[AFS],Baza[B],Таблица6[[#This Row],['#]])*0.2),\"\")","v":""},"",{"$f":"IFERROR(COUNTIFS(Baza[B],Таблица6[[#This Row],['#]],Baza[Win],\">0\")/C72*100,\"\")","v":""},{"$f":"IF(SUMIFS(Baza[KO$],Baza[B],Таблица6[[#This Row],['#]])=0,\"\",SUMIFS(Baza[KO$],Baza[B],Таблица6[[#This Row],['#]]))","v":""},{"$f":"IF(SUMIFS(Baza[WIN$],Baza[B],Таблица6[[#This Row],['#]])=0,\"\",SUMIFS(Baza[WIN$],Baza[B],Таблица6[[#This Row],['#]]))","v":""},""]
[null,{"$f":"IFERROR(INDEX(Baza[B],SMALL(IF(SMALL(IF(COUNTIF($B$61:$B72,Baza[B])=0,COUNTIF(Baza[B],\"<\"&Baza[B])+1,\"\"),1)=COUNTIF(Baza[B],\"<\"&Baza[B])+1,ROW(Baza[B])-MIN(ROW(Baza[B]))+1),1)),\"\")","v":""},{"$f":"IF(Таблица6[[#This Row],['#]]=\"\",\"\",COUNTIFS(Baza[B],Таблица6[[#This Row],['#]])+SUMIFS(Baza[R],Baza[B],Таблица6[[#This Row],['#]]))","v":""},{"$f":"IF(Таблица6[[#This Row],['#]]=\"\",\"\",SUMIFS(Baza[B$],Baza[B],Таблица6[[#This Row],['#]]))","v":""},"",{"$f":"IFERROR(AVERAGEIFS(Baza[AFS],Baza[B],Таблица6[[#This Row],['#]])+(AVERAGEIFS(Baza[AFS],Baza[B],Таблица6[[#This Row],['#]])*0.2),\"\")","v":""},"",{"$f":"IFERROR(COUNTIFS(Baza[B],Таблица6[[#This Row],['#]],Baza[Win],\">0\")/C73*100,\"\")","v":""},{"$f":"IF(SUMIFS(Baza[KO$],Baza[B],Таблица6[[#This Row],['#]])=0,\"\",SUMIFS(Baza[KO$],Baza[B],Таблица6[[#This Row],['#]]))","v":""},{"$f":"IF(SUMIFS(Baza[WIN$],Baza[B],Таблица6[[#This Row],['#]])=0,\"\",SUMIFS(Baza[WIN$],Baza[B],Таблица6[[#This Row],['#]]))","v":""},""]
[null,{"$f":"IFERROR(INDEX(Baza[B],SMALL(IF(SMALL(IF(COUNTIF($B$61:$B73,Baza[B])=0,COUNTIF(Baza[B],\"<\"&Baza[B])+1,\"\"),1)=COUNTIF(Baza[B],\"<\"&Baza[B])+1,ROW(Baza[B])-MIN(ROW(Baza[B]))+1),1)),\"\")","v":""},{"$f":"IF(Таблица6[[#This Row],['#]]=\"\",\"\",COUNTIFS(Baza[B],Таблица6[[#This Row],['#]])+SUMIFS(Baza[R],Baza[B],Таблица6[[#This Row],['#]]))","v":""},{"$f":"IF(Таблица6[[#This Row],['#]]=\"\",\"\",SUMIFS(Baza[B$],Baza[B],Таблица6[[#This Row],['#]]))","v":""},"",{"$f":"IFERROR(AVERAGEIFS(Baza[AFS],Baza[B],Таблица6[[#This Row],['#]])+(AVERAGEIFS(Baza[AFS],Baza[B],Таблица6[[#This Row],['#]])*0.2),\"\")","v":""},"",{"$f":"IFERROR(COUNTIFS(Baza[B],Таблица6[[#This Row],['#]],Baza[Win],\">0\")/C74*100,\"\")","v":""},{"$f":"IF(SUMIFS(Baza[KO$],Baza[B],Таблица6[[#This Row],['#]])=0,\"\",SUMIFS(Baza[KO$],Baza[B],Таблица6[[#This Row],['#]]))","v":""},{"$f":"IF(SUMIFS(Baza[WIN$],Baza[B],Таблица6[[#This Row],['#]])=0,\"\",SUMIFS(Baza[WIN$],Baza[B],Таблица6[[#This Row],['#]]))","v":""},""]
[null,{"$f":"IFERROR(INDEX(Baza[B],SMALL(IF(SMALL(IF(COUNTIF($B$61:$B74,Baza[B])=0,COUNTIF(Baza[B],\"<\"&Baza[B])+1,\"\"),1)=COUNTIF(Baza[B],\"<\"&Baza[B])+1,ROW(Baza[B])-MIN(ROW(Baza[B]))+1),1)),\"\")","v":""},{"$f":"IF(Таблица6[[#This Row],['#]]=\"\",\"\",COUNTIFS(Baza[B],Таблица6[[#This Row],['#]])+SUMIFS(Baza[R],Baza[B],Таблица6[[#This Row],['#]]))","v":""},{"$f":"IF(Таблица6[[#This Row],['#]]=\"\",\"\",SUMIFS(Baza[B$],Baza[B],Таблица6[[#This Row],['#]]))","v":""},"",{"$f":"IFERROR(AVERAGEIFS(Baza[AFS],Baza[B],Таблица6[[#This Row],['#]])+(AVERAGEIFS(Baza[AFS],Baza[B],Таблица6[[#This Row],['#]])*0.2),\"\")","v":""},"",{"$f":"IFERROR(COUNTIFS(Baza[B],Таблица6[[#This Row],['#]],Baza[Win],\">0\")/C75*100,\"\")","v":""},{"$f":"IF(SUMIFS(Baza[KO$],Baza[B],Таблица6[[#This Row],['#]])=0,\"\",SUMIFS(Baza[KO$],Baza[B],Таблица6[[#This Row],['#]]))","v":""},{"$f":"IF(SUMIFS(Baza[WIN$],Baza[B],Таблица6[[#This Row],['#]])=0,\"\",SUMIFS(Baza[WIN$],Baza[B],Таблица6[[#This Row],['#]]))","v":""},""]
[null,{"$f":"IFERROR(INDEX(Baza[B],SMALL(IF(SMALL(IF(COUNTIF($B$61:$B75,Baza[B])=0,COUNTIF(Baza[B],\"<\"&Baza[B])+1,\"\"),1)=COUNTIF(Baza[B],\"<\"&Baza[B])+1,ROW(Baza[B])-MIN(ROW(Baza[B]))+1),1)),\"\")","v":""},{"$f":"IF(Таблица6[[#This Row],['#]]=\"\",\"\",COUNTIFS(Baza[B],Таблица6[[#This Row],['#]])+SUMIFS(Baza[R],Baza[B],Таблица6[[#This Row],['#]]))","v":""},{"$f":"IF(Таблица6[[#This Row],['#]]=\"\",\"\",SUMIFS(Baza[B$],Baza[B],Таблица6[[#This Row],['#]]))","v":""},"",{"$f":"IFERROR(AVERAGEIFS(Baza[AFS],Baza[B],Таблица6[[#This Row],['#]])+(AVERAGEIFS(Baza[AFS],Baza[B],Таблица6[[#This Row],['#]])*0.2),\"\")","v":""},"",{"$f":"IFERROR(COUNTIFS(Baza[B],Таблица6[[#This Row],['#]],Baza[Win],\">0\")/C76*100,\"\")","v":""},{"$f":"IF(SUMIFS(Baza[KO$],Baza[B],Таблица6[[#This Row],['#]])=0,\"\",SUMIFS(Baza[KO$],Baza[B],Таблица6[[#This Row],['#]]))","v":""},{"$f":"IF(SUMIFS(Baza[WIN$],Baza[B],Таблица6[[#This Row],['#]])=0,\"\",SUMIFS(Baza[WIN$],Baza[B],Таблица6[[#This Row],['#]]))","v":""},""]
[null,{"$f":"IFERROR(INDEX(Baza[B],SMALL(IF(SMALL(IF(COUNTIF($B$61:$B76,Baza[B])=0,COUNTIF(Baza[B],\"<\"&Baza[B])+1,\"\"),1)=COUNTIF(Baza[B],\"<\"&Baza[B])+1,ROW(Baza[B])-MIN(ROW(Baza[B]))+1),1)),\"\")","v":""},{"$f":"IF(Таблица6[[#This Row],['#]]=\"\",\"\",COUNTIFS(Baza[B],Таблица6[[#This Row],['#]])+SUMIFS(Baza[R],Baza[B],Таблица6[[#This Row],['#]]))","v":""},{"$f":"IF(Таблица6[[#This Row],['#]]=\"\",\"\",SUMIFS(Baza[B$],Baza[B],Таблица6[[#This Row],['#]]))","v":""},"",{"$f":"IFERROR(AVERAGEIFS(Baza[AFS],Baza[B],Таблица6[[#This Row],['#]])+(AVERAGEIFS(Baza[AFS],Baza[B],Таблица6[[#This Row],['#]])*0.2),\"\")","v":""},"",{"$f":"IFERROR(COUNTIFS(Baza[B],Таблица6[[#This Row],['#]],Baza[Win],\">0\")/C77*100,\"\")","v":""},{"$f":"IF(SUMIFS(Baza[KO$],Baza[B],Таблица6[[#This Row],['#]])=0,\"\",SUMIFS(Baza[KO$],Baza[B],Таблица6[[#This Row],['#]]))","v":""},{"$f":"IF(SUMIFS(Baza[WIN$],Baza[B],Таблица6[[#This Row],['#]])=0,\"\",SUMIFS(Baza[WIN$],Baza[B],Таблица6[[#This Row],['#]]))","v":""},""]
[null,{"$f":"IFERROR(INDEX(Baza[B],SMALL(IF(SMALL(IF(COUNTIF($B$61:$B77,Baza[B])=0,COUNTIF(Baza[B],\"<\"&Baza[B])+1,\"\"),1)=COUNTIF(Baza[B],\"<\"&Baza[B])+1,ROW(Baza[B])-MIN(ROW(Baza[B]))+1),1)),\"\")","v":""},{"$f":"IF(Таблица6[[#This Row],['#]]=\"\",\"\",COUNTIFS(Baza[B],Таблица6[[#This Row],['#]])+SUMIFS(Baza[R],Baza[B],Таблица6[[#This Row],['#]]))","v":""},{"$f":"IF(Таблица6[[#This Row],['#]]=\"\",\"\",SUMIFS(Baza[B$],Baza[B],Таблица6[[#This Row],['#]]))","v":""},"",{"$f":"IFERROR(AVERAGEIFS(Baza[AFS],Baza[B],Таблица6[[#This Row],['#]])+(AVERAGEIFS(Baza[AFS],Baza[B],Таблица6[[#This Row],['#]])*0.2),\"\")","v":""},"",{"$f":"IFERROR(COUNTIFS(Baza[B],Таблица6[[#This Row],['#]],Baza[Win],\">0\")/C78*100,\"\")","v":""},{"$f":"IF(SUMIFS(Baza[KO$],Baza[B],Таблица6[[#This Row],['#]])=0,\"\",SUMIFS(Baza[KO$],Baza[B],Таблица6[[#This Row],['#]]))","v":""},{"$f":"IF(SUMIFS(Baza[WIN$],Baza[B],Таблица6[[#This Row],['#]])=0,\"\",SUMIFS(Baza[WIN$],Baza[B],Таблица6[[#This Row],['#]]))","v":""},""]
[null,{"$f":"IFERROR(INDEX(Baza[B],SMALL(IF(SMALL(IF(COUNTIF($B$61:$B78,Baza[B])=0,COUNTIF(Baza[B],\"<\"&Baza[B])+1,\"\"),1)=COUNTIF(Baza[B],\"<\"&Baza[B])+1,ROW(Baza[B])-MIN(ROW(Baza[B]))+1),1)),\"\")","v":""},{"$f":"IF(Таблица6[[#This Row],['#]]=\"\",\"\",COUNTIFS(Baza[B],Таблица6[[#This Row],['#]])+SUMIFS(Baza[R],Baza[B],Таблица6[[#This Row],['#]]))","v":""},{"$f":"IF(Таблица6[[#This Row],['#]]=\"\",\"\",SUMIFS(Baza[B$],Baza[B],Таблица6[[#This Row],['#]]))","v":""},"",{"$f":"IFERROR(AVERAGEIFS(Baza[AFS],Baza[B],Таблица6[[#This Row],['#]])+(AVERAGEIFS(Baza[AFS],Baza[B],Таблица6[[#This Row],['#]])*0.2),\"\")","v":""},"",{"$f":"IFERROR(COUNTIFS(Baza[B],Таблица6[[#This Row],['#]],Baza[Win],\">0\")/C79*100,\"\")","v":""},{"$f":"IF(SUMIFS(Baza[KO$],Baza[B],Таблица6[[#This Row],['#]])=0,\"\",SUMIFS(Baza[KO$],Baza[B],Таблица6[[#This Row],['#]]))","v":""},{"$f":"IF(SUMIFS(Baza[WIN$],Baza[B],Таблица6[[#This Row],['#]])=0,\"\",SUMIFS(Baza[WIN$],Baza[B],Таблица6[[#This Row],['#]]))","v":""},""]
[null,{"$f":"IFERROR(INDEX(Baza[B],SMALL(IF(SMALL(IF(COUNTIF($B$61:$B79,Baza[B])=0,COUNTIF(Baza[B],\"<\"&Baza[B])+1,\"\"),1)=COUNTIF(Baza[B],\"<\"&Baza[B])+1,ROW(Baza[B])-MIN(ROW(Baza[B]))+1),1)),\"\")","v":""},{"$f":"IF(Таблица6[[#This Row],['#]]=\"\",\"\",COUNTIFS(Baza[B],Таблица6[[#This Row],['#]])+SUMIFS(Baza[R],Baza[B],Таблица6[[#This Row],['#]]))","v":""},{"$f":"IF(Таблица6[[#This Row],['#]]=\"\",\"\",SUMIFS(Baza[B$],Baza[B],Таблица6[[#This Row],['#]]))","v":""},"",{"$f":"IFERROR(AVERAGEIFS(Baza[AFS],Baza[B],Таблица6[[#This Row],['#]])+(AVERAGEIFS(Baza[AFS],Baza[B],Таблица6[[#This Row],['#]])*0.2),\"\")","v":""},"",{"$f":"IFERROR(COUNTIFS(Baza[B],Таблица6[[#This Row],['#]],Baza[Win],\">0\")/C80*100,\"\")","v":""},{"$f":"IF(SUMIFS(Baza[KO$],Baza[B],Таблица6[[#This Row],['#]])=0,\"\",SUMIFS(Baza[KO$],Baza[B],Таблица6[[#This Row],['#]]))","v":""},{"$f":"IF(SUMIFS(Baza[WIN$],Baza[B],Таблица6[[#This Row],['#]])=0,\"\",SUMIFS(Baza[WIN$],Baza[B],Таблица6[[#This Row],['#]]))","v":""},""]
[null,{"$f":"IFERROR(INDEX(Baza[B],SMALL(IF(SMALL(IF(COUNTIF($B$61:$B80,Baza[B])=0,COUNTIF(Baza[B],\"<\"&Baza[B])+1,\"\"),1)=COUNTIF(Baza[B],\"<\"&Baza[B])+1,ROW(Baza[B])-MIN(ROW(Baza[B]))+1),1)),\"\")","v":""},{"$f":"IF(Таблица6[[#This Row],['#]]=\"\",\"\",COUNTIFS(Baza[B],Таблица6[[#This Row],['#]])+SUMIFS(Baza[R],Baza[B],Таблица6[[#This Row],['#]]))","v":""},{"$f":"IF(Таблица6[[#This Row],['#]]=\"\",\"\",SUMIFS(Baza[B$],Baza[B],Таблица6[[#This Row],['#]]))","v":""},"",{"$f":"IFERROR(AVERAGEIFS(Baza[AFS],Baza[B],Таблица6[[#This Row],['#]])+(AVERAGEIFS(Baza[AFS],Baza[B],Таблица6[[#This Row],['#]])*0.2),\"\")","v":""},"",{"$f":"IFERROR(COUNTIFS(Baza[B],Таблица6[[#This Row],['#]],Baza[Win],\">0\")/C81*100,\"\")","v":""},{"$f":"IF(SUMIFS(Baza[KO$],Baza[B],Таблица6[[#This Row],['#]])=0,\"\",SUMIFS(Baza[KO$],Baza[B],Таблица6[[#This Row],['#]]))","v":""},{"$f":"IF(SUMIFS(Baza[WIN$],Baza[B],Таблица6[[#This Row],['#]])=0,\"\",SUMIFS(Baza[WIN$],Baza[B],Таблица6[[#This Row],['#]]))","v":""},""]
[null,{"$f":"IFERROR(INDEX(Baza[B],SMALL(IF(SMALL(IF(COUNTIF($B$61:$B81,Baza[B])=0,COUNTIF(Baza[B],\"<\"&Baza[B])+1,\"\"),1)=COUNTIF(Baza[B],\"<\"&Baza[B])+1,ROW(Baza[B])-MIN(ROW(Baza[B]))+1),1)),\"\")","v":""},{"$f":"IF(Таблица6[[#This Row],['#]]=\"\",\"\",COUNTIFS(Baza[B],Таблица6[[#This Row],['#]])+SUMIFS(Baza[R],Baza[B],Таблица6[[#This Row],['#]]))","v":""},{"$f":"IF(Таблица6[[#This Row],['#]]=\"\",\"\",SUMIFS(Baza[B$],Baza[B],Таблица6[[#This Row],['#]]))","v":""},"",{"$f":"IFERROR(AVERAGEIFS(Baza[AFS],Baza[B],Таблица6[[#This Row],['#]])+(AVERAGEIFS(Baza[AFS],Baza[B],Таблица6[[#This Row],['#]])*0.2),\"\")","v":""},"",{"$f":"IFERROR(COUNTIFS(Baza[B],Таблица6[[#This Row],['#]],Baza[Win],\">0\")/C82*100,\"\")","v":""},{"$f":"IF(SUMIFS(Baza[KO$],Baza[B],Таблица6[[#This Row],['#]])=0,\"\",SUMIFS(Baza[KO$],Baza[B],Таблица6[[#This Row],['#]]))","v":""},{"$f":"IF(SUMIFS(Baza[WIN$],Baza[B],Таблица6[[#This Row],['#]])=0,\"\",SUMIFS(Baza[WIN$],Baza[B],Таблица6[[#This Row],['#]]))","v":""},""]
[null,{"$f":"IFERROR(INDEX(Baza[B],SMALL(IF(SMALL(IF(COUNTIF($B$61:$B82,Baza[B])=0,COUNTIF(Baza[B],\"<\"&Baza[B])+1,\"\"),1)=COUNTIF(Baza[B],\"<\"&Baza[B])+1,ROW(Baza[B])-MIN(ROW(Baza[B]))+1),1)),\"\")","v":""},{"$f":"IF(Таблица6[[#This Row],['#]]=\"\",\"\",COUNTIFS(Baza[B],Таблица6[[#This Row],['#]])+SUMIFS(Baza[R],Baza[B],Таблица6[[#This Row],['#]]))","v":""},{"$f":"IF(Таблица6[[#This Row],['#]]=\"\",\"\",SUMIFS(Baza[B$],Baza[B],Таблица6[[#This Row],['#]]))","v":""},"",{"$f":"IFERROR(AVERAGEIFS(Baza[AFS],Baza[B],Таблица6[[#This Row],['#]])+(AVERAGEIFS(Baza[AFS],Baza[B],Таблица6[[#This Row],['#]])*0.2),\"\")","v":""},"",{"$f":"IFERROR(COUNTIFS(Baza[B],Таблица6[[#This Row],['#]],Baza[Win],\">0\")/C83*100,\"\")","v":""},{"$f":"IF(SUMIFS(Baza[KO$],Baza[B],Таблица6[[#This Row],['#]])=0,\"\",SUMIFS(Baza[KO$],Baza[B],Таблица6[[#This Row],['#]]))","v":""},{"$f":"IF(SUMIFS(Baza[WIN$],Baza[B],Таблица6[[#This Row],['#]])=0,\"\",SUMIFS(Baza[WIN$],Baza[B],Таблица6[[#This Row],['#]]))","v":""},""]
[null,{"$f":"IFERROR(INDEX(Baza[B],SMALL(IF(SMALL(IF(COUNTIF($B$61:$B83,Baza[B])=0,COUNTIF(Baza[B],\"<\"&Baza[B])+1,\"\"),1)=COUNTIF(Baza[B],\"<\"&Baza[B])+1,ROW(Baza[B])-MIN(ROW(Baza[B]))+1),1)),\"\")","v":""},{"$f":"IF(Таблица6[[#This Row],['#]]=\"\",\"\",COUNTIFS(Baza[B],Таблица6[[#This Row],['#]])+SUMIFS(Baza[R],Baza[B],Таблица6[[#This Row],['#]]))","v":""},{"$f":"IF(Таблица6[[#This Row],['#]]=\"\",\"\",SUMIFS(Baza[B$],Baza[B],Таблица6[[#This Row],['#]]))","v":""},"",{"$f":"IFERROR(AVERAGEIFS(Baza[AFS],Baza[B],Таблица6[[#This Row],['#]])+(AVERAGEIFS(Baza[AFS],Baza[B],Таблица6[[#This Row],['#]])*0.2),\"\")","v":""},"",{"$f":"IFERROR(COUNTIFS(Baza[B],Таблица6[[#This Row],['#]],Baza[Win],\">0\")/C84*100,\"\")","v":""},{"$f":"IF(SUMIFS(Baza[KO$],Baza[B],Таблица6[[#This Row],['#]])=0,\"\",SUMIFS(Baza[KO$],Baza[B],Таблица6[[#This Row],['#]]))","v":""},{"$f":"IF(SUMIFS(Baza[WIN$],Baza[B],Таблица6[[#This Row],['#]])=0,\"\",SUMIFS(Baza[WIN$],Baza[B],Таблица6[[#This Row],['#]]))","v":""},""]
[null,{"$f":"IFERROR(INDEX(Baza[B],SMALL(IF(SMALL(IF(COUNTIF($B$61:$B84,Baza[B])=0,COUNTIF(Baza[B],\"<\"&Baza[B])+1,\"\"),1)=COUNTIF(Baza[B],\"<\"&Baza[B])+1,ROW(Baza[B])-MIN(ROW(Baza[B]))+1),1)),\"\")","v":""},{"$f":"IF(Таблица6[[#This Row],['#]]=\"\",\"\",COUNTIFS(Baza[B],Таблица6[[#This Row],['#]])+SUMIFS(Baza[R],Baza[B],Таблица6[[#This Row],['#]]))","v":""},{"$f":"IF(Таблица6[[#This Row],['#]]=\"\",\"\",SUMIFS(Baza[B$],Baza[B],Таблица6[[#This Row],['#]]))","v":""},"",{"$f":"IFERROR(AVERAGEIFS(Baza[AFS],Baza[B],Таблица6[[#This Row],['#]])+(AVERAGEIFS(Baza[AFS],Baza[B],Таблица6[[#This Row],['#]])*0.2),\"\")","v":""},"",{"$f":"IFERROR(COUNTIFS(Baza[B],Таблица6[[#This Row],['#]],Baza[Win],\">0\")/C85*100,\"\")","v":""},{"$f":"IF(SUMIFS(Baza[KO$],Baza[B],Таблица6[[#This Row],['#]])=0,\"\",SUMIFS(Baza[KO$],Baza[B],Таблица6[[#This Row],['#]]))","v":""},{"$f":"IF(SUMIFS(Baza[WIN$],Baza[B],Таблица6[[#This Row],['#]])=0,\"\",SUMIFS(Baza[WIN$],Baza[B],Таблица6[[#This Row],['#]]))","v":""},""]
[null,{"$f":"IFERROR(INDEX(Baza[B],SMALL(IF(SMALL(IF(COUNTIF($B$61:$B85,Baza[B])=0,COUNTIF(Baza[B],\"<\"&Baza[B])+1,\"\"),1)=COUNTIF(Baza[B],\"<\"&Baza[B])+1,ROW(Baza[B])-MIN(ROW(Baza[B]))+1),1)),\"\")","v":""},{"$f":"IF(Таблица6[[#This Row],['#]]=\"\",\"\",COUNTIFS(Baza[B],Таблица6[[#This Row],['#]])+SUMIFS(Baza[R],Baza[B],Таблица6[[#This Row],['#]]))","v":""},{"$f":"IF(Таблица6[[#This Row],['#]]=\"\",\"\",SUMIFS(Baza[B$],Baza[B],Таблица6[[#This Row],['#]]))","v":""},"",{"$f":"IFERROR(AVERAGEIFS(Baza[AFS],Baza[B],Таблица6[[#This Row],['#]])+(AVERAGEIFS(Baza[AFS],Baza[B],Таблица6[[#This Row],['#]])*0.2),\"\")","v":""},"",{"$f":"IFERROR(COUNTIFS(Baza[B],Таблица6[[#This Row],['#]],Baza[Win],\">0\")/C86*100,\"\")","v":""},{"$f":"IF(SUMIFS(Baza[KO$],Baza[B],Таблица6[[#This Row],['#]])=0,\"\",SUMIFS(Baza[KO$],Baza[B],Таблица6[[#This Row],['#]]))","v":""},{"$f":"IF(SUMIFS(Baza[WIN$],Baza[B],Таблица6[[#This Row],['#]])=0,\"\",SUMIFS(Baza[WIN$],Baza[B],Таблица6[[#This Row],['#]]))","v":""},""]
[null,{"$f":"IFERROR(INDEX(Baza[B],SMALL(IF(SMALL(IF(COUNTIF($B$61:$B86,Baza[B])=0,COUNTIF(Baza[B],\"<\"&Baza[B])+1,\"\"),1)=COUNTIF(Baza[B],\"<\"&Baza[B])+1,ROW(Baza[B])-MIN(ROW(Baza[B]))+1),1)),\"\")","v":""},{"$f":"IF(Таблица6[[#This Row],['#]]=\"\",\"\",COUNTIFS(Baza[B],Таблица6[[#This Row],['#]])+SUMIFS(Baza[R],Baza[B],Таблица6[[#This Row],['#]]))","v":""},{"$f":"IF(Таблица6[[#This Row],['#]]=\"\",\"\",SUMIFS(Baza[B$],Baza[B],Таблица6[[#This Row],['#]]))","v":""},"",{"$f":"IFERROR(AVERAGEIFS(Baza[AFS],Baza[B],Таблица6[[#This Row],['#]])+(AVERAGEIFS(Baza[AFS],Baza[B],Таблица6[[#This Row],['#]])*0.2),\"\")","v":""},"",{"$f":"IFERROR(COUNTIFS(Baza[B],Таблица6[[#This Row],['#]],Baza[Win],\">0\")/C87*100,\"\")","v":""},{"$f":"IF(SUMIFS(Baza[KO$],Baza[B],Таблица6[[#This Row],['#]])=0,\"\",SUMIFS(Baza[KO$],Baza[B],Таблица6[[#This Row],['#]]))","v":""},{"$f":"IF(SUMIFS(Baza[WIN$],Baza[B],Таблица6[[#This Row],['#]])=0,\"\",SUMIFS(Baza[WIN$],Baza[B],Таблица6[[#This Row],['#]]))","v":""},""]
[null,{"$f":"IFERROR(INDEX(Baza[B],SMALL(IF(SMALL(IF(COUNTIF($B$61:$B87,Baza[B])=0,COUNTIF(Baza[B],\"<\"&Baza[B])+1,\"\"),1)=COUNTIF(Baza[B],\"<\"&Baza[B])+1,ROW(Baza[B])-MIN(ROW(Baza[B]))+1),1)),\"\")","v":""},{"$f":"IF(Таблица6[[#This Row],['#]]=\"\",\"\",COUNTIFS(Baza[B],Таблица6[[#This Row],['#]])+SUMIFS(Baza[R],Baza[B],Таблица6[[#This Row],['#]]))","v":""},{"$f":"IF(Таблица6[[#This Row],['#]]=\"\",\"\",SUMIFS(Baza[B$],Baza[B],Таблица6[[#This Row],['#]]))","v":""},"",{"$f":"IFERROR(AVERAGEIFS(Baza[AFS],Baza[B],Таблица6[[#This Row],['#]])+(AVERAGEIFS(Baza[AFS],Baza[B],Таблица6[[#This Row],['#]])*0.2),\"\")","v":""},"",{"$f":"IFERROR(COUNTIFS(Baza[B],Таблица6[[#This Row],['#]],Baza[Win],\">0\")/C88*100,\"\")","v":""},{"$f":"IF(SUMIFS(Baza[KO$],Baza[B],Таблица6[[#This Row],['#]])=0,\"\",SUMIFS(Baza[KO$],Baza[B],Таблица6[[#This Row],['#]]))","v":""},{"$f":"IF(SUMIFS(Baza[WIN$],Baza[B],Таблица6[[#This Row],['#]])=0,\"\",SUMIFS(Baza[WIN$],Baza[B],Таблица6[[#This Row],['#]]))","v":""},""]
[null,{"$f":"IFERROR(INDEX(Baza[B],SMALL(IF(SMALL(IF(COUNTIF($B$61:$B88,Baza[B])=0,COUNTIF(Baza[B],\"<\"&Baza[B])+1,\"\"),1)=COUNTIF(Baza[B],\"<\"&Baza[B])+1,ROW(Baza[B])-MIN(ROW(Baza[B]))+1),1)),\"\")","v":""},{"$f":"IF(Таблица6[[#This Row],['#]]=\"\",\"\",COUNTIFS(Baza[B],Таблица6[[#This Row],['#]])+SUMIFS(Baza[R],Baza[B],Таблица6[[#This Row],['#]]))","v":""},{"$f":"IF(Таблица6[[#This Row],['#]]=\"\",\"\",SUMIFS(Baza[B$],Baza[B],Таблица6[[#This Row],['#]]))","v":""},"",{"$f":"IFERROR(AVERAGEIFS(Baza[AFS],Baza[B],Таблица6[[#This Row],['#]])+(AVERAGEIFS(Baza[AFS],Baza[B],Таблица6[[#This Row],['#]])*0.2),\"\")","v":""},"",{"$f":"IFERROR(COUNTIFS(Baza[B],Таблица6[[#This Row],['#]],Baza[Win],\">0\")/C89*100,\"\")","v":""},{"$f":"IF(SUMIFS(Baza[KO$],Baza[B],Таблица6[[#This Row],['#]])=0,\"\",SUMIFS(Baza[KO$],Baza[B],Таблица6[[#This Row],['#]]))","v":""},{"$f":"IF(SUMIFS(Baza[WIN$],Baza[B],Таблица6[[#This Row],['#]])=0,\"\",SUMIFS(Baza[WIN$],Baza[B],Таблица6[[#This Row],['#]]))","v":""},""]
[null,{"$f":"IFERROR(INDEX(Baza[B],SMALL(IF(SMALL(IF(COUNTIF($B$61:$B89,Baza[B])=0,COUNTIF(Baza[B],\"<\"&Baza[B])+1,\"\"),1)=COUNTIF(Baza[B],\"<\"&Baza[B])+1,ROW(Baza[B])-MIN(ROW(Baza[B]))+1),1)),\"\")","v":""},{"$f":"IF(Таблица6[[#This Row],['#]]=\"\",\"\",COUNTIFS(Baza[B],Таблица6[[#This Row],['#]])+SUMIFS(Baza[R],Baza[B],Таблица6[[#This Row],['#]]))","v":""},{"$f":"IF(Таблица6[[#This Row],['#]]=\"\",\"\",SUMIFS(Baza[B$],Baza[B],Таблица6[[#This Row],['#]]))","v":""},"",{"$f":"IFERROR(AVERAGEIFS(Baza[AFS],Baza[B],Таблица6[[#This Row],['#]])+(AVERAGEIFS(Baza[AFS],Baza[B],Таблица6[[#This Row],['#]])*0.2),\"\")","v":""},"",{"$f":"IFERROR(COUNTIFS(Baza[B],Таблица6[[#This Row],['#]],Baza[Win],\">0\")/C90*100,\"\")","v":""},{"$f":"IF(SUMIFS(Baza[KO$],Baza[B],Таблица6[[#This Row],['#]])=0,\"\",SUMIFS(Baza[KO$],Baza[B],Таблица6[[#This Row],['#]]))","v":""},{"$f":"IF(SUMIFS(Baza[WIN$],Baza[B],Таблица6[[#This Row],['#]])=0,\"\",SUMIFS(Baza[WIN$],Baza[B],Таблица6[[#This Row],['#]]))","v":""},""]
[null,{"$f":"IFERROR(INDEX(Baza[B],SMALL(IF(SMALL(IF(COUNTIF($B$61:$B90,Baza[B])=0,COUNTIF(Baza[B],\"<\"&Baza[B])+1,\"\"),1)=COUNTIF(Baza[B],\"<\"&Baza[B])+1,ROW(Baza[B])-MIN(ROW(Baza[B]))+1),1)),\"\")","v":""},{"$f":"IF(Таблица6[[#This Row],['#]]=\"\",\"\",COUNTIFS(Baza[B],Таблица6[[#This Row],['#]])+SUMIFS(Baza[R],Baza[B],Таблица6[[#This Row],['#]]))","v":""},{"$f":"IF(Таблица6[[#This Row],['#]]=\"\",\"\",SUMIFS(Baza[B$],Baza[B],Таблица6[[#This Row],['#]]))","v":""},"",{"$f":"IFERROR(AVERAGEIFS(Baza[AFS],Baza[B],Таблица6[[#This Row],['#]])+(AVERAGEIFS(Baza[AFS],Baza[B],Таблица6[[#This Row],['#]])*0.2),\"\")","v":""},"",{"$f":"IFERROR(COUNTIFS(Baza[B],Таблица6[[#This Row],['#]],Baza[Win],\">0\")/C91*100,\"\")","v":""},{"$f":"IF(SUMIFS(Baza[KO$],Baza[B],Таблица6[[#This Row],['#]])=0,\"\",SUMIFS(Baza[KO$],Baza[B],Таблица6[[#This Row],['#]]))","v":""},{"$f":"IF(SUMIFS(Baza[WIN$],Baza[B],Таблица6[[#This Row],['#]])=0,\"\",SUMIFS(Baza[WIN$],Baza[B],Таблица6[[#This Row],['#]]))","v":""},""]
[null,{"$f":"IFERROR(INDEX(Baza[B],SMALL(IF(SMALL(IF(COUNTIF($B$61:$B91,Baza[B])=0,COUNTIF(Baza[B],\"<\"&Baza[B])+1,\"\"),1)=COUNTIF(Baza[B],\"<\"&Baza[B])+1,ROW(Baza[B])-MIN(ROW(Baza[B]))+1),1)),\"\")","v":""},{"$f":"IF(Таблица6[[#This Row],['#]]=\"\",\"\",COUNTIFS(Baza[B],Таблица6[[#This Row],['#]])+SUMIFS(Baza[R],Baza[B],Таблица6[[#This Row],['#]]))","v":""},{"$f":"IF(Таблица6[[#This Row],['#]]=\"\",\"\",SUMIFS(Baza[B$],Baza[B],Таблица6[[#This Row],['#]]))","v":""},"",{"$f":"IFERROR(AVERAGEIFS(Baza[AFS],Baza[B],Таблица6[[#This Row],['#]])+(AVERAGEIFS(Baza[AFS],Baza[B],Таблица6[[#This Row],['#]])*0.2),\"\")","v":""},"",{"$f":"IFERROR(COUNTIFS(Baza[B],Таблица6[[#This Row],['#]],Baza[Win],\">0\")/C92*100,\"\")","v":""},{"$f":"IF(SUMIFS(Baza[KO$],Baza[B],Таблица6[[#This Row],['#]])=0,\"\",SUMIFS(Baza[KO$],Baza[B],Таблица6[[#This Row],['#]]))","v":""},{"$f":"IF(SUMIFS(Baza[WIN$],Baza[B],Таблица6[[#This Row],['#]])=0,\"\",SUMIFS(Baza[WIN$],Baza[B],Таблица6[[#This Row],['#]]))","v":""},""]
[null,{"$f":"IFERROR(INDEX(Baza[B],SMALL(IF(SMALL(IF(COUNTIF($B$61:$B92,Baza[B])=0,COUNTIF(Baza[B],\"<\"&Baza[B])+1,\"\"),1)=COUNTIF(Baza[B],\"<\"&Baza[B])+1,ROW(Baza[B])-MIN(ROW(Baza[B]))+1),1)),\"\")","v":""},{"$f":"IF(Таблица6[[#This Row],['#]]=\"\",\"\",COUNTIFS(Baza[B],Таблица6[[#This Row],['#]])+SUMIFS(Baza[R],Baza[B],Таблица6[[#This Row],['#]]))","v":""},{"$f":"IF(Таблица6[[#This Row],['#]]=\"\",\"\",SUMIFS(Baza[B$],Baza[B],Таблица6[[#This Row],['#]]))","v":""},"",{"$f":"IFERROR(AVERAGEIFS(Baza[AFS],Baza[B],Таблица6[[#This Row],['#]])+(AVERAGEIFS(Baza[AFS],Baza[B],Таблица6[[#This Row],['#]])*0.2),\"\")","v":""},"",{"$f":"IFERROR(COUNTIFS(Baza[B],Таблица6[[#This Row],['#]],Baza[Win],\">0\")/C93*100,\"\")","v":""},{"$f":"IF(SUMIFS(Baza[KO$],Baza[B],Таблица6[[#This Row],['#]])=0,\"\",SUMIFS(Baza[KO$],Baza[B],Таблица6[[#This Row],['#]]))","v":""},{"$f":"IF(SUMIFS(Baza[WIN$],Baza[B],Таблица6[[#This Row],['#]])=0,\"\",SUMIFS(Baza[WIN$],Baza[B],Таблица6[[#This Row],['#]]))","v":""},""]
[null,{"$f":"IFERROR(INDEX(Baza[B],SMALL(IF(SMALL(IF(COUNTIF($B$61:$B93,Baza[B])=0,COUNTIF(Baza[B],\"<\"&Baza[B])+1,\"\"),1)=COUNTIF(Baza[B],\"<\"&Baza[B])+1,ROW(Baza[B])-MIN(ROW(Baza[B]))+1),1)),\"\")","v":""},{"$f":"IF(Таблица6[[#This Row],['#]]=\"\",\"\",COUNTIFS(Baza[B],Таблица6[[#This Row],['#]])+SUMIFS(Baza[R],Baza[B],Таблица6[[#This Row],['#]]))","v":""},{"$f":"IF(Таблица6[[#This Row],['#]]=\"\",\"\",SUMIFS(Baza[B$],Baza[B],Таблица6[[#This Row],['#]]))","v":""},"",{"$f":"IFERROR(AVERAGEIFS(Baza[AFS],Baza[B],Таблица6[[#This Row],['#]])+(AVERAGEIFS(Baza[AFS],Baza[B],Таблица6[[#This Row],['#]])*0.2),\"\")","v":""},"",{"$f":"IFERROR(COUNTIFS(Baza[B],Таблица6[[#This Row],['#]],Baza[Win],\">0\")/C94*100,\"\")","v":""},{"$f":"IF(SUMIFS(Baza[KO$],Baza[B],Таблица6[[#This Row],['#]])=0,\"\",SUMIFS(Baza[KO$],Baza[B],Таблица6[[#This Row],['#]]))","v":""},{"$f":"IF(SUMIFS(Baza[WIN$],Baza[B],Таблица6[[#This Row],['#]])=0,\"\",SUMIFS(Baza[WIN$],Baza[B],Таблица6[[#This Row],['#]]))","v":""},""]
[null,{"$f":"IFERROR(INDEX(Baza[B],SMALL(IF(SMALL(IF(COUNTIF($B$61:$B94,Baza[B])=0,COUNTIF(Baza[B],\"<\"&Baza[B])+1,\"\"),1)=COUNTIF(Baza[B],\"<\"&Baza[B])+1,ROW(Baza[B])-MIN(ROW(Baza[B]))+1),1)),\"\")","v":""},{"$f":"IF(Таблица6[[#This Row],['#]]=\"\",\"\",COUNTIFS(Baza[B],Таблица6[[#This Row],['#]])+SUMIFS(Baza[R],Baza[B],Таблица6[[#This Row],['#]]))","v":""},{"$f":"IF(Таблица6[[#This Row],['#]]=\"\",\"\",SUMIFS(Baza[B$],Baza[B],Таблица6[[#This Row],['#]]))","v":""},"",{"$f":"IFERROR(AVERAGEIFS(Baza[AFS],Baza[B],Таблица6[[#This Row],['#]])+(AVERAGEIFS(Baza[AFS],Baza[B],Таблица6[[#This Row],['#]])*0.2),\"\")","v":""},"",{"$f":"IFERROR(COUNTIFS(Baza[B],Таблица6[[#This Row],['#]],Baza[Win],\">0\")/C95*100,\"\")","v":""},{"$f":"IF(SUMIFS(Baza[KO$],Baza[B],Таблица6[[#This Row],['#]])=0,\"\",SUMIFS(Baza[KO$],Baza[B],Таблица6[[#This Row],['#]]))","v":""},{"$f":"IF(SUMIFS(Baza[WIN$],Baza[B],Таблица6[[#This Row],['#]])=0,\"\",SUMIFS(Baza[WIN$],Baza[B],Таблица6[[#This Row],['#]]))","v":""},""]
[null,{"$f":"IFERROR(INDEX(Baza[B],SMALL(IF(SMALL(IF(COUNTIF($B$61:$B95,Baza[B])=0,COUNTIF(Baza[B],\"<\"&Baza[B])+1,\"\"),1)=COUNTIF(Baza[B],\"<\"&Baza[B])+1,ROW(Baza[B])-MIN(ROW(Baza[B]))+1),1)),\"\")","v":""},{"$f":"IF(Таблица6[[#This Row],['#]]=\"\",\"\",COUNTIFS(Baza[B],Таблица6[[#This Row],['#]])+SUMIFS(Baza[R],Baza[B],Таблица6[[#This Row],['#]]))","v":""},{"$f":"IF(Таблица6[[#This Row],['#]]=\"\",\"\",SUMIFS(Baza[B$],Baza[B],Таблица6[[#This Row],['#]]))","v":""},"",{"$f":"IFERROR(AVERAGEIFS(Baza[AFS],Baza[B],Таблица6[[#This Row],['#]])+(AVERAGEIFS(Baza[AFS],Baza[B],Таблица6[[#This Row],['#]])*0.2),\"\")","v":""},"",{"$f":"IFERROR(COUNTIFS(Baza[B],Таблица6[[#This Row],['#]],Baza[Win],\">0\")/C96*100,\"\")","v":""},{"$f":"IF(SUMIFS(Baza[KO$],Baza[B],Таблица6[[#This Row],['#]])=0,\"\",SUMIFS(Baza[KO$],Baza[B],Таблица6[[#This Row],['#]]))","v":""},{"$f":"IF(SUMIFS(Baza[WIN$],Baza[B],Таблица6[[#This Row],['#]])=0,\"\",SUMIFS(Baza[WIN$],Baza[B],Таблица6[[#This Row],['#]]))","v":""},""]
[null,{"$f":"IFERROR(INDEX(Baza[B],SMALL(IF(SMALL(IF(COUNTIF($B$61:$B96,Baza[B])=0,COUNTIF(Baza[B],\"<\"&Baza[B])+1,\"\"),1)=COUNTIF(Baza[B],\"<\"&Baza[B])+1,ROW(Baza[B])-MIN(ROW(Baza[B]))+1),1)),\"\")","v":""},{"$f":"IF(Таблица6[[#This Row],['#]]=\"\",\"\",COUNTIFS(Baza[B],Таблица6[[#This Row],['#]])+SUMIFS(Baza[R],Baza[B],Таблица6[[#This Row],['#]]))","v":""},{"$f":"IF(Таблица6[[#This Row],['#]]=\"\",\"\",SUMIFS(Baza[B$],Baza[B],Таблица6[[#This Row],['#]]))","v":""},"",{"$f":"IFERROR(AVERAGEIFS(Baza[AFS],Baza[B],Таблица6[[#This Row],['#]])+(AVERAGEIFS(Baza[AFS],Baza[B],Таблица6[[#This Row],['#]])*0.2),\"\")","v":""},"",{"$f":"IFERROR(COUNTIFS(Baza[B],Таблица6[[#This Row],['#]],Baza[Win],\">0\")/C97*100,\"\")","v":""},{"$f":"IF(SUMIFS(Baza[KO$],Baza[B],Таблица6[[#This Row],['#]])=0,\"\",SUMIFS(Baza[KO$],Baza[B],Таблица6[[#This Row],['#]]))","v":""},{"$f":"IF(SUMIFS(Baza[WIN$],Baza[B],Таблица6[[#This Row],['#]])=0,\"\",SUMIFS(Baza[WIN$],Baza[B],Таблица6[[#This Row],['#]]))","v":""},""]
[null,{"$f":"IFERROR(INDEX(Baza[B],SMALL(IF(SMALL(IF(COUNTIF($B$61:$B97,Baza[B])=0,COUNTIF(Baza[B],\"<\"&Baza[B])+1,\"\"),1)=COUNTIF(Baza[B],\"<\"&Baza[B])+1,ROW(Baza[B])-MIN(ROW(Baza[B]))+1),1)),\"\")","v":""},{"$f":"IF(Таблица6[[#This Row],['#]]=\"\",\"\",COUNTIFS(Baza[B],Таблица6[[#This Row],['#]])+SUMIFS(Baza[R],Baza[B],Таблица6[[#This Row],['#]]))","v":""},{"$f":"IF(Таблица6[[#This Row],['#]]=\"\",\"\",SUMIFS(Baza[B$],Baza[B],Таблица6[[#This Row],['#]]))","v":""},"",{"$f":"IFERROR(AVERAGEIFS(Baza[AFS],Baza[B],Таблица6[[#This Row],['#]])+(AVERAGEIFS(Baza[AFS],Baza[B],Таблица6[[#This Row],['#]])*0.2),\"\")","v":""},"",{"$f":"IFERROR(COUNTIFS(Baza[B],Таблица6[[#This Row],['#]],Baza[Win],\">0\")/C98*100,\"\")","v":""},{"$f":"IF(SUMIFS(Baza[KO$],Baza[B],Таблица6[[#This Row],['#]])=0,\"\",SUMIFS(Baza[KO$],Baza[B],Таблица6[[#This Row],['#]]))","v":""},{"$f":"IF(SUMIFS(Baza[WIN$],Baza[B],Таблица6[[#This Row],['#]])=0,\"\",SUMIFS(Baza[WIN$],Baza[B],Таблица6[[#This Row],['#]]))","v":""},""]
[null,{"$f":"IFERROR(INDEX(Baza[B],SMALL(IF(SMALL(IF(COUNTIF($B$61:$B98,Baza[B])=0,COUNTIF(Baza[B],\"<\"&Baza[B])+1,\"\"),1)=COUNTIF(Baza[B],\"<\"&Baza[B])+1,ROW(Baza[B])-MIN(ROW(Baza[B]))+1),1)),\"\")","v":""},{"$f":"IF(Таблица6[[#This Row],['#]]=\"\",\"\",COUNTIFS(Baza[B],Таблица6[[#This Row],['#]])+SUMIFS(Baza[R],Baza[B],Таблица6[[#This Row],['#]]))","v":""},{"$f":"IF(Таблица6[[#This Row],['#]]=\"\",\"\",SUMIFS(Baza[B$],Baza[B],Таблица6[[#This Row],['#]]))","v":""},"",{"$f":"IFERROR(AVERAGEIFS(Baza[AFS],Baza[B],Таблица6[[#This Row],['#]])+(AVERAGEIFS(Baza[AFS],Baza[B],Таблица6[[#This Row],['#]])*0.2),\"\")","v":""},"",{"$f":"IFERROR(COUNTIFS(Baza[B],Таблица6[[#This Row],['#]],Baza[Win],\">0\")/C99*100,\"\")","v":""},{"$f":"IF(SUMIFS(Baza[KO$],Baza[B],Таблица6[[#This Row],['#]])=0,\"\",SUMIFS(Baza[KO$],Baza[B],Таблица6[[#This Row],['#]]))","v":""},{"$f":"IF(SUMIFS(Baza[WIN$],Baza[B],Таблица6[[#This Row],['#]])=0,\"\",SUMIFS(Baza[WIN$],Baza[B],Таблица6[[#This Row],['#]]))","v":""},""]
[null,{"$f":"IFERROR(INDEX(Baza[B],SMALL(IF(SMALL(IF(COUNTIF($B$61:$B99,Baza[B])=0,COUNTIF(Baza[B],\"<\"&Baza[B])+1,\"\"),1)=COUNTIF(Baza[B],\"<\"&Baza[B])+1,ROW(Baza[B])-MIN(ROW(Baza[B]))+1),1)),\"\")","v":""},{"$f":"IF(Таблица6[[#This Row],['#]]=\"\",\"\",COUNTIFS(Baza[B],Таблица6[[#This Row],['#]])+SUMIFS(Baza[R],Baza[B],Таблица6[[#This Row],['#]]))","v":""},{"$f":"IF(Таблица6[[#This Row],['#]]=\"\",\"\",SUMIFS(Baza[B$],Baza[B],Таблица6[[#This Row],['#]]))","v":""},"",{"$f":"IFERROR(AVERAGEIFS(Baza[AFS],Baza[B],Таблица6[[#This Row],['#]])+(AVERAGEIFS(Baza[AFS],Baza[B],Таблица6[[#This Row],['#]])*0.2),\"\")","v":""},"",{"$f":"IFERROR(COUNTIFS(Baza[B],Таблица6[[#This Row],['#]],Baza[Win],\">0\")/C100*100,\"\")","v":""},{"$f":"IF(SUMIFS(Baza[KO$],Baza[B],Таблица6[[#This Row],['#]])=0,\"\",SUMIFS(Baza[KO$],Baza[B],Таблица6[[#This Row],['#]]))","v":""},{"$f":"IF(SUMIFS(Baza[WIN$],Baza[B],Таблица6[[#This Row],['#]])=0,\"\",SUMIFS(Baza[WIN$],Baza[B],Таблица6[[#This Row],['#]]))","v":""},""]
[null,{"$f":"IFERROR(INDEX(Baza[B],SMALL(IF(SMALL(IF(COUNTIF($B$61:$B100,Baza[B])=0,COUNTIF(Baza[B],\"<\"&Baza[B])+1,\"\"),1)=COUNTIF(Baza[B],\"<\"&Baza[B])+1,ROW(Baza[B])-MIN(ROW(Baza[B]))+1),1)),\"\")","v":""},{"$f":"IF(Таблица6[[#This Row],['#]]=\"\",\"\",COUNTIFS(Baza[B],Таблица6[[#This Row],['#]])+SUMIFS(Baza[R],Baza[B],Таблица6[[#This Row],['#]]))","v":""},{"$f":"IF(Таблица6[[#This Row],['#]]=\"\",\"\",SUMIFS(Baza[B$],Baza[B],Таблица6[[#This Row],['#]]))","v":""},"",{"$f":"IFERROR(AVERAGEIFS(Baza[AFS],Baza[B],Таблица6[[#This Row],['#]])+(AVERAGEIFS(Baza[AFS],Baza[B],Таблица6[[#This Row],['#]])*0.2),\"\")","v":""},"",{"$f":"IFERROR(COUNTIFS(Baza[B],Таблица6[[#This Row],['#]],Baza[Win],\">0\")/C101*100,\"\")","v":""},{"$f":"IF(SUMIFS(Baza[KO$],Baza[B],Таблица6[[#This Row],['#]])=0,\"\",SUMIFS(Baza[KO$],Baza[B],Таблица6[[#This Row],['#]]))","v":""},{"$f":"IF(SUMIFS(Baza[WIN$],Baza[B],Таблица6[[#This Row],['#]])=0,\"\",SUMIFS(Baza[WIN$],Baza[B],Таблица6[[#This Row],['#]]))","v":""},""]

{"sheet":"SETKA","index":4,"n_rows":224,"n_cols":17,"rows_kept":224,"cut":false,"hidden":false,"merged":[[19,13,19,14],[21,15,21,16],[10,11,10,12],[11,11,11,12],[12,11,12,12],[13,11,13,12],[14,11,14,12],[15,11,15,12],[17,12,17,13],[8,10,8,11],[2,9,2,10],[3,9,3,10],[4,9,4,10],[1,9,1,10]]}
[]
[{"$nulls":8},"T","Turbo"]
[{"$nulls":8},"H","Hyper"]
[{"$nulls":8},"-","Regular"]
[{"$nulls":8},"…"]
[]
[{"$nulls":9},"K","PKO, KO"]
[{"$nulls":9},"-","Regular"]
[{"$nulls":9},"…"]
[]
[{"$nulls":10},"S","Series"]
[{"$nulls":10},"P","Phased"]
[{"$nulls":10},"P1","Phased day 1"]
[{"$nulls":10},"P2","Phased day 2"]
[{"$nulls":10},"Z","Zoom"]
[{"$nulls":10},"…"]
[]
[{"$nulls":12},"Bounty"]
[]
[{"$nulls":13},"Win"]
[]
[{"$nulls":15}," re-entry"]
[{"$f":"IFERROR(INDEX(#REF!,MATCH(0,IF(TRUE=#REF!,0,1)+COUNTIF(#REF!,#REF!),0)),\"\")","v":""}]
[{"$f":"IFERROR(INDEX(#REF!,MATCH(0,IF(TRUE=#REF!,0,1)+COUNTIF(#REF!,#REF!),0)),\"\")","v":""},null,"1","2","3","4","5","6","7","8","9","10","11","12","13","14","15"]
[{"$f":"IFERROR(INDEX(#REF!,MATCH(0,IF(TRUE=#REF!,0,1)+COUNTIF(#REF!,#REF!),0)),\"\")","v":""},null,"11:00:00","10:30:00",5.25,"GG","Bounty Hunters",8,"-","K","-",2500,null,null,null,"-",false]
[{"$f":"IFERROR(INDEX(#REF!,MATCH(0,IF(TRUE=#REF!,0,1)+COUNTIF(#REF!,#REF!),0)),\"\")","v":""},null,"11:15:00","11:15:00",2.2000000000000002,"PP","Deepstack",8,"-","-","-",300,null,null,null,"-",false]
[{"$f":"IFERROR(INDEX(#REF!,MATCH(0,IF(TRUE=#REF!,0,1)+COUNTIF(#REF!,#REF!),0)),\"\")","v":""},null,"11:30:00","11:30:00",2.1,"GG","Bounty Hunters",8,"-","K","-",1200,null,null,null,"-",false]
[{"$f":"IFERROR(INDEX(#REF!,MATCH(0,IF(TRUE=#REF!,0,1)+COUNTIF(#REF!,#REF!),0)),\"\")","v":""},null,"11:30:00","11:30:00",3.3,"PP","Bounty Hunter",8,"-","K","-",500,null,null,null,"-",false]
[{"$f":"IFERROR(INDEX(#REF!,MATCH(0,IF(TRUE=#REF!,0,1)+COUNTIF(#REF!,#REF!),0)),\"\")","v":""},null,"11:40:00","11:40:00",3.3,"PS","GTD",9,"-","-","-",750,null,null,null,"-",false]
[{"$f":"IFERROR(INDEX(#REF!,MATCH(0,IF(TRUE=#REF!,0,1)+COUNTIF(#REF!,#REF!),0)),\"\")","v":""},null,"12:00:00","12:00:00",1.1000000000000001,"PP","Deepstack",8,"-","-","-",200,null,null,null,"-",false]
[{"$f":"IFERROR(INDEX(#REF!,MATCH(0,IF(TRUE=#REF!,0,1)+COUNTIF(#REF!,#REF!),0)),\"\")","v":""},null,"12:40:00","12:00:00",1.1000000000000001,"PS","Big",9,"-","-","-",1000,null,null,null,"-",false]
[{"$f":"IFERROR(INDEX(#REF!,MATCH(0,IF(TRUE=#REF!,0,1)+COUNTIF(#REF!,#REF!),0)),\"\")","v":""},null,"12:00:00","12:00:00",2,"WN","Monster Stack",6,"-","-","-",200,null,null,null,"-",false]
[{"$f":"IFERROR(INDEX(#REF!,MATCH(0,IF(TRUE=#REF!,0,1)+COUNTIF(#REF!,#REF!),0)),\"\")","v":""},null,"12:16:00","12:00:00",5,"GG","Big",8,"-","-","-",1500,null,null,null,"-",false]
[{"$f":"IFERROR(INDEX(#REF!,MATCH(0,IF(TRUE=#REF!,0,1)+COUNTIF(#REF!,#REF!),0)),\"\")","v":""},null,"12:00:00","12:00:00",5,"WN","Monster Stack",6,"-","-","-",600,null,null,null,"-",false]
[{"$f":"IFERROR(INDEX(#REF!,MATCH(0,IF(TRUE=#REF!,0,1)+COUNTIF(#REF!,#REF!),0)),\"\")","v":""},null,"12:20:00","12:20:00",5.5,"PS","30% Progressive KO",9,"-","K","-",2500,null,null,null,"-",false]
[{"$f":"IFERROR(INDEX(#REF!,MATCH(0,IF(TRUE=#REF!,0,1)+COUNTIF(#REF!,#REF!),0)),\"\")","v":""},null,"12:30:00","12:30:00",1.05,"GG","Bounty Hunters",8,"-","K","-",750,null,null,null,"-",false]
[{"$f":"IFERROR(INDEX(#REF!,MATCH(0,IF(TRUE=#REF!,0,1)+COUNTIF(#REF!,#REF!),0)),\"\")","v":""},{"$nulls":14},"-",false]
[{"$f":"IFERROR(INDEX(#REF!,MATCH(0,IF(TRUE=#REF!,0,1)+COUNTIF(#REF!,#REF!),0)),\"\")","v":""},{"$nulls":14},"-",false]
[{"$f":"IFERROR(INDEX(#REF!,MATCH(0,IF(TRUE=#REF!,0,1)+COUNTIF(#REF!,#REF!),0)),\"\")","v":""},{"$nulls":14},"-",false]
[{"$f":"IFERROR(INDEX(#REF!,MATCH(0,IF(TRUE=#REF!,0,1)+COUNTIF(#REF!,#REF!),0)),\"\")","v":""},{"$nulls":14},"-",false]
[{"$f":"IFERROR(INDEX(#REF!,MATCH(0,IF(TRUE=#REF!,0,1)+COUNTIF(#REF!,#REF!),0)),\"\")","v":""},{"$nulls":14},"-",false]
[{"$f":"IFERROR(INDEX(#REF!,MATCH(0,IF(TRUE=#REF!,0,1)+COUNTIF(#REF!,#REF!),0)),\"\")","v":""},{"$nulls":14},"-",false]
[{"$f":"IFERROR(INDEX(#REF!,MATCH(0,IF(TRUE=#REF!,0,1)+COUNTIF(#REF!,#REF!),0)),\"\")","v":""},{"$nulls":14},"-",false]
[{"$f":"IFERROR(INDEX(#REF!,MATCH(0,IF(TRUE=#REF!,0,1)+COUNTIF(#REF!,#REF!),0)),\"\")","v":""},{"$nulls":14},"-",false]
[{"$f":"IFERROR(INDEX(#REF!,MATCH(0,IF(TRUE=#REF!,0,1)+COUNTIF(#REF!,#REF!),0)),\"\")","v":""},{"$nulls":14},"-",false]
[{"$f":"IFERROR(INDEX(#REF!,MATCH(0,IF(TRUE=#REF!,0,1)+COUNTIF(#REF!,#REF!),0)),\"\")","v":""},{"$nulls":14},"-",false]
[{"$f":"IFERROR(INDEX(#REF!,MATCH(0,IF(TRUE=#REF!,0,1)+COUNTIF(#REF!,#REF!),0)),\"\")","v":""},{"$nulls":14},"-",false]
[{"$f":"IFERROR(INDEX(#REF!,MATCH(0,IF(TRUE=#REF!,0,1)+COUNTIF(#REF!,#REF!),0)),\"\")","v":""},{"$nulls":14},"-",false]
[{"$f":"IFERROR(INDEX(#REF!,MATCH(0,IF(TRUE=#REF!,0,1)+COUNTIF(#REF!,#REF!),0)),\"\")","v":""},{"$nulls":14},"-",false]
[{"$f":"IFERROR(INDEX(#REF!,MATCH(0,IF(TRUE=#REF!,0,1)+COUNTIF(#REF!,#REF!),0)),\"\")","v":""},{"$nulls":14},"-",false]
[{"$f":"IFERROR(INDEX(#REF!,MATCH(0,IF(TRUE=#REF!,0,1)+COUNTIF(#REF!,#REF!),0)),\"\")","v":""},{"$nulls":14},"-",false]
[{"$f":"IFERROR(INDEX(#REF!,MATCH(0,IF(TRUE=#REF!,0,1)+COUNTIF(#REF!,#REF!),0)),\"\")","v":""},{"$nulls":14},"-",false]
[{"$f":"IFERROR(INDEX(#REF!,MATCH(0,IF(TRUE=#REF!,0,1)+COUNTIF(#REF!,#REF!),0)),\"\")","v":""},{"$nulls":14},"-",false]
[{"$f":"IFERROR(INDEX(#REF!,MATCH(0,IF(TRUE=#REF!,0,1)+COUNTIF(#REF!,#REF!),0)),\"\")","v":""},{"$nulls":14},"-",false]
[{"$f":"IFERROR(INDEX(#REF!,MATCH(0,IF(TRUE=#REF!,0,1)+COUNTIF(#REF!,#REF!),0)),\"\")","v":""},{"$nulls":14},"-",false]
[{"$f":"IFERROR(INDEX(#REF!,MATCH(0,IF(TRUE=#REF!,0,1)+COUNTIF(#REF!,#REF!),0)),\"\")","v":""},{"$nulls":14},"-",false]
[{"$f":"IFERROR(INDEX(#REF!,MATCH(0,IF(TRUE=#REF!,0,1)+COUNTIF(#REF!,#REF!),0)),\"\")","v":""},{"$nulls":14},"-",false]
[{"$f":"IFERROR(INDEX(#REF!,MATCH(0,IF(TRUE=#REF!,0,1)+COUNTIF(#REF!,#REF!),0)),\"\")","v":""},{"$nulls":14},"-",false]
[{"$f":"IFERROR(INDEX(#REF!,MATCH(0,IF(TRUE=#REF!,0,1)+COUNTIF(#REF!,#REF!),0)),\"\")","v":""},{"$nulls":14},"-",false]
[{"$f":"IFERROR(INDEX(#REF!,MATCH(0,IF(TRUE=#REF!,0,1)+COUNTIF(#REF!,#REF!),0)),\"\")","v":""},{"$nulls":14},"-",false]
[{"$f":"IFERROR(INDEX(#REF!,MATCH(0,IF(TRUE=#REF!,0,1)+COUNTIF(#REF!,#REF!),0)),\"\")","v":""},{"$nulls":14},"-",false]
[{"$f":"IFERROR(INDEX(#REF!,MATCH(0,IF(TRUE=#REF!,0,1)+COUNTIF(#REF!,#REF!),0)),\"\")","v":""},{"$nulls":14},"-",false]
[{"$f":"IFERROR(INDEX(#REF!,MATCH(0,IF(TRUE=#REF!,0,1)+COUNTIF(#REF!,#REF!),0)),\"\")","v":""},{"$nulls":14},"-",false]
[{"$f":"IFERROR(INDEX(#REF!,MATCH(0,IF(TRUE=#REF!,0,1)+COUNTIF(#REF!,#REF!),0)),\"\")","v":""},{"$nulls":14},"-",false]
[{"$f":"IFERROR(INDEX(#REF!,MATCH(0,IF(TRUE=#REF!,0,1)+COUNTIF(#REF!,#REF!),0)),\"\")","v":""},{"$nulls":14},"-",false]
[{"$f":"IFERROR(INDEX(#REF!,MATCH(0,IF(TRUE=#REF!,0,1)+COUNTIF(#REF!,#REF!),0)),\"\")","v":""},{"$nulls":14},"-",false]
[{"$f":"IFERROR(INDEX(#REF!,MATCH(0,IF(TRUE=#REF!,0,1)+COUNTIF(#REF!,#REF!),0)),\"\")","v":""},{"$nulls":14},"-",false]
[{"$f":"IFERROR(INDEX(#REF!,MATCH(0,IF(TRUE=#REF!,0,1)+COUNTIF(#REF!,#REF!),0)),\"\")","v":""},{"$nulls":14},"-",false]
[{"$f":"IFERROR(INDEX(#REF!,MATCH(0,IF(TRUE=#REF!,0,1)+COUNTIF(#REF!,#REF!),0)),\"\")","v":""},{"$nulls":14},"-",false]
[{"$f":"IFERROR(INDEX(#REF!,MATCH(0,IF(TRUE=#REF!,0,1)+COUNTIF(#REF!,#REF!),0)),\"\")","v":""},{"$nulls":14},"-",false]
[{"$f":"IFERROR(INDEX(#REF!,MATCH(0,IF(TRUE=#REF!,0,1)+COUNTIF(#REF!,#REF!),0)),\"\")","v":""},{"$nulls":14},"-",false]
[{"$f":"IFERROR(INDEX(#REF!,MATCH(0,IF(TRUE=#REF!,0,1)+COUNTIF(#REF!,#REF!),0)),\"\")","v":""},{"$nulls":14},"-",false]
[{"$f":"IFERROR(INDEX(#REF!,MATCH(0,IF(TRUE=#REF!,0,1)+COUNTIF(#REF!,#REF!),0)),\"\")","v":""},{"$nulls":14},"-",false]
[{"$f":"IFERROR(INDEX(#REF!,MATCH(0,IF(TRUE=#REF!,0,1)+COUNTIF(#REF!,#REF!),0)),\"\")","v":""},{"$nulls":14},"-",false]
[{"$f":"IFERROR(INDEX(#REF!,MATCH(0,IF(TRUE=#REF!,0,1)+COUNTIF(#REF!,#REF!),0)),\"\")","v":""},{"$nulls":14},"-",false]
[{"$f":"IFERROR(INDEX(#REF!,MATCH(0,IF(TRUE=#REF!,0,1)+COUNTIF(#REF!,#REF!),0)),\"\")","v":""},{"$nulls":14},"-",false]
[{"$f":"IFERROR(INDEX(#REF!,MATCH(0,IF(TRUE=#REF!,0,1)+COUNTIF(#REF!,#REF!),0)),\"\")","v":""},{"$nulls":14},"-",false]
[{"$f":"IFERROR(INDEX(#REF!,MATCH(0,IF(TRUE=#REF!,0,1)+COUNTIF(#REF!,#REF!),0)),\"\")","v":""},{"$nulls":14},"-",false]
[{"$f":"IFERROR(INDEX(#REF!,MATCH(0,IF(TRUE=#REF!,0,1)+COUNTIF(#REF!,#REF!),0)),\"\")","v":""},{"$nulls":14},"-",false]
[{"$f":"IFERROR(INDEX(#REF!,MATCH(0,IF(TRUE=#REF!,0,1)+COUNTIF(#REF!,#REF!),0)),\"\")","v":""},{"$nulls":14},"-",false]
[{"$f":"IFERROR(INDEX(#REF!,MATCH(0,IF(TRUE=#REF!,0,1)+COUNTIF(#REF!,#REF!),0)),\"\")","v":""},{"$nulls":14},"-",false]
[{"$f":"IFERROR(INDEX(#REF!,MATCH(0,IF(TRUE=#REF!,0,1)+COUNTIF(#REF!,#REF!),0)),\"\")","v":""},{"$nulls":14},"-",false]
[{"$f":"IFERROR(INDEX(#REF!,MATCH(0,IF(TRUE=#REF!,0,1)+COUNTIF(#REF!,#REF!),0)),\"\")","v":""},{"$nulls":14},"-",false]
[{"$f":"IFERROR(INDEX(#REF!,MATCH(0,IF(TRUE=#REF!,0,1)+COUNTIF(#REF!,#REF!),0)),\"\")","v":""},{"$nulls":14},"-",false]
[{"$f":"IFERROR(INDEX(#REF!,MATCH(0,IF(TRUE=#REF!,0,1)+COUNTIF(#REF!,#REF!),0)),\"\")","v":""},{"$nulls":14},"-",false]
[{"$f":"IFERROR(INDEX(#REF!,MATCH(0,IF(TRUE=#REF!,0,1)+COUNTIF(#REF!,#REF!),0)),\"\")","v":""},{"$nulls":14},"-",false]
[{"$f":"IFERROR(INDEX(#REF!,MATCH(0,IF(TRUE=#REF!,0,1)+COUNTIF(#REF!,#REF!),0)),\"\")","v":""},{"$nulls":14},"-",false]
[{"$f":"IFERROR(INDEX(#REF!,MATCH(0,IF(TRUE=#REF!,0,1)+COUNTIF(#REF!,#REF!),0)),\"\")","v":""},{"$nulls":14},"-",false]
[{"$f":"IFERROR(INDEX(#REF!,MATCH(0,IF(TRUE=#REF!,0,1)+COUNTIF(#REF!,#REF!),0)),\"\")","v":""},{"$nulls":14},"-",false]
[{"$f":"IFERROR(INDEX(#REF!,MATCH(0,IF(TRUE=#REF!,0,1)+COUNTIF(#REF!,#REF!),0)),\"\")","v":""},{"$nulls":14},"-",false]
[{"$f":"IFERROR(INDEX(#REF!,MATCH(0,IF(TRUE=#REF!,0,1)+COUNTIF(#REF!,#REF!),0)),\"\")","v":""},{"$nulls":14},"-",false]
[{"$f":"IFERROR(INDEX(#REF!,MATCH(0,IF(TRUE=#REF!,0,1)+COUNTIF(#REF!,#REF!),0)),\"\")","v":""},{"$nulls":14},"-",false]
[{"$f":"IFERROR(INDEX(#REF!,MATCH(0,IF(TRUE=#REF!,0,1)+COUNTIF(#REF!,#REF!),0)),\"\")","v":""},{"$nulls":14},"-",false]
[{"$f":"IFERROR(INDEX(#REF!,MATCH(0,IF(TRUE=#REF!,0,1)+COUNTIF(#REF!,#REF!),0)),\"\")","v":""},{"$nulls":14},"-",false]
[{"$f":"IFERROR(INDEX(#REF!,MATCH(0,IF(TRUE=#REF!,0,1)+COUNTIF(#REF!,#REF!),0)),\"\")","v":""},{"$nulls":14},"-",false]
[{"$f":"IFERROR(INDEX(#REF!,MATCH(0,IF(TRUE=#REF!,0,1)+COUNTIF(#REF!,#REF!),0)),\"\")","v":""},{"$nulls":14},"-",false]
[{"$f":"IFERROR(INDEX(#REF!,MATCH(0,IF(TRUE=#REF!,0,1)+COUNTIF(#REF!,#REF!),0)),\"\")","v":""},{"$nulls":14},"-",false]
[{"$f":"IFERROR(INDEX(#REF!,MATCH(0,IF(TRUE=#REF!,0,1)+COUNTIF(#REF!,#REF!),0)),\"\")","v":""},{"$nulls":14},"-",false]
[{"$f":"IFERROR(INDEX(#REF!,MATCH(0,IF(TRUE=#REF!,0,1)+COUNTIF(#REF!,#REF!),0)),\"\")","v":""},{"$nulls":14},"-",false]
[{"$f":"IFERROR(INDEX(#REF!,MATCH(0,IF(TRUE=#REF!,0,1)+COUNTIF(#REF!,#REF!),0)),\"\")","v":""},{"$nulls":14},"-",false]
[{"$f":"IFERROR(INDEX(#REF!,MATCH(0,IF(TRUE=#REF!,0,1)+COUNTIF(#REF!,#REF!),0)),\"\")","v":""},{"$nulls":14},"-",false]
[{"$f":"IFERROR(INDEX(#REF!,MATCH(0,IF(TRUE=#REF!,0,1)+COUNTIF(#REF!,#REF!),0)),\"\")","v":""},{"$nulls":14},"-",false]
[{"$f":"IFERROR(INDEX(#REF!,MATCH(0,IF(TRUE=#REF!,0,1)+COUNTIF(#REF!,#REF!),0)),\"\")","v":""},{"$nulls":14},"-",false]
[{"$f":"IFERROR(INDEX(#REF!,MATCH(0,IF(TRUE=#REF!,0,1)+COUNTIF(#REF!,#REF!),0)),\"\")","v":""},{"$nulls":14},"-",false]
[{"$f":"IFERROR(INDEX(#REF!,MATCH(0,IF(TRUE=#REF!,0,1)+COUNTIF(#REF!,#REF!),0)),\"\")","v":""},{"$nulls":14},"-",false]
[{"$f":"IFERROR(INDEX(#REF!,MATCH(0,IF(TRUE=#REF!,0,1)+COUNTIF(#REF!,#REF!),0)),\"\")","v":""},{"$nulls":14},"-",false]
[{"$f":"IFERROR(INDEX(#REF!,MATCH(0,IF(TRUE=#REF!,0,1)+COUNTIF(#REF!,#REF!),0)),\"\")","v":""},{"$nulls":14},"-",false]
[{"$f":"IFERROR(INDEX(#REF!,MATCH(0,IF(TRUE=#REF!,0,1)+COUNTIF(#REF!,#REF!),0)),\"\")","v":""},{"$nulls":14},"-",false]
[{"$f":"IFERROR(INDEX(#REF!,MATCH(0,IF(TRUE=#REF!,0,1)+COUNTIF(#REF!,#REF!),0)),\"\")","v":""},{"$nulls":14},"-",false]
[{"$f":"IFERROR(INDEX(#REF!,MATCH(0,IF(TRUE=#REF!,0,1)+COUNTIF(#REF!,#REF!),0)),\"\")","v":""},{"$nulls":14},"-",false]
[{"$f":"IFERROR(INDEX(#REF!,MATCH(0,IF(TRUE=#REF!,0,1)+COUNTIF(#REF!,#REF!),0)),\"\")","v":""},{"$nulls":14},"-",false]
[{"$f":"IFERROR(INDEX(#REF!,MATCH(0,IF(TRUE=#REF!,0,1)+COUNTIF(#REF!,#REF!),0)),\"\")","v":""},{"$nulls":14},"-",false]
[{"$f":"IFERROR(INDEX(#REF!,MATCH(0,IF(TRUE=#REF!,0,1)+COUNTIF(#REF!,#REF!),0)),\"\")","v":""},{"$nulls":14},"-",false]
[{"$f":"IFERROR(INDEX(#REF!,MATCH(0,IF(TRUE=#REF!,0,1)+COUNTIF(#REF!,#REF!),0)),\"\")","v":""},{"$nulls":14},"-",false]
[{"$f":"IFERROR(INDEX(#REF!,MATCH(0,IF(TRUE=#REF!,0,1)+COUNTIF(#REF!,#REF!),0)),\"\")","v":""},{"$nulls":14},"-",false]
[{"$f":"IFERROR(INDEX(#REF!,MATCH(0,IF(TRUE=#REF!,0,1)+COUNTIF(#REF!,#REF!),0)),\"\")","v":""},{"$nulls":14},"-",false]
[{"$f":"IFERROR(INDEX(#REF!,MATCH(0,IF(TRUE=#REF!,0,1)+COUNTIF(#REF!,#REF!),0)),\"\")","v":""},{"$nulls":14},"-",false]
[{"$f":"IFERROR(INDEX(#REF!,MATCH(0,IF(TRUE=#REF!,0,1)+COUNTIF(#REF!,#REF!),0)),\"\")","v":""},{"$nulls":14},"-",false]
[{"$f":"IFERROR(INDEX(#REF!,MATCH(0,IF(TRUE=#REF!,0,1)+COUNTIF(#REF!,#REF!),0)),\"\")","v":""},{"$nulls":14},"-",false]
[{"$f":"IFERROR(INDEX(#REF!,MATCH(0,IF(TRUE=#REF!,0,1)+COUNTIF(#REF!,#REF!),0)),\"\")","v":""},{"$nulls":14},"-",false]
[{"$f":"IFERROR(INDEX(#REF!,MATCH(0,IF(TRUE=#REF!,0,1)+COUNTIF(#REF!,#REF!),0)),\"\")","v":""},{"$nulls":14},"-",false]
[{"$f":"IFERROR(INDEX(#REF!,MATCH(0,IF(TRUE=#REF!,0,1)+COUNTIF(#REF!,#REF!),0)),\"\")","v":""},{"$nulls":14},"-",false]
[{"$f":"IFERROR(INDEX(#REF!,MATCH(0,IF(TRUE=#REF!,0,1)+COUNTIF(#REF!,#REF!),0)),\"\")","v":""},{"$nulls":14},"-",false]
[{"$f":"IFERROR(INDEX(#REF!,MATCH(0,IF(TRUE=#REF!,0,1)+COUNTIF(#REF!,#REF!),0)),\"\")","v":""},{"$nulls":14},"-",false]
[{"$f":"IFERROR(INDEX(#REF!,MATCH(0,IF(TRUE=#REF!,0,1)+COUNTIF(#REF!,#REF!),0)),\"\")","v":""},{"$nulls":14},"-",false]
[{"$f":"IFERROR(INDEX(#REF!,MATCH(0,IF(TRUE=#REF!,0,1)+COUNTIF(#REF!,#REF!),0)),\"\")","v":""},{"$nulls":14},"-",false]
[{"$f":"IFERROR(INDEX(#REF!,MATCH(0,IF(TRUE=#REF!,0,1)+COUNTIF(#REF!,#REF!),0)),\"\")","v":""},{"$nulls":14},"-",false]
[{"$f":"IFERROR(INDEX(#REF!,MATCH(0,IF(TRUE=#REF!,0,1)+COUNTIF(#REF!,#REF!),0)),\"\")","v":""},{"$nulls":14},"-",false]
[{"$f":"IFERROR(INDEX(#REF!,MATCH(0,IF(TRUE=#REF!,0,1)+COUNTIF(#REF!,#REF!),0)),\"\")","v":""},{"$nulls":14},"-",false]
[{"$f":"IFERROR(INDEX(#REF!,MATCH(0,IF(TRUE=#REF!,0,1)+COUNTIF(#REF!,#REF!),0)),\"\")","v":""},{"$nulls":14},"-",false]
[{"$f":"IFERROR(INDEX(#REF!,MATCH(0,IF(TRUE=#REF!,0,1)+COUNTIF(#REF!,#REF!),0)),\"\")","v":""},{"$nulls":14},"-",false]
[{"$f":"IFERROR(INDEX(#REF!,MATCH(0,IF(TRUE=#REF!,0,1)+COUNTIF(#REF!,#REF!),0)),\"\")","v":""},{"$nulls":14},"-",false]
[{"$f":"IFERROR(INDEX(#REF!,MATCH(0,IF(TRUE=#REF!,0,1)+COUNTIF(#REF!,#REF!),0)),\"\")","v":""},{"$nulls":14},"-",false]
[{"$f":"IFERROR(INDEX(#REF!,MATCH(0,IF(TRUE=#REF!,0,1)+COUNTIF(#REF!,#REF!),0)),\"\")","v":""},{"$nulls":14},"-",false]
[{"$f":"IFERROR(INDEX(#REF!,MATCH(0,IF(TRUE=#REF!,0,1)+COUNTIF(#REF!,#REF!),0)),\"\")","v":""},{"$nulls":14},"-",false]
[{"$f":"IFERROR(INDEX(#REF!,MATCH(0,IF(TRUE=#REF!,0,1)+COUNTIF(#REF!,#REF!),0)),\"\")","v":""},{"$nulls":14},"-",false]
[{"$f":"IFERROR(INDEX(#REF!,MATCH(0,IF(TRUE=#REF!,0,1)+COUNTIF(#REF!,#REF!),0)),\"\")","v":""},{"$nulls":14},"-",false]
[{"$f":"IFERROR(INDEX(#REF!,MATCH(0,IF(TRUE=#REF!,0,1)+COUNTIF(#REF!,#REF!),0)),\"\")","v":""},{"$nulls":14},"-",false]
[{"$f":"IFERROR(INDEX(#REF!,MATCH(0,IF(TRUE=#REF!,0,1)+COUNTIF(#REF!,#REF!),0)),\"\")","v":""},{"$nulls":14},"-",false]
[{"$f":"IFERROR(INDEX(#REF!,MATCH(0,IF(TRUE=#REF!,0,1)+COUNTIF(#REF!,#REF!),0)),\"\")","v":""},{"$nulls":14},"-",false]
[{"$f":"IFERROR(INDEX(#REF!,MATCH(0,IF(TRUE=#REF!,0,1)+COUNTIF(#REF!,#REF!),0)),\"\")","v":""},{"$nulls":14},"-",false]
[{"$f":"IFERROR(INDEX(#REF!,MATCH(0,IF(TRUE=#REF!,0,1)+COUNTIF(#REF!,#REF!),0)),\"\")","v":""},{"$nulls":14},"-",false]
[{"$f":"IFERROR(INDEX(#REF!,MATCH(0,IF(TRUE=#REF!,0,1)+COUNTIF(#REF!,#REF!),0)),\"\")","v":""},{"$nulls":14},"-",false]
[{"$f":"IFERROR(INDEX(#REF!,MATCH(0,IF(TRUE=#REF!,0,1)+COUNTIF(#REF!,#REF!),0)),\"\")","v":""},{"$nulls":14},"-",false]
[{"$f":"IFERROR(INDEX(#REF!,MATCH(0,IF(TRUE=#REF!,0,1)+COUNTIF(#REF!,#REF!),0)),\"\")","v":""},{"$nulls":14},"-",false]
[{"$f":"IFERROR(INDEX(#REF!,MATCH(0,IF(TRUE=#REF!,0,1)+COUNTIF(#REF!,#REF!),0)),\"\")","v":""},{"$nulls":14},"-",false]
[{"$f":"IFERROR(INDEX(#REF!,MATCH(0,IF(TRUE=#REF!,0,1)+COUNTIF(#REF!,#REF!),0)),\"\")","v":""},{"$nulls":14},"-",false]
[{"$f":"IFERROR(INDEX(#REF!,MATCH(0,IF(TRUE=#REF!,0,1)+COUNTIF(#REF!,#REF!),0)),\"\")","v":""},{"$nulls":14},"-",false]
[{"$f":"IFERROR(INDEX(#REF!,MATCH(0,IF(TRUE=#REF!,0,1)+COUNTIF(#REF!,#REF!),0)),\"\")","v":""},{"$nulls":14},"-",false]
[{"$f":"IFERROR(INDEX(#REF!,MATCH(0,IF(TRUE=#REF!,0,1)+COUNTIF(#REF!,#REF!),0)),\"\")","v":""},{"$nulls":14},"-",false]
[{"$f":"IFERROR(INDEX(#REF!,MATCH(0,IF(TRUE=#REF!,0,1)+COUNTIF(#REF!,#REF!),0)),\"\")","v":""},{"$nulls":14},"-",false]
[{"$f":"IFERROR(INDEX(#REF!,MATCH(0,IF(TRUE=#REF!,0,1)+COUNTIF(#REF!,#REF!),0)),\"\")","v":""},{"$nulls":14},"-",false]
[{"$f":"IFERROR(INDEX(#REF!,MATCH(0,IF(TRUE=#REF!,0,1)+COUNTIF(#REF!,#REF!),0)),\"\")","v":""},{"$nulls":14},"-",false]
[{"$f":"IFERROR(INDEX(#REF!,MATCH(0,IF(TRUE=#REF!,0,1)+COUNTIF(#REF!,#REF!),0)),\"\")","v":""},{"$nulls":14},"-",false]
[{"$f":"IFERROR(INDEX(#REF!,MATCH(0,IF(TRUE=#REF!,0,1)+COUNTIF(#REF!,#REF!),0)),\"\")","v":""},{"$nulls":14},"-",false]
[{"$f":"IFERROR(INDEX(#REF!,MATCH(0,IF(TRUE=#REF!,0,1)+COUNTIF(#REF!,#REF!),0)),\"\")","v":""},{"$nulls":14},"-",false]
[{"$f":"IFERROR(INDEX(#REF!,MATCH(0,IF(TRUE=#REF!,0,1)+COUNTIF(#REF!,#REF!),0)),\"\")","v":""},{"$nulls":14},"-",false]
[{"$f":"IFERROR(INDEX(#REF!,MATCH(0,IF(TRUE=#REF!,0,1)+COUNTIF(#REF!,#REF!),0)),\"\")","v":""},{"$nulls":14},"-",false]
[{"$f":"IFERROR(INDEX(#REF!,MATCH(0,IF(TRUE=#REF!,0,1)+COUNTIF(#REF!,#REF!),0)),\"\")","v":""},{"$nulls":14},"-",false]
[{"$f":"IFERROR(INDEX(#REF!,MATCH(0,IF(TRUE=#REF!,0,1)+COUNTIF(#REF!,#REF!),0)),\"\")","v":""},{"$nulls":14},"-",false]
[{"$f":"IFERROR(INDEX(#REF!,MATCH(0,IF(TRUE=#REF!,0,1)+COUNTIF(#REF!,#REF!),0)),\"\")","v":""},{"$nulls":14},"-",false]
[{"$f":"IFERROR(INDEX(#REF!,MATCH(0,IF(TRUE=#REF!,0,1)+COUNTIF(#REF!,#REF!),0)),\"\")","v":""},{"$nulls":14},"-",false]
[{"$f":"IFERROR(INDEX(#REF!,MATCH(0,IF(TRUE=#REF!,0,1)+COUNTIF(#REF!,#REF!),0)),\"\")","v":""},{"$nulls":14},"-",false]
[{"$f":"IFERROR(INDEX(#REF!,MATCH(0,IF(TRUE=#REF!,0,1)+COUNTIF(#REF!,#REF!),0)),\"\")","v":""},{"$nulls":14},"-",false]
[{"$f":"IFERROR(INDEX(#REF!,MATCH(0,IF(TRUE=#REF!,0,1)+COUNTIF(#REF!,#REF!),0)),\"\")","v":""},{"$nulls":14},"-",false]
[{"$f":"IFERROR(INDEX(#REF!,MATCH(0,IF(TRUE=#REF!,0,1)+COUNTIF(#REF!,#REF!),0)),\"\")","v":""},{"$nulls":14},"-",false]
[{"$f":"IFERROR(INDEX(#REF!,MATCH(0,IF(TRUE=#REF!,0,1)+COUNTIF(#REF!,#REF!),0)),\"\")","v":""},{"$nulls":14},"-",false]
[{"$f":"IFERROR(INDEX(#REF!,MATCH(0,IF(TRUE=#REF!,0,1)+COUNTIF(#REF!,#REF!),0)),\"\")","v":""},{"$nulls":14},"-",false]
[{"$f":"IFERROR(INDEX(#REF!,MATCH(0,IF(TRUE=#REF!,0,1)+COUNTIF(#REF!,#REF!),0)),\"\")","v":""},{"$nulls":14},"-",false]
[{"$f":"IFERROR(INDEX(#REF!,MATCH(0,IF(TRUE=#REF!,0,1)+COUNTIF(#REF!,#REF!),0)),\"\")","v":""},{"$nulls":14},"-",false]
[{"$f":"IFERROR(INDEX(#REF!,MATCH(0,IF(TRUE=#REF!,0,1)+COUNTIF(#REF!,#REF!),0)),\"\")","v":""},{"$nulls":14},"-",false]
[{"$f":"IFERROR(INDEX(#REF!,MATCH(0,IF(TRUE=#REF!,0,1)+COUNTIF(#REF!,#REF!),0)),\"\")","v":""},{"$nulls":14},"-",false]
[{"$f":"IFERROR(INDEX(#REF!,MATCH(0,IF(TRUE=#REF!,0,1)+COUNTIF(#REF!,#REF!),0)),\"\")","v":""},{"$nulls":14},"-",false]
[{"$f":"IFERROR(INDEX(#REF!,MATCH(0,IF(TRUE=#REF!,0,1)+COUNTIF(#REF!,#REF!),0)),\"\")","v":""},{"$nulls":14},"-",false]
[{"$f":"IFERROR(INDEX(#REF!,MATCH(0,IF(TRUE=#REF!,0,1)+COUNTIF(#REF!,#REF!),0)),\"\")","v":""},{"$nulls":14},"-",false]
[{"$f":"IFERROR(INDEX(#REF!,MATCH(0,IF(TRUE=#REF!,0,1)+COUNTIF(#REF!,#REF!),0)),\"\")","v":""},{"$nulls":14},"-",false]
[{"$f":"IFERROR(INDEX(#REF!,MATCH(0,IF(TRUE=#REF!,0,1)+COUNTIF(#REF!,#REF!),0)),\"\")","v":""},{"$nulls":14},"-",false]
[{"$f":"IFERROR(INDEX(#REF!,MATCH(0,IF(TRUE=#REF!,0,1)+COUNTIF(#REF!,#REF!),0)),\"\")","v":""},{"$nulls":14},"-",false]
[{"$f":"IFERROR(INDEX(#REF!,MATCH(0,IF(TRUE=#REF!,0,1)+COUNTIF(#REF!,#REF!),0)),\"\")","v":""},{"$nulls":14},"-",false]
[{"$f":"IFERROR(INDEX(#REF!,MATCH(0,IF(TRUE=#REF!,0,1)+COUNTIF(#REF!,#REF!),0)),\"\")","v":""},{"$nulls":14},"-",false]
[{"$f":"IFERROR(INDEX(#REF!,MATCH(0,IF(TRUE=#REF!,0,1)+COUNTIF(#REF!,#REF!),0)),\"\")","v":""},{"$nulls":14},"-",false]
[{"$f":"IFERROR(INDEX(#REF!,MATCH(0,IF(TRUE=#REF!,0,1)+COUNTIF(#REF!,#REF!),0)),\"\")","v":""},{"$nulls":14},"-",false]
[{"$f":"IFERROR(INDEX(#REF!,MATCH(0,IF(TRUE=#REF!,0,1)+COUNTIF(#REF!,#REF!),0)),\"\")","v":""},{"$nulls":14},"-",false]
[{"$f":"IFERROR(INDEX(#REF!,MATCH(0,IF(TRUE=#REF!,0,1)+COUNTIF(#REF!,#REF!),0)),\"\")","v":""},{"$nulls":14},"-",false]
[{"$f":"IFERROR(INDEX(#REF!,MATCH(0,IF(TRUE=#REF!,0,1)+COUNTIF(#REF!,#REF!),0)),\"\")","v":""},{"$nulls":14},"-",false]
[{"$f":"IFERROR(INDEX(#REF!,MATCH(0,IF(TRUE=#REF!,0,1)+COUNTIF(#REF!,#REF!),0)),\"\")","v":""},{"$nulls":14},"-",false]
[{"$f":"IFERROR(INDEX(#REF!,MATCH(0,IF(TRUE=#REF!,0,1)+COUNTIF(#REF!,#REF!),0)),\"\")","v":""},{"$nulls":14},"-",false]
[{"$f":"IFERROR(INDEX(#REF!,MATCH(0,IF(TRUE=#REF!,0,1)+COUNTIF(#REF!,#REF!),0)),\"\")","v":""},{"$nulls":14},"-",false]
[{"$f":"IFERROR(INDEX(#REF!,MATCH(0,IF(TRUE=#REF!,0,1)+COUNTIF(#REF!,#REF!),0)),\"\")","v":""},{"$nulls":14},"-",false]
[{"$f":"IFERROR(INDEX(#REF!,MATCH(0,IF(TRUE=#REF!,0,1)+COUNTIF(#REF!,#REF!),0)),\"\")","v":""},{"$nulls":14},"-",false]
[{"$f":"IFERROR(INDEX(#REF!,MATCH(0,IF(TRUE=#REF!,0,1)+COUNTIF(#REF!,#REF!),0)),\"\")","v":""},{"$nulls":14},"-",false]
[{"$f":"IFERROR(INDEX(#REF!,MATCH(0,IF(TRUE=#REF!,0,1)+COUNTIF(#REF!,#REF!),0)),\"\")","v":""},{"$nulls":14},"-",false]
[{"$f":"IFERROR(INDEX(#REF!,MATCH(0,IF(TRUE=#REF!,0,1)+COUNTIF(#REF!,#REF!),0)),\"\")","v":""},{"$nulls":14},"-",false]
[{"$f":"IFERROR(INDEX(#REF!,MATCH(0,IF(TRUE=#REF!,0,1)+COUNTIF(#REF!,#REF!),0)),\"\")","v":""},{"$nulls":14},"-",false]
[{"$f":"IFERROR(INDEX(#REF!,MATCH(0,IF(TRUE=#REF!,0,1)+COUNTIF(#REF!,#REF!),0)),\"\")","v":""},{"$nulls":14},"-",false]
[{"$f":"IFERROR(INDEX(#REF!,MATCH(0,IF(TRUE=#REF!,0,1)+COUNTIF(#REF!,#REF!),0)),\"\")","v":""},{"$nulls":14},"-",false]
[{"$f":"IFERROR(INDEX(#REF!,MATCH(0,IF(TRUE=#REF!,0,1)+COUNTIF(#REF!,#REF!),0)),\"\")","v":""},{"$nulls":14},"-",false]
[{"$f":"IFERROR(INDEX(#REF!,MATCH(0,IF(TRUE=#REF!,0,1)+COUNTIF(#REF!,#REF!),0)),\"\")","v":""},{"$nulls":14},"-",false]
[{"$f":"IFERROR(INDEX(#REF!,MATCH(0,IF(TRUE=#REF!,0,1)+COUNTIF(#REF!,#REF!),0)),\"\")","v":""},{"$nulls":14},"-",false]
[{"$f":"IFERROR(INDEX(#REF!,MATCH(0,IF(TRUE=#REF!,0,1)+COUNTIF(#REF!,#REF!),0)),\"\")","v":""},{"$nulls":14},"-",false]
[{"$f":"IFERROR(INDEX(#REF!,MATCH(0,IF(TRUE=#REF!,0,1)+COUNTIF(#REF!,#REF!),0)),\"\")","v":""},{"$nulls":14},"-",false]
[{"$f":"IFERROR(INDEX(#REF!,MATCH(0,IF(TRUE=#REF!,0,1)+COUNTIF(#REF!,#REF!),0)),\"\")","v":""},{"$nulls":14},"-",false]
[{"$f":"IFERROR(INDEX(#REF!,MATCH(0,IF(TRUE=#REF!,0,1)+COUNTIF(#REF!,#REF!),0)),\"\")","v":""},{"$nulls":14},"-",false]
[{"$f":"IFERROR(INDEX(#REF!,MATCH(0,IF(TRUE=#REF!,0,1)+COUNTIF(#REF!,#REF!),0)),\"\")","v":""},{"$nulls":14},"-",false]
[{"$f":"IFERROR(INDEX(#REF!,MATCH(0,IF(TRUE=#REF!,0,1)+COUNTIF(#REF!,#REF!),0)),\"\")","v":""},{"$nulls":14},"-",false]
[{"$f":"IFERROR(INDEX(#REF!,MATCH(0,IF(TRUE=#REF!,0,1)+COUNTIF(#REF!,#REF!),0)),\"\")","v":""},{"$nulls":14},"-",false]
[{"$f":"IFERROR(INDEX(#REF!,MATCH(0,IF(TRUE=#REF!,0,1)+COUNTIF(#REF!,#REF!),0)),\"\")","v":""},{"$nulls":14},"-",false]
[{"$f":"IFERROR(INDEX(#REF!,MATCH(0,IF(TRUE=#REF!,0,1)+COUNTIF(#REF!,#REF!),0)),\"\")","v":""},{"$nulls":14},"-",false]
[{"$f":"IFERROR(INDEX(#REF!,MATCH(0,IF(TRUE=#REF!,0,1)+COUNTIF(#REF!,#REF!),0)),\"\")","v":""},{"$nulls":14},"-",false]
[{"$f":"IFERROR(INDEX(#REF!,MATCH(0,IF(TRUE=#REF!,0,1)+COUNTIF(#REF!,#REF!),0)),\"\")","v":""},{"$nulls":14},"-",false]
[{"$f":"IFERROR(INDEX(#REF!,MATCH(0,IF(TRUE=#REF!,0,1)+COUNTIF(#REF!,#REF!),0)),\"\")","v":""},{"$nulls":14},"-",false]
[{"$f":"IFERROR(INDEX(#REF!,MATCH(0,IF(TRUE=#REF!,0,1)+COUNTIF(#REF!,#REF!),0)),\"\")","v":""},{"$nulls":14},"-",false]
[{"$f":"IFERROR(INDEX(#REF!,MATCH(0,IF(TRUE=#REF!,0,1)+COUNTIF(#REF!,#REF!),0)),\"\")","v":""},{"$nulls":14},"-",false]
[{"$f":"IFERROR(INDEX(#REF!,MATCH(0,IF(TRUE=#REF!,0,1)+COUNTIF(#REF!,#REF!),0)),\"\")","v":""},{"$nulls":14},"-",false]
[{"$f":"IFERROR(INDEX(#REF!,MATCH(0,IF(TRUE=#REF!,0,1)+COUNTIF(#REF!,#REF!),0)),\"\")","v":""},{"$nulls":14},"-",false]
[{"$f":"IFERROR(INDEX(#REF!,MATCH(0,IF(TRUE=#REF!,0,1)+COUNTIF(#REF!,#REF!),0)),\"\")","v":""},{"$nulls":14},"-",false]
[{"$f":"IFERROR(INDEX(#REF!,MATCH(0,IF(TRUE=#REF!,0,1)+COUNTIF(#REF!,#REF!),0)),\"\")","v":""},{"$nulls":14},"-",false]
[{"$f":"IFERROR(INDEX(#REF!,MATCH(0,IF(TRUE=#REF!,0,1)+COUNTIF(#REF!,#REF!),0)),\"\")","v":""},{"$nulls":14},"-",false]
[{"$f":"IFERROR(INDEX(#REF!,MATCH(0,IF(TRUE=#REF!,0,1)+COUNTIF(#REF!,#REF!),0)),\"\")","v":""},{"$nulls":14},"-",false]
[{"$f":"IFERROR(INDEX(#REF!,MATCH(0,IF(TRUE=#REF!,0,1)+COUNTIF(#REF!,#REF!),0)),\"\")","v":""},{"$nulls":14},"-",false]
[{"$f":"IFERROR(INDEX(#REF!,MATCH(0,IF(TRUE=#REF!,0,1)+COUNTIF(#REF!,#REF!),0)),\"\")","v":""},{"$nulls":14},"-",false]
[{"$f":"IFERROR(INDEX(#REF!,MATCH(0,IF(TRUE=#REF!,0,1)+COUNTIF(#REF!,#REF!),0)),\"\")","v":""},{"$nulls":14},"-",false]
[{"$f":"IFERROR(INDEX(#REF!,MATCH(0,IF(TRUE=#REF!,0,1)+COUNTIF(#REF!,#REF!),0)),\"\")","v":""},{"$nulls":14},"-",false]
[{"$f":"IFERROR(INDEX(#REF!,MATCH(0,IF(TRUE=#REF!,0,1)+COUNTIF(#REF!,#REF!),0)),\"\")","v":""},{"$nulls":14},"-",false]