{"text_format":"2","workbook":"xlsx","n_sheets":1,"sheets":["Redraw"],"not_rendered":{"charts":0,"images":1,"macros":0,"external_links":1,"defined_names":0,"comments":0,"pivot_tables":0},"unopened":[],"bounds":{"document_bytes":16777216,"sheet_cells":100000,"run_cost":"one","rows_first":2000,"rows_last":500,"rows_between":2000,"halvings":0,"cell_chars":16384,"cell_head_chars":4096},"cells_cut":0,"cells_raw":0,"read":"whole","date_system":"1900"}

{"sheet":"Redraw","index":0,"n_rows":48,"n_cols":7,"rows_kept":48,"cut":false,"hidden":false,"merged":[[15,0,15,1],[15,3,15,4],[15,5,15,6],[12,0,12,6],[13,0,13,6],[14,0,14,1],[14,3,14,4],[14,5,14,6],[16,0,16,1],[16,3,16,4],[16,5,16,6],[17,0,17,1],[17,3,17,4],[17,5,17,6],[18,0,18,1],[18,3,18,4],[18,5,18,6],[19,0,19,1],[19,3,19,4],[19,5,19,6]]}
{"$rows_empty":12}
["German Poker Tour"]
["Main Event Re Draw Final Day"]
["Date: ",null,"March 22 - 25","Players: ",null,842]
["Buy-In:",null,270,"Re-Entries:",null,202]
["Consumption Fee:",null,29,"Rebuys:",null,0]
["Prize Pool GTD",null,200000,"Add-Ons:",null,0]
["Starting Stack:",null,50000,"Leveltime:",null,60]
["Entries total:",null,1044,"Players left",null,25]
[]
[]
["Pos","First Name","Last Name","Country","Chipcount","Table","Seat"]
[1,{"$f":"[1]redraw!A2","v":"Anton Carl"},{"$f":"[1]redraw!B2","v":"Michlamyr"},{"$f":"[1]redraw!C2","v":"Austria"},{"$f":"[1]redraw!D2","v":4405000},{"$f":"[1]redraw!E2","v":44},{"$f":"[1]redraw!F2","v":7}]
[2,{"$f":"[1]redraw!A3","v":"Matheus"},{"$f":"[1]redraw!B3","v":"Stolzenbach"},{"$f":"[1]redraw!C3","v":"Germany"},{"$f":"[1]redraw!D3","v":3950000},{"$f":"[1]redraw!E3","v":43},{"$f":"[1]redraw!F3","v":4}]
[3,{"$f":"[1]redraw!A4","v":"Vlad"},{"$f":"[1]redraw!B4","v":"Duncescu"},{"$f":"[1]redraw!C4","v":"Romania"},{"$f":"[1]redraw!D4","v":3775000},{"$f":"[1]redraw!E4","v":42},{"$f":"[1]redraw!F4","v":7}]
[4,{"$f":"[1]redraw!A5","v":"Eddy"},{"$f":"[1]redraw!B5","v":"Geries"},{"$f":"[1]redraw!C5","v":"Israel"},{"$f":"[1]redraw!D5","v":3485000},{"$f":"[1]redraw!E5","v":42},{"$f":"[1]redraw!F5","v":6}]
[5,{"$f":"[1]redraw!A6","v":"Goran"},{"$f":"[1]redraw!B6","v":"Curic"},{"$f":"[1]redraw!C6","v":"Germany"},{"$f":"[1]redraw!D6","v":3035000},{"$f":"[1]redraw!E6","v":40},{"$f":"[1]redraw!F6","v":1}]
[6,{"$f":"[1]redraw!A7","v":"TrAiAcHtSeKsA"},null,{"$f":"[1]redraw!C7","v":"Germany"},{"$f":"[1]redraw!D7","v":2985000},{"$f":"[1]redraw!E7","v":40},{"$f":"[1]redraw!F7","v":4}]
[7,{"$f":"[1]redraw!A8","v":"Martin"},{"$f":"[1]redraw!B8","v":"Ilavský"},{"$f":"[1]redraw!C8","v":"Slovakia"},{"$f":"[1]redraw!D8","v":2930000},{"$f":"[1]redraw!E8","v":43},{"$f":"[1]redraw!F8","v":5}]
[8,{"$f":"[1]redraw!A9","v":"Thomas"},{"$f":"[1]redraw!B9","v":"Jacob"},{"$f":"[1]redraw!C9","v":"France"},{"$f":"[1]redraw!D9","v":2715000},{"$f":"[1]redraw!E9","v":44},{"$f":"[1]redraw!F9","v":5}]
[9,{"$f":"[1]redraw!A10","v":"Robby 54"},null,{"$f":"[1]redraw!C10","v":"Germany"},{"$f":"[1]redraw!D10","v":2705000},{"$f":"[1]redraw!E10","v":43},{"$f":"[1]redraw!F10","v":6}]
[10,{"$f":"[1]redraw!A11","v":"Eduard"},{"$f":"[1]redraw!B11","v":"Moskal"},{"$f":"[1]redraw!C11","v":"Ukraine"},{"$f":"[1]redraw!D11","v":2530000},{"$f":"[1]redraw!E11","v":43},{"$f":"[1]redraw!F11","v":2}]
[11,{"$f":"[1]redraw!A12","v":"Juraj"},{"$f":"[1]redraw!B12","v":"Sosovicka"},{"$f":"[1]redraw!C12","v":"Slovakia"},{"$f":"[1]redraw!D12","v":1870000},{"$f":"[1]redraw!E12","v":43},{"$f":"[1]redraw!F12","v":7}]
[12,{"$f":"[1]redraw!A13","v":"Gino Walter"},{"$f":"[1]redraw!B13","v":"Jerger"},{"$f":"[1]redraw!C13","v":"Germany"},{"$f":"[1]redraw!D13","v":1810000},{"$f":"[1]redraw!E13","v":42},{"$f":"[1]redraw!F13","v":4}]
[13,{"$f":"[1]redraw!A14","v":"Samuel Merawi"},{"$f":"[1]redraw!B14","v":"Dr. Tebege"},{"$f":"[1]redraw!C14","v":"Germany"},{"$f":"[1]redraw!D14","v":1800000},{"$f":"[1]redraw!E14","v":40},{"$f":"[1]redraw!F14","v":8}]
[14,{"$f":"[1]redraw!A15","v":"Dexter"},null,{"$f":"[1]redraw!C15","v":"Germany"},{"$f":"[1]redraw!D15","v":1715000},{"$f":"[1]redraw!E15","v":40},{"$f":"[1]redraw!F15","v":7}]
[15,{"$f":"[1]redraw!A16","v":"Simon Bruna"},null,{"$f":"[1]redraw!C16","v":"Switzerland"},{"$f":"[1]redraw!D16","v":1610000},{"$f":"[1]redraw!E16","v":44},{"$f":"[1]redraw!F16","v":1}]
[16,{"$f":"[1]redraw!A17","v":"Luigino"},null,{"$f":"[1]redraw!C17","v":"Italy"},{"$f":"[1]redraw!D17","v":1470000},{"$f":"[1]redraw!E17","v":40},{"$f":"[1]redraw!F17","v":5}]
[17,{"$f":"[1]redraw!A18","v":"Ladislav"},{"$f":"[1]redraw!B18","v":"Červený"},{"$f":"[1]redraw!C18","v":"Slovakia"},{"$f":"[1]redraw!D18","v":1455000},{"$f":"[1]redraw!E18","v":42},{"$f":"[1]redraw!F18","v":5}]
[18,{"$f":"[1]redraw!A19","v":"Stuu"},null,{"$f":"[1]redraw!C19","v":"Germany"},{"$f":"[1]redraw!D19","v":1300000},{"$f":"[1]redraw!E19","v":43},{"$f":"[1]redraw!F19","v":3}]
[19,{"$f":"[1]redraw!A20","v":"Olligoalll"},null,{"$f":"[1]redraw!C20","v":"Germany"},{"$f":"[1]redraw!D20","v":1300000},{"$f":"[1]redraw!E20","v":44},{"$f":"[1]redraw!F20","v":8}]
[20,{"$f":"[1]redraw!A21","v":"Rindergulasch"},null,{"$f":"[1]redraw!C21","v":"Germany"},{"$f":"[1]redraw!D21","v":1130000},{"$f":"[1]redraw!E21","v":42},{"$f":"[1]redraw!F21","v":2}]
[21,{"$f":"[1]redraw!A22","v":"FUZZY"},null,{"$f":"[1]redraw!C22","v":"Germany"},{"$f":"[1]redraw!D22","v":1075000},{"$f":"[1]redraw!E22","v":44},{"$f":"[1]redraw!F22","v":6}]
[22,{"$f":"[1]redraw!A23","v":"Nemesis"},null,{"$f":"[1]redraw!C23","v":"Germany"},{"$f":"[1]redraw!D23","v":1010000},{"$f":"[1]redraw!E23","v":40},{"$f":"[1]redraw!F23","v":3}]
[23,{"$f":"[1]redraw!A24","v":"Peter"},{"$f":"[1]redraw!B24","v":"Krieger"},{"$f":"[1]redraw!C24","v":"Germany"},{"$f":"[1]redraw!D24","v":805000},{"$f":"[1]redraw!E24","v":44},{"$f":"[1]redraw!F24","v":3}]
[24,{"$f":"[1]redraw!A25","v":"Robert"},{"$f":"[1]redraw!B25","v":"Brügmann"},{"$f":"[1]redraw!C25","v":"Germany"},{"$f":"[1]redraw!D25","v":650000},{"$f":"[1]redraw!E25","v":42},{"$f":"[1]redraw!F25","v":1}]
[25,{"$f":"[1]redraw!A26","v":"Asso"},null,{"$f":"[1]redraw!C26","v":"Germany"},{"$f":"[1]redraw!D26","v":615000},{"$f":"[1]redraw!E26","v":40},{"$f":"[1]redraw!F26","v":6}]