{"text_format":"2","workbook":"xlsx","n_sheets":4,"sheets":["Команда1","Команда2","Анализ","Отчет"],"not_rendered":{"charts":2,"images":0,"macros":0,"external_links":0,"defined_names":4,"comments":0,"pivot_tables":0},"unopened":[],"bounds":{"document_bytes":16777216,"sheet_cells":100000,"run_cost":"one","rows_first":2000,"rows_last":500,"rows_between":2000,"halvings":0,"cell_chars":16384,"cell_head_chars":4096},"cells_cut":0,"cells_raw":0,"read":"whole","date_system":"1900"}

{"sheet":"Команда1","index":0,"n_rows":30,"n_cols":47,"rows_kept":30,"cut":false,"hidden":false,"merged":[[1,0,1,1],[1,2,1,3],[0,34,0,37],[0,38,0,41],[0,13,0,19],[0,27,0,33],[0,20,0,26]]}
[{"$nulls":13},"Всего",{"$nulls":6},"Дома",{"$nulls":6},"В гостях",{"$nulls":6},"Забивают дома",null,null,null,"Забивают в гостях"]
["Команда-",null,{"$f":"IF(F3=F4,F3,IF(F3=G4,F3,G3))","v":0},null,null,"Команда1","Команда2","Голы1","Голы2","Где играла","Результат","Забито","Пропущено","Игр","В","Н","П","Забито","Пропущено","Очки","Игр","В","Н","П","Забито","Пропущено","Очки","Игр","В","Н","П","Забито","Пропущено","Очки",0,1,2,"3+",0,1,2,"3+","Забивают","Пропускают","Рейтинг","Серия","Тотал"]
[{"$nulls":5},{"$f":"B3","v":0},{"$f":"C3","v":0},{"$f":"VALUE(LEFT(D3,FIND(\":\",D3,1)-1))","v":{"$error":"#VALUE!"}},{"$f":"VALUE(LEFT(RIGHT(D3,LEN(D3)-FIND(\":\",D3,1)),1))","v":{"$error":"#VALUE!"}},{"$f":"IF(F3=$C$2,\"Дома\",\"В гостях\")","v":"Дома"},{"$f":"IF(J3=\"Дома\",IF(H3>I3,\"В\",IF(H3=I3,\"Н\",\"П\")),IF(H3<I3,\"В\",IF(H3=I3,\"Н\",\"П\")))","v":{"$error":"#VALUE!"}},{"$f":"IF(J3=\"Дома\",H3,I3)","v":{"$error":"#VALUE!"}},{"$f":"IF(J3=\"Дома\",I3,H3)","v":{"$error":"#VALUE!"}},1,{"$f":"IF(K3=\"В\",1,0)","v":{"$error":"#VALUE!"}},{"$f":"IF(K3=\"Н\",1,0)","v":{"$error":"#VALUE!"}},{"$f":"IF(K3=\"П\",1,0)","v":{"$error":"#VALUE!"}},{"$f":"L3","v":{"$error":"#VALUE!"}},{"$f":"M3","v":{"$error":"#VALUE!"}},{"$f":"O3*3+P3","v":{"$error":"#VALUE!"}},{"$f":"IF(J3=\"Дома\",1,0)","v":1},{"$f":"IF(J3=\"Дома\",IF(K3=\"В\",1,0),0)","v":{"$error":"#VALUE!"}},{"$f":"IF(J3=\"Дома\",IF(K3=\"Н\",1,0),0)","v":{"$error":"#VALUE!"}},{"$f":"IF(J3=\"Дома\",IF(K3=\"П\",1,0),0)","v":{"$error":"#VALUE!"}},{"$f":"IF(J3=\"Дома\",L3,0)","v":{"$error":"#VALUE!"}},{"$f":"IF(J3=\"Дома\",M3,0)","v":{"$error":"#VALUE!"}},{"$f":"V3*3+W3","v":{"$error":"#VALUE!"}},{"$f":"IF(J3<>\"Дома\",1,0)","v":0},{"$f":"IF(J3<>\"Дома\",IF(K3=\"В\",1,0),0)","v":0},{"$f":"IF(J3<>\"Дома\",IF(K3=\"Н\",1,0),0)","v":0},{"$f":"IF(J3<>\"Дома\",IF(K3=\"П\",1,0),0)","v":0},{"$f":"IF(J3<>\"Дома\",L3,0)","v":0},{"$f":"IF(J3<>\"Дома\",M3,0)","v":0},{"$f":"AC3*3+AD3","v":0},{"$f":"IF(J3=\"Дома\",IF(L3=0,1,0),0)","v":{"$error":"#VALUE!"}},{"$f":"IF(J3=\"Дома\",IF(L3=1,1,0),0)","v":{"$error":"#VALUE!"}},{"$f":"IF(J3=\"Дома\",IF(L3=2,1,0),0)","v":{"$error":"#VALUE!"}},{"$f":"IF(J3=\"Дома\",IF(L3>=3,1,0),0)","v":{"$error":"#VALUE!"}},{"$f":"IF(J3<>\"Дома\",IF(L3=0,1,0),0)","v":0},{"$f":"IF(J3<>\"Дома\",IF(L3=1,1,0),0)","v":0},{"$f":"IF(J3<>\"Дома\",IF(L3=2,1,0),0)","v":0},{"$f":"IF(J3<>\"Дома\",IF(L3>=3,1,0),0)","v":0},{"$f":"R3/N3","v":{"$error":"#VALUE!"}},{"$f":"S3/N3","v":{"$error":"#VALUE!"}},{"$f":"(AA3/IF(U3<1,1,U3)+AH3/IF(AB3<1,1,AB3)*1.5+Y3/IF(U3<1,1,U3)+AF3/IF(AB3<1,1,AB3)*1.5-Z3/IF(U3<1,1,U3)*1.5-AG3/IF(AB3<1,1,AB3))/15","v":{"$error":"#VALUE!"}},{"$f":"IF(J3=\"Дома\",IF(K3=\"В\",\"В\",IF(K3=\"Н\",\"Н\",\"П\")),\"\")","v":{"$error":"#VALUE!"}},{"$f":"IF(J3=\"Дома\",L3+M3,\"\")","v":{"$error":"#VALUE!"}}]
[{"$nulls":5},0,0,{"$error":"#VALUE!"},{"$error":"#VALUE!"},"Дома",{"$error":"#VALUE!"},{"$error":"#VALUE!"},{"$error":"#VALUE!"},{"$f":"N3+1","v":2},{"$f":"IF(K4=\"В\",O3+1,O3+0)","v":{"$error":"#VALUE!"}},{"$f":"IF(K4=\"Н\",P3+1,P3+0)","v":{"$error":"#VALUE!"}},{"$f":"IF(K4=\"П\",Q3+1,Q3+0)","v":{"$error":"#VALUE!"}},{"$f":"L4+R3","v":{"$error":"#VALUE!"}},{"$f":"M4+S3","v":{"$error":"#VALUE!"}},{"$error":"#VALUE!"},{"$f":"IF(J4=\"Дома\",U3+1,U3+0)","v":2},{"$f":"IF(J4=\"Дома\",IF(K4=\"В\",V3+1,V3+0),V3+0)","v":{"$error":"#VALUE!"}},{"$f":"IF(J4=\"Дома\",IF(K4=\"Н\",W3+1,W3+0),W3+0)","v":{"$error":"#VALUE!"}},{"$f":"IF(J4=\"Дома\",IF(K4=\"П\",X3+1,X3+0),X3+0)","v":{"$error":"#VALUE!"}},{"$f":"IF(J4=\"Дома\",Y3+L4,Y3+0)","v":{"$error":"#VALUE!"}},{"$f":"IF(J4=\"Дома\",Z3+M4,Z3+0)","v":{"$error":"#VALUE!"}},{"$error":"#VALUE!"},{"$f":"IF(J4<>\"Дома\",AB3+1,AB3+0)","v":0},{"$f":"IF(J4<>\"Дома\",IF(K4=\"В\",AC3+1,AC3+0),AC3+0)","v":0},{"$f":"IF(J4<>\"Дома\",IF(K4=\"Н\",AD3+1,AD3+0),AD3+0)","v":0},{"$f":"IF(J4<>\"Дома\",IF(K4=\"П\",AE3+1,AE3+0),AE3+0)","v":0},{"$f":"IF(J4<>\"Дома\",AF3+L4,AF3+0)","v":0},{"$f":"IF(J4<>\"Дома\",AG3+M4,AG3+0)","v":0},0,{"$f":"IF(J4=\"Дома\",IF(L4=0,AI3+1,AI3),AI3)","v":{"$error":"#VALUE!"}},{"$f":"IF(J4=\"Дома\",IF(L4=1,AJ3+1,AJ3),AJ3)","v":{"$error":"#VALUE!"}},{"$f":"IF(J4=\"Дома\",IF(L4=2,AK3+1,AK3),AK3)","v":{"$error":"#VALUE!"}},{"$f":"IF(J4=\"Дома\",IF(L4>=3,AL3+1,AL3),AL3)","v":{"$error":"#VALUE!"}},{"$f":"IF(J4<>\"Дома\",IF(L4=0,AM3+1,AM3),AM3)","v":0},{"$f":"IF(J4<>\"Дома\",IF(L4=1,AN3+1,AN3),AN3)","v":0},{"$f":"IF(J4<>\"Дома\",IF(L4=2,AO3+1,AO3),AO3)","v":0},{"$f":"IF(J4<>\"Дома\",IF(L4>=3,AP3+1,AP3),AP3)","v":0},{"$error":"#VALUE!"},{"$error":"#VALUE!"},{"$f":"(AA4/IF(U4<1,1,U4)+AH4/IF(AB4<1,1,AB4)*1.5+Y4/IF(U4<1,1,U4)+AF4/IF(AB4<1,1,AB4)*1.5-Z4/IF(U4<1,1,U4)*1.5-AG4/IF(AB4<1,1,AB4))/15","v":{"$error":"#VALUE!"}},{"$error":"#VALUE!"},{"$error":"#VALUE!"}]
[{"$nulls":5},0,0,{"$error":"#VALUE!"},{"$error":"#VALUE!"},"Дома",{"$error":"#VALUE!"},{"$error":"#VALUE!"},{"$error":"#VALUE!"},3,{"$error":"#VALUE!"},{"$error":"#VALUE!"},{"$error":"#VALUE!"},{"$error":"#VALUE!"},{"$error":"#VALUE!"},{"$error":"#VALUE!"},3,{"$error":"#VALUE!"},{"$error":"#VALUE!"},{"$error":"#VALUE!"},{"$error":"#VALUE!"},{"$error":"#VALUE!"},{"$error":"#VALUE!"},0,0,0,0,0,0,0,{"$error":"#VALUE!"},{"$error":"#VALUE!"},{"$error":"#VALUE!"},{"$error":"#VALUE!"},0,0,0,0,{"$error":"#VALUE!"},{"$error":"#VALUE!"},{"$f":"(AA5/IF(U5<1,1,U5)+AH5/IF(AB5<1,1,AB5)*1.5+Y5/IF(U5<1,1,U5)+AF5/IF(AB5<1,1,AB5)*1.5-Z5/IF(U5<1,1,U5)*1.5-AG5/IF(AB5<1,1,AB5))/15","v":{"$error":"#VALUE!"}},{"$error":"#VALUE!"},{"$error":"#VALUE!"}]
[{"$nulls":5},0,0,{"$error":"#VALUE!"},{"$error":"#VALUE!"},"Дома",{"$error":"#VALUE!"},{"$error":"#VALUE!"},{"$error":"#VALUE!"},4,{"$error":"#VALUE!"},{"$error":"#VALUE!"},{"$error":"#VALUE!"},{"$error":"#VALUE!"},{"$error":"#VALUE!"},{"$error":"#VALUE!"},4,{"$error":"#VALUE!"},{"$error":"#VALUE!"},{"$error":"#VALUE!"},{"$error":"#VALUE!"},{"$error":"#VALUE!"},{"$error":"#VALUE!"},0,0,0,0,0,0,0,{"$error":"#VALUE!"},{"$error":"#VALUE!"},{"$error":"#VALUE!"},{"$error":"#VALUE!"},0,0,0,0,{"$error":"#VALUE!"},{"$error":"#VALUE!"},{"$error":"#VALUE!"},{"$error":"#VALUE!"},{"$error":"#VALUE!"}]
[{"$nulls":5},0,0,{"$error":"#VALUE!"},{"$error":"#VALUE!"},"Дома",{"$error":"#VALUE!"},{"$error":"#VALUE!"},{"$error":"#VALUE!"},5,{"$error":"#VALUE!"},{"$error":"#VALUE!"},{"$error":"#VALUE!"},{"$error":"#VALUE!"},{"$error":"#VALUE!"},{"$error":"#VALUE!"},5,{"$error":"#VALUE!"},{"$error":"#VALUE!"},{"$error":"#VALUE!"},{"$error":"#VALUE!"},{"$error":"#VALUE!"},{"$error":"#VALUE!"},0,0,0,0,0,0,0,{"$error":"#VALUE!"},{"$error":"#VALUE!"},{"$error":"#VALUE!"},{"$error":"#VALUE!"},0,0,0,0,{"$error":"#VALUE!"},{"$error":"#VALUE!"},{"$error":"#VALUE!"},{"$error":"#VALUE!"},{"$error":"#VALUE!"}]
[{"$nulls":5},0,0,{"$error":"#VALUE!"},{"$error":"#VALUE!"},"Дома",{"$error":"#VALUE!"},{"$error":"#VALUE!"},{"$error":"#VALUE!"},6,{"$error":"#VALUE!"},{"$error":"#VALUE!"},{"$error":"#VALUE!"},{"$error":"#VALUE!"},{"$error":"#VALUE!"},{"$error":"#VALUE!"},6,{"$error":"#VALUE!"},{"$error":"#VALUE!"},{"$error":"#VALUE!"},{"$error":"#VALUE!"},{"$error":"#VALUE!"},{"$error":"#VALUE!"},0,0,0,0,0,0,0,{"$error":"#VALUE!"},{"$error":"#VALUE!"},{"$error":"#VALUE!"},{"$error":"#VALUE!"},0,0,0,0,{"$error":"#VALUE!"},{"$error":"#VALUE!"},{"$error":"#VALUE!"},{"$error":"#VALUE!"},{"$error":"#VALUE!"}]
[{"$nulls":5},0,0,{"$error":"#VALUE!"},{"$error":"#VALUE!"},"Дома",{"$error":"#VALUE!"},{"$error":"#VALUE!"},{"$error":"#VALUE!"},7,{"$error":"#VALUE!"},{"$error":"#VALUE!"},{"$error":"#VALUE!"},{"$error":"#VALUE!"},{"$error":"#VALUE!"},{"$error":"#VALUE!"},7,{"$error":"#VALUE!"},{"$error":"#VALUE!"},{"$error":"#VALUE!"},{"$error":"#VALUE!"},{"$error":"#VALUE!"},{"$error":"#VALUE!"},0,0,0,0,0,0,0,{"$error":"#VALUE!"},{"$error":"#VALUE!"},{"$error":"#VALUE!"},{"$error":"#VALUE!"},0,0,0,0,{"$error":"#VALUE!"},{"$error":"#VALUE!"},{"$error":"#VALUE!"},{"$error":"#VALUE!"},{"$error":"#VALUE!"}]
[{"$nulls":5},0,0,{"$error":"#VALUE!"},{"$error":"#VALUE!"},"Дома",{"$error":"#VALUE!"},{"$error":"#VALUE!"},{"$error":"#VALUE!"},8,{"$error":"#VALUE!"},{"$error":"#VALUE!"},{"$error":"#VALUE!"},{"$error":"#VALUE!"},{"$error":"#VALUE!"},{"$error":"#VALUE!"},8,{"$error":"#VALUE!"},{"$error":"#VALUE!"},{"$error":"#VALUE!"},{"$error":"#VALUE!"},{"$error":"#VALUE!"},{"$error":"#VALUE!"},0,0,0,0,0,0,0,{"$error":"#VALUE!"},{"$error":"#VALUE!"},{"$error":"#VALUE!"},{"$error":"#VALUE!"},0,0,0,0,{"$error":"#VALUE!"},{"$error":"#VALUE!"},{"$error":"#VALUE!"},{"$error":"#VALUE!"},{"$error":"#VALUE!"}]
[{"$nulls":5},0,0,{"$error":"#VALUE!"},{"$error":"#VALUE!"},"Дома",{"$error":"#VALUE!"},{"$error":"#VALUE!"},{"$error":"#VALUE!"},9,{"$error":"#VALUE!"},{"$error":"#VALUE!"},{"$error":"#VALUE!"},{"$error":"#VALUE!"},{"$error":"#VALUE!"},{"$error":"#VALUE!"},9,{"$error":"#VALUE!"},{"$error":"#VALUE!"},{"$error":"#VALUE!"},{"$error":"#VALUE!"},{"$error":"#VALUE!"},{"$error":"#VALUE!"},0,0,0,0,0,0,0,{"$error":"#VALUE!"},{"$error":"#VALUE!"},{"$error":"#VALUE!"},{"$error":"#VALUE!"},0,0,0,0,{"$error":"#VALUE!"},{"$error":"#VALUE!"},{"$error":"#VALUE!"},{"$error":"#VALUE!"},{"$error":"#VALUE!"}]
[{"$nulls":5},0,0,{"$error":"#VALUE!"},{"$error":"#VALUE!"},"Дома",{"$error":"#VALUE!"},{"$error":"#VALUE!"},{"$error":"#VALUE!"},10,{"$error":"#VALUE!"},{"$error":"#VALUE!"},{"$error":"#VALUE!"},{"$error":"#VALUE!"},{"$error":"#VALUE!"},{"$error":"#VALUE!"},10,{"$error":"#VALUE!"},{"$error":"#VALUE!"},{"$error":"#VALUE!"},{"$error":"#VALUE!"},{"$error":"#VALUE!"},{"$error":"#VALUE!"},0,0,0,0,0,0,0,{"$error":"#VALUE!"},{"$error":"#VALUE!"},{"$error":"#VALUE!"},{"$error":"#VALUE!"},0,0,0,0,{"$error":"#VALUE!"},{"$error":"#VALUE!"},{"$error":"#VALUE!"},{"$error":"#VALUE!"},{"$error":"#VALUE!"}]
["13.04.2014","Квинсленд Лайонс","Норт Стар","3:3",null,"Квинсленд Лайонс","Норт Стар",3,3,"В гостях","Н",3,3,11,{"$error":"#VALUE!"},{"$error":"#VALUE!"},{"$error":"#VALUE!"},{"$error":"#VALUE!"},{"$error":"#VALUE!"},{"$error":"#VALUE!"},10,{"$error":"#VALUE!"},{"$error":"#VALUE!"},{"$error":"#VALUE!"},{"$error":"#VALUE!"},{"$error":"#VALUE!"},{"$error":"#VALUE!"},1,0,1,0,3,3,1,{"$error":"#VALUE!"},{"$error":"#VALUE!"},{"$error":"#VALUE!"},{"$error":"#VALUE!"},0,0,0,1,{"$error":"#VALUE!"},{"$error":"#VALUE!"},{"$error":"#VALUE!"},""]
["05.04.2014","Норт Стар","Истерн Сабербс","0:6",null,"Норт Стар","Истерн Сабербс",0,6,"В гостях","В",6,0,12,{"$error":"#VALUE!"},{"$error":"#VALUE!"},{"$error":"#VALUE!"},{"$error":"#VALUE!"},{"$error":"#VALUE!"},{"$error":"#VALUE!"},10,{"$error":"#VALUE!"},{"$error":"#VALUE!"},{"$error":"#VALUE!"},{"$error":"#VALUE!"},{"$error":"#VALUE!"},{"$error":"#VALUE!"},2,1,1,0,9,3,4,{"$error":"#VALUE!"},{"$error":"#VALUE!"},{"$error":"#VALUE!"},{"$error":"#VALUE!"},0,0,0,2,{"$error":"#VALUE!"},{"$error":"#VALUE!"},{"$error":"#VALUE!"},""]
["29.06.2011","БАТЭ","Шахтер С","2:2",null,"БАТЭ","Шахтер С",2,2,"В гостях","Н",2,2,13,{"$error":"#VALUE!"},{"$error":"#VALUE!"},{"$error":"#VALUE!"},{"$error":"#VALUE!"},{"$error":"#VALUE!"},{"$error":"#VALUE!"},10,{"$error":"#VALUE!"},{"$error":"#VALUE!"},{"$error":"#VALUE!"},{"$error":"#VALUE!"},{"$error":"#VALUE!"},{"$error":"#VALUE!"},3,1,2,0,11,5,5,{"$error":"#VALUE!"},{"$error":"#VALUE!"},{"$error":"#VALUE!"},{"$error":"#VALUE!"},0,0,1,2,{"$error":"#VALUE!"},{"$error":"#VALUE!"},{"$error":"#VALUE!"},""]
["24.06.2011","Динамо Минск","БАТЭ","2:0",null,"Динамо Минск","БАТЭ",2,0,"В гостях","П",0,2,14,{"$error":"#VALUE!"},{"$error":"#VALUE!"},{"$error":"#VALUE!"},{"$error":"#VALUE!"},{"$error":"#VALUE!"},{"$error":"#VALUE!"},10,{"$error":"#VALUE!"},{"$error":"#VALUE!"},{"$error":"#VALUE!"},{"$error":"#VALUE!"},{"$error":"#VALUE!"},{"$error":"#VALUE!"},4,1,2,1,11,7,5,{"$error":"#VALUE!"},{"$error":"#VALUE!"},{"$error":"#VALUE!"},{"$error":"#VALUE!"},1,0,1,2,{"$error":"#VALUE!"},{"$error":"#VALUE!"},{"$error":"#VALUE!"},""]
["19.06.2011","БАТЭ","Днепр Мог","5:0",null,"БАТЭ","Днепр Мог",5,0,"В гостях","П",0,5,15,{"$error":"#VALUE!"},{"$error":"#VALUE!"},{"$error":"#VALUE!"},{"$error":"#VALUE!"},{"$error":"#VALUE!"},{"$error":"#VALUE!"},10,{"$error":"#VALUE!"},{"$error":"#VALUE!"},{"$error":"#VALUE!"},{"$error":"#VALUE!"},{"$error":"#VALUE!"},{"$error":"#VALUE!"},5,1,2,2,11,12,5,{"$error":"#VALUE!"},{"$error":"#VALUE!"},{"$error":"#VALUE!"},{"$error":"#VALUE!"},2,0,1,2,{"$error":"#VALUE!"},{"$error":"#VALUE!"},{"$error":"#VALUE!"},""]
["12.06.2011","Нафтан","БАТЭ","0:2",null,"Нафтан","БАТЭ",0,2,"В гостях","В",2,0,16,{"$error":"#VALUE!"},{"$error":"#VALUE!"},{"$error":"#VALUE!"},{"$error":"#VALUE!"},{"$error":"#VALUE!"},{"$error":"#VALUE!"},10,{"$error":"#VALUE!"},{"$error":"#VALUE!"},{"$error":"#VALUE!"},{"$error":"#VALUE!"},{"$error":"#VALUE!"},{"$error":"#VALUE!"},6,2,2,2,13,12,8,{"$error":"#VALUE!"},{"$error":"#VALUE!"},{"$error":"#VALUE!"},{"$error":"#VALUE!"},2,0,2,2,{"$error":"#VALUE!"},{"$error":"#VALUE!"},{"$error":"#VALUE!"},""]
["25.05.2011","Неман Гродно","БАТЭ","0:3",null,"Неман Гродно","БАТЭ",0,3,"В гостях","В",3,0,17,{"$error":"#VALUE!"},{"$error":"#VALUE!"},{"$error":"#VALUE!"},{"$error":"#VALUE!"},{"$error":"#VALUE!"},{"$error":"#VALUE!"},10,{"$error":"#VALUE!"},{"$error":"#VALUE!"},{"$error":"#VALUE!"},{"$error":"#VALUE!"},{"$error":"#VALUE!"},{"$error":"#VALUE!"},7,3,2,2,16,12,11,{"$error":"#VALUE!"},{"$error":"#VALUE!"},{"$error":"#VALUE!"},{"$error":"#VALUE!"},2,0,2,3,{"$error":"#VALUE!"},{"$error":"#VALUE!"},{"$error":"#VALUE!"},""]
["21.05.2011","Гомель","БАТЭ","0:0",null,"Гомель","БАТЭ",0,0,"В гостях","Н",0,0,18,{"$error":"#VALUE!"},{"$error":"#VALUE!"},{"$error":"#VALUE!"},{"$error":"#VALUE!"},{"$error":"#VALUE!"},{"$error":"#VALUE!"},10,{"$error":"#VALUE!"},{"$error":"#VALUE!"},{"$error":"#VALUE!"},{"$error":"#VALUE!"},{"$error":"#VALUE!"},{"$error":"#VALUE!"},8,3,3,2,16,12,12,{"$error":"#VALUE!"},{"$error":"#VALUE!"},{"$error":"#VALUE!"},{"$error":"#VALUE!"},3,0,2,3,{"$error":"#VALUE!"},{"$error":"#VALUE!"},{"$error":"#VALUE!"},""]
["15.05.2011","БАТЭ","Минск","1:1",null,"БАТЭ","Минск",1,1,"В гостях","Н",1,1,19,{"$error":"#VALUE!"},{"$error":"#VALUE!"},{"$error":"#VALUE!"},{"$error":"#VALUE!"},{"$error":"#VALUE!"},{"$error":"#VALUE!"},10,{"$error":"#VALUE!"},{"$error":"#VALUE!"},{"$error":"#VALUE!"},{"$error":"#VALUE!"},{"$error":"#VALUE!"},{"$error":"#VALUE!"},9,3,4,2,17,13,13,{"$error":"#VALUE!"},{"$error":"#VALUE!"},{"$error":"#VALUE!"},{"$error":"#VALUE!"},3,1,2,3,{"$error":"#VALUE!"},{"$error":"#VALUE!"},{"$error":"#VALUE!"},""]
["11.05.2011","Белшина","БАТЭ","0:2",null,"Белшина","БАТЭ",0,2,"В гостях","В",2,0,20,{"$error":"#VALUE!"},{"$error":"#VALUE!"},{"$error":"#VALUE!"},{"$error":"#VALUE!"},{"$error":"#VALUE!"},{"$error":"#VALUE!"},10,{"$error":"#VALUE!"},{"$error":"#VALUE!"},{"$error":"#VALUE!"},{"$error":"#VALUE!"},{"$error":"#VALUE!"},{"$error":"#VALUE!"},10,4,4,2,19,13,16,{"$error":"#VALUE!"},{"$error":"#VALUE!"},{"$error":"#VALUE!"},{"$error":"#VALUE!"},3,1,3,3,{"$error":"#VALUE!"},{"$error":"#VALUE!"},{"$error":"#VALUE!"},""]
["07.05.2011","БАТЭ","Витебск","4:1"]
["30.04.2011","Шахтер С","БАТЭ","0:2"]
["23.04.2011","БАТЭ","Торпедо Жодино","1:0"]
["19.04.2011","Динамо Брест","БАТЭ","0:3"]
["15.04.2011","БАТЭ","Динамо Минск","1:0"]
["10.04.2011","Днепр Мог","БАТЭ","1:1"]
["2011-04-06","БАТЭ","Нафтан","01:00:00"]
["2011-04-02","БАТЭ","Неман Гродно","01:01:00"]

{"sheet":"Команда2","index":1,"n_rows":29,"n_cols":47,"rows_kept":29,"cut":false,"hidden":false,"merged":[[1,0,1,1],[1,2,1,3],[0,38,0,41],[0,0,0,12],[0,13,0,19],[0,20,0,26],[0,27,0,33],[0,34,0,37]]}
[{"$nulls":13},"Всего",{"$nulls":6},"Дома",{"$nulls":6},"В гостях",{"$nulls":6},"Забивают дома",null,null,null,"Забивают в гостях"]
["Команда-",null,{"$f":"IF(F3=F4,F3,IF(F3=G4,F3,G3))","v":0},null,null,"Команда1","Команда2","Голы1","Голы2","Где играла","Результат","Забито","Пропущено","Игр","В","Н","П","Забито","Пропущено","Очки","Игр","В","Н","П","Забито","Пропущено","Очки","Игр","В","Н","П","Забито","Пропущено","Очки",0,1,2,"3+",0,1,2,"3+","Забивают","Пропускают","Рейтинг","Серия","Забив"]
[{"$nulls":5},{"$f":"B3","v":0},{"$f":"C3","v":0},{"$f":"VALUE(LEFT(D3,FIND(\":\",D3,1)-1))","v":{"$error":"#VALUE!"}},{"$f":"VALUE(LEFT(RIGHT(D3,LEN(D3)-FIND(\":\",D3,1)),1))","v":{"$error":"#VALUE!"}},{"$f":"IF(F3=$C$2,\"Дома\",\"В гостях\")","v":"Дома"},{"$f":"IF(J3=\"Дома\",IF(H3>I3,\"В\",IF(H3=I3,\"Н\",\"П\")),IF(H3<I3,\"В\",IF(H3=I3,\"Н\",\"П\")))","v":{"$error":"#VALUE!"}},{"$f":"IF(J3=\"Дома\",H3,I3)","v":{"$error":"#VALUE!"}},{"$f":"IF(J3=\"Дома\",I3,H3)","v":{"$error":"#VALUE!"}},1,{"$f":"IF(K3=\"В\",1,0)","v":{"$error":"#VALUE!"}},{"$f":"IF(K3=\"Н\",1,0)","v":{"$error":"#VALUE!"}},{"$f":"IF(K3=\"П\",1,0)","v":{"$error":"#VALUE!"}},{"$f":"L3","v":{"$error":"#VALUE!"}},{"$f":"M3","v":{"$error":"#VALUE!"}},{"$f":"O3*3+P3","v":{"$error":"#VALUE!"}},{"$f":"IF(J3=\"Дома\",1,0)","v":1},{"$f":"IF(J3=\"Дома\",IF(K3=\"В\",1,0),0)","v":{"$error":"#VALUE!"}},{"$f":"IF(J3=\"Дома\",IF(K3=\"Н\",1,0),0)","v":{"$error":"#VALUE!"}},{"$f":"IF(J3=\"Дома\",IF(K3=\"П\",1,0),0)","v":{"$error":"#VALUE!"}},{"$f":"IF(J3=\"Дома\",L3,0)","v":{"$error":"#VALUE!"}},{"$f":"IF(J3=\"Дома\",M3,0)","v":{"$error":"#VALUE!"}},{"$f":"V3*3+W3","v":{"$error":"#VALUE!"}},{"$f":"IF(J3<>\"Дома\",1,0)","v":0},{"$f":"IF(J3<>\"Дома\",IF(K3=\"В\",1,0),0)","v":0},{"$f":"IF(J3<>\"Дома\",IF(K3=\"Н\",1,0),0)","v":0},{"$f":"IF(J3<>\"Дома\",IF(K3=\"П\",1,0),0)","v":0},{"$f":"IF(J3<>\"Дома\",L3,0)","v":0},{"$f":"IF(J3<>\"Дома\",M3,0)","v":0},{"$f":"AC3*3+AD3","v":0},{"$f":"IF(J3=\"Дома\",IF(L3=0,1,0),0)","v":{"$error":"#VALUE!"}},{"$f":"IF(J3=\"Дома\",IF(L3=1,1,0),0)","v":{"$error":"#VALUE!"}},{"$f":"IF(J3=\"Дома\",IF(L3=2,1,0),0)","v":{"$error":"#VALUE!"}},{"$f":"IF(J3=\"Дома\",IF(L3>=3,1,0),0)","v":{"$error":"#VALUE!"}},{"$f":"IF(J3<>\"Дома\",IF(L3=0,1,0),0)","v":0},{"$f":"IF(J3<>\"Дома\",IF(L3=1,1,0),0)","v":0},{"$f":"IF(J3<>\"Дома\",IF(L3=2,1,0),0)","v":0},{"$f":"IF(J3<>\"Дома\",IF(L3>=3,1,0),0)","v":0},{"$f":"R3/N3","v":{"$error":"#VALUE!"}},{"$f":"S3/N3","v":{"$error":"#VALUE!"}},{"$f":"(AA3/IF(U3<1,1,U3)+AH3/IF(AB3<1,1,AB3)*1.5+Y3/IF(U3<1,1,U3)+AF3/IF(AB3<1,1,AB3)*1.5-Z3/IF(U3<1,1,U3)*1.5-AG3/IF(AB3<1,1,AB3))/15","v":{"$error":"#VALUE!"}},{"$f":"IF(J3=\"В гостях\",IF(K3=\"В\",\"В\",IF(K3=\"Н\",\"Н\",\"П\")),\"\")","v":""},{"$f":"IF(J3<>\"Дома\",L3+M3,\"\")","v":""}]
[{"$nulls":5},0,0,{"$error":"#VALUE!"},{"$error":"#VALUE!"},{"$f":"IF(F4=$C$2,\"Дома\",\"В гостях\")","v":"Дома"},{"$error":"#VALUE!"},{"$error":"#VALUE!"},{"$error":"#VALUE!"},{"$f":"N3+1","v":2},{"$f":"IF(K4=\"В\",O3+1,O3+0)","v":{"$error":"#VALUE!"}},{"$f":"IF(K4=\"Н\",P3+1,P3+0)","v":{"$error":"#VALUE!"}},{"$f":"IF(K4=\"П\",Q3+1,Q3+0)","v":{"$error":"#VALUE!"}},{"$f":"L4+R3","v":{"$error":"#VALUE!"}},{"$error":"#VALUE!"},{"$error":"#VALUE!"},{"$f":"IF(J4=\"Дома\",U3+1,U3+0)","v":2},{"$f":"IF(J4=\"Дома\",IF(K4=\"В\",V3+1,V3+0),V3+0)","v":{"$error":"#VALUE!"}},{"$f":"IF(J4=\"Дома\",IF(K4=\"Н\",W3+1,W3+0),W3+0)","v":{"$error":"#VALUE!"}},{"$f":"IF(J4=\"Дома\",IF(K4=\"П\",X3+1,X3+0),X3+0)","v":{"$error":"#VALUE!"}},{"$f":"IF(J4=\"Дома\",Y3+L4,Y3+0)","v":{"$error":"#VALUE!"}},{"$f":"IF(J4=\"Дома\",Z3+M4,Z3+0)","v":{"$error":"#VALUE!"}},{"$error":"#VALUE!"},{"$f":"IF(J4<>\"Дома\",AB3+1,AB3+0)","v":0},{"$f":"IF(J4<>\"Дома\",IF(K4=\"В\",AC3+1,AC3+0),AC3+0)","v":0},{"$f":"IF(J4<>\"Дома\",IF(K4=\"Н\",AD3+1,AD3+0),AD3+0)","v":0},{"$f":"IF(J4<>\"Дома\",IF(K4=\"П\",AE3+1,AE3+0),AE3+0)","v":0},{"$f":"IF(J4<>\"Дома\",AF3+L4,AF3+0)","v":0},{"$f":"IF(J4<>\"Дома\",AG3+M4,AG3+0)","v":0},0,{"$f":"IF(J4=\"Дома\",IF(L4=0,AI3+1,AI3),AI3)","v":{"$error":"#VALUE!"}},{"$f":"IF(J4=\"Дома\",IF(L4=1,AJ3+1,AJ3),AJ3)","v":{"$error":"#VALUE!"}},{"$f":"IF(J4=\"Дома\",IF(L4=2,AK3+1,AK3),AK3)","v":{"$error":"#VALUE!"}},{"$f":"IF(J4=\"Дома\",IF(L4>=3,AL3+1,AL3),AL3)","v":{"$error":"#VALUE!"}},{"$f":"IF(J4<>\"Дома\",IF(L4=0,AM3+1,AM3),AM3)","v":0},{"$f":"IF(J4<>\"Дома\",IF(L4=1,AN3+1,AN3),AN3)","v":0},{"$f":"IF(J4<>\"Дома\",IF(L4=2,AO3+1,AO3),AO3)","v":0},{"$f":"IF(J4<>\"Дома\",IF(L4>=3,AP3+1,AP3),AP3)","v":0},{"$error":"#VALUE!"},{"$f":"S4/N4","v":{"$error":"#VALUE!"}},{"$f":"(AA4/IF(U4<1,1,U4)+AH4/IF(AB4<1,1,AB4)*1.5+Y4/IF(U4<1,1,U4)+AF4/IF(AB4<1,1,AB4)*1.5-Z4/IF(U4<1,1,U4)*1.5-AG4/IF(AB4<1,1,AB4))/15","v":{"$error":"#VALUE!"}},"",""]
[{"$nulls":5},0,0,{"$error":"#VALUE!"},{"$error":"#VALUE!"},"Дома",{"$error":"#VALUE!"},{"$error":"#VALUE!"},{"$error":"#VALUE!"},3,{"$error":"#VALUE!"},{"$error":"#VALUE!"},{"$error":"#VALUE!"},{"$error":"#VALUE!"},{"$error":"#VALUE!"},{"$error":"#VALUE!"},3,{"$error":"#VALUE!"},{"$error":"#VALUE!"},{"$error":"#VALUE!"},{"$error":"#VALUE!"},{"$error":"#VALUE!"},{"$error":"#VALUE!"},0,0,0,0,0,0,0,{"$error":"#VALUE!"},{"$error":"#VALUE!"},{"$error":"#VALUE!"},{"$error":"#VALUE!"},0,0,0,0,{"$error":"#VALUE!"},{"$error":"#VALUE!"},{"$error":"#VALUE!"},"",""]
[{"$nulls":5},0,0,{"$error":"#VALUE!"},{"$error":"#VALUE!"},"Дома",{"$error":"#VALUE!"},{"$error":"#VALUE!"},{"$error":"#VALUE!"},4,{"$error":"#VALUE!"},{"$error":"#VALUE!"},{"$error":"#VALUE!"},{"$error":"#VALUE!"},{"$error":"#VALUE!"},{"$error":"#VALUE!"},4,{"$error":"#VALUE!"},{"$error":"#VALUE!"},{"$error":"#VALUE!"},{"$error":"#VALUE!"},{"$error":"#VALUE!"},{"$error":"#VALUE!"},0,0,0,0,0,0,0,{"$error":"#VALUE!"},{"$error":"#VALUE!"},{"$error":"#VALUE!"},{"$error":"#VALUE!"},0,0,0,0,{"$error":"#VALUE!"},{"$error":"#VALUE!"},{"$error":"#VALUE!"},"",""]
[{"$nulls":5},0,0,{"$error":"#VALUE!"},{"$error":"#VALUE!"},"Дома",{"$error":"#VALUE!"},{"$error":"#VALUE!"},{"$error":"#VALUE!"},5,{"$error":"#VALUE!"},{"$error":"#VALUE!"},{"$error":"#VALUE!"},{"$error":"#VALUE!"},{"$error":"#VALUE!"},{"$error":"#VALUE!"},5,{"$error":"#VALUE!"},{"$error":"#VALUE!"},{"$error":"#VALUE!"},{"$error":"#VALUE!"},{"$error":"#VALUE!"},{"$error":"#VALUE!"},0,0,0,0,0,0,0,{"$error":"#VALUE!"},{"$error":"#VALUE!"},{"$error":"#VALUE!"},{"$error":"#VALUE!"},0,0,0,0,{"$error":"#VALUE!"},{"$error":"#VALUE!"},{"$error":"#VALUE!"},"",""]
[{"$nulls":5},0,0,{"$error":"#VALUE!"},{"$error":"#VALUE!"},"Дома",{"$error":"#VALUE!"},{"$error":"#VALUE!"},{"$error":"#VALUE!"},6,{"$error":"#VALUE!"},{"$error":"#VALUE!"},{"$error":"#VALUE!"},{"$error":"#VALUE!"},{"$error":"#VALUE!"},{"$error":"#VALUE!"},6,{"$error":"#VALUE!"},{"$error":"#VALUE!"},{"$error":"#VALUE!"},{"$error":"#VALUE!"},{"$error":"#VALUE!"},{"$error":"#VALUE!"},0,0,0,0,0,0,0,{"$error":"#VALUE!"},{"$error":"#VALUE!"},{"$error":"#VALUE!"},{"$error":"#VALUE!"},0,0,0,0,{"$error":"#VALUE!"},{"$error":"#VALUE!"},{"$error":"#VALUE!"},"",""]
[{"$nulls":5},0,0,{"$error":"#VALUE!"},{"$error":"#VALUE!"},"Дома",{"$error":"#VALUE!"},{"$error":"#VALUE!"},{"$error":"#VALUE!"},7,{"$error":"#VALUE!"},{"$error":"#VALUE!"},{"$error":"#VALUE!"},{"$error":"#VALUE!"},{"$error":"#VALUE!"},{"$error":"#VALUE!"},7,{"$error":"#VALUE!"},{"$error":"#VALUE!"},{"$error":"#VALUE!"},{"$error":"#VALUE!"},{"$error":"#VALUE!"},{"$error":"#VALUE!"},0,0,0,0,0,0,0,{"$error":"#VALUE!"},{"$error":"#VALUE!"},{"$error":"#VALUE!"},{"$error":"#VALUE!"},0,0,0,0,{"$error":"#VALUE!"},{"$error":"#VALUE!"},{"$error":"#VALUE!"},"",""]
[{"$nulls":5},0,0,{"$error":"#VALUE!"},{"$error":"#VALUE!"},"Дома",{"$error":"#VALUE!"},{"$error":"#VALUE!"},{"$error":"#VALUE!"},8,{"$error":"#VALUE!"},{"$error":"#VALUE!"},{"$error":"#VALUE!"},{"$error":"#VALUE!"},{"$error":"#VALUE!"},{"$error":"#VALUE!"},8,{"$error":"#VALUE!"},{"$error":"#VALUE!"},{"$error":"#VALUE!"},{"$error":"#VALUE!"},{"$error":"#VALUE!"},{"$error":"#VALUE!"},0,0,0,0,0,0,0,{"$error":"#VALUE!"},{"$error":"#VALUE!"},{"$error":"#VALUE!"},{"$error":"#VALUE!"},0,0,0,0,{"$error":"#VALUE!"},{"$error":"#VALUE!"},{"$error":"#VALUE!"},"",""]
[{"$nulls":5},0,0,{"$error":"#VALUE!"},{"$error":"#VALUE!"},"Дома",{"$error":"#VALUE!"},{"$error":"#VALUE!"},{"$error":"#VALUE!"},9,{"$error":"#VALUE!"},{"$error":"#VALUE!"},{"$error":"#VALUE!"},{"$error":"#VALUE!"},{"$error":"#VALUE!"},{"$error":"#VALUE!"},9,{"$error":"#VALUE!"},{"$error":"#VALUE!"},{"$error":"#VALUE!"},{"$error":"#VALUE!"},{"$error":"#VALUE!"},{"$error":"#VALUE!"},0,0,0,0,0,0,0,{"$error":"#VALUE!"},{"$error":"#VALUE!"},{"$error":"#VALUE!"},{"$error":"#VALUE!"},0,0,0,0,{"$error":"#VALUE!"},{"$error":"#VALUE!"},{"$error":"#VALUE!"},"",""]
[{"$nulls":5},0,0,{"$error":"#VALUE!"},{"$error":"#VALUE!"},"Дома",{"$error":"#VALUE!"},{"$error":"#VALUE!"},{"$error":"#VALUE!"},10,{"$error":"#VALUE!"},{"$error":"#VALUE!"},{"$error":"#VALUE!"},{"$error":"#VALUE!"},{"$error":"#VALUE!"},{"$error":"#VALUE!"},10,{"$error":"#VALUE!"},{"$error":"#VALUE!"},{"$error":"#VALUE!"},{"$error":"#VALUE!"},{"$error":"#VALUE!"},{"$error":"#VALUE!"},0,0,0,0,0,0,0,{"$error":"#VALUE!"},{"$error":"#VALUE!"},{"$error":"#VALUE!"},{"$error":"#VALUE!"},0,0,0,0,{"$error":"#VALUE!"},{"$error":"#VALUE!"},{"$error":"#VALUE!"},"",""]
["13.04.2014","Истерн Сабербс","Ипсвич Найтс","2:1",null,"Истерн Сабербс","Ипсвич Найтс",2,1,"В гостях","П",1,2,11,{"$error":"#VALUE!"},{"$error":"#VALUE!"},{"$error":"#VALUE!"},{"$error":"#VALUE!"},{"$error":"#VALUE!"},{"$error":"#VALUE!"},10,{"$error":"#VALUE!"},{"$error":"#VALUE!"},{"$error":"#VALUE!"},{"$error":"#VALUE!"},{"$error":"#VALUE!"},{"$error":"#VALUE!"},1,0,0,1,1,2,0,{"$error":"#VALUE!"},{"$error":"#VALUE!"},{"$error":"#VALUE!"},{"$error":"#VALUE!"},0,1,0,0,{"$error":"#VALUE!"},{"$f":"S13/N13","v":{"$error":"#VALUE!"}},{"$error":"#VALUE!"},"П"]
["05.04.2014","Норт Стар","Истерн Сабербс","0:6",null,"Норт Стар","Истерн Сабербс",0,6,"В гостях","В",6,0,12,{"$error":"#VALUE!"},{"$error":"#VALUE!"},{"$error":"#VALUE!"},{"$error":"#VALUE!"},{"$error":"#VALUE!"},{"$error":"#VALUE!"},10,{"$error":"#VALUE!"},{"$error":"#VALUE!"},{"$error":"#VALUE!"},{"$error":"#VALUE!"},{"$error":"#VALUE!"},{"$error":"#VALUE!"},2,1,0,1,7,2,3,{"$error":"#VALUE!"},{"$error":"#VALUE!"},{"$error":"#VALUE!"},{"$error":"#VALUE!"},0,1,0,1,{"$error":"#VALUE!"},{"$error":"#VALUE!"},{"$error":"#VALUE!"},"В"]
["24.06.2011","Шахтер С","Белшина","0:0",null,"Шахтер С","Белшина",0,0,"В гостях","Н",0,0,13,{"$error":"#VALUE!"},{"$error":"#VALUE!"},{"$error":"#VALUE!"},{"$error":"#VALUE!"},{"$error":"#VALUE!"},{"$error":"#VALUE!"},10,{"$error":"#VALUE!"},{"$error":"#VALUE!"},{"$error":"#VALUE!"},{"$error":"#VALUE!"},{"$error":"#VALUE!"},{"$error":"#VALUE!"},3,1,1,1,7,2,4,{"$error":"#VALUE!"},{"$error":"#VALUE!"},{"$error":"#VALUE!"},{"$error":"#VALUE!"},1,1,0,1,{"$error":"#VALUE!"},{"$error":"#VALUE!"},{"$error":"#VALUE!"},"Н"]
["19.06.2011","Витебск","Шахтер С","0:2",null,"Витебск","Шахтер С",0,2,"В гостях","В",2,0,14,{"$error":"#VALUE!"},{"$error":"#VALUE!"},{"$error":"#VALUE!"},{"$error":"#VALUE!"},{"$error":"#VALUE!"},{"$error":"#VALUE!"},10,{"$error":"#VALUE!"},{"$error":"#VALUE!"},{"$error":"#VALUE!"},{"$error":"#VALUE!"},{"$error":"#VALUE!"},{"$error":"#VALUE!"},4,2,1,1,9,2,7,{"$error":"#VALUE!"},{"$error":"#VALUE!"},{"$error":"#VALUE!"},{"$error":"#VALUE!"},1,1,1,1,{"$error":"#VALUE!"},{"$error":"#VALUE!"},{"$error":"#VALUE!"},"В"]
["12.06.2011","Шахтер С","Неман Гродно","5:0",null,"Шахтер С","Неман Гродно",5,0,"В гостях","П",0,5,15,{"$error":"#VALUE!"},{"$error":"#VALUE!"},{"$error":"#VALUE!"},{"$error":"#VALUE!"},{"$error":"#VALUE!"},{"$error":"#VALUE!"},10,{"$error":"#VALUE!"},{"$error":"#VALUE!"},{"$error":"#VALUE!"},{"$error":"#VALUE!"},{"$error":"#VALUE!"},{"$error":"#VALUE!"},5,2,1,2,9,7,7,{"$error":"#VALUE!"},{"$error":"#VALUE!"},{"$error":"#VALUE!"},{"$error":"#VALUE!"},2,1,1,1,{"$error":"#VALUE!"},{"$error":"#VALUE!"},{"$error":"#VALUE!"},"П"]
["27.05.2011","Шахтер С","Торпедо Жодино","1:0",null,"Шахтер С","Торпедо Жодино",1,0,"В гостях","П",0,1,16,{"$error":"#VALUE!"},{"$error":"#VALUE!"},{"$error":"#VALUE!"},{"$error":"#VALUE!"},{"$error":"#VALUE!"},{"$error":"#VALUE!"},10,{"$error":"#VALUE!"},{"$error":"#VALUE!"},{"$error":"#VALUE!"},{"$error":"#VALUE!"},{"$error":"#VALUE!"},{"$error":"#VALUE!"},6,2,1,3,9,8,7,{"$error":"#VALUE!"},{"$error":"#VALUE!"},{"$error":"#VALUE!"},{"$error":"#VALUE!"},3,1,1,1,{"$error":"#VALUE!"},{"$error":"#VALUE!"},{"$error":"#VALUE!"},"П"]
["21.05.2011","Шахтер С","Динамо Брест","2:0",null,"Шахтер С","Динамо Брест",2,0,"В гостях","П",0,2,17,{"$error":"#VALUE!"},{"$error":"#VALUE!"},{"$error":"#VALUE!"},{"$error":"#VALUE!"},{"$error":"#VALUE!"},{"$error":"#VALUE!"},10,{"$error":"#VALUE!"},{"$error":"#VALUE!"},{"$error":"#VALUE!"},{"$error":"#VALUE!"},{"$error":"#VALUE!"},{"$error":"#VALUE!"},7,2,1,4,9,10,7,{"$error":"#VALUE!"},{"$error":"#VALUE!"},{"$error":"#VALUE!"},{"$error":"#VALUE!"},4,1,1,1,{"$error":"#VALUE!"},{"$error":"#VALUE!"},{"$error":"#VALUE!"},"П"]
["15.05.2011","Динамо Минск","Шахтер С","0:2",null,"Динамо Минск","Шахтер С",0,2,"В гостях","В",2,0,18,{"$error":"#VALUE!"},{"$error":"#VALUE!"},{"$error":"#VALUE!"},{"$error":"#VALUE!"},{"$error":"#VALUE!"},{"$error":"#VALUE!"},10,{"$error":"#VALUE!"},{"$error":"#VALUE!"},{"$error":"#VALUE!"},{"$error":"#VALUE!"},{"$error":"#VALUE!"},{"$error":"#VALUE!"},8,3,1,4,11,10,10,{"$error":"#VALUE!"},{"$error":"#VALUE!"},{"$error":"#VALUE!"},{"$error":"#VALUE!"},4,1,2,1,{"$error":"#VALUE!"},{"$error":"#VALUE!"},{"$error":"#VALUE!"},"В"]
["11.05.2011","Шахтер С","Днепр Мог","2:2",null,"Шахтер С","Днепр Мог",2,2,"В гостях","Н",2,2,19,{"$error":"#VALUE!"},{"$error":"#VALUE!"},{"$error":"#VALUE!"},{"$error":"#VALUE!"},{"$error":"#VALUE!"},{"$error":"#VALUE!"},10,{"$error":"#VALUE!"},{"$error":"#VALUE!"},{"$error":"#VALUE!"},{"$error":"#VALUE!"},{"$error":"#VALUE!"},{"$error":"#VALUE!"},9,3,2,4,13,12,11,{"$error":"#VALUE!"},{"$error":"#VALUE!"},{"$error":"#VALUE!"},{"$error":"#VALUE!"},4,1,3,1,{"$error":"#VALUE!"},{"$error":"#VALUE!"},{"$error":"#VALUE!"},"Н"]
["07.05.2011","Нафтан","Шахтер С","1:1",null,"Нафтан","Шахтер С",1,1,"В гостях","Н",1,1,20,{"$error":"#VALUE!"},{"$error":"#VALUE!"},{"$error":"#VALUE!"},{"$error":"#VALUE!"},{"$error":"#VALUE!"},{"$error":"#VALUE!"},10,{"$error":"#VALUE!"},{"$error":"#VALUE!"},{"$error":"#VALUE!"},{"$error":"#VALUE!"},{"$error":"#VALUE!"},{"$error":"#VALUE!"},10,3,3,4,14,13,12,{"$error":"#VALUE!"},{"$error":"#VALUE!"},{"$error":"#VALUE!"},{"$error":"#VALUE!"},4,2,3,1,{"$error":"#VALUE!"},{"$error":"#VALUE!"},{"$error":"#VALUE!"},"Н"]
["30.04.2011","Шахтер С","БАТЭ","00:02:00"]
["23.04.2011","Гомель","Шахтер С","00:00:00"]
["19.04.2011","Шахтер С","Минск","01:00:00"]
["15.04.2011","Белшина","Шахтер С","02:00:00"]
["2011-04-10","Шахтер С","Витебск","01:00:00"]
["2011-04-06","Неман Гродно","Шахтер С","00:01:00"]
["2011-04-02","Торпедо Жодино","Шахтер С","01:00:00"]

{"sheet":"Анализ","index":2,"n_rows":21,"n_cols":23,"rows_kept":21,"cut":false,"hidden":false,"merged":[[15,17,16,17],[14,16,14,17],[18,0,18,20],[0,1,0,7],[0,8,0,14],[0,15,0,21],[6,17,6,19],[5,17,5,19],[9,5,9,6],[7,5,7,6],[7,1,7,2],[8,1,8,2],[9,1,9,2],[7,3,7,4],[8,12,8,13],[8,3,8,4],[9,3,9,4],[5,1,5,3],[6,1,6,3],[6,4,6,7],[5,4,5,7],[8,5,8,6],[15,16,16,16],[5,8,5,10],[6,8,6,10],[6,11,6,13],[5,11,5,13],[6,14,6,16],[5,14,5,16],[10,1,10,2],[19,9,19,11],[19,0,19,1],[19,2,19,3],[20,0,20,1],[20,2,20,3],[19,7,19,8],[11,5,11,7],[11,3,11,4],[10,8,10,11],[11,8,11,9],[14,6,14,8],[14,4,14,5],[10,3,10,7]]}
[null,"Всего",{"$nulls":6},"Дома",{"$nulls":6},"На выезде"]
[null,"Игр","В","Н","П","Забито","Пропущено","Очки","Игр","В","Н","П","Забито","Пропущено","Очки","Игр","В","Н","П","Забито","Пропущено","Очки"]
["Хозяева",{"$f":"Команда1!N12","v":10},{"$f":"Команда1!O12","v":{"$error":"#VALUE!"}},{"$f":"Команда1!P12","v":{"$error":"#VALUE!"}},{"$f":"Команда1!Q12","v":{"$error":"#VALUE!"}},{"$f":"Команда1!R12","v":{"$error":"#VALUE!"}},{"$f":"Команда1!S12","v":{"$error":"#VALUE!"}},{"$f":"Команда1!T12","v":{"$error":"#VALUE!"}},{"$f":"Команда1!U12","v":10},{"$f":"Команда1!V12","v":{"$error":"#VALUE!"}},{"$f":"Команда1!W12","v":{"$error":"#VALUE!"}},{"$f":"Команда1!X12","v":{"$error":"#VALUE!"}},{"$f":"Команда1!Y12","v":{"$error":"#VALUE!"}},{"$f":"Команда1!Z12","v":{"$error":"#VALUE!"}},{"$f":"Команда1!AA12","v":{"$error":"#VALUE!"}},{"$f":"Команда1!AB12","v":0},{"$f":"Команда1!AC12","v":0},{"$f":"Команда1!AD12","v":0},{"$f":"Команда1!AE12","v":0},{"$f":"Команда1!AF12","v":0},{"$f":"Команда1!AG12","v":0},{"$f":"Команда1!AH12","v":0}]
["Гости",{"$f":"Команда2!N12","v":10},{"$f":"Команда2!O12","v":{"$error":"#VALUE!"}},{"$f":"Команда2!P12","v":{"$error":"#VALUE!"}},{"$f":"Команда2!Q12","v":{"$error":"#VALUE!"}},{"$f":"Команда2!R12","v":{"$error":"#VALUE!"}},{"$f":"Команда2!S12","v":{"$error":"#VALUE!"}},{"$f":"Команда2!T12","v":{"$error":"#VALUE!"}},{"$f":"Команда2!U12","v":10},{"$f":"Команда2!V12","v":{"$error":"#VALUE!"}},{"$f":"Команда2!W12","v":{"$error":"#VALUE!"}},{"$f":"Команда2!X12","v":{"$error":"#VALUE!"}},{"$f":"Команда2!Y12","v":{"$error":"#VALUE!"}},{"$f":"Команда2!Z12","v":{"$error":"#VALUE!"}},{"$f":"Команда2!AA12","v":{"$error":"#VALUE!"}},{"$f":"Команда2!AB12","v":0},{"$f":"Команда2!AC12","v":0},{"$f":"Команда2!AD12","v":0},{"$f":"Команда2!AE12","v":0},{"$f":"Команда2!AF12","v":0},{"$f":"Команда2!AG12","v":0},{"$f":"Команда2!AH12","v":0}]
[null,"Забивают",null,null,"Пропускают",null,null,null,"Забивают",null,null,"Пропускают",null,null,"Забивают",null,null,"Пропускают",null,null,1,{"$f":"J3/I3/(J3/I3+K3/I3+Q4/P4+R4/P4)","v":{"$error":"#VALUE!"}},{"$f":"C3/B3/(C3/B3+D3/B3+D4/B4+C4/B4)","v":{"$error":"#VALUE!"}}]
["Хозяева",{"$f":"F3/B3","v":{"$error":"#VALUE!"}},null,null,{"$f":"G3/B3","v":{"$error":"#VALUE!"}},null,null,null,{"$f":"M3/I3","v":{"$error":"#VALUE!"}},null,null,{"$f":"N3/I3","v":{"$error":"#VALUE!"}},null,null,{"$f":"T3/P3","v":{"$error":"#DIV/0!"}},null,null,{"$f":"U3/P3","v":{"$error":"#DIV/0!"}},null,null,"X",{"$f":"(K3/I3+R4/P4)/(J3/I3+K3/I3+Q4/P4+R4/P4)","v":{"$error":"#VALUE!"}},{"$f":"(D3/B3+D4/B4)/(C3/B3+D3/B3+D4/B4+C4/B4)","v":{"$error":"#VALUE!"}}]
["Гости",{"$f":"F4/B4","v":{"$error":"#VALUE!"}},null,null,{"$f":"G4/B4","v":{"$error":"#VALUE!"}},null,null,null,{"$f":"M4/I4","v":{"$error":"#VALUE!"}},null,null,{"$f":"N4/I4","v":{"$error":"#VALUE!"}},null,null,{"$f":"T4/P4","v":{"$error":"#DIV/0!"}},null,null,{"$f":"U4/P4","v":{"$error":"#DIV/0!"}},null,null,2,{"$f":"Q4/P4/(J3/I3+K3/I3+Q4/P4+R4/P4)","v":{"$error":"#DIV/0!"}},{"$f":"C4/B4/(C3/B3+D3/B3+D4/B4+C4/B4)","v":{"$error":"#VALUE!"}}]
["Тоталы","Ср. тотал",null,"Мощь",null,"Рейтинг",null,"Счет","Забит","Проп","Набр","Потер"]
["Хозяева",{"$f":"AVERAGE(I6,B6)+AVERAGE(R7,E7)-AVERAGE(1.25,O9)","v":{"$error":"#VALUE!"}},null,{"$f":"(I6-L6+B6-E6)/2","v":{"$error":"#VALUE!"}},null,{"$f":"(O3/I3+V3/P3*1.1+I6-L6*1.1+O6*1.1-R6)/12.6","v":{"$error":"#VALUE!"}},null,{"$f":"B9","v":{"$error":"#VALUE!"}},{"$f":"Команда1!Y7*1.5+Команда1!AF7*2","v":{"$error":"#VALUE!"}},{"$f":"Команда1!Z7*1.5+Команда1!AG7","v":{"$error":"#VALUE!"}},{"$f":"I9/5","v":{"$error":"#VALUE!"}},{"$f":"J9/5","v":{"$error":"#VALUE!"}},"Ср. заб.",null,{"$f":"AVERAGE(Команда1!L3:M22,Команда2!L3:M22)","v":{"$error":"#VALUE!"}}]
["Гости",{"$f":"AVERAGE(O7,B7)+AVERAGE(L6,E6)-AVERAGE(1.25,O9)","v":{"$error":"#DIV/0!"}},null,{"$f":"(O7-R7+B7-E7)/2","v":{"$error":"#DIV/0!"}},null,{"$f":"(O4/I4+V4/P4*1.1+I7-L7*1.1+O7*1.1-R7)/12.6","v":{"$error":"#VALUE!"}},null,{"$f":"B10","v":{"$error":"#DIV/0!"}},{"$f":"Команда2!Y7*1.5+Команда2!AF7*2","v":{"$error":"#VALUE!"}},{"$f":"Команда2!Z7*1.5+Команда2!AG7","v":{"$error":"#VALUE!"}},{"$f":"I10/5","v":{"$error":"#VALUE!"}},{"$f":"J10/5","v":{"$error":"#VALUE!"}}]
["Общий",{"$f":"B9+B10","v":{"$error":"#VALUE!"}},{"$nulls":6},{"$f":"((K9+L10)/2+(K10+L9)/2)/2","v":{"$error":"#VALUE!"}}]
["Т(2.5)","Т1","Т2","Мощь",null,"1-Х-2",null,null,"Рейтинг"]
[{"$f":"B11","v":{"$error":"#VALUE!"}},{"$f":"B9","v":{"$error":"#VALUE!"}},{"$f":"B10","v":{"$error":"#DIV/0!"}},{"$f":"D9","v":{"$error":"#VALUE!"}},{"$f":"D10","v":{"$error":"#DIV/0!"}},{"$f":"AVERAGE(V5,W5)","v":{"$error":"#VALUE!"}},{"$f":"AVERAGE(V6,W6)","v":{"$error":"#VALUE!"}},{"$f":"AVERAGE(V7,W7)","v":{"$error":"#DIV/0!"}},{"$f":"F9","v":{"$error":"#VALUE!"}},{"$f":"F10","v":{"$error":"#VALUE!"}}]
[]
["Итоги","Т(2.5)","Т1","Т2","Серия",null,"1-Х-2",null,null,"Рейтинг",null,"Фора","1Х","Заб1","Заб2",null,"Счет"]
["10 игр",{"$f":"A13","v":{"$error":"#VALUE!"}},{"$error":"#VALUE!"},{"$error":"#DIV/0!"},{"$f":"CONCATENATE(Команда1!AT3,Команда1!AT4,Команда1!AT5,Команда1!AT6,Команда1!AT7,Команда1!AT8,Команда1!AT9,Команда1!AT10,Команда1!AT11,Команда1!AT12)","v":{"$error":"#VALUE!"}},{"$f":"CONCATENATE(Команда2!AT3,Команда2!AT4,Команда2!AT5,Команда2!AT6,Команда2!AT7,Команда2!AT8,Команда2!AT9,Команда2!AT10,Команда2!AT11,Команда2!AT12)","v":""},{"$f":"F13","v":{"$error":"#VALUE!"}},{"$error":"#VALUE!"},{"$error":"#DIV/0!"},{"$error":"#VALUE!"},{"$error":"#VALUE!"},{"$f":"C16-D16","v":{"$error":"#VALUE!"}},{"$f":"IF(G16-I16>0.23,\"П1\",IF(G16>I16,\"1X\",IF(I16-G16>0.24,\"П2\",IF(I16>G16,\"Х2\",\"\"))))","v":{"$error":"#VALUE!"}},{"$f":"AVERAGE(I6,B6)","v":{"$error":"#VALUE!"}},{"$f":"AVERAGE(O7,B7)","v":{"$error":"#DIV/0!"}},null,{"$f":"ROUND(AVERAGE(F21,N16),0)","v":{"$error":"#VALUE!"}},{"$f":"ROUND(AVERAGE(G21,O16),0)","v":{"$error":"#DIV/0!"}}]
[]
[]
["Среднее"]
["Команда 1",null,"Команда 2",null,"Т","Т1","Т2","Серия",null,"1-Х-2",null,null,"1Х","Х2","Фора","1Х2","Заб 1","Заб 2","Тотал","Счет","ТБ(2.5)"]
[{"$f":"Команда1!C2","v":0},null,{"$f":"Команда2!C2","v":0},null,{"$f":"B16","v":{"$error":"#VALUE!"}},{"$error":"#VALUE!"},{"$error":"#DIV/0!"},{"$f":"CONCATENATE(Команда1!AT3,Команда1!AT4,Команда1!AT5,Команда1!AT6,Команда1!AT7,Команда1!AT8,Команда1!AT9,Команда1!AT10,Команда1!AT11,Команда1!AT12)","v":{"$error":"#VALUE!"}},{"$f":"CONCATENATE(Команда2!AT3,Команда2!AT4,Команда2!AT5,Команда2!AT6,Команда2!AT7,Команда2!AT8,Команда2!AT9,Команда2!AT10,Команда2!AT11,Команда2!AT12)","v":""},{"$error":"#VALUE!"},{"$error":"#VALUE!"},{"$error":"#DIV/0!"},{"$f":"V5+V6/2","v":{"$error":"#VALUE!"}},{"$f":"V7+V6/2","v":{"$error":"#DIV/0!"}},{"$f":"F21-G21","v":{"$error":"#VALUE!"}},{"$f":"IF(AND(J21-L21>0.27,Q16>R16),\"П1\",IF(AND(J21>L21,Q16>=R16),\"1X\",IF(AND(L21-J21>0.12,R16>0),\"П2\",IF(AND(L21>J21,R16>=Q16),\"Х2\",\"\"))))","v":{"$error":"#VALUE!"}},{"$f":"Команда1!AI12*1000+Команда1!AJ12*100+Команда1!AK12*10+Команда1!AL12","v":{"$error":"#VALUE!"}},{"$f":"Команда2!AM12*1000+Команда2!AN12*100+Команда2!AO12*10+Команда2!AP12","v":0},{"$f":"IF(E21>2.85,IF(Q16+R16>2,\"ТБ(2)\",\" \"),IF(E21<2.2,IF(Q16+R16<3,\"ТМ(3)\",\" \"),\" \"))","v":{"$error":"#VALUE!"}},{"$f":"CONCATENATE(Q16,\":\",R16)","v":{"$error":"#VALUE!"}},{"$f":"(COUNTIF(Команда2!AU3:AU12,\">2.5\")+COUNTIF(Команда1!AU3:AU12,\">2.5\"))/COUNT(Команда1!AU3:AU12,Команда2!AU3:AU12)","v":{"$error":"#DIV/0!"}}]

{"sheet":"Отчет","index":3,"n_rows":21,"n_cols":24,"rows_kept":21,"cut":false,"hidden":false,"merged":[[0,2,0,5]]}
["№","Страна","Команды",null,null,null,"Тотал","Тотал1","Тотал2","Серия1","Серия2",1,"Х",2,"1Х","Х2","Фора","1Х2","Заб1","Заб2","Тотал","Прогноз","ТБ(2.5)","Счет"]
[1]
[2]
[3]
[4]
[5]
[6]
[7]
[8]
[9]
[10]
[11]
[12]
[13]
[14]
[15]
[16]
[17]
[18]
[19]
[20]