Workbook

Sheet Соглашение
A1: Ставки на спорт в плюс без эмоций, и волнения. | M1: Немзоров Илья. | O1: ICQ#: 285761677 | Q1: mail: ilya_nemzorov@mail.ru
A2: Мной создана система основанная на многолетнем анализе спортивных событий, способная без человеческого фактора определить шансы на победу, и колиснство голов каждой команды. Основываясь на полученные результаты, система определяет стоит ли играть это событие, какие виды ставок нужно поставить на данное событие,и рассчитывают сумму ставки в зависимости от шансов выигрыша и суммы счета. Сумма ставки не превышает 2,5% фактического банка, поэтому риск проигрыша банка минимален. Если Вам интересна моя система, можете задвать вопросы лично мне.
J5: Для удобства создан один общий счёт на примере Памм-счета (от англ. Percent Allocation ManagementModule, PAMM — модуль управления процентным распределением) — специфичный механизм функционирования торгового счёта, технически упрощающий процесс передачи средств на торговом счете в доверительное управление для проведения операций на финансовых рынках. Я его оформили в Excel. На второй вкладке Вы можете посмотреть данные счета. Актуальные данные в таблице со статусом рабочий (в правом верхнем углу). После увелечиная счета на 50%, либо заявки на снятие или пополнения счета делается перерасчет. Добовляется новая информация и с каждого счета списывается комиссия. У каждого владельца денежных средств имеется свой номер счета (для простоты это 4 последних цыфры вашего телефоонного номера). Вы в любой момент можете сделать заявку на снятие, либо пополнить вашь счет. В настоящий момент счет активно работает на ставках в матчах НХЛ, по виду ставки "тотал" и одиночных ставках на ничью. Всю историю ставкок вы можете просмотреть на вкладках "НХЛ Ставки", и тд. Все мы работаем за деньги, и за свою работу я беру 30% с прибыли, после каджого увелечения банка на 50%.
A24: Сообщаю Вам что на этом счете имеются и мои денежные средства, и любой проигрыш как для меня, так и для Вас очень чувствителен, и моя цель свести его к минимуму. На долгой дистанции система явлется плюсовой, но как и у каждого вида финансовой торговли бывают так называемые спады, и для минимизыции риска я использую лишь малую чась средств на счете. Мгновенная прибыль в 500-1000 % которую обещают многие раскрутчики счетов, может быть достигнута только при использовании большой части банка, а то неминуемо приведет к банкротсву счета. В нашем же случае мы планируем увеличвать счет на 10-50% ежемесячно, что даст нам доход с вложенных средств 350 и 1000...% в год.(это при реинвестировании всех денежных средств. При ежемесячном снятии средств, годовая прибыль будет меньше) Если Вы положите деньги на счет в банк то через год Вы гарантированно заработаете 10-15% при условие если конечно банк не разорится или у него не отберут лицензию. Но вы должны понимать что ставки на спорт это всегда риск, но эти риски оправдываются высокими процентами. Вкладывая деньги на мой счет автоматически соглашаетесь со всеми рисками потери денег.
A32: 1) Я никому не обещаю, что мои прогнозы и ставки будут сходиться со 100% точностью. Жалобы и недовольства по этому поводу не принимаются.Пользование моим ресурсом - исключительно Ваш выбор, вся статистика соответствует действительности и готова на любые проверки! 2) Клиент обязан осознавать,что в сфере азартных игр всегда существует риск,и этот риск несет только лицо, принимающее окончательное решение о том, вкладывать деньги,или нет. 3) Я гарантирую оказание услуг только в объеме средств или в другом выражении эквивалента, принятых от Клиента. Используя Сервис, Клиент соглашается,что объем ответственности Сервиса ограничивается средствами, переданными сервису для оказания услуги. 5)Распространение информации полученной от меня (прогноз,информация о матчах) запрещено! Любая информация должна использоваться индивидуально. 6) Я имею право прекратить оказание услуг Клиенту за нарушение им любого из пунктов данных Правил. Я гарантирую что, средства на Вашем счете только Ваши, и при любом Вашем желании, остановить ведение счета, вернуть Вам деньги или др. будут сразу мной выполнены. Инвестируйте только свободные деньги. Не инвестируйте средства которые вы не готовы потерять.
A47: Самая хорошая работа – это высокооплачиваемое хобби.

Sheet Счет
A1: Управляющий счетом: | G1: Немзоров Илья. | I1: ICQ#: 285761677 | K1: mail: ilya_nemzorov@mail.ru
A2: Фактическая сумма на счете р. | D2: =30000+'НХЛ Ставки'!D3 -> 45508.304 | F2: Прибыль р. | G2: ='НХЛ Ставки'!F1 -> 15508.304 | I2: Оборот р. : | J2: ='НХЛ Ставки'!H1 -> 135800 | K2: Количестов сыгранных экспресов | M2: ='НХЛ Ставки'!K1 -> 211 | N2: Количество сыгранных одиночек | P2: ='НХЛ Ставки'!N1 -> 133 | Q2: РОЙ Одиноч. Ставок % | S2: ='НХЛ Ставки'!P1 -> 8.6871016 | U2: РОЙ Двойника % | W2: ='НХЛ Ставки'!R1 -> 11.576852 | X2: Общий ROE % | Y2: ='НХЛ Ставки'!U1 -> 11.419959
A4: Ставки на спорт на общем счете. "ПАММ СЧЕТ"
E12: Счет. 12.12.2013г. - 10.01.2014г. Ставки от 1 до 148. | O12: Счет. 10.01.2014г.по текущий день
E14: Счет. 12.12.2013г. - 10.01.2014г. | H14: график | I14: Ставки от 1 до 148. | P14: Закрыт
A15: Отчетный период: 12.12.2013г. - 10.01.2014г. Счет 9740;7919; увелечины на 50%. Доходность после списания комисии: 35.3% Снята комиссия 30% с прибыли. (4543р.) | E15: Дата вложения средств. | F15: Номер счета клиента | G15: Сумма Начальных инвестиций | H15: Сумма начальных инвестиций + реинвестиций | I15: Доля от портфеля % | J15: Фактическая сумма на общем счете | K15: Доходность | L15: Коммисия с прибыли 30% | M15: Доходность после снятия комисии % | N15: Доходность после вычета комисии р. | O15: Выплаченно клиенту | P15: Выполоченно Коммисии с прибыли | Q15: Рабочий счет на следущий отчетный период
H16: =SUM(H17:H19) -> 30000 | I16: =SUM(I17:I19) -> 100 | J16: 45103 | K16: =J16-H16 -> 15103 | Q16: =SUM(Q17:Q19) -> 40572
E17: 12.12.2013г. | F17: 9740 | G17: 15000 | H17: 15000 | I17: =(H17/H16)*100 -> 50 | J17: =J16*(I17/100) -> 22551.5 | K17: =K16*(I17/100) -> 7551.5 | L17: =IF(K17>0,(K17*0.3),0) -> 2265.45 | M17: =(N17/H17)*100 -> 35.240333 | N17: =K17-L17 -> 5286.05 | O17: 0 | P17: 2265.5 | Q17: =J17-O17-P17 -> 20286
E18: 12.12,2013г. | F18: 7919 | G18: 15000 | H18: 15000 | I18: =(H18/H16)*100 -> 50 | J18: =J16*(I18/100) -> 22551.5 | K18: =K16*(I18/100) -> 7551.5 | L18: =IF(K18>0,(K18*0.3),0) -> 2265.45 | M18: =(N18/H18)*100 -> 35.240333 | N18: =K18-L18 -> 5286.05 | O18: 0 | P18: 2265.5 | Q18: =J18-O18-P18 -> 20286
H19: 0 | I19: =(H19/H16)*100 -> 0 | J19: =J16*(I19/100) -> 0 | K19: =K16*(I19/100) -> 0 | L19: =IF(K19>0,(K19*0.3),0) -> 0 | N19: =K19-L19 -> 0 | O19: 0 | P19: 0 | Q19: =J19-O19-P19 -> 0
A21: Счет № 9740 Реинвестировал доход. Счет № 7919 Реинвестировал доход. Открыт новый счет № 7306. (4543,1р.) | E21: Счет. 10.01.2014г.по текущий день | H21: график | I21: Ставки от 149 по текущей. | P21: Рабочий
E22: Дата вложения средств. | F22: Номер счета клиента | G22: Сумма Начальных инвестиций | H22: Сумма начальных инвестиций + реинвестиций | I22: Доля от портфеля % | J22: Фактическая сумма на общем счете | K22: Прибыль и убыток банка по счетам | L22: Коммисия с прибыли 30% | M22: Доходность после снятия комисии % | N22: Доходность после снятия комисии р. | O22: Выплаченно клиенту | P22: Выполоченно Коммисии с прибыли | Q22: Рабочий счет на следущий отчетный период
G23: =SUM(G24:G27) -> 34543.1 | H23: =SUM(H24:H27) -> 45115.1 | I23: =SUM(I24:I27) -> 100 | J23: =D2 -> 45508.304 | K23: =J23-H23 -> 393.20431 | Q23: =SUM(Q24:Q27) -> 45508.304
E24: 12.12.2013г. | F24: 9740 | G24: 15000 | H24: 20286 | I24: =(H24/H23)*100 -> 44.96499 | J24: =J23*(I24/100) -> 20462.804 | K24: =K23*(I24/100) -> 176.80428 | L24: =IF(K24>0,(K24*0.3),0) -> 53.041283 | M24: =(N24/H24)*100 -> 0.61009068 | N24: =K24-L24 -> 123.76299 | O24: 0 | P24: 0 | Q24: =J24-O24-P24 -> 20462.804
E25: 12.12.2013г. | F25: 7919 | G25: 15000 | H25: 20286 | I25: =(H25/H23)*100 -> 44.96499 | J25: =J23*(I25/100) -> 20462.804 | K25: =K23*(I25/100) -> 176.80428 | L25: =IF(K25>0,(K25*0.3),0) -> 53.041283 | M25: =(N25/H25)*100 -> 0.61009068 | N25: =K25-L25 -> 123.76299 | O25: 0 | P25: 0 | Q25: =J25-O25-P25 -> 20462.804
E26: 10.01.2014г. | F26: 7306 Личный | G26: 4543.1 | H26: 4543.1 | I26: =(H26/H23)*100 -> 10.070021 | J26: =J23*(I26/100) -> 4582.6958 | K26: =K23*(I26/100) -> 39.595756 | L26: =IF(K26>0,(K26*0),0) -> 0 | M26: =(N26/H26)*100 -> 0.87155811 | N26: =K26-L26 -> 39.595756 | O26: 0 | P26: 0 | Q26: =J26-O26-P26 -> 4582.6958
H27: 0 | I27: =(H27/H23)*100 -> 0 | J27: =J23*(I27/100) -> 0 | K27: =K23*(I27/100) -> 0 | L27: =IF(K27>0,(K27*0.3),0) -> 0 | N27: =K27-L27 -> 0 | O27: 0 | P27: 0 | Q27: =J27-O27-P27 -> 0

Sheet НХЛ Ставки
A1: Фактическая сумма на счете р. | D1: =Счет!D2 -> 45508.304 | E1: Прибыль р. | F1: =D3 -> 15508.304 | G1: Оборот р. : | H1: =K3+H3 -> 135800 | I1: Количестов сыгранных экспресов шт. | K1: =E3 -> 211 | L1: Количество сыгранных одиночек шт. | N1: =F3 -> 133 | O1: ROE Одиноч. Ставок % | P1: =A3 -> 8.6871016 | Q1: ROE Двойника % | R1: =C3 -> 11.576852 | S1: Общий ROE % | U1: =(F1/H1)*100 -> 11.419959
A2: РОЙ Одиночных ставок | C2: РОЙ Двойника | D2: Прибыль | E2: Количестов сыгранных экспресов | F2: Количество сыгранных одиночек | G2: Ср.коэф. Двойника | H2: Сумма ставок одиноч | J2: Ср. сумма ставки двойника | K2: Сумма ставок двойника | M2: Совпадение одиноч. Кол.( ничьи и все остальное | N2: Совпадение двоник. Кол. | O2: Сумма выигрыша | P2: Сумма выигрыша двойника
A3: =((O3-H3)/H3)*100 -> 8.6871016 | C3: =((P3-K3)/K3)*100 -> 11.576852 | D3: =(O3+P3)-(H3+K3) -> 15508.304 | E3: =SUM(A7:A547) -> 211 | F3: =SUM(B7:B557)+105 -> 133 | G3: =AVERAGE(G7:G340) -> 3.1465954 | H3: =SUM(I7:I629) -> 7373 | J3: =K3/E3 -> 608.65877 | K3: =SUM(L7:L701) -> 128427 | M3: =SUM(M7:M462) -> 270 | N3: =SUM(N7:N530) -> 89 | O3: =SUM(O7:O670) -> 8013.5 | P3: =SUM(P7:P642) -> 143294.8 | Q3: Движение счета
A4: Сыгр. Двойники | B4: Сыгр. Одночки | C4: Дата | D4: Наименование команд | E4: Ставка | F4: Коэф. Одиночный | G4: Коэф экспреса | H4: Сумма ставки одиночного события | I4: Сумма ставки сыгранного одночного | J4: Рекомедованная сумма ставки | K4: Общая сумма ставки | L4: Сумма ставки сыгранного двойника | M4: Совпадение одиноч. % | N4: Совпадение экспреса % | O4: Выигрышодиноч | P4: Выигрыш двойника | Q4: Начальный банк | R4: Фактический банк | S4: № ставки | T4: Доходность %
M5: =AVERAGE(M7:M615,)*100 -> 59.866962 | N5: =(N3/E3)*100 -> 42.180095 | Q5: 30000 | R5: 30000 | T5: 0 | AA5: Суссия + или -
A7: 1 | C7: 41619 | D7: Нью-Джерси Девилз @ Коламбус Блю Джекетс | E7: Меньше 5.5 | F7: 1.5 | G7: 1.798 | J7: =2000/G7 -> 1112.3471 | K7: 1000 | L7: =A7*K7 -> 1000 | M7: 1 | N7: =IF(M7+M8=2,1,0) -> 1 | O7: =F7*H7*M7 -> 0 | P7: =G7*L7*N7 -> 1798 | Q7: 30000 | R7: =R5-L7+P7 -> 30798 | S7: =A7 -> 1 | T7: =((R7-Q7)/Q7)*100 -> 2.66 | AA7: 8 | AB7: 1
C8: 41619 | D8: Лос-Анджелес Кингз @ Монреаль Канадиенс | E8: Меньше 5.5 | F8: 1.46 | M8: 1 | O8: =F8*H8*M8 -> 0 | AA8: 8 | AB8: 1
A9: 1 | C9: 41619 | D9: Сент-Луис Блюз @ Виннипег Джетс | E9: Меньше 5.5 | F9: 1.87 | G9: =F9*F10 -> 3.9644 | J9: =2000/G9 -> 504.48996 | K9: 1000 | L9: =A9*K9 -> 1000 | M9: 1 | N9: =IF(M9+M10=2,1,0) -> 0 | O9: =F9*H9*M9 -> 0 | P9: =G9*L9*N9 -> 0 | Q9: 30000 | R9: =R7-L9+P9 -> 29798 | S9: =A7+A9 -> 2 | T9: =((R9-Q9)/Q9)*100 -> -0.67333333 | Y9: =IF(T9<T7,(T9-T7),0) -> -3.3333333 | AA9: 8 | AB9: 1
C10: 41619 | D10: Финикс Койотс @ Колорадо Эвеланш | E10: Больше 5.5 | F10: 2.12 | I10: =H10*B10 -> 0 | M10: 0 | O10: =F10*H10*M10 -> 0 | AA10: 8 | AB10: 1
A11: 1 | C11: 41619 | D11: Оттава Сенаторз @ Баффало Сейбрз | E11: Меньше 5.5 | F11: 1.7 | G11: =F11*F12 -> 3.1161 | I11: =H11*B11 -> 0 | J11: =2000/G11 -> 641.82793 | K11: 1000 | L11: =A11*K11 -> 1000 | M11: 1 | N11: =IF(M11+M12=2,1,0) -> 0 | O11: =F11*H11*M11 -> 0 | P11: =G11*L11*N11 -> 0 | Q11: 30000 | R11: =R9-L11+P11 -> 28798 | S11: =S9+A11 -> 3 | T11: =((R11-Q11)/Q11)*100 -> -4.0066667 | Y11: =IF(T11<T9,(T11-T9),0) -> -3.3333333 | Z11: -7 | AA11: 8 | AB11: 1
C12: 41619 | D12: Тампа Бэй Лайтнинг @ Вашингтон Кэпиталз | E12: Меньше 5.5 | F12: 1.833 | I12: =H12*B12 -> 0 | M12: 0 | O12: =F12*H12*M12 -> 0 | AA12: 8 | AB12: 1
A13: 1 | C13: 41619 | D13: Нэшвилл Предаторз @ Нью-Йорк Рейнджерс | E13: Меньше 5.5 | F13: 1.55 | G13: =F13*F14 -> 3.286 | I13: =H13*B13 -> 0 | J13: =2000/G13 -> 608.64273 | K13: 1000 | L13: =A13*K13 -> 1000 | M13: 1 | N13: =IF(M13+M14=2,1,0) -> 1 | O13: =F13*H13*M13 -> 0 | P13: =G13*L13*N13 -> 3286 | Q13: 30000 | R13: =R11-L13+P13 -> 31084 | S13: =S11+A13 -> 4 | T13: =((R13-Q13)/Q13)*100 -> 3.6133333 | Y13: =IF(T13<T11,(T13-T11),0) -> 0 | AA13: 8 | AB13: 1
C14: 41619 | D14: Нью-Йорк Айлендерс @ Сан-Хосе Шаркс | E14: Меньше 5.5 | F14: 2.12 | I14: =H14*B14 -> 0 | M14: 1 | O14: =F14*H14*M14 -> 0 | AA14: 8 | AB14: 1
A15: 1 | C15: 41619 | D15: Чикаго Блэкхокс @ Даллас Старз | E15: Больше 5.5 | F15: 1.86 | G15: =F15*F16 -> 3.1992 | I15: =H15*B15 -> 0 | J15: =2000/G15 -> 625.15629 | K15: 1000 | L15: =A15*K15 -> 1000 | M15: 1 | N15: =IF(M15+M16=2,1,0) -> 1 | O15: =F15*H15*M15 -> 0 | P15: =G15*L15*N15 -> 3199.2 | Q15: 30000 | R15: =R13-L15-I15-I16+P15+O15+O16 -> 33283.2 | S15: =S13+A15 -> 5 | T15: =((R15-Q15)/Q15)*100 -> 10.944 | Y15: =IF(T15<T13,(T15-T13),0) -> 0 | AA15: 8 | AB15: 1
C16: 41619 | D16: Бостон Брюинз @ Калгари Флеймз | E16: Меньше 5.5 | F16: 1.72 | I16: =H16*B16 -> 0 | M16: 1 | O16: =F16*H16*M16 -> 0 | AA16: 8 | AB16: 1
A17: 1 | C17: 41620 | D17: Филадельфия Флайерз @ Чикаго Блэкхокс | E17: Больше 5.5 | F17: 2.04 | G17: =F17*F18 -> 3.2946 | I17: =H17*B17 -> 0 | J17: =2000/G17 -> 607.05397 | K17: 1000 | L17: =A17*K17 -> 1000 | M17: 1 | N17: =IF(M17+M18=2,1,0) -> 1 | O17: =F17*H17*M17 -> 0 | P17: =G17*L17*N17 -> 3294.6 | Q17: 30000 | R17: =R15-L17-I17-I18+P17+O17+O18 -> 35577.8 | S17: =S15+A17 -> 6 | T17: =((R17-Q17)/Q17)*100 -> 18.592667 | Y17: =IF(T17<T15,(T17-T15),0) -> 0 | AA17: 4 | AB17: 1
C18: 41620 | D18: Миннесота Уайлд @ Анахайм Дакс | E18: Меньше 5.5 | F18: 1.615 | I18: =H18*B18 -> 0 | M18: 1 | O18: =F18*H18*M18 -> 0 | AA18: 4 | AB18: 1
A19: 1 | C19: 41620 | D19: Лос-Анджелес Кингз @ Торонто Мэйпл Лифс | E19: Меньше 5.5 | F19: 1.615 | G19: =F19*F20 -> 3.3592 | I19: =H19*B19 -> 0 | J19: =2000/G19 -> 595.37985 | K19: 1000 | L19: =A19*K19 -> 1000 | M19: 1 | N19: =IF(M19+M20=2,1,0) -> 0 | O19: =F19*H19*M19 -> 0 | P19: =G19*L19*N19 -> 0 | Q19: 30000 | R19: =R17-L19-I19-I20+P19+O19+O20 -> 34577.8 | S19: =S17+A19 -> 7 | T19: =((R19-Q19)/Q19)*100 -> 15.259333 | Y19: =IF(T19<T17,(T19-T17),0) -> -3.3333333 | AA19: 4 | AB19: 1
C20: 41620 | D20: Нью-Йорк Айлендерс @ Финикс Койотс | E20: Меньше 5.5 | F20: 2.08 | I20: =H20*B20 -> 0 | M20: 0 | O20: =F20*H20*M20 -> 0 | AA20: 4 | AB20: 1
A21: 1 | C21: 41620 | D21: Монреаль Канадиенс @ Филадельфия Флайерз | E21: Больше 5.5 | F21: 2.56 | G21: =F21*F22 -> 4.8384 | I21: =H21*B21 -> 0 | J21: =2000/G21 -> 413.35979 | K21: 1000 | L21: =A21*K21 -> 1000 | M21: 0 | N21: =IF(M21+M22=2,1,0) -> 0 | O21: =F21*H21*M21 -> 0 | P21: =G21*L21*N21 -> 0 | Q21: 30000 | R21: =R19-L21-I21-I22+P21+O21+O22 -> 33577.8 | S21: =S19+A21 -> 8 | T21: =((R21-Q21)/Q21)*100 -> 11.926 | Y21: =IF(T21<T19,(T21-T19),0) -> -3.3333333 | AA21: 4 | AB21: 1
C22: 41620 | D22: Торонто Мэйпл Лифс @ Сент-Луис Блюз | E22: Меньше 5.5 | F22: 1.89 | I22: =H22*B22 -> 0 | M22: 0 | O22: =F22*H22*M22 -> 0 | AA22: 4 | AB22: 1
A23: 1 | C23: 41620 | D23: Коламбус Блю Джекетс @ Нью-Йорк Рейнджерс | E23: Меньше 5.5 | F23: 1.6 | G23: =F23*F24 -> 2.88 | I23: =H23*B23 -> 0 | J23: =2000/G23 -> 694.44444 | K23: 1000 | L23: =A23*K23 -> 1000 | M23: 0 | N23: =IF(M23+M24=2,1,0) -> 0 | O23: =F23*H23*M23 -> 0 | P23: =G23*L23*N23 -> 0 | Q23: 30000 | R23: =R21-L23-I23-I24+P23+O23+O24 -> 32577.8 | S23: =S21+A23 -> 9 | T23: =((R23-Q23)/Q23)*100 -> 8.5926667 | Y23: =IF(T23<T21,(T23-T21),0) -> -3.3333333 | AA23: 4 | AB23: 1
C24: 41620 | D24: Даллас Старз @ Нэшвилл Предаторз | E24: Меньше 5.5 | F24: 1.8 | I24: =H24*B24 -> 0 | M24: 1 | O24: =F24*H24*M24 -> 0 | AA24: 4 | AB24: 1
A25: 1 | C25: 41620 | D25: Колорадо Эвеланш @ Виннипег Джетс | E25: Меньше 5.5 | F25: 1.75 | G25: =F25*F26 -> 3.2725 | I25: =H25*B25 -> 0 | J25: =2000/G25 -> 611.15355 | K25: 1000 | L25: =A25*K25 -> 1000 | M25: 0 | N25: =IF(M25+M26=2,1,0) -> 0 | O25: =F25*H25*M25 -> 0 | P25: =G25*L25*N25 -> 0 | Q25: 30000 | R25: =R23-L25-I25-I26+P25+O25+O26 -> 31577.8 | S25: =S23+A25 -> 10 | T25: =((R25-Q25)/Q25)*100 -> 5.2593333 | Y25: =IF(T25<T23,(T25-T23),0) -> -3.3333333 | Z25: -13 | AA25: 4 | AB25: 1
C26: 41620 | D26: Каролина Харрикейнз @ Калгари Флеймз | E26: Меньше 5.5 | F26: 1.87 | I26: =H26*B26 -> 0 | M26: 1 | O26: =F26*H26*M26 -> 0 | AA26: 4 | AB26: 1
A27: 1 | C27: 41621 | D27: Баффало Сейбрз @ Оттава Сенаторз | E27: Меньше 5.5 | F27: 1.71 | G27: =F27*F28 -> 2.7873 | I27: =H27*B27 -> 0 | J27: =2000/G27 -> 717.54027 | K27: 1000 | L27: =A27*K27 -> 1000 | M27: 1 | N27: =IF(M27+M28=2,1,0) -> 1 | O27: =F27*H27*M27 -> 0 | P27: =G27*L27*N27 -> 2787.3 | Q27: 30000 | R27: =R25-L27-I27-I28+P27+O27+O28 -> 33365.1 | S27: =S25+A27 -> 11 | T27: =((R27-Q27)/Q27)*100 -> 11.217 | Y27: =IF(T27<T25,(T27-T25),0) -> 0 | AA27: 8 | AB27: 1
C28: 41621 | D28: Миннесота Уайлд @ Сан-Хосе Шаркс | E28: Меньше 5.5 | F28: 1.63 | I28: =H28*B28 -> 0 | M28: 1 | O28: =F28*H28*M28 -> 0 | AA28: 8 | AB28: 1
A29: 1 | C29: 41621 | D29: Детройт Ред Уингз @ Тампа Бэй Лайтнинг | E29: Меньше 5.5 | F29: 1.75 | G29: =F29*F30 -> 3.99 | I29: =H29*B29 -> 0 | J29: =2000/G29 -> 501.25313 | K29: 100 | L29: =A29*K29 -> 100 | M29: 1 | N29: =IF(M29+M30=2,1,0) -> 1 | O29: =F29*H29*M29 -> 0 | P29: =G29*L29*N29 -> 399 | Q29: 30000 | R29: =R27-L29-I29-I30+P29+O29+O30 -> 33664.1 | S29: =S27+A29 -> 12 | T29: =((R29-Q29)/Q29)*100 -> 12.213667 | Y29: =IF(T29<T27,(T29-T27),0) -> 0 | AA29: 8 | AB29: 1
C30: 41621 | D30: Бостон Брюинз @ Эдмонтон Ойлерз | E30: Больше 5.5 | F30: 2.28 | I30: =H30*B30 -> 0 | M30: 1 | O30: =F30*H30*M30 -> 0 | AA30: 8 | AB30: 1
A31: 1 | C31: 41622 | D31: Нью-Джерси Девилз @ Питтсбург Пингвинз | E31: Меньше 5.5 | F31: 1.63 | G31: =F31*F32 -> 3.0807 | I31: =H31*B31 -> 0 | J31: =2000/G31 -> 649.2031 | K31: 1000 | L31: =A31*K31 -> 1000 | M31: 1 | N31: =IF(M31+M32=2,1,0) -> 1 | O31: =F31*H31*M31 -> 0 | P31: =G31*L31*N31 -> 3080.7 | Q31: 30000 | R31: =R29-L31-I31-I32+P31+O31+O32 -> 35744.8 | S31: =S29+A31 -> 13 | T31: =((R31-Q31)/Q31)*100 -> 19.149333 | Y31: =IF(T31<T29,(T31-T29),0) -> 0 | AA31: 8 | AB31: 1
C32: 41622 | D32: Эдмонтон Ойлерз @ Ванкувер Кэнакс | E32: Меньше 5.5 | F32: 1.89 | I32: =H32*B32 -> 0 | M32: 1 | O32: =F32*H32*M32 -> 0 | AA32: 8 | AB32: 1
A33: 1 | C33: 41622 | D33: Вашингтон Кэпиталз @ Флорида Пантерз | E33: Больше 5.5 | F33: 2.02 | G33: =F33*F34 -> 3.333 | I33: =H33*B33 -> 0 | J33: =2000/G33 -> 600.06001 | K33: 1000 | L33: =A33*K33 -> 1000 | M33: 0 | N33: =IF(M33+M34=2,1,0) -> 0 | O33: =F33*H33*M33 -> 0 | P33: =G33*L33*N33 -> 0 | Q33: 30000 | R33: =R31-L33-I33-I34+P33+O33+O34 -> 34744.8 | S33: =S31+A33 -> 14 | T33: =((R33-Q33)/Q33)*100 -> 15.816 | Y33: =IF(T33<T31,(T33-T31),0) -> -3.3333333 | AA33: 8 | AB33: 1
C34: 41622 | D34: Лос-Анджелес Кингз @ Оттава Сенаторз | E34: Меньше 5.5 | F34: 1.65 | I34: =H34*B34 -> 0 | M34: 0 | O34: =F34*H34*M34 -> 0 | AA34: 8 | AB34: 1
A35: 1 | C35: 41623 | D35: Калгари Флеймз @ Баффало Сейбрз | E35: Меньше 5.5 | F35: 1.72 | G35: =F35*F36 -> 3.4056 | I35: =H35*B35 -> 0 | J35: =2000/G35 -> 587.26803 | K35: 1000 | L35: =A35*K35 -> 1000 | M35: 1 | N35: =IF(M35+M36=2,1,0) -> 0 | O35: =F35*H35*M35 -> 0 | P35: =G35*L35*N35 -> 0 | Q35: 30000 | R35: =R33-L35-I35-I36+P35+O35+O36 -> 33744.8 | S35: =S33+A35 -> 15 | T35: =((R35-Q35)/Q35)*100 -> 12.482667 | Y35: =IF(T35<T33,(T35-T33),0) -> -3.3333333 | Z35: -6 | AA35: 8 | AB35: 1
C36: 41623 | D36: Даллас Старз @ Виннипег Джетс | E36: Меньше 5.5 | F36: 1.98 | I36: =H36*B36 -> 0 | M36: 0 | O36: =F36*H36*M36 -> 0 | AA36: 8 | AB36: 1
A37: 1 | C37: 41623 | D37: Чикаго Блэкхокс @ Торонто Мэйпл Лифс | E37: Больше 5.5 | F37: 1.89 | G37: =F37*F38 -> 3.591 | I37: =H37*B37 -> 0 | J37: =2000/G37 -> 556.94793 | K37: 1000 | L37: =A37*K37 -> 1000 | M37: 1 | N37: =IF(M37+M38=2,1,0) -> 1 | O37: =F37*H37*M37 -> 0 | P37: =G37*L37*N37 -> 3591 | Q37: 30000 | R37: =R35-L37-I37-I38+P37+O37+O38 -> 36335.8 | S37: =S35+A37 -> 16 | T37: =((R37-Q37)/Q37)*100 -> 21.119333 | Y37: =IF(T37<T35,(T37-T35),0) -> 0 | AA37: 8 | AB37: 1
C38: 41623 | D38: Каролина Харрикейнз @ Финикс Койотс | E38: Меньше 5.5 | F38: 1.9 | I38: =H38*B38 -> 0 | M38: 1 | O38: =F38*H38*M38 -> 0 | AA38: 8 | AB38: 1
A39: 1 | C39: 41623 | D39: Монреаль Канадиенс @ Нью-Йорк Айлендерс | E39: Меньше 5.5 | F39: 1.75 | G39: =F39*F40 -> 3.325 | I39: =H39*B39 -> 0 | J39: =2000/G39 -> 601.50376 | K39: 1000 | L39: =A39*K39 -> 1000 | M39: 1 | N39: =IF(M39+M40=2,1,0) -> 1 | O39: =F39*H39*M39 -> 0 | P39: =G39*L39*N39 -> 3325 | Q39: 30000 | R39: =R37-L39-I39-I40+P39+O39+O40 -> 38660.8 | S39: =S37+A39 -> 17 | T39: =((R39-Q39)/Q39)*100 -> 28.869333 | Y39: =IF(T39<T37,(T39-T37),0) -> 0 | AA39: 8 | AB39: 1
C40: 41623 | D40: Сан-Хосе Шаркс @ Нэшвилл Предаторз | E40: Меньше 5.5 | F40: 1.9 | I40: =H40*B40 -> 0 | M40: 1 | O40: =F40*H40*M40 -> 0 | AA40: 8 | AB40: 1
A41: 1 | C41: 41623 | D41: Сент-Луис Блюз @ Коламбус Блю Джекетс | E41: Меньше 5.5 | F41: 1.81 | G41: =F41*F42 -> 2.92315 | I41: =H41*B41 -> 0 | J41: =2000/G41 -> 684.19342 | K41: 1000 | L41: =A41*K41 -> 1000 | M41: 0 | N41: =IF(M41+M42=2,1,0) -> 0 | O41: =F41*H41*M41 -> 0 | P41: =G41*L41*N41 -> 0 | Q41: 30000 | R41: =R39-L41-I41-I42+P41+O41+O42 -> 37660.8 | S41: =S39+A41 -> 18 | T41: =((R41-Q41)/Q41)*100 -> 25.536 | Y41: =IF(T41<T39,(T41-T39),0) -> -3.3333333 | AA41: 8 | AB41: 1
...
