{"text_format":"2","workbook":"xlsx","n_sheets":3,"sheets":["data","statistics","manual"],"not_rendered":{"charts":4,"images":0,"macros":0,"external_links":0,"defined_names":0,"comments":1,"pivot_tables":0},"unopened":[],"bounds":{"document_bytes":16777216,"sheet_cells":100000,"run_cost":"one","rows_first":2000,"rows_last":500,"rows_between":2000,"halvings":0,"cell_chars":16384,"cell_head_chars":4096},"cells_cut":0,"cells_raw":0,"read":"whole","date_system":"1900"}

{"sheet":"data","index":0,"n_rows":5555,"n_cols":63,"rows_kept":1125,"cut":true,"hidden":false,"merged":[],"bounds":{"rows_first":500,"rows_last":125,"rows_between":500,"halvings":2}}
[null,"bi","r/a","$","daily profit","daily roi%","daily abi","daily bi","daily #mtt","sold %","c","$ to investors",{"$nulls":7},"daily bi",{"$nulls":6},0,0,{"$nulls":4},"bi","$","payback","month","month bi","month $","#days","from/to","#months",{"$nulls":20},0]
[{"$nulls":4},{"$f":"IF(A2=0,\"\",IF(B2<>\"\",SUM(AH2:AH10000)-SUM(AG2:AG10000)-SUM(E3:E10000),\"\"))","v":""},{"$f":"IF(A2=0,\"\",IF(T2=0,\"\",E2/T2))","v":""},{"$f":"IF(A3=0,IF(B3=\"\",IF(B2=0,\"\",U2/S2),\"\"),U2/S2)","v":""},{"$f":"IF(A3=0,IF(B3=\"\",IF(B2=0,\"\",U2),\"\"),U2)","v":""},{"$f":"IF(A3=0,IF(B3=\"\",IF(B2=0,\"\",S2),\"\"),S2)","v":""},null,null,{"$f":"IF(A2=0,\"\",SUM(AI2:AI10000)-SUM(L3:L10000))","v":""},{"$nulls":6},{"$f":"IF(A2=0,S1+1,1)","v":1},{"$f":"IF(A2=0,\"\",SUM(AG2:AG10000)-SUM(T3:T10000))","v":""},{"$f":"IF(A3=0,IF(B3=\"\",IF(B2=0,\"\",SUM($AG$1:AG2)-SUM($U$1:U1)),\"\"),SUM($AG$1:AG2)-SUM($U$1:U1))","v":""},{"$nulls":5},{"$f":"AA1+AH2-AG2","v":0},{"$f":"IF(AJ2=statistics!$D$3,AB1+AH2-AG2,)","v":0},{"$f":"IF(AND(ROW(AC2)>=statistics!$C$55,ROW(AC2)<=statistics!$D$55),AC1+AH2-AG2,)","v":0},{"$f":"IF(AND(statistics!$C$55<=ROW(A2),ROW(A2)<=statistics!$D$55)=TRUE,AH2-AG2+AA1-INDEX(AA:AA,statistics!$C$55),\"\")","v":""},null,null,{"$f":"IF(J2=0,B2+C2,(B2+C2)-(B2+C2)*J2*K2)","v":0},{"$f":"IF(J2=0,D2,D2*(1-J2))","v":0},{"$f":"IF(J2=0,,D2*J2)","v":0},{"$f":"IF(A2<>0,MONTH(A2),IF(B2=\"\",\"\",AJ1))","v":""},{"$f":"IF(statistics!$D$3<>0,IF(AJ2=statistics!$D$3,AG2,\"\"),IF(B2<>\"\",AG2,\"\"))","v":""},{"$f":"IF(statistics!$D$3<>0,IF(AJ2=statistics!$D$3,IF(AH2=0,\"\",AH2),\"\"),IF(AH2<>0,AH2,\"\"))","v":""},{"$f":"IF(statistics!$D$3<>0,IF(AJ2=statistics!$D$3,IF(A2=0,\"\",1),\"\"),IF(A2=0,\"\",1))","v":""},{"$f":"IF(statistics!$D$3=AJ3,ROW(AN2),\"\")","v":""},{"$f":"AJ2","v":""},null,{"$f":"IF(B2=0,\"\",IF(D2=0,IF(D1=0,AQ1+1,1),\"\"))","v":""},{"$nulls":6},{"$f":"J2*D2-J2*K2*(B2+C2)","v":0},null,null,{"$f":"statistics!P3","v":11},{"$f":"IF(B2=$BA$2,ROW(),\"\")","v":""},null,null,{"$f":"IF(B2=$BA$2,INDEX(D:D,SMALL(BB:BB,CELL(\"содержимое\",BG2)))-INDEX(B:B,SMALL(BB:BB,CELL(\"содержимое\",BG2)))-INDEX(C:C,SMALL(BB:BB,CELL(\"содержимое\",BG2))),\"\")","v":""},null,{"$f":"IF($BA$2=B2,BG1+1,BG1)","v":0},null,{"$f":"INDEX(BE:BE,SMALL(BB:BB,CELL(\"содержимое\",BK2)))","v":{"$error":"#NUM!"}},{"$f":"BJ1+BI2","v":{"$error":"#NUM!"}},{"$f":"BK1+1","v":1}]
[{"$nulls":4},{"$f":"IF(A3=0,\"\",IF(B3<>\"\",SUM(AH3:AH10001)-SUM(AG3:AG10001)-SUM(E4:E10001),\"\"))","v":""},"","","","",null,null,{"$f":"IF(A3=0,\"\",SUM(AI3:AI10001)-SUM(L4:L10001))","v":""},{"$nulls":6},2,{"$f":"IF(A3=0,\"\",SUM(AG3:AG10001)-SUM(T4:T10001))","v":""},{"$f":"IF(A4=0,IF(B4=\"\",IF(B3=0,\"\",SUM($AG$1:AG3)-SUM($U$1:U2)),\"\"),SUM($AG$1:AG3)-SUM($U$1:U2))","v":""},{"$nulls":5},{"$f":"AA2+AH3-AG3","v":0},{"$f":"IF(AJ3=statistics!$D$3,AB2+AH3-AG3,)","v":0},{"$f":"IF(AND(ROW(AC3)>=statistics!$C$55,ROW(AC3)<=statistics!$D$55),AC2+AH3-AG3,)","v":0},{"$f":"IF(AND(statistics!$C$55<=ROW(A3),ROW(A3)<=statistics!$D$55)=TRUE,AH3-AG3+AA2-INDEX(AA:AA,statistics!$C$55),\"\")","v":""},null,null,{"$f":"IF(J3=0,B3+C3,(B3+C3)-(B3+C3)*J3*K3)","v":0},{"$f":"IF(J3=0,D3,D3*(1-J3))","v":0},{"$f":"IF(J3=0,,D3*J3)","v":0},"",{"$f":"IF(statistics!$D$3<>0,IF(AJ3=statistics!$D$3,AG3,\"\"),IF(B3<>\"\",AG3,\"\"))","v":""},{"$f":"IF(statistics!$D$3<>0,IF(AJ3=statistics!$D$3,IF(AH3=0,\"\",AH3),\"\"),IF(AH3<>0,AH3,\"\"))","v":""},{"$f":"IF(statistics!$D$3<>0,IF(AJ3=statistics!$D$3,IF(A3=0,\"\",1),\"\"),IF(A3=0,\"\",1))","v":""},{"$f":"IF(AK3<>\"\",IF(AK2=0,ROW(AK3),ROW(AK3)),\"\")","v":""},{"$f":"IF(A3<>0,IF(MONTH(A3)=AJ2,\"\",MONTH(A3)),\"\")","v":""},null,{"$f":"IF(B3=0,\"\",IF(D3=0,IF(D2=0,AQ2+1,1),\"\"))","v":""},{"$nulls":6},{"$f":"J3*D3-J3*K3*(B3+C3)","v":0},null,null,null,{"$f":"IF(B3=$BA$2,ROW(),\"\")","v":""},null,null,{"$f":"IF(B3=$BA$2,INDEX(D:D,SMALL(BB:BB,CELL(\"содержимое\",BG3)))-INDEX(B:B,SMALL(BB:BB,CELL(\"содержимое\",BG3)))-INDEX(C:C,SMALL(BB:BB,CELL(\"содержимое\",BG3))),\"\")","v":""},null,{"$f":"IF($BA$2=B3,BG2+1,BG2)","v":0},null,{"$f":"INDEX(BE:BE,SMALL(BB:BB,CELL(\"содержимое\",BK3)))","v":{"$error":"#NUM!"}},{"$f":"BJ2+BI3","v":{"$error":"#NUM!"}},{"$f":"BK2+1","v":2}]
[{"$nulls":4},"","","","","",null,null,"",{"$nulls":6},3,"",{"$f":"IF(A5=0,IF(B5=\"\",IF(B4=0,\"\",SUM($AG$1:AG4)-SUM($U$1:U3)),\"\"),SUM($AG$1:AG4)-SUM($U$1:U3))","v":""},{"$nulls":5},0,{"$f":"IF(AJ4=statistics!$D$3,AB3+AH4-AG4,)","v":0},{"$f":"IF(AND(ROW(AC4)>=statistics!$C$55,ROW(AC4)<=statistics!$D$55),AC3+AH4-AG4,)","v":0},{"$f":"IF(AND(statistics!$C$55<=ROW(A4),ROW(A4)<=statistics!$D$55)=TRUE,AH4-AG4+AA3-INDEX(AA:AA,statistics!$C$55),\"\")","v":""},null,null,{"$f":"B4+C4","v":0},{"$f":"D4","v":0},0,"",{"$f":"IF(statistics!$D$3<>0,IF(AJ4=statistics!$D$3,AG4,\"\"),IF(B4<>\"\",AG4,\"\"))","v":""},{"$f":"IF(statistics!$D$3<>0,IF(AJ4=statistics!$D$3,IF(AH4=0,\"\",AH4),\"\"),IF(AH4<>0,AH4,\"\"))","v":""},{"$f":"IF(statistics!$D$3<>0,IF(AJ4=statistics!$D$3,IF(A4=0,\"\",1),\"\"),IF(A4=0,\"\",1))","v":""},{"$f":"IF(AK4<>\"\",IF(AK3=0,ROW(AK4),ROW(AK4)),\"\")","v":""},{"$f":"IF(A4<>0,IF(MONTH(A4)=AJ3,\"\",MONTH(A4)),\"\")","v":""},null,"",{"$nulls":6},0,null,null,null,"",null,null,"",null,0,null,{"$error":"#NUM!"},{"$error":"#NUM!"},3]
[{"$nulls":4},"","","","","",null,null,"",{"$nulls":6},4,"",{"$f":"IF(A6=0,IF(B6=\"\",IF(B5=0,\"\",SUM($AG$1:AG5)-SUM($U$1:U4)),\"\"),SUM($AG$1:AG5)-SUM($U$1:U4))","v":""},{"$nulls":5},0,{"$f":"IF(AJ5=statistics!$D$3,AB4+AH5-AG5,)","v":0},{"$f":"IF(AND(ROW(AC5)>=statistics!$C$55,ROW(AC5)<=statistics!$D$55),AC4+AH5-AG5,)","v":0},{"$f":"IF(AND(statistics!$C$55<=ROW(A5),ROW(A5)<=statistics!$D$55)=TRUE,AH5-AG5+AA4-INDEX(AA:AA,statistics!$C$55),\"\")","v":""},null,null,{"$f":"IF(J5=0,B5+C5,(B5+C5)-(B5+C5)*J5*K5)","v":0},{"$f":"IF(J5=0,D5,D5*(1-J5))","v":0},0,"",{"$f":"IF(statistics!$D$3<>0,IF(AJ5=statistics!$D$3,AG5,\"\"),IF(B5<>\"\",AG5,\"\"))","v":""},{"$f":"IF(statistics!$D$3<>0,IF(AJ5=statistics!$D$3,IF(AH5=0,\"\",AH5),\"\"),IF(AH5<>0,AH5,\"\"))","v":""},{"$f":"IF(statistics!$D$3<>0,IF(AJ5=statistics!$D$3,IF(A5=0,\"\",1),\"\"),IF(A5=0,\"\",1))","v":""},"","",null,"",{"$nulls":6},0,null,null,null,"",null,null,"",null,0,null,{"$error":"#NUM!"},{"$error":"#NUM!"},4]
[{"$nulls":4},"","","","","",null,null,"",{"$nulls":6},5,"",{"$f":"IF(A7=0,IF(B7=\"\",IF(B6=0,\"\",SUM($AG$1:AG6)-SUM($U$1:U5)),\"\"),SUM($AG$1:AG6)-SUM($U$1:U5))","v":""},{"$nulls":5},0,{"$f":"IF(AJ6=statistics!$D$3,AB5+AH6-AG6,)","v":0},{"$f":"IF(AND(ROW(AC6)>=statistics!$C$55,ROW(AC6)<=statistics!$D$55),AC5+AH6-AG6,)","v":0},{"$f":"IF(AND(statistics!$C$55<=ROW(A6),ROW(A6)<=statistics!$D$55)=TRUE,AH6-AG6+AA5-INDEX(AA:AA,statistics!$C$55),\"\")","v":""},null,null,0,0,0,"",{"$f":"IF(statistics!$D$3<>0,IF(AJ6=statistics!$D$3,AG6,\"\"),IF(B6<>\"\",AG6,\"\"))","v":""},{"$f":"IF(statistics!$D$3<>0,IF(AJ6=statistics!$D$3,IF(AH6=0,\"\",AH6),\"\"),IF(AH6<>0,AH6,\"\"))","v":""},{"$f":"IF(statistics!$D$3<>0,IF(AJ6=statistics!$D$3,IF(A6=0,\"\",1),\"\"),IF(A6=0,\"\",1))","v":""},"","",null,"",{"$nulls":6},0,null,null,null,"",null,null,"",null,0,null,{"$error":"#NUM!"},{"$error":"#NUM!"},5]
[{"$nulls":4},"","","","","",null,null,"",{"$nulls":6},6,"",{"$f":"IF(A8=0,IF(B8=\"\",IF(B7=0,\"\",SUM($AG$1:AG7)-SUM($U$1:U6)),\"\"),SUM($AG$1:AG7)-SUM($U$1:U6))","v":""},{"$nulls":5},0,{"$f":"IF(AJ7=statistics!$D$3,AB6+AH7-AG7,)","v":0},{"$f":"IF(AND(ROW(AC7)>=statistics!$C$55,ROW(AC7)<=statistics!$D$55),AC6+AH7-AG7,)","v":0},{"$f":"IF(AND(statistics!$C$55<=ROW(A7),ROW(A7)<=statistics!$D$55)=TRUE,AH7-AG7+AA6-INDEX(AA:AA,statistics!$C$55),\"\")","v":""},null,null,0,0,0,"",{"$f":"IF(statistics!$D$3<>0,IF(AJ7=statistics!$D$3,AG7,\"\"),IF(B7<>\"\",AG7,\"\"))","v":""},{"$f":"IF(statistics!$D$3<>0,IF(AJ7=statistics!$D$3,IF(AH7=0,\"\",AH7),\"\"),IF(AH7<>0,AH7,\"\"))","v":""},{"$f":"IF(statistics!$D$3<>0,IF(AJ7=statistics!$D$3,IF(A7=0,\"\",1),\"\"),IF(A7=0,\"\",1))","v":""},"","",null,"",{"$nulls":6},0,null,null,null,"",null,null,"",null,0,null,{"$error":"#NUM!"},{"$error":"#NUM!"},6]
[{"$nulls":4},"","","","","",null,null,"",{"$nulls":6},7,"",{"$f":"IF(A9=0,IF(B9=\"\",IF(B8=0,\"\",SUM($AG$1:AG8)-SUM($U$1:U7)),\"\"),SUM($AG$1:AG8)-SUM($U$1:U7))","v":""},{"$nulls":5},0,{"$f":"IF(AJ8=statistics!$D$3,AB7+AH8-AG8,)","v":0},{"$f":"IF(AND(ROW(AC8)>=statistics!$C$55,ROW(AC8)<=statistics!$D$55),AC7+AH8-AG8,)","v":0},{"$f":"IF(AND(statistics!$C$55<=ROW(A8),ROW(A8)<=statistics!$D$55)=TRUE,AH8-AG8+AA7-INDEX(AA:AA,statistics!$C$55),\"\")","v":""},null,null,0,0,0,"",{"$f":"IF(statistics!$D$3<>0,IF(AJ8=statistics!$D$3,AG8,\"\"),IF(B8<>\"\",AG8,\"\"))","v":""},{"$f":"IF(statistics!$D$3<>0,IF(AJ8=statistics!$D$3,IF(AH8=0,\"\",AH8),\"\"),IF(AH8<>0,AH8,\"\"))","v":""},{"$f":"IF(statistics!$D$3<>0,IF(AJ8=statistics!$D$3,IF(A8=0,\"\",1),\"\"),IF(A8=0,\"\",1))","v":""},"","",null,"",{"$nulls":6},0,null,null,null,"",null,null,"",null,0,null,{"$error":"#NUM!"},{"$error":"#NUM!"},7]
[{"$nulls":4},"","","","","",null,null,"",{"$nulls":6},8,"",{"$f":"IF(A10=0,IF(B10=\"\",IF(B9=0,\"\",SUM($AG$1:AG9)-SUM($U$1:U8)),\"\"),SUM($AG$1:AG9)-SUM($U$1:U8))","v":""},{"$nulls":5},0,{"$f":"IF(AJ9=statistics!$D$3,AB8+AH9-AG9,)","v":0},{"$f":"IF(AND(ROW(AC9)>=statistics!$C$55,ROW(AC9)<=statistics!$D$55),AC8+AH9-AG9,)","v":0},{"$f":"IF(AND(statistics!$C$55<=ROW(A9),ROW(A9)<=statistics!$D$55)=TRUE,AH9-AG9+AA8-INDEX(AA:AA,statistics!$C$55),\"\")","v":""},null,null,0,0,0,"",{"$f":"IF(statistics!$D$3<>0,IF(AJ9=statistics!$D$3,AG9,\"\"),IF(B9<>\"\",AG9,\"\"))","v":""},{"$f":"IF(statistics!$D$3<>0,IF(AJ9=statistics!$D$3,IF(AH9=0,\"\",AH9),\"\"),IF(AH9<>0,AH9,\"\"))","v":""},{"$f":"IF(statistics!$D$3<>0,IF(AJ9=statistics!$D$3,IF(A9=0,\"\",1),\"\"),IF(A9=0,\"\",1))","v":""},"","",null,"",{"$nulls":6},0,null,null,null,"",null,null,"",null,0,null,{"$error":"#NUM!"},{"$error":"#NUM!"},8]
[{"$nulls":4},"","","","","",null,null,"",{"$nulls":6},9,"",{"$f":"IF(A11=0,IF(B11=\"\",IF(B10=0,\"\",SUM($AG$1:AG10)-SUM($U$1:U9)),\"\"),SUM($AG$1:AG10)-SUM($U$1:U9))","v":""},{"$nulls":5},0,{"$f":"IF(AJ10=statistics!$D$3,AB9+AH10-AG10,)","v":0},{"$f":"IF(AND(ROW(AC10)>=statistics!$C$55,ROW(AC10)<=statistics!$D$55),AC9+AH10-AG10,)","v":0},{"$f":"IF(AND(statistics!$C$55<=ROW(A10),ROW(A10)<=statistics!$D$55)=TRUE,AH10-AG10+AA9-INDEX(AA:AA,statistics!$C$55),\"\")","v":""},null,null,0,0,0,"",{"$f":"IF(statistics!$D$3<>0,IF(AJ10=statistics!$D$3,AG10,\"\"),IF(B10<>\"\",AG10,\"\"))","v":""},{"$f":"IF(statistics!$D$3<>0,IF(AJ10=statistics!$D$3,IF(AH10=0,\"\",AH10),\"\"),IF(AH10<>0,AH10,\"\"))","v":""},{"$f":"IF(statistics!$D$3<>0,IF(AJ10=statistics!$D$3,IF(A10=0,\"\",1),\"\"),IF(A10=0,\"\",1))","v":""},"","",null,"",{"$nulls":6},0,null,null,null,"",null,null,"",null,0,null,{"$error":"#NUM!"},{"$error":"#NUM!"},9]
[{"$nulls":4},"","","","","",null,null,"",{"$nulls":6},10,"",{"$f":"IF(A12=0,IF(B12=\"\",IF(B11=0,\"\",SUM($AG$1:AG11)-SUM($U$1:U10)),\"\"),SUM($AG$1:AG11)-SUM($U$1:U10))","v":""},{"$nulls":5},0,{"$f":"IF(AJ11=statistics!$D$3,AB10+AH11-AG11,)","v":0},{"$f":"IF(AND(ROW(AC11)>=statistics!$C$55,ROW(AC11)<=statistics!$D$55),AC10+AH11-AG11,)","v":0},{"$f":"IF(AND(statistics!$C$55<=ROW(A11),ROW(A11)<=statistics!$D$55)=TRUE,AH11-AG11+AA10-INDEX(AA:AA,statistics!$C$55),\"\")","v":""},null,null,0,0,0,"",{"$f":"IF(statistics!$D$3<>0,IF(AJ11=statistics!$D$3,AG11,\"\"),IF(B11<>\"\",AG11,\"\"))","v":""},{"$f":"IF(statistics!$D$3<>0,IF(AJ11=statistics!$D$3,IF(AH11=0,\"\",AH11),\"\"),IF(AH11<>0,AH11,\"\"))","v":""},{"$f":"IF(statistics!$D$3<>0,IF(AJ11=statistics!$D$3,IF(A11=0,\"\",1),\"\"),IF(A11=0,\"\",1))","v":""},"","",null,"",{"$nulls":6},0,null,null,null,"",null,null,"",null,0,null,{"$error":"#NUM!"},{"$error":"#NUM!"},10]
[{"$nulls":4},"","","","","",null,null,"",{"$nulls":6},11,"",{"$f":"IF(A13=0,IF(B13=\"\",IF(B12=0,\"\",SUM($AG$1:AG12)-SUM($U$1:U11)),\"\"),SUM($AG$1:AG12)-SUM($U$1:U11))","v":""},{"$nulls":5},0,{"$f":"IF(AJ12=statistics!$D$3,AB11+AH12-AG12,)","v":0},{"$f":"IF(AND(ROW(AC12)>=statistics!$C$55,ROW(AC12)<=statistics!$D$55),AC11+AH12-AG12,)","v":0},{"$f":"IF(AND(statistics!$C$55<=ROW(A12),ROW(A12)<=statistics!$D$55)=TRUE,AH12-AG12+AA11-INDEX(AA:AA,statistics!$C$55),\"\")","v":""},null,null,0,0,0,"",{"$f":"IF(statistics!$D$3<>0,IF(AJ12=statistics!$D$3,AG12,\"\"),IF(B12<>\"\",AG12,\"\"))","v":""},{"$f":"IF(statistics!$D$3<>0,IF(AJ12=statistics!$D$3,IF(AH12=0,\"\",AH12),\"\"),IF(AH12<>0,AH12,\"\"))","v":""},{"$f":"IF(statistics!$D$3<>0,IF(AJ12=statistics!$D$3,IF(A12=0,\"\",1),\"\"),IF(A12=0,\"\",1))","v":""},"","",null,"",{"$nulls":6},0,null,null,null,"",null,null,"",null,0,null,{"$error":"#NUM!"},{"$error":"#NUM!"},11]
[{"$nulls":4},"","","","","",null,null,"",{"$nulls":6},12,"",{"$f":"IF(A14=0,IF(B14=\"\",IF(B13=0,\"\",SUM($AG$1:AG13)-SUM($U$1:U12)),\"\"),SUM($AG$1:AG13)-SUM($U$1:U12))","v":""},{"$nulls":5},0,{"$f":"IF(AJ13=statistics!$D$3,AB12+AH13-AG13,)","v":0},{"$f":"IF(AND(ROW(AC13)>=statistics!$C$55,ROW(AC13)<=statistics!$D$55),AC12+AH13-AG13,)","v":0},{"$f":"IF(AND(statistics!$C$55<=ROW(A13),ROW(A13)<=statistics!$D$55)=TRUE,AH13-AG13+AA12-INDEX(AA:AA,statistics!$C$55),\"\")","v":""},null,null,0,0,0,"",{"$f":"IF(statistics!$D$3<>0,IF(AJ13=statistics!$D$3,AG13,\"\"),IF(B13<>\"\",AG13,\"\"))","v":""},{"$f":"IF(statistics!$D$3<>0,IF(AJ13=statistics!$D$3,IF(AH13=0,\"\",AH13),\"\"),IF(AH13<>0,AH13,\"\"))","v":""},{"$f":"IF(statistics!$D$3<>0,IF(AJ13=statistics!$D$3,IF(A13=0,\"\",1),\"\"),IF(A13=0,\"\",1))","v":""},"","",null,"",{"$nulls":6},0,null,null,null,"",null,null,"",null,0,null,{"$error":"#NUM!"},{"$error":"#NUM!"},12]
[{"$nulls":4},"","","","","",null,null,"",{"$nulls":6},13,"",{"$f":"IF(A15=0,IF(B15=\"\",IF(B14=0,\"\",SUM($AG$1:AG14)-SUM($U$1:U13)),\"\"),SUM($AG$1:AG14)-SUM($U$1:U13))","v":""},{"$nulls":5},0,{"$f":"IF(AJ14=statistics!$D$3,AB13+AH14-AG14,)","v":0},{"$f":"IF(AND(ROW(AC14)>=statistics!$C$55,ROW(AC14)<=statistics!$D$55),AC13+AH14-AG14,)","v":0},{"$f":"IF(AND(statistics!$C$55<=ROW(A14),ROW(A14)<=statistics!$D$55)=TRUE,AH14-AG14+AA13-INDEX(AA:AA,statistics!$C$55),\"\")","v":""},null,null,0,0,0,"",{"$f":"IF(statistics!$D$3<>0,IF(AJ14=statistics!$D$3,AG14,\"\"),IF(B14<>\"\",AG14,\"\"))","v":""},{"$f":"IF(statistics!$D$3<>0,IF(AJ14=statistics!$D$3,IF(AH14=0,\"\",AH14),\"\"),IF(AH14<>0,AH14,\"\"))","v":""},{"$f":"IF(statistics!$D$3<>0,IF(AJ14=statistics!$D$3,IF(A14=0,\"\",1),\"\"),IF(A14=0,\"\",1))","v":""},"","",null,"",{"$nulls":6},0,null,null,null,"",null,null,"",null,0,null,{"$error":"#NUM!"},{"$error":"#NUM!"},13]
[{"$nulls":4},"","","","","",null,null,"",{"$nulls":6},14,"",{"$f":"IF(A16=0,IF(B16=\"\",IF(B15=0,\"\",SUM($AG$1:AG15)-SUM($U$1:U14)),\"\"),SUM($AG$1:AG15)-SUM($U$1:U14))","v":""},{"$nulls":5},0,{"$f":"IF(AJ15=statistics!$D$3,AB14+AH15-AG15,)","v":0},{"$f":"IF(AND(ROW(AC15)>=statistics!$C$55,ROW(AC15)<=statistics!$D$55),AC14+AH15-AG15,)","v":0},{"$f":"IF(AND(statistics!$C$55<=ROW(A15),ROW(A15)<=statistics!$D$55)=TRUE,AH15-AG15+AA14-INDEX(AA:AA,statistics!$C$55),\"\")","v":""},null,null,0,0,0,"",{"$f":"IF(statistics!$D$3<>0,IF(AJ15=statistics!$D$3,AG15,\"\"),IF(B15<>\"\",AG15,\"\"))","v":""},{"$f":"IF(statistics!$D$3<>0,IF(AJ15=statistics!$D$3,IF(AH15=0,\"\",AH15),\"\"),IF(AH15<>0,AH15,\"\"))","v":""},{"$f":"IF(statistics!$D$3<>0,IF(AJ15=statistics!$D$3,IF(A15=0,\"\",1),\"\"),IF(A15=0,\"\",1))","v":""},"","",null,"",{"$nulls":6},0,null,null,null,"",null,null,"",null,0,null,{"$error":"#NUM!"},{"$error":"#NUM!"},14]
[{"$nulls":4},"","",{"$f":"IF(A17=0,IF(B17=\"\",IF(B16=0,\"\",U16/S16),\"\"),U16/S16)","v":""},{"$f":"IF(A17=0,IF(B17=\"\",IF(B16=0,\"\",U16),\"\"),U16)","v":""},{"$f":"IF(A17=0,IF(B17=\"\",IF(B16=0,\"\",S16),\"\"),S16)","v":""},null,null,"",{"$nulls":6},15,"",{"$f":"IF(A17=0,IF(B17=\"\",IF(B16=0,\"\",SUM($AG$1:AG16)-SUM($U$1:U15)),\"\"),SUM($AG$1:AG16)-SUM($U$1:U15))","v":""},{"$nulls":5},0,{"$f":"IF(AJ16=statistics!$D$3,AB15+AH16-AG16,)","v":0},{"$f":"IF(AND(ROW(AC16)>=statistics!$C$55,ROW(AC16)<=statistics!$D$55),AC15+AH16-AG16,)","v":0},{"$f":"IF(AND(statistics!$C$55<=ROW(A16),ROW(A16)<=statistics!$D$55)=TRUE,AH16-AG16+AA15-INDEX(AA:AA,statistics!$C$55),\"\")","v":""},null,null,0,0,0,"",{"$f":"IF(statistics!$D$3<>0,IF(AJ16=statistics!$D$3,AG16,\"\"),IF(B16<>\"\",AG16,\"\"))","v":""},{"$f":"IF(statistics!$D$3<>0,IF(AJ16=statistics!$D$3,IF(AH16=0,\"\",AH16),\"\"),IF(AH16<>0,AH16,\"\"))","v":""},{"$f":"IF(statistics!$D$3<>0,IF(AJ16=statistics!$D$3,IF(A16=0,\"\",1),\"\"),IF(A16=0,\"\",1))","v":""},"","",null,"",{"$nulls":6},0,null,null,null,"",null,null,"",null,0,null,{"$error":"#NUM!"},{"$error":"#NUM!"},15]
[{"$nulls":4},"","",{"$f":"IF(A18=0,IF(B18=\"\",IF(B17=0,\"\",U17/S17),\"\"),U17/S17)","v":""},"","",null,null,"",{"$nulls":6},16,"",{"$f":"IF(A18=0,IF(B18=\"\",IF(B17=0,\"\",SUM($AG$1:AG17)-SUM($U$1:U16)),\"\"),SUM($AG$1:AG17)-SUM($U$1:U16))","v":""},{"$nulls":5},0,{"$f":"IF(AJ17=statistics!$D$3,AB16+AH17-AG17,)","v":0},{"$f":"IF(AND(ROW(AC17)>=statistics!$C$55,ROW(AC17)<=statistics!$D$55),AC16+AH17-AG17,)","v":0},{"$f":"IF(AND(statistics!$C$55<=ROW(A17),ROW(A17)<=statistics!$D$55)=TRUE,AH17-AG17+AA16-INDEX(AA:AA,statistics!$C$55),\"\")","v":""},null,null,0,0,0,"",{"$f":"IF(statistics!$D$3<>0,IF(AJ17=statistics!$D$3,AG17,\"\"),IF(B17<>\"\",AG17,\"\"))","v":""},{"$f":"IF(statistics!$D$3<>0,IF(AJ17=statistics!$D$3,IF(AH17=0,\"\",AH17),\"\"),IF(AH17<>0,AH17,\"\"))","v":""},{"$f":"IF(statistics!$D$3<>0,IF(AJ17=statistics!$D$3,IF(A17=0,\"\",1),\"\"),IF(A17=0,\"\",1))","v":""},"","",null,"",{"$nulls":6},0,null,null,null,"",null,null,"",null,0,null,{"$error":"#NUM!"},{"$error":"#NUM!"},16]
[{"$nulls":4},"","","","","",null,null,"",{"$nulls":6},17,"",{"$f":"IF(A19=0,IF(B19=\"\",IF(B18=0,\"\",SUM($AG$1:AG18)-SUM($U$1:U17)),\"\"),SUM($AG$1:AG18)-SUM($U$1:U17))","v":""},{"$nulls":5},0,{"$f":"IF(AJ18=statistics!$D$3,AB17+AH18-AG18,)","v":0},{"$f":"IF(AND(ROW(AC18)>=statistics!$C$55,ROW(AC18)<=statistics!$D$55),AC17+AH18-AG18,)","v":0},{"$f":"IF(AND(statistics!$C$55<=ROW(A18),ROW(A18)<=statistics!$D$55)=TRUE,AH18-AG18+AA17-INDEX(AA:AA,statistics!$C$55),\"\")","v":""},null,null,0,0,0,"",{"$f":"IF(statistics!$D$3<>0,IF(AJ18=statistics!$D$3,AG18,\"\"),IF(B18<>\"\",AG18,\"\"))","v":""},{"$f":"IF(statistics!$D$3<>0,IF(AJ18=statistics!$D$3,IF(AH18=0,\"\",AH18),\"\"),IF(AH18<>0,AH18,\"\"))","v":""},{"$f":"IF(statistics!$D$3<>0,IF(AJ18=statistics!$D$3,IF(A18=0,\"\",1),\"\"),IF(A18=0,\"\",1))","v":""},"","",null,"",{"$nulls":6},0,null,null,null,"",null,null,"",null,0,null,{"$error":"#NUM!"},{"$error":"#NUM!"},17]
[{"$nulls":4},"","","","","",null,null,"",{"$nulls":6},18,"",{"$f":"IF(A20=0,IF(B20=\"\",IF(B19=0,\"\",SUM($AG$1:AG19)-SUM($U$1:U18)),\"\"),SUM($AG$1:AG19)-SUM($U$1:U18))","v":""},{"$nulls":5},0,{"$f":"IF(AJ19=statistics!$D$3,AB18+AH19-AG19,)","v":0},{"$f":"IF(AND(ROW(AC19)>=statistics!$C$55,ROW(AC19)<=statistics!$D$55),AC18+AH19-AG19,)","v":0},{"$f":"IF(AND(statistics!$C$55<=ROW(A19),ROW(A19)<=statistics!$D$55)=TRUE,AH19-AG19+AA18-INDEX(AA:AA,statistics!$C$55),\"\")","v":""},null,null,0,0,0,"",{"$f":"IF(statistics!$D$3<>0,IF(AJ19=statistics!$D$3,AG19,\"\"),IF(B19<>\"\",AG19,\"\"))","v":""},{"$f":"IF(statistics!$D$3<>0,IF(AJ19=statistics!$D$3,IF(AH19=0,\"\",AH19),\"\"),IF(AH19<>0,AH19,\"\"))","v":""},{"$f":"IF(statistics!$D$3<>0,IF(AJ19=statistics!$D$3,IF(A19=0,\"\",1),\"\"),IF(A19=0,\"\",1))","v":""},"","",null,"",{"$nulls":6},0,null,null,null,"",null,null,"",null,0,null,{"$error":"#NUM!"},{"$error":"#NUM!"},18]
[{"$nulls":4},"","","","","",null,null,"",{"$nulls":6},19,"",{"$f":"IF(A21=0,IF(B21=\"\",IF(B20=0,\"\",SUM($AG$1:AG20)-SUM($U$1:U19)),\"\"),SUM($AG$1:AG20)-SUM($U$1:U19))","v":""},{"$nulls":5},0,{"$f":"IF(AJ20=statistics!$D$3,AB19+AH20-AG20,)","v":0},{"$f":"IF(AND(ROW(AC20)>=statistics!$C$55,ROW(AC20)<=statistics!$D$55),AC19+AH20-AG20,)","v":0},{"$f":"IF(AND(statistics!$C$55<=ROW(A20),ROW(A20)<=statistics!$D$55)=TRUE,AH20-AG20+AA19-INDEX(AA:AA,statistics!$C$55),\"\")","v":""},null,null,0,0,0,"",{"$f":"IF(statistics!$D$3<>0,IF(AJ20=statistics!$D$3,AG20,\"\"),IF(B20<>\"\",AG20,\"\"))","v":""},{"$f":"IF(statistics!$D$3<>0,IF(AJ20=statistics!$D$3,IF(AH20=0,\"\",AH20),\"\"),IF(AH20<>0,AH20,\"\"))","v":""},{"$f":"IF(statistics!$D$3<>0,IF(AJ20=statistics!$D$3,IF(A20=0,\"\",1),\"\"),IF(A20=0,\"\",1))","v":""},"","",null,"",{"$nulls":6},0,null,null,null,"",null,null,"",null,0,null,{"$error":"#NUM!"},{"$error":"#NUM!"},19]
[{"$nulls":4},"","","","","",null,null,"",{"$nulls":6},20,"",{"$f":"IF(A22=0,IF(B22=\"\",IF(B21=0,\"\",SUM($AG$1:AG21)-SUM($U$1:U20)),\"\"),SUM($AG$1:AG21)-SUM($U$1:U20))","v":""},{"$nulls":5},0,{"$f":"IF(AJ21=statistics!$D$3,AB20+AH21-AG21,)","v":0},{"$f":"IF(AND(ROW(AC21)>=statistics!$C$55,ROW(AC21)<=statistics!$D$55),AC20+AH21-AG21,)","v":0},{"$f":"IF(AND(statistics!$C$55<=ROW(A21),ROW(A21)<=statistics!$D$55)=TRUE,AH21-AG21+AA20-INDEX(AA:AA,statistics!$C$55),\"\")","v":""},null,null,0,0,0,"",{"$f":"IF(statistics!$D$3<>0,IF(AJ21=statistics!$D$3,AG21,\"\"),IF(B21<>\"\",AG21,\"\"))","v":""},{"$f":"IF(statistics!$D$3<>0,IF(AJ21=statistics!$D$3,IF(AH21=0,\"\",AH21),\"\"),IF(AH21<>0,AH21,\"\"))","v":""},{"$f":"IF(statistics!$D$3<>0,IF(AJ21=statistics!$D$3,IF(A21=0,\"\",1),\"\"),IF(A21=0,\"\",1))","v":""},"","",null,"",{"$nulls":6},0,null,null,null,"",null,null,"",null,0,null,{"$error":"#NUM!"},{"$error":"#NUM!"},20]
[{"$nulls":4},"","","","","",null,null,"",{"$nulls":6},21,"",{"$f":"IF(A23=0,IF(B23=\"\",IF(B22=0,\"\",SUM($AG$1:AG22)-SUM($U$1:U21)),\"\"),SUM($AG$1:AG22)-SUM($U$1:U21))","v":""},{"$nulls":5},0,{"$f":"IF(AJ22=statistics!$D$3,AB21+AH22-AG22,)","v":0},{"$f":"IF(AND(ROW(AC22)>=statistics!$C$55,ROW(AC22)<=statistics!$D$55),AC21+AH22-AG22,)","v":0},{"$f":"IF(AND(statistics!$C$55<=ROW(A22),ROW(A22)<=statistics!$D$55)=TRUE,AH22-AG22+AA21-INDEX(AA:AA,statistics!$C$55),\"\")","v":""},null,null,0,0,0,"",{"$f":"IF(statistics!$D$3<>0,IF(AJ22=statistics!$D$3,AG22,\"\"),IF(B22<>\"\",AG22,\"\"))","v":""},{"$f":"IF(statistics!$D$3<>0,IF(AJ22=statistics!$D$3,IF(AH22=0,\"\",AH22),\"\"),IF(AH22<>0,AH22,\"\"))","v":""},{"$f":"IF(statistics!$D$3<>0,IF(AJ22=statistics!$D$3,IF(A22=0,\"\",1),\"\"),IF(A22=0,\"\",1))","v":""},"","",null,"",{"$nulls":6},0,null,null,null,"",null,null,"",null,0,null,{"$error":"#NUM!"},{"$error":"#NUM!"},21]
[{"$nulls":4},"","","","","",null,null,"",{"$nulls":6},22,"",{"$f":"IF(A24=0,IF(B24=\"\",IF(B23=0,\"\",SUM($AG$1:AG23)-SUM($U$1:U22)),\"\"),SUM($AG$1:AG23)-SUM($U$1:U22))","v":""},{"$nulls":5},0,{"$f":"IF(AJ23=statistics!$D$3,AB22+AH23-AG23,)","v":0},{"$f":"IF(AND(ROW(AC23)>=statistics!$C$55,ROW(AC23)<=statistics!$D$55),AC22+AH23-AG23,)","v":0},{"$f":"IF(AND(statistics!$C$55<=ROW(A23),ROW(A23)<=statistics!$D$55)=TRUE,AH23-AG23+AA22-INDEX(AA:AA,statistics!$C$55),\"\")","v":""},null,null,0,0,0,"",{"$f":"IF(statistics!$D$3<>0,IF(AJ23=statistics!$D$3,AG23,\"\"),IF(B23<>\"\",AG23,\"\"))","v":""},{"$f":"IF(statistics!$D$3<>0,IF(AJ23=statistics!$D$3,IF(AH23=0,\"\",AH23),\"\"),IF(AH23<>0,AH23,\"\"))","v":""},{"$f":"IF(statistics!$D$3<>0,IF(AJ23=statistics!$D$3,IF(A23=0,\"\",1),\"\"),IF(A23=0,\"\",1))","v":""},"","",null,"",{"$nulls":6},0,null,null,null,"",null,null,"",null,0,null,{"$error":"#NUM!"},{"$error":"#NUM!"},22]
[{"$nulls":4},"","","","","",null,null,"",{"$nulls":6},23,"",{"$f":"IF(A25=0,IF(B25=\"\",IF(B24=0,\"\",SUM($AG$1:AG24)-SUM($U$1:U23)),\"\"),SUM($AG$1:AG24)-SUM($U$1:U23))","v":""},{"$nulls":5},0,{"$f":"IF(AJ24=statistics!$D$3,AB23+AH24-AG24,)","v":0},{"$f":"IF(AND(ROW(AC24)>=statistics!$C$55,ROW(AC24)<=statistics!$D$55),AC23+AH24-AG24,)","v":0},{"$f":"IF(AND(statistics!$C$55<=ROW(A24),ROW(A24)<=statistics!$D$55)=TRUE,AH24-AG24+AA23-INDEX(AA:AA,statistics!$C$55),\"\")","v":""},null,null,0,0,0,"",{"$f":"IF(statistics!$D$3<>0,IF(AJ24=statistics!$D$3,AG24,\"\"),IF(B24<>\"\",AG24,\"\"))","v":""},{"$f":"IF(statistics!$D$3<>0,IF(AJ24=statistics!$D$3,IF(AH24=0,\"\",AH24),\"\"),IF(AH24<>0,AH24,\"\"))","v":""},{"$f":"IF(statistics!$D$3<>0,IF(AJ24=statistics!$D$3,IF(A24=0,\"\",1),\"\"),IF(A24=0,\"\",1))","v":""},"","",null,"",{"$nulls":6},0,null,null,null,"",null,null,"",null,0,null,{"$error":"#NUM!"},{"$error":"#NUM!"},23]
[{"$nulls":4},"","","","","",null,null,"",{"$nulls":6},24,"",{"$f":"IF(A26=0,IF(B26=\"\",IF(B25=0,\"\",SUM($AG$1:AG25)-SUM($U$1:U24)),\"\"),SUM($AG$1:AG25)-SUM($U$1:U24))","v":""},{"$nulls":5},0,{"$f":"IF(AJ25=statistics!$D$3,AB24+AH25-AG25,)","v":0},{"$f":"IF(AND(ROW(AC25)>=statistics!$C$55,ROW(AC25)<=statistics!$D$55),AC24+AH25-AG25,)","v":0},{"$f":"IF(AND(statistics!$C$55<=ROW(A25),ROW(A25)<=statistics!$D$55)=TRUE,AH25-AG25+AA24-INDEX(AA:AA,statistics!$C$55),\"\")","v":0},null,null,0,0,0,"",{"$f":"IF(statistics!$D$3<>0,IF(AJ25=statistics!$D$3,AG25,\"\"),IF(B25<>\"\",AG25,\"\"))","v":""},{"$f":"IF(statistics!$D$3<>0,IF(AJ25=statistics!$D$3,IF(AH25=0,\"\",AH25),\"\"),IF(AH25<>0,AH25,\"\"))","v":""},{"$f":"IF(statistics!$D$3<>0,IF(AJ25=statistics!$D$3,IF(A25=0,\"\",1),\"\"),IF(A25=0,\"\",1))","v":""},"","",null,"",{"$nulls":6},0,null,null,null,"",null,null,"",null,0,null,{"$error":"#NUM!"},{"$error":"#NUM!"},24]
[{"$nulls":4},"","","","","",null,null,"",{"$nulls":6},25,"",{"$f":"IF(A27=0,IF(B27=\"\",IF(B26=0,\"\",SUM($AG$1:AG26)-SUM($U$1:U25)),\"\"),SUM($AG$1:AG26)-SUM($U$1:U25))","v":""},{"$nulls":5},0,{"$f":"IF(AJ26=statistics!$D$3,AB25+AH26-AG26,)","v":0},{"$f":"IF(AND(ROW(AC26)>=statistics!$C$55,ROW(AC26)<=statistics!$D$55),AC25+AH26-AG26,)","v":0},{"$f":"IF(AND(statistics!$C$55<=ROW(A26),ROW(A26)<=statistics!$D$55)=TRUE,AH26-AG26+AA25-INDEX(AA:AA,statistics!$C$55),\"\")","v":0},null,null,0,0,0,"",{"$f":"IF(statistics!$D$3<>0,IF(AJ26=statistics!$D$3,AG26,\"\"),IF(B26<>\"\",AG26,\"\"))","v":""},{"$f":"IF(statistics!$D$3<>0,IF(AJ26=statistics!$D$3,IF(AH26=0,\"\",AH26),\"\"),IF(AH26<>0,AH26,\"\"))","v":""},{"$f":"IF(statistics!$D$3<>0,IF(AJ26=statistics!$D$3,IF(A26=0,\"\",1),\"\"),IF(A26=0,\"\",1))","v":""},"","",null,"",{"$nulls":6},0,null,null,null,"",null,null,"",null,0,null,{"$error":"#NUM!"},{"$error":"#NUM!"},25]
[{"$nulls":4},"","","","","",null,null,"",{"$nulls":6},26,"",{"$f":"IF(A28=0,IF(B28=\"\",IF(B27=0,\"\",SUM($AG$1:AG27)-SUM($U$1:U26)),\"\"),SUM($AG$1:AG27)-SUM($U$1:U26))","v":""},{"$nulls":5},0,{"$f":"IF(AJ27=statistics!$D$3,AB26+AH27-AG27,)","v":0},{"$f":"IF(AND(ROW(AC27)>=statistics!$C$55,ROW(AC27)<=statistics!$D$55),AC26+AH27-AG27,)","v":0},{"$f":"IF(AND(statistics!$C$55<=ROW(A27),ROW(A27)<=statistics!$D$55)=TRUE,AH27-AG27+AA26-INDEX(AA:AA,statistics!$C$55),\"\")","v":0},null,null,0,0,0,"",{"$f":"IF(statistics!$D$3<>0,IF(AJ27=statistics!$D$3,AG27,\"\"),IF(B27<>\"\",AG27,\"\"))","v":""},{"$f":"IF(statistics!$D$3<>0,IF(AJ27=statistics!$D$3,IF(AH27=0,\"\",AH27),\"\"),IF(AH27<>0,AH27,\"\"))","v":""},{"$f":"IF(statistics!$D$3<>0,IF(AJ27=statistics!$D$3,IF(A27=0,\"\",1),\"\"),IF(A27=0,\"\",1))","v":""},"","",null,"",{"$nulls":6},0,null,null,null,"",null,null,"",null,0,null,{"$error":"#NUM!"},{"$error":"#NUM!"},26]
[{"$nulls":4},"","","","","",null,null,"",{"$nulls":6},27,"",{"$f":"IF(A29=0,IF(B29=\"\",IF(B28=0,\"\",SUM($AG$1:AG28)-SUM($U$1:U27)),\"\"),SUM($AG$1:AG28)-SUM($U$1:U27))","v":""},{"$nulls":5},0,{"$f":"IF(AJ28=statistics!$D$3,AB27+AH28-AG28,)","v":0},{"$f":"IF(AND(ROW(AC28)>=statistics!$C$55,ROW(AC28)<=statistics!$D$55),AC27+AH28-AG28,)","v":0},{"$f":"IF(AND(statistics!$C$55<=ROW(A28),ROW(A28)<=statistics!$D$55)=TRUE,AH28-AG28+AA27-INDEX(AA:AA,statistics!$C$55),\"\")","v":0},null,null,0,0,0,"",{"$f":"IF(statistics!$D$3<>0,IF(AJ28=statistics!$D$3,AG28,\"\"),IF(B28<>\"\",AG28,\"\"))","v":""},{"$f":"IF(statistics!$D$3<>0,IF(AJ28=statistics!$D$3,IF(AH28=0,\"\",AH28),\"\"),IF(AH28<>0,AH28,\"\"))","v":""},{"$f":"IF(statistics!$D$3<>0,IF(AJ28=statistics!$D$3,IF(A28=0,\"\",1),\"\"),IF(A28=0,\"\",1))","v":""},"","",null,"",{"$nulls":6},0,null,null,null,"",null,null,"",null,0,null,{"$error":"#NUM!"},{"$error":"#NUM!"},27]
[{"$nulls":4},"","","","","",null,null,"",{"$nulls":6},28,"",{"$f":"IF(A30=0,IF(B30=\"\",IF(B29=0,\"\",SUM($AG$1:AG29)-SUM($U$1:U28)),\"\"),SUM($AG$1:AG29)-SUM($U$1:U28))","v":""},{"$nulls":5},0,{"$f":"IF(AJ29=statistics!$D$3,AB28+AH29-AG29,)","v":0},{"$f":"IF(AND(ROW(AC29)>=statistics!$C$55,ROW(AC29)<=statistics!$D$55),AC28+AH29-AG29,)","v":0},{"$f":"IF(AND(statistics!$C$55<=ROW(A29),ROW(A29)<=statistics!$D$55)=TRUE,AH29-AG29+AA28-INDEX(AA:AA,statistics!$C$55),\"\")","v":0},null,null,0,0,0,"",{"$f":"IF(statistics!$D$3<>0,IF(AJ29=statistics!$D$3,AG29,\"\"),IF(B29<>\"\",AG29,\"\"))","v":""},{"$f":"IF(statistics!$D$3<>0,IF(AJ29=statistics!$D$3,IF(AH29=0,\"\",AH29),\"\"),IF(AH29<>0,AH29,\"\"))","v":""},{"$f":"IF(statistics!$D$3<>0,IF(AJ29=statistics!$D$3,IF(A29=0,\"\",1),\"\"),IF(A29=0,\"\",1))","v":""},"","",null,"",{"$nulls":6},0,null,null,null,"",null,null,"",null,0,null,{"$error":"#NUM!"},{"$error":"#NUM!"},28]
[{"$nulls":4},"","","","","",null,null,"",{"$nulls":6},29,"",{"$f":"IF(A31=0,IF(B31=\"\",IF(B30=0,\"\",SUM($AG$1:AG30)-SUM($U$1:U29)),\"\"),SUM($AG$1:AG30)-SUM($U$1:U29))","v":""},{"$nulls":5},0,{"$f":"IF(AJ30=statistics!$D$3,AB29+AH30-AG30,)","v":0},{"$f":"IF(AND(ROW(AC30)>=statistics!$C$55,ROW(AC30)<=statistics!$D$55),AC29+AH30-AG30,)","v":0},{"$f":"IF(AND(statistics!$C$55<=ROW(A30),ROW(A30)<=statistics!$D$55)=TRUE,AH30-AG30+AA29-INDEX(AA:AA,statistics!$C$55),\"\")","v":0},null,null,0,0,0,"",{"$f":"IF(statistics!$D$3<>0,IF(AJ30=statistics!$D$3,AG30,\"\"),IF(B30<>\"\",AG30,\"\"))","v":""},{"$f":"IF(statistics!$D$3<>0,IF(AJ30=statistics!$D$3,IF(AH30=0,\"\",AH30),\"\"),IF(AH30<>0,AH30,\"\"))","v":""},{"$f":"IF(statistics!$D$3<>0,IF(AJ30=statistics!$D$3,IF(A30=0,\"\",1),\"\"),IF(A30=0,\"\",1))","v":""},"","",null,"",{"$nulls":6},0,null,null,null,"",null,null,"",null,0,null,{"$error":"#NUM!"},{"$error":"#NUM!"},29]
[{"$nulls":4},"","","","","",null,null,"",{"$nulls":6},30,"",{"$f":"IF(A32=0,IF(B32=\"\",IF(B31=0,\"\",SUM($AG$1:AG31)-SUM($U$1:U30)),\"\"),SUM($AG$1:AG31)-SUM($U$1:U30))","v":""},{"$nulls":5},0,{"$f":"IF(AJ31=statistics!$D$3,AB30+AH31-AG31,)","v":0},{"$f":"IF(AND(ROW(AC31)>=statistics!$C$55,ROW(AC31)<=statistics!$D$55),AC30+AH31-AG31,)","v":0},{"$f":"IF(AND(statistics!$C$55<=ROW(A31),ROW(A31)<=statistics!$D$55)=TRUE,AH31-AG31+AA30-INDEX(AA:AA,statistics!$C$55),\"\")","v":0},null,null,0,0,0,"",{"$f":"IF(statistics!$D$3<>0,IF(AJ31=statistics!$D$3,AG31,\"\"),IF(B31<>\"\",AG31,\"\"))","v":""},{"$f":"IF(statistics!$D$3<>0,IF(AJ31=statistics!$D$3,IF(AH31=0,\"\",AH31),\"\"),IF(AH31<>0,AH31,\"\"))","v":""},{"$f":"IF(statistics!$D$3<>0,IF(AJ31=statistics!$D$3,IF(A31=0,\"\",1),\"\"),IF(A31=0,\"\",1))","v":""},"","",null,"",{"$nulls":6},0,null,null,null,"",null,null,"",null,0,null,{"$error":"#NUM!"},{"$error":"#NUM!"},30]
[{"$nulls":4},"","","","","",null,null,"",{"$nulls":6},31,"",{"$f":"IF(A33=0,IF(B33=\"\",IF(B32=0,\"\",SUM($AG$1:AG32)-SUM($U$1:U31)),\"\"),SUM($AG$1:AG32)-SUM($U$1:U31))","v":""},{"$nulls":5},0,{"$f":"IF(AJ32=statistics!$D$3,AB31+AH32-AG32,)","v":0},{"$f":"IF(AND(ROW(AC32)>=statistics!$C$55,ROW(AC32)<=statistics!$D$55),AC31+AH32-AG32,)","v":0},{"$f":"IF(AND(statistics!$C$55<=ROW(A32),ROW(A32)<=statistics!$D$55)=TRUE,AH32-AG32+AA31-INDEX(AA:AA,statistics!$C$55),\"\")","v":0},null,null,0,0,0,"",{"$f":"IF(statistics!$D$3<>0,IF(AJ32=statistics!$D$3,AG32,\"\"),IF(B32<>\"\",AG32,\"\"))","v":""},{"$f":"IF(statistics!$D$3<>0,IF(AJ32=statistics!$D$3,IF(AH32=0,\"\",AH32),\"\"),IF(AH32<>0,AH32,\"\"))","v":""},{"$f":"IF(statistics!$D$3<>0,IF(AJ32=statistics!$D$3,IF(A32=0,\"\",1),\"\"),IF(A32=0,\"\",1))","v":""},"","",null,"",{"$nulls":6},0,null,null,null,"",null,null,"",null,0,null,{"$error":"#NUM!"},{"$error":"#NUM!"},31]
[{"$nulls":4},"","","","","",null,null,"",{"$nulls":6},32,"",{"$f":"IF(A34=0,IF(B34=\"\",IF(B33=0,\"\",SUM($AG$1:AG33)-SUM($U$1:U32)),\"\"),SUM($AG$1:AG33)-SUM($U$1:U32))","v":""},{"$nulls":5},0,{"$f":"IF(AJ33=statistics!$D$3,AB32+AH33-AG33,)","v":0},{"$f":"IF(AND(ROW(AC33)>=statistics!$C$55,ROW(AC33)<=statistics!$D$55),AC32+AH33-AG33,)","v":0},{"$f":"IF(AND(statistics!$C$55<=ROW(A33),ROW(A33)<=statistics!$D$55)=TRUE,AH33-AG33+AA32-INDEX(AA:AA,statistics!$C$55),\"\")","v":0},null,null,0,0,0,"",{"$f":"IF(statistics!$D$3<>0,IF(AJ33=statistics!$D$3,AG33,\"\"),IF(B33<>\"\",AG33,\"\"))","v":""},{"$f":"IF(statistics!$D$3<>0,IF(AJ33=statistics!$D$3,IF(AH33=0,\"\",AH33),\"\"),IF(AH33<>0,AH33,\"\"))","v":""},{"$f":"IF(statistics!$D$3<>0,IF(AJ33=statistics!$D$3,IF(A33=0,\"\",1),\"\"),IF(A33=0,\"\",1))","v":""},"","",null,"",{"$nulls":6},0,null,null,null,"",null,null,"",null,0,null,{"$error":"#NUM!"},{"$error":"#NUM!"},32]
[{"$nulls":4},"","","","","",null,null,"",{"$nulls":6},33,"",{"$f":"IF(A35=0,IF(B35=\"\",IF(B34=0,\"\",SUM($AG$1:AG34)-SUM($U$1:U33)),\"\"),SUM($AG$1:AG34)-SUM($U$1:U33))","v":""},{"$nulls":5},0,{"$f":"IF(AJ34=statistics!$D$3,AB33+AH34-AG34,)","v":0},{"$f":"IF(AND(ROW(AC34)>=statistics!$C$55,ROW(AC34)<=statistics!$D$55),AC33+AH34-AG34,)","v":0},{"$f":"IF(AND(statistics!$C$55<=ROW(A34),ROW(A34)<=statistics!$D$55)=TRUE,AH34-AG34+AA33-INDEX(AA:AA,statistics!$C$55),\"\")","v":0},null,null,0,0,0,"",{"$f":"IF(statistics!$D$3<>0,IF(AJ34=statistics!$D$3,AG34,\"\"),IF(B34<>\"\",AG34,\"\"))","v":""},{"$f":"IF(statistics!$D$3<>0,IF(AJ34=statistics!$D$3,IF(AH34=0,\"\",AH34),\"\"),IF(AH34<>0,AH34,\"\"))","v":""},{"$f":"IF(statistics!$D$3<>0,IF(AJ34=statistics!$D$3,IF(A34=0,\"\",1),\"\"),IF(A34=0,\"\",1))","v":""},"","",null,"",{"$nulls":6},0,null,null,null,"",null,null,"",null,0,null,{"$error":"#NUM!"},{"$error":"#NUM!"},33]
[{"$nulls":4},"","","","","",null,null,"",{"$nulls":6},34,"",{"$f":"IF(A36=0,IF(B36=\"\",IF(B35=0,\"\",SUM($AG$1:AG35)-SUM($U$1:U34)),\"\"),SUM($AG$1:AG35)-SUM($U$1:U34))","v":""},{"$nulls":5},0,{"$f":"IF(AJ35=statistics!$D$3,AB34+AH35-AG35,)","v":0},{"$f":"IF(AND(ROW(AC35)>=statistics!$C$55,ROW(AC35)<=statistics!$D$55),AC34+AH35-AG35,)","v":0},{"$f":"IF(AND(statistics!$C$55<=ROW(A35),ROW(A35)<=statistics!$D$55)=TRUE,AH35-AG35+AA34-INDEX(AA:AA,statistics!$C$55),\"\")","v":0},null,null,0,0,0,"",{"$f":"IF(statistics!$D$3<>0,IF(AJ35=statistics!$D$3,AG35,\"\"),IF(B35<>\"\",AG35,\"\"))","v":""},{"$f":"IF(statistics!$D$3<>0,IF(AJ35=statistics!$D$3,IF(AH35=0,\"\",AH35),\"\"),IF(AH35<>0,AH35,\"\"))","v":""},{"$f":"IF(statistics!$D$3<>0,IF(AJ35=statistics!$D$3,IF(A35=0,\"\",1),\"\"),IF(A35=0,\"\",1))","v":""},"","",null,"",{"$nulls":6},0,null,null,null,"",null,null,"",null,0,null,{"$error":"#NUM!"},{"$error":"#NUM!"},34]
[{"$nulls":4},"","","","","",null,null,"",{"$nulls":6},35,"",{"$f":"IF(A37=0,IF(B37=\"\",IF(B36=0,\"\",SUM($AG$1:AG36)-SUM($U$1:U35)),\"\"),SUM($AG$1:AG36)-SUM($U$1:U35))","v":""},{"$nulls":5},0,{"$f":"IF(AJ36=statistics!$D$3,AB35+AH36-AG36,)","v":0},{"$f":"IF(AND(ROW(AC36)>=statistics!$C$55,ROW(AC36)<=statistics!$D$55),AC35+AH36-AG36,)","v":0},{"$f":"IF(AND(statistics!$C$55<=ROW(A36),ROW(A36)<=statistics!$D$55)=TRUE,AH36-AG36+AA35-INDEX(AA:AA,statistics!$C$55),\"\")","v":0},null,null,0,0,0,"",{"$f":"IF(statistics!$D$3<>0,IF(AJ36=statistics!$D$3,AG36,\"\"),IF(B36<>\"\",AG36,\"\"))","v":""},{"$f":"IF(statistics!$D$3<>0,IF(AJ36=statistics!$D$3,IF(AH36=0,\"\",AH36),\"\"),IF(AH36<>0,AH36,\"\"))","v":""},{"$f":"IF(statistics!$D$3<>0,IF(AJ36=statistics!$D$3,IF(A36=0,\"\",1),\"\"),IF(A36=0,\"\",1))","v":""},"","",null,"",{"$nulls":6},0,null,null,null,"",null,null,"",null,0,null,{"$error":"#NUM!"},{"$error":"#NUM!"},35]
[{"$nulls":4},"","","","","",null,null,"",{"$nulls":6},36,"",{"$f":"IF(A38=0,IF(B38=\"\",IF(B37=0,\"\",SUM($AG$1:AG37)-SUM($U$1:U36)),\"\"),SUM($AG$1:AG37)-SUM($U$1:U36))","v":""},{"$nulls":5},0,{"$f":"IF(AJ37=statistics!$D$3,AB36+AH37-AG37,)","v":0},{"$f":"IF(AND(ROW(AC37)>=statistics!$C$55,ROW(AC37)<=statistics!$D$55),AC36+AH37-AG37,)","v":0},{"$f":"IF(AND(statistics!$C$55<=ROW(A37),ROW(A37)<=statistics!$D$55)=TRUE,AH37-AG37+AA36-INDEX(AA:AA,statistics!$C$55),\"\")","v":0},null,null,0,0,0,"",{"$f":"IF(statistics!$D$3<>0,IF(AJ37=statistics!$D$3,AG37,\"\"),IF(B37<>\"\",AG37,\"\"))","v":""},{"$f":"IF(statistics!$D$3<>0,IF(AJ37=statistics!$D$3,IF(AH37=0,\"\",AH37),\"\"),IF(AH37<>0,AH37,\"\"))","v":""},{"$f":"IF(statistics!$D$3<>0,IF(AJ37=statistics!$D$3,IF(A37=0,\"\",1),\"\"),IF(A37=0,\"\",1))","v":""},"","",null,"",{"$nulls":6},0,null,null,null,"",null,null,"",null,0,null,{"$error":"#NUM!"},{"$error":"#NUM!"},36]
[{"$nulls":4},"","","","","",null,null,"",{"$nulls":6},37,"",{"$f":"IF(A39=0,IF(B39=\"\",IF(B38=0,\"\",SUM($AG$1:AG38)-SUM($U$1:U37)),\"\"),SUM($AG$1:AG38)-SUM($U$1:U37))","v":""},{"$nulls":5},0,{"$f":"IF(AJ38=statistics!$D$3,AB37+AH38-AG38,)","v":0},{"$f":"IF(AND(ROW(AC38)>=statistics!$C$55,ROW(AC38)<=statistics!$D$55),AC37+AH38-AG38,)","v":0},{"$f":"IF(AND(statistics!$C$55<=ROW(A38),ROW(A38)<=statistics!$D$55)=TRUE,AH38-AG38+AA37-INDEX(AA:AA,statistics!$C$55),\"\")","v":0},null,null,0,0,0,"",{"$f":"IF(statistics!$D$3<>0,IF(AJ38=statistics!$D$3,AG38,\"\"),IF(B38<>\"\",AG38,\"\"))","v":""},{"$f":"IF(statistics!$D$3<>0,IF(AJ38=statistics!$D$3,IF(AH38=0,\"\",AH38),\"\"),IF(AH38<>0,AH38,\"\"))","v":""},{"$f":"IF(statistics!$D$3<>0,IF(AJ38=statistics!$D$3,IF(A38=0,\"\",1),\"\"),IF(A38=0,\"\",1))","v":""},"","",null,"",{"$nulls":6},0,null,null,null,"",null,null,"",null,0,null,{"$error":"#NUM!"},{"$error":"#NUM!"},37]
[{"$nulls":4},"","","","","",null,null,"",{"$nulls":6},38,"",{"$f":"IF(A40=0,IF(B40=\"\",IF(B39=0,\"\",SUM($AG$1:AG39)-SUM($U$1:U38)),\"\"),SUM($AG$1:AG39)-SUM($U$1:U38))","v":""},{"$nulls":5},0,{"$f":"IF(AJ39=statistics!$D$3,AB38+AH39-AG39,)","v":0},{"$f":"IF(AND(ROW(AC39)>=statistics!$C$55,ROW(AC39)<=statistics!$D$55),AC38+AH39-AG39,)","v":0},{"$f":"IF(AND(statistics!$C$55<=ROW(A39),ROW(A39)<=statistics!$D$55)=TRUE,AH39-AG39+AA38-INDEX(AA:AA,statistics!$C$55),\"\")","v":0},null,null,0,0,0,"",{"$f":"IF(statistics!$D$3<>0,IF(AJ39=statistics!$D$3,AG39,\"\"),IF(B39<>\"\",AG39,\"\"))","v":""},{"$f":"IF(statistics!$D$3<>0,IF(AJ39=statistics!$D$3,IF(AH39=0,\"\",AH39),\"\"),IF(AH39<>0,AH39,\"\"))","v":""},{"$f":"IF(statistics!$D$3<>0,IF(AJ39=statistics!$D$3,IF(A39=0,\"\",1),\"\"),IF(A39=0,\"\",1))","v":""},"","",null,"",{"$nulls":6},0,null,null,null,"",null,null,"",null,0,null,{"$error":"#NUM!"},{"$error":"#NUM!"},38]
[{"$nulls":4},"","","","","",null,null,"",{"$nulls":6},39,"",{"$f":"IF(A41=0,IF(B41=\"\",IF(B40=0,\"\",SUM($AG$1:AG40)-SUM($U$1:U39)),\"\"),SUM($AG$1:AG40)-SUM($U$1:U39))","v":""},{"$nulls":5},0,{"$f":"IF(AJ40=statistics!$D$3,AB39+AH40-AG40,)","v":0},{"$f":"IF(AND(ROW(AC40)>=statistics!$C$55,ROW(AC40)<=statistics!$D$55),AC39+AH40-AG40,)","v":0},{"$f":"IF(AND(statistics!$C$55<=ROW(A40),ROW(A40)<=statistics!$D$55)=TRUE,AH40-AG40+AA39-INDEX(AA:AA,statistics!$C$55),\"\")","v":0},null,null,0,0,0,"",{"$f":"IF(statistics!$D$3<>0,IF(AJ40=statistics!$D$3,AG40,\"\"),IF(B40<>\"\",AG40,\"\"))","v":""},{"$f":"IF(statistics!$D$3<>0,IF(AJ40=statistics!$D$3,IF(AH40=0,\"\",AH40),\"\"),IF(AH40<>0,AH40,\"\"))","v":""},{"$f":"IF(statistics!$D$3<>0,IF(AJ40=statistics!$D$3,IF(A40=0,\"\",1),\"\"),IF(A40=0,\"\",1))","v":""},"","",null,"",{"$nulls":6},0,null,null,null,"",null,null,"",null,0,null,{"$error":"#NUM!"},{"$error":"#NUM!"},39]
[{"$nulls":4},"","","","","",null,null,"",{"$nulls":6},40,"",{"$f":"IF(A42=0,IF(B42=\"\",IF(B41=0,\"\",SUM($AG$1:AG41)-SUM($U$1:U40)),\"\"),SUM($AG$1:AG41)-SUM($U$1:U40))","v":""},{"$nulls":5},0,{"$f":"IF(AJ41=statistics!$D$3,AB40+AH41-AG41,)","v":0},{"$f":"IF(AND(ROW(AC41)>=statistics!$C$55,ROW(AC41)<=statistics!$D$55),AC40+AH41-AG41,)","v":0},{"$f":"IF(AND(statistics!$C$55<=ROW(A41),ROW(A41)<=statistics!$D$55)=TRUE,AH41-AG41+AA40-INDEX(AA:AA,statistics!$C$55),\"\")","v":0},null,null,0,0,0,"",{"$f":"IF(statistics!$D$3<>0,IF(AJ41=statistics!$D$3,AG41,\"\"),IF(B41<>\"\",AG41,\"\"))","v":""},{"$f":"IF(statistics!$D$3<>0,IF(AJ41=statistics!$D$3,IF(AH41=0,\"\",AH41),\"\"),IF(AH41<>0,AH41,\"\"))","v":""},{"$f":"IF(statistics!$D$3<>0,IF(AJ41=statistics!$D$3,IF(A41=0,\"\",1),\"\"),IF(A41=0,\"\",1))","v":""},"","",null,"",{"$nulls":6},0,null,null,null,"",null,null,"",null,0,null,{"$error":"#NUM!"},{"$error":"#NUM!"},40]
[{"$nulls":4},"","","","","",null,null,"",{"$nulls":6},41,"",{"$f":"IF(A43=0,IF(B43=\"\",IF(B42=0,\"\",SUM($AG$1:AG42)-SUM($U$1:U41)),\"\"),SUM($AG$1:AG42)-SUM($U$1:U41))","v":""},{"$nulls":5},0,{"$f":"IF(AJ42=statistics!$D$3,AB41+AH42-AG42,)","v":0},{"$f":"IF(AND(ROW(AC42)>=statistics!$C$55,ROW(AC42)<=statistics!$D$55),AC41+AH42-AG42,)","v":0},{"$f":"IF(AND(statistics!$C$55<=ROW(A42),ROW(A42)<=statistics!$D$55)=TRUE,AH42-AG42+AA41-INDEX(AA:AA,statistics!$C$55),\"\")","v":0},null,null,0,0,0,"",{"$f":"IF(statistics!$D$3<>0,IF(AJ42=statistics!$D$3,AG42,\"\"),IF(B42<>\"\",AG42,\"\"))","v":""},{"$f":"IF(statistics!$D$3<>0,IF(AJ42=statistics!$D$3,IF(AH42=0,\"\",AH42),\"\"),IF(AH42<>0,AH42,\"\"))","v":""},{"$f":"IF(statistics!$D$3<>0,IF(AJ42=statistics!$D$3,IF(A42=0,\"\",1),\"\"),IF(A42=0,\"\",1))","v":""},"","",null,"",{"$nulls":6},0,null,null,null,"",null,null,"",null,0,null,{"$error":"#NUM!"},{"$error":"#NUM!"},41]
[{"$nulls":4},"","","","","",null,null,"",{"$nulls":6},42,"",{"$f":"IF(A44=0,IF(B44=\"\",IF(B43=0,\"\",SUM($AG$1:AG43)-SUM($U$1:U42)),\"\"),SUM($AG$1:AG43)-SUM($U$1:U42))","v":""},{"$nulls":5},0,{"$f":"IF(AJ43=statistics!$D$3,AB42+AH43-AG43,)","v":0},{"$f":"IF(AND(ROW(AC43)>=statistics!$C$55,ROW(AC43)<=statistics!$D$55),AC42+AH43-AG43,)","v":0},{"$f":"IF(AND(statistics!$C$55<=ROW(A43),ROW(A43)<=statistics!$D$55)=TRUE,AH43-AG43+AA42-INDEX(AA:AA,statistics!$C$55),\"\")","v":0},null,null,0,0,0,"",{"$f":"IF(statistics!$D$3<>0,IF(AJ43=statistics!$D$3,AG43,\"\"),IF(B43<>\"\",AG43,\"\"))","v":""},{"$f":"IF(statistics!$D$3<>0,IF(AJ43=statistics!$D$3,IF(AH43=0,\"\",AH43),\"\"),IF(AH43<>0,AH43,\"\"))","v":""},{"$f":"IF(statistics!$D$3<>0,IF(AJ43=statistics!$D$3,IF(A43=0,\"\",1),\"\"),IF(A43=0,\"\",1))","v":""},"","",null,"",{"$nulls":6},0,null,null,null,"",null,null,"",null,0,null,{"$error":"#NUM!"},{"$error":"#NUM!"},42]
[{"$nulls":4},"","","","","",null,null,"",{"$nulls":6},43,"",{"$f":"IF(A45=0,IF(B45=\"\",IF(B44=0,\"\",SUM($AG$1:AG44)-SUM($U$1:U43)),\"\"),SUM($AG$1:AG44)-SUM($U$1:U43))","v":""},{"$nulls":5},0,{"$f":"IF(AJ44=statistics!$D$3,AB43+AH44-AG44,)","v":0},{"$f":"IF(AND(ROW(AC44)>=statistics!$C$55,ROW(AC44)<=statistics!$D$55),AC43+AH44-AG44,)","v":0},{"$f":"IF(AND(statistics!$C$55<=ROW(A44),ROW(A44)<=statistics!$D$55)=TRUE,AH44-AG44+AA43-INDEX(AA:AA,statistics!$C$55),\"\")","v":0},null,null,0,0,0,"",{"$f":"IF(statistics!$D$3<>0,IF(AJ44=statistics!$D$3,AG44,\"\"),IF(B44<>\"\",AG44,\"\"))","v":""},{"$f":"IF(statistics!$D$3<>0,IF(AJ44=statistics!$D$3,IF(AH44=0,\"\",AH44),\"\"),IF(AH44<>0,AH44,\"\"))","v":""},{"$f":"IF(statistics!$D$3<>0,IF(AJ44=statistics!$D$3,IF(A44=0,\"\",1),\"\"),IF(A44=0,\"\",1))","v":""},"","",null,"",{"$nulls":6},0,null,null,null,"",null,null,"",null,0,null,{"$error":"#NUM!"},{"$error":"#NUM!"},43]
[{"$nulls":4},"","","","","",null,null,"",{"$nulls":6},44,"",{"$f":"IF(A46=0,IF(B46=\"\",IF(B45=0,\"\",SUM($AG$1:AG45)-SUM($U$1:U44)),\"\"),SUM($AG$1:AG45)-SUM($U$1:U44))","v":""},{"$nulls":5},0,{"$f":"IF(AJ45=statistics!$D$3,AB44+AH45-AG45,)","v":0},{"$f":"IF(AND(ROW(AC45)>=statistics!$C$55,ROW(AC45)<=statistics!$D$55),AC44+AH45-AG45,)","v":0},{"$f":"IF(AND(statistics!$C$55<=ROW(A45),ROW(A45)<=statistics!$D$55)=TRUE,AH45-AG45+AA44-INDEX(AA:AA,statistics!$C$55),\"\")","v":0},null,null,0,0,0,"",{"$f":"IF(statistics!$D$3<>0,IF(AJ45=statistics!$D$3,AG45,\"\"),IF(B45<>\"\",AG45,\"\"))","v":""},{"$f":"IF(statistics!$D$3<>0,IF(AJ45=statistics!$D$3,IF(AH45=0,\"\",AH45),\"\"),IF(AH45<>0,AH45,\"\"))","v":""},{"$f":"IF(statistics!$D$3<>0,IF(AJ45=statistics!$D$3,IF(A45=0,\"\",1),\"\"),IF(A45=0,\"\",1))","v":""},"","",null,"",{"$nulls":6},0,null,null,null,"",null,null,"",null,0,null,{"$error":"#NUM!"},{"$error":"#NUM!"},44]
[{"$nulls":4},"","","","","",null,null,"",{"$nulls":6},45,"",{"$f":"IF(A47=0,IF(B47=\"\",IF(B46=0,\"\",SUM($AG$1:AG46)-SUM($U$1:U45)),\"\"),SUM($AG$1:AG46)-SUM($U$1:U45))","v":""},{"$nulls":5},0,{"$f":"IF(AJ46=statistics!$D$3,AB45+AH46-AG46,)","v":0},{"$f":"IF(AND(ROW(AC46)>=statistics!$C$55,ROW(AC46)<=statistics!$D$55),AC45+AH46-AG46,)","v":0},{"$f":"IF(AND(statistics!$C$55<=ROW(A46),ROW(A46)<=statistics!$D$55)=TRUE,AH46-AG46+AA45-INDEX(AA:AA,statistics!$C$55),\"\")","v":0},null,null,0,0,0,"",{"$f":"IF(statistics!$D$3<>0,IF(AJ46=statistics!$D$3,AG46,\"\"),IF(B46<>\"\",AG46,\"\"))","v":""},{"$f":"IF(statistics!$D$3<>0,IF(AJ46=statistics!$D$3,IF(AH46=0,\"\",AH46),\"\"),IF(AH46<>0,AH46,\"\"))","v":""},{"$f":"IF(statistics!$D$3<>0,IF(AJ46=statistics!$D$3,IF(A46=0,\"\",1),\"\"),IF(A46=0,\"\",1))","v":""},"","",null,"",{"$nulls":6},0,null,null,null,"",null,null,"",null,0,null,{"$error":"#NUM!"},{"$error":"#NUM!"},45]
[{"$nulls":4},"","","","","",null,null,"",{"$nulls":6},46,"",{"$f":"IF(A48=0,IF(B48=\"\",IF(B47=0,\"\",SUM($AG$1:AG47)-SUM($U$1:U46)),\"\"),SUM($AG$1:AG47)-SUM($U$1:U46))","v":""},{"$nulls":5},0,{"$f":"IF(AJ47=statistics!$D$3,AB46+AH47-AG47,)","v":0},{"$f":"IF(AND(ROW(AC47)>=statistics!$C$55,ROW(AC47)<=statistics!$D$55),AC46+AH47-AG47,)","v":0},{"$f":"IF(AND(statistics!$C$55<=ROW(A47),ROW(A47)<=statistics!$D$55)=TRUE,AH47-AG47+AA46-INDEX(AA:AA,statistics!$C$55),\"\")","v":0},null,null,0,0,0,"",{"$f":"IF(statistics!$D$3<>0,IF(AJ47=statistics!$D$3,AG47,\"\"),IF(B47<>\"\",AG47,\"\"))","v":""},{"$f":"IF(statistics!$D$3<>0,IF(AJ47=statistics!$D$3,IF(AH47=0,\"\",AH47),\"\"),IF(AH47<>0,AH47,\"\"))","v":""},{"$f":"IF(statistics!$D$3<>0,IF(AJ47=statistics!$D$3,IF(A47=0,\"\",1),\"\"),IF(A47=0,\"\",1))","v":""},"","",null,"",{"$nulls":6},0,null,null,null,"",null,null,"",null,0,null,{"$error":"#NUM!"},{"$error":"#NUM!"},46]
[{"$nulls":4},"","","","","",null,null,"",{"$nulls":6},47,"",{"$f":"IF(A49=0,IF(B49=\"\",IF(B48=0,\"\",SUM($AG$1:AG48)-SUM($U$1:U47)),\"\"),SUM($AG$1:AG48)-SUM($U$1:U47))","v":""},{"$nulls":5},0,{"$f":"IF(AJ48=statistics!$D$3,AB47+AH48-AG48,)","v":0},{"$f":"IF(AND(ROW(AC48)>=statistics!$C$55,ROW(AC48)<=statistics!$D$55),AC47+AH48-AG48,)","v":0},{"$f":"IF(AND(statistics!$C$55<=ROW(A48),ROW(A48)<=statistics!$D$55)=TRUE,AH48-AG48+AA47-INDEX(AA:AA,statistics!$C$55),\"\")","v":0},null,null,0,0,0,"",{"$f":"IF(statistics!$D$3<>0,IF(AJ48=statistics!$D$3,AG48,\"\"),IF(B48<>\"\",AG48,\"\"))","v":""},{"$f":"IF(statistics!$D$3<>0,IF(AJ48=statistics!$D$3,IF(AH48=0,\"\",AH48),\"\"),IF(AH48<>0,AH48,\"\"))","v":""},{"$f":"IF(statistics!$D$3<>0,IF(AJ48=statistics!$D$3,IF(A48=0,\"\",1),\"\"),IF(A48=0,\"\",1))","v":""},"","",null,"",{"$nulls":6},0,null,null,null,"",null,null,"",null,0,null,{"$error":"#NUM!"},{"$error":"#NUM!"},47]
[{"$nulls":4},"","","","","",null,null,"",{"$nulls":6},48,"",{"$f":"IF(A50=0,IF(B50=\"\",IF(B49=0,\"\",SUM($AG$1:AG49)-SUM($U$1:U48)),\"\"),SUM($AG$1:AG49)-SUM($U$1:U48))","v":""},{"$nulls":5},0,{"$f":"IF(AJ49=statistics!$D$3,AB48+AH49-AG49,)","v":0},{"$f":"IF(AND(ROW(AC49)>=statistics!$C$55,ROW(AC49)<=statistics!$D$55),AC48+AH49-AG49,)","v":0},{"$f":"IF(AND(statistics!$C$55<=ROW(A49),ROW(A49)<=statistics!$D$55)=TRUE,AH49-AG49+AA48-INDEX(AA:AA,statistics!$C$55),\"\")","v":0},null,null,0,0,0,"",{"$f":"IF(statistics!$D$3<>0,IF(AJ49=statistics!$D$3,AG49,\"\"),IF(B49<>\"\",AG49,\"\"))","v":""},{"$f":"IF(statistics!$D$3<>0,IF(AJ49=statistics!$D$3,IF(AH49=0,\"\",AH49),\"\"),IF(AH49<>0,AH49,\"\"))","v":""},{"$f":"IF(statistics!$D$3<>0,IF(AJ49=statistics!$D$3,IF(A49=0,\"\",1),\"\"),IF(A49=0,\"\",1))","v":""},"","",null,"",{"$nulls":6},0,null,null,null,"",null,null,"",null,0,null,{"$error":"#NUM!"},{"$error":"#NUM!"},48]
[{"$nulls":4},"","","","","",null,null,"",{"$nulls":6},49,"",{"$f":"IF(A51=0,IF(B51=\"\",IF(B50=0,\"\",SUM($AG$1:AG50)-SUM($U$1:U49)),\"\"),SUM($AG$1:AG50)-SUM($U$1:U49))","v":""},{"$nulls":5},0,{"$f":"IF(AJ50=statistics!$D$3,AB49+AH50-AG50,)","v":0},{"$f":"IF(AND(ROW(AC50)>=statistics!$C$55,ROW(AC50)<=statistics!$D$55),AC49+AH50-AG50,)","v":0},{"$f":"IF(AND(statistics!$C$55<=ROW(A50),ROW(A50)<=statistics!$D$55)=TRUE,AH50-AG50+AA49-INDEX(AA:AA,statistics!$C$55),\"\")","v":0},null,null,0,0,0,"",{"$f":"IF(statistics!$D$3<>0,IF(AJ50=statistics!$D$3,AG50,\"\"),IF(B50<>\"\",AG50,\"\"))","v":""},{"$f":"IF(statistics!$D$3<>0,IF(AJ50=statistics!$D$3,IF(AH50=0,\"\",AH50),\"\"),IF(AH50<>0,AH50,\"\"))","v":""},{"$f":"IF(statistics!$D$3<>0,IF(AJ50=statistics!$D$3,IF(A50=0,\"\",1),\"\"),IF(A50=0,\"\",1))","v":""},"","",null,"",{"$nulls":6},0,null,null,null,"",null,null,"",null,0,null,{"$error":"#NUM!"},{"$error":"#NUM!"},49]
[{"$nulls":4},"","","","","",null,null,"",{"$nulls":6},50,"",{"$f":"IF(A52=0,IF(B52=\"\",IF(B51=0,\"\",SUM($AG$1:AG51)-SUM($U$1:U50)),\"\"),SUM($AG$1:AG51)-SUM($U$1:U50))","v":""},{"$nulls":5},0,{"$f":"IF(AJ51=statistics!$D$3,AB50+AH51-AG51,)","v":0},{"$f":"IF(AND(ROW(AC51)>=statistics!$C$55,ROW(AC51)<=statistics!$D$55),AC50+AH51-AG51,)","v":0},{"$f":"IF(AND(statistics!$C$55<=ROW(A51),ROW(A51)<=statistics!$D$55)=TRUE,AH51-AG51+AA50-INDEX(AA:AA,statistics!$C$55),\"\")","v":""},null,null,0,0,0,"",{"$f":"IF(statistics!$D$3<>0,IF(AJ51=statistics!$D$3,AG51,\"\"),IF(B51<>\"\",AG51,\"\"))","v":""},{"$f":"IF(statistics!$D$3<>0,IF(AJ51=statistics!$D$3,IF(AH51=0,\"\",AH51),\"\"),IF(AH51<>0,AH51,\"\"))","v":""},{"$f":"IF(statistics!$D$3<>0,IF(AJ51=statistics!$D$3,IF(A51=0,\"\",1),\"\"),IF(A51=0,\"\",1))","v":""},"","",null,"",{"$nulls":6},0,null,null,null,"",null,null,"",null,0,null,{"$error":"#NUM!"},{"$error":"#NUM!"},50]
[{"$nulls":4},"","","","","",null,null,"",{"$nulls":6},51,"",{"$f":"IF(A53=0,IF(B53=\"\",IF(B52=0,\"\",SUM($AG$1:AG52)-SUM($U$1:U51)),\"\"),SUM($AG$1:AG52)-SUM($U$1:U51))","v":""},{"$nulls":5},0,{"$f":"IF(AJ52=statistics!$D$3,AB51+AH52-AG52,)","v":0},{"$f":"IF(AND(ROW(AC52)>=statistics!$C$55,ROW(AC52)<=statistics!$D$55),AC51+AH52-AG52,)","v":0},{"$f":"IF(AND(statistics!$C$55<=ROW(A52),ROW(A52)<=statistics!$D$55)=TRUE,AH52-AG52+AA51-INDEX(AA:AA,statistics!$C$55),\"\")","v":""},null,null,0,0,0,"",{"$f":"IF(statistics!$D$3<>0,IF(AJ52=statistics!$D$3,AG52,\"\"),IF(B52<>\"\",AG52,\"\"))","v":""},{"$f":"IF(statistics!$D$3<>0,IF(AJ52=statistics!$D$3,IF(AH52=0,\"\",AH52),\"\"),IF(AH52<>0,AH52,\"\"))","v":""},{"$f":"IF(statistics!$D$3<>0,IF(AJ52=statistics!$D$3,IF(A52=0,\"\",1),\"\"),IF(A52=0,\"\",1))","v":""},"","",null,"",{"$nulls":6},0,null,null,null,"",null,null,"",null,0,null,{"$error":"#NUM!"},{"$error":"#NUM!"},51]
[{"$nulls":4},"","","","","",null,null,"",{"$nulls":6},52,"",{"$f":"IF(A54=0,IF(B54=\"\",IF(B53=0,\"\",SUM($AG$1:AG53)-SUM($U$1:U52)),\"\"),SUM($AG$1:AG53)-SUM($U$1:U52))","v":""},{"$nulls":5},0,{"$f":"IF(AJ53=statistics!$D$3,AB52+AH53-AG53,)","v":0},{"$f":"IF(AND(ROW(AC53)>=statistics!$C$55,ROW(AC53)<=statistics!$D$55),AC52+AH53-AG53,)","v":0},{"$f":"IF(AND(statistics!$C$55<=ROW(A53),ROW(A53)<=statistics!$D$55)=TRUE,AH53-AG53+AA52-INDEX(AA:AA,statistics!$C$55),\"\")","v":""},null,null,0,0,0,"",{"$f":"IF(statistics!$D$3<>0,IF(AJ53=statistics!$D$3,AG53,\"\"),IF(B53<>\"\",AG53,\"\"))","v":""},{"$f":"IF(statistics!$D$3<>0,IF(AJ53=statistics!$D$3,IF(AH53=0,\"\",AH53),\"\"),IF(AH53<>0,AH53,\"\"))","v":""},{"$f":"IF(statistics!$D$3<>0,IF(AJ53=statistics!$D$3,IF(A53=0,\"\",1),\"\"),IF(A53=0,\"\",1))","v":""},"","",null,"",{"$nulls":6},0,null,null,null,"",null,null,"",null,0,null,{"$error":"#NUM!"},{"$error":"#NUM!"},52]
[{"$nulls":4},"","","","","",null,null,"",{"$nulls":6},53,"",{"$f":"IF(A55=0,IF(B55=\"\",IF(B54=0,\"\",SUM($AG$1:AG54)-SUM($U$1:U53)),\"\"),SUM($AG$1:AG54)-SUM($U$1:U53))","v":""},{"$nulls":5},0,{"$f":"IF(AJ54=statistics!$D$3,AB53+AH54-AG54,)","v":0},{"$f":"IF(AND(ROW(AC54)>=statistics!$C$55,ROW(AC54)<=statistics!$D$55),AC53+AH54-AG54,)","v":0},{"$f":"IF(AND(statistics!$C$55<=ROW(A54),ROW(A54)<=statistics!$D$55)=TRUE,AH54-AG54+AA53-INDEX(AA:AA,statistics!$C$55),\"\")","v":""},null,null,0,0,0,"",{"$f":"IF(statistics!$D$3<>0,IF(AJ54=statistics!$D$3,AG54,\"\"),IF(B54<>\"\",AG54,\"\"))","v":""},{"$f":"IF(statistics!$D$3<>0,IF(AJ54=statistics!$D$3,IF(AH54=0,\"\",AH54),\"\"),IF(AH54<>0,AH54,\"\"))","v":""},{"$f":"IF(statistics!$D$3<>0,IF(AJ54=statistics!$D$3,IF(A54=0,\"\",1),\"\"),IF(A54=0,\"\",1))","v":""},"","",null,"",{"$nulls":6},0,null,null,null,"",null,null,"",null,0,null,{"$error":"#NUM!"},{"$error":"#NUM!"},53]
[{"$nulls":4},"","","","","",null,null,"",{"$nulls":6},54,"",{"$f":"IF(A56=0,IF(B56=\"\",IF(B55=0,\"\",SUM($AG$1:AG55)-SUM($U$1:U54)),\"\"),SUM($AG$1:AG55)-SUM($U$1:U54))","v":""},{"$nulls":5},0,{"$f":"IF(AJ55=statistics!$D$3,AB54+AH55-AG55,)","v":0},{"$f":"IF(AND(ROW(AC55)>=statistics!$C$55,ROW(AC55)<=statistics!$D$55),AC54+AH55-AG55,)","v":0},{"$f":"IF(AND(statistics!$C$55<=ROW(A55),ROW(A55)<=statistics!$D$55)=TRUE,AH55-AG55+AA54-INDEX(AA:AA,statistics!$C$55),\"\")","v":""},null,null,0,0,0,"",{"$f":"IF(statistics!$D$3<>0,IF(AJ55=statistics!$D$3,AG55,\"\"),IF(B55<>\"\",AG55,\"\"))","v":""},{"$f":"IF(statistics!$D$3<>0,IF(AJ55=statistics!$D$3,IF(AH55=0,\"\",AH55),\"\"),IF(AH55<>0,AH55,\"\"))","v":""},{"$f":"IF(statistics!$D$3<>0,IF(AJ55=statistics!$D$3,IF(A55=0,\"\",1),\"\"),IF(A55=0,\"\",1))","v":""},"","",null,"",{"$nulls":6},0,null,null,null,"",null,null,"",null,0,null,{"$error":"#NUM!"},{"$error":"#NUM!"},54]
[{"$nulls":4},"","","","","",null,null,"",{"$nulls":6},55,"",{"$f":"IF(A57=0,IF(B57=\"\",IF(B56=0,\"\",SUM($AG$1:AG56)-SUM($U$1:U55)),\"\"),SUM($AG$1:AG56)-SUM($U$1:U55))","v":""},{"$nulls":5},0,{"$f":"IF(AJ56=statistics!$D$3,AB55+AH56-AG56,)","v":0},{"$f":"IF(AND(ROW(AC56)>=statistics!$C$55,ROW(AC56)<=statistics!$D$55),AC55+AH56-AG56,)","v":0},{"$f":"IF(AND(statistics!$C$55<=ROW(A56),ROW(A56)<=statistics!$D$55)=TRUE,AH56-AG56+AA55-INDEX(AA:AA,statistics!$C$55),\"\")","v":""},null,null,0,0,0,"",{"$f":"IF(statistics!$D$3<>0,IF(AJ56=statistics!$D$3,AG56,\"\"),IF(B56<>\"\",AG56,\"\"))","v":""},{"$f":"IF(statistics!$D$3<>0,IF(AJ56=statistics!$D$3,IF(AH56=0,\"\",AH56),\"\"),IF(AH56<>0,AH56,\"\"))","v":""},{"$f":"IF(statistics!$D$3<>0,IF(AJ56=statistics!$D$3,IF(A56=0,\"\",1),\"\"),IF(A56=0,\"\",1))","v":""},"","",null,"",{"$nulls":6},0,null,null,null,"",null,null,"",null,0,null,{"$error":"#NUM!"},{"$error":"#NUM!"},55]
[{"$nulls":4},"","","","","",null,null,"",{"$nulls":6},56,"",{"$f":"IF(A58=0,IF(B58=\"\",IF(B57=0,\"\",SUM($AG$1:AG57)-SUM($U$1:U56)),\"\"),SUM($AG$1:AG57)-SUM($U$1:U56))","v":""},{"$nulls":5},0,{"$f":"IF(AJ57=statistics!$D$3,AB56+AH57-AG57,)","v":0},{"$f":"IF(AND(ROW(AC57)>=statistics!$C$55,ROW(AC57)<=statistics!$D$55),AC56+AH57-AG57,)","v":0},{"$f":"IF(AND(statistics!$C$55<=ROW(A57),ROW(A57)<=statistics!$D$55)=TRUE,AH57-AG57+AA56-INDEX(AA:AA,statistics!$C$55),\"\")","v":""},null,null,0,0,0,"",{"$f":"IF(statistics!$D$3<>0,IF(AJ57=statistics!$D$3,AG57,\"\"),IF(B57<>\"\",AG57,\"\"))","v":""},{"$f":"IF(statistics!$D$3<>0,IF(AJ57=statistics!$D$3,IF(AH57=0,\"\",AH57),\"\"),IF(AH57<>0,AH57,\"\"))","v":""},{"$f":"IF(statistics!$D$3<>0,IF(AJ57=statistics!$D$3,IF(A57=0,\"\",1),\"\"),IF(A57=0,\"\",1))","v":""},"","",null,"",{"$nulls":6},0,null,null,null,"",null,null,"",null,0,null,{"$error":"#NUM!"},{"$error":"#NUM!"},56]
[{"$nulls":4},"","","","","",null,null,"",{"$nulls":6},57,"",{"$f":"IF(A59=0,IF(B59=\"\",IF(B58=0,\"\",SUM($AG$1:AG58)-SUM($U$1:U57)),\"\"),SUM($AG$1:AG58)-SUM($U$1:U57))","v":""},{"$nulls":5},0,{"$f":"IF(AJ58=statistics!$D$3,AB57+AH58-AG58,)","v":0},{"$f":"IF(AND(ROW(AC58)>=statistics!$C$55,ROW(AC58)<=statistics!$D$55),AC57+AH58-AG58,)","v":0},{"$f":"IF(AND(statistics!$C$55<=ROW(A58),ROW(A58)<=statistics!$D$55)=TRUE,AH58-AG58+AA57-INDEX(AA:AA,statistics!$C$55),\"\")","v":""},null,null,0,0,0,"",{"$f":"IF(statistics!$D$3<>0,IF(AJ58=statistics!$D$3,AG58,\"\"),IF(B58<>\"\",AG58,\"\"))","v":""},{"$f":"IF(statistics!$D$3<>0,IF(AJ58=statistics!$D$3,IF(AH58=0,\"\",AH58),\"\"),IF(AH58<>0,AH58,\"\"))","v":""},{"$f":"IF(statistics!$D$3<>0,IF(AJ58=statistics!$D$3,IF(A58=0,\"\",1),\"\"),IF(A58=0,\"\",1))","v":""},"","",null,"",{"$nulls":6},0,null,null,null,"",null,null,"",null,0,null,{"$error":"#NUM!"},{"$error":"#NUM!"},57]
[{"$nulls":4},"","","","","",null,null,"",{"$nulls":6},58,"",{"$f":"IF(A60=0,IF(B60=\"\",IF(B59=0,\"\",SUM($AG$1:AG59)-SUM($U$1:U58)),\"\"),SUM($AG$1:AG59)-SUM($U$1:U58))","v":""},{"$nulls":5},0,{"$f":"IF(AJ59=statistics!$D$3,AB58+AH59-AG59,)","v":0},{"$f":"IF(AND(ROW(AC59)>=statistics!$C$55,ROW(AC59)<=statistics!$D$55),AC58+AH59-AG59,)","v":0},{"$f":"IF(AND(statistics!$C$55<=ROW(A59),ROW(A59)<=statistics!$D$55)=TRUE,AH59-AG59+AA58-INDEX(AA:AA,statistics!$C$55),\"\")","v":""},null,null,0,0,0,"",{"$f":"IF(statistics!$D$3<>0,IF(AJ59=statistics!$D$3,AG59,\"\"),IF(B59<>\"\",AG59,\"\"))","v":""},{"$f":"IF(statistics!$D$3<>0,IF(AJ59=statistics!$D$3,IF(AH59=0,\"\",AH59),\"\"),IF(AH59<>0,AH59,\"\"))","v":""},{"$f":"IF(statistics!$D$3<>0,IF(AJ59=statistics!$D$3,IF(A59=0,\"\",1),\"\"),IF(A59=0,\"\",1))","v":""},"","",null,"",{"$nulls":6},0,null,null,null,"",null,null,"",null,0,null,{"$error":"#NUM!"},{"$error":"#NUM!"},58]
[{"$nulls":4},"","","","","",null,null,"",{"$nulls":6},59,"",{"$f":"IF(A61=0,IF(B61=\"\",IF(B60=0,\"\",SUM($AG$1:AG60)-SUM($U$1:U59)),\"\"),SUM($AG$1:AG60)-SUM($U$1:U59))","v":""},{"$nulls":5},0,{"$f":"IF(AJ60=statistics!$D$3,AB59+AH60-AG60,)","v":0},{"$f":"IF(AND(ROW(AC60)>=statistics!$C$55,ROW(AC60)<=statistics!$D$55),AC59+AH60-AG60,)","v":0},{"$f":"IF(AND(statistics!$C$55<=ROW(A60),ROW(A60)<=statistics!$D$55)=TRUE,AH60-AG60+AA59-INDEX(AA:AA,statistics!$C$55),\"\")","v":""},null,null,0,0,0,"",{"$f":"IF(statistics!$D$3<>0,IF(AJ60=statistics!$D$3,AG60,\"\"),IF(B60<>\"\",AG60,\"\"))","v":""},{"$f":"IF(statistics!$D$3<>0,IF(AJ60=statistics!$D$3,IF(AH60=0,\"\",AH60),\"\"),IF(AH60<>0,AH60,\"\"))","v":""},{"$f":"IF(statistics!$D$3<>0,IF(AJ60=statistics!$D$3,IF(A60=0,\"\",1),\"\"),IF(A60=0,\"\",1))","v":""},"","",null,"",{"$nulls":6},0,null,null,null,"",null,null,"",null,0,null,{"$error":"#NUM!"},{"$error":"#NUM!"},59]
[{"$nulls":4},"","","","","",null,null,"",{"$nulls":6},60,"",{"$f":"IF(A62=0,IF(B62=\"\",IF(B61=0,\"\",SUM($AG$1:AG61)-SUM($U$1:U60)),\"\"),SUM($AG$1:AG61)-SUM($U$1:U60))","v":""},{"$nulls":5},0,{"$f":"IF(AJ61=statistics!$D$3,AB60+AH61-AG61,)","v":0},{"$f":"IF(AND(ROW(AC61)>=statistics!$C$55,ROW(AC61)<=statistics!$D$55),AC60+AH61-AG61,)","v":0},{"$f":"IF(AND(statistics!$C$55<=ROW(A61),ROW(A61)<=statistics!$D$55)=TRUE,AH61-AG61+AA60-INDEX(AA:AA,statistics!$C$55),\"\")","v":""},null,null,0,0,0,"",{"$f":"IF(statistics!$D$3<>0,IF(AJ61=statistics!$D$3,AG61,\"\"),IF(B61<>\"\",AG61,\"\"))","v":""},{"$f":"IF(statistics!$D$3<>0,IF(AJ61=statistics!$D$3,IF(AH61=0,\"\",AH61),\"\"),IF(AH61<>0,AH61,\"\"))","v":""},{"$f":"IF(statistics!$D$3<>0,IF(AJ61=statistics!$D$3,IF(A61=0,\"\",1),\"\"),IF(A61=0,\"\",1))","v":""},"","",null,"",{"$nulls":6},0,null,null,null,"",null,null,"",null,0,null,{"$error":"#NUM!"},{"$error":"#NUM!"},60]
[{"$nulls":4},"","","","","",null,null,"",{"$nulls":6},61,"",{"$f":"IF(A63=0,IF(B63=\"\",IF(B62=0,\"\",SUM($AG$1:AG62)-SUM($U$1:U61)),\"\"),SUM($AG$1:AG62)-SUM($U$1:U61))","v":""},{"$nulls":5},0,{"$f":"IF(AJ62=statistics!$D$3,AB61+AH62-AG62,)","v":0},{"$f":"IF(AND(ROW(AC62)>=statistics!$C$55,ROW(AC62)<=statistics!$D$55),AC61+AH62-AG62,)","v":0},{"$f":"IF(AND(statistics!$C$55<=ROW(A62),ROW(A62)<=statistics!$D$55)=TRUE,AH62-AG62+AA61-INDEX(AA:AA,statistics!$C$55),\"\")","v":""},null,null,0,0,0,"",{"$f":"IF(statistics!$D$3<>0,IF(AJ62=statistics!$D$3,AG62,\"\"),IF(B62<>\"\",AG62,\"\"))","v":""},{"$f":"IF(statistics!$D$3<>0,IF(AJ62=statistics!$D$3,IF(AH62=0,\"\",AH62),\"\"),IF(AH62<>0,AH62,\"\"))","v":""},{"$f":"IF(statistics!$D$3<>0,IF(AJ62=statistics!$D$3,IF(A62=0,\"\",1),\"\"),IF(A62=0,\"\",1))","v":""},"","",null,"",{"$nulls":6},0,null,null,null,"",null,null,"",null,0,null,{"$error":"#NUM!"},{"$error":"#NUM!"},61]
[{"$nulls":4},"","","","","",null,null,"",{"$nulls":6},62,"",{"$f":"IF(A64=0,IF(B64=\"\",IF(B63=0,\"\",SUM($AG$1:AG63)-SUM($U$1:U62)),\"\"),SUM($AG$1:AG63)-SUM($U$1:U62))","v":""},{"$nulls":5},0,{"$f":"IF(AJ63=statistics!$D$3,AB62+AH63-AG63,)","v":0},{"$f":"IF(AND(ROW(AC63)>=statistics!$C$55,ROW(AC63)<=statistics!$D$55),AC62+AH63-AG63,)","v":0},{"$f":"IF(AND(statistics!$C$55<=ROW(A63),ROW(A63)<=statistics!$D$55)=TRUE,AH63-AG63+AA62-INDEX(AA:AA,statistics!$C$55),\"\")","v":""},null,null,0,0,0,"",{"$f":"IF(statistics!$D$3<>0,IF(AJ63=statistics!$D$3,AG63,\"\"),IF(B63<>\"\",AG63,\"\"))","v":""},{"$f":"IF(statistics!$D$3<>0,IF(AJ63=statistics!$D$3,IF(AH63=0,\"\",AH63),\"\"),IF(AH63<>0,AH63,\"\"))","v":""},{"$f":"IF(statistics!$D$3<>0,IF(AJ63=statistics!$D$3,IF(A63=0,\"\",1),\"\"),IF(A63=0,\"\",1))","v":""},"","",null,"",{"$nulls":6},0,null,null,null,"",null,null,"",null,0,null,{"$error":"#NUM!"},{"$error":"#NUM!"},62]
[{"$nulls":4},"","","","","",null,null,"",{"$nulls":6},63,"",{"$f":"IF(A65=0,IF(B65=\"\",IF(B64=0,\"\",SUM($AG$1:AG64)-SUM($U$1:U63)),\"\"),SUM($AG$1:AG64)-SUM($U$1:U63))","v":""},{"$nulls":5},0,{"$f":"IF(AJ64=statistics!$D$3,AB63+AH64-AG64,)","v":0},{"$f":"IF(AND(ROW(AC64)>=statistics!$C$55,ROW(AC64)<=statistics!$D$55),AC63+AH64-AG64,)","v":0},{"$f":"IF(AND(statistics!$C$55<=ROW(A64),ROW(A64)<=statistics!$D$55)=TRUE,AH64-AG64+AA63-INDEX(AA:AA,statistics!$C$55),\"\")","v":""},null,null,0,0,0,"",{"$f":"IF(statistics!$D$3<>0,IF(AJ64=statistics!$D$3,AG64,\"\"),IF(B64<>\"\",AG64,\"\"))","v":""},{"$f":"IF(statistics!$D$3<>0,IF(AJ64=statistics!$D$3,IF(AH64=0,\"\",AH64),\"\"),IF(AH64<>0,AH64,\"\"))","v":""},{"$f":"IF(statistics!$D$3<>0,IF(AJ64=statistics!$D$3,IF(A64=0,\"\",1),\"\"),IF(A64=0,\"\",1))","v":""},"","",null,"",{"$nulls":6},0,null,null,null,"",null,null,"",null,0,null,{"$error":"#NUM!"},{"$error":"#NUM!"},63]
[{"$nulls":4},"","","","","",null,null,"",{"$nulls":6},64,"",{"$f":"IF(A66=0,IF(B66=\"\",IF(B65=0,\"\",SUM($AG$1:AG65)-SUM($U$1:U64)),\"\"),SUM($AG$1:AG65)-SUM($U$1:U64))","v":""},{"$nulls":5},0,{"$f":"IF(AJ65=statistics!$D$3,AB64+AH65-AG65,)","v":0},{"$f":"IF(AND(ROW(AC65)>=statistics!$C$55,ROW(AC65)<=statistics!$D$55),AC64+AH65-AG65,)","v":0},{"$f":"IF(AND(statistics!$C$55<=ROW(A65),ROW(A65)<=statistics!$D$55)=TRUE,AH65-AG65+AA64-INDEX(AA:AA,statistics!$C$55),\"\")","v":""},null,null,0,0,0,"",{"$f":"IF(statistics!$D$3<>0,IF(AJ65=statistics!$D$3,AG65,\"\"),IF(B65<>\"\",AG65,\"\"))","v":""},{"$f":"IF(statistics!$D$3<>0,IF(AJ65=statistics!$D$3,IF(AH65=0,\"\",AH65),\"\"),IF(AH65<>0,AH65,\"\"))","v":""},{"$f":"IF(statistics!$D$3<>0,IF(AJ65=statistics!$D$3,IF(A65=0,\"\",1),\"\"),IF(A65=0,\"\",1))","v":""},"","",null,"",{"$nulls":6},0,null,null,null,"",null,null,"",null,0,null,{"$error":"#NUM!"},{"$error":"#NUM!"},64]
[{"$nulls":4},"",{"$f":"IF(A66=0,\"\",IF(T66=0,\"\",E66/T66))","v":""},"",{"$f":"IF(A67=0,IF(B67=\"\",IF(B66=0,\"\",U66),\"\"),U66)","v":""},{"$f":"IF(A67=0,IF(B67=\"\",IF(B66=0,\"\",S66),\"\"),S66)","v":""},null,null,"",{"$nulls":6},{"$f":"IF(A66=0,S65+1,1)","v":65},"",{"$f":"IF(A67=0,IF(B67=\"\",IF(B66=0,\"\",SUM($AG$1:AG66)-SUM($U$1:U65)),\"\"),SUM($AG$1:AG66)-SUM($U$1:U65))","v":""},{"$nulls":5},0,{"$f":"IF(AJ66=statistics!$D$3,AB65+AH66-AG66,)","v":0},{"$f":"IF(AND(ROW(AC66)>=statistics!$C$55,ROW(AC66)<=statistics!$D$55),AC65+AH66-AG66,)","v":0},{"$f":"IF(AND(statistics!$C$55<=ROW(A66),ROW(A66)<=statistics!$D$55)=TRUE,AH66-AG66+AA65-INDEX(AA:AA,statistics!$C$55),\"\")","v":""},null,null,0,0,0,{"$f":"IF(A66<>0,MONTH(A66),IF(B66=\"\",\"\",AJ65))","v":""},{"$f":"IF(statistics!$D$3<>0,IF(AJ66=statistics!$D$3,AG66,\"\"),IF(B66<>\"\",AG66,\"\"))","v":""},{"$f":"IF(statistics!$D$3<>0,IF(AJ66=statistics!$D$3,IF(AH66=0,\"\",AH66),\"\"),IF(AH66<>0,AH66,\"\"))","v":""},{"$f":"IF(statistics!$D$3<>0,IF(AJ66=statistics!$D$3,IF(A66=0,\"\",1),\"\"),IF(A66=0,\"\",1))","v":""},"","",null,"",{"$nulls":6},0,null,null,null,"",null,null,"",null,0,null,{"$error":"#NUM!"},{"$error":"#NUM!"},65]
[{"$nulls":4},{"$f":"IF(A67=0,\"\",IF(B67<>\"\",SUM(AH67:AH10065)-SUM(AG67:AG10065)-SUM(E68:E10065),\"\"))","v":""},"","","","",null,null,{"$f":"IF(A67=0,\"\",SUM(AI67:AI10065)-SUM(L68:L10065))","v":""},{"$nulls":6},66,{"$f":"IF(A67=0,\"\",SUM(AG67:AG10065)-SUM(T68:T10065))","v":""},{"$f":"IF(A68=0,IF(B68=\"\",IF(B67=0,\"\",SUM($AG$1:AG67)-SUM($U$1:U66)),\"\"),SUM($AG$1:AG67)-SUM($U$1:U66))","v":""},{"$nulls":5},{"$f":"AA66+AH67-AG67","v":0},{"$f":"IF(AJ67=statistics!$D$3,AB66+AH67-AG67,)","v":0},{"$f":"IF(AND(ROW(AC67)>=statistics!$C$55,ROW(AC67)<=statistics!$D$55),AC66+AH67-AG67,)","v":0},{"$f":"IF(AND(statistics!$C$55<=ROW(A67),ROW(A67)<=statistics!$D$55)=TRUE,AH67-AG67+AA66-INDEX(AA:AA,statistics!$C$55),\"\")","v":""},null,null,0,0,{"$f":"IF(J67=0,,D67*J67)","v":0},"",{"$f":"IF(statistics!$D$3<>0,IF(AJ67=statistics!$D$3,AG67,\"\"),IF(B67<>\"\",AG67,\"\"))","v":""},{"$f":"IF(statistics!$D$3<>0,IF(AJ67=statistics!$D$3,IF(AH67=0,\"\",AH67),\"\"),IF(AH67<>0,AH67,\"\"))","v":""},{"$f":"IF(statistics!$D$3<>0,IF(AJ67=statistics!$D$3,IF(A67=0,\"\",1),\"\"),IF(A67=0,\"\",1))","v":""},"","",null,{"$f":"IF(B67=0,\"\",IF(D67=0,IF(D66=0,AQ66+1,1),\"\"))","v":""},{"$nulls":6},{"$f":"J67*D67-J67*K67*(B67+C67)","v":0},null,null,null,{"$f":"IF(B67=$BA$2,ROW(),\"\")","v":""},null,null,{"$f":"IF(B67=$BA$2,INDEX(D:D,SMALL(BB:BB,CELL(\"содержимое\",BG67)))-INDEX(B:B,SMALL(BB:BB,CELL(\"содержимое\",BG67)))-INDEX(C:C,SMALL(BB:BB,CELL(\"содержимое\",BG67))),\"\")","v":""},null,{"$f":"IF($BA$2=B67,BG66+1,BG66)","v":0},null,{"$f":"INDEX(BE:BE,SMALL(BB:BB,CELL(\"содержимое\",BK67)))","v":{"$error":"#NUM!"}},{"$f":"BJ66+BI67","v":{"$error":"#NUM!"}},{"$f":"BK66+1","v":66}]
[{"$nulls":4},"","","","","",null,null,"",{"$nulls":6},67,"",{"$f":"IF(A69=0,IF(B69=\"\",IF(B68=0,\"\",SUM($AG$1:AG68)-SUM($U$1:U67)),\"\"),SUM($AG$1:AG68)-SUM($U$1:U67))","v":""},{"$nulls":5},0,{"$f":"IF(AJ68=statistics!$D$3,AB67+AH68-AG68,)","v":0},{"$f":"IF(AND(ROW(AC68)>=statistics!$C$55,ROW(AC68)<=statistics!$D$55),AC67+AH68-AG68,)","v":0},{"$f":"IF(AND(statistics!$C$55<=ROW(A68),ROW(A68)<=statistics!$D$55)=TRUE,AH68-AG68+AA67-INDEX(AA:AA,statistics!$C$55),\"\")","v":""},null,null,0,0,0,"",{"$f":"IF(statistics!$D$3<>0,IF(AJ68=statistics!$D$3,AG68,\"\"),IF(B68<>\"\",AG68,\"\"))","v":""},{"$f":"IF(statistics!$D$3<>0,IF(AJ68=statistics!$D$3,IF(AH68=0,\"\",AH68),\"\"),IF(AH68<>0,AH68,\"\"))","v":""},{"$f":"IF(statistics!$D$3<>0,IF(AJ68=statistics!$D$3,IF(A68=0,\"\",1),\"\"),IF(A68=0,\"\",1))","v":""},{"$f":"IF(AK68<>\"\",IF(AK67=0,ROW(AK68),ROW(AK68)),\"\")","v":""},{"$f":"IF(A68<>0,IF(MONTH(A68)=AJ67,\"\",MONTH(A68)),\"\")","v":""},null,"",{"$nulls":6},0,null,null,null,"",null,null,"",null,0,null,{"$error":"#NUM!"},{"$error":"#NUM!"},67]
[{"$nulls":4},"","","","","",null,null,"",{"$nulls":6},68,"",{"$f":"IF(A70=0,IF(B70=\"\",IF(B69=0,\"\",SUM($AG$1:AG69)-SUM($U$1:U68)),\"\"),SUM($AG$1:AG69)-SUM($U$1:U68))","v":""},{"$nulls":5},0,{"$f":"IF(AJ69=statistics!$D$3,AB68+AH69-AG69,)","v":0},{"$f":"IF(AND(ROW(AC69)>=statistics!$C$55,ROW(AC69)<=statistics!$D$55),AC68+AH69-AG69,)","v":0},{"$f":"IF(AND(statistics!$C$55<=ROW(A69),ROW(A69)<=statistics!$D$55)=TRUE,AH69-AG69+AA68-INDEX(AA:AA,statistics!$C$55),\"\")","v":""},null,null,{"$f":"IF(J69=0,B69+C69,(B69+C69)-(B69+C69)*J69*K69)","v":0},{"$f":"IF(J69=0,D69,D69*(1-J69))","v":0},0,"",{"$f":"IF(statistics!$D$3<>0,IF(AJ69=statistics!$D$3,AG69,\"\"),IF(B69<>\"\",AG69,\"\"))","v":""},{"$f":"IF(statistics!$D$3<>0,IF(AJ69=statistics!$D$3,IF(AH69=0,\"\",AH69),\"\"),IF(AH69<>0,AH69,\"\"))","v":""},{"$f":"IF(statistics!$D$3<>0,IF(AJ69=statistics!$D$3,IF(A69=0,\"\",1),\"\"),IF(A69=0,\"\",1))","v":""},"","",null,"",{"$nulls":6},0,null,null,null,"",null,null,"",null,0,null,{"$error":"#NUM!"},{"$error":"#NUM!"},68]
[{"$nulls":4},"","","","","",null,null,"",{"$nulls":6},69,"",{"$f":"IF(A71=0,IF(B71=\"\",IF(B70=0,\"\",SUM($AG$1:AG70)-SUM($U$1:U69)),\"\"),SUM($AG$1:AG70)-SUM($U$1:U69))","v":""},{"$nulls":5},0,{"$f":"IF(AJ70=statistics!$D$3,AB69+AH70-AG70,)","v":0},{"$f":"IF(AND(ROW(AC70)>=statistics!$C$55,ROW(AC70)<=statistics!$D$55),AC69+AH70-AG70,)","v":0},{"$f":"IF(AND(statistics!$C$55<=ROW(A70),ROW(A70)<=statistics!$D$55)=TRUE,AH70-AG70+AA69-INDEX(AA:AA,statistics!$C$55),\"\")","v":""},null,null,0,0,0,"",{"$f":"IF(statistics!$D$3<>0,IF(AJ70=statistics!$D$3,AG70,\"\"),IF(B70<>\"\",AG70,\"\"))","v":""},{"$f":"IF(statistics!$D$3<>0,IF(AJ70=statistics!$D$3,IF(AH70=0,\"\",AH70),\"\"),IF(AH70<>0,AH70,\"\"))","v":""},{"$f":"IF(statistics!$D$3<>0,IF(AJ70=statistics!$D$3,IF(A70=0,\"\",1),\"\"),IF(A70=0,\"\",1))","v":""},"","",null,"",{"$nulls":6},0,null,null,null,"",null,null,"",null,0,null,{"$error":"#NUM!"},{"$error":"#NUM!"},69]
[{"$nulls":4},"","","","","",null,null,"",{"$nulls":6},70,"",{"$f":"IF(A72=0,IF(B72=\"\",IF(B71=0,\"\",SUM($AG$1:AG71)-SUM($U$1:U70)),\"\"),SUM($AG$1:AG71)-SUM($U$1:U70))","v":""},{"$nulls":5},0,{"$f":"IF(AJ71=statistics!$D$3,AB70+AH71-AG71,)","v":0},{"$f":"IF(AND(ROW(AC71)>=statistics!$C$55,ROW(AC71)<=statistics!$D$55),AC70+AH71-AG71,)","v":0},{"$f":"IF(AND(statistics!$C$55<=ROW(A71),ROW(A71)<=statistics!$D$55)=TRUE,AH71-AG71+AA70-INDEX(AA:AA,statistics!$C$55),\"\")","v":""},null,null,0,0,0,"",{"$f":"IF(statistics!$D$3<>0,IF(AJ71=statistics!$D$3,AG71,\"\"),IF(B71<>\"\",AG71,\"\"))","v":""},{"$f":"IF(statistics!$D$3<>0,IF(AJ71=statistics!$D$3,IF(AH71=0,\"\",AH71),\"\"),IF(AH71<>0,AH71,\"\"))","v":""},{"$f":"IF(statistics!$D$3<>0,IF(AJ71=statistics!$D$3,IF(A71=0,\"\",1),\"\"),IF(A71=0,\"\",1))","v":""},"","",null,"",{"$nulls":6},0,null,null,null,"",null,null,"",null,0,null,{"$error":"#NUM!"},{"$error":"#NUM!"},70]
[{"$nulls":4},"","","","","",null,null,"",{"$nulls":6},71,"",{"$f":"IF(A73=0,IF(B73=\"\",IF(B72=0,\"\",SUM($AG$1:AG72)-SUM($U$1:U71)),\"\"),SUM($AG$1:AG72)-SUM($U$1:U71))","v":""},{"$nulls":5},0,{"$f":"IF(AJ72=statistics!$D$3,AB71+AH72-AG72,)","v":0},{"$f":"IF(AND(ROW(AC72)>=statistics!$C$55,ROW(AC72)<=statistics!$D$55),AC71+AH72-AG72,)","v":0},{"$f":"IF(AND(statistics!$C$55<=ROW(A72),ROW(A72)<=statistics!$D$55)=TRUE,AH72-AG72+AA71-INDEX(AA:AA,statistics!$C$55),\"\")","v":""},null,null,0,0,0,"",{"$f":"IF(statistics!$D$3<>0,IF(AJ72=statistics!$D$3,AG72,\"\"),IF(B72<>\"\",AG72,\"\"))","v":""},{"$f":"IF(statistics!$D$3<>0,IF(AJ72=statistics!$D$3,IF(AH72=0,\"\",AH72),\"\"),IF(AH72<>0,AH72,\"\"))","v":""},{"$f":"IF(statistics!$D$3<>0,IF(AJ72=statistics!$D$3,IF(A72=0,\"\",1),\"\"),IF(A72=0,\"\",1))","v":""},"","",null,"",{"$nulls":6},0,null,null,null,"",null,null,"",null,0,null,{"$error":"#NUM!"},{"$error":"#NUM!"},71]
[{"$nulls":4},"","","","","",null,null,"",{"$nulls":6},72,"",{"$f":"IF(A74=0,IF(B74=\"\",IF(B73=0,\"\",SUM($AG$1:AG73)-SUM($U$1:U72)),\"\"),SUM($AG$1:AG73)-SUM($U$1:U72))","v":""},{"$nulls":5},0,{"$f":"IF(AJ73=statistics!$D$3,AB72+AH73-AG73,)","v":0},{"$f":"IF(AND(ROW(AC73)>=statistics!$C$55,ROW(AC73)<=statistics!$D$55),AC72+AH73-AG73,)","v":0},{"$f":"IF(AND(statistics!$C$55<=ROW(A73),ROW(A73)<=statistics!$D$55)=TRUE,AH73-AG73+AA72-INDEX(AA:AA,statistics!$C$55),\"\")","v":""},null,null,0,0,0,"",{"$f":"IF(statistics!$D$3<>0,IF(AJ73=statistics!$D$3,AG73,\"\"),IF(B73<>\"\",AG73,\"\"))","v":""},{"$f":"IF(statistics!$D$3<>0,IF(AJ73=statistics!$D$3,IF(AH73=0,\"\",AH73),\"\"),IF(AH73<>0,AH73,\"\"))","v":""},{"$f":"IF(statistics!$D$3<>0,IF(AJ73=statistics!$D$3,IF(A73=0,\"\",1),\"\"),IF(A73=0,\"\",1))","v":""},"","",null,"",{"$nulls":6},0,null,null,null,"",null,null,"",null,0,null,{"$error":"#NUM!"},{"$error":"#NUM!"},72]
[{"$nulls":4},"","","","","",null,null,"",{"$nulls":6},73,"",{"$f":"IF(A75=0,IF(B75=\"\",IF(B74=0,\"\",SUM($AG$1:AG74)-SUM($U$1:U73)),\"\"),SUM($AG$1:AG74)-SUM($U$1:U73))","v":""},{"$nulls":5},0,{"$f":"IF(AJ74=statistics!$D$3,AB73+AH74-AG74,)","v":0},{"$f":"IF(AND(ROW(AC74)>=statistics!$C$55,ROW(AC74)<=statistics!$D$55),AC73+AH74-AG74,)","v":0},{"$f":"IF(AND(statistics!$C$55<=ROW(A74),ROW(A74)<=statistics!$D$55)=TRUE,AH74-AG74+AA73-INDEX(AA:AA,statistics!$C$55),\"\")","v":""},null,null,0,0,0,"",{"$f":"IF(statistics!$D$3<>0,IF(AJ74=statistics!$D$3,AG74,\"\"),IF(B74<>\"\",AG74,\"\"))","v":""},{"$f":"IF(statistics!$D$3<>0,IF(AJ74=statistics!$D$3,IF(AH74=0,\"\",AH74),\"\"),IF(AH74<>0,AH74,\"\"))","v":""},{"$f":"IF(statistics!$D$3<>0,IF(AJ74=statistics!$D$3,IF(A74=0,\"\",1),\"\"),IF(A74=0,\"\",1))","v":""},"","",null,"",{"$nulls":6},0,null,null,null,"",null,null,"",null,0,null,{"$error":"#NUM!"},{"$error":"#NUM!"},73]
[{"$nulls":4},"","","","","",null,null,"",{"$nulls":6},74,"",{"$f":"IF(A76=0,IF(B76=\"\",IF(B75=0,\"\",SUM($AG$1:AG75)-SUM($U$1:U74)),\"\"),SUM($AG$1:AG75)-SUM($U$1:U74))","v":""},{"$nulls":5},0,{"$f":"IF(AJ75=statistics!$D$3,AB74+AH75-AG75,)","v":0},{"$f":"IF(AND(ROW(AC75)>=statistics!$C$55,ROW(AC75)<=statistics!$D$55),AC74+AH75-AG75,)","v":0},{"$f":"IF(AND(statistics!$C$55<=ROW(A75),ROW(A75)<=statistics!$D$55)=TRUE,AH75-AG75+AA74-INDEX(AA:AA,statistics!$C$55),\"\")","v":""},null,null,0,0,0,"",{"$f":"IF(statistics!$D$3<>0,IF(AJ75=statistics!$D$3,AG75,\"\"),IF(B75<>\"\",AG75,\"\"))","v":""},{"$f":"IF(statistics!$D$3<>0,IF(AJ75=statistics!$D$3,IF(AH75=0,\"\",AH75),\"\"),IF(AH75<>0,AH75,\"\"))","v":""},{"$f":"IF(statistics!$D$3<>0,IF(AJ75=statistics!$D$3,IF(A75=0,\"\",1),\"\"),IF(A75=0,\"\",1))","v":""},"","",null,"",{"$nulls":6},0,null,null,null,"",null,null,"",null,0,null,{"$error":"#NUM!"},{"$error":"#NUM!"},74]
[{"$nulls":4},"","","","","",null,null,"",{"$nulls":6},75,"",{"$f":"IF(A77=0,IF(B77=\"\",IF(B76=0,\"\",SUM($AG$1:AG76)-SUM($U$1:U75)),\"\"),SUM($AG$1:AG76)-SUM($U$1:U75))","v":""},{"$nulls":5},0,{"$f":"IF(AJ76=statistics!$D$3,AB75+AH76-AG76,)","v":0},{"$f":"IF(AND(ROW(AC76)>=statistics!$C$55,ROW(AC76)<=statistics!$D$55),AC75+AH76-AG76,)","v":0},{"$f":"IF(AND(statistics!$C$55<=ROW(A76),ROW(A76)<=statistics!$D$55)=TRUE,AH76-AG76+AA75-INDEX(AA:AA,statistics!$C$55),\"\")","v":""},null,null,0,0,0,"",{"$f":"IF(statistics!$D$3<>0,IF(AJ76=statistics!$D$3,AG76,\"\"),IF(B76<>\"\",AG76,\"\"))","v":""},{"$f":"IF(statistics!$D$3<>0,IF(AJ76=statistics!$D$3,IF(AH76=0,\"\",AH76),\"\"),IF(AH76<>0,AH76,\"\"))","v":""},{"$f":"IF(statistics!$D$3<>0,IF(AJ76=statistics!$D$3,IF(A76=0,\"\",1),\"\"),IF(A76=0,\"\",1))","v":""},"","",null,"",{"$nulls":6},0,null,null,null,"",null,null,"",null,0,null,{"$error":"#NUM!"},{"$error":"#NUM!"},75]
[{"$nulls":4},"","","","","",null,null,"",{"$nulls":6},76,"",{"$f":"IF(A78=0,IF(B78=\"\",IF(B77=0,\"\",SUM($AG$1:AG77)-SUM($U$1:U76)),\"\"),SUM($AG$1:AG77)-SUM($U$1:U76))","v":""},{"$nulls":5},0,{"$f":"IF(AJ77=statistics!$D$3,AB76+AH77-AG77,)","v":0},{"$f":"IF(AND(ROW(AC77)>=statistics!$C$55,ROW(AC77)<=statistics!$D$55),AC76+AH77-AG77,)","v":0},{"$f":"IF(AND(statistics!$C$55<=ROW(A77),ROW(A77)<=statistics!$D$55)=TRUE,AH77-AG77+AA76-INDEX(AA:AA,statistics!$C$55),\"\")","v":""},null,null,0,0,0,"",{"$f":"IF(statistics!$D$3<>0,IF(AJ77=statistics!$D$3,AG77,\"\"),IF(B77<>\"\",AG77,\"\"))","v":""},{"$f":"IF(statistics!$D$3<>0,IF(AJ77=statistics!$D$3,IF(AH77=0,\"\",AH77),\"\"),IF(AH77<>0,AH77,\"\"))","v":""},{"$f":"IF(statistics!$D$3<>0,IF(AJ77=statistics!$D$3,IF(A77=0,\"\",1),\"\"),IF(A77=0,\"\",1))","v":""},"","",null,"",{"$nulls":6},0,null,null,null,"",null,null,"",null,0,null,{"$error":"#NUM!"},{"$error":"#NUM!"},76]
[{"$nulls":4},"","","","","",null,null,"",{"$nulls":6},77,"",{"$f":"IF(A79=0,IF(B79=\"\",IF(B78=0,\"\",SUM($AG$1:AG78)-SUM($U$1:U77)),\"\"),SUM($AG$1:AG78)-SUM($U$1:U77))","v":""},{"$nulls":5},0,{"$f":"IF(AJ78=statistics!$D$3,AB77+AH78-AG78,)","v":0},{"$f":"IF(AND(ROW(AC78)>=statistics!$C$55,ROW(AC78)<=statistics!$D$55),AC77+AH78-AG78,)","v":0},{"$f":"IF(AND(statistics!$C$55<=ROW(A78),ROW(A78)<=statistics!$D$55)=TRUE,AH78-AG78+AA77-INDEX(AA:AA,statistics!$C$55),\"\")","v":""},null,null,0,0,0,"",{"$f":"IF(statistics!$D$3<>0,IF(AJ78=statistics!$D$3,AG78,\"\"),IF(B78<>\"\",AG78,\"\"))","v":""},{"$f":"IF(statistics!$D$3<>0,IF(AJ78=statistics!$D$3,IF(AH78=0,\"\",AH78),\"\"),IF(AH78<>0,AH78,\"\"))","v":""},{"$f":"IF(statistics!$D$3<>0,IF(AJ78=statistics!$D$3,IF(A78=0,\"\",1),\"\"),IF(A78=0,\"\",1))","v":""},"","",null,"",{"$nulls":6},0,null,null,null,"",null,null,"",null,0,null,{"$error":"#NUM!"},{"$error":"#NUM!"},77]
[{"$nulls":4},"","","","","",null,null,"",{"$nulls":6},78,"",{"$f":"IF(A80=0,IF(B80=\"\",IF(B79=0,\"\",SUM($AG$1:AG79)-SUM($U$1:U78)),\"\"),SUM($AG$1:AG79)-SUM($U$1:U78))","v":""},{"$nulls":5},0,{"$f":"IF(AJ79=statistics!$D$3,AB78+AH79-AG79,)","v":0},{"$f":"IF(AND(ROW(AC79)>=statistics!$C$55,ROW(AC79)<=statistics!$D$55),AC78+AH79-AG79,)","v":0},{"$f":"IF(AND(statistics!$C$55<=ROW(A79),ROW(A79)<=statistics!$D$55)=TRUE,AH79-AG79+AA78-INDEX(AA:AA,statistics!$C$55),\"\")","v":""},null,null,0,0,0,"",{"$f":"IF(statistics!$D$3<>0,IF(AJ79=statistics!$D$3,AG79,\"\"),IF(B79<>\"\",AG79,\"\"))","v":""},{"$f":"IF(statistics!$D$3<>0,IF(AJ79=statistics!$D$3,IF(AH79=0,\"\",AH79),\"\"),IF(AH79<>0,AH79,\"\"))","v":""},{"$f":"IF(statistics!$D$3<>0,IF(AJ79=statistics!$D$3,IF(A79=0,\"\",1),\"\"),IF(A79=0,\"\",1))","v":""},"","",null,"",{"$nulls":6},0,null,null,null,"",null,null,"",null,0,null,{"$error":"#NUM!"},{"$error":"#NUM!"},78]
[{"$nulls":4},"","","","","",null,null,"",{"$nulls":6},79,"",{"$f":"IF(A81=0,IF(B81=\"\",IF(B80=0,\"\",SUM($AG$1:AG80)-SUM($U$1:U79)),\"\"),SUM($AG$1:AG80)-SUM($U$1:U79))","v":""},{"$nulls":5},0,{"$f":"IF(AJ80=statistics!$D$3,AB79+AH80-AG80,)","v":0},{"$f":"IF(AND(ROW(AC80)>=statistics!$C$55,ROW(AC80)<=statistics!$D$55),AC79+AH80-AG80,)","v":0},{"$f":"IF(AND(statistics!$C$55<=ROW(A80),ROW(A80)<=statistics!$D$55)=TRUE,AH80-AG80+AA79-INDEX(AA:AA,statistics!$C$55),\"\")","v":""},null,null,0,0,0,"",{"$f":"IF(statistics!$D$3<>0,IF(AJ80=statistics!$D$3,AG80,\"\"),IF(B80<>\"\",AG80,\"\"))","v":""},{"$f":"IF(statistics!$D$3<>0,IF(AJ80=statistics!$D$3,IF(AH80=0,\"\",AH80),\"\"),IF(AH80<>0,AH80,\"\"))","v":""},{"$f":"IF(statistics!$D$3<>0,IF(AJ80=statistics!$D$3,IF(A80=0,\"\",1),\"\"),IF(A80=0,\"\",1))","v":""},"","",null,"",{"$nulls":6},0,null,null,null,"",null,null,"",null,0,null,{"$error":"#NUM!"},{"$error":"#NUM!"},79]
[{"$nulls":4},"","",{"$f":"IF(A82=0,IF(B82=\"\",IF(B81=0,\"\",U81/S81),\"\"),U81/S81)","v":""},"","",null,null,"",{"$nulls":6},80,"",{"$f":"IF(A82=0,IF(B82=\"\",IF(B81=0,\"\",SUM($AG$1:AG81)-SUM($U$1:U80)),\"\"),SUM($AG$1:AG81)-SUM($U$1:U80))","v":""},{"$nulls":5},0,{"$f":"IF(AJ81=statistics!$D$3,AB80+AH81-AG81,)","v":0},{"$f":"IF(AND(ROW(AC81)>=statistics!$C$55,ROW(AC81)<=statistics!$D$55),AC80+AH81-AG81,)","v":0},{"$f":"IF(AND(statistics!$C$55<=ROW(A81),ROW(A81)<=statistics!$D$55)=TRUE,AH81-AG81+AA80-INDEX(AA:AA,statistics!$C$55),\"\")","v":""},null,null,0,0,0,"",{"$f":"IF(statistics!$D$3<>0,IF(AJ81=statistics!$D$3,AG81,\"\"),IF(B81<>\"\",AG81,\"\"))","v":""},{"$f":"IF(statistics!$D$3<>0,IF(AJ81=statistics!$D$3,IF(AH81=0,\"\",AH81),\"\"),IF(AH81<>0,AH81,\"\"))","v":""},{"$f":"IF(statistics!$D$3<>0,IF(AJ81=statistics!$D$3,IF(A81=0,\"\",1),\"\"),IF(A81=0,\"\",1))","v":""},"","",null,"",{"$nulls":6},0,null,null,null,"",null,null,"",null,0,null,{"$error":"#NUM!"},{"$error":"#NUM!"},80]
[{"$nulls":4},"","","","","",null,null,"",{"$nulls":6},81,"",{"$f":"IF(A83=0,IF(B83=\"\",IF(B82=0,\"\",SUM($AG$1:AG82)-SUM($U$1:U81)),\"\"),SUM($AG$1:AG82)-SUM($U$1:U81))","v":""},{"$nulls":5},0,{"$f":"IF(AJ82=statistics!$D$3,AB81+AH82-AG82,)","v":0},{"$f":"IF(AND(ROW(AC82)>=statistics!$C$55,ROW(AC82)<=statistics!$D$55),AC81+AH82-AG82,)","v":0},{"$f":"IF(AND(statistics!$C$55<=ROW(A82),ROW(A82)<=statistics!$D$55)=TRUE,AH82-AG82+AA81-INDEX(AA:AA,statistics!$C$55),\"\")","v":""},null,null,0,0,0,"",{"$f":"IF(statistics!$D$3<>0,IF(AJ82=statistics!$D$3,AG82,\"\"),IF(B82<>\"\",AG82,\"\"))","v":""},{"$f":"IF(statistics!$D$3<>0,IF(AJ82=statistics!$D$3,IF(AH82=0,\"\",AH82),\"\"),IF(AH82<>0,AH82,\"\"))","v":""},{"$f":"IF(statistics!$D$3<>0,IF(AJ82=statistics!$D$3,IF(A82=0,\"\",1),\"\"),IF(A82=0,\"\",1))","v":""},"","",null,"",{"$nulls":6},0,null,null,null,"",null,null,"",null,0,null,{"$error":"#NUM!"},{"$error":"#NUM!"},81]
[{"$nulls":4},"","","","","",null,null,"",{"$nulls":6},82,"",{"$f":"IF(A84=0,IF(B84=\"\",IF(B83=0,\"\",SUM($AG$1:AG83)-SUM($U$1:U82)),\"\"),SUM($AG$1:AG83)-SUM($U$1:U82))","v":""},{"$nulls":5},0,{"$f":"IF(AJ83=statistics!$D$3,AB82+AH83-AG83,)","v":0},{"$f":"IF(AND(ROW(AC83)>=statistics!$C$55,ROW(AC83)<=statistics!$D$55),AC82+AH83-AG83,)","v":0},{"$f":"IF(AND(statistics!$C$55<=ROW(A83),ROW(A83)<=statistics!$D$55)=TRUE,AH83-AG83+AA82-INDEX(AA:AA,statistics!$C$55),\"\")","v":""},null,null,0,0,0,{"$f":"IF(A83<>0,MONTH(A83),IF(B83=\"\",\"\",AJ82))","v":""},{"$f":"IF(statistics!$D$3<>0,IF(AJ83=statistics!$D$3,AG83,\"\"),IF(B83<>\"\",AG83,\"\"))","v":""},{"$f":"IF(statistics!$D$3<>0,IF(AJ83=statistics!$D$3,IF(AH83=0,\"\",AH83),\"\"),IF(AH83<>0,AH83,\"\"))","v":""},{"$f":"IF(statistics!$D$3<>0,IF(AJ83=statistics!$D$3,IF(A83=0,\"\",1),\"\"),IF(A83=0,\"\",1))","v":""},"","",null,"",{"$nulls":6},0,null,null,null,"",null,null,"",null,0,null,{"$error":"#NUM!"},{"$error":"#NUM!"},82]
[{"$nulls":4},"","","","","",null,null,"",{"$nulls":6},83,"",{"$f":"IF(A85=0,IF(B85=\"\",IF(B84=0,\"\",SUM($AG$1:AG84)-SUM($U$1:U83)),\"\"),SUM($AG$1:AG84)-SUM($U$1:U83))","v":""},{"$nulls":5},0,{"$f":"IF(AJ84=statistics!$D$3,AB83+AH84-AG84,)","v":0},{"$f":"IF(AND(ROW(AC84)>=statistics!$C$55,ROW(AC84)<=statistics!$D$55),AC83+AH84-AG84,)","v":0},{"$f":"IF(AND(statistics!$C$55<=ROW(A84),ROW(A84)<=statistics!$D$55)=TRUE,AH84-AG84+AA83-INDEX(AA:AA,statistics!$C$55),\"\")","v":""},null,null,0,0,0,{"$f":"IF(A84<>0,MONTH(A84),IF(B84=\"\",\"\",AJ83))","v":""},{"$f":"IF(statistics!$D$3<>0,IF(AJ84=statistics!$D$3,AG84,\"\"),IF(B84<>\"\",AG84,\"\"))","v":""},{"$f":"IF(statistics!$D$3<>0,IF(AJ84=statistics!$D$3,IF(AH84=0,\"\",AH84),\"\"),IF(AH84<>0,AH84,\"\"))","v":""},{"$f":"IF(statistics!$D$3<>0,IF(AJ84=statistics!$D$3,IF(A84=0,\"\",1),\"\"),IF(A84=0,\"\",1))","v":""},"","",null,"",{"$nulls":6},0,null,null,null,"",null,null,"",null,0,null,{"$error":"#NUM!"},{"$error":"#NUM!"},83]
[{"$nulls":4},"","","","","",null,null,"",{"$nulls":6},84,"",{"$f":"IF(A86=0,IF(B86=\"\",IF(B85=0,\"\",SUM($AG$1:AG85)-SUM($U$1:U84)),\"\"),SUM($AG$1:AG85)-SUM($U$1:U84))","v":""},{"$nulls":5},0,{"$f":"IF(AJ85=statistics!$D$3,AB84+AH85-AG85,)","v":0},{"$f":"IF(AND(ROW(AC85)>=statistics!$C$55,ROW(AC85)<=statistics!$D$55),AC84+AH85-AG85,)","v":0},{"$f":"IF(AND(statistics!$C$55<=ROW(A85),ROW(A85)<=statistics!$D$55)=TRUE,AH85-AG85+AA84-INDEX(AA:AA,statistics!$C$55),\"\")","v":""},null,null,0,0,0,"",{"$f":"IF(statistics!$D$3<>0,IF(AJ85=statistics!$D$3,AG85,\"\"),IF(B85<>\"\",AG85,\"\"))","v":""},{"$f":"IF(statistics!$D$3<>0,IF(AJ85=statistics!$D$3,IF(AH85=0,\"\",AH85),\"\"),IF(AH85<>0,AH85,\"\"))","v":""},{"$f":"IF(statistics!$D$3<>0,IF(AJ85=statistics!$D$3,IF(A85=0,\"\",1),\"\"),IF(A85=0,\"\",1))","v":""},"","",null,"",{"$nulls":6},0,null,null,null,"",null,null,"",null,0,null,{"$error":"#NUM!"},{"$error":"#NUM!"},84]
[{"$nulls":4},"","","","","",null,null,"",{"$nulls":6},85,"",{"$f":"IF(A87=0,IF(B87=\"\",IF(B86=0,\"\",SUM($AG$1:AG86)-SUM($U$1:U85)),\"\"),SUM($AG$1:AG86)-SUM($U$1:U85))","v":""},{"$nulls":5},0,{"$f":"IF(AJ86=statistics!$D$3,AB85+AH86-AG86,)","v":0},{"$f":"IF(AND(ROW(AC86)>=statistics!$C$55,ROW(AC86)<=statistics!$D$55),AC85+AH86-AG86,)","v":0},{"$f":"IF(AND(statistics!$C$55<=ROW(A86),ROW(A86)<=statistics!$D$55)=TRUE,AH86-AG86+AA85-INDEX(AA:AA,statistics!$C$55),\"\")","v":""},null,null,0,0,0,"",{"$f":"IF(statistics!$D$3<>0,IF(AJ86=statistics!$D$3,AG86,\"\"),IF(B86<>\"\",AG86,\"\"))","v":""},{"$f":"IF(statistics!$D$3<>0,IF(AJ86=statistics!$D$3,IF(AH86=0,\"\",AH86),\"\"),IF(AH86<>0,AH86,\"\"))","v":""},{"$f":"IF(statistics!$D$3<>0,IF(AJ86=statistics!$D$3,IF(A86=0,\"\",1),\"\"),IF(A86=0,\"\",1))","v":""},"","",null,"",{"$nulls":6},0,null,null,null,"",null,null,"",null,0,null,{"$error":"#NUM!"},{"$error":"#NUM!"},85]
[{"$nulls":4},"","","","","",null,null,"",{"$nulls":6},86,"",{"$f":"IF(A88=0,IF(B88=\"\",IF(B87=0,\"\",SUM($AG$1:AG87)-SUM($U$1:U86)),\"\"),SUM($AG$1:AG87)-SUM($U$1:U86))","v":""},{"$nulls":5},0,{"$f":"IF(AJ87=statistics!$D$3,AB86+AH87-AG87,)","v":0},{"$f":"IF(AND(ROW(AC87)>=statistics!$C$55,ROW(AC87)<=statistics!$D$55),AC86+AH87-AG87,)","v":0},{"$f":"IF(AND(statistics!$C$55<=ROW(A87),ROW(A87)<=statistics!$D$55)=TRUE,AH87-AG87+AA86-INDEX(AA:AA,statistics!$C$55),\"\")","v":""},null,null,0,0,0,"",{"$f":"IF(statistics!$D$3<>0,IF(AJ87=statistics!$D$3,AG87,\"\"),IF(B87<>\"\",AG87,\"\"))","v":""},{"$f":"IF(statistics!$D$3<>0,IF(AJ87=statistics!$D$3,IF(AH87=0,\"\",AH87),\"\"),IF(AH87<>0,AH87,\"\"))","v":""},{"$f":"IF(statistics!$D$3<>0,IF(AJ87=statistics!$D$3,IF(A87=0,\"\",1),\"\"),IF(A87=0,\"\",1))","v":""},"","",null,"",{"$nulls":6},0,null,null,null,"",null,null,"",null,0,null,{"$error":"#NUM!"},{"$error":"#NUM!"},86]
[{"$nulls":4},"","","","","",null,null,"",{"$nulls":6},87,"",{"$f":"IF(A89=0,IF(B89=\"\",IF(B88=0,\"\",SUM($AG$1:AG88)-SUM($U$1:U87)),\"\"),SUM($AG$1:AG88)-SUM($U$1:U87))","v":""},{"$nulls":5},0,{"$f":"IF(AJ88=statistics!$D$3,AB87+AH88-AG88,)","v":0},{"$f":"IF(AND(ROW(AC88)>=statistics!$C$55,ROW(AC88)<=statistics!$D$55),AC87+AH88-AG88,)","v":0},{"$f":"IF(AND(statistics!$C$55<=ROW(A88),ROW(A88)<=statistics!$D$55)=TRUE,AH88-AG88+AA87-INDEX(AA:AA,statistics!$C$55),\"\")","v":""},null,null,0,0,0,"",{"$f":"IF(statistics!$D$3<>0,IF(AJ88=statistics!$D$3,AG88,\"\"),IF(B88<>\"\",AG88,\"\"))","v":""},{"$f":"IF(statistics!$D$3<>0,IF(AJ88=statistics!$D$3,IF(AH88=0,\"\",AH88),\"\"),IF(AH88<>0,AH88,\"\"))","v":""},{"$f":"IF(statistics!$D$3<>0,IF(AJ88=statistics!$D$3,IF(A88=0,\"\",1),\"\"),IF(A88=0,\"\",1))","v":""},"","",null,"",{"$nulls":6},0,null,null,null,"",null,null,"",null,0,null,{"$error":"#NUM!"},{"$error":"#NUM!"},87]
[{"$nulls":4},"","","","","",null,null,"",{"$nulls":6},88,"",{"$f":"IF(A90=0,IF(B90=\"\",IF(B89=0,\"\",SUM($AG$1:AG89)-SUM($U$1:U88)),\"\"),SUM($AG$1:AG89)-SUM($U$1:U88))","v":""},{"$nulls":5},0,{"$f":"IF(AJ89=statistics!$D$3,AB88+AH89-AG89,)","v":0},{"$f":"IF(AND(ROW(AC89)>=statistics!$C$55,ROW(AC89)<=statistics!$D$55),AC88+AH89-AG89,)","v":0},{"$f":"IF(AND(statistics!$C$55<=ROW(A89),ROW(A89)<=statistics!$D$55)=TRUE,AH89-AG89+AA88-INDEX(AA:AA,statistics!$C$55),\"\")","v":""},null,null,0,0,0,"",{"$f":"IF(statistics!$D$3<>0,IF(AJ89=statistics!$D$3,AG89,\"\"),IF(B89<>\"\",AG89,\"\"))","v":""},{"$f":"IF(statistics!$D$3<>0,IF(AJ89=statistics!$D$3,IF(AH89=0,\"\",AH89),\"\"),IF(AH89<>0,AH89,\"\"))","v":""},{"$f":"IF(statistics!$D$3<>0,IF(AJ89=statistics!$D$3,IF(A89=0,\"\",1),\"\"),IF(A89=0,\"\",1))","v":""},"","",null,"",{"$nulls":6},0,null,null,null,"",null,null,"",null,0,null,{"$error":"#NUM!"},{"$error":"#NUM!"},88]
[{"$nulls":4},"","","","","",null,null,"",{"$nulls":6},89,"",{"$f":"IF(A91=0,IF(B91=\"\",IF(B90=0,\"\",SUM($AG$1:AG90)-SUM($U$1:U89)),\"\"),SUM($AG$1:AG90)-SUM($U$1:U89))","v":""},{"$nulls":5},0,{"$f":"IF(AJ90=statistics!$D$3,AB89+AH90-AG90,)","v":0},{"$f":"IF(AND(ROW(AC90)>=statistics!$C$55,ROW(AC90)<=statistics!$D$55),AC89+AH90-AG90,)","v":0},{"$f":"IF(AND(statistics!$C$55<=ROW(A90),ROW(A90)<=statistics!$D$55)=TRUE,AH90-AG90+AA89-INDEX(AA:AA,statistics!$C$55),\"\")","v":""},null,null,0,0,0,"",{"$f":"IF(statistics!$D$3<>0,IF(AJ90=statistics!$D$3,AG90,\"\"),IF(B90<>\"\",AG90,\"\"))","v":""},{"$f":"IF(statistics!$D$3<>0,IF(AJ90=statistics!$D$3,IF(AH90=0,\"\",AH90),\"\"),IF(AH90<>0,AH90,\"\"))","v":""},{"$f":"IF(statistics!$D$3<>0,IF(AJ90=statistics!$D$3,IF(A90=0,\"\",1),\"\"),IF(A90=0,\"\",1))","v":""},"","",null,"",{"$nulls":6},0,null,null,null,"",null,null,"",null,0,null,{"$error":"#NUM!"},{"$error":"#NUM!"},89]
[{"$nulls":4},"","","","","",null,null,"",{"$nulls":6},90,"",{"$f":"IF(A92=0,IF(B92=\"\",IF(B91=0,\"\",SUM($AG$1:AG91)-SUM($U$1:U90)),\"\"),SUM($AG$1:AG91)-SUM($U$1:U90))","v":""},{"$nulls":5},0,{"$f":"IF(AJ91=statistics!$D$3,AB90+AH91-AG91,)","v":0},{"$f":"IF(AND(ROW(AC91)>=statistics!$C$55,ROW(AC91)<=statistics!$D$55),AC90+AH91-AG91,)","v":0},{"$f":"IF(AND(statistics!$C$55<=ROW(A91),ROW(A91)<=statistics!$D$55)=TRUE,AH91-AG91+AA90-INDEX(AA:AA,statistics!$C$55),\"\")","v":""},null,null,0,0,0,"",{"$f":"IF(statistics!$D$3<>0,IF(AJ91=statistics!$D$3,AG91,\"\"),IF(B91<>\"\",AG91,\"\"))","v":""},{"$f":"IF(statistics!$D$3<>0,IF(AJ91=statistics!$D$3,IF(AH91=0,\"\",AH91),\"\"),IF(AH91<>0,AH91,\"\"))","v":""},{"$f":"IF(statistics!$D$3<>0,IF(AJ91=statistics!$D$3,IF(A91=0,\"\",1),\"\"),IF(A91=0,\"\",1))","v":""},"","",null,"",{"$nulls":6},0,null,null,null,"",null,null,"",null,0,null,{"$error":"#NUM!"},{"$error":"#NUM!"},90]
[{"$nulls":4},"","","","","",null,null,"",{"$nulls":6},91,"",{"$f":"IF(A93=0,IF(B93=\"\",IF(B92=0,\"\",SUM($AG$1:AG92)-SUM($U$1:U91)),\"\"),SUM($AG$1:AG92)-SUM($U$1:U91))","v":""},{"$nulls":5},0,{"$f":"IF(AJ92=statistics!$D$3,AB91+AH92-AG92,)","v":0},{"$f":"IF(AND(ROW(AC92)>=statistics!$C$55,ROW(AC92)<=statistics!$D$55),AC91+AH92-AG92,)","v":0},{"$f":"IF(AND(statistics!$C$55<=ROW(A92),ROW(A92)<=statistics!$D$55)=TRUE,AH92-AG92+AA91-INDEX(AA:AA,statistics!$C$55),\"\")","v":""},null,null,0,0,0,"",{"$f":"IF(statistics!$D$3<>0,IF(AJ92=statistics!$D$3,AG92,\"\"),IF(B92<>\"\",AG92,\"\"))","v":""},{"$f":"IF(statistics!$D$3<>0,IF(AJ92=statistics!$D$3,IF(AH92=0,\"\",AH92),\"\"),IF(AH92<>0,AH92,\"\"))","v":""},{"$f":"IF(statistics!$D$3<>0,IF(AJ92=statistics!$D$3,IF(A92=0,\"\",1),\"\"),IF(A92=0,\"\",1))","v":""},"","",null,"",{"$nulls":6},0,null,null,null,"",null,null,"",null,0,null,{"$error":"#NUM!"},{"$error":"#NUM!"},91]
[{"$nulls":4},"","","","","",null,null,"",{"$nulls":6},92,"",{"$f":"IF(A94=0,IF(B94=\"\",IF(B93=0,\"\",SUM($AG$1:AG93)-SUM($U$1:U92)),\"\"),SUM($AG$1:AG93)-SUM($U$1:U92))","v":""},{"$nulls":5},0,{"$f":"IF(AJ93=statistics!$D$3,AB92+AH93-AG93,)","v":0},{"$f":"IF(AND(ROW(AC93)>=statistics!$C$55,ROW(AC93)<=statistics!$D$55),AC92+AH93-AG93,)","v":0},{"$f":"IF(AND(statistics!$C$55<=ROW(A93),ROW(A93)<=statistics!$D$55)=TRUE,AH93-AG93+AA92-INDEX(AA:AA,statistics!$C$55),\"\")","v":""},null,null,0,0,0,"",{"$f":"IF(statistics!$D$3<>0,IF(AJ93=statistics!$D$3,AG93,\"\"),IF(B93<>\"\",AG93,\"\"))","v":""},{"$f":"IF(statistics!$D$3<>0,IF(AJ93=statistics!$D$3,IF(AH93=0,\"\",AH93),\"\"),IF(AH93<>0,AH93,\"\"))","v":""},{"$f":"IF(statistics!$D$3<>0,IF(AJ93=statistics!$D$3,IF(A93=0,\"\",1),\"\"),IF(A93=0,\"\",1))","v":""},"","",null,"",{"$nulls":6},0,null,null,null,"",null,null,"",null,0,null,{"$error":"#NUM!"},{"$error":"#NUM!"},92]
[{"$nulls":4},"","","","","",null,null,"",{"$nulls":6},93,"",{"$f":"IF(A95=0,IF(B95=\"\",IF(B94=0,\"\",SUM($AG$1:AG94)-SUM($U$1:U93)),\"\"),SUM($AG$1:AG94)-SUM($U$1:U93))","v":""},{"$nulls":5},0,{"$f":"IF(AJ94=statistics!$D$3,AB93+AH94-AG94,)","v":0},{"$f":"IF(AND(ROW(AC94)>=statistics!$C$55,ROW(AC94)<=statistics!$D$55),AC93+AH94-AG94,)","v":0},{"$f":"IF(AND(statistics!$C$55<=ROW(A94),ROW(A94)<=statistics!$D$55)=TRUE,AH94-AG94+AA93-INDEX(AA:AA,statistics!$C$55),\"\")","v":""},null,null,0,0,0,"",{"$f":"IF(statistics!$D$3<>0,IF(AJ94=statistics!$D$3,AG94,\"\"),IF(B94<>\"\",AG94,\"\"))","v":""},{"$f":"IF(statistics!$D$3<>0,IF(AJ94=statistics!$D$3,IF(AH94=0,\"\",AH94),\"\"),IF(AH94<>0,AH94,\"\"))","v":""},{"$f":"IF(statistics!$D$3<>0,IF(AJ94=statistics!$D$3,IF(A94=0,\"\",1),\"\"),IF(A94=0,\"\",1))","v":""},"","",null,"",{"$nulls":6},0,null,null,null,"",null,null,"",null,0,null,{"$error":"#NUM!"},{"$error":"#NUM!"},93]
[{"$nulls":4},"","","","","",null,null,"",{"$nulls":6},94,"",{"$f":"IF(A96=0,IF(B96=\"\",IF(B95=0,\"\",SUM($AG$1:AG95)-SUM($U$1:U94)),\"\"),SUM($AG$1:AG95)-SUM($U$1:U94))","v":""},{"$nulls":5},0,{"$f":"IF(AJ95=statistics!$D$3,AB94+AH95-AG95,)","v":0},{"$f":"IF(AND(ROW(AC95)>=statistics!$C$55,ROW(AC95)<=statistics!$D$55),AC94+AH95-AG95,)","v":0},{"$f":"IF(AND(statistics!$C$55<=ROW(A95),ROW(A95)<=statistics!$D$55)=TRUE,AH95-AG95+AA94-INDEX(AA:AA,statistics!$C$55),\"\")","v":""},null,null,0,0,0,"",{"$f":"IF(statistics!$D$3<>0,IF(AJ95=statistics!$D$3,AG95,\"\"),IF(B95<>\"\",AG95,\"\"))","v":""},{"$f":"IF(statistics!$D$3<>0,IF(AJ95=statistics!$D$3,IF(AH95=0,\"\",AH95),\"\"),IF(AH95<>0,AH95,\"\"))","v":""},{"$f":"IF(statistics!$D$3<>0,IF(AJ95=statistics!$D$3,IF(A95=0,\"\",1),\"\"),IF(A95=0,\"\",1))","v":""},"","",null,"",{"$nulls":6},0,null,null,null,"",null,null,"",null,0,null,{"$error":"#NUM!"},{"$error":"#NUM!"},94]
[{"$nulls":4},"","","","","",null,null,"",{"$nulls":6},95,"",{"$f":"IF(A97=0,IF(B97=\"\",IF(B96=0,\"\",SUM($AG$1:AG96)-SUM($U$1:U95)),\"\"),SUM($AG$1:AG96)-SUM($U$1:U95))","v":""},{"$nulls":5},0,{"$f":"IF(AJ96=statistics!$D$3,AB95+AH96-AG96,)","v":0},{"$f":"IF(AND(ROW(AC96)>=statistics!$C$55,ROW(AC96)<=statistics!$D$55),AC95+AH96-AG96,)","v":0},{"$f":"IF(AND(statistics!$C$55<=ROW(A96),ROW(A96)<=statistics!$D$55)=TRUE,AH96-AG96+AA95-INDEX(AA:AA,statistics!$C$55),\"\")","v":""},null,null,0,0,0,"",{"$f":"IF(statistics!$D$3<>0,IF(AJ96=statistics!$D$3,AG96,\"\"),IF(B96<>\"\",AG96,\"\"))","v":""},{"$f":"IF(statistics!$D$3<>0,IF(AJ96=statistics!$D$3,IF(AH96=0,\"\",AH96),\"\"),IF(AH96<>0,AH96,\"\"))","v":""},{"$f":"IF(statistics!$D$3<>0,IF(AJ96=statistics!$D$3,IF(A96=0,\"\",1),\"\"),IF(A96=0,\"\",1))","v":""},"","",null,"",{"$nulls":6},0,null,null,null,"",null,null,"",null,0,null,{"$error":"#NUM!"},{"$error":"#NUM!"},95]
[{"$nulls":4},"","","","","",null,null,"",{"$nulls":6},96,"",{"$f":"IF(A98=0,IF(B98=\"\",IF(B97=0,\"\",SUM($AG$1:AG97)-SUM($U$1:U96)),\"\"),SUM($AG$1:AG97)-SUM($U$1:U96))","v":""},{"$nulls":5},0,{"$f":"IF(AJ97=statistics!$D$3,AB96+AH97-AG97,)","v":0},{"$f":"IF(AND(ROW(AC97)>=statistics!$C$55,ROW(AC97)<=statistics!$D$55),AC96+AH97-AG97,)","v":0},{"$f":"IF(AND(statistics!$C$55<=ROW(A97),ROW(A97)<=statistics!$D$55)=TRUE,AH97-AG97+AA96-INDEX(AA:AA,statistics!$C$55),\"\")","v":""},null,null,0,0,0,"",{"$f":"IF(statistics!$D$3<>0,IF(AJ97=statistics!$D$3,AG97,\"\"),IF(B97<>\"\",AG97,\"\"))","v":""},{"$f":"IF(statistics!$D$3<>0,IF(AJ97=statistics!$D$3,IF(AH97=0,\"\",AH97),\"\"),IF(AH97<>0,AH97,\"\"))","v":""},{"$f":"IF(statistics!$D$3<>0,IF(AJ97=statistics!$D$3,IF(A97=0,\"\",1),\"\"),IF(A97=0,\"\",1))","v":""},"","",null,"",{"$nulls":6},0,null,null,null,"",null,null,"",null,0,null,{"$error":"#NUM!"},{"$error":"#NUM!"},96]
[{"$nulls":4},"","","","","",null,null,"",{"$nulls":6},97,"",{"$f":"IF(A99=0,IF(B99=\"\",IF(B98=0,\"\",SUM($AG$1:AG98)-SUM($U$1:U97)),\"\"),SUM($AG$1:AG98)-SUM($U$1:U97))","v":""},{"$nulls":5},0,{"$f":"IF(AJ98=statistics!$D$3,AB97+AH98-AG98,)","v":0},{"$f":"IF(AND(ROW(AC98)>=statistics!$C$55,ROW(AC98)<=statistics!$D$55),AC97+AH98-AG98,)","v":0},{"$f":"IF(AND(statistics!$C$55<=ROW(A98),ROW(A98)<=statistics!$D$55)=TRUE,AH98-AG98+AA97-INDEX(AA:AA,statistics!$C$55),\"\")","v":""},null,null,0,0,0,"",{"$f":"IF(statistics!$D$3<>0,IF(AJ98=statistics!$D$3,AG98,\"\"),IF(B98<>\"\",AG98,\"\"))","v":""},{"$f":"IF(statistics!$D$3<>0,IF(AJ98=statistics!$D$3,IF(AH98=0,\"\",AH98),\"\"),IF(AH98<>0,AH98,\"\"))","v":""},{"$f":"IF(statistics!$D$3<>0,IF(AJ98=statistics!$D$3,IF(A98=0,\"\",1),\"\"),IF(A98=0,\"\",1))","v":""},"","",null,"",{"$nulls":6},0,null,null,null,"",null,null,"",null,0,null,{"$error":"#NUM!"},{"$error":"#NUM!"},97]
[{"$nulls":4},"","","","","",null,null,"",{"$nulls":6},98,"",{"$f":"IF(A100=0,IF(B100=\"\",IF(B99=0,\"\",SUM($AG$1:AG99)-SUM($U$1:U98)),\"\"),SUM($AG$1:AG99)-SUM($U$1:U98))","v":""},{"$nulls":5},0,{"$f":"IF(AJ99=statistics!$D$3,AB98+AH99-AG99,)","v":0},{"$f":"IF(AND(ROW(AC99)>=statistics!$C$55,ROW(AC99)<=statistics!$D$55),AC98+AH99-AG99,)","v":0},{"$f":"IF(AND(statistics!$C$55<=ROW(A99),ROW(A99)<=statistics!$D$55)=TRUE,AH99-AG99+AA98-INDEX(AA:AA,statistics!$C$55),\"\")","v":""},null,null,0,0,0,"",{"$f":"IF(statistics!$D$3<>0,IF(AJ99=statistics!$D$3,AG99,\"\"),IF(B99<>\"\",AG99,\"\"))","v":""},{"$f":"IF(statistics!$D$3<>0,IF(AJ99=statistics!$D$3,IF(AH99=0,\"\",AH99),\"\"),IF(AH99<>0,AH99,\"\"))","v":""},{"$f":"IF(statistics!$D$3<>0,IF(AJ99=statistics!$D$3,IF(A99=0,\"\",1),\"\"),IF(A99=0,\"\",1))","v":""},"","",null,"",{"$nulls":6},0,null,null,null,"",null,null,"",null,0,null,{"$error":"#NUM!"},{"$error":"#NUM!"},98]
[{"$nulls":4},"","","","","",null,null,"",{"$nulls":6},99,"",{"$f":"IF(A101=0,IF(B101=\"\",IF(B100=0,\"\",SUM($AG$1:AG100)-SUM($U$1:U99)),\"\"),SUM($AG$1:AG100)-SUM($U$1:U99))","v":""},{"$nulls":5},0,{"$f":"IF(AJ100=statistics!$D$3,AB99+AH100-AG100,)","v":0},{"$f":"IF(AND(ROW(AC100)>=statistics!$C$55,ROW(AC100)<=statistics!$D$55),AC99+AH100-AG100,)","v":0},{"$f":"IF(AND(statistics!$C$55<=ROW(A100),ROW(A100)<=statistics!$D$55)=TRUE,AH100-AG100+AA99-INDEX(AA:AA,statistics!$C$55),\"\")","v":""},null,null,0,0,0,"",{"$f":"IF(statistics!$D$3<>0,IF(AJ100=statistics!$D$3,AG100,\"\"),IF(B100<>\"\",AG100,\"\"))","v":""},{"$f":"IF(statistics!$D$3<>0,IF(AJ100=statistics!$D$3,IF(AH100=0,\"\",AH100),\"\"),IF(AH100<>0,AH100,\"\"))","v":""},{"$f":"IF(statistics!$D$3<>0,IF(AJ100=statistics!$D$3,IF(A100=0,\"\",1),\"\"),IF(A100=0,\"\",1))","v":""},"","",null,"",{"$nulls":6},0,null,null,null,"",null,null,"",null,0,null,{"$error":"#NUM!"},{"$error":"#NUM!"},99]
[{"$nulls":4},"","","","","",null,null,"",{"$nulls":6},100,"",{"$f":"IF(A102=0,IF(B102=\"\",IF(B101=0,\"\",SUM($AG$1:AG101)-SUM($U$1:U100)),\"\"),SUM($AG$1:AG101)-SUM($U$1:U100))","v":""},{"$nulls":5},0,{"$f":"IF(AJ101=statistics!$D$3,AB100+AH101-AG101,)","v":0},{"$f":"IF(AND(ROW(AC101)>=statistics!$C$55,ROW(AC101)<=statistics!$D$55),AC100+AH101-AG101,)","v":0},{"$f":"IF(AND(statistics!$C$55<=ROW(A101),ROW(A101)<=statistics!$D$55)=TRUE,AH101-AG101+AA100-INDEX(AA:AA,statistics!$C$55),\"\")","v":""},null,null,0,0,0,"",{"$f":"IF(statistics!$D$3<>0,IF(AJ101=statistics!$D$3,AG101,\"\"),IF(B101<>\"\",AG101,\"\"))","v":""},{"$f":"IF(statistics!$D$3<>0,IF(AJ101=statistics!$D$3,IF(AH101=0,\"\",AH101),\"\"),IF(AH101<>0,AH101,\"\"))","v":""},{"$f":"IF(statistics!$D$3<>0,IF(AJ101=statistics!$D$3,IF(A101=0,\"\",1),\"\"),IF(A101=0,\"\",1))","v":""},"","",null,"",{"$nulls":6},0,null,null,null,"",null,null,"",null,0,null,{"$error":"#NUM!"},{"$error":"#NUM!"},100]
[{"$nulls":4},"","","","","",null,null,"",{"$nulls":6},101,"",{"$f":"IF(A103=0,IF(B103=\"\",IF(B102=0,\"\",SUM($AG$1:AG102)-SUM($U$1:U101)),\"\"),SUM($AG$1:AG102)-SUM($U$1:U101))","v":""},{"$nulls":5},0,{"$f":"IF(AJ102=statistics!$D$3,AB101+AH102-AG102,)","v":0},{"$f":"IF(AND(ROW(AC102)>=statistics!$C$55,ROW(AC102)<=statistics!$D$55),AC101+AH102-AG102,)","v":0},{"$f":"IF(AND(statistics!$C$55<=ROW(A102),ROW(A102)<=statistics!$D$55)=TRUE,AH102-AG102+AA101-INDEX(AA:AA,statistics!$C$55),\"\")","v":""},null,null,0,0,0,"",{"$f":"IF(statistics!$D$3<>0,IF(AJ102=statistics!$D$3,AG102,\"\"),IF(B102<>\"\",AG102,\"\"))","v":""},{"$f":"IF(statistics!$D$3<>0,IF(AJ102=statistics!$D$3,IF(AH102=0,\"\",AH102),\"\"),IF(AH102<>0,AH102,\"\"))","v":""},{"$f":"IF(statistics!$D$3<>0,IF(AJ102=statistics!$D$3,IF(A102=0,\"\",1),\"\"),IF(A102=0,\"\",1))","v":""},"","",null,"",{"$nulls":6},0,null,null,null,"",null,null,"",null,0,null,{"$error":"#NUM!"},{"$error":"#NUM!"},101]
[{"$nulls":4},"","","","","",null,null,"",{"$nulls":6},102,"",{"$f":"IF(A104=0,IF(B104=\"\",IF(B103=0,\"\",SUM($AG$1:AG103)-SUM($U$1:U102)),\"\"),SUM($AG$1:AG103)-SUM($U$1:U102))","v":""},{"$nulls":5},0,{"$f":"IF(AJ103=statistics!$D$3,AB102+AH103-AG103,)","v":0},{"$f":"IF(AND(ROW(AC103)>=statistics!$C$55,ROW(AC103)<=statistics!$D$55),AC102+AH103-AG103,)","v":0},{"$f":"IF(AND(statistics!$C$55<=ROW(A103),ROW(A103)<=statistics!$D$55)=TRUE,AH103-AG103+AA102-INDEX(AA:AA,statistics!$C$55),\"\")","v":""},null,null,0,0,0,"",{"$f":"IF(statistics!$D$3<>0,IF(AJ103=statistics!$D$3,AG103,\"\"),IF(B103<>\"\",AG103,\"\"))","v":""},{"$f":"IF(statistics!$D$3<>0,IF(AJ103=statistics!$D$3,IF(AH103=0,\"\",AH103),\"\"),IF(AH103<>0,AH103,\"\"))","v":""},{"$f":"IF(statistics!$D$3<>0,IF(AJ103=statistics!$D$3,IF(A103=0,\"\",1),\"\"),IF(A103=0,\"\",1))","v":""},"","",null,"",{"$nulls":6},0,null,null,null,"",null,null,"",null,0,null,{"$error":"#NUM!"},{"$error":"#NUM!"},102]
[{"$nulls":4},"","","","","",null,null,"",{"$nulls":6},103,"",{"$f":"IF(A105=0,IF(B105=\"\",IF(B104=0,\"\",SUM($AG$1:AG104)-SUM($U$1:U103)),\"\"),SUM($AG$1:AG104)-SUM($U$1:U103))","v":""},{"$nulls":5},0,{"$f":"IF(AJ104=statistics!$D$3,AB103+AH104-AG104,)","v":0},{"$f":"IF(AND(ROW(AC104)>=statistics!$C$55,ROW(AC104)<=statistics!$D$55),AC103+AH104-AG104,)","v":0},{"$f":"IF(AND(statistics!$C$55<=ROW(A104),ROW(A104)<=statistics!$D$55)=TRUE,AH104-AG104+AA103-INDEX(AA:AA,statistics!$C$55),\"\")","v":""},null,null,0,0,0,"",{"$f":"IF(statistics!$D$3<>0,IF(AJ104=statistics!$D$3,AG104,\"\"),IF(B104<>\"\",AG104,\"\"))","v":""},{"$f":"IF(statistics!$D$3<>0,IF(AJ104=statistics!$D$3,IF(AH104=0,\"\",AH104),\"\"),IF(AH104<>0,AH104,\"\"))","v":""},{"$f":"IF(statistics!$D$3<>0,IF(AJ104=statistics!$D$3,IF(A104=0,\"\",1),\"\"),IF(A104=0,\"\",1))","v":""},"","",null,"",{"$nulls":6},0,null,null,null,"",null,null,"",null,0,null,{"$error":"#NUM!"},{"$error":"#NUM!"},103]
[{"$nulls":4},"","","","","",null,null,"",{"$nulls":6},104,"",{"$f":"IF(A106=0,IF(B106=\"\",IF(B105=0,\"\",SUM($AG$1:AG105)-SUM($U$1:U104)),\"\"),SUM($AG$1:AG105)-SUM($U$1:U104))","v":""},{"$nulls":5},0,{"$f":"IF(AJ105=statistics!$D$3,AB104+AH105-AG105,)","v":0},{"$f":"IF(AND(ROW(AC105)>=statistics!$C$55,ROW(AC105)<=statistics!$D$55),AC104+AH105-AG105,)","v":0},{"$f":"IF(AND(statistics!$C$55<=ROW(A105),ROW(A105)<=statistics!$D$55)=TRUE,AH105-AG105+AA104-INDEX(AA:AA,statistics!$C$55),\"\")","v":""},null,null,0,0,0,"",{"$f":"IF(statistics!$D$3<>0,IF(AJ105=statistics!$D$3,AG105,\"\"),IF(B105<>\"\",AG105,\"\"))","v":""},{"$f":"IF(statistics!$D$3<>0,IF(AJ105=statistics!$D$3,IF(AH105=0,\"\",AH105),\"\"),IF(AH105<>0,AH105,\"\"))","v":""},{"$f":"IF(statistics!$D$3<>0,IF(AJ105=statistics!$D$3,IF(A105=0,\"\",1),\"\"),IF(A105=0,\"\",1))","v":""},"","",null,"",{"$nulls":6},0,null,null,null,"",null,null,"",null,0,null,{"$error":"#NUM!"},{"$error":"#NUM!"},104]
[{"$nulls":4},"","","","","",null,null,"",{"$nulls":6},105,"",{"$f":"IF(A107=0,IF(B107=\"\",IF(B106=0,\"\",SUM($AG$1:AG106)-SUM($U$1:U105)),\"\"),SUM($AG$1:AG106)-SUM($U$1:U105))","v":""},{"$nulls":5},0,{"$f":"IF(AJ106=statistics!$D$3,AB105+AH106-AG106,)","v":0},{"$f":"IF(AND(ROW(AC106)>=statistics!$C$55,ROW(AC106)<=statistics!$D$55),AC105+AH106-AG106,)","v":0},{"$f":"IF(AND(statistics!$C$55<=ROW(A106),ROW(A106)<=statistics!$D$55)=TRUE,AH106-AG106+AA105-INDEX(AA:AA,statistics!$C$55),\"\")","v":""},null,null,0,0,0,"",{"$f":"IF(statistics!$D$3<>0,IF(AJ106=statistics!$D$3,AG106,\"\"),IF(B106<>\"\",AG106,\"\"))","v":""},{"$f":"IF(statistics!$D$3<>0,IF(AJ106=statistics!$D$3,IF(AH106=0,\"\",AH106),\"\"),IF(AH106<>0,AH106,\"\"))","v":""},{"$f":"IF(statistics!$D$3<>0,IF(AJ106=statistics!$D$3,IF(A106=0,\"\",1),\"\"),IF(A106=0,\"\",1))","v":""},"","",null,"",{"$nulls":6},0,null,null,null,"",null,null,"",null,0,null,{"$error":"#NUM!"},{"$error":"#NUM!"},105]
[{"$nulls":4},"","","","","",null,null,"",{"$nulls":6},106,"",{"$f":"IF(A108=0,IF(B108=\"\",IF(B107=0,\"\",SUM($AG$1:AG107)-SUM($U$1:U106)),\"\"),SUM($AG$1:AG107)-SUM($U$1:U106))","v":""},{"$nulls":5},0,{"$f":"IF(AJ107=statistics!$D$3,AB106+AH107-AG107,)","v":0},{"$f":"IF(AND(ROW(AC107)>=statistics!$C$55,ROW(AC107)<=statistics!$D$55),AC106+AH107-AG107,)","v":0},{"$f":"IF(AND(statistics!$C$55<=ROW(A107),ROW(A107)<=statistics!$D$55)=TRUE,AH107-AG107+AA106-INDEX(AA:AA,statistics!$C$55),\"\")","v":""},null,null,0,0,0,"",{"$f":"IF(statistics!$D$3<>0,IF(AJ107=statistics!$D$3,AG107,\"\"),IF(B107<>\"\",AG107,\"\"))","v":""},{"$f":"IF(statistics!$D$3<>0,IF(AJ107=statistics!$D$3,IF(AH107=0,\"\",AH107),\"\"),IF(AH107<>0,AH107,\"\"))","v":""},{"$f":"IF(statistics!$D$3<>0,IF(AJ107=statistics!$D$3,IF(A107=0,\"\",1),\"\"),IF(A107=0,\"\",1))","v":""},"","",null,"",{"$nulls":6},0,null,null,null,"",null,null,"",null,0,null,{"$error":"#NUM!"},{"$error":"#NUM!"},106]
[{"$nulls":4},"","","","","",null,null,"",{"$nulls":6},107,"",{"$f":"IF(A109=0,IF(B109=\"\",IF(B108=0,\"\",SUM($AG$1:AG108)-SUM($U$1:U107)),\"\"),SUM($AG$1:AG108)-SUM($U$1:U107))","v":""},{"$nulls":5},0,{"$f":"IF(AJ108=statistics!$D$3,AB107+AH108-AG108,)","v":0},{"$f":"IF(AND(ROW(AC108)>=statistics!$C$55,ROW(AC108)<=statistics!$D$55),AC107+AH108-AG108,)","v":0},{"$f":"IF(AND(statistics!$C$55<=ROW(A108),ROW(A108)<=statistics!$D$55)=TRUE,AH108-AG108+AA107-INDEX(AA:AA,statistics!$C$55),\"\")","v":""},null,null,0,0,0,"",{"$f":"IF(statistics!$D$3<>0,IF(AJ108=statistics!$D$3,AG108,\"\"),IF(B108<>\"\",AG108,\"\"))","v":""},{"$f":"IF(statistics!$D$3<>0,IF(AJ108=statistics!$D$3,IF(AH108=0,\"\",AH108),\"\"),IF(AH108<>0,AH108,\"\"))","v":""},{"$f":"IF(statistics!$D$3<>0,IF(AJ108=statistics!$D$3,IF(A108=0,\"\",1),\"\"),IF(A108=0,\"\",1))","v":""},"","",null,"",{"$nulls":6},0,null,null,null,"",null,null,"",null,0,null,{"$error":"#NUM!"},{"$error":"#NUM!"},107]
[{"$nulls":4},"","","","","",null,null,"",{"$nulls":6},108,"",{"$f":"IF(A110=0,IF(B110=\"\",IF(B109=0,\"\",SUM($AG$1:AG109)-SUM($U$1:U108)),\"\"),SUM($AG$1:AG109)-SUM($U$1:U108))","v":""},{"$nulls":5},0,{"$f":"IF(AJ109=statistics!$D$3,AB108+AH109-AG109,)","v":0},{"$f":"IF(AND(ROW(AC109)>=statistics!$C$55,ROW(AC109)<=statistics!$D$55),AC108+AH109-AG109,)","v":0},{"$f":"IF(AND(statistics!$C$55<=ROW(A109),ROW(A109)<=statistics!$D$55)=TRUE,AH109-AG109+AA108-INDEX(AA:AA,statistics!$C$55),\"\")","v":""},null,null,0,0,0,"",{"$f":"IF(statistics!$D$3<>0,IF(AJ109=statistics!$D$3,AG109,\"\"),IF(B109<>\"\",AG109,\"\"))","v":""},{"$f":"IF(statistics!$D$3<>0,IF(AJ109=statistics!$D$3,IF(AH109=0,\"\",AH109),\"\"),IF(AH109<>0,AH109,\"\"))","v":""},{"$f":"IF(statistics!$D$3<>0,IF(AJ109=statistics!$D$3,IF(A109=0,\"\",1),\"\"),IF(A109=0,\"\",1))","v":""},"","",null,"",{"$nulls":6},0,null,null,null,"",null,null,"",null,0,null,{"$error":"#NUM!"},{"$error":"#NUM!"},108]
[{"$nulls":4},"","","","","",null,null,"",{"$nulls":6},109,"",{"$f":"IF(A111=0,IF(B111=\"\",IF(B110=0,\"\",SUM($AG$1:AG110)-SUM($U$1:U109)),\"\"),SUM($AG$1:AG110)-SUM($U$1:U109))","v":""},{"$nulls":5},0,{"$f":"IF(AJ110=statistics!$D$3,AB109+AH110-AG110,)","v":0},{"$f":"IF(AND(ROW(AC110)>=statistics!$C$55,ROW(AC110)<=statistics!$D$55),AC109+AH110-AG110,)","v":0},{"$f":"IF(AND(statistics!$C$55<=ROW(A110),ROW(A110)<=statistics!$D$55)=TRUE,AH110-AG110+AA109-INDEX(AA:AA,statistics!$C$55),\"\")","v":""},null,null,0,0,0,"",{"$f":"IF(statistics!$D$3<>0,IF(AJ110=statistics!$D$3,AG110,\"\"),IF(B110<>\"\",AG110,\"\"))","v":""},{"$f":"IF(statistics!$D$3<>0,IF(AJ110=statistics!$D$3,IF(AH110=0,\"\",AH110),\"\"),IF(AH110<>0,AH110,\"\"))","v":""},{"$f":"IF(statistics!$D$3<>0,IF(AJ110=statistics!$D$3,IF(A110=0,\"\",1),\"\"),IF(A110=0,\"\",1))","v":""},"","",null,"",{"$nulls":6},0,null,null,null,"",null,null,"",null,0,null,{"$error":"#NUM!"},{"$error":"#NUM!"},109]
[{"$nulls":4},"","","","","",null,null,"",{"$nulls":6},110,"",{"$f":"IF(A112=0,IF(B112=\"\",IF(B111=0,\"\",SUM($AG$1:AG111)-SUM($U$1:U110)),\"\"),SUM($AG$1:AG111)-SUM($U$1:U110))","v":""},{"$nulls":5},0,{"$f":"IF(AJ111=statistics!$D$3,AB110+AH111-AG111,)","v":0},{"$f":"IF(AND(ROW(AC111)>=statistics!$C$55,ROW(AC111)<=statistics!$D$55),AC110+AH111-AG111,)","v":0},{"$f":"IF(AND(statistics!$C$55<=ROW(A111),ROW(A111)<=statistics!$D$55)=TRUE,AH111-AG111+AA110-INDEX(AA:AA,statistics!$C$55),\"\")","v":""},null,null,0,0,0,"",{"$f":"IF(statistics!$D$3<>0,IF(AJ111=statistics!$D$3,AG111,\"\"),IF(B111<>\"\",AG111,\"\"))","v":""},{"$f":"IF(statistics!$D$3<>0,IF(AJ111=statistics!$D$3,IF(AH111=0,\"\",AH111),\"\"),IF(AH111<>0,AH111,\"\"))","v":""},{"$f":"IF(statistics!$D$3<>0,IF(AJ111=statistics!$D$3,IF(A111=0,\"\",1),\"\"),IF(A111=0,\"\",1))","v":""},"","",null,"",{"$nulls":6},0,null,null,null,"",null,null,"",null,0,null,{"$error":"#NUM!"},{"$error":"#NUM!"},110]
[{"$nulls":4},"","","","","",null,null,"",{"$nulls":6},111,"",{"$f":"IF(A113=0,IF(B113=\"\",IF(B112=0,\"\",SUM($AG$1:AG112)-SUM($U$1:U111)),\"\"),SUM($AG$1:AG112)-SUM($U$1:U111))","v":""},{"$nulls":5},0,{"$f":"IF(AJ112=statistics!$D$3,AB111+AH112-AG112,)","v":0},{"$f":"IF(AND(ROW(AC112)>=statistics!$C$55,ROW(AC112)<=statistics!$D$55),AC111+AH112-AG112,)","v":0},{"$f":"IF(AND(statistics!$C$55<=ROW(A112),ROW(A112)<=statistics!$D$55)=TRUE,AH112-AG112+AA111-INDEX(AA:AA,statistics!$C$55),\"\")","v":""},null,null,0,0,0,"",{"$f":"IF(statistics!$D$3<>0,IF(AJ112=statistics!$D$3,AG112,\"\"),IF(B112<>\"\",AG112,\"\"))","v":""},{"$f":"IF(statistics!$D$3<>0,IF(AJ112=statistics!$D$3,IF(AH112=0,\"\",AH112),\"\"),IF(AH112<>0,AH112,\"\"))","v":""},{"$f":"IF(statistics!$D$3<>0,IF(AJ112=statistics!$D$3,IF(A112=0,\"\",1),\"\"),IF(A112=0,\"\",1))","v":""},"","",null,"",{"$nulls":6},0,null,null,null,"",null,null,"",null,0,null,{"$error":"#NUM!"},{"$error":"#NUM!"},111]
[{"$nulls":4},"","","","","",null,null,"",{"$nulls":6},112,"",{"$f":"IF(A114=0,IF(B114=\"\",IF(B113=0,\"\",SUM($AG$1:AG113)-SUM($U$1:U112)),\"\"),SUM($AG$1:AG113)-SUM($U$1:U112))","v":""},{"$nulls":5},0,{"$f":"IF(AJ113=statistics!$D$3,AB112+AH113-AG113,)","v":0},{"$f":"IF(AND(ROW(AC113)>=statistics!$C$55,ROW(AC113)<=statistics!$D$55),AC112+AH113-AG113,)","v":0},{"$f":"IF(AND(statistics!$C$55<=ROW(A113),ROW(A113)<=statistics!$D$55)=TRUE,AH113-AG113+AA112-INDEX(AA:AA,statistics!$C$55),\"\")","v":""},null,null,0,0,0,"",{"$f":"IF(statistics!$D$3<>0,IF(AJ113=statistics!$D$3,AG113,\"\"),IF(B113<>\"\",AG113,\"\"))","v":""},{"$f":"IF(statistics!$D$3<>0,IF(AJ113=statistics!$D$3,IF(AH113=0,\"\",AH113),\"\"),IF(AH113<>0,AH113,\"\"))","v":""},{"$f":"IF(statistics!$D$3<>0,IF(AJ113=statistics!$D$3,IF(A113=0,\"\",1),\"\"),IF(A113=0,\"\",1))","v":""},"","",null,"",{"$nulls":6},0,null,null,null,"",null,null,"",null,0,null,{"$error":"#NUM!"},{"$error":"#NUM!"},112]
[{"$nulls":4},"","","","","",null,null,"",{"$nulls":6},113,"",{"$f":"IF(A115=0,IF(B115=\"\",IF(B114=0,\"\",SUM($AG$1:AG114)-SUM($U$1:U113)),\"\"),SUM($AG$1:AG114)-SUM($U$1:U113))","v":""},{"$nulls":5},0,{"$f":"IF(AJ114=statistics!$D$3,AB113+AH114-AG114,)","v":0},{"$f":"IF(AND(ROW(AC114)>=statistics!$C$55,ROW(AC114)<=statistics!$D$55),AC113+AH114-AG114,)","v":0},{"$f":"IF(AND(statistics!$C$55<=ROW(A114),ROW(A114)<=statistics!$D$55)=TRUE,AH114-AG114+AA113-INDEX(AA:AA,statistics!$C$55),\"\")","v":""},null,null,0,0,0,"",{"$f":"IF(statistics!$D$3<>0,IF(AJ114=statistics!$D$3,AG114,\"\"),IF(B114<>\"\",AG114,\"\"))","v":""},{"$f":"IF(statistics!$D$3<>0,IF(AJ114=statistics!$D$3,IF(AH114=0,\"\",AH114),\"\"),IF(AH114<>0,AH114,\"\"))","v":""},{"$f":"IF(statistics!$D$3<>0,IF(AJ114=statistics!$D$3,IF(A114=0,\"\",1),\"\"),IF(A114=0,\"\",1))","v":""},"","",null,"",{"$nulls":6},0,null,null,null,"",null,null,"",null,0,null,{"$error":"#NUM!"},{"$error":"#NUM!"},113]
[{"$nulls":4},"","","","","",null,null,"",{"$nulls":6},114,"",{"$f":"IF(A116=0,IF(B116=\"\",IF(B115=0,\"\",SUM($AG$1:AG115)-SUM($U$1:U114)),\"\"),SUM($AG$1:AG115)-SUM($U$1:U114))","v":""},{"$nulls":5},0,{"$f":"IF(AJ115=statistics!$D$3,AB114+AH115-AG115,)","v":0},{"$f":"IF(AND(ROW(AC115)>=statistics!$C$55,ROW(AC115)<=statistics!$D$55),AC114+AH115-AG115,)","v":0},{"$f":"IF(AND(statistics!$C$55<=ROW(A115),ROW(A115)<=statistics!$D$55)=TRUE,AH115-AG115+AA114-INDEX(AA:AA,statistics!$C$55),\"\")","v":""},null,null,0,0,0,"",{"$f":"IF(statistics!$D$3<>0,IF(AJ115=statistics!$D$3,AG115,\"\"),IF(B115<>\"\",AG115,\"\"))","v":""},{"$f":"IF(statistics!$D$3<>0,IF(AJ115=statistics!$D$3,IF(AH115=0,\"\",AH115),\"\"),IF(AH115<>0,AH115,\"\"))","v":""},{"$f":"IF(statistics!$D$3<>0,IF(AJ115=statistics!$D$3,IF(A115=0,\"\",1),\"\"),IF(A115=0,\"\",1))","v":""},"","",null,"",{"$nulls":6},0,null,null,null,"",null,null,"",null,0,null,{"$error":"#NUM!"},{"$error":"#NUM!"},114]
[{"$nulls":4},"","","","","",null,null,"",{"$nulls":6},115,"",{"$f":"IF(A117=0,IF(B117=\"\",IF(B116=0,\"\",SUM($AG$1:AG116)-SUM($U$1:U115)),\"\"),SUM($AG$1:AG116)-SUM($U$1:U115))","v":""},{"$nulls":5},0,{"$f":"IF(AJ116=statistics!$D$3,AB115+AH116-AG116,)","v":0},{"$f":"IF(AND(ROW(AC116)>=statistics!$C$55,ROW(AC116)<=statistics!$D$55),AC115+AH116-AG116,)","v":0},{"$f":"IF(AND(statistics!$C$55<=ROW(A116),ROW(A116)<=statistics!$D$55)=TRUE,AH116-AG116+AA115-INDEX(AA:AA,statistics!$C$55),\"\")","v":""},null,null,0,0,0,"",{"$f":"IF(statistics!$D$3<>0,IF(AJ116=statistics!$D$3,AG116,\"\"),IF(B116<>\"\",AG116,\"\"))","v":""},{"$f":"IF(statistics!$D$3<>0,IF(AJ116=statistics!$D$3,IF(AH116=0,\"\",AH116),\"\"),IF(AH116<>0,AH116,\"\"))","v":""},{"$f":"IF(statistics!$D$3<>0,IF(AJ116=statistics!$D$3,IF(A116=0,\"\",1),\"\"),IF(A116=0,\"\",1))","v":""},"","",null,"",{"$nulls":6},0,null,null,null,"",null,null,"",null,0,null,{"$error":"#NUM!"},{"$error":"#NUM!"},115]
[{"$nulls":4},"","","","","",null,null,"",{"$nulls":6},116,"",{"$f":"IF(A118=0,IF(B118=\"\",IF(B117=0,\"\",SUM($AG$1:AG117)-SUM($U$1:U116)),\"\"),SUM($AG$1:AG117)-SUM($U$1:U116))","v":""},{"$nulls":5},0,{"$f":"IF(AJ117=statistics!$D$3,AB116+AH117-AG117,)","v":0},{"$f":"IF(AND(ROW(AC117)>=statistics!$C$55,ROW(AC117)<=statistics!$D$55),AC116+AH117-AG117,)","v":0},{"$f":"IF(AND(statistics!$C$55<=ROW(A117),ROW(A117)<=statistics!$D$55)=TRUE,AH117-AG117+AA116-INDEX(AA:AA,statistics!$C$55),\"\")","v":""},null,null,0,0,0,"",{"$f":"IF(statistics!$D$3<>0,IF(AJ117=statistics!$D$3,AG117,\"\"),IF(B117<>\"\",AG117,\"\"))","v":""},{"$f":"IF(statistics!$D$3<>0,IF(AJ117=statistics!$D$3,IF(AH117=0,\"\",AH117),\"\"),IF(AH117<>0,AH117,\"\"))","v":""},{"$f":"IF(statistics!$D$3<>0,IF(AJ117=statistics!$D$3,IF(A117=0,\"\",1),\"\"),IF(A117=0,\"\",1))","v":""},"","",null,"",{"$nulls":6},0,null,null,null,"",null,null,"",null,0,null,{"$error":"#NUM!"},{"$error":"#NUM!"},116]
[{"$nulls":4},"","","","","",null,null,"",{"$nulls":6},117,"",{"$f":"IF(A119=0,IF(B119=\"\",IF(B118=0,\"\",SUM($AG$1:AG118)-SUM($U$1:U117)),\"\"),SUM($AG$1:AG118)-SUM($U$1:U117))","v":""},{"$nulls":5},0,{"$f":"IF(AJ118=statistics!$D$3,AB117+AH118-AG118,)","v":0},{"$f":"IF(AND(ROW(AC118)>=statistics!$C$55,ROW(AC118)<=statistics!$D$55),AC117+AH118-AG118,)","v":0},{"$f":"IF(AND(statistics!$C$55<=ROW(A118),ROW(A118)<=statistics!$D$55)=TRUE,AH118-AG118+AA117-INDEX(AA:AA,statistics!$C$55),\"\")","v":""},null,null,0,0,0,"",{"$f":"IF(statistics!$D$3<>0,IF(AJ118=statistics!$D$3,AG118,\"\"),IF(B118<>\"\",AG118,\"\"))","v":""},{"$f":"IF(statistics!$D$3<>0,IF(AJ118=statistics!$D$3,IF(AH118=0,\"\",AH118),\"\"),IF(AH118<>0,AH118,\"\"))","v":""},{"$f":"IF(statistics!$D$3<>0,IF(AJ118=statistics!$D$3,IF(A118=0,\"\",1),\"\"),IF(A118=0,\"\",1))","v":""},"","",null,"",{"$nulls":6},0,null,null,null,"",null,null,"",null,0,null,{"$error":"#NUM!"},{"$error":"#NUM!"},117]
[{"$nulls":4},"","","","","",null,null,"",{"$nulls":6},118,"",{"$f":"IF(A120=0,IF(B120=\"\",IF(B119=0,\"\",SUM($AG$1:AG119)-SUM($U$1:U118)),\"\"),SUM($AG$1:AG119)-SUM($U$1:U118))","v":""},{"$nulls":5},0,{"$f":"IF(AJ119=statistics!$D$3,AB118+AH119-AG119,)","v":0},{"$f":"IF(AND(ROW(AC119)>=statistics!$C$55,ROW(AC119)<=statistics!$D$55),AC118+AH119-AG119,)","v":0},{"$f":"IF(AND(statistics!$C$55<=ROW(A119),ROW(A119)<=statistics!$D$55)=TRUE,AH119-AG119+AA118-INDEX(AA:AA,statistics!$C$55),\"\")","v":""},null,null,0,0,0,"",{"$f":"IF(statistics!$D$3<>0,IF(AJ119=statistics!$D$3,AG119,\"\"),IF(B119<>\"\",AG119,\"\"))","v":""},{"$f":"IF(statistics!$D$3<>0,IF(AJ119=statistics!$D$3,IF(AH119=0,\"\",AH119),\"\"),IF(AH119<>0,AH119,\"\"))","v":""},{"$f":"IF(statistics!$D$3<>0,IF(AJ119=statistics!$D$3,IF(A119=0,\"\",1),\"\"),IF(A119=0,\"\",1))","v":""},"","",null,"",{"$nulls":6},0,null,null,null,"",null,null,"",null,0,null,{"$error":"#NUM!"},{"$error":"#NUM!"},118]
[{"$nulls":4},"","","","","",null,null,"",{"$nulls":6},119,"",{"$f":"IF(A121=0,IF(B121=\"\",IF(B120=0,\"\",SUM($AG$1:AG120)-SUM($U$1:U119)),\"\"),SUM($AG$1:AG120)-SUM($U$1:U119))","v":""},{"$nulls":5},0,{"$f":"IF(AJ120=statistics!$D$3,AB119+AH120-AG120,)","v":0},{"$f":"IF(AND(ROW(AC120)>=statistics!$C$55,ROW(AC120)<=statistics!$D$55),AC119+AH120-AG120,)","v":0},{"$f":"IF(AND(statistics!$C$55<=ROW(A120),ROW(A120)<=statistics!$D$55)=TRUE,AH120-AG120+AA119-INDEX(AA:AA,statistics!$C$55),\"\")","v":""},null,null,0,0,0,"",{"$f":"IF(statistics!$D$3<>0,IF(AJ120=statistics!$D$3,AG120,\"\"),IF(B120<>\"\",AG120,\"\"))","v":""},{"$f":"IF(statistics!$D$3<>0,IF(AJ120=statistics!$D$3,IF(AH120=0,\"\",AH120),\"\"),IF(AH120<>0,AH120,\"\"))","v":""},{"$f":"IF(statistics!$D$3<>0,IF(AJ120=statistics!$D$3,IF(A120=0,\"\",1),\"\"),IF(A120=0,\"\",1))","v":""},"","",null,"",{"$nulls":6},0,null,null,null,"",null,null,"",null,0,null,{"$error":"#NUM!"},{"$error":"#NUM!"},119]
[{"$nulls":4},"","","","","",null,null,"",{"$nulls":6},120,"",{"$f":"IF(A122=0,IF(B122=\"\",IF(B121=0,\"\",SUM($AG$1:AG121)-SUM($U$1:U120)),\"\"),SUM($AG$1:AG121)-SUM($U$1:U120))","v":""},{"$nulls":5},0,{"$f":"IF(AJ121=statistics!$D$3,AB120+AH121-AG121,)","v":0},{"$f":"IF(AND(ROW(AC121)>=statistics!$C$55,ROW(AC121)<=statistics!$D$55),AC120+AH121-AG121,)","v":0},{"$f":"IF(AND(statistics!$C$55<=ROW(A121),ROW(A121)<=statistics!$D$55)=TRUE,AH121-AG121+AA120-INDEX(AA:AA,statistics!$C$55),\"\")","v":""},null,null,0,0,0,"",{"$f":"IF(statistics!$D$3<>0,IF(AJ121=statistics!$D$3,AG121,\"\"),IF(B121<>\"\",AG121,\"\"))","v":""},{"$f":"IF(statistics!$D$3<>0,IF(AJ121=statistics!$D$3,IF(AH121=0,\"\",AH121),\"\"),IF(AH121<>0,AH121,\"\"))","v":""},{"$f":"IF(statistics!$D$3<>0,IF(AJ121=statistics!$D$3,IF(A121=0,\"\",1),\"\"),IF(A121=0,\"\",1))","v":""},"","",null,"",{"$nulls":6},0,null,null,null,"",null,null,"",null,0,null,{"$error":"#NUM!"},{"$error":"#NUM!"},120]
[{"$nulls":4},"","","","","",null,null,"",{"$nulls":6},121,"",{"$f":"IF(A123=0,IF(B123=\"\",IF(B122=0,\"\",SUM($AG$1:AG122)-SUM($U$1:U121)),\"\"),SUM($AG$1:AG122)-SUM($U$1:U121))","v":""},{"$nulls":5},0,{"$f":"IF(AJ122=statistics!$D$3,AB121+AH122-AG122,)","v":0},{"$f":"IF(AND(ROW(AC122)>=statistics!$C$55,ROW(AC122)<=statistics!$D$55),AC121+AH122-AG122,)","v":0},{"$f":"IF(AND(statistics!$C$55<=ROW(A122),ROW(A122)<=statistics!$D$55)=TRUE,AH122-AG122+AA121-INDEX(AA:AA,statistics!$C$55),\"\")","v":""},null,null,0,0,0,"",{"$f":"IF(statistics!$D$3<>0,IF(AJ122=statistics!$D$3,AG122,\"\"),IF(B122<>\"\",AG122,\"\"))","v":""},{"$f":"IF(statistics!$D$3<>0,IF(AJ122=statistics!$D$3,IF(AH122=0,\"\",AH122),\"\"),IF(AH122<>0,AH122,\"\"))","v":""},{"$f":"IF(statistics!$D$3<>0,IF(AJ122=statistics!$D$3,IF(A122=0,\"\",1),\"\"),IF(A122=0,\"\",1))","v":""},"","",null,"",{"$nulls":6},0,null,null,null,"",null,null,"",null,0,null,{"$error":"#NUM!"},{"$error":"#NUM!"},121]
[{"$nulls":4},"","","","","",null,null,"",{"$nulls":6},122,"",{"$f":"IF(A124=0,IF(B124=\"\",IF(B123=0,\"\",SUM($AG$1:AG123)-SUM($U$1:U122)),\"\"),SUM($AG$1:AG123)-SUM($U$1:U122))","v":""},{"$nulls":5},0,{"$f":"IF(AJ123=statistics!$D$3,AB122+AH123-AG123,)","v":0},{"$f":"IF(AND(ROW(AC123)>=statistics!$C$55,ROW(AC123)<=statistics!$D$55),AC122+AH123-AG123,)","v":0},{"$f":"IF(AND(statistics!$C$55<=ROW(A123),ROW(A123)<=statistics!$D$55)=TRUE,AH123-AG123+AA122-INDEX(AA:AA,statistics!$C$55),\"\")","v":""},null,null,0,0,0,"",{"$f":"IF(statistics!$D$3<>0,IF(AJ123=statistics!$D$3,AG123,\"\"),IF(B123<>\"\",AG123,\"\"))","v":""},{"$f":"IF(statistics!$D$3<>0,IF(AJ123=statistics!$D$3,IF(AH123=0,\"\",AH123),\"\"),IF(AH123<>0,AH123,\"\"))","v":""},{"$f":"IF(statistics!$D$3<>0,IF(AJ123=statistics!$D$3,IF(A123=0,\"\",1),\"\"),IF(A123=0,\"\",1))","v":""},"","",null,"",{"$nulls":6},0,null,null,null,"",null,null,"",null,0,null,{"$error":"#NUM!"},{"$error":"#NUM!"},122]
[{"$nulls":4},"","","","","",null,null,"",{"$nulls":6},123,"",{"$f":"IF(A125=0,IF(B125=\"\",IF(B124=0,\"\",SUM($AG$1:AG124)-SUM($U$1:U123)),\"\"),SUM($AG$1:AG124)-SUM($U$1:U123))","v":""},{"$nulls":5},0,{"$f":"IF(AJ124=statistics!$D$3,AB123+AH124-AG124,)","v":0},{"$f":"IF(AND(ROW(AC124)>=statistics!$C$55,ROW(AC124)<=statistics!$D$55),AC123+AH124-AG124,)","v":0},{"$f":"IF(AND(statistics!$C$55<=ROW(A124),ROW(A124)<=statistics!$D$55)=TRUE,AH124-AG124+AA123-INDEX(AA:AA,statistics!$C$55),\"\")","v":""},null,null,0,0,0,"",{"$f":"IF(statistics!$D$3<>0,IF(AJ124=statistics!$D$3,AG124,\"\"),IF(B124<>\"\",AG124,\"\"))","v":""},{"$f":"IF(statistics!$D$3<>0,IF(AJ124=statistics!$D$3,IF(AH124=0,\"\",AH124),\"\"),IF(AH124<>0,AH124,\"\"))","v":""},{"$f":"IF(statistics!$D$3<>0,IF(AJ124=statistics!$D$3,IF(A124=0,\"\",1),\"\"),IF(A124=0,\"\",1))","v":""},"","",null,"",{"$nulls":6},0,null,null,null,"",null,null,"",null,0,null,{"$error":"#NUM!"},{"$error":"#NUM!"},123]
[{"$nulls":4},"","","","","",null,null,"",{"$nulls":6},124,"",{"$f":"IF(A126=0,IF(B126=\"\",IF(B125=0,\"\",SUM($AG$1:AG125)-SUM($U$1:U124)),\"\"),SUM($AG$1:AG125)-SUM($U$1:U124))","v":""},{"$nulls":5},0,{"$f":"IF(AJ125=statistics!$D$3,AB124+AH125-AG125,)","v":0},{"$f":"IF(AND(ROW(AC125)>=statistics!$C$55,ROW(AC125)<=statistics!$D$55),AC124+AH125-AG125,)","v":0},{"$f":"IF(AND(statistics!$C$55<=ROW(A125),ROW(A125)<=statistics!$D$55)=TRUE,AH125-AG125+AA124-INDEX(AA:AA,statistics!$C$55),\"\")","v":""},null,null,0,0,0,"",{"$f":"IF(statistics!$D$3<>0,IF(AJ125=statistics!$D$3,AG125,\"\"),IF(B125<>\"\",AG125,\"\"))","v":""},{"$f":"IF(statistics!$D$3<>0,IF(AJ125=statistics!$D$3,IF(AH125=0,\"\",AH125),\"\"),IF(AH125<>0,AH125,\"\"))","v":""},{"$f":"IF(statistics!$D$3<>0,IF(AJ125=statistics!$D$3,IF(A125=0,\"\",1),\"\"),IF(A125=0,\"\",1))","v":""},"","",null,"",{"$nulls":6},0,null,null,null,"",null,null,"",null,0,null,{"$error":"#NUM!"},{"$error":"#NUM!"},124]
[{"$nulls":4},"","","","","",null,null,"",{"$nulls":6},125,"",{"$f":"IF(A127=0,IF(B127=\"\",IF(B126=0,\"\",SUM($AG$1:AG126)-SUM($U$1:U125)),\"\"),SUM($AG$1:AG126)-SUM($U$1:U125))","v":""},{"$nulls":5},0,{"$f":"IF(AJ126=statistics!$D$3,AB125+AH126-AG126,)","v":0},{"$f":"IF(AND(ROW(AC126)>=statistics!$C$55,ROW(AC126)<=statistics!$D$55),AC125+AH126-AG126,)","v":0},{"$f":"IF(AND(statistics!$C$55<=ROW(A126),ROW(A126)<=statistics!$D$55)=TRUE,AH126-AG126+AA125-INDEX(AA:AA,statistics!$C$55),\"\")","v":""},null,null,0,0,0,"",{"$f":"IF(statistics!$D$3<>0,IF(AJ126=statistics!$D$3,AG126,\"\"),IF(B126<>\"\",AG126,\"\"))","v":""},{"$f":"IF(statistics!$D$3<>0,IF(AJ126=statistics!$D$3,IF(AH126=0,\"\",AH126),\"\"),IF(AH126<>0,AH126,\"\"))","v":""},{"$f":"IF(statistics!$D$3<>0,IF(AJ126=statistics!$D$3,IF(A126=0,\"\",1),\"\"),IF(A126=0,\"\",1))","v":""},"","",null,"",{"$nulls":6},0,null,null,null,"",null,null,"",null,0,null,{"$error":"#NUM!"},{"$error":"#NUM!"},125]
[{"$nulls":4},"","","","","",null,null,"",{"$nulls":6},126,"",{"$f":"IF(A128=0,IF(B128=\"\",IF(B127=0,\"\",SUM($AG$1:AG127)-SUM($U$1:U126)),\"\"),SUM($AG$1:AG127)-SUM($U$1:U126))","v":""},{"$nulls":5},0,{"$f":"IF(AJ127=statistics!$D$3,AB126+AH127-AG127,)","v":0},{"$f":"IF(AND(ROW(AC127)>=statistics!$C$55,ROW(AC127)<=statistics!$D$55),AC126+AH127-AG127,)","v":0},{"$f":"IF(AND(statistics!$C$55<=ROW(A127),ROW(A127)<=statistics!$D$55)=TRUE,AH127-AG127+AA126-INDEX(AA:AA,statistics!$C$55),\"\")","v":""},null,null,0,0,0,"",{"$f":"IF(statistics!$D$3<>0,IF(AJ127=statistics!$D$3,AG127,\"\"),IF(B127<>\"\",AG127,\"\"))","v":""},{"$f":"IF(statistics!$D$3<>0,IF(AJ127=statistics!$D$3,IF(AH127=0,\"\",AH127),\"\"),IF(AH127<>0,AH127,\"\"))","v":""},{"$f":"IF(statistics!$D$3<>0,IF(AJ127=statistics!$D$3,IF(A127=0,\"\",1),\"\"),IF(A127=0,\"\",1))","v":""},"","",null,"",{"$nulls":6},0,null,null,null,"",null,null,"",null,0,null,{"$error":"#NUM!"},{"$error":"#NUM!"},126]
[{"$nulls":4},"","","","","",null,null,"",{"$nulls":6},127,"",{"$f":"IF(A129=0,IF(B129=\"\",IF(B128=0,\"\",SUM($AG$1:AG128)-SUM($U$1:U127)),\"\"),SUM($AG$1:AG128)-SUM($U$1:U127))","v":""},{"$nulls":5},0,{"$f":"IF(AJ128=statistics!$D$3,AB127+AH128-AG128,)","v":0},{"$f":"IF(AND(ROW(AC128)>=statistics!$C$55,ROW(AC128)<=statistics!$D$55),AC127+AH128-AG128,)","v":0},{"$f":"IF(AND(statistics!$C$55<=ROW(A128),ROW(A128)<=statistics!$D$55)=TRUE,AH128-AG128+AA127-INDEX(AA:AA,statistics!$C$55),\"\")","v":""},null,null,0,0,0,"",{"$f":"IF(statistics!$D$3<>0,IF(AJ128=statistics!$D$3,AG128,\"\"),IF(B128<>\"\",AG128,\"\"))","v":""},{"$f":"IF(statistics!$D$3<>0,IF(AJ128=statistics!$D$3,IF(AH128=0,\"\",AH128),\"\"),IF(AH128<>0,AH128,\"\"))","v":""},{"$f":"IF(statistics!$D$3<>0,IF(AJ128=statistics!$D$3,IF(A128=0,\"\",1),\"\"),IF(A128=0,\"\",1))","v":""},"","",null,"",{"$nulls":6},0,null,null,null,"",null,null,"",null,0,null,{"$error":"#NUM!"},{"$error":"#NUM!"},127]
[{"$nulls":4},"","","","","",null,null,"",{"$nulls":6},128,"",{"$f":"IF(A130=0,IF(B130=\"\",IF(B129=0,\"\",SUM($AG$1:AG129)-SUM($U$1:U128)),\"\"),SUM($AG$1:AG129)-SUM($U$1:U128))","v":""},{"$nulls":5},0,{"$f":"IF(AJ129=statistics!$D$3,AB128+AH129-AG129,)","v":0},{"$f":"IF(AND(ROW(AC129)>=statistics!$C$55,ROW(AC129)<=statistics!$D$55),AC128+AH129-AG129,)","v":0},{"$f":"IF(AND(statistics!$C$55<=ROW(A129),ROW(A129)<=statistics!$D$55)=TRUE,AH129-AG129+AA128-INDEX(AA:AA,statistics!$C$55),\"\")","v":""},null,null,0,0,0,"",{"$f":"IF(statistics!$D$3<>0,IF(AJ129=statistics!$D$3,AG129,\"\"),IF(B129<>\"\",AG129,\"\"))","v":""},{"$f":"IF(statistics!$D$3<>0,IF(AJ129=statistics!$D$3,IF(AH129=0,\"\",AH129),\"\"),IF(AH129<>0,AH129,\"\"))","v":""},{"$f":"IF(statistics!$D$3<>0,IF(AJ129=statistics!$D$3,IF(A129=0,\"\",1),\"\"),IF(A129=0,\"\",1))","v":""},"","",null,"",{"$nulls":6},0,null,null,null,"",null,null,"",null,0,null,{"$error":"#NUM!"},{"$error":"#NUM!"},128]
[{"$nulls":4},"",{"$f":"IF(A130=0,\"\",IF(T130=0,\"\",E130/T130))","v":""},"",{"$f":"IF(A131=0,IF(B131=\"\",IF(B130=0,\"\",U130),\"\"),U130)","v":""},{"$f":"IF(A131=0,IF(B131=\"\",IF(B130=0,\"\",S130),\"\"),S130)","v":""},null,null,"",{"$nulls":6},{"$f":"IF(A130=0,S129+1,1)","v":129},"",{"$f":"IF(A131=0,IF(B131=\"\",IF(B130=0,\"\",SUM($AG$1:AG130)-SUM($U$1:U129)),\"\"),SUM($AG$1:AG130)-SUM($U$1:U129))","v":""},{"$nulls":5},0,{"$f":"IF(AJ130=statistics!$D$3,AB129+AH130-AG130,)","v":0},{"$f":"IF(AND(ROW(AC130)>=statistics!$C$55,ROW(AC130)<=statistics!$D$55),AC129+AH130-AG130,)","v":0},{"$f":"IF(AND(statistics!$C$55<=ROW(A130),ROW(A130)<=statistics!$D$55)=TRUE,AH130-AG130+AA129-INDEX(AA:AA,statistics!$C$55),\"\")","v":""},null,null,0,0,0,"",{"$f":"IF(statistics!$D$3<>0,IF(AJ130=statistics!$D$3,AG130,\"\"),IF(B130<>\"\",AG130,\"\"))","v":""},{"$f":"IF(statistics!$D$3<>0,IF(AJ130=statistics!$D$3,IF(AH130=0,\"\",AH130),\"\"),IF(AH130<>0,AH130,\"\"))","v":""},{"$f":"IF(statistics!$D$3<>0,IF(AJ130=statistics!$D$3,IF(A130=0,\"\",1),\"\"),IF(A130=0,\"\",1))","v":""},"","",null,"",{"$nulls":6},0,null,null,null,"",null,null,"",null,0,null,{"$error":"#NUM!"},{"$error":"#NUM!"},129]
[{"$nulls":4},{"$f":"IF(A131=0,\"\",IF(B131<>\"\",SUM(AH131:AH10129)-SUM(AG131:AG10129)-SUM(E132:E10129),\"\"))","v":""},"","","","",null,null,{"$f":"IF(A131=0,\"\",SUM(AI131:AI10129)-SUM(L132:L10129))","v":""},{"$nulls":6},130,{"$f":"IF(A131=0,\"\",SUM(AG131:AG10129)-SUM(T132:T10129))","v":""},{"$f":"IF(A132=0,IF(B132=\"\",IF(B131=0,\"\",SUM($AG$1:AG131)-SUM($U$1:U130)),\"\"),SUM($AG$1:AG131)-SUM($U$1:U130))","v":""},{"$nulls":5},{"$f":"AA130+AH131-AG131","v":0},{"$f":"IF(AJ131=statistics!$D$3,AB130+AH131-AG131,)","v":0},{"$f":"IF(AND(ROW(AC131)>=statistics!$C$55,ROW(AC131)<=statistics!$D$55),AC130+AH131-AG131,)","v":0},{"$f":"IF(AND(statistics!$C$55<=ROW(A131),ROW(A131)<=statistics!$D$55)=TRUE,AH131-AG131+AA130-INDEX(AA:AA,statistics!$C$55),\"\")","v":""},null,null,0,0,{"$f":"IF(J131=0,,D131*J131)","v":0},"",{"$f":"IF(statistics!$D$3<>0,IF(AJ131=statistics!$D$3,AG131,\"\"),IF(B131<>\"\",AG131,\"\"))","v":""},{"$f":"IF(statistics!$D$3<>0,IF(AJ131=statistics!$D$3,IF(AH131=0,\"\",AH131),\"\"),IF(AH131<>0,AH131,\"\"))","v":""},{"$f":"IF(statistics!$D$3<>0,IF(AJ131=statistics!$D$3,IF(A131=0,\"\",1),\"\"),IF(A131=0,\"\",1))","v":""},"","",null,{"$f":"IF(B131=0,\"\",IF(D131=0,IF(D130=0,AQ130+1,1),\"\"))","v":""},{"$nulls":6},{"$f":"J131*D131-J131*K131*(B131+C131)","v":0},null,null,null,{"$f":"IF(B131=$BA$2,ROW(),\"\")","v":""},null,null,{"$f":"IF(B131=$BA$2,INDEX(D:D,SMALL(BB:BB,CELL(\"содержимое\",BG131)))-INDEX(B:B,SMALL(BB:BB,CELL(\"содержимое\",BG131)))-INDEX(C:C,SMALL(BB:BB,CELL(\"содержимое\",BG131))),\"\")","v":""},null,{"$f":"IF($BA$2=B131,BG130+1,BG130)","v":0},null,{"$f":"INDEX(BE:BE,SMALL(BB:BB,CELL(\"содержимое\",BK131)))","v":{"$error":"#NUM!"}},{"$f":"BJ130+BI131","v":{"$error":"#NUM!"}},{"$f":"BK130+1","v":130}]
[{"$nulls":4},"","","","","",null,null,"",{"$nulls":6},131,"",{"$f":"IF(A133=0,IF(B133=\"\",IF(B132=0,\"\",SUM($AG$1:AG132)-SUM($U$1:U131)),\"\"),SUM($AG$1:AG132)-SUM($U$1:U131))","v":""},{"$nulls":5},0,{"$f":"IF(AJ132=statistics!$D$3,AB131+AH132-AG132,)","v":0},{"$f":"IF(AND(ROW(AC132)>=statistics!$C$55,ROW(AC132)<=statistics!$D$55),AC131+AH132-AG132,)","v":0},{"$f":"IF(AND(statistics!$C$55<=ROW(A132),ROW(A132)<=statistics!$D$55)=TRUE,AH132-AG132+AA131-INDEX(AA:AA,statistics!$C$55),\"\")","v":""},null,null,0,0,0,"",{"$f":"IF(statistics!$D$3<>0,IF(AJ132=statistics!$D$3,AG132,\"\"),IF(B132<>\"\",AG132,\"\"))","v":""},{"$f":"IF(statistics!$D$3<>0,IF(AJ132=statistics!$D$3,IF(AH132=0,\"\",AH132),\"\"),IF(AH132<>0,AH132,\"\"))","v":""},{"$f":"IF(statistics!$D$3<>0,IF(AJ132=statistics!$D$3,IF(A132=0,\"\",1),\"\"),IF(A132=0,\"\",1))","v":""},{"$f":"IF(AK132<>\"\",IF(AK131=0,ROW(AK132),ROW(AK132)),\"\")","v":""},{"$f":"IF(A132<>0,IF(MONTH(A132)=AJ131,\"\",MONTH(A132)),\"\")","v":""},null,"",{"$nulls":6},0,null,null,null,"",null,null,"",null,0,null,{"$error":"#NUM!"},{"$error":"#NUM!"},131]
[{"$nulls":4},"","","","","",null,null,"",{"$nulls":6},132,"",{"$f":"IF(A134=0,IF(B134=\"\",IF(B133=0,\"\",SUM($AG$1:AG133)-SUM($U$1:U132)),\"\"),SUM($AG$1:AG133)-SUM($U$1:U132))","v":""},{"$nulls":5},0,{"$f":"IF(AJ133=statistics!$D$3,AB132+AH133-AG133,)","v":0},{"$f":"IF(AND(ROW(AC133)>=statistics!$C$55,ROW(AC133)<=statistics!$D$55),AC132+AH133-AG133,)","v":0},{"$f":"IF(AND(statistics!$C$55<=ROW(A133),ROW(A133)<=statistics!$D$55)=TRUE,AH133-AG133+AA132-INDEX(AA:AA,statistics!$C$55),\"\")","v":""},null,null,{"$f":"IF(J133=0,B133+C133,(B133+C133)-(B133+C133)*J133*K133)","v":0},{"$f":"IF(J133=0,D133,D133*(1-J133))","v":0},0,"",{"$f":"IF(statistics!$D$3<>0,IF(AJ133=statistics!$D$3,AG133,\"\"),IF(B133<>\"\",AG133,\"\"))","v":""},{"$f":"IF(statistics!$D$3<>0,IF(AJ133=statistics!$D$3,IF(AH133=0,\"\",AH133),\"\"),IF(AH133<>0,AH133,\"\"))","v":""},{"$f":"IF(statistics!$D$3<>0,IF(AJ133=statistics!$D$3,IF(A133=0,\"\",1),\"\"),IF(A133=0,\"\",1))","v":""},"","",null,"",{"$nulls":6},0,null,null,null,"",null,null,"",null,0,null,{"$error":"#NUM!"},{"$error":"#NUM!"},132]
[{"$nulls":4},"","","","","",null,null,"",{"$nulls":6},133,"",{"$f":"IF(A135=0,IF(B135=\"\",IF(B134=0,\"\",SUM($AG$1:AG134)-SUM($U$1:U133)),\"\"),SUM($AG$1:AG134)-SUM($U$1:U133))","v":""},{"$nulls":5},0,{"$f":"IF(AJ134=statistics!$D$3,AB133+AH134-AG134,)","v":0},{"$f":"IF(AND(ROW(AC134)>=statistics!$C$55,ROW(AC134)<=statistics!$D$55),AC133+AH134-AG134,)","v":0},{"$f":"IF(AND(statistics!$C$55<=ROW(A134),ROW(A134)<=statistics!$D$55)=TRUE,AH134-AG134+AA133-INDEX(AA:AA,statistics!$C$55),\"\")","v":""},null,null,0,0,0,"",{"$f":"IF(statistics!$D$3<>0,IF(AJ134=statistics!$D$3,AG134,\"\"),IF(B134<>\"\",AG134,\"\"))","v":""},{"$f":"IF(statistics!$D$3<>0,IF(AJ134=statistics!$D$3,IF(AH134=0,\"\",AH134),\"\"),IF(AH134<>0,AH134,\"\"))","v":""},{"$f":"IF(statistics!$D$3<>0,IF(AJ134=statistics!$D$3,IF(A134=0,\"\",1),\"\"),IF(A134=0,\"\",1))","v":""},"","",null,"",{"$nulls":6},0,null,null,null,"",null,null,"",null,0,null,{"$error":"#NUM!"},{"$error":"#NUM!"},133]
[{"$nulls":4},"","","","","",null,null,"",{"$nulls":6},134,"",{"$f":"IF(A136=0,IF(B136=\"\",IF(B135=0,\"\",SUM($AG$1:AG135)-SUM($U$1:U134)),\"\"),SUM($AG$1:AG135)-SUM($U$1:U134))","v":""},{"$nulls":5},0,{"$f":"IF(AJ135=statistics!$D$3,AB134+AH135-AG135,)","v":0},{"$f":"IF(AND(ROW(AC135)>=statistics!$C$55,ROW(AC135)<=statistics!$D$55),AC134+AH135-AG135,)","v":0},{"$f":"IF(AND(statistics!$C$55<=ROW(A135),ROW(A135)<=statistics!$D$55)=TRUE,AH135-AG135+AA134-INDEX(AA:AA,statistics!$C$55),\"\")","v":""},null,null,0,0,0,"",{"$f":"IF(statistics!$D$3<>0,IF(AJ135=statistics!$D$3,AG135,\"\"),IF(B135<>\"\",AG135,\"\"))","v":""},{"$f":"IF(statistics!$D$3<>0,IF(AJ135=statistics!$D$3,IF(AH135=0,\"\",AH135),\"\"),IF(AH135<>0,AH135,\"\"))","v":""},{"$f":"IF(statistics!$D$3<>0,IF(AJ135=statistics!$D$3,IF(A135=0,\"\",1),\"\"),IF(A135=0,\"\",1))","v":""},"","",null,"",{"$nulls":6},0,null,null,null,"",null,null,"",null,0,null,{"$error":"#NUM!"},{"$error":"#NUM!"},134]
[{"$nulls":4},"","","","","",null,null,"",{"$nulls":6},135,"",{"$f":"IF(A137=0,IF(B137=\"\",IF(B136=0,\"\",SUM($AG$1:AG136)-SUM($U$1:U135)),\"\"),SUM($AG$1:AG136)-SUM($U$1:U135))","v":""},{"$nulls":5},0,{"$f":"IF(AJ136=statistics!$D$3,AB135+AH136-AG136,)","v":0},{"$f":"IF(AND(ROW(AC136)>=statistics!$C$55,ROW(AC136)<=statistics!$D$55),AC135+AH136-AG136,)","v":0},{"$f":"IF(AND(statistics!$C$55<=ROW(A136),ROW(A136)<=statistics!$D$55)=TRUE,AH136-AG136+AA135-INDEX(AA:AA,statistics!$C$55),\"\")","v":""},null,null,0,0,0,"",{"$f":"IF(statistics!$D$3<>0,IF(AJ136=statistics!$D$3,AG136,\"\"),IF(B136<>\"\",AG136,\"\"))","v":""},{"$f":"IF(statistics!$D$3<>0,IF(AJ136=statistics!$D$3,IF(AH136=0,\"\",AH136),\"\"),IF(AH136<>0,AH136,\"\"))","v":""},{"$f":"IF(statistics!$D$3<>0,IF(AJ136=statistics!$D$3,IF(A136=0,\"\",1),\"\"),IF(A136=0,\"\",1))","v":""},"","",null,"",{"$nulls":6},0,null,null,null,"",null,null,"",null,0,null,{"$error":"#NUM!"},{"$error":"#NUM!"},135]
[{"$nulls":4},"","","","","",null,null,"",{"$nulls":6},136,"",{"$f":"IF(A138=0,IF(B138=\"\",IF(B137=0,\"\",SUM($AG$1:AG137)-SUM($U$1:U136)),\"\"),SUM($AG$1:AG137)-SUM($U$1:U136))","v":""},{"$nulls":5},0,{"$f":"IF(AJ137=statistics!$D$3,AB136+AH137-AG137,)","v":0},{"$f":"IF(AND(ROW(AC137)>=statistics!$C$55,ROW(AC137)<=statistics!$D$55),AC136+AH137-AG137,)","v":0},{"$f":"IF(AND(statistics!$C$55<=ROW(A137),ROW(A137)<=statistics!$D$55)=TRUE,AH137-AG137+AA136-INDEX(AA:AA,statistics!$C$55),\"\")","v":""},null,null,0,0,0,"",{"$f":"IF(statistics!$D$3<>0,IF(AJ137=statistics!$D$3,AG137,\"\"),IF(B137<>\"\",AG137,\"\"))","v":""},{"$f":"IF(statistics!$D$3<>0,IF(AJ137=statistics!$D$3,IF(AH137=0,\"\",AH137),\"\"),IF(AH137<>0,AH137,\"\"))","v":""},{"$f":"IF(statistics!$D$3<>0,IF(AJ137=statistics!$D$3,IF(A137=0,\"\",1),\"\"),IF(A137=0,\"\",1))","v":""},"","",null,"",{"$nulls":6},0,null,null,null,"",null,null,"",null,0,null,{"$error":"#NUM!"},{"$error":"#NUM!"},136]
[{"$nulls":4},"","","","","",null,null,"",{"$nulls":6},137,"",{"$f":"IF(A139=0,IF(B139=\"\",IF(B138=0,\"\",SUM($AG$1:AG138)-SUM($U$1:U137)),\"\"),SUM($AG$1:AG138)-SUM($U$1:U137))","v":""},{"$nulls":5},0,{"$f":"IF(AJ138=statistics!$D$3,AB137+AH138-AG138,)","v":0},{"$f":"IF(AND(ROW(AC138)>=statistics!$C$55,ROW(AC138)<=statistics!$D$55),AC137+AH138-AG138,)","v":0},{"$f":"IF(AND(statistics!$C$55<=ROW(A138),ROW(A138)<=statistics!$D$55)=TRUE,AH138-AG138+AA137-INDEX(AA:AA,statistics!$C$55),\"\")","v":""},null,null,0,0,0,"",{"$f":"IF(statistics!$D$3<>0,IF(AJ138=statistics!$D$3,AG138,\"\"),IF(B138<>\"\",AG138,\"\"))","v":""},{"$f":"IF(statistics!$D$3<>0,IF(AJ138=statistics!$D$3,IF(AH138=0,\"\",AH138),\"\"),IF(AH138<>0,AH138,\"\"))","v":""},{"$f":"IF(statistics!$D$3<>0,IF(AJ138=statistics!$D$3,IF(A138=0,\"\",1),\"\"),IF(A138=0,\"\",1))","v":""},"","",null,"",{"$nulls":6},0,null,null,null,"",null,null,"",null,0,null,{"$error":"#NUM!"},{"$error":"#NUM!"},137]
[{"$nulls":4},"","","","","",null,null,"",{"$nulls":6},138,"",{"$f":"IF(A140=0,IF(B140=\"\",IF(B139=0,\"\",SUM($AG$1:AG139)-SUM($U$1:U138)),\"\"),SUM($AG$1:AG139)-SUM($U$1:U138))","v":""},{"$nulls":5},0,{"$f":"IF(AJ139=statistics!$D$3,AB138+AH139-AG139,)","v":0},{"$f":"IF(AND(ROW(AC139)>=statistics!$C$55,ROW(AC139)<=statistics!$D$55),AC138+AH139-AG139,)","v":0},{"$f":"IF(AND(statistics!$C$55<=ROW(A139),ROW(A139)<=statistics!$D$55)=TRUE,AH139-AG139+AA138-INDEX(AA:AA,statistics!$C$55),\"\")","v":""},null,null,0,0,0,"",{"$f":"IF(statistics!$D$3<>0,IF(AJ139=statistics!$D$3,AG139,\"\"),IF(B139<>\"\",AG139,\"\"))","v":""},{"$f":"IF(statistics!$D$3<>0,IF(AJ139=statistics!$D$3,IF(AH139=0,\"\",AH139),\"\"),IF(AH139<>0,AH139,\"\"))","v":""},{"$f":"IF(statistics!$D$3<>0,IF(AJ139=statistics!$D$3,IF(A139=0,\"\",1),\"\"),IF(A139=0,\"\",1))","v":""},"","",null,"",{"$nulls":6},0,null,null,null,"",null,null,"",null,0,null,{"$error":"#NUM!"},{"$error":"#NUM!"},138]
[{"$nulls":4},"","","","","",null,null,"",{"$nulls":6},139,"",{"$f":"IF(A141=0,IF(B141=\"\",IF(B140=0,\"\",SUM($AG$1:AG140)-SUM($U$1:U139)),\"\"),SUM($AG$1:AG140)-SUM($U$1:U139))","v":""},{"$nulls":5},0,{"$f":"IF(AJ140=statistics!$D$3,AB139+AH140-AG140,)","v":0},{"$f":"IF(AND(ROW(AC140)>=statistics!$C$55,ROW(AC140)<=statistics!$D$55),AC139+AH140-AG140,)","v":0},{"$f":"IF(AND(statistics!$C$55<=ROW(A140),ROW(A140)<=statistics!$D$55)=TRUE,AH140-AG140+AA139-INDEX(AA:AA,statistics!$C$55),\"\")","v":""},null,null,0,0,0,"",{"$f":"IF(statistics!$D$3<>0,IF(AJ140=statistics!$D$3,AG140,\"\"),IF(B140<>\"\",AG140,\"\"))","v":""},{"$f":"IF(statistics!$D$3<>0,IF(AJ140=statistics!$D$3,IF(AH140=0,\"\",AH140),\"\"),IF(AH140<>0,AH140,\"\"))","v":""},{"$f":"IF(statistics!$D$3<>0,IF(AJ140=statistics!$D$3,IF(A140=0,\"\",1),\"\"),IF(A140=0,\"\",1))","v":""},"","",null,"",{"$nulls":6},0,null,null,null,"",null,null,"",null,0,null,{"$error":"#NUM!"},{"$error":"#NUM!"},139]
[{"$nulls":4},"","","","","",null,null,"",{"$nulls":6},140,"",{"$f":"IF(A142=0,IF(B142=\"\",IF(B141=0,\"\",SUM($AG$1:AG141)-SUM($U$1:U140)),\"\"),SUM($AG$1:AG141)-SUM($U$1:U140))","v":""},{"$nulls":5},0,{"$f":"IF(AJ141=statistics!$D$3,AB140+AH141-AG141,)","v":0},{"$f":"IF(AND(ROW(AC141)>=statistics!$C$55,ROW(AC141)<=statistics!$D$55),AC140+AH141-AG141,)","v":0},{"$f":"IF(AND(statistics!$C$55<=ROW(A141),ROW(A141)<=statistics!$D$55)=TRUE,AH141-AG141+AA140-INDEX(AA:AA,statistics!$C$55),\"\")","v":""},null,null,0,0,0,"",{"$f":"IF(statistics!$D$3<>0,IF(AJ141=statistics!$D$3,AG141,\"\"),IF(B141<>\"\",AG141,\"\"))","v":""},{"$f":"IF(statistics!$D$3<>0,IF(AJ141=statistics!$D$3,IF(AH141=0,\"\",AH141),\"\"),IF(AH141<>0,AH141,\"\"))","v":""},{"$f":"IF(statistics!$D$3<>0,IF(AJ141=statistics!$D$3,IF(A141=0,\"\",1),\"\"),IF(A141=0,\"\",1))","v":""},"","",null,"",{"$nulls":6},0,null,null,null,"",null,null,"",null,0,null,{"$error":"#NUM!"},{"$error":"#NUM!"},140]
[{"$nulls":4},"","","","","",null,null,"",{"$nulls":6},141,"",{"$f":"IF(A143=0,IF(B143=\"\",IF(B142=0,\"\",SUM($AG$1:AG142)-SUM($U$1:U141)),\"\"),SUM($AG$1:AG142)-SUM($U$1:U141))","v":""},{"$nulls":5},0,{"$f":"IF(AJ142=statistics!$D$3,AB141+AH142-AG142,)","v":0},{"$f":"IF(AND(ROW(AC142)>=statistics!$C$55,ROW(AC142)<=statistics!$D$55),AC141+AH142-AG142,)","v":0},{"$f":"IF(AND(statistics!$C$55<=ROW(A142),ROW(A142)<=statistics!$D$55)=TRUE,AH142-AG142+AA141-INDEX(AA:AA,statistics!$C$55),\"\")","v":""},null,null,0,0,0,"",{"$f":"IF(statistics!$D$3<>0,IF(AJ142=statistics!$D$3,AG142,\"\"),IF(B142<>\"\",AG142,\"\"))","v":""},{"$f":"IF(statistics!$D$3<>0,IF(AJ142=statistics!$D$3,IF(AH142=0,\"\",AH142),\"\"),IF(AH142<>0,AH142,\"\"))","v":""},{"$f":"IF(statistics!$D$3<>0,IF(AJ142=statistics!$D$3,IF(A142=0,\"\",1),\"\"),IF(A142=0,\"\",1))","v":""},"","",null,"",{"$nulls":6},0,null,null,null,"",null,null,"",null,0,null,{"$error":"#NUM!"},{"$error":"#NUM!"},141]
[{"$nulls":4},"","","","","",null,null,"",{"$nulls":6},142,"",{"$f":"IF(A144=0,IF(B144=\"\",IF(B143=0,\"\",SUM($AG$1:AG143)-SUM($U$1:U142)),\"\"),SUM($AG$1:AG143)-SUM($U$1:U142))","v":""},{"$nulls":5},0,{"$f":"IF(AJ143=statistics!$D$3,AB142+AH143-AG143,)","v":0},{"$f":"IF(AND(ROW(AC143)>=statistics!$C$55,ROW(AC143)<=statistics!$D$55),AC142+AH143-AG143,)","v":0},{"$f":"IF(AND(statistics!$C$55<=ROW(A143),ROW(A143)<=statistics!$D$55)=TRUE,AH143-AG143+AA142-INDEX(AA:AA,statistics!$C$55),\"\")","v":""},null,null,0,0,0,"",{"$f":"IF(statistics!$D$3<>0,IF(AJ143=statistics!$D$3,AG143,\"\"),IF(B143<>\"\",AG143,\"\"))","v":""},{"$f":"IF(statistics!$D$3<>0,IF(AJ143=statistics!$D$3,IF(AH143=0,\"\",AH143),\"\"),IF(AH143<>0,AH143,\"\"))","v":""},{"$f":"IF(statistics!$D$3<>0,IF(AJ143=statistics!$D$3,IF(A143=0,\"\",1),\"\"),IF(A143=0,\"\",1))","v":""},"","",null,"",{"$nulls":6},0,null,null,null,"",null,null,"",null,0,null,{"$error":"#NUM!"},{"$error":"#NUM!"},142]
[{"$nulls":4},"","","","","",null,null,"",{"$nulls":6},143,"",{"$f":"IF(A145=0,IF(B145=\"\",IF(B144=0,\"\",SUM($AG$1:AG144)-SUM($U$1:U143)),\"\"),SUM($AG$1:AG144)-SUM($U$1:U143))","v":""},{"$nulls":5},0,{"$f":"IF(AJ144=statistics!$D$3,AB143+AH144-AG144,)","v":0},{"$f":"IF(AND(ROW(AC144)>=statistics!$C$55,ROW(AC144)<=statistics!$D$55),AC143+AH144-AG144,)","v":0},{"$f":"IF(AND(statistics!$C$55<=ROW(A144),ROW(A144)<=statistics!$D$55)=TRUE,AH144-AG144+AA143-INDEX(AA:AA,statistics!$C$55),\"\")","v":""},null,null,0,0,0,"",{"$f":"IF(statistics!$D$3<>0,IF(AJ144=statistics!$D$3,AG144,\"\"),IF(B144<>\"\",AG144,\"\"))","v":""},{"$f":"IF(statistics!$D$3<>0,IF(AJ144=statistics!$D$3,IF(AH144=0,\"\",AH144),\"\"),IF(AH144<>0,AH144,\"\"))","v":""},{"$f":"IF(statistics!$D$3<>0,IF(AJ144=statistics!$D$3,IF(A144=0,\"\",1),\"\"),IF(A144=0,\"\",1))","v":""},"","",null,"",{"$nulls":6},0,null,null,null,"",null,null,"",null,0,null,{"$error":"#NUM!"},{"$error":"#NUM!"},143]
[{"$nulls":4},"","",{"$f":"IF(A146=0,IF(B146=\"\",IF(B145=0,\"\",U145/S145),\"\"),U145/S145)","v":""},"","",null,null,"",{"$nulls":6},144,"",{"$f":"IF(A146=0,IF(B146=\"\",IF(B145=0,\"\",SUM($AG$1:AG145)-SUM($U$1:U144)),\"\"),SUM($AG$1:AG145)-SUM($U$1:U144))","v":""},{"$nulls":5},0,{"$f":"IF(AJ145=statistics!$D$3,AB144+AH145-AG145,)","v":0},{"$f":"IF(AND(ROW(AC145)>=statistics!$C$55,ROW(AC145)<=statistics!$D$55),AC144+AH145-AG145,)","v":0},{"$f":"IF(AND(statistics!$C$55<=ROW(A145),ROW(A145)<=statistics!$D$55)=TRUE,AH145-AG145+AA144-INDEX(AA:AA,statistics!$C$55),\"\")","v":""},null,null,0,0,0,"",{"$f":"IF(statistics!$D$3<>0,IF(AJ145=statistics!$D$3,AG145,\"\"),IF(B145<>\"\",AG145,\"\"))","v":""},{"$f":"IF(statistics!$D$3<>0,IF(AJ145=statistics!$D$3,IF(AH145=0,\"\",AH145),\"\"),IF(AH145<>0,AH145,\"\"))","v":""},{"$f":"IF(statistics!$D$3<>0,IF(AJ145=statistics!$D$3,IF(A145=0,\"\",1),\"\"),IF(A145=0,\"\",1))","v":""},"","",null,"",{"$nulls":6},0,null,null,null,"",null,null,"",null,0,null,{"$error":"#NUM!"},{"$error":"#NUM!"},144]
[{"$nulls":4},"","","","","",null,null,"",{"$nulls":6},145,"",{"$f":"IF(A147=0,IF(B147=\"\",IF(B146=0,\"\",SUM($AG$1:AG146)-SUM($U$1:U145)),\"\"),SUM($AG$1:AG146)-SUM($U$1:U145))","v":""},{"$nulls":5},0,{"$f":"IF(AJ146=statistics!$D$3,AB145+AH146-AG146,)","v":0},{"$f":"IF(AND(ROW(AC146)>=statistics!$C$55,ROW(AC146)<=statistics!$D$55),AC145+AH146-AG146,)","v":0},{"$f":"IF(AND(statistics!$C$55<=ROW(A146),ROW(A146)<=statistics!$D$55)=TRUE,AH146-AG146+AA145-INDEX(AA:AA,statistics!$C$55),\"\")","v":""},null,null,0,0,0,"",{"$f":"IF(statistics!$D$3<>0,IF(AJ146=statistics!$D$3,AG146,\"\"),IF(B146<>\"\",AG146,\"\"))","v":""},{"$f":"IF(statistics!$D$3<>0,IF(AJ146=statistics!$D$3,IF(AH146=0,\"\",AH146),\"\"),IF(AH146<>0,AH146,\"\"))","v":""},{"$f":"IF(statistics!$D$3<>0,IF(AJ146=statistics!$D$3,IF(A146=0,\"\",1),\"\"),IF(A146=0,\"\",1))","v":""},"","",null,"",{"$nulls":6},0,null,null,null,"",null,null,"",null,0,null,{"$error":"#NUM!"},{"$error":"#NUM!"},145]
[{"$nulls":4},"","","","","",null,null,"",{"$nulls":6},146,"",{"$f":"IF(A148=0,IF(B148=\"\",IF(B147=0,\"\",SUM($AG$1:AG147)-SUM($U$1:U146)),\"\"),SUM($AG$1:AG147)-SUM($U$1:U146))","v":""},{"$nulls":5},0,{"$f":"IF(AJ147=statistics!$D$3,AB146+AH147-AG147,)","v":0},{"$f":"IF(AND(ROW(AC147)>=statistics!$C$55,ROW(AC147)<=statistics!$D$55),AC146+AH147-AG147,)","v":0},{"$f":"IF(AND(statistics!$C$55<=ROW(A147),ROW(A147)<=statistics!$D$55)=TRUE,AH147-AG147+AA146-INDEX(AA:AA,statistics!$C$55),\"\")","v":""},null,null,0,0,0,"",{"$f":"IF(statistics!$D$3<>0,IF(AJ147=statistics!$D$3,AG147,\"\"),IF(B147<>\"\",AG147,\"\"))","v":""},{"$f":"IF(statistics!$D$3<>0,IF(AJ147=statistics!$D$3,IF(AH147=0,\"\",AH147),\"\"),IF(AH147<>0,AH147,\"\"))","v":""},{"$f":"IF(statistics!$D$3<>0,IF(AJ147=statistics!$D$3,IF(A147=0,\"\",1),\"\"),IF(A147=0,\"\",1))","v":""},"","",null,"",{"$nulls":6},0,null,null,null,"",null,null,"",null,0,null,{"$error":"#NUM!"},{"$error":"#NUM!"},146]
[{"$nulls":4},"","","","","",null,null,"",{"$nulls":6},147,"",{"$f":"IF(A149=0,IF(B149=\"\",IF(B148=0,\"\",SUM($AG$1:AG148)-SUM($U$1:U147)),\"\"),SUM($AG$1:AG148)-SUM($U$1:U147))","v":""},{"$nulls":5},0,{"$f":"IF(AJ148=statistics!$D$3,AB147+AH148-AG148,)","v":0},{"$f":"IF(AND(ROW(AC148)>=statistics!$C$55,ROW(AC148)<=statistics!$D$55),AC147+AH148-AG148,)","v":0},{"$f":"IF(AND(statistics!$C$55<=ROW(A148),ROW(A148)<=statistics!$D$55)=TRUE,AH148-AG148+AA147-INDEX(AA:AA,statistics!$C$55),\"\")","v":""},null,null,0,0,0,{"$f":"IF(A148<>0,MONTH(A148),IF(B148=\"\",\"\",AJ147))","v":""},{"$f":"IF(statistics!$D$3<>0,IF(AJ148=statistics!$D$3,AG148,\"\"),IF(B148<>\"\",AG148,\"\"))","v":""},{"$f":"IF(statistics!$D$3<>0,IF(AJ148=statistics!$D$3,IF(AH148=0,\"\",AH148),\"\"),IF(AH148<>0,AH148,\"\"))","v":""},{"$f":"IF(statistics!$D$3<>0,IF(AJ148=statistics!$D$3,IF(A148=0,\"\",1),\"\"),IF(A148=0,\"\",1))","v":""},"","",null,"",{"$nulls":6},0,null,null,null,"",null,null,"",null,0,null,{"$error":"#NUM!"},{"$error":"#NUM!"},147]
[{"$nulls":4},"","","","","",null,null,"",{"$nulls":6},148,"",{"$f":"IF(A150=0,IF(B150=\"\",IF(B149=0,\"\",SUM($AG$1:AG149)-SUM($U$1:U148)),\"\"),SUM($AG$1:AG149)-SUM($U$1:U148))","v":""},{"$nulls":5},0,{"$f":"IF(AJ149=statistics!$D$3,AB148+AH149-AG149,)","v":0},{"$f":"IF(AND(ROW(AC149)>=statistics!$C$55,ROW(AC149)<=statistics!$D$55),AC148+AH149-AG149,)","v":0},{"$f":"IF(AND(statistics!$C$55<=ROW(A149),ROW(A149)<=statistics!$D$55)=TRUE,AH149-AG149+AA148-INDEX(AA:AA,statistics!$C$55),\"\")","v":""},null,null,0,0,0,"",{"$f":"IF(statistics!$D$3<>0,IF(AJ149=statistics!$D$3,AG149,\"\"),IF(B149<>\"\",AG149,\"\"))","v":""},{"$f":"IF(statistics!$D$3<>0,IF(AJ149=statistics!$D$3,IF(AH149=0,\"\",AH149),\"\"),IF(AH149<>0,AH149,\"\"))","v":""},{"$f":"IF(statistics!$D$3<>0,IF(AJ149=statistics!$D$3,IF(A149=0,\"\",1),\"\"),IF(A149=0,\"\",1))","v":""},"","",null,"",{"$nulls":6},0,null,null,null,"",null,null,"",null,0,null,{"$error":"#NUM!"},{"$error":"#NUM!"},148]
[{"$nulls":4},"","","","","",null,null,"",{"$nulls":6},149,"",{"$f":"IF(A151=0,IF(B151=\"\",IF(B150=0,\"\",SUM($AG$1:AG150)-SUM($U$1:U149)),\"\"),SUM($AG$1:AG150)-SUM($U$1:U149))","v":""},{"$nulls":5},0,{"$f":"IF(AJ150=statistics!$D$3,AB149+AH150-AG150,)","v":0},{"$f":"IF(AND(ROW(AC150)>=statistics!$C$55,ROW(AC150)<=statistics!$D$55),AC149+AH150-AG150,)","v":0},{"$f":"IF(AND(statistics!$C$55<=ROW(A150),ROW(A150)<=statistics!$D$55)=TRUE,AH150-AG150+AA149-INDEX(AA:AA,statistics!$C$55),\"\")","v":""},null,null,0,0,0,"",{"$f":"IF(statistics!$D$3<>0,IF(AJ150=statistics!$D$3,AG150,\"\"),IF(B150<>\"\",AG150,\"\"))","v":""},{"$f":"IF(statistics!$D$3<>0,IF(AJ150=statistics!$D$3,IF(AH150=0,\"\",AH150),\"\"),IF(AH150<>0,AH150,\"\"))","v":""},{"$f":"IF(statistics!$D$3<>0,IF(AJ150=statistics!$D$3,IF(A150=0,\"\",1),\"\"),IF(A150=0,\"\",1))","v":""},"","",null,"",{"$nulls":6},0,null,null,null,"",null,null,"",null,0,null,{"$error":"#NUM!"},{"$error":"#NUM!"},149]
[{"$nulls":4},"","","","","",null,null,"",{"$nulls":6},150,"",{"$f":"IF(A152=0,IF(B152=\"\",IF(B151=0,\"\",SUM($AG$1:AG151)-SUM($U$1:U150)),\"\"),SUM($AG$1:AG151)-SUM($U$1:U150))","v":""},{"$nulls":5},0,{"$f":"IF(AJ151=statistics!$D$3,AB150+AH151-AG151,)","v":0},{"$f":"IF(AND(ROW(AC151)>=statistics!$C$55,ROW(AC151)<=statistics!$D$55),AC150+AH151-AG151,)","v":0},{"$f":"IF(AND(statistics!$C$55<=ROW(A151),ROW(A151)<=statistics!$D$55)=TRUE,AH151-AG151+AA150-INDEX(AA:AA,statistics!$C$55),\"\")","v":""},null,null,0,0,0,"",{"$f":"IF(statistics!$D$3<>0,IF(AJ151=statistics!$D$3,AG151,\"\"),IF(B151<>\"\",AG151,\"\"))","v":""},{"$f":"IF(statistics!$D$3<>0,IF(AJ151=statistics!$D$3,IF(AH151=0,\"\",AH151),\"\"),IF(AH151<>0,AH151,\"\"))","v":""},{"$f":"IF(statistics!$D$3<>0,IF(AJ151=statistics!$D$3,IF(A151=0,\"\",1),\"\"),IF(A151=0,\"\",1))","v":""},"","",null,"",{"$nulls":6},0,null,null,null,"",null,null,"",null,0,null,{"$error":"#NUM!"},{"$error":"#NUM!"},150]
[{"$nulls":4},"","","","","",null,null,"",{"$nulls":6},151,"",{"$f":"IF(A153=0,IF(B153=\"\",IF(B152=0,\"\",SUM($AG$1:AG152)-SUM($U$1:U151)),\"\"),SUM($AG$1:AG152)-SUM($U$1:U151))","v":""},{"$nulls":5},0,{"$f":"IF(AJ152=statistics!$D$3,AB151+AH152-AG152,)","v":0},{"$f":"IF(AND(ROW(AC152)>=statistics!$C$55,ROW(AC152)<=statistics!$D$55),AC151+AH152-AG152,)","v":0},{"$f":"IF(AND(statistics!$C$55<=ROW(A152),ROW(A152)<=statistics!$D$55)=TRUE,AH152-AG152+AA151-INDEX(AA:AA,statistics!$C$55),\"\")","v":""},null,null,0,0,0,"",{"$f":"IF(statistics!$D$3<>0,IF(AJ152=statistics!$D$3,AG152,\"\"),IF(B152<>\"\",AG152,\"\"))","v":""},{"$f":"IF(statistics!$D$3<>0,IF(AJ152=statistics!$D$3,IF(AH152=0,\"\",AH152),\"\"),IF(AH152<>0,AH152,\"\"))","v":""},{"$f":"IF(statistics!$D$3<>0,IF(AJ152=statistics!$D$3,IF(A152=0,\"\",1),\"\"),IF(A152=0,\"\",1))","v":""},"","",null,"",{"$nulls":6},0,null,null,null,"",null,null,"",null,0,null,{"$error":"#NUM!"},{"$error":"#NUM!"},151]
[{"$nulls":4},"","","","","",null,null,"",{"$nulls":6},152,"",{"$f":"IF(A154=0,IF(B154=\"\",IF(B153=0,\"\",SUM($AG$1:AG153)-SUM($U$1:U152)),\"\"),SUM($AG$1:AG153)-SUM($U$1:U152))","v":""},{"$nulls":5},0,{"$f":"IF(AJ153=statistics!$D$3,AB152+AH153-AG153,)","v":0},{"$f":"IF(AND(ROW(AC153)>=statistics!$C$55,ROW(AC153)<=statistics!$D$55),AC152+AH153-AG153,)","v":0},{"$f":"IF(AND(statistics!$C$55<=ROW(A153),ROW(A153)<=statistics!$D$55)=TRUE,AH153-AG153+AA152-INDEX(AA:AA,statistics!$C$55),\"\")","v":""},null,null,0,0,0,"",{"$f":"IF(statistics!$D$3<>0,IF(AJ153=statistics!$D$3,AG153,\"\"),IF(B153<>\"\",AG153,\"\"))","v":""},{"$f":"IF(statistics!$D$3<>0,IF(AJ153=statistics!$D$3,IF(AH153=0,\"\",AH153),\"\"),IF(AH153<>0,AH153,\"\"))","v":""},{"$f":"IF(statistics!$D$3<>0,IF(AJ153=statistics!$D$3,IF(A153=0,\"\",1),\"\"),IF(A153=0,\"\",1))","v":""},"","",null,"",{"$nulls":6},0,null,null,null,"",null,null,"",null,0,null,{"$error":"#NUM!"},{"$error":"#NUM!"},152]
[{"$nulls":4},"","","","","",null,null,"",{"$nulls":6},153,"",{"$f":"IF(A155=0,IF(B155=\"\",IF(B154=0,\"\",SUM($AG$1:AG154)-SUM($U$1:U153)),\"\"),SUM($AG$1:AG154)-SUM($U$1:U153))","v":""},{"$nulls":5},0,{"$f":"IF(AJ154=statistics!$D$3,AB153+AH154-AG154,)","v":0},{"$f":"IF(AND(ROW(AC154)>=statistics!$C$55,ROW(AC154)<=statistics!$D$55),AC153+AH154-AG154,)","v":0},{"$f":"IF(AND(statistics!$C$55<=ROW(A154),ROW(A154)<=statistics!$D$55)=TRUE,AH154-AG154+AA153-INDEX(AA:AA,statistics!$C$55),\"\")","v":""},null,null,0,0,0,"",{"$f":"IF(statistics!$D$3<>0,IF(AJ154=statistics!$D$3,AG154,\"\"),IF(B154<>\"\",AG154,\"\"))","v":""},{"$f":"IF(statistics!$D$3<>0,IF(AJ154=statistics!$D$3,IF(AH154=0,\"\",AH154),\"\"),IF(AH154<>0,AH154,\"\"))","v":""},{"$f":"IF(statistics!$D$3<>0,IF(AJ154=statistics!$D$3,IF(A154=0,\"\",1),\"\"),IF(A154=0,\"\",1))","v":""},"","",null,"",{"$nulls":6},0,null,null,null,"",null,null,"",null,0,null,{"$error":"#NUM!"},{"$error":"#NUM!"},153]
[{"$nulls":4},"","","","","",null,null,"",{"$nulls":6},154,"",{"$f":"IF(A156=0,IF(B156=\"\",IF(B155=0,\"\",SUM($AG$1:AG155)-SUM($U$1:U154)),\"\"),SUM($AG$1:AG155)-SUM($U$1:U154))","v":""},{"$nulls":5},0,{"$f":"IF(AJ155=statistics!$D$3,AB154+AH155-AG155,)","v":0},{"$f":"IF(AND(ROW(AC155)>=statistics!$C$55,ROW(AC155)<=statistics!$D$55),AC154+AH155-AG155,)","v":0},{"$f":"IF(AND(statistics!$C$55<=ROW(A155),ROW(A155)<=statistics!$D$55)=TRUE,AH155-AG155+AA154-INDEX(AA:AA,statistics!$C$55),\"\")","v":""},null,null,0,0,0,"",{"$f":"IF(statistics!$D$3<>0,IF(AJ155=statistics!$D$3,AG155,\"\"),IF(B155<>\"\",AG155,\"\"))","v":""},{"$f":"IF(statistics!$D$3<>0,IF(AJ155=statistics!$D$3,IF(AH155=0,\"\",AH155),\"\"),IF(AH155<>0,AH155,\"\"))","v":""},{"$f":"IF(statistics!$D$3<>0,IF(AJ155=statistics!$D$3,IF(A155=0,\"\",1),\"\"),IF(A155=0,\"\",1))","v":""},"","",null,"",{"$nulls":6},0,null,null,null,"",null,null,"",null,0,null,{"$error":"#NUM!"},{"$error":"#NUM!"},154]
[{"$nulls":4},"","","","","",null,null,"",{"$nulls":6},155,"",{"$f":"IF(A157=0,IF(B157=\"\",IF(B156=0,\"\",SUM($AG$1:AG156)-SUM($U$1:U155)),\"\"),SUM($AG$1:AG156)-SUM($U$1:U155))","v":""},{"$nulls":5},0,{"$f":"IF(AJ156=statistics!$D$3,AB155+AH156-AG156,)","v":0},{"$f":"IF(AND(ROW(AC156)>=statistics!$C$55,ROW(AC156)<=statistics!$D$55),AC155+AH156-AG156,)","v":0},{"$f":"IF(AND(statistics!$C$55<=ROW(A156),ROW(A156)<=statistics!$D$55)=TRUE,AH156-AG156+AA155-INDEX(AA:AA,statistics!$C$55),\"\")","v":""},null,null,0,0,0,"",{"$f":"IF(statistics!$D$3<>0,IF(AJ156=statistics!$D$3,AG156,\"\"),IF(B156<>\"\",AG156,\"\"))","v":""},{"$f":"IF(statistics!$D$3<>0,IF(AJ156=statistics!$D$3,IF(AH156=0,\"\",AH156),\"\"),IF(AH156<>0,AH156,\"\"))","v":""},{"$f":"IF(statistics!$D$3<>0,IF(AJ156=statistics!$D$3,IF(A156=0,\"\",1),\"\"),IF(A156=0,\"\",1))","v":""},"","",null,"",{"$nulls":6},0,null,null,null,"",null,null,"",null,0,null,{"$error":"#NUM!"},{"$error":"#NUM!"},155]
[{"$nulls":4},"","","","","",null,null,"",{"$nulls":6},156,"",{"$f":"IF(A158=0,IF(B158=\"\",IF(B157=0,\"\",SUM($AG$1:AG157)-SUM($U$1:U156)),\"\"),SUM($AG$1:AG157)-SUM($U$1:U156))","v":""},{"$nulls":5},0,{"$f":"IF(AJ157=statistics!$D$3,AB156+AH157-AG157,)","v":0},{"$f":"IF(AND(ROW(AC157)>=statistics!$C$55,ROW(AC157)<=statistics!$D$55),AC156+AH157-AG157,)","v":0},{"$f":"IF(AND(statistics!$C$55<=ROW(A157),ROW(A157)<=statistics!$D$55)=TRUE,AH157-AG157+AA156-INDEX(AA:AA,statistics!$C$55),\"\")","v":""},null,null,0,0,0,"",{"$f":"IF(statistics!$D$3<>0,IF(AJ157=statistics!$D$3,AG157,\"\"),IF(B157<>\"\",AG157,\"\"))","v":""},{"$f":"IF(statistics!$D$3<>0,IF(AJ157=statistics!$D$3,IF(AH157=0,\"\",AH157),\"\"),IF(AH157<>0,AH157,\"\"))","v":""},{"$f":"IF(statistics!$D$3<>0,IF(AJ157=statistics!$D$3,IF(A157=0,\"\",1),\"\"),IF(A157=0,\"\",1))","v":""},"","",null,"",{"$nulls":6},0,null,null,null,"",null,null,"",null,0,null,{"$error":"#NUM!"},{"$error":"#NUM!"},156]
[{"$nulls":4},"","","","","",null,null,"",{"$nulls":6},157,"",{"$f":"IF(A159=0,IF(B159=\"\",IF(B158=0,\"\",SUM($AG$1:AG158)-SUM($U$1:U157)),\"\"),SUM($AG$1:AG158)-SUM($U$1:U157))","v":""},{"$nulls":5},0,{"$f":"IF(AJ158=statistics!$D$3,AB157+AH158-AG158,)","v":0},{"$f":"IF(AND(ROW(AC158)>=statistics!$C$55,ROW(AC158)<=statistics!$D$55),AC157+AH158-AG158,)","v":0},{"$f":"IF(AND(statistics!$C$55<=ROW(A158),ROW(A158)<=statistics!$D$55)=TRUE,AH158-AG158+AA157-INDEX(AA:AA,statistics!$C$55),\"\")","v":""},null,null,0,0,0,"",{"$f":"IF(statistics!$D$3<>0,IF(AJ158=statistics!$D$3,AG158,\"\"),IF(B158<>\"\",AG158,\"\"))","v":""},{"$f":"IF(statistics!$D$3<>0,IF(AJ158=statistics!$D$3,IF(AH158=0,\"\",AH158),\"\"),IF(AH158<>0,AH158,\"\"))","v":""},{"$f":"IF(statistics!$D$3<>0,IF(AJ158=statistics!$D$3,IF(A158=0,\"\",1),\"\"),IF(A158=0,\"\",1))","v":""},"","",null,"",{"$nulls":6},0,null,null,null,"",null,null,"",null,0,null,{"$error":"#NUM!"},{"$error":"#NUM!"},157]
[{"$nulls":4},"","","","","",null,null,"",{"$nulls":6},158,"",{"$f":"IF(A160=0,IF(B160=\"\",IF(B159=0,\"\",SUM($AG$1:AG159)-SUM($U$1:U158)),\"\"),SUM($AG$1:AG159)-SUM($U$1:U158))","v":""},{"$nulls":5},0,{"$f":"IF(AJ159=statistics!$D$3,AB158+AH159-AG159,)","v":0},{"$f":"IF(AND(ROW(AC159)>=statistics!$C$55,ROW(AC159)<=statistics!$D$55),AC158+AH159-AG159,)","v":0},{"$f":"IF(AND(statistics!$C$55<=ROW(A159),ROW(A159)<=statistics!$D$55)=TRUE,AH159-AG159+AA158-INDEX(AA:AA,statistics!$C$55),\"\")","v":""},null,null,0,0,0,"",{"$f":"IF(statistics!$D$3<>0,IF(AJ159=statistics!$D$3,AG159,\"\"),IF(B159<>\"\",AG159,\"\"))","v":""},{"$f":"IF(statistics!$D$3<>0,IF(AJ159=statistics!$D$3,IF(AH159=0,\"\",AH159),\"\"),IF(AH159<>0,AH159,\"\"))","v":""},{"$f":"IF(statistics!$D$3<>0,IF(AJ159=statistics!$D$3,IF(A159=0,\"\",1),\"\"),IF(A159=0,\"\",1))","v":""},"","",null,"",{"$nulls":6},0,null,null,null,"",null,null,"",null,0,null,{"$error":"#NUM!"},{"$error":"#NUM!"},158]
[{"$nulls":4},"","","","","",null,null,"",{"$nulls":6},159,"",{"$f":"IF(A161=0,IF(B161=\"\",IF(B160=0,\"\",SUM($AG$1:AG160)-SUM($U$1:U159)),\"\"),SUM($AG$1:AG160)-SUM($U$1:U159))","v":""},{"$nulls":5},0,{"$f":"IF(AJ160=statistics!$D$3,AB159+AH160-AG160,)","v":0},{"$f":"IF(AND(ROW(AC160)>=statistics!$C$55,ROW(AC160)<=statistics!$D$55),AC159+AH160-AG160,)","v":0},{"$f":"IF(AND(statistics!$C$55<=ROW(A160),ROW(A160)<=statistics!$D$55)=TRUE,AH160-AG160+AA159-INDEX(AA:AA,statistics!$C$55),\"\")","v":""},null,null,0,0,0,"",{"$f":"IF(statistics!$D$3<>0,IF(AJ160=statistics!$D$3,AG160,\"\"),IF(B160<>\"\",AG160,\"\"))","v":""},{"$f":"IF(statistics!$D$3<>0,IF(AJ160=statistics!$D$3,IF(AH160=0,\"\",AH160),\"\"),IF(AH160<>0,AH160,\"\"))","v":""},{"$f":"IF(statistics!$D$3<>0,IF(AJ160=statistics!$D$3,IF(A160=0,\"\",1),\"\"),IF(A160=0,\"\",1))","v":""},"","",null,"",{"$nulls":6},0,null,null,null,"",null,null,"",null,0,null,{"$error":"#NUM!"},{"$error":"#NUM!"},159]
[{"$nulls":4},"","","","","",null,null,"",{"$nulls":6},160,"",{"$f":"IF(A162=0,IF(B162=\"\",IF(B161=0,\"\",SUM($AG$1:AG161)-SUM($U$1:U160)),\"\"),SUM($AG$1:AG161)-SUM($U$1:U160))","v":""},{"$nulls":5},0,{"$f":"IF(AJ161=statistics!$D$3,AB160+AH161-AG161,)","v":0},{"$f":"IF(AND(ROW(AC161)>=statistics!$C$55,ROW(AC161)<=statistics!$D$55),AC160+AH161-AG161,)","v":0},{"$f":"IF(AND(statistics!$C$55<=ROW(A161),ROW(A161)<=statistics!$D$55)=TRUE,AH161-AG161+AA160-INDEX(AA:AA,statistics!$C$55),\"\")","v":""},null,null,0,0,0,"",{"$f":"IF(statistics!$D$3<>0,IF(AJ161=statistics!$D$3,AG161,\"\"),IF(B161<>\"\",AG161,\"\"))","v":""},{"$f":"IF(statistics!$D$3<>0,IF(AJ161=statistics!$D$3,IF(AH161=0,\"\",AH161),\"\"),IF(AH161<>0,AH161,\"\"))","v":""},{"$f":"IF(statistics!$D$3<>0,IF(AJ161=statistics!$D$3,IF(A161=0,\"\",1),\"\"),IF(A161=0,\"\",1))","v":""},"","",null,"",{"$nulls":6},0,null,null,null,"",null,null,"",null,0,null,{"$error":"#NUM!"},{"$error":"#NUM!"},160]
[{"$nulls":4},"","","","","",null,null,"",{"$nulls":6},161,"",{"$f":"IF(A163=0,IF(B163=\"\",IF(B162=0,\"\",SUM($AG$1:AG162)-SUM($U$1:U161)),\"\"),SUM($AG$1:AG162)-SUM($U$1:U161))","v":""},{"$nulls":5},0,{"$f":"IF(AJ162=statistics!$D$3,AB161+AH162-AG162,)","v":0},{"$f":"IF(AND(ROW(AC162)>=statistics!$C$55,ROW(AC162)<=statistics!$D$55),AC161+AH162-AG162,)","v":0},{"$f":"IF(AND(statistics!$C$55<=ROW(A162),ROW(A162)<=statistics!$D$55)=TRUE,AH162-AG162+AA161-INDEX(AA:AA,statistics!$C$55),\"\")","v":""},null,null,0,0,0,"",{"$f":"IF(statistics!$D$3<>0,IF(AJ162=statistics!$D$3,AG162,\"\"),IF(B162<>\"\",AG162,\"\"))","v":""},{"$f":"IF(statistics!$D$3<>0,IF(AJ162=statistics!$D$3,IF(AH162=0,\"\",AH162),\"\"),IF(AH162<>0,AH162,\"\"))","v":""},{"$f":"IF(statistics!$D$3<>0,IF(AJ162=statistics!$D$3,IF(A162=0,\"\",1),\"\"),IF(A162=0,\"\",1))","v":""},"","",null,"",{"$nulls":6},0,null,null,null,"",null,null,"",null,0,null,{"$error":"#NUM!"},{"$error":"#NUM!"},161]
[{"$nulls":4},"","","","","",null,null,"",{"$nulls":6},162,"",{"$f":"IF(A164=0,IF(B164=\"\",IF(B163=0,\"\",SUM($AG$1:AG163)-SUM($U$1:U162)),\"\"),SUM($AG$1:AG163)-SUM($U$1:U162))","v":""},{"$nulls":5},0,{"$f":"IF(AJ163=statistics!$D$3,AB162+AH163-AG163,)","v":0},{"$f":"IF(AND(ROW(AC163)>=statistics!$C$55,ROW(AC163)<=statistics!$D$55),AC162+AH163-AG163,)","v":0},{"$f":"IF(AND(statistics!$C$55<=ROW(A163),ROW(A163)<=statistics!$D$55)=TRUE,AH163-AG163+AA162-INDEX(AA:AA,statistics!$C$55),\"\")","v":""},null,null,0,0,0,"",{"$f":"IF(statistics!$D$3<>0,IF(AJ163=statistics!$D$3,AG163,\"\"),IF(B163<>\"\",AG163,\"\"))","v":""},{"$f":"IF(statistics!$D$3<>0,IF(AJ163=statistics!$D$3,IF(AH163=0,\"\",AH163),\"\"),IF(AH163<>0,AH163,\"\"))","v":""},{"$f":"IF(statistics!$D$3<>0,IF(AJ163=statistics!$D$3,IF(A163=0,\"\",1),\"\"),IF(A163=0,\"\",1))","v":""},"","",null,"",{"$nulls":6},0,null,null,null,"",null,null,"",null,0,null,{"$error":"#NUM!"},{"$error":"#NUM!"},162]
[{"$nulls":4},"","","","","",null,null,"",{"$nulls":6},163,"",{"$f":"IF(A165=0,IF(B165=\"\",IF(B164=0,\"\",SUM($AG$1:AG164)-SUM($U$1:U163)),\"\"),SUM($AG$1:AG164)-SUM($U$1:U163))","v":""},{"$nulls":5},0,{"$f":"IF(AJ164=statistics!$D$3,AB163+AH164-AG164,)","v":0},{"$f":"IF(AND(ROW(AC164)>=statistics!$C$55,ROW(AC164)<=statistics!$D$55),AC163+AH164-AG164,)","v":0},{"$f":"IF(AND(statistics!$C$55<=ROW(A164),ROW(A164)<=statistics!$D$55)=TRUE,AH164-AG164+AA163-INDEX(AA:AA,statistics!$C$55),\"\")","v":""},null,null,0,0,0,"",{"$f":"IF(statistics!$D$3<>0,IF(AJ164=statistics!$D$3,AG164,\"\"),IF(B164<>\"\",AG164,\"\"))","v":""},{"$f":"IF(statistics!$D$3<>0,IF(AJ164=statistics!$D$3,IF(AH164=0,\"\",AH164),\"\"),IF(AH164<>0,AH164,\"\"))","v":""},{"$f":"IF(statistics!$D$3<>0,IF(AJ164=statistics!$D$3,IF(A164=0,\"\",1),\"\"),IF(A164=0,\"\",1))","v":""},"","",null,"",{"$nulls":6},0,null,null,null,"",null,null,"",null,0,null,{"$error":"#NUM!"},{"$error":"#NUM!"},163]
[{"$nulls":4},"","","","","",null,null,"",{"$nulls":6},164,"",{"$f":"IF(A166=0,IF(B166=\"\",IF(B165=0,\"\",SUM($AG$1:AG165)-SUM($U$1:U164)),\"\"),SUM($AG$1:AG165)-SUM($U$1:U164))","v":""},{"$nulls":5},0,{"$f":"IF(AJ165=statistics!$D$3,AB164+AH165-AG165,)","v":0},{"$f":"IF(AND(ROW(AC165)>=statistics!$C$55,ROW(AC165)<=statistics!$D$55),AC164+AH165-AG165,)","v":0},{"$f":"IF(AND(statistics!$C$55<=ROW(A165),ROW(A165)<=statistics!$D$55)=TRUE,AH165-AG165+AA164-INDEX(AA:AA,statistics!$C$55),\"\")","v":""},null,null,0,0,0,"",{"$f":"IF(statistics!$D$3<>0,IF(AJ165=statistics!$D$3,AG165,\"\"),IF(B165<>\"\",AG165,\"\"))","v":""},{"$f":"IF(statistics!$D$3<>0,IF(AJ165=statistics!$D$3,IF(AH165=0,\"\",AH165),\"\"),IF(AH165<>0,AH165,\"\"))","v":""},{"$f":"IF(statistics!$D$3<>0,IF(AJ165=statistics!$D$3,IF(A165=0,\"\",1),\"\"),IF(A165=0,\"\",1))","v":""},"","",null,"",{"$nulls":6},0,null,null,null,"",null,null,"",null,0,null,{"$error":"#NUM!"},{"$error":"#NUM!"},164]
[{"$nulls":4},"","","","","",null,null,"",{"$nulls":6},165,"",{"$f":"IF(A167=0,IF(B167=\"\",IF(B166=0,\"\",SUM($AG$1:AG166)-SUM($U$1:U165)),\"\"),SUM($AG$1:AG166)-SUM($U$1:U165))","v":""},{"$nulls":5},0,{"$f":"IF(AJ166=statistics!$D$3,AB165+AH166-AG166,)","v":0},{"$f":"IF(AND(ROW(AC166)>=statistics!$C$55,ROW(AC166)<=statistics!$D$55),AC165+AH166-AG166,)","v":0},{"$f":"IF(AND(statistics!$C$55<=ROW(A166),ROW(A166)<=statistics!$D$55)=TRUE,AH166-AG166+AA165-INDEX(AA:AA,statistics!$C$55),\"\")","v":""},null,null,0,0,0,"",{"$f":"IF(statistics!$D$3<>0,IF(AJ166=statistics!$D$3,AG166,\"\"),IF(B166<>\"\",AG166,\"\"))","v":""},{"$f":"IF(statistics!$D$3<>0,IF(AJ166=statistics!$D$3,IF(AH166=0,\"\",AH166),\"\"),IF(AH166<>0,AH166,\"\"))","v":""},{"$f":"IF(statistics!$D$3<>0,IF(AJ166=statistics!$D$3,IF(A166=0,\"\",1),\"\"),IF(A166=0,\"\",1))","v":""},"","",null,"",{"$nulls":6},0,null,null,null,"",null,null,"",null,0,null,{"$error":"#NUM!"},{"$error":"#NUM!"},165]
[{"$nulls":4},"","","","","",null,null,"",{"$nulls":6},166,"",{"$f":"IF(A168=0,IF(B168=\"\",IF(B167=0,\"\",SUM($AG$1:AG167)-SUM($U$1:U166)),\"\"),SUM($AG$1:AG167)-SUM($U$1:U166))","v":""},{"$nulls":5},0,{"$f":"IF(AJ167=statistics!$D$3,AB166+AH167-AG167,)","v":0},{"$f":"IF(AND(ROW(AC167)>=statistics!$C$55,ROW(AC167)<=statistics!$D$55),AC166+AH167-AG167,)","v":0},{"$f":"IF(AND(statistics!$C$55<=ROW(A167),ROW(A167)<=statistics!$D$55)=TRUE,AH167-AG167+AA166-INDEX(AA:AA,statistics!$C$55),\"\")","v":""},null,null,0,0,0,"",{"$f":"IF(statistics!$D$3<>0,IF(AJ167=statistics!$D$3,AG167,\"\"),IF(B167<>\"\",AG167,\"\"))","v":""},{"$f":"IF(statistics!$D$3<>0,IF(AJ167=statistics!$D$3,IF(AH167=0,\"\",AH167),\"\"),IF(AH167<>0,AH167,\"\"))","v":""},{"$f":"IF(statistics!$D$3<>0,IF(AJ167=statistics!$D$3,IF(A167=0,\"\",1),\"\"),IF(A167=0,\"\",1))","v":""},"","",null,"",{"$nulls":6},0,null,null,null,"",null,null,"",null,0,null,{"$error":"#NUM!"},{"$error":"#NUM!"},166]
[{"$nulls":4},"","","","","",null,null,"",{"$nulls":6},167,"",{"$f":"IF(A169=0,IF(B169=\"\",IF(B168=0,\"\",SUM($AG$1:AG168)-SUM($U$1:U167)),\"\"),SUM($AG$1:AG168)-SUM($U$1:U167))","v":""},{"$nulls":5},0,{"$f":"IF(AJ168=statistics!$D$3,AB167+AH168-AG168,)","v":0},{"$f":"IF(AND(ROW(AC168)>=statistics!$C$55,ROW(AC168)<=statistics!$D$55),AC167+AH168-AG168,)","v":0},{"$f":"IF(AND(statistics!$C$55<=ROW(A168),ROW(A168)<=statistics!$D$55)=TRUE,AH168-AG168+AA167-INDEX(AA:AA,statistics!$C$55),\"\")","v":""},null,null,0,0,0,"",{"$f":"IF(statistics!$D$3<>0,IF(AJ168=statistics!$D$3,AG168,\"\"),IF(B168<>\"\",AG168,\"\"))","v":""},{"$f":"IF(statistics!$D$3<>0,IF(AJ168=statistics!$D$3,IF(AH168=0,\"\",AH168),\"\"),IF(AH168<>0,AH168,\"\"))","v":""},{"$f":"IF(statistics!$D$3<>0,IF(AJ168=statistics!$D$3,IF(A168=0,\"\",1),\"\"),IF(A168=0,\"\",1))","v":""},"","",null,"",{"$nulls":6},0,null,null,null,"",null,null,"",null,0,null,{"$error":"#NUM!"},{"$error":"#NUM!"},167]
[{"$nulls":4},"","","","","",null,null,"",{"$nulls":6},168,"",{"$f":"IF(A170=0,IF(B170=\"\",IF(B169=0,\"\",SUM($AG$1:AG169)-SUM($U$1:U168)),\"\"),SUM($AG$1:AG169)-SUM($U$1:U168))","v":""},{"$nulls":5},0,{"$f":"IF(AJ169=statistics!$D$3,AB168+AH169-AG169,)","v":0},{"$f":"IF(AND(ROW(AC169)>=statistics!$C$55,ROW(AC169)<=statistics!$D$55),AC168+AH169-AG169,)","v":0},{"$f":"IF(AND(statistics!$C$55<=ROW(A169),ROW(A169)<=statistics!$D$55)=TRUE,AH169-AG169+AA168-INDEX(AA:AA,statistics!$C$55),\"\")","v":""},null,null,0,0,0,"",{"$f":"IF(statistics!$D$3<>0,IF(AJ169=statistics!$D$3,AG169,\"\"),IF(B169<>\"\",AG169,\"\"))","v":""},{"$f":"IF(statistics!$D$3<>0,IF(AJ169=statistics!$D$3,IF(AH169=0,\"\",AH169),\"\"),IF(AH169<>0,AH169,\"\"))","v":""},{"$f":"IF(statistics!$D$3<>0,IF(AJ169=statistics!$D$3,IF(A169=0,\"\",1),\"\"),IF(A169=0,\"\",1))","v":""},"","",null,"",{"$nulls":6},0,null,null,null,"",null,null,"",null,0,null,{"$error":"#NUM!"},{"$error":"#NUM!"},168]
[{"$nulls":4},"","","","","",null,null,"",{"$nulls":6},169,"",{"$f":"IF(A171=0,IF(B171=\"\",IF(B170=0,\"\",SUM($AG$1:AG170)-SUM($U$1:U169)),\"\"),SUM($AG$1:AG170)-SUM($U$1:U169))","v":""},{"$nulls":5},0,{"$f":"IF(AJ170=statistics!$D$3,AB169+AH170-AG170,)","v":0},{"$f":"IF(AND(ROW(AC170)>=statistics!$C$55,ROW(AC170)<=statistics!$D$55),AC169+AH170-AG170,)","v":0},{"$f":"IF(AND(statistics!$C$55<=ROW(A170),ROW(A170)<=statistics!$D$55)=TRUE,AH170-AG170+AA169-INDEX(AA:AA,statistics!$C$55),\"\")","v":""},null,null,0,0,0,"",{"$f":"IF(statistics!$D$3<>0,IF(AJ170=statistics!$D$3,AG170,\"\"),IF(B170<>\"\",AG170,\"\"))","v":""},{"$f":"IF(statistics!$D$3<>0,IF(AJ170=statistics!$D$3,IF(AH170=0,\"\",AH170),\"\"),IF(AH170<>0,AH170,\"\"))","v":""},{"$f":"IF(statistics!$D$3<>0,IF(AJ170=statistics!$D$3,IF(A170=0,\"\",1),\"\"),IF(A170=0,\"\",1))","v":""},"","",null,"",{"$nulls":6},0,null,null,null,"",null,null,"",null,0,null,{"$error":"#NUM!"},{"$error":"#NUM!"},169]
[{"$nulls":4},"","","","","",null,null,"",{"$nulls":6},170,"",{"$f":"IF(A172=0,IF(B172=\"\",IF(B171=0,\"\",SUM($AG$1:AG171)-SUM($U$1:U170)),\"\"),SUM($AG$1:AG171)-SUM($U$1:U170))","v":""},{"$nulls":5},0,{"$f":"IF(AJ171=statistics!$D$3,AB170+AH171-AG171,)","v":0},{"$f":"IF(AND(ROW(AC171)>=statistics!$C$55,ROW(AC171)<=statistics!$D$55),AC170+AH171-AG171,)","v":0},{"$f":"IF(AND(statistics!$C$55<=ROW(A171),ROW(A171)<=statistics!$D$55)=TRUE,AH171-AG171+AA170-INDEX(AA:AA,statistics!$C$55),\"\")","v":""},null,null,0,0,0,"",{"$f":"IF(statistics!$D$3<>0,IF(AJ171=statistics!$D$3,AG171,\"\"),IF(B171<>\"\",AG171,\"\"))","v":""},{"$f":"IF(statistics!$D$3<>0,IF(AJ171=statistics!$D$3,IF(AH171=0,\"\",AH171),\"\"),IF(AH171<>0,AH171,\"\"))","v":""},{"$f":"IF(statistics!$D$3<>0,IF(AJ171=statistics!$D$3,IF(A171=0,\"\",1),\"\"),IF(A171=0,\"\",1))","v":""},"","",null,"",{"$nulls":6},0,null,null,null,"",null,null,"",null,0,null,{"$error":"#NUM!"},{"$error":"#NUM!"},170]
[{"$nulls":4},"","","","","",null,null,"",{"$nulls":6},171,"",{"$f":"IF(A173=0,IF(B173=\"\",IF(B172=0,\"\",SUM($AG$1:AG172)-SUM($U$1:U171)),\"\"),SUM($AG$1:AG172)-SUM($U$1:U171))","v":""},{"$nulls":5},0,{"$f":"IF(AJ172=statistics!$D$3,AB171+AH172-AG172,)","v":0},{"$f":"IF(AND(ROW(AC172)>=statistics!$C$55,ROW(AC172)<=statistics!$D$55),AC171+AH172-AG172,)","v":0},{"$f":"IF(AND(statistics!$C$55<=ROW(A172),ROW(A172)<=statistics!$D$55)=TRUE,AH172-AG172+AA171-INDEX(AA:AA,statistics!$C$55),\"\")","v":""},null,null,0,0,0,"",{"$f":"IF(statistics!$D$3<>0,IF(AJ172=statistics!$D$3,AG172,\"\"),IF(B172<>\"\",AG172,\"\"))","v":""},{"$f":"IF(statistics!$D$3<>0,IF(AJ172=statistics!$D$3,IF(AH172=0,\"\",AH172),\"\"),IF(AH172<>0,AH172,\"\"))","v":""},{"$f":"IF(statistics!$D$3<>0,IF(AJ172=statistics!$D$3,IF(A172=0,\"\",1),\"\"),IF(A172=0,\"\",1))","v":""},"","",null,"",{"$nulls":6},0,null,null,null,"",null,null,"",null,0,null,{"$error":"#NUM!"},{"$error":"#NUM!"},171]
[{"$nulls":4},"","","","","",null,null,"",{"$nulls":6},172,"",{"$f":"IF(A174=0,IF(B174=\"\",IF(B173=0,\"\",SUM($AG$1:AG173)-SUM($U$1:U172)),\"\"),SUM($AG$1:AG173)-SUM($U$1:U172))","v":""},{"$nulls":5},0,{"$f":"IF(AJ173=statistics!$D$3,AB172+AH173-AG173,)","v":0},{"$f":"IF(AND(ROW(AC173)>=statistics!$C$55,ROW(AC173)<=statistics!$D$55),AC172+AH173-AG173,)","v":0},{"$f":"IF(AND(statistics!$C$55<=ROW(A173),ROW(A173)<=statistics!$D$55)=TRUE,AH173-AG173+AA172-INDEX(AA:AA,statistics!$C$55),\"\")","v":""},null,null,0,0,0,"",{"$f":"IF(statistics!$D$3<>0,IF(AJ173=statistics!$D$3,AG173,\"\"),IF(B173<>\"\",AG173,\"\"))","v":""},{"$f":"IF(statistics!$D$3<>0,IF(AJ173=statistics!$D$3,IF(AH173=0,\"\",AH173),\"\"),IF(AH173<>0,AH173,\"\"))","v":""},{"$f":"IF(statistics!$D$3<>0,IF(AJ173=statistics!$D$3,IF(A173=0,\"\",1),\"\"),IF(A173=0,\"\",1))","v":""},"","",null,"",{"$nulls":6},0,null,null,null,"",null,null,"",null,0,null,{"$error":"#NUM!"},{"$error":"#NUM!"},172]
[{"$nulls":4},"","","","","",null,null,"",{"$nulls":6},173,"",{"$f":"IF(A175=0,IF(B175=\"\",IF(B174=0,\"\",SUM($AG$1:AG174)-SUM($U$1:U173)),\"\"),SUM($AG$1:AG174)-SUM($U$1:U173))","v":""},{"$nulls":5},0,{"$f":"IF(AJ174=statistics!$D$3,AB173+AH174-AG174,)","v":0},{"$f":"IF(AND(ROW(AC174)>=statistics!$C$55,ROW(AC174)<=statistics!$D$55),AC173+AH174-AG174,)","v":0},{"$f":"IF(AND(statistics!$C$55<=ROW(A174),ROW(A174)<=statistics!$D$55)=TRUE,AH174-AG174+AA173-INDEX(AA:AA,statistics!$C$55),\"\")","v":""},null,null,0,0,0,"",{"$f":"IF(statistics!$D$3<>0,IF(AJ174=statistics!$D$3,AG174,\"\"),IF(B174<>\"\",AG174,\"\"))","v":""},{"$f":"IF(statistics!$D$3<>0,IF(AJ174=statistics!$D$3,IF(AH174=0,\"\",AH174),\"\"),IF(AH174<>0,AH174,\"\"))","v":""},{"$f":"IF(statistics!$D$3<>0,IF(AJ174=statistics!$D$3,IF(A174=0,\"\",1),\"\"),IF(A174=0,\"\",1))","v":""},"","",null,"",{"$nulls":6},0,null,null,null,"",null,null,"",null,0,null,{"$error":"#NUM!"},{"$error":"#NUM!"},173]
[{"$nulls":4},"","","","","",null,null,"",{"$nulls":6},174,"",{"$f":"IF(A176=0,IF(B176=\"\",IF(B175=0,\"\",SUM($AG$1:AG175)-SUM($U$1:U174)),\"\"),SUM($AG$1:AG175)-SUM($U$1:U174))","v":""},{"$nulls":5},0,{"$f":"IF(AJ175=statistics!$D$3,AB174+AH175-AG175,)","v":0},{"$f":"IF(AND(ROW(AC175)>=statistics!$C$55,ROW(AC175)<=statistics!$D$55),AC174+AH175-AG175,)","v":0},{"$f":"IF(AND(statistics!$C$55<=ROW(A175),ROW(A175)<=statistics!$D$55)=TRUE,AH175-AG175+AA174-INDEX(AA:AA,statistics!$C$55),\"\")","v":""},null,null,0,0,0,"",{"$f":"IF(statistics!$D$3<>0,IF(AJ175=statistics!$D$3,AG175,\"\"),IF(B175<>\"\",AG175,\"\"))","v":""},{"$f":"IF(statistics!$D$3<>0,IF(AJ175=statistics!$D$3,IF(AH175=0,\"\",AH175),\"\"),IF(AH175<>0,AH175,\"\"))","v":""},{"$f":"IF(statistics!$D$3<>0,IF(AJ175=statistics!$D$3,IF(A175=0,\"\",1),\"\"),IF(A175=0,\"\",1))","v":""},"","",null,"",{"$nulls":6},0,null,null,null,"",null,null,"",null,0,null,{"$error":"#NUM!"},{"$error":"#NUM!"},174]
[{"$nulls":4},"","","","","",null,null,"",{"$nulls":6},175,"",{"$f":"IF(A177=0,IF(B177=\"\",IF(B176=0,\"\",SUM($AG$1:AG176)-SUM($U$1:U175)),\"\"),SUM($AG$1:AG176)-SUM($U$1:U175))","v":""},{"$nulls":5},0,{"$f":"IF(AJ176=statistics!$D$3,AB175+AH176-AG176,)","v":0},{"$f":"IF(AND(ROW(AC176)>=statistics!$C$55,ROW(AC176)<=statistics!$D$55),AC175+AH176-AG176,)","v":0},{"$f":"IF(AND(statistics!$C$55<=ROW(A176),ROW(A176)<=statistics!$D$55)=TRUE,AH176-AG176+AA175-INDEX(AA:AA,statistics!$C$55),\"\")","v":""},null,null,0,0,0,"",{"$f":"IF(statistics!$D$3<>0,IF(AJ176=statistics!$D$3,AG176,\"\"),IF(B176<>\"\",AG176,\"\"))","v":""},{"$f":"IF(statistics!$D$3<>0,IF(AJ176=statistics!$D$3,IF(AH176=0,\"\",AH176),\"\"),IF(AH176<>0,AH176,\"\"))","v":""},{"$f":"IF(statistics!$D$3<>0,IF(AJ176=statistics!$D$3,IF(A176=0,\"\",1),\"\"),IF(A176=0,\"\",1))","v":""},"","",null,"",{"$nulls":6},0,null,null,null,"",null,null,"",null,0,null,{"$error":"#NUM!"},{"$error":"#NUM!"},175]
[{"$nulls":4},"","","","","",null,null,"",{"$nulls":6},176,"",{"$f":"IF(A178=0,IF(B178=\"\",IF(B177=0,\"\",SUM($AG$1:AG177)-SUM($U$1:U176)),\"\"),SUM($AG$1:AG177)-SUM($U$1:U176))","v":""},{"$nulls":5},0,{"$f":"IF(AJ177=statistics!$D$3,AB176+AH177-AG177,)","v":0},{"$f":"IF(AND(ROW(AC177)>=statistics!$C$55,ROW(AC177)<=statistics!$D$55),AC176+AH177-AG177,)","v":0},{"$f":"IF(AND(statistics!$C$55<=ROW(A177),ROW(A177)<=statistics!$D$55)=TRUE,AH177-AG177+AA176-INDEX(AA:AA,statistics!$C$55),\"\")","v":""},null,null,0,0,0,"",{"$f":"IF(statistics!$D$3<>0,IF(AJ177=statistics!$D$3,AG177,\"\"),IF(B177<>\"\",AG177,\"\"))","v":""},{"$f":"IF(statistics!$D$3<>0,IF(AJ177=statistics!$D$3,IF(AH177=0,\"\",AH177),\"\"),IF(AH177<>0,AH177,\"\"))","v":""},{"$f":"IF(statistics!$D$3<>0,IF(AJ177=statistics!$D$3,IF(A177=0,\"\",1),\"\"),IF(A177=0,\"\",1))","v":""},"","",null,"",{"$nulls":6},0,null,null,null,"",null,null,"",null,0,null,{"$error":"#NUM!"},{"$error":"#NUM!"},176]
[{"$nulls":4},"","","","","",null,null,"",{"$nulls":6},177,"",{"$f":"IF(A179=0,IF(B179=\"\",IF(B178=0,\"\",SUM($AG$1:AG178)-SUM($U$1:U177)),\"\"),SUM($AG$1:AG178)-SUM($U$1:U177))","v":""},{"$nulls":5},0,{"$f":"IF(AJ178=statistics!$D$3,AB177+AH178-AG178,)","v":0},{"$f":"IF(AND(ROW(AC178)>=statistics!$C$55,ROW(AC178)<=statistics!$D$55),AC177+AH178-AG178,)","v":0},{"$f":"IF(AND(statistics!$C$55<=ROW(A178),ROW(A178)<=statistics!$D$55)=TRUE,AH178-AG178+AA177-INDEX(AA:AA,statistics!$C$55),\"\")","v":""},null,null,0,0,0,"",{"$f":"IF(statistics!$D$3<>0,IF(AJ178=statistics!$D$3,AG178,\"\"),IF(B178<>\"\",AG178,\"\"))","v":""},{"$f":"IF(statistics!$D$3<>0,IF(AJ178=statistics!$D$3,IF(AH178=0,\"\",AH178),\"\"),IF(AH178<>0,AH178,\"\"))","v":""},{"$f":"IF(statistics!$D$3<>0,IF(AJ178=statistics!$D$3,IF(A178=0,\"\",1),\"\"),IF(A178=0,\"\",1))","v":""},"","",null,"",{"$nulls":6},0,null,null,null,"",null,null,"",null,0,null,{"$error":"#NUM!"},{"$error":"#NUM!"},177]
[{"$nulls":4},"","","","","",null,null,"",{"$nulls":6},178,"",{"$f":"IF(A180=0,IF(B180=\"\",IF(B179=0,\"\",SUM($AG$1:AG179)-SUM($U$1:U178)),\"\"),SUM($AG$1:AG179)-SUM($U$1:U178))","v":""},{"$nulls":5},0,{"$f":"IF(AJ179=statistics!$D$3,AB178+AH179-AG179,)","v":0},{"$f":"IF(AND(ROW(AC179)>=statistics!$C$55,ROW(AC179)<=statistics!$D$55),AC178+AH179-AG179,)","v":0},{"$f":"IF(AND(statistics!$C$55<=ROW(A179),ROW(A179)<=statistics!$D$55)=TRUE,AH179-AG179+AA178-INDEX(AA:AA,statistics!$C$55),\"\")","v":""},null,null,0,0,0,"",{"$f":"IF(statistics!$D$3<>0,IF(AJ179=statistics!$D$3,AG179,\"\"),IF(B179<>\"\",AG179,\"\"))","v":""},{"$f":"IF(statistics!$D$3<>0,IF(AJ179=statistics!$D$3,IF(AH179=0,\"\",AH179),\"\"),IF(AH179<>0,AH179,\"\"))","v":""},{"$f":"IF(statistics!$D$3<>0,IF(AJ179=statistics!$D$3,IF(A179=0,\"\",1),\"\"),IF(A179=0,\"\",1))","v":""},"","",null,"",{"$nulls":6},0,null,null,null,"",null,null,"",null,0,null,{"$error":"#NUM!"},{"$error":"#NUM!"},178]
[{"$nulls":4},"","","","","",null,null,"",{"$nulls":6},179,"",{"$f":"IF(A181=0,IF(B181=\"\",IF(B180=0,\"\",SUM($AG$1:AG180)-SUM($U$1:U179)),\"\"),SUM($AG$1:AG180)-SUM($U$1:U179))","v":""},{"$nulls":5},0,{"$f":"IF(AJ180=statistics!$D$3,AB179+AH180-AG180,)","v":0},{"$f":"IF(AND(ROW(AC180)>=statistics!$C$55,ROW(AC180)<=statistics!$D$55),AC179+AH180-AG180,)","v":0},{"$f":"IF(AND(statistics!$C$55<=ROW(A180),ROW(A180)<=statistics!$D$55)=TRUE,AH180-AG180+AA179-INDEX(AA:AA,statistics!$C$55),\"\")","v":""},null,null,0,0,0,"",{"$f":"IF(statistics!$D$3<>0,IF(AJ180=statistics!$D$3,AG180,\"\"),IF(B180<>\"\",AG180,\"\"))","v":""},{"$f":"IF(statistics!$D$3<>0,IF(AJ180=statistics!$D$3,IF(AH180=0,\"\",AH180),\"\"),IF(AH180<>0,AH180,\"\"))","v":""},{"$f":"IF(statistics!$D$3<>0,IF(AJ180=statistics!$D$3,IF(A180=0,\"\",1),\"\"),IF(A180=0,\"\",1))","v":""},"","",null,"",{"$nulls":6},0,null,null,null,"",null,null,"",null,0,null,{"$error":"#NUM!"},{"$error":"#NUM!"},179]
[{"$nulls":4},"","","","","",null,null,"",{"$nulls":6},180,"",{"$f":"IF(A182=0,IF(B182=\"\",IF(B181=0,\"\",SUM($AG$1:AG181)-SUM($U$1:U180)),\"\"),SUM($AG$1:AG181)-SUM($U$1:U180))","v":""},{"$nulls":5},0,{"$f":"IF(AJ181=statistics!$D$3,AB180+AH181-AG181,)","v":0},{"$f":"IF(AND(ROW(AC181)>=statistics!$C$55,ROW(AC181)<=statistics!$D$55),AC180+AH181-AG181,)","v":0},{"$f":"IF(AND(statistics!$C$55<=ROW(A181),ROW(A181)<=statistics!$D$55)=TRUE,AH181-AG181+AA180-INDEX(AA:AA,statistics!$C$55),\"\")","v":""},null,null,0,0,0,"",{"$f":"IF(statistics!$D$3<>0,IF(AJ181=statistics!$D$3,AG181,\"\"),IF(B181<>\"\",AG181,\"\"))","v":""},{"$f":"IF(statistics!$D$3<>0,IF(AJ181=statistics!$D$3,IF(AH181=0,\"\",AH181),\"\"),IF(AH181<>0,AH181,\"\"))","v":""},{"$f":"IF(statistics!$D$3<>0,IF(AJ181=statistics!$D$3,IF(A181=0,\"\",1),\"\"),IF(A181=0,\"\",1))","v":""},"","",null,"",{"$nulls":6},0,null,null,null,"",null,null,"",null,0,null,{"$error":"#NUM!"},{"$error":"#NUM!"},180]
[{"$nulls":4},"","","","","",null,null,"",{"$nulls":6},181,"",{"$f":"IF(A183=0,IF(B183=\"\",IF(B182=0,\"\",SUM($AG$1:AG182)-SUM($U$1:U181)),\"\"),SUM($AG$1:AG182)-SUM($U$1:U181))","v":""},{"$nulls":5},0,{"$f":"IF(AJ182=statistics!$D$3,AB181+AH182-AG182,)","v":0},{"$f":"IF(AND(ROW(AC182)>=statistics!$C$55,ROW(AC182)<=statistics!$D$55),AC181+AH182-AG182,)","v":0},{"$f":"IF(AND(statistics!$C$55<=ROW(A182),ROW(A182)<=statistics!$D$55)=TRUE,AH182-AG182+AA181-INDEX(AA:AA,statistics!$C$55),\"\")","v":""},null,null,0,0,0,"",{"$f":"IF(statistics!$D$3<>0,IF(AJ182=statistics!$D$3,AG182,\"\"),IF(B182<>\"\",AG182,\"\"))","v":""},{"$f":"IF(statistics!$D$3<>0,IF(AJ182=statistics!$D$3,IF(AH182=0,\"\",AH182),\"\"),IF(AH182<>0,AH182,\"\"))","v":""},{"$f":"IF(statistics!$D$3<>0,IF(AJ182=statistics!$D$3,IF(A182=0,\"\",1),\"\"),IF(A182=0,\"\",1))","v":""},"","",null,"",{"$nulls":6},0,null,null,null,"",null,null,"",null,0,null,{"$error":"#NUM!"},{"$error":"#NUM!"},181]
[{"$nulls":4},"","","","","",null,null,"",{"$nulls":6},182,"",{"$f":"IF(A184=0,IF(B184=\"\",IF(B183=0,\"\",SUM($AG$1:AG183)-SUM($U$1:U182)),\"\"),SUM($AG$1:AG183)-SUM($U$1:U182))","v":""},{"$nulls":5},0,{"$f":"IF(AJ183=statistics!$D$3,AB182+AH183-AG183,)","v":0},{"$f":"IF(AND(ROW(AC183)>=statistics!$C$55,ROW(AC183)<=statistics!$D$55),AC182+AH183-AG183,)","v":0},{"$f":"IF(AND(statistics!$C$55<=ROW(A183),ROW(A183)<=statistics!$D$55)=TRUE,AH183-AG183+AA182-INDEX(AA:AA,statistics!$C$55),\"\")","v":""},null,null,0,0,0,"",{"$f":"IF(statistics!$D$3<>0,IF(AJ183=statistics!$D$3,AG183,\"\"),IF(B183<>\"\",AG183,\"\"))","v":""},{"$f":"IF(statistics!$D$3<>0,IF(AJ183=statistics!$D$3,IF(AH183=0,\"\",AH183),\"\"),IF(AH183<>0,AH183,\"\"))","v":""},{"$f":"IF(statistics!$D$3<>0,IF(AJ183=statistics!$D$3,IF(A183=0,\"\",1),\"\"),IF(A183=0,\"\",1))","v":""},"","",null,"",{"$nulls":6},0,null,null,null,"",null,null,"",null,0,null,{"$error":"#NUM!"},{"$error":"#NUM!"},182]
[{"$nulls":4},"","","","","",null,null,"",{"$nulls":6},183,"",{"$f":"IF(A185=0,IF(B185=\"\",IF(B184=0,\"\",SUM($AG$1:AG184)-SUM($U$1:U183)),\"\"),SUM($AG$1:AG184)-SUM($U$1:U183))","v":""},{"$nulls":5},0,{"$f":"IF(AJ184=statistics!$D$3,AB183+AH184-AG184,)","v":0},{"$f":"IF(AND(ROW(AC184)>=statistics!$C$55,ROW(AC184)<=statistics!$D$55),AC183+AH184-AG184,)","v":0},{"$f":"IF(AND(statistics!$C$55<=ROW(A184),ROW(A184)<=statistics!$D$55)=TRUE,AH184-AG184+AA183-INDEX(AA:AA,statistics!$C$55),\"\")","v":""},null,null,0,0,0,"",{"$f":"IF(statistics!$D$3<>0,IF(AJ184=statistics!$D$3,AG184,\"\"),IF(B184<>\"\",AG184,\"\"))","v":""},{"$f":"IF(statistics!$D$3<>0,IF(AJ184=statistics!$D$3,IF(AH184=0,\"\",AH184),\"\"),IF(AH184<>0,AH184,\"\"))","v":""},{"$f":"IF(statistics!$D$3<>0,IF(AJ184=statistics!$D$3,IF(A184=0,\"\",1),\"\"),IF(A184=0,\"\",1))","v":""},"","",null,"",{"$nulls":6},0,null,null,null,"",null,null,"",null,0,null,{"$error":"#NUM!"},{"$error":"#NUM!"},183]
[{"$nulls":4},"","","","","",null,null,"",{"$nulls":6},184,"",{"$f":"IF(A186=0,IF(B186=\"\",IF(B185=0,\"\",SUM($AG$1:AG185)-SUM($U$1:U184)),\"\"),SUM($AG$1:AG185)-SUM($U$1:U184))","v":""},{"$nulls":5},0,{"$f":"IF(AJ185=statistics!$D$3,AB184+AH185-AG185,)","v":0},{"$f":"IF(AND(ROW(AC185)>=statistics!$C$55,ROW(AC185)<=statistics!$D$55),AC184+AH185-AG185,)","v":0},{"$f":"IF(AND(statistics!$C$55<=ROW(A185),ROW(A185)<=statistics!$D$55)=TRUE,AH185-AG185+AA184-INDEX(AA:AA,statistics!$C$55),\"\")","v":""},null,null,0,0,0,"",{"$f":"IF(statistics!$D$3<>0,IF(AJ185=statistics!$D$3,AG185,\"\"),IF(B185<>\"\",AG185,\"\"))","v":""},{"$f":"IF(statistics!$D$3<>0,IF(AJ185=statistics!$D$3,IF(AH185=0,\"\",AH185),\"\"),IF(AH185<>0,AH185,\"\"))","v":""},{"$f":"IF(statistics!$D$3<>0,IF(AJ185=statistics!$D$3,IF(A185=0,\"\",1),\"\"),IF(A185=0,\"\",1))","v":""},"","",null,"",{"$nulls":6},0,null,null,null,"",null,null,"",null,0,null,{"$error":"#NUM!"},{"$error":"#NUM!"},184]
[{"$nulls":4},"","","","","",null,null,"",{"$nulls":6},185,"",{"$f":"IF(A187=0,IF(B187=\"\",IF(B186=0,\"\",SUM($AG$1:AG186)-SUM($U$1:U185)),\"\"),SUM($AG$1:AG186)-SUM($U$1:U185))","v":""},{"$nulls":5},0,{"$f":"IF(AJ186=statistics!$D$3,AB185+AH186-AG186,)","v":0},{"$f":"IF(AND(ROW(AC186)>=statistics!$C$55,ROW(AC186)<=statistics!$D$55),AC185+AH186-AG186,)","v":0},{"$f":"IF(AND(statistics!$C$55<=ROW(A186),ROW(A186)<=statistics!$D$55)=TRUE,AH186-AG186+AA185-INDEX(AA:AA,statistics!$C$55),\"\")","v":""},null,null,0,0,0,"",{"$f":"IF(statistics!$D$3<>0,IF(AJ186=statistics!$D$3,AG186,\"\"),IF(B186<>\"\",AG186,\"\"))","v":""},{"$f":"IF(statistics!$D$3<>0,IF(AJ186=statistics!$D$3,IF(AH186=0,\"\",AH186),\"\"),IF(AH186<>0,AH186,\"\"))","v":""},{"$f":"IF(statistics!$D$3<>0,IF(AJ186=statistics!$D$3,IF(A186=0,\"\",1),\"\"),IF(A186=0,\"\",1))","v":""},"","",null,"",{"$nulls":6},0,null,null,null,"",null,null,"",null,0,null,{"$error":"#NUM!"},{"$error":"#NUM!"},185]
[{"$nulls":4},"","","","","",null,null,"",{"$nulls":6},186,"",{"$f":"IF(A188=0,IF(B188=\"\",IF(B187=0,\"\",SUM($AG$1:AG187)-SUM($U$1:U186)),\"\"),SUM($AG$1:AG187)-SUM($U$1:U186))","v":""},{"$nulls":5},0,{"$f":"IF(AJ187=statistics!$D$3,AB186+AH187-AG187,)","v":0},{"$f":"IF(AND(ROW(AC187)>=statistics!$C$55,ROW(AC187)<=statistics!$D$55),AC186+AH187-AG187,)","v":0},{"$f":"IF(AND(statistics!$C$55<=ROW(A187),ROW(A187)<=statistics!$D$55)=TRUE,AH187-AG187+AA186-INDEX(AA:AA,statistics!$C$55),\"\")","v":""},null,null,0,0,0,"",{"$f":"IF(statistics!$D$3<>0,IF(AJ187=statistics!$D$3,AG187,\"\"),IF(B187<>\"\",AG187,\"\"))","v":""},{"$f":"IF(statistics!$D$3<>0,IF(AJ187=statistics!$D$3,IF(AH187=0,\"\",AH187),\"\"),IF(AH187<>0,AH187,\"\"))","v":""},{"$f":"IF(statistics!$D$3<>0,IF(AJ187=statistics!$D$3,IF(A187=0,\"\",1),\"\"),IF(A187=0,\"\",1))","v":""},"","",null,"",{"$nulls":6},0,null,null,null,"",null,null,"",null,0,null,{"$error":"#NUM!"},{"$error":"#NUM!"},186]
[{"$nulls":4},"","","","","",null,null,"",{"$nulls":6},187,"",{"$f":"IF(A189=0,IF(B189=\"\",IF(B188=0,\"\",SUM($AG$1:AG188)-SUM($U$1:U187)),\"\"),SUM($AG$1:AG188)-SUM($U$1:U187))","v":""},{"$nulls":5},0,{"$f":"IF(AJ188=statistics!$D$3,AB187+AH188-AG188,)","v":0},{"$f":"IF(AND(ROW(AC188)>=statistics!$C$55,ROW(AC188)<=statistics!$D$55),AC187+AH188-AG188,)","v":0},{"$f":"IF(AND(statistics!$C$55<=ROW(A188),ROW(A188)<=statistics!$D$55)=TRUE,AH188-AG188+AA187-INDEX(AA:AA,statistics!$C$55),\"\")","v":""},null,null,0,0,0,"",{"$f":"IF(statistics!$D$3<>0,IF(AJ188=statistics!$D$3,AG188,\"\"),IF(B188<>\"\",AG188,\"\"))","v":""},{"$f":"IF(statistics!$D$3<>0,IF(AJ188=statistics!$D$3,IF(AH188=0,\"\",AH188),\"\"),IF(AH188<>0,AH188,\"\"))","v":""},{"$f":"IF(statistics!$D$3<>0,IF(AJ188=statistics!$D$3,IF(A188=0,\"\",1),\"\"),IF(A188=0,\"\",1))","v":""},"","",null,"",{"$nulls":6},0,null,null,null,"",null,null,"",null,0,null,{"$error":"#NUM!"},{"$error":"#NUM!"},187]
[{"$nulls":4},"","","","","",null,null,"",{"$nulls":6},188,"",{"$f":"IF(A190=0,IF(B190=\"\",IF(B189=0,\"\",SUM($AG$1:AG189)-SUM($U$1:U188)),\"\"),SUM($AG$1:AG189)-SUM($U$1:U188))","v":""},{"$nulls":5},0,{"$f":"IF(AJ189=statistics!$D$3,AB188+AH189-AG189,)","v":0},{"$f":"IF(AND(ROW(AC189)>=statistics!$C$55,ROW(AC189)<=statistics!$D$55),AC188+AH189-AG189,)","v":0},{"$f":"IF(AND(statistics!$C$55<=ROW(A189),ROW(A189)<=statistics!$D$55)=TRUE,AH189-AG189+AA188-INDEX(AA:AA,statistics!$C$55),\"\")","v":""},null,null,0,0,0,"",{"$f":"IF(statistics!$D$3<>0,IF(AJ189=statistics!$D$3,AG189,\"\"),IF(B189<>\"\",AG189,\"\"))","v":""},{"$f":"IF(statistics!$D$3<>0,IF(AJ189=statistics!$D$3,IF(AH189=0,\"\",AH189),\"\"),IF(AH189<>0,AH189,\"\"))","v":""},{"$f":"IF(statistics!$D$3<>0,IF(AJ189=statistics!$D$3,IF(A189=0,\"\",1),\"\"),IF(A189=0,\"\",1))","v":""},"","",null,"",{"$nulls":6},0,null,null,null,"",null,null,"",null,0,null,{"$error":"#NUM!"},{"$error":"#NUM!"},188]
[{"$nulls":4},"","","","","",null,null,"",{"$nulls":6},189,"",{"$f":"IF(A191=0,IF(B191=\"\",IF(B190=0,\"\",SUM($AG$1:AG190)-SUM($U$1:U189)),\"\"),SUM($AG$1:AG190)-SUM($U$1:U189))","v":""},{"$nulls":5},0,{"$f":"IF(AJ190=statistics!$D$3,AB189+AH190-AG190,)","v":0},{"$f":"IF(AND(ROW(AC190)>=statistics!$C$55,ROW(AC190)<=statistics!$D$55),AC189+AH190-AG190,)","v":0},{"$f":"IF(AND(statistics!$C$55<=ROW(A190),ROW(A190)<=statistics!$D$55)=TRUE,AH190-AG190+AA189-INDEX(AA:AA,statistics!$C$55),\"\")","v":""},null,null,0,0,0,"",{"$f":"IF(statistics!$D$3<>0,IF(AJ190=statistics!$D$3,AG190,\"\"),IF(B190<>\"\",AG190,\"\"))","v":""},{"$f":"IF(statistics!$D$3<>0,IF(AJ190=statistics!$D$3,IF(AH190=0,\"\",AH190),\"\"),IF(AH190<>0,AH190,\"\"))","v":""},{"$f":"IF(statistics!$D$3<>0,IF(AJ190=statistics!$D$3,IF(A190=0,\"\",1),\"\"),IF(A190=0,\"\",1))","v":""},"","",null,"",{"$nulls":6},0,null,null,null,"",null,null,"",null,0,null,{"$error":"#NUM!"},{"$error":"#NUM!"},189]
[{"$nulls":4},"","","","","",null,null,"",{"$nulls":6},190,"",{"$f":"IF(A192=0,IF(B192=\"\",IF(B191=0,\"\",SUM($AG$1:AG191)-SUM($U$1:U190)),\"\"),SUM($AG$1:AG191)-SUM($U$1:U190))","v":""},{"$nulls":5},0,{"$f":"IF(AJ191=statistics!$D$3,AB190+AH191-AG191,)","v":0},{"$f":"IF(AND(ROW(AC191)>=statistics!$C$55,ROW(AC191)<=statistics!$D$55),AC190+AH191-AG191,)","v":0},{"$f":"IF(AND(statistics!$C$55<=ROW(A191),ROW(A191)<=statistics!$D$55)=TRUE,AH191-AG191+AA190-INDEX(AA:AA,statistics!$C$55),\"\")","v":""},null,null,0,0,0,"",{"$f":"IF(statistics!$D$3<>0,IF(AJ191=statistics!$D$3,AG191,\"\"),IF(B191<>\"\",AG191,\"\"))","v":""},{"$f":"IF(statistics!$D$3<>0,IF(AJ191=statistics!$D$3,IF(AH191=0,\"\",AH191),\"\"),IF(AH191<>0,AH191,\"\"))","v":""},{"$f":"IF(statistics!$D$3<>0,IF(AJ191=statistics!$D$3,IF(A191=0,\"\",1),\"\"),IF(A191=0,\"\",1))","v":""},"","",null,"",{"$nulls":6},0,null,null,null,"",null,null,"",null,0,null,{"$error":"#NUM!"},{"$error":"#NUM!"},190]
[{"$nulls":4},"","","","","",null,null,"",{"$nulls":6},191,"",{"$f":"IF(A193=0,IF(B193=\"\",IF(B192=0,\"\",SUM($AG$1:AG192)-SUM($U$1:U191)),\"\"),SUM($AG$1:AG192)-SUM($U$1:U191))","v":""},{"$nulls":5},0,{"$f":"IF(AJ192=statistics!$D$3,AB191+AH192-AG192,)","v":0},{"$f":"IF(AND(ROW(AC192)>=statistics!$C$55,ROW(AC192)<=statistics!$D$55),AC191+AH192-AG192,)","v":0},{"$f":"IF(AND(statistics!$C$55<=ROW(A192),ROW(A192)<=statistics!$D$55)=TRUE,AH192-AG192+AA191-INDEX(AA:AA,statistics!$C$55),\"\")","v":""},null,null,0,0,0,"",{"$f":"IF(statistics!$D$3<>0,IF(AJ192=statistics!$D$3,AG192,\"\"),IF(B192<>\"\",AG192,\"\"))","v":""},{"$f":"IF(statistics!$D$3<>0,IF(AJ192=statistics!$D$3,IF(AH192=0,\"\",AH192),\"\"),IF(AH192<>0,AH192,\"\"))","v":""},{"$f":"IF(statistics!$D$3<>0,IF(AJ192=statistics!$D$3,IF(A192=0,\"\",1),\"\"),IF(A192=0,\"\",1))","v":""},"","",null,"",{"$nulls":6},0,null,null,null,"",null,null,"",null,0,null,{"$error":"#NUM!"},{"$error":"#NUM!"},191]
[{"$nulls":4},"","","","","",null,null,"",{"$nulls":6},192,"",{"$f":"IF(A194=0,IF(B194=\"\",IF(B193=0,\"\",SUM($AG$1:AG193)-SUM($U$1:U192)),\"\"),SUM($AG$1:AG193)-SUM($U$1:U192))","v":""},{"$nulls":5},0,{"$f":"IF(AJ193=statistics!$D$3,AB192+AH193-AG193,)","v":0},{"$f":"IF(AND(ROW(AC193)>=statistics!$C$55,ROW(AC193)<=statistics!$D$55),AC192+AH193-AG193,)","v":0},{"$f":"IF(AND(statistics!$C$55<=ROW(A193),ROW(A193)<=statistics!$D$55)=TRUE,AH193-AG193+AA192-INDEX(AA:AA,statistics!$C$55),\"\")","v":""},null,null,0,0,0,"",{"$f":"IF(statistics!$D$3<>0,IF(AJ193=statistics!$D$3,AG193,\"\"),IF(B193<>\"\",AG193,\"\"))","v":""},{"$f":"IF(statistics!$D$3<>0,IF(AJ193=statistics!$D$3,IF(AH193=0,\"\",AH193),\"\"),IF(AH193<>0,AH193,\"\"))","v":""},{"$f":"IF(statistics!$D$3<>0,IF(AJ193=statistics!$D$3,IF(A193=0,\"\",1),\"\"),IF(A193=0,\"\",1))","v":""},"","",null,"",{"$nulls":6},0,null,null,null,"",null,null,"",null,0,null,{"$error":"#NUM!"},{"$error":"#NUM!"},192]
[{"$nulls":4},"",{"$f":"IF(A194=0,\"\",IF(T194=0,\"\",E194/T194))","v":""},"",{"$f":"IF(A195=0,IF(B195=\"\",IF(B194=0,\"\",U194),\"\"),U194)","v":""},{"$f":"IF(A195=0,IF(B195=\"\",IF(B194=0,\"\",S194),\"\"),S194)","v":""},null,null,"",{"$nulls":6},{"$f":"IF(A194=0,S193+1,1)","v":193},"",{"$f":"IF(A195=0,IF(B195=\"\",IF(B194=0,\"\",SUM($AG$1:AG194)-SUM($U$1:U193)),\"\"),SUM($AG$1:AG194)-SUM($U$1:U193))","v":""},{"$nulls":5},0,{"$f":"IF(AJ194=statistics!$D$3,AB193+AH194-AG194,)","v":0},{"$f":"IF(AND(ROW(AC194)>=statistics!$C$55,ROW(AC194)<=statistics!$D$55),AC193+AH194-AG194,)","v":0},{"$f":"IF(AND(statistics!$C$55<=ROW(A194),ROW(A194)<=statistics!$D$55)=TRUE,AH194-AG194+AA193-INDEX(AA:AA,statistics!$C$55),\"\")","v":""},null,null,0,0,0,"",{"$f":"IF(statistics!$D$3<>0,IF(AJ194=statistics!$D$3,AG194,\"\"),IF(B194<>\"\",AG194,\"\"))","v":""},{"$f":"IF(statistics!$D$3<>0,IF(AJ194=statistics!$D$3,IF(AH194=0,\"\",AH194),\"\"),IF(AH194<>0,AH194,\"\"))","v":""},{"$f":"IF(statistics!$D$3<>0,IF(AJ194=statistics!$D$3,IF(A194=0,\"\",1),\"\"),IF(A194=0,\"\",1))","v":""},"","",null,"",{"$nulls":6},0,null,null,null,"",null,null,"",null,0,null,{"$error":"#NUM!"},{"$error":"#NUM!"},193]
[{"$nulls":4},{"$f":"IF(A195=0,\"\",IF(B195<>\"\",SUM(AH195:AH10193)-SUM(AG195:AG10193)-SUM(E196:E10193),\"\"))","v":""},"","","","",null,null,{"$f":"IF(A195=0,\"\",SUM(AI195:AI10193)-SUM(L196:L10193))","v":""},{"$nulls":6},194,{"$f":"IF(A195=0,\"\",SUM(AG195:AG10193)-SUM(T196:T10193))","v":""},{"$f":"IF(A196=0,IF(B196=\"\",IF(B195=0,\"\",SUM($AG$1:AG195)-SUM($U$1:U194)),\"\"),SUM($AG$1:AG195)-SUM($U$1:U194))","v":""},{"$nulls":5},{"$f":"AA194+AH195-AG195","v":0},{"$f":"IF(AJ195=statistics!$D$3,AB194+AH195-AG195,)","v":0},{"$f":"IF(AND(ROW(AC195)>=statistics!$C$55,ROW(AC195)<=statistics!$D$55),AC194+AH195-AG195,)","v":0},{"$f":"IF(AND(statistics!$C$55<=ROW(A195),ROW(A195)<=statistics!$D$55)=TRUE,AH195-AG195+AA194-INDEX(AA:AA,statistics!$C$55),\"\")","v":""},null,null,0,0,{"$f":"IF(J195=0,,D195*J195)","v":0},"",{"$f":"IF(statistics!$D$3<>0,IF(AJ195=statistics!$D$3,AG195,\"\"),IF(B195<>\"\",AG195,\"\"))","v":""},{"$f":"IF(statistics!$D$3<>0,IF(AJ195=statistics!$D$3,IF(AH195=0,\"\",AH195),\"\"),IF(AH195<>0,AH195,\"\"))","v":""},{"$f":"IF(statistics!$D$3<>0,IF(AJ195=statistics!$D$3,IF(A195=0,\"\",1),\"\"),IF(A195=0,\"\",1))","v":""},"","",null,{"$f":"IF(B195=0,\"\",IF(D195=0,IF(D194=0,AQ194+1,1),\"\"))","v":""},{"$nulls":6},{"$f":"J195*D195-J195*K195*(B195+C195)","v":0},null,null,null,{"$f":"IF(B195=$BA$2,ROW(),\"\")","v":""},null,null,{"$f":"IF(B195=$BA$2,INDEX(D:D,SMALL(BB:BB,CELL(\"содержимое\",BG195)))-INDEX(B:B,SMALL(BB:BB,CELL(\"содержимое\",BG195)))-INDEX(C:C,SMALL(BB:BB,CELL(\"содержимое\",BG195))),\"\")","v":""},null,{"$f":"IF($BA$2=B195,BG194+1,BG194)","v":0},null,{"$f":"INDEX(BE:BE,SMALL(BB:BB,CELL(\"содержимое\",BK195)))","v":{"$error":"#NUM!"}},{"$f":"BJ194+BI195","v":{"$error":"#NUM!"}},{"$f":"BK194+1","v":194}]
[{"$nulls":4},"","","","","",null,null,"",{"$nulls":6},195,"",{"$f":"IF(A197=0,IF(B197=\"\",IF(B196=0,\"\",SUM($AG$1:AG196)-SUM($U$1:U195)),\"\"),SUM($AG$1:AG196)-SUM($U$1:U195))","v":""},{"$nulls":5},0,{"$f":"IF(AJ196=statistics!$D$3,AB195+AH196-AG196,)","v":0},{"$f":"IF(AND(ROW(AC196)>=statistics!$C$55,ROW(AC196)<=statistics!$D$55),AC195+AH196-AG196,)","v":0},{"$f":"IF(AND(statistics!$C$55<=ROW(A196),ROW(A196)<=statistics!$D$55)=TRUE,AH196-AG196+AA195-INDEX(AA:AA,statistics!$C$55),\"\")","v":""},null,null,0,0,0,"",{"$f":"IF(statistics!$D$3<>0,IF(AJ196=statistics!$D$3,AG196,\"\"),IF(B196<>\"\",AG196,\"\"))","v":""},{"$f":"IF(statistics!$D$3<>0,IF(AJ196=statistics!$D$3,IF(AH196=0,\"\",AH196),\"\"),IF(AH196<>0,AH196,\"\"))","v":""},{"$f":"IF(statistics!$D$3<>0,IF(AJ196=statistics!$D$3,IF(A196=0,\"\",1),\"\"),IF(A196=0,\"\",1))","v":""},{"$f":"IF(AK196<>\"\",IF(AK195=0,ROW(AK196),ROW(AK196)),\"\")","v":""},{"$f":"IF(A196<>0,IF(MONTH(A196)=AJ195,\"\",MONTH(A196)),\"\")","v":""},null,"",{"$nulls":6},0,null,null,null,"",null,null,"",null,0,null,{"$error":"#NUM!"},{"$error":"#NUM!"},195]
[{"$nulls":4},"","","","","",null,null,"",{"$nulls":6},196,"",{"$f":"IF(A198=0,IF(B198=\"\",IF(B197=0,\"\",SUM($AG$1:AG197)-SUM($U$1:U196)),\"\"),SUM($AG$1:AG197)-SUM($U$1:U196))","v":""},{"$nulls":5},0,{"$f":"IF(AJ197=statistics!$D$3,AB196+AH197-AG197,)","v":0},{"$f":"IF(AND(ROW(AC197)>=statistics!$C$55,ROW(AC197)<=statistics!$D$55),AC196+AH197-AG197,)","v":0},{"$f":"IF(AND(statistics!$C$55<=ROW(A197),ROW(A197)<=statistics!$D$55)=TRUE,AH197-AG197+AA196-INDEX(AA:AA,statistics!$C$55),\"\")","v":""},null,null,{"$f":"IF(J197=0,B197+C197,(B197+C197)-(B197+C197)*J197*K197)","v":0},{"$f":"IF(J197=0,D197,D197*(1-J197))","v":0},0,"",{"$f":"IF(statistics!$D$3<>0,IF(AJ197=statistics!$D$3,AG197,\"\"),IF(B197<>\"\",AG197,\"\"))","v":""},{"$f":"IF(statistics!$D$3<>0,IF(AJ197=statistics!$D$3,IF(AH197=0,\"\",AH197),\"\"),IF(AH197<>0,AH197,\"\"))","v":""},{"$f":"IF(statistics!$D$3<>0,IF(AJ197=statistics!$D$3,IF(A197=0,\"\",1),\"\"),IF(A197=0,\"\",1))","v":""},"","",null,"",{"$nulls":6},0,null,null,null,"",null,null,"",null,0,null,{"$error":"#NUM!"},{"$error":"#NUM!"},196]
[{"$nulls":4},"","","","","",null,null,"",{"$nulls":6},197,"",{"$f":"IF(A199=0,IF(B199=\"\",IF(B198=0,\"\",SUM($AG$1:AG198)-SUM($U$1:U197)),\"\"),SUM($AG$1:AG198)-SUM($U$1:U197))","v":""},{"$nulls":5},0,{"$f":"IF(AJ198=statistics!$D$3,AB197+AH198-AG198,)","v":0},{"$f":"IF(AND(ROW(AC198)>=statistics!$C$55,ROW(AC198)<=statistics!$D$55),AC197+AH198-AG198,)","v":0},{"$f":"IF(AND(statistics!$C$55<=ROW(A198),ROW(A198)<=statistics!$D$55)=TRUE,AH198-AG198+AA197-INDEX(AA:AA,statistics!$C$55),\"\")","v":""},null,null,0,0,0,"",{"$f":"IF(statistics!$D$3<>0,IF(AJ198=statistics!$D$3,AG198,\"\"),IF(B198<>\"\",AG198,\"\"))","v":""},{"$f":"IF(statistics!$D$3<>0,IF(AJ198=statistics!$D$3,IF(AH198=0,\"\",AH198),\"\"),IF(AH198<>0,AH198,\"\"))","v":""},{"$f":"IF(statistics!$D$3<>0,IF(AJ198=statistics!$D$3,IF(A198=0,\"\",1),\"\"),IF(A198=0,\"\",1))","v":""},"","",null,"",{"$nulls":6},0,null,null,null,"",null,null,"",null,0,null,{"$error":"#NUM!"},{"$error":"#NUM!"},197]
[{"$nulls":4},"","","","","",null,null,"",{"$nulls":6},198,"",{"$f":"IF(A200=0,IF(B200=\"\",IF(B199=0,\"\",SUM($AG$1:AG199)-SUM($U$1:U198)),\"\"),SUM($AG$1:AG199)-SUM($U$1:U198))","v":""},{"$nulls":5},0,{"$f":"IF(AJ199=statistics!$D$3,AB198+AH199-AG199,)","v":0},{"$f":"IF(AND(ROW(AC199)>=statistics!$C$55,ROW(AC199)<=statistics!$D$55),AC198+AH199-AG199,)","v":0},{"$f":"IF(AND(statistics!$C$55<=ROW(A199),ROW(A199)<=statistics!$D$55)=TRUE,AH199-AG199+AA198-INDEX(AA:AA,statistics!$C$55),\"\")","v":""},null,null,0,0,0,"",{"$f":"IF(statistics!$D$3<>0,IF(AJ199=statistics!$D$3,AG199,\"\"),IF(B199<>\"\",AG199,\"\"))","v":""},{"$f":"IF(statistics!$D$3<>0,IF(AJ199=statistics!$D$3,IF(AH199=0,\"\",AH199),\"\"),IF(AH199<>0,AH199,\"\"))","v":""},{"$f":"IF(statistics!$D$3<>0,IF(AJ199=statistics!$D$3,IF(A199=0,\"\",1),\"\"),IF(A199=0,\"\",1))","v":""},"","",null,"",{"$nulls":6},0,null,null,null,"",null,null,"",null,0,null,{"$error":"#NUM!"},{"$error":"#NUM!"},198]
[{"$nulls":4},"","","","","",null,null,"",{"$nulls":6},199,"",{"$f":"IF(A201=0,IF(B201=\"\",IF(B200=0,\"\",SUM($AG$1:AG200)-SUM($U$1:U199)),\"\"),SUM($AG$1:AG200)-SUM($U$1:U199))","v":""},{"$nulls":5},0,{"$f":"IF(AJ200=statistics!$D$3,AB199+AH200-AG200,)","v":0},{"$f":"IF(AND(ROW(AC200)>=statistics!$C$55,ROW(AC200)<=statistics!$D$55),AC199+AH200-AG200,)","v":0},{"$f":"IF(AND(statistics!$C$55<=ROW(A200),ROW(A200)<=statistics!$D$55)=TRUE,AH200-AG200+AA199-INDEX(AA:AA,statistics!$C$55),\"\")","v":""},null,null,0,0,0,"",{"$f":"IF(statistics!$D$3<>0,IF(AJ200=statistics!$D$3,AG200,\"\"),IF(B200<>\"\",AG200,\"\"))","v":""},{"$f":"IF(statistics!$D$3<>0,IF(AJ200=statistics!$D$3,IF(AH200=0,\"\",AH200),\"\"),IF(AH200<>0,AH200,\"\"))","v":""},{"$f":"IF(statistics!$D$3<>0,IF(AJ200=statistics!$D$3,IF(A200=0,\"\",1),\"\"),IF(A200=0,\"\",1))","v":""},"","",null,"",{"$nulls":6},0,null,null,null,"",null,null,"",null,0,null,{"$error":"#NUM!"},{"$error":"#NUM!"},199]
[{"$nulls":4},"","","","","",null,null,"",{"$nulls":6},200,"",{"$f":"IF(A202=0,IF(B202=\"\",IF(B201=0,\"\",SUM($AG$1:AG201)-SUM($U$1:U200)),\"\"),SUM($AG$1:AG201)-SUM($U$1:U200))","v":""},{"$nulls":5},0,{"$f":"IF(AJ201=statistics!$D$3,AB200+AH201-AG201,)","v":0},{"$f":"IF(AND(ROW(AC201)>=statistics!$C$55,ROW(AC201)<=statistics!$D$55),AC200+AH201-AG201,)","v":0},{"$f":"IF(AND(statistics!$C$55<=ROW(A201),ROW(A201)<=statistics!$D$55)=TRUE,AH201-AG201+AA200-INDEX(AA:AA,statistics!$C$55),\"\")","v":""},null,null,0,0,0,"",{"$f":"IF(statistics!$D$3<>0,IF(AJ201=statistics!$D$3,AG201,\"\"),IF(B201<>\"\",AG201,\"\"))","v":""},{"$f":"IF(statistics!$D$3<>0,IF(AJ201=statistics!$D$3,IF(AH201=0,\"\",AH201),\"\"),IF(AH201<>0,AH201,\"\"))","v":""},{"$f":"IF(statistics!$D$3<>0,IF(AJ201=statistics!$D$3,IF(A201=0,\"\",1),\"\"),IF(A201=0,\"\",1))","v":""},"","",null,"",{"$nulls":6},0,null,null,null,"",null,null,"",null,0,null,{"$error":"#NUM!"},{"$error":"#NUM!"},200]
[{"$nulls":4},"","","","","",null,null,"",{"$nulls":6},201,"",{"$f":"IF(A203=0,IF(B203=\"\",IF(B202=0,\"\",SUM($AG$1:AG202)-SUM($U$1:U201)),\"\"),SUM($AG$1:AG202)-SUM($U$1:U201))","v":""},{"$nulls":5},0,{"$f":"IF(AJ202=statistics!$D$3,AB201+AH202-AG202,)","v":0},{"$f":"IF(AND(ROW(AC202)>=statistics!$C$55,ROW(AC202)<=statistics!$D$55),AC201+AH202-AG202,)","v":0},{"$f":"IF(AND(statistics!$C$55<=ROW(A202),ROW(A202)<=statistics!$D$55)=TRUE,AH202-AG202+AA201-INDEX(AA:AA,statistics!$C$55),\"\")","v":""},null,null,0,0,0,"",{"$f":"IF(statistics!$D$3<>0,IF(AJ202=statistics!$D$3,AG202,\"\"),IF(B202<>\"\",AG202,\"\"))","v":""},{"$f":"IF(statistics!$D$3<>0,IF(AJ202=statistics!$D$3,IF(AH202=0,\"\",AH202),\"\"),IF(AH202<>0,AH202,\"\"))","v":""},{"$f":"IF(statistics!$D$3<>0,IF(AJ202=statistics!$D$3,IF(A202=0,\"\",1),\"\"),IF(A202=0,\"\",1))","v":""},"","",null,"",{"$nulls":6},0,null,null,null,"",null,null,"",null,0,null,{"$error":"#NUM!"},{"$error":"#NUM!"},201]
[{"$nulls":4},"","","","","",null,null,"",{"$nulls":6},202,"",{"$f":"IF(A204=0,IF(B204=\"\",IF(B203=0,\"\",SUM($AG$1:AG203)-SUM($U$1:U202)),\"\"),SUM($AG$1:AG203)-SUM($U$1:U202))","v":""},{"$nulls":5},0,{"$f":"IF(AJ203=statistics!$D$3,AB202+AH203-AG203,)","v":0},{"$f":"IF(AND(ROW(AC203)>=statistics!$C$55,ROW(AC203)<=statistics!$D$55),AC202+AH203-AG203,)","v":0},{"$f":"IF(AND(statistics!$C$55<=ROW(A203),ROW(A203)<=statistics!$D$55)=TRUE,AH203-AG203+AA202-INDEX(AA:AA,statistics!$C$55),\"\")","v":""},null,null,0,0,0,"",{"$f":"IF(statistics!$D$3<>0,IF(AJ203=statistics!$D$3,AG203,\"\"),IF(B203<>\"\",AG203,\"\"))","v":""},{"$f":"IF(statistics!$D$3<>0,IF(AJ203=statistics!$D$3,IF(AH203=0,\"\",AH203),\"\"),IF(AH203<>0,AH203,\"\"))","v":""},{"$f":"IF(statistics!$D$3<>0,IF(AJ203=statistics!$D$3,IF(A203=0,\"\",1),\"\"),IF(A203=0,\"\",1))","v":""},"","",null,"",{"$nulls":6},0,null,null,null,"",null,null,"",null,0,null,{"$error":"#NUM!"},{"$error":"#NUM!"},202]
[{"$nulls":4},"","","","","",null,null,"",{"$nulls":6},203,"",{"$f":"IF(A205=0,IF(B205=\"\",IF(B204=0,\"\",SUM($AG$1:AG204)-SUM($U$1:U203)),\"\"),SUM($AG$1:AG204)-SUM($U$1:U203))","v":""},{"$nulls":5},0,{"$f":"IF(AJ204=statistics!$D$3,AB203+AH204-AG204,)","v":0},{"$f":"IF(AND(ROW(AC204)>=statistics!$C$55,ROW(AC204)<=statistics!$D$55),AC203+AH204-AG204,)","v":0},{"$f":"IF(AND(statistics!$C$55<=ROW(A204),ROW(A204)<=statistics!$D$55)=TRUE,AH204-AG204+AA203-INDEX(AA:AA,statistics!$C$55),\"\")","v":""},null,null,0,0,0,"",{"$f":"IF(statistics!$D$3<>0,IF(AJ204=statistics!$D$3,AG204,\"\"),IF(B204<>\"\",AG204,\"\"))","v":""},{"$f":"IF(statistics!$D$3<>0,IF(AJ204=statistics!$D$3,IF(AH204=0,\"\",AH204),\"\"),IF(AH204<>0,AH204,\"\"))","v":""},{"$f":"IF(statistics!$D$3<>0,IF(AJ204=statistics!$D$3,IF(A204=0,\"\",1),\"\"),IF(A204=0,\"\",1))","v":""},"","",null,"",{"$nulls":6},0,null,null,null,"",null,null,"",null,0,null,{"$error":"#NUM!"},{"$error":"#NUM!"},203]
[{"$nulls":4},"","","","","",null,null,"",{"$nulls":6},204,"",{"$f":"IF(A206=0,IF(B206=\"\",IF(B205=0,\"\",SUM($AG$1:AG205)-SUM($U$1:U204)),\"\"),SUM($AG$1:AG205)-SUM($U$1:U204))","v":""},{"$nulls":5},0,{"$f":"IF(AJ205=statistics!$D$3,AB204+AH205-AG205,)","v":0},{"$f":"IF(AND(ROW(AC205)>=statistics!$C$55,ROW(AC205)<=statistics!$D$55),AC204+AH205-AG205,)","v":0},{"$f":"IF(AND(statistics!$C$55<=ROW(A205),ROW(A205)<=statistics!$D$55)=TRUE,AH205-AG205+AA204-INDEX(AA:AA,statistics!$C$55),\"\")","v":""},null,null,0,0,0,"",{"$f":"IF(statistics!$D$3<>0,IF(AJ205=statistics!$D$3,AG205,\"\"),IF(B205<>\"\",AG205,\"\"))","v":""},{"$f":"IF(statistics!$D$3<>0,IF(AJ205=statistics!$D$3,IF(AH205=0,\"\",AH205),\"\"),IF(AH205<>0,AH205,\"\"))","v":""},{"$f":"IF(statistics!$D$3<>0,IF(AJ205=statistics!$D$3,IF(A205=0,\"\",1),\"\"),IF(A205=0,\"\",1))","v":""},"","",null,"",{"$nulls":6},0,null,null,null,"",null,null,"",null,0,null,{"$error":"#NUM!"},{"$error":"#NUM!"},204]
[{"$nulls":4},"","","","","",null,null,"",{"$nulls":6},205,"",{"$f":"IF(A207=0,IF(B207=\"\",IF(B206=0,\"\",SUM($AG$1:AG206)-SUM($U$1:U205)),\"\"),SUM($AG$1:AG206)-SUM($U$1:U205))","v":""},{"$nulls":5},0,{"$f":"IF(AJ206=statistics!$D$3,AB205+AH206-AG206,)","v":0},{"$f":"IF(AND(ROW(AC206)>=statistics!$C$55,ROW(AC206)<=statistics!$D$55),AC205+AH206-AG206,)","v":0},{"$f":"IF(AND(statistics!$C$55<=ROW(A206),ROW(A206)<=statistics!$D$55)=TRUE,AH206-AG206+AA205-INDEX(AA:AA,statistics!$C$55),\"\")","v":""},null,null,0,0,0,"",{"$f":"IF(statistics!$D$3<>0,IF(AJ206=statistics!$D$3,AG206,\"\"),IF(B206<>\"\",AG206,\"\"))","v":""},{"$f":"IF(statistics!$D$3<>0,IF(AJ206=statistics!$D$3,IF(AH206=0,\"\",AH206),\"\"),IF(AH206<>0,AH206,\"\"))","v":""},{"$f":"IF(statistics!$D$3<>0,IF(AJ206=statistics!$D$3,IF(A206=0,\"\",1),\"\"),IF(A206=0,\"\",1))","v":""},"","",null,"",{"$nulls":6},0,null,null,null,"",null,null,"",null,0,null,{"$error":"#NUM!"},{"$error":"#NUM!"},205]
[{"$nulls":4},"","","","","",null,null,"",{"$nulls":6},206,"",{"$f":"IF(A208=0,IF(B208=\"\",IF(B207=0,\"\",SUM($AG$1:AG207)-SUM($U$1:U206)),\"\"),SUM($AG$1:AG207)-SUM($U$1:U206))","v":""},{"$nulls":5},0,{"$f":"IF(AJ207=statistics!$D$3,AB206+AH207-AG207,)","v":0},{"$f":"IF(AND(ROW(AC207)>=statistics!$C$55,ROW(AC207)<=statistics!$D$55),AC206+AH207-AG207,)","v":0},{"$f":"IF(AND(statistics!$C$55<=ROW(A207),ROW(A207)<=statistics!$D$55)=TRUE,AH207-AG207+AA206-INDEX(AA:AA,statistics!$C$55),\"\")","v":""},null,null,0,0,0,"",{"$f":"IF(statistics!$D$3<>0,IF(AJ207=statistics!$D$3,AG207,\"\"),IF(B207<>\"\",AG207,\"\"))","v":""},{"$f":"IF(statistics!$D$3<>0,IF(AJ207=statistics!$D$3,IF(AH207=0,\"\",AH207),\"\"),IF(AH207<>0,AH207,\"\"))","v":""},{"$f":"IF(statistics!$D$3<>0,IF(AJ207=statistics!$D$3,IF(A207=0,\"\",1),\"\"),IF(A207=0,\"\",1))","v":""},"","",null,"",{"$nulls":6},0,null,null,null,"",null,null,"",null,0,null,{"$error":"#NUM!"},{"$error":"#NUM!"},206]
[{"$nulls":4},"","","","","",null,null,"",{"$nulls":6},207,"",{"$f":"IF(A209=0,IF(B209=\"\",IF(B208=0,\"\",SUM($AG$1:AG208)-SUM($U$1:U207)),\"\"),SUM($AG$1:AG208)-SUM($U$1:U207))","v":""},{"$nulls":5},0,{"$f":"IF(AJ208=statistics!$D$3,AB207+AH208-AG208,)","v":0},{"$f":"IF(AND(ROW(AC208)>=statistics!$C$55,ROW(AC208)<=statistics!$D$55),AC207+AH208-AG208,)","v":0},{"$f":"IF(AND(statistics!$C$55<=ROW(A208),ROW(A208)<=statistics!$D$55)=TRUE,AH208-AG208+AA207-INDEX(AA:AA,statistics!$C$55),\"\")","v":""},null,null,0,0,0,"",{"$f":"IF(statistics!$D$3<>0,IF(AJ208=statistics!$D$3,AG208,\"\"),IF(B208<>\"\",AG208,\"\"))","v":""},{"$f":"IF(statistics!$D$3<>0,IF(AJ208=statistics!$D$3,IF(AH208=0,\"\",AH208),\"\"),IF(AH208<>0,AH208,\"\"))","v":""},{"$f":"IF(statistics!$D$3<>0,IF(AJ208=statistics!$D$3,IF(A208=0,\"\",1),\"\"),IF(A208=0,\"\",1))","v":""},"","",null,"",{"$nulls":6},0,null,null,null,"",null,null,"",null,0,null,{"$error":"#NUM!"},{"$error":"#NUM!"},207]
[{"$nulls":4},"","",{"$f":"IF(A210=0,IF(B210=\"\",IF(B209=0,\"\",U209/S209),\"\"),U209/S209)","v":""},"","",null,null,"",{"$nulls":6},208,"",{"$f":"IF(A210=0,IF(B210=\"\",IF(B209=0,\"\",SUM($AG$1:AG209)-SUM($U$1:U208)),\"\"),SUM($AG$1:AG209)-SUM($U$1:U208))","v":""},{"$nulls":5},0,{"$f":"IF(AJ209=statistics!$D$3,AB208+AH209-AG209,)","v":0},{"$f":"IF(AND(ROW(AC209)>=statistics!$C$55,ROW(AC209)<=statistics!$D$55),AC208+AH209-AG209,)","v":0},{"$f":"IF(AND(statistics!$C$55<=ROW(A209),ROW(A209)<=statistics!$D$55)=TRUE,AH209-AG209+AA208-INDEX(AA:AA,statistics!$C$55),\"\")","v":""},null,null,0,0,0,"",{"$f":"IF(statistics!$D$3<>0,IF(AJ209=statistics!$D$3,AG209,\"\"),IF(B209<>\"\",AG209,\"\"))","v":""},{"$f":"IF(statistics!$D$3<>0,IF(AJ209=statistics!$D$3,IF(AH209=0,\"\",AH209),\"\"),IF(AH209<>0,AH209,\"\"))","v":""},{"$f":"IF(statistics!$D$3<>0,IF(AJ209=statistics!$D$3,IF(A209=0,\"\",1),\"\"),IF(A209=0,\"\",1))","v":""},"","",null,"",{"$nulls":6},0,null,null,null,"",null,null,"",null,0,null,{"$error":"#NUM!"},{"$error":"#NUM!"},208]
[{"$nulls":4},"","","","","",null,null,"",{"$nulls":6},209,"",{"$f":"IF(A211=0,IF(B211=\"\",IF(B210=0,\"\",SUM($AG$1:AG210)-SUM($U$1:U209)),\"\"),SUM($AG$1:AG210)-SUM($U$1:U209))","v":""},{"$nulls":5},0,{"$f":"IF(AJ210=statistics!$D$3,AB209+AH210-AG210,)","v":0},{"$f":"IF(AND(ROW(AC210)>=statistics!$C$55,ROW(AC210)<=statistics!$D$55),AC209+AH210-AG210,)","v":0},{"$f":"IF(AND(statistics!$C$55<=ROW(A210),ROW(A210)<=statistics!$D$55)=TRUE,AH210-AG210+AA209-INDEX(AA:AA,statistics!$C$55),\"\")","v":""},null,null,0,0,0,"",{"$f":"IF(statistics!$D$3<>0,IF(AJ210=statistics!$D$3,AG210,\"\"),IF(B210<>\"\",AG210,\"\"))","v":""},{"$f":"IF(statistics!$D$3<>0,IF(AJ210=statistics!$D$3,IF(AH210=0,\"\",AH210),\"\"),IF(AH210<>0,AH210,\"\"))","v":""},{"$f":"IF(statistics!$D$3<>0,IF(AJ210=statistics!$D$3,IF(A210=0,\"\",1),\"\"),IF(A210=0,\"\",1))","v":""},"","",null,"",{"$nulls":6},0,null,null,null,"",null,null,"",null,0,null,{"$error":"#NUM!"},{"$error":"#NUM!"},209]
[{"$nulls":4},"","","","","",null,null,"",{"$nulls":6},210,"",{"$f":"IF(A212=0,IF(B212=\"\",IF(B211=0,\"\",SUM($AG$1:AG211)-SUM($U$1:U210)),\"\"),SUM($AG$1:AG211)-SUM($U$1:U210))","v":""},{"$nulls":5},0,{"$f":"IF(AJ211=statistics!$D$3,AB210+AH211-AG211,)","v":0},{"$f":"IF(AND(ROW(AC211)>=statistics!$C$55,ROW(AC211)<=statistics!$D$55),AC210+AH211-AG211,)","v":0},{"$f":"IF(AND(statistics!$C$55<=ROW(A211),ROW(A211)<=statistics!$D$55)=TRUE,AH211-AG211+AA210-INDEX(AA:AA,statistics!$C$55),\"\")","v":""},null,null,0,0,0,"",{"$f":"IF(statistics!$D$3<>0,IF(AJ211=statistics!$D$3,AG211,\"\"),IF(B211<>\"\",AG211,\"\"))","v":""},{"$f":"IF(statistics!$D$3<>0,IF(AJ211=statistics!$D$3,IF(AH211=0,\"\",AH211),\"\"),IF(AH211<>0,AH211,\"\"))","v":""},{"$f":"IF(statistics!$D$3<>0,IF(AJ211=statistics!$D$3,IF(A211=0,\"\",1),\"\"),IF(A211=0,\"\",1))","v":""},"","",null,"",{"$nulls":6},0,null,null,null,"",null,null,"",null,0,null,{"$error":"#NUM!"},{"$error":"#NUM!"},210]
[{"$nulls":4},"","","","","",null,null,"",{"$nulls":6},211,"",{"$f":"IF(A213=0,IF(B213=\"\",IF(B212=0,\"\",SUM($AG$1:AG212)-SUM($U$1:U211)),\"\"),SUM($AG$1:AG212)-SUM($U$1:U211))","v":""},{"$nulls":5},0,{"$f":"IF(AJ212=statistics!$D$3,AB211+AH212-AG212,)","v":0},{"$f":"IF(AND(ROW(AC212)>=statistics!$C$55,ROW(AC212)<=statistics!$D$55),AC211+AH212-AG212,)","v":0},{"$f":"IF(AND(statistics!$C$55<=ROW(A212),ROW(A212)<=statistics!$D$55)=TRUE,AH212-AG212+AA211-INDEX(AA:AA,statistics!$C$55),\"\")","v":""},null,null,0,0,0,{"$f":"IF(A212<>0,MONTH(A212),IF(B212=\"\",\"\",AJ211))","v":""},{"$f":"IF(statistics!$D$3<>0,IF(AJ212=statistics!$D$3,AG212,\"\"),IF(B212<>\"\",AG212,\"\"))","v":""},{"$f":"IF(statistics!$D$3<>0,IF(AJ212=statistics!$D$3,IF(AH212=0,\"\",AH212),\"\"),IF(AH212<>0,AH212,\"\"))","v":""},{"$f":"IF(statistics!$D$3<>0,IF(AJ212=statistics!$D$3,IF(A212=0,\"\",1),\"\"),IF(A212=0,\"\",1))","v":""},"","",null,"",{"$nulls":6},0,null,null,null,"",null,null,"",null,0,null,{"$error":"#NUM!"},{"$error":"#NUM!"},211]
[{"$nulls":4},"","","","","",null,null,"",{"$nulls":6},212,"",{"$f":"IF(A214=0,IF(B214=\"\",IF(B213=0,\"\",SUM($AG$1:AG213)-SUM($U$1:U212)),\"\"),SUM($AG$1:AG213)-SUM($U$1:U212))","v":""},{"$nulls":5},0,{"$f":"IF(AJ213=statistics!$D$3,AB212+AH213-AG213,)","v":0},{"$f":"IF(AND(ROW(AC213)>=statistics!$C$55,ROW(AC213)<=statistics!$D$55),AC212+AH213-AG213,)","v":0},{"$f":"IF(AND(statistics!$C$55<=ROW(A213),ROW(A213)<=statistics!$D$55)=TRUE,AH213-AG213+AA212-INDEX(AA:AA,statistics!$C$55),\"\")","v":""},null,null,0,0,0,"",{"$f":"IF(statistics!$D$3<>0,IF(AJ213=statistics!$D$3,AG213,\"\"),IF(B213<>\"\",AG213,\"\"))","v":""},{"$f":"IF(statistics!$D$3<>0,IF(AJ213=statistics!$D$3,IF(AH213=0,\"\",AH213),\"\"),IF(AH213<>0,AH213,\"\"))","v":""},{"$f":"IF(statistics!$D$3<>0,IF(AJ213=statistics!$D$3,IF(A213=0,\"\",1),\"\"),IF(A213=0,\"\",1))","v":""},"","",null,"",{"$nulls":6},0,null,null,null,"",null,null,"",null,0,null,{"$error":"#NUM!"},{"$error":"#NUM!"},212]
[{"$nulls":4},"","","","","",null,null,"",{"$nulls":6},213,"",{"$f":"IF(A215=0,IF(B215=\"\",IF(B214=0,\"\",SUM($AG$1:AG214)-SUM($U$1:U213)),\"\"),SUM($AG$1:AG214)-SUM($U$1:U213))","v":""},{"$nulls":5},0,{"$f":"IF(AJ214=statistics!$D$3,AB213+AH214-AG214,)","v":0},{"$f":"IF(AND(ROW(AC214)>=statistics!$C$55,ROW(AC214)<=statistics!$D$55),AC213+AH214-AG214,)","v":0},{"$f":"IF(AND(statistics!$C$55<=ROW(A214),ROW(A214)<=statistics!$D$55)=TRUE,AH214-AG214+AA213-INDEX(AA:AA,statistics!$C$55),\"\")","v":""},null,null,0,0,0,"",{"$f":"IF(statistics!$D$3<>0,IF(AJ214=statistics!$D$3,AG214,\"\"),IF(B214<>\"\",AG214,\"\"))","v":""},{"$f":"IF(statistics!$D$3<>0,IF(AJ214=statistics!$D$3,IF(AH214=0,\"\",AH214),\"\"),IF(AH214<>0,AH214,\"\"))","v":""},{"$f":"IF(statistics!$D$3<>0,IF(AJ214=statistics!$D$3,IF(A214=0,\"\",1),\"\"),IF(A214=0,\"\",1))","v":""},"","",null,"",{"$nulls":6},0,null,null,null,"",null,null,"",null,0,null,{"$error":"#NUM!"},{"$error":"#NUM!"},213]
[{"$nulls":4},"","","","","",null,null,"",{"$nulls":6},214,"",{"$f":"IF(A216=0,IF(B216=\"\",IF(B215=0,\"\",SUM($AG$1:AG215)-SUM($U$1:U214)),\"\"),SUM($AG$1:AG215)-SUM($U$1:U214))","v":""},{"$nulls":5},0,{"$f":"IF(AJ215=statistics!$D$3,AB214+AH215-AG215,)","v":0},{"$f":"IF(AND(ROW(AC215)>=statistics!$C$55,ROW(AC215)<=statistics!$D$55),AC214+AH215-AG215,)","v":0},{"$f":"IF(AND(statistics!$C$55<=ROW(A215),ROW(A215)<=statistics!$D$55)=TRUE,AH215-AG215+AA214-INDEX(AA:AA,statistics!$C$55),\"\")","v":""},null,null,0,0,0,"",{"$f":"IF(statistics!$D$3<>0,IF(AJ215=statistics!$D$3,AG215,\"\"),IF(B215<>\"\",AG215,\"\"))","v":""},{"$f":"IF(statistics!$D$3<>0,IF(AJ215=statistics!$D$3,IF(AH215=0,\"\",AH215),\"\"),IF(AH215<>0,AH215,\"\"))","v":""},{"$f":"IF(statistics!$D$3<>0,IF(AJ215=statistics!$D$3,IF(A215=0,\"\",1),\"\"),IF(A215=0,\"\",1))","v":""},"","",null,"",{"$nulls":6},0,null,null,null,"",null,null,"",null,0,null,{"$error":"#NUM!"},{"$error":"#NUM!"},214]
[{"$nulls":4},"","","","","",null,null,"",{"$nulls":6},215,"",{"$f":"IF(A217=0,IF(B217=\"\",IF(B216=0,\"\",SUM($AG$1:AG216)-SUM($U$1:U215)),\"\"),SUM($AG$1:AG216)-SUM($U$1:U215))","v":""},{"$nulls":5},0,{"$f":"IF(AJ216=statistics!$D$3,AB215+AH216-AG216,)","v":0},{"$f":"IF(AND(ROW(AC216)>=statistics!$C$55,ROW(AC216)<=statistics!$D$55),AC215+AH216-AG216,)","v":0},{"$f":"IF(AND(statistics!$C$55<=ROW(A216),ROW(A216)<=statistics!$D$55)=TRUE,AH216-AG216+AA215-INDEX(AA:AA,statistics!$C$55),\"\")","v":""},null,null,0,0,0,"",{"$f":"IF(statistics!$D$3<>0,IF(AJ216=statistics!$D$3,AG216,\"\"),IF(B216<>\"\",AG216,\"\"))","v":""},{"$f":"IF(statistics!$D$3<>0,IF(AJ216=statistics!$D$3,IF(AH216=0,\"\",AH216),\"\"),IF(AH216<>0,AH216,\"\"))","v":""},{"$f":"IF(statistics!$D$3<>0,IF(AJ216=statistics!$D$3,IF(A216=0,\"\",1),\"\"),IF(A216=0,\"\",1))","v":""},"","",null,"",{"$nulls":6},0,null,null,null,"",null,null,"",null,0,null,{"$error":"#NUM!"},{"$error":"#NUM!"},215]
[{"$nulls":4},"","","","","",null,null,"",{"$nulls":6},216,"",{"$f":"IF(A218=0,IF(B218=\"\",IF(B217=0,\"\",SUM($AG$1:AG217)-SUM($U$1:U216)),\"\"),SUM($AG$1:AG217)-SUM($U$1:U216))","v":""},{"$nulls":5},0,{"$f":"IF(AJ217=statistics!$D$3,AB216+AH217-AG217,)","v":0},{"$f":"IF(AND(ROW(AC217)>=statistics!$C$55,ROW(AC217)<=statistics!$D$55),AC216+AH217-AG217,)","v":0},{"$f":"IF(AND(statistics!$C$55<=ROW(A217),ROW(A217)<=statistics!$D$55)=TRUE,AH217-AG217+AA216-INDEX(AA:AA,statistics!$C$55),\"\")","v":""},null,null,0,0,0,"",{"$f":"IF(statistics!$D$3<>0,IF(AJ217=statistics!$D$3,AG217,\"\"),IF(B217<>\"\",AG217,\"\"))","v":""},{"$f":"IF(statistics!$D$3<>0,IF(AJ217=statistics!$D$3,IF(AH217=0,\"\",AH217),\"\"),IF(AH217<>0,AH217,\"\"))","v":""},{"$f":"IF(statistics!$D$3<>0,IF(AJ217=statistics!$D$3,IF(A217=0,\"\",1),\"\"),IF(A217=0,\"\",1))","v":""},"","",null,"",{"$nulls":6},0,null,null,null,"",null,null,"",null,0,null,{"$error":"#NUM!"},{"$error":"#NUM!"},216]
[{"$nulls":4},"","","","","",null,null,"",{"$nulls":6},217,"",{"$f":"IF(A219=0,IF(B219=\"\",IF(B218=0,\"\",SUM($AG$1:AG218)-SUM($U$1:U217)),\"\"),SUM($AG$1:AG218)-SUM($U$1:U217))","v":""},{"$nulls":5},0,{"$f":"IF(AJ218=statistics!$D$3,AB217+AH218-AG218,)","v":0},{"$f":"IF(AND(ROW(AC218)>=statistics!$C$55,ROW(AC218)<=statistics!$D$55),AC217+AH218-AG218,)","v":0},{"$f":"IF(AND(statistics!$C$55<=ROW(A218),ROW(A218)<=statistics!$D$55)=TRUE,AH218-AG218+AA217-INDEX(AA:AA,statistics!$C$55),\"\")","v":""},null,null,0,0,0,"",{"$f":"IF(statistics!$D$3<>0,IF(AJ218=statistics!$D$3,AG218,\"\"),IF(B218<>\"\",AG218,\"\"))","v":""},{"$f":"IF(statistics!$D$3<>0,IF(AJ218=statistics!$D$3,IF(AH218=0,\"\",AH218),\"\"),IF(AH218<>0,AH218,\"\"))","v":""},{"$f":"IF(statistics!$D$3<>0,IF(AJ218=statistics!$D$3,IF(A218=0,\"\",1),\"\"),IF(A218=0,\"\",1))","v":""},"","",null,"",{"$nulls":6},0,null,null,null,"",null,null,"",null,0,null,{"$error":"#NUM!"},{"$error":"#NUM!"},217]
[{"$nulls":4},"","","","","",null,null,"",{"$nulls":6},218,"",{"$f":"IF(A220=0,IF(B220=\"\",IF(B219=0,\"\",SUM($AG$1:AG219)-SUM($U$1:U218)),\"\"),SUM($AG$1:AG219)-SUM($U$1:U218))","v":""},{"$nulls":5},0,{"$f":"IF(AJ219=statistics!$D$3,AB218+AH219-AG219,)","v":0},{"$f":"IF(AND(ROW(AC219)>=statistics!$C$55,ROW(AC219)<=statistics!$D$55),AC218+AH219-AG219,)","v":0},{"$f":"IF(AND(statistics!$C$55<=ROW(A219),ROW(A219)<=statistics!$D$55)=TRUE,AH219-AG219+AA218-INDEX(AA:AA,statistics!$C$55),\"\")","v":""},null,null,0,0,0,"",{"$f":"IF(statistics!$D$3<>0,IF(AJ219=statistics!$D$3,AG219,\"\"),IF(B219<>\"\",AG219,\"\"))","v":""},{"$f":"IF(statistics!$D$3<>0,IF(AJ219=statistics!$D$3,IF(AH219=0,\"\",AH219),\"\"),IF(AH219<>0,AH219,\"\"))","v":""},{"$f":"IF(statistics!$D$3<>0,IF(AJ219=statistics!$D$3,IF(A219=0,\"\",1),\"\"),IF(A219=0,\"\",1))","v":""},"","",null,"",{"$nulls":6},0,null,null,null,"",null,null,"",null,0,null,{"$error":"#NUM!"},{"$error":"#NUM!"},218]
[{"$nulls":4},"","","","","",null,null,"",{"$nulls":6},219,"",{"$f":"IF(A221=0,IF(B221=\"\",IF(B220=0,\"\",SUM($AG$1:AG220)-SUM($U$1:U219)),\"\"),SUM($AG$1:AG220)-SUM($U$1:U219))","v":""},{"$nulls":5},0,{"$f":"IF(AJ220=statistics!$D$3,AB219+AH220-AG220,)","v":0},{"$f":"IF(AND(ROW(AC220)>=statistics!$C$55,ROW(AC220)<=statistics!$D$55),AC219+AH220-AG220,)","v":0},{"$f":"IF(AND(statistics!$C$55<=ROW(A220),ROW(A220)<=statistics!$D$55)=TRUE,AH220-AG220+AA219-INDEX(AA:AA,statistics!$C$55),\"\")","v":""},null,null,0,0,0,"",{"$f":"IF(statistics!$D$3<>0,IF(AJ220=statistics!$D$3,AG220,\"\"),IF(B220<>\"\",AG220,\"\"))","v":""},{"$f":"IF(statistics!$D$3<>0,IF(AJ220=statistics!$D$3,IF(AH220=0,\"\",AH220),\"\"),IF(AH220<>0,AH220,\"\"))","v":""},{"$f":"IF(statistics!$D$3<>0,IF(AJ220=statistics!$D$3,IF(A220=0,\"\",1),\"\"),IF(A220=0,\"\",1))","v":""},"","",null,"",{"$nulls":6},0,null,null,null,"",null,null,"",null,0,null,{"$error":"#NUM!"},{"$error":"#NUM!"},219]
[{"$nulls":4},"","","","","",null,null,"",{"$nulls":6},220,"",{"$f":"IF(A222=0,IF(B222=\"\",IF(B221=0,\"\",SUM($AG$1:AG221)-SUM($U$1:U220)),\"\"),SUM($AG$1:AG221)-SUM($U$1:U220))","v":""},{"$nulls":5},0,{"$f":"IF(AJ221=statistics!$D$3,AB220+AH221-AG221,)","v":0},{"$f":"IF(AND(ROW(AC221)>=statistics!$C$55,ROW(AC221)<=statistics!$D$55),AC220+AH221-AG221,)","v":0},{"$f":"IF(AND(statistics!$C$55<=ROW(A221),ROW(A221)<=statistics!$D$55)=TRUE,AH221-AG221+AA220-INDEX(AA:AA,statistics!$C$55),\"\")","v":""},null,null,0,0,0,"",{"$f":"IF(statistics!$D$3<>0,IF(AJ221=statistics!$D$3,AG221,\"\"),IF(B221<>\"\",AG221,\"\"))","v":""},{"$f":"IF(statistics!$D$3<>0,IF(AJ221=statistics!$D$3,IF(AH221=0,\"\",AH221),\"\"),IF(AH221<>0,AH221,\"\"))","v":""},{"$f":"IF(statistics!$D$3<>0,IF(AJ221=statistics!$D$3,IF(A221=0,\"\",1),\"\"),IF(A221=0,\"\",1))","v":""},"","",null,"",{"$nulls":6},0,null,null,null,"",null,null,"",null,0,null,{"$error":"#NUM!"},{"$error":"#NUM!"},220]
[{"$nulls":4},"","","","","",null,null,"",{"$nulls":6},221,"",{"$f":"IF(A223=0,IF(B223=\"\",IF(B222=0,\"\",SUM($AG$1:AG222)-SUM($U$1:U221)),\"\"),SUM($AG$1:AG222)-SUM($U$1:U221))","v":""},{"$nulls":5},0,{"$f":"IF(AJ222=statistics!$D$3,AB221+AH222-AG222,)","v":0},{"$f":"IF(AND(ROW(AC222)>=statistics!$C$55,ROW(AC222)<=statistics!$D$55),AC221+AH222-AG222,)","v":0},{"$f":"IF(AND(statistics!$C$55<=ROW(A222),ROW(A222)<=statistics!$D$55)=TRUE,AH222-AG222+AA221-INDEX(AA:AA,statistics!$C$55),\"\")","v":""},null,null,0,0,0,"",{"$f":"IF(statistics!$D$3<>0,IF(AJ222=statistics!$D$3,AG222,\"\"),IF(B222<>\"\",AG222,\"\"))","v":""},{"$f":"IF(statistics!$D$3<>0,IF(AJ222=statistics!$D$3,IF(AH222=0,\"\",AH222),\"\"),IF(AH222<>0,AH222,\"\"))","v":""},{"$f":"IF(statistics!$D$3<>0,IF(AJ222=statistics!$D$3,IF(A222=0,\"\",1),\"\"),IF(A222=0,\"\",1))","v":""},"","",null,"",{"$nulls":6},0,null,null,null,"",null,null,"",null,0,null,{"$error":"#NUM!"},{"$error":"#NUM!"},221]
[{"$nulls":4},"","","","","",null,null,"",{"$nulls":6},222,"",{"$f":"IF(A224=0,IF(B224=\"\",IF(B223=0,\"\",SUM($AG$1:AG223)-SUM($U$1:U222)),\"\"),SUM($AG$1:AG223)-SUM($U$1:U222))","v":""},{"$nulls":5},0,{"$f":"IF(AJ223=statistics!$D$3,AB222+AH223-AG223,)","v":0},{"$f":"IF(AND(ROW(AC223)>=statistics!$C$55,ROW(AC223)<=statistics!$D$55),AC222+AH223-AG223,)","v":0},{"$f":"IF(AND(statistics!$C$55<=ROW(A223),ROW(A223)<=statistics!$D$55)=TRUE,AH223-AG223+AA222-INDEX(AA:AA,statistics!$C$55),\"\")","v":""},null,null,0,0,0,"",{"$f":"IF(statistics!$D$3<>0,IF(AJ223=statistics!$D$3,AG223,\"\"),IF(B223<>\"\",AG223,\"\"))","v":""},{"$f":"IF(statistics!$D$3<>0,IF(AJ223=statistics!$D$3,IF(AH223=0,\"\",AH223),\"\"),IF(AH223<>0,AH223,\"\"))","v":""},{"$f":"IF(statistics!$D$3<>0,IF(AJ223=statistics!$D$3,IF(A223=0,\"\",1),\"\"),IF(A223=0,\"\",1))","v":""},"","",null,"",{"$nulls":6},0,null,null,null,"",null,null,"",null,0,null,{"$error":"#NUM!"},{"$error":"#NUM!"},222]
[{"$nulls":4},"","","","","",null,null,"",{"$nulls":6},223,"",{"$f":"IF(A225=0,IF(B225=\"\",IF(B224=0,\"\",SUM($AG$1:AG224)-SUM($U$1:U223)),\"\"),SUM($AG$1:AG224)-SUM($U$1:U223))","v":""},{"$nulls":5},0,{"$f":"IF(AJ224=statistics!$D$3,AB223+AH224-AG224,)","v":0},{"$f":"IF(AND(ROW(AC224)>=statistics!$C$55,ROW(AC224)<=statistics!$D$55),AC223+AH224-AG224,)","v":0},{"$f":"IF(AND(statistics!$C$55<=ROW(A224),ROW(A224)<=statistics!$D$55)=TRUE,AH224-AG224+AA223-INDEX(AA:AA,statistics!$C$55),\"\")","v":""},null,null,0,0,0,"",{"$f":"IF(statistics!$D$3<>0,IF(AJ224=statistics!$D$3,AG224,\"\"),IF(B224<>\"\",AG224,\"\"))","v":""},{"$f":"IF(statistics!$D$3<>0,IF(AJ224=statistics!$D$3,IF(AH224=0,\"\",AH224),\"\"),IF(AH224<>0,AH224,\"\"))","v":""},{"$f":"IF(statistics!$D$3<>0,IF(AJ224=statistics!$D$3,IF(A224=0,\"\",1),\"\"),IF(A224=0,\"\",1))","v":""},"","",null,"",{"$nulls":6},0,null,null,null,"",null,null,"",null,0,null,{"$error":"#NUM!"},{"$error":"#NUM!"},223]
[{"$nulls":4},"","","","","",null,null,"",{"$nulls":6},224,"",{"$f":"IF(A226=0,IF(B226=\"\",IF(B225=0,\"\",SUM($AG$1:AG225)-SUM($U$1:U224)),\"\"),SUM($AG$1:AG225)-SUM($U$1:U224))","v":""},{"$nulls":5},0,{"$f":"IF(AJ225=statistics!$D$3,AB224+AH225-AG225,)","v":0},{"$f":"IF(AND(ROW(AC225)>=statistics!$C$55,ROW(AC225)<=statistics!$D$55),AC224+AH225-AG225,)","v":0},{"$f":"IF(AND(statistics!$C$55<=ROW(A225),ROW(A225)<=statistics!$D$55)=TRUE,AH225-AG225+AA224-INDEX(AA:AA,statistics!$C$55),\"\")","v":""},null,null,0,0,0,"",{"$f":"IF(statistics!$D$3<>0,IF(AJ225=statistics!$D$3,AG225,\"\"),IF(B225<>\"\",AG225,\"\"))","v":""},{"$f":"IF(statistics!$D$3<>0,IF(AJ225=statistics!$D$3,IF(AH225=0,\"\",AH225),\"\"),IF(AH225<>0,AH225,\"\"))","v":""},{"$f":"IF(statistics!$D$3<>0,IF(AJ225=statistics!$D$3,IF(A225=0,\"\",1),\"\"),IF(A225=0,\"\",1))","v":""},"","",null,"",{"$nulls":6},0,null,null,null,"",null,null,"",null,0,null,{"$error":"#NUM!"},{"$error":"#NUM!"},224]
[{"$nulls":4},"","","","","",null,null,"",{"$nulls":6},225,"",{"$f":"IF(A227=0,IF(B227=\"\",IF(B226=0,\"\",SUM($AG$1:AG226)-SUM($U$1:U225)),\"\"),SUM($AG$1:AG226)-SUM($U$1:U225))","v":""},{"$nulls":5},0,{"$f":"IF(AJ226=statistics!$D$3,AB225+AH226-AG226,)","v":0},{"$f":"IF(AND(ROW(AC226)>=statistics!$C$55,ROW(AC226)<=statistics!$D$55),AC225+AH226-AG226,)","v":0},{"$f":"IF(AND(statistics!$C$55<=ROW(A226),ROW(A226)<=statistics!$D$55)=TRUE,AH226-AG226+AA225-INDEX(AA:AA,statistics!$C$55),\"\")","v":""},null,null,0,0,0,"",{"$f":"IF(statistics!$D$3<>0,IF(AJ226=statistics!$D$3,AG226,\"\"),IF(B226<>\"\",AG226,\"\"))","v":""},{"$f":"IF(statistics!$D$3<>0,IF(AJ226=statistics!$D$3,IF(AH226=0,\"\",AH226),\"\"),IF(AH226<>0,AH226,\"\"))","v":""},{"$f":"IF(statistics!$D$3<>0,IF(AJ226=statistics!$D$3,IF(A226=0,\"\",1),\"\"),IF(A226=0,\"\",1))","v":""},"","",null,"",{"$nulls":6},0,null,null,null,"",null,null,"",null,0,null,{"$error":"#NUM!"},{"$error":"#NUM!"},225]
[{"$nulls":4},"","","","","",null,null,"",{"$nulls":6},226,"",{"$f":"IF(A228=0,IF(B228=\"\",IF(B227=0,\"\",SUM($AG$1:AG227)-SUM($U$1:U226)),\"\"),SUM($AG$1:AG227)-SUM($U$1:U226))","v":""},{"$nulls":5},0,{"$f":"IF(AJ227=statistics!$D$3,AB226+AH227-AG227,)","v":0},{"$f":"IF(AND(ROW(AC227)>=statistics!$C$55,ROW(AC227)<=statistics!$D$55),AC226+AH227-AG227,)","v":0},{"$f":"IF(AND(statistics!$C$55<=ROW(A227),ROW(A227)<=statistics!$D$55)=TRUE,AH227-AG227+AA226-INDEX(AA:AA,statistics!$C$55),\"\")","v":""},null,null,0,0,0,"",{"$f":"IF(statistics!$D$3<>0,IF(AJ227=statistics!$D$3,AG227,\"\"),IF(B227<>\"\",AG227,\"\"))","v":""},{"$f":"IF(statistics!$D$3<>0,IF(AJ227=statistics!$D$3,IF(AH227=0,\"\",AH227),\"\"),IF(AH227<>0,AH227,\"\"))","v":""},{"$f":"IF(statistics!$D$3<>0,IF(AJ227=statistics!$D$3,IF(A227=0,\"\",1),\"\"),IF(A227=0,\"\",1))","v":""},"","",null,"",{"$nulls":6},0,null,null,null,"",null,null,"",null,0,null,{"$error":"#NUM!"},{"$error":"#NUM!"},226]
[{"$nulls":4},"","","","","",null,null,"",{"$nulls":6},227,"",{"$f":"IF(A229=0,IF(B229=\"\",IF(B228=0,\"\",SUM($AG$1:AG228)-SUM($U$1:U227)),\"\"),SUM($AG$1:AG228)-SUM($U$1:U227))","v":""},{"$nulls":5},0,{"$f":"IF(AJ228=statistics!$D$3,AB227+AH228-AG228,)","v":0},{"$f":"IF(AND(ROW(AC228)>=statistics!$C$55,ROW(AC228)<=statistics!$D$55),AC227+AH228-AG228,)","v":0},{"$f":"IF(AND(statistics!$C$55<=ROW(A228),ROW(A228)<=statistics!$D$55)=TRUE,AH228-AG228+AA227-INDEX(AA:AA,statistics!$C$55),\"\")","v":""},null,null,0,0,0,"",{"$f":"IF(statistics!$D$3<>0,IF(AJ228=statistics!$D$3,AG228,\"\"),IF(B228<>\"\",AG228,\"\"))","v":""},{"$f":"IF(statistics!$D$3<>0,IF(AJ228=statistics!$D$3,IF(AH228=0,\"\",AH228),\"\"),IF(AH228<>0,AH228,\"\"))","v":""},{"$f":"IF(statistics!$D$3<>0,IF(AJ228=statistics!$D$3,IF(A228=0,\"\",1),\"\"),IF(A228=0,\"\",1))","v":""},"","",null,"",{"$nulls":6},0,null,null,null,"",null,null,"",null,0,null,{"$error":"#NUM!"},{"$error":"#NUM!"},227]
[{"$nulls":4},"","","","","",null,null,"",{"$nulls":6},228,"",{"$f":"IF(A230=0,IF(B230=\"\",IF(B229=0,\"\",SUM($AG$1:AG229)-SUM($U$1:U228)),\"\"),SUM($AG$1:AG229)-SUM($U$1:U228))","v":""},{"$nulls":5},0,{"$f":"IF(AJ229=statistics!$D$3,AB228+AH229-AG229,)","v":0},{"$f":"IF(AND(ROW(AC229)>=statistics!$C$55,ROW(AC229)<=statistics!$D$55),AC228+AH229-AG229,)","v":0},{"$f":"IF(AND(statistics!$C$55<=ROW(A229),ROW(A229)<=statistics!$D$55)=TRUE,AH229-AG229+AA228-INDEX(AA:AA,statistics!$C$55),\"\")","v":""},null,null,0,0,0,"",{"$f":"IF(statistics!$D$3<>0,IF(AJ229=statistics!$D$3,AG229,\"\"),IF(B229<>\"\",AG229,\"\"))","v":""},{"$f":"IF(statistics!$D$3<>0,IF(AJ229=statistics!$D$3,IF(AH229=0,\"\",AH229),\"\"),IF(AH229<>0,AH229,\"\"))","v":""},{"$f":"IF(statistics!$D$3<>0,IF(AJ229=statistics!$D$3,IF(A229=0,\"\",1),\"\"),IF(A229=0,\"\",1))","v":""},"","",null,"",{"$nulls":6},0,null,null,null,"",null,null,"",null,0,null,{"$error":"#NUM!"},{"$error":"#NUM!"},228]
[{"$nulls":4},"","","","","",null,null,"",{"$nulls":6},229,"",{"$f":"IF(A231=0,IF(B231=\"\",IF(B230=0,\"\",SUM($AG$1:AG230)-SUM($U$1:U229)),\"\"),SUM($AG$1:AG230)-SUM($U$1:U229))","v":""},{"$nulls":5},0,{"$f":"IF(AJ230=statistics!$D$3,AB229+AH230-AG230,)","v":0},{"$f":"IF(AND(ROW(AC230)>=statistics!$C$55,ROW(AC230)<=statistics!$D$55),AC229+AH230-AG230,)","v":0},{"$f":"IF(AND(statistics!$C$55<=ROW(A230),ROW(A230)<=statistics!$D$55)=TRUE,AH230-AG230+AA229-INDEX(AA:AA,statistics!$C$55),\"\")","v":""},null,null,0,0,0,"",{"$f":"IF(statistics!$D$3<>0,IF(AJ230=statistics!$D$3,AG230,\"\"),IF(B230<>\"\",AG230,\"\"))","v":""},{"$f":"IF(statistics!$D$3<>0,IF(AJ230=statistics!$D$3,IF(AH230=0,\"\",AH230),\"\"),IF(AH230<>0,AH230,\"\"))","v":""},{"$f":"IF(statistics!$D$3<>0,IF(AJ230=statistics!$D$3,IF(A230=0,\"\",1),\"\"),IF(A230=0,\"\",1))","v":""},"","",null,"",{"$nulls":6},0,null,null,null,"",null,null,"",null,0,null,{"$error":"#NUM!"},{"$error":"#NUM!"},229]
[{"$nulls":4},"","","","","",null,null,"",{"$nulls":6},230,"",{"$f":"IF(A232=0,IF(B232=\"\",IF(B231=0,\"\",SUM($AG$1:AG231)-SUM($U$1:U230)),\"\"),SUM($AG$1:AG231)-SUM($U$1:U230))","v":""},{"$nulls":5},0,{"$f":"IF(AJ231=statistics!$D$3,AB230+AH231-AG231,)","v":0},{"$f":"IF(AND(ROW(AC231)>=statistics!$C$55,ROW(AC231)<=statistics!$D$55),AC230+AH231-AG231,)","v":0},{"$f":"IF(AND(statistics!$C$55<=ROW(A231),ROW(A231)<=statistics!$D$55)=TRUE,AH231-AG231+AA230-INDEX(AA:AA,statistics!$C$55),\"\")","v":""},null,null,0,0,0,"",{"$f":"IF(statistics!$D$3<>0,IF(AJ231=statistics!$D$3,AG231,\"\"),IF(B231<>\"\",AG231,\"\"))","v":""},{"$f":"IF(statistics!$D$3<>0,IF(AJ231=statistics!$D$3,IF(AH231=0,\"\",AH231),\"\"),IF(AH231<>0,AH231,\"\"))","v":""},{"$f":"IF(statistics!$D$3<>0,IF(AJ231=statistics!$D$3,IF(A231=0,\"\",1),\"\"),IF(A231=0,\"\",1))","v":""},"","",null,"",{"$nulls":6},0,null,null,null,"",null,null,"",null,0,null,{"$error":"#NUM!"},{"$error":"#NUM!"},230]
[{"$nulls":4},"","","","","",null,null,"",{"$nulls":6},231,"",{"$f":"IF(A233=0,IF(B233=\"\",IF(B232=0,\"\",SUM($AG$1:AG232)-SUM($U$1:U231)),\"\"),SUM($AG$1:AG232)-SUM($U$1:U231))","v":""},{"$nulls":5},0,{"$f":"IF(AJ232=statistics!$D$3,AB231+AH232-AG232,)","v":0},{"$f":"IF(AND(ROW(AC232)>=statistics!$C$55,ROW(AC232)<=statistics!$D$55),AC231+AH232-AG232,)","v":0},{"$f":"IF(AND(statistics!$C$55<=ROW(A232),ROW(A232)<=statistics!$D$55)=TRUE,AH232-AG232+AA231-INDEX(AA:AA,statistics!$C$55),\"\")","v":""},null,null,0,0,0,"",{"$f":"IF(statistics!$D$3<>0,IF(AJ232=statistics!$D$3,AG232,\"\"),IF(B232<>\"\",AG232,\"\"))","v":""},{"$f":"IF(statistics!$D$3<>0,IF(AJ232=statistics!$D$3,IF(AH232=0,\"\",AH232),\"\"),IF(AH232<>0,AH232,\"\"))","v":""},{"$f":"IF(statistics!$D$3<>0,IF(AJ232=statistics!$D$3,IF(A232=0,\"\",1),\"\"),IF(A232=0,\"\",1))","v":""},"","",null,"",{"$nulls":6},0,null,null,null,"",null,null,"",null,0,null,{"$error":"#NUM!"},{"$error":"#NUM!"},231]
[{"$nulls":4},"","","","","",null,null,"",{"$nulls":6},232,"",{"$f":"IF(A234=0,IF(B234=\"\",IF(B233=0,\"\",SUM($AG$1:AG233)-SUM($U$1:U232)),\"\"),SUM($AG$1:AG233)-SUM($U$1:U232))","v":""},{"$nulls":5},0,{"$f":"IF(AJ233=statistics!$D$3,AB232+AH233-AG233,)","v":0},{"$f":"IF(AND(ROW(AC233)>=statistics!$C$55,ROW(AC233)<=statistics!$D$55),AC232+AH233-AG233,)","v":0},{"$f":"IF(AND(statistics!$C$55<=ROW(A233),ROW(A233)<=statistics!$D$55)=TRUE,AH233-AG233+AA232-INDEX(AA:AA,statistics!$C$55),\"\")","v":""},null,null,0,0,0,"",{"$f":"IF(statistics!$D$3<>0,IF(AJ233=statistics!$D$3,AG233,\"\"),IF(B233<>\"\",AG233,\"\"))","v":""},{"$f":"IF(statistics!$D$3<>0,IF(AJ233=statistics!$D$3,IF(AH233=0,\"\",AH233),\"\"),IF(AH233<>0,AH233,\"\"))","v":""},{"$f":"IF(statistics!$D$3<>0,IF(AJ233=statistics!$D$3,IF(A233=0,\"\",1),\"\"),IF(A233=0,\"\",1))","v":""},"","",null,"",{"$nulls":6},0,null,null,null,"",null,null,"",null,0,null,{"$error":"#NUM!"},{"$error":"#NUM!"},232]
[{"$nulls":4},"","","","","",null,null,"",{"$nulls":6},233,"",{"$f":"IF(A235=0,IF(B235=\"\",IF(B234=0,\"\",SUM($AG$1:AG234)-SUM($U$1:U233)),\"\"),SUM($AG$1:AG234)-SUM($U$1:U233))","v":""},{"$nulls":5},0,{"$f":"IF(AJ234=statistics!$D$3,AB233+AH234-AG234,)","v":0},{"$f":"IF(AND(ROW(AC234)>=statistics!$C$55,ROW(AC234)<=statistics!$D$55),AC233+AH234-AG234,)","v":0},{"$f":"IF(AND(statistics!$C$55<=ROW(A234),ROW(A234)<=statistics!$D$55)=TRUE,AH234-AG234+AA233-INDEX(AA:AA,statistics!$C$55),\"\")","v":""},null,null,0,0,0,"",{"$f":"IF(statistics!$D$3<>0,IF(AJ234=statistics!$D$3,AG234,\"\"),IF(B234<>\"\",AG234,\"\"))","v":""},{"$f":"IF(statistics!$D$3<>0,IF(AJ234=statistics!$D$3,IF(AH234=0,\"\",AH234),\"\"),IF(AH234<>0,AH234,\"\"))","v":""},{"$f":"IF(statistics!$D$3<>0,IF(AJ234=statistics!$D$3,IF(A234=0,\"\",1),\"\"),IF(A234=0,\"\",1))","v":""},"","",null,"",{"$nulls":6},0,null,null,null,"",null,null,"",null,0,null,{"$error":"#NUM!"},{"$error":"#NUM!"},233]
[{"$nulls":4},"","","","","",null,null,"",{"$nulls":6},234,"",{"$f":"IF(A236=0,IF(B236=\"\",IF(B235=0,\"\",SUM($AG$1:AG235)-SUM($U$1:U234)),\"\"),SUM($AG$1:AG235)-SUM($U$1:U234))","v":""},{"$nulls":5},0,{"$f":"IF(AJ235=statistics!$D$3,AB234+AH235-AG235,)","v":0},{"$f":"IF(AND(ROW(AC235)>=statistics!$C$55,ROW(AC235)<=statistics!$D$55),AC234+AH235-AG235,)","v":0},{"$f":"IF(AND(statistics!$C$55<=ROW(A235),ROW(A235)<=statistics!$D$55)=TRUE,AH235-AG235+AA234-INDEX(AA:AA,statistics!$C$55),\"\")","v":""},null,null,0,0,0,"",{"$f":"IF(statistics!$D$3<>0,IF(AJ235=statistics!$D$3,AG235,\"\"),IF(B235<>\"\",AG235,\"\"))","v":""},{"$f":"IF(statistics!$D$3<>0,IF(AJ235=statistics!$D$3,IF(AH235=0,\"\",AH235),\"\"),IF(AH235<>0,AH235,\"\"))","v":""},{"$f":"IF(statistics!$D$3<>0,IF(AJ235=statistics!$D$3,IF(A235=0,\"\",1),\"\"),IF(A235=0,\"\",1))","v":""},"","",null,"",{"$nulls":6},0,null,null,null,"",null,null,"",null,0,null,{"$error":"#NUM!"},{"$error":"#NUM!"},234]
[{"$nulls":4},"","","","","",null,null,"",{"$nulls":6},235,"",{"$f":"IF(A237=0,IF(B237=\"\",IF(B236=0,\"\",SUM($AG$1:AG236)-SUM($U$1:U235)),\"\"),SUM($AG$1:AG236)-SUM($U$1:U235))","v":""},{"$nulls":5},0,{"$f":"IF(AJ236=statistics!$D$3,AB235+AH236-AG236,)","v":0},{"$f":"IF(AND(ROW(AC236)>=statistics!$C$55,ROW(AC236)<=statistics!$D$55),AC235+AH236-AG236,)","v":0},{"$f":"IF(AND(statistics!$C$55<=ROW(A236),ROW(A236)<=statistics!$D$55)=TRUE,AH236-AG236+AA235-INDEX(AA:AA,statistics!$C$55),\"\")","v":""},null,null,0,0,0,"",{"$f":"IF(statistics!$D$3<>0,IF(AJ236=statistics!$D$3,AG236,\"\"),IF(B236<>\"\",AG236,\"\"))","v":""},{"$f":"IF(statistics!$D$3<>0,IF(AJ236=statistics!$D$3,IF(AH236=0,\"\",AH236),\"\"),IF(AH236<>0,AH236,\"\"))","v":""},{"$f":"IF(statistics!$D$3<>0,IF(AJ236=statistics!$D$3,IF(A236=0,\"\",1),\"\"),IF(A236=0,\"\",1))","v":""},"","",null,"",{"$nulls":6},0,null,null,null,"",null,null,"",null,0,null,{"$error":"#NUM!"},{"$error":"#NUM!"},235]
[{"$nulls":4},"","","","","",null,null,"",{"$nulls":6},236,"",{"$f":"IF(A238=0,IF(B238=\"\",IF(B237=0,\"\",SUM($AG$1:AG237)-SUM($U$1:U236)),\"\"),SUM($AG$1:AG237)-SUM($U$1:U236))","v":""},{"$nulls":5},0,{"$f":"IF(AJ237=statistics!$D$3,AB236+AH237-AG237,)","v":0},{"$f":"IF(AND(ROW(AC237)>=statistics!$C$55,ROW(AC237)<=statistics!$D$55),AC236+AH237-AG237,)","v":0},{"$f":"IF(AND(statistics!$C$55<=ROW(A237),ROW(A237)<=statistics!$D$55)=TRUE,AH237-AG237+AA236-INDEX(AA:AA,statistics!$C$55),\"\")","v":""},null,null,0,0,0,"",{"$f":"IF(statistics!$D$3<>0,IF(AJ237=statistics!$D$3,AG237,\"\"),IF(B237<>\"\",AG237,\"\"))","v":""},{"$f":"IF(statistics!$D$3<>0,IF(AJ237=statistics!$D$3,IF(AH237=0,\"\",AH237),\"\"),IF(AH237<>0,AH237,\"\"))","v":""},{"$f":"IF(statistics!$D$3<>0,IF(AJ237=statistics!$D$3,IF(A237=0,\"\",1),\"\"),IF(A237=0,\"\",1))","v":""},"","",null,"",{"$nulls":6},0,null,null,null,"",null,null,"",null,0,null,{"$error":"#NUM!"},{"$error":"#NUM!"},236]
[{"$nulls":4},"","","","","",null,null,"",{"$nulls":6},237,"",{"$f":"IF(A239=0,IF(B239=\"\",IF(B238=0,\"\",SUM($AG$1:AG238)-SUM($U$1:U237)),\"\"),SUM($AG$1:AG238)-SUM($U$1:U237))","v":""},{"$nulls":5},0,{"$f":"IF(AJ238=statistics!$D$3,AB237+AH238-AG238,)","v":0},{"$f":"IF(AND(ROW(AC238)>=statistics!$C$55,ROW(AC238)<=statistics!$D$55),AC237+AH238-AG238,)","v":0},{"$f":"IF(AND(statistics!$C$55<=ROW(A238),ROW(A238)<=statistics!$D$55)=TRUE,AH238-AG238+AA237-INDEX(AA:AA,statistics!$C$55),\"\")","v":""},null,null,0,0,0,"",{"$f":"IF(statistics!$D$3<>0,IF(AJ238=statistics!$D$3,AG238,\"\"),IF(B238<>\"\",AG238,\"\"))","v":""},{"$f":"IF(statistics!$D$3<>0,IF(AJ238=statistics!$D$3,IF(AH238=0,\"\",AH238),\"\"),IF(AH238<>0,AH238,\"\"))","v":""},{"$f":"IF(statistics!$D$3<>0,IF(AJ238=statistics!$D$3,IF(A238=0,\"\",1),\"\"),IF(A238=0,\"\",1))","v":""},"","",null,"",{"$nulls":6},0,null,null,null,"",null,null,"",null,0,null,{"$error":"#NUM!"},{"$error":"#NUM!"},237]
[{"$nulls":4},"","","","","",null,null,"",{"$nulls":6},238,"",{"$f":"IF(A240=0,IF(B240=\"\",IF(B239=0,\"\",SUM($AG$1:AG239)-SUM($U$1:U238)),\"\"),SUM($AG$1:AG239)-SUM($U$1:U238))","v":""},{"$nulls":5},0,{"$f":"IF(AJ239=statistics!$D$3,AB238+AH239-AG239,)","v":0},{"$f":"IF(AND(ROW(AC239)>=statistics!$C$55,ROW(AC239)<=statistics!$D$55),AC238+AH239-AG239,)","v":0},{"$f":"IF(AND(statistics!$C$55<=ROW(A239),ROW(A239)<=statistics!$D$55)=TRUE,AH239-AG239+AA238-INDEX(AA:AA,statistics!$C$55),\"\")","v":""},null,null,0,0,0,"",{"$f":"IF(statistics!$D$3<>0,IF(AJ239=statistics!$D$3,AG239,\"\"),IF(B239<>\"\",AG239,\"\"))","v":""},{"$f":"IF(statistics!$D$3<>0,IF(AJ239=statistics!$D$3,IF(AH239=0,\"\",AH239),\"\"),IF(AH239<>0,AH239,\"\"))","v":""},{"$f":"IF(statistics!$D$3<>0,IF(AJ239=statistics!$D$3,IF(A239=0,\"\",1),\"\"),IF(A239=0,\"\",1))","v":""},"","",null,"",{"$nulls":6},0,null,null,null,"",null,null,"",null,0,null,{"$error":"#NUM!"},{"$error":"#NUM!"},238]
[{"$nulls":4},"","","","","",null,null,"",{"$nulls":6},239,"",{"$f":"IF(A241=0,IF(B241=\"\",IF(B240=0,\"\",SUM($AG$1:AG240)-SUM($U$1:U239)),\"\"),SUM($AG$1:AG240)-SUM($U$1:U239))","v":""},{"$nulls":5},0,{"$f":"IF(AJ240=statistics!$D$3,AB239+AH240-AG240,)","v":0},{"$f":"IF(AND(ROW(AC240)>=statistics!$C$55,ROW(AC240)<=statistics!$D$55),AC239+AH240-AG240,)","v":0},{"$f":"IF(AND(statistics!$C$55<=ROW(A240),ROW(A240)<=statistics!$D$55)=TRUE,AH240-AG240+AA239-INDEX(AA:AA,statistics!$C$55),\"\")","v":""},null,null,0,0,0,"",{"$f":"IF(statistics!$D$3<>0,IF(AJ240=statistics!$D$3,AG240,\"\"),IF(B240<>\"\",AG240,\"\"))","v":""},{"$f":"IF(statistics!$D$3<>0,IF(AJ240=statistics!$D$3,IF(AH240=0,\"\",AH240),\"\"),IF(AH240<>0,AH240,\"\"))","v":""},{"$f":"IF(statistics!$D$3<>0,IF(AJ240=statistics!$D$3,IF(A240=0,\"\",1),\"\"),IF(A240=0,\"\",1))","v":""},"","",null,"",{"$nulls":6},0,null,null,null,"",null,null,"",null,0,null,{"$error":"#NUM!"},{"$error":"#NUM!"},239]
[{"$nulls":4},"","","","","",null,null,"",{"$nulls":6},240,"",{"$f":"IF(A242=0,IF(B242=\"\",IF(B241=0,\"\",SUM($AG$1:AG241)-SUM($U$1:U240)),\"\"),SUM($AG$1:AG241)-SUM($U$1:U240))","v":""},{"$nulls":5},0,{"$f":"IF(AJ241=statistics!$D$3,AB240+AH241-AG241,)","v":0},{"$f":"IF(AND(ROW(AC241)>=statistics!$C$55,ROW(AC241)<=statistics!$D$55),AC240+AH241-AG241,)","v":0},{"$f":"IF(AND(statistics!$C$55<=ROW(A241),ROW(A241)<=statistics!$D$55)=TRUE,AH241-AG241+AA240-INDEX(AA:AA,statistics!$C$55),\"\")","v":""},null,null,0,0,0,"",{"$f":"IF(statistics!$D$3<>0,IF(AJ241=statistics!$D$3,AG241,\"\"),IF(B241<>\"\",AG241,\"\"))","v":""},{"$f":"IF(statistics!$D$3<>0,IF(AJ241=statistics!$D$3,IF(AH241=0,\"\",AH241),\"\"),IF(AH241<>0,AH241,\"\"))","v":""},{"$f":"IF(statistics!$D$3<>0,IF(AJ241=statistics!$D$3,IF(A241=0,\"\",1),\"\"),IF(A241=0,\"\",1))","v":""},"","",null,"",{"$nulls":6},0,null,null,null,"",null,null,"",null,0,null,{"$error":"#NUM!"},{"$error":"#NUM!"},240]
[{"$nulls":4},"","","","","",null,null,"",{"$nulls":6},241,"",{"$f":"IF(A243=0,IF(B243=\"\",IF(B242=0,\"\",SUM($AG$1:AG242)-SUM($U$1:U241)),\"\"),SUM($AG$1:AG242)-SUM($U$1:U241))","v":""},{"$nulls":5},0,{"$f":"IF(AJ242=statistics!$D$3,AB241+AH242-AG242,)","v":0},{"$f":"IF(AND(ROW(AC242)>=statistics!$C$55,ROW(AC242)<=statistics!$D$55),AC241+AH242-AG242,)","v":0},{"$f":"IF(AND(statistics!$C$55<=ROW(A242),ROW(A242)<=statistics!$D$55)=TRUE,AH242-AG242+AA241-INDEX(AA:AA,statistics!$C$55),\"\")","v":""},null,null,0,0,0,"",{"$f":"IF(statistics!$D$3<>0,IF(AJ242=statistics!$D$3,AG242,\"\"),IF(B242<>\"\",AG242,\"\"))","v":""},{"$f":"IF(statistics!$D$3<>0,IF(AJ242=statistics!$D$3,IF(AH242=0,\"\",AH242),\"\"),IF(AH242<>0,AH242,\"\"))","v":""},{"$f":"IF(statistics!$D$3<>0,IF(AJ242=statistics!$D$3,IF(A242=0,\"\",1),\"\"),IF(A242=0,\"\",1))","v":""},"","",null,"",{"$nulls":6},0,null,null,null,"",null,null,"",null,0,null,{"$error":"#NUM!"},{"$error":"#NUM!"},241]
[{"$nulls":4},"","","","","",null,null,"",{"$nulls":6},242,"",{"$f":"IF(A244=0,IF(B244=\"\",IF(B243=0,\"\",SUM($AG$1:AG243)-SUM($U$1:U242)),\"\"),SUM($AG$1:AG243)-SUM($U$1:U242))","v":""},{"$nulls":5},0,{"$f":"IF(AJ243=statistics!$D$3,AB242+AH243-AG243,)","v":0},{"$f":"IF(AND(ROW(AC243)>=statistics!$C$55,ROW(AC243)<=statistics!$D$55),AC242+AH243-AG243,)","v":0},{"$f":"IF(AND(statistics!$C$55<=ROW(A243),ROW(A243)<=statistics!$D$55)=TRUE,AH243-AG243+AA242-INDEX(AA:AA,statistics!$C$55),\"\")","v":""},null,null,0,0,0,"",{"$f":"IF(statistics!$D$3<>0,IF(AJ243=statistics!$D$3,AG243,\"\"),IF(B243<>\"\",AG243,\"\"))","v":""},{"$f":"IF(statistics!$D$3<>0,IF(AJ243=statistics!$D$3,IF(AH243=0,\"\",AH243),\"\"),IF(AH243<>0,AH243,\"\"))","v":""},{"$f":"IF(statistics!$D$3<>0,IF(AJ243=statistics!$D$3,IF(A243=0,\"\",1),\"\"),IF(A243=0,\"\",1))","v":""},"","",null,"",{"$nulls":6},0,null,null,null,"",null,null,"",null,0,null,{"$error":"#NUM!"},{"$error":"#NUM!"},242]
[{"$nulls":4},"","","","","",null,null,"",{"$nulls":6},243,"",{"$f":"IF(A245=0,IF(B245=\"\",IF(B244=0,\"\",SUM($AG$1:AG244)-SUM($U$1:U243)),\"\"),SUM($AG$1:AG244)-SUM($U$1:U243))","v":""},{"$nulls":5},0,{"$f":"IF(AJ244=statistics!$D$3,AB243+AH244-AG244,)","v":0},{"$f":"IF(AND(ROW(AC244)>=statistics!$C$55,ROW(AC244)<=statistics!$D$55),AC243+AH244-AG244,)","v":0},{"$f":"IF(AND(statistics!$C$55<=ROW(A244),ROW(A244)<=statistics!$D$55)=TRUE,AH244-AG244+AA243-INDEX(AA:AA,statistics!$C$55),\"\")","v":""},null,null,0,0,0,"",{"$f":"IF(statistics!$D$3<>0,IF(AJ244=statistics!$D$3,AG244,\"\"),IF(B244<>\"\",AG244,\"\"))","v":""},{"$f":"IF(statistics!$D$3<>0,IF(AJ244=statistics!$D$3,IF(AH244=0,\"\",AH244),\"\"),IF(AH244<>0,AH244,\"\"))","v":""},{"$f":"IF(statistics!$D$3<>0,IF(AJ244=statistics!$D$3,IF(A244=0,\"\",1),\"\"),IF(A244=0,\"\",1))","v":""},"","",null,"",{"$nulls":6},0,null,null,null,"",null,null,"",null,0,null,{"$error":"#NUM!"},{"$error":"#NUM!"},243]
[{"$nulls":4},"","","","","",null,null,"",{"$nulls":6},244,"",{"$f":"IF(A246=0,IF(B246=\"\",IF(B245=0,\"\",SUM($AG$1:AG245)-SUM($U$1:U244)),\"\"),SUM($AG$1:AG245)-SUM($U$1:U244))","v":""},{"$nulls":5},0,{"$f":"IF(AJ245=statistics!$D$3,AB244+AH245-AG245,)","v":0},{"$f":"IF(AND(ROW(AC245)>=statistics!$C$55,ROW(AC245)<=statistics!$D$55),AC244+AH245-AG245,)","v":0},{"$f":"IF(AND(statistics!$C$55<=ROW(A245),ROW(A245)<=statistics!$D$55)=TRUE,AH245-AG245+AA244-INDEX(AA:AA,statistics!$C$55),\"\")","v":""},null,null,0,0,0,"",{"$f":"IF(statistics!$D$3<>0,IF(AJ245=statistics!$D$3,AG245,\"\"),IF(B245<>\"\",AG245,\"\"))","v":""},{"$f":"IF(statistics!$D$3<>0,IF(AJ245=statistics!$D$3,IF(AH245=0,\"\",AH245),\"\"),IF(AH245<>0,AH245,\"\"))","v":""},{"$f":"IF(statistics!$D$3<>0,IF(AJ245=statistics!$D$3,IF(A245=0,\"\",1),\"\"),IF(A245=0,\"\",1))","v":""},"","",null,"",{"$nulls":6},0,null,null,null,"",null,null,"",null,0,null,{"$error":"#NUM!"},{"$error":"#NUM!"},244]
[{"$nulls":4},"","","","","",null,null,"",{"$nulls":6},245,"",{"$f":"IF(A247=0,IF(B247=\"\",IF(B246=0,\"\",SUM($AG$1:AG246)-SUM($U$1:U245)),\"\"),SUM($AG$1:AG246)-SUM($U$1:U245))","v":""},{"$nulls":5},0,{"$f":"IF(AJ246=statistics!$D$3,AB245+AH246-AG246,)","v":0},{"$f":"IF(AND(ROW(AC246)>=statistics!$C$55,ROW(AC246)<=statistics!$D$55),AC245+AH246-AG246,)","v":0},{"$f":"IF(AND(statistics!$C$55<=ROW(A246),ROW(A246)<=statistics!$D$55)=TRUE,AH246-AG246+AA245-INDEX(AA:AA,statistics!$C$55),\"\")","v":""},null,null,0,0,0,"",{"$f":"IF(statistics!$D$3<>0,IF(AJ246=statistics!$D$3,AG246,\"\"),IF(B246<>\"\",AG246,\"\"))","v":""},{"$f":"IF(statistics!$D$3<>0,IF(AJ246=statistics!$D$3,IF(AH246=0,\"\",AH246),\"\"),IF(AH246<>0,AH246,\"\"))","v":""},{"$f":"IF(statistics!$D$3<>0,IF(AJ246=statistics!$D$3,IF(A246=0,\"\",1),\"\"),IF(A246=0,\"\",1))","v":""},"","",null,"",{"$nulls":6},0,null,null,null,"",null,null,"",null,0,null,{"$error":"#NUM!"},{"$error":"#NUM!"},245]
[{"$nulls":4},"","","","","",null,null,"",{"$nulls":6},246,"",{"$f":"IF(A248=0,IF(B248=\"\",IF(B247=0,\"\",SUM($AG$1:AG247)-SUM($U$1:U246)),\"\"),SUM($AG$1:AG247)-SUM($U$1:U246))","v":""},{"$nulls":5},0,{"$f":"IF(AJ247=statistics!$D$3,AB246+AH247-AG247,)","v":0},{"$f":"IF(AND(ROW(AC247)>=statistics!$C$55,ROW(AC247)<=statistics!$D$55),AC246+AH247-AG247,)","v":0},{"$f":"IF(AND(statistics!$C$55<=ROW(A247),ROW(A247)<=statistics!$D$55)=TRUE,AH247-AG247+AA246-INDEX(AA:AA,statistics!$C$55),\"\")","v":""},null,null,0,0,0,"",{"$f":"IF(statistics!$D$3<>0,IF(AJ247=statistics!$D$3,AG247,\"\"),IF(B247<>\"\",AG247,\"\"))","v":""},{"$f":"IF(statistics!$D$3<>0,IF(AJ247=statistics!$D$3,IF(AH247=0,\"\",AH247),\"\"),IF(AH247<>0,AH247,\"\"))","v":""},{"$f":"IF(statistics!$D$3<>0,IF(AJ247=statistics!$D$3,IF(A247=0,\"\",1),\"\"),IF(A247=0,\"\",1))","v":""},"","",null,"",{"$nulls":6},0,null,null,null,"",null,null,"",null,0,null,{"$error":"#NUM!"},{"$error":"#NUM!"},246]
[{"$nulls":4},"","","","","",null,null,"",{"$nulls":6},247,"",{"$f":"IF(A249=0,IF(B249=\"\",IF(B248=0,\"\",SUM($AG$1:AG248)-SUM($U$1:U247)),\"\"),SUM($AG$1:AG248)-SUM($U$1:U247))","v":""},{"$nulls":5},0,{"$f":"IF(AJ248=statistics!$D$3,AB247+AH248-AG248,)","v":0},{"$f":"IF(AND(ROW(AC248)>=statistics!$C$55,ROW(AC248)<=statistics!$D$55),AC247+AH248-AG248,)","v":0},{"$f":"IF(AND(statistics!$C$55<=ROW(A248),ROW(A248)<=statistics!$D$55)=TRUE,AH248-AG248+AA247-INDEX(AA:AA,statistics!$C$55),\"\")","v":""},null,null,0,0,0,"",{"$f":"IF(statistics!$D$3<>0,IF(AJ248=statistics!$D$3,AG248,\"\"),IF(B248<>\"\",AG248,\"\"))","v":""},{"$f":"IF(statistics!$D$3<>0,IF(AJ248=statistics!$D$3,IF(AH248=0,\"\",AH248),\"\"),IF(AH248<>0,AH248,\"\"))","v":""},{"$f":"IF(statistics!$D$3<>0,IF(AJ248=statistics!$D$3,IF(A248=0,\"\",1),\"\"),IF(A248=0,\"\",1))","v":""},"","",null,"",{"$nulls":6},0,null,null,null,"",null,null,"",null,0,null,{"$error":"#NUM!"},{"$error":"#NUM!"},247]
[{"$nulls":4},"","","","","",null,null,"",{"$nulls":6},248,"",{"$f":"IF(A250=0,IF(B250=\"\",IF(B249=0,\"\",SUM($AG$1:AG249)-SUM($U$1:U248)),\"\"),SUM($AG$1:AG249)-SUM($U$1:U248))","v":""},{"$nulls":5},0,{"$f":"IF(AJ249=statistics!$D$3,AB248+AH249-AG249,)","v":0},{"$f":"IF(AND(ROW(AC249)>=statistics!$C$55,ROW(AC249)<=statistics!$D$55),AC248+AH249-AG249,)","v":0},{"$f":"IF(AND(statistics!$C$55<=ROW(A249),ROW(A249)<=statistics!$D$55)=TRUE,AH249-AG249+AA248-INDEX(AA:AA,statistics!$C$55),\"\")","v":""},null,null,0,0,0,"",{"$f":"IF(statistics!$D$3<>0,IF(AJ249=statistics!$D$3,AG249,\"\"),IF(B249<>\"\",AG249,\"\"))","v":""},{"$f":"IF(statistics!$D$3<>0,IF(AJ249=statistics!$D$3,IF(AH249=0,\"\",AH249),\"\"),IF(AH249<>0,AH249,\"\"))","v":""},{"$f":"IF(statistics!$D$3<>0,IF(AJ249=statistics!$D$3,IF(A249=0,\"\",1),\"\"),IF(A249=0,\"\",1))","v":""},"","",null,"",{"$nulls":6},0,null,null,null,"",null,null,"",null,0,null,{"$error":"#NUM!"},{"$error":"#NUM!"},248]
[{"$nulls":4},"","","","","",null,null,"",{"$nulls":6},249,"",{"$f":"IF(A251=0,IF(B251=\"\",IF(B250=0,\"\",SUM($AG$1:AG250)-SUM($U$1:U249)),\"\"),SUM($AG$1:AG250)-SUM($U$1:U249))","v":""},{"$nulls":5},0,{"$f":"IF(AJ250=statistics!$D$3,AB249+AH250-AG250,)","v":0},{"$f":"IF(AND(ROW(AC250)>=statistics!$C$55,ROW(AC250)<=statistics!$D$55),AC249+AH250-AG250,)","v":0},{"$f":"IF(AND(statistics!$C$55<=ROW(A250),ROW(A250)<=statistics!$D$55)=TRUE,AH250-AG250+AA249-INDEX(AA:AA,statistics!$C$55),\"\")","v":""},null,null,0,0,0,"",{"$f":"IF(statistics!$D$3<>0,IF(AJ250=statistics!$D$3,AG250,\"\"),IF(B250<>\"\",AG250,\"\"))","v":""},{"$f":"IF(statistics!$D$3<>0,IF(AJ250=statistics!$D$3,IF(AH250=0,\"\",AH250),\"\"),IF(AH250<>0,AH250,\"\"))","v":""},{"$f":"IF(statistics!$D$3<>0,IF(AJ250=statistics!$D$3,IF(A250=0,\"\",1),\"\"),IF(A250=0,\"\",1))","v":""},"","",null,"",{"$nulls":6},0,null,null,null,"",null,null,"",null,0,null,{"$error":"#NUM!"},{"$error":"#NUM!"},249]
[{"$nulls":4},"","","","","",null,null,"",{"$nulls":6},250,"",{"$f":"IF(A252=0,IF(B252=\"\",IF(B251=0,\"\",SUM($AG$1:AG251)-SUM($U$1:U250)),\"\"),SUM($AG$1:AG251)-SUM($U$1:U250))","v":""},{"$nulls":5},0,{"$f":"IF(AJ251=statistics!$D$3,AB250+AH251-AG251,)","v":0},{"$f":"IF(AND(ROW(AC251)>=statistics!$C$55,ROW(AC251)<=statistics!$D$55),AC250+AH251-AG251,)","v":0},{"$f":"IF(AND(statistics!$C$55<=ROW(A251),ROW(A251)<=statistics!$D$55)=TRUE,AH251-AG251+AA250-INDEX(AA:AA,statistics!$C$55),\"\")","v":""},null,null,0,0,0,"",{"$f":"IF(statistics!$D$3<>0,IF(AJ251=statistics!$D$3,AG251,\"\"),IF(B251<>\"\",AG251,\"\"))","v":""},{"$f":"IF(statistics!$D$3<>0,IF(AJ251=statistics!$D$3,IF(AH251=0,\"\",AH251),\"\"),IF(AH251<>0,AH251,\"\"))","v":""},{"$f":"IF(statistics!$D$3<>0,IF(AJ251=statistics!$D$3,IF(A251=0,\"\",1),\"\"),IF(A251=0,\"\",1))","v":""},"","",null,"",{"$nulls":6},0,null,null,null,"",null,null,"",null,0,null,{"$error":"#NUM!"},{"$error":"#NUM!"},250]
[{"$nulls":4},"","","","","",null,null,"",{"$nulls":6},251,"",{"$f":"IF(A253=0,IF(B253=\"\",IF(B252=0,\"\",SUM($AG$1:AG252)-SUM($U$1:U251)),\"\"),SUM($AG$1:AG252)-SUM($U$1:U251))","v":""},{"$nulls":5},0,{"$f":"IF(AJ252=statistics!$D$3,AB251+AH252-AG252,)","v":0},{"$f":"IF(AND(ROW(AC252)>=statistics!$C$55,ROW(AC252)<=statistics!$D$55),AC251+AH252-AG252,)","v":0},{"$f":"IF(AND(statistics!$C$55<=ROW(A252),ROW(A252)<=statistics!$D$55)=TRUE,AH252-AG252+AA251-INDEX(AA:AA,statistics!$C$55),\"\")","v":""},null,null,0,0,0,"",{"$f":"IF(statistics!$D$3<>0,IF(AJ252=statistics!$D$3,AG252,\"\"),IF(B252<>\"\",AG252,\"\"))","v":""},{"$f":"IF(statistics!$D$3<>0,IF(AJ252=statistics!$D$3,IF(AH252=0,\"\",AH252),\"\"),IF(AH252<>0,AH252,\"\"))","v":""},{"$f":"IF(statistics!$D$3<>0,IF(AJ252=statistics!$D$3,IF(A252=0,\"\",1),\"\"),IF(A252=0,\"\",1))","v":""},"","",null,"",{"$nulls":6},0,null,null,null,"",null,null,"",null,0,null,{"$error":"#NUM!"},{"$error":"#NUM!"},251]
[{"$nulls":4},"","","","","",null,null,"",{"$nulls":6},252,"",{"$f":"IF(A254=0,IF(B254=\"\",IF(B253=0,\"\",SUM($AG$1:AG253)-SUM($U$1:U252)),\"\"),SUM($AG$1:AG253)-SUM($U$1:U252))","v":""},{"$nulls":5},0,{"$f":"IF(AJ253=statistics!$D$3,AB252+AH253-AG253,)","v":0},{"$f":"IF(AND(ROW(AC253)>=statistics!$C$55,ROW(AC253)<=statistics!$D$55),AC252+AH253-AG253,)","v":0},{"$f":"IF(AND(statistics!$C$55<=ROW(A253),ROW(A253)<=statistics!$D$55)=TRUE,AH253-AG253+AA252-INDEX(AA:AA,statistics!$C$55),\"\")","v":""},null,null,0,0,0,"",{"$f":"IF(statistics!$D$3<>0,IF(AJ253=statistics!$D$3,AG253,\"\"),IF(B253<>\"\",AG253,\"\"))","v":""},{"$f":"IF(statistics!$D$3<>0,IF(AJ253=statistics!$D$3,IF(AH253=0,\"\",AH253),\"\"),IF(AH253<>0,AH253,\"\"))","v":""},{"$f":"IF(statistics!$D$3<>0,IF(AJ253=statistics!$D$3,IF(A253=0,\"\",1),\"\"),IF(A253=0,\"\",1))","v":""},"","",null,"",{"$nulls":6},0,null,null,null,"",null,null,"",null,0,null,{"$error":"#NUM!"},{"$error":"#NUM!"},252]
[{"$nulls":4},"","","","","",null,null,"",{"$nulls":6},253,"",{"$f":"IF(A255=0,IF(B255=\"\",IF(B254=0,\"\",SUM($AG$1:AG254)-SUM($U$1:U253)),\"\"),SUM($AG$1:AG254)-SUM($U$1:U253))","v":""},{"$nulls":5},0,{"$f":"IF(AJ254=statistics!$D$3,AB253+AH254-AG254,)","v":0},{"$f":"IF(AND(ROW(AC254)>=statistics!$C$55,ROW(AC254)<=statistics!$D$55),AC253+AH254-AG254,)","v":0},{"$f":"IF(AND(statistics!$C$55<=ROW(A254),ROW(A254)<=statistics!$D$55)=TRUE,AH254-AG254+AA253-INDEX(AA:AA,statistics!$C$55),\"\")","v":""},null,null,0,0,0,"",{"$f":"IF(statistics!$D$3<>0,IF(AJ254=statistics!$D$3,AG254,\"\"),IF(B254<>\"\",AG254,\"\"))","v":""},{"$f":"IF(statistics!$D$3<>0,IF(AJ254=statistics!$D$3,IF(AH254=0,\"\",AH254),\"\"),IF(AH254<>0,AH254,\"\"))","v":""},{"$f":"IF(statistics!$D$3<>0,IF(AJ254=statistics!$D$3,IF(A254=0,\"\",1),\"\"),IF(A254=0,\"\",1))","v":""},"","",null,"",{"$nulls":6},0,null,null,null,"",null,null,"",null,0,null,{"$error":"#NUM!"},{"$error":"#NUM!"},253]
[{"$nulls":4},"","","","","",null,null,"",{"$nulls":6},254,"",{"$f":"IF(A256=0,IF(B256=\"\",IF(B255=0,\"\",SUM($AG$1:AG255)-SUM($U$1:U254)),\"\"),SUM($AG$1:AG255)-SUM($U$1:U254))","v":""},{"$nulls":5},0,{"$f":"IF(AJ255=statistics!$D$3,AB254+AH255-AG255,)","v":0},{"$f":"IF(AND(ROW(AC255)>=statistics!$C$55,ROW(AC255)<=statistics!$D$55),AC254+AH255-AG255,)","v":0},{"$f":"IF(AND(statistics!$C$55<=ROW(A255),ROW(A255)<=statistics!$D$55)=TRUE,AH255-AG255+AA254-INDEX(AA:AA,statistics!$C$55),\"\")","v":""},null,null,0,0,0,"",{"$f":"IF(statistics!$D$3<>0,IF(AJ255=statistics!$D$3,AG255,\"\"),IF(B255<>\"\",AG255,\"\"))","v":""},{"$f":"IF(statistics!$D$3<>0,IF(AJ255=statistics!$D$3,IF(AH255=0,\"\",AH255),\"\"),IF(AH255<>0,AH255,\"\"))","v":""},{"$f":"IF(statistics!$D$3<>0,IF(AJ255=statistics!$D$3,IF(A255=0,\"\",1),\"\"),IF(A255=0,\"\",1))","v":""},"","",null,"",{"$nulls":6},0,null,null,null,"",null,null,"",null,0,null,{"$error":"#NUM!"},{"$error":"#NUM!"},254]
[{"$nulls":4},"","","","","",null,null,"",{"$nulls":6},255,"",{"$f":"IF(A257=0,IF(B257=\"\",IF(B256=0,\"\",SUM($AG$1:AG256)-SUM($U$1:U255)),\"\"),SUM($AG$1:AG256)-SUM($U$1:U255))","v":""},{"$nulls":5},0,{"$f":"IF(AJ256=statistics!$D$3,AB255+AH256-AG256,)","v":0},{"$f":"IF(AND(ROW(AC256)>=statistics!$C$55,ROW(AC256)<=statistics!$D$55),AC255+AH256-AG256,)","v":0},{"$f":"IF(AND(statistics!$C$55<=ROW(A256),ROW(A256)<=statistics!$D$55)=TRUE,AH256-AG256+AA255-INDEX(AA:AA,statistics!$C$55),\"\")","v":""},null,null,0,0,0,"",{"$f":"IF(statistics!$D$3<>0,IF(AJ256=statistics!$D$3,AG256,\"\"),IF(B256<>\"\",AG256,\"\"))","v":""},{"$f":"IF(statistics!$D$3<>0,IF(AJ256=statistics!$D$3,IF(AH256=0,\"\",AH256),\"\"),IF(AH256<>0,AH256,\"\"))","v":""},{"$f":"IF(statistics!$D$3<>0,IF(AJ256=statistics!$D$3,IF(A256=0,\"\",1),\"\"),IF(A256=0,\"\",1))","v":""},"","",null,"",{"$nulls":6},0,null,null,null,"",null,null,"",null,0,null,{"$error":"#NUM!"},{"$error":"#NUM!"},255]
[{"$nulls":4},"","","","","",null,null,"",{"$nulls":6},256,"",{"$f":"IF(A258=0,IF(B258=\"\",IF(B257=0,\"\",SUM($AG$1:AG257)-SUM($U$1:U256)),\"\"),SUM($AG$1:AG257)-SUM($U$1:U256))","v":""},{"$nulls":5},0,{"$f":"IF(AJ257=statistics!$D$3,AB256+AH257-AG257,)","v":0},{"$f":"IF(AND(ROW(AC257)>=statistics!$C$55,ROW(AC257)<=statistics!$D$55),AC256+AH257-AG257,)","v":0},{"$f":"IF(AND(statistics!$C$55<=ROW(A257),ROW(A257)<=statistics!$D$55)=TRUE,AH257-AG257+AA256-INDEX(AA:AA,statistics!$C$55),\"\")","v":""},null,null,0,0,0,"",{"$f":"IF(statistics!$D$3<>0,IF(AJ257=statistics!$D$3,AG257,\"\"),IF(B257<>\"\",AG257,\"\"))","v":""},{"$f":"IF(statistics!$D$3<>0,IF(AJ257=statistics!$D$3,IF(AH257=0,\"\",AH257),\"\"),IF(AH257<>0,AH257,\"\"))","v":""},{"$f":"IF(statistics!$D$3<>0,IF(AJ257=statistics!$D$3,IF(A257=0,\"\",1),\"\"),IF(A257=0,\"\",1))","v":""},"","",null,"",{"$nulls":6},0,null,null,null,"",null,null,"",null,0,null,{"$error":"#NUM!"},{"$error":"#NUM!"},256]
[{"$nulls":4},"",{"$f":"IF(A258=0,\"\",IF(T258=0,\"\",E258/T258))","v":""},"",{"$f":"IF(A259=0,IF(B259=\"\",IF(B258=0,\"\",U258),\"\"),U258)","v":""},{"$f":"IF(A259=0,IF(B259=\"\",IF(B258=0,\"\",S258),\"\"),S258)","v":""},null,null,"",{"$nulls":6},{"$f":"IF(A258=0,S257+1,1)","v":257},"",{"$f":"IF(A259=0,IF(B259=\"\",IF(B258=0,\"\",SUM($AG$1:AG258)-SUM($U$1:U257)),\"\"),SUM($AG$1:AG258)-SUM($U$1:U257))","v":""},{"$nulls":5},0,{"$f":"IF(AJ258=statistics!$D$3,AB257+AH258-AG258,)","v":0},{"$f":"IF(AND(ROW(AC258)>=statistics!$C$55,ROW(AC258)<=statistics!$D$55),AC257+AH258-AG258,)","v":0},{"$f":"IF(AND(statistics!$C$55<=ROW(A258),ROW(A258)<=statistics!$D$55)=TRUE,AH258-AG258+AA257-INDEX(AA:AA,statistics!$C$55),\"\")","v":""},null,null,0,0,0,"",{"$f":"IF(statistics!$D$3<>0,IF(AJ258=statistics!$D$3,AG258,\"\"),IF(B258<>\"\",AG258,\"\"))","v":""},{"$f":"IF(statistics!$D$3<>0,IF(AJ258=statistics!$D$3,IF(AH258=0,\"\",AH258),\"\"),IF(AH258<>0,AH258,\"\"))","v":""},{"$f":"IF(statistics!$D$3<>0,IF(AJ258=statistics!$D$3,IF(A258=0,\"\",1),\"\"),IF(A258=0,\"\",1))","v":""},"","",null,"",{"$nulls":6},0,null,null,null,"",null,null,"",null,0,null,{"$error":"#NUM!"},{"$error":"#NUM!"},257]
[{"$nulls":4},{"$f":"IF(A259=0,\"\",IF(B259<>\"\",SUM(AH259:AH10257)-SUM(AG259:AG10257)-SUM(E260:E10257),\"\"))","v":""},"","","","",null,null,{"$f":"IF(A259=0,\"\",SUM(AI259:AI10257)-SUM(L260:L10257))","v":""},{"$nulls":6},258,{"$f":"IF(A259=0,\"\",SUM(AG259:AG10257)-SUM(T260:T10257))","v":""},{"$f":"IF(A260=0,IF(B260=\"\",IF(B259=0,\"\",SUM($AG$1:AG259)-SUM($U$1:U258)),\"\"),SUM($AG$1:AG259)-SUM($U$1:U258))","v":""},{"$nulls":5},{"$f":"AA258+AH259-AG259","v":0},{"$f":"IF(AJ259=statistics!$D$3,AB258+AH259-AG259,)","v":0},{"$f":"IF(AND(ROW(AC259)>=statistics!$C$55,ROW(AC259)<=statistics!$D$55),AC258+AH259-AG259,)","v":0},{"$f":"IF(AND(statistics!$C$55<=ROW(A259),ROW(A259)<=statistics!$D$55)=TRUE,AH259-AG259+AA258-INDEX(AA:AA,statistics!$C$55),\"\")","v":""},null,null,0,0,{"$f":"IF(J259=0,,D259*J259)","v":0},"",{"$f":"IF(statistics!$D$3<>0,IF(AJ259=statistics!$D$3,AG259,\"\"),IF(B259<>\"\",AG259,\"\"))","v":""},{"$f":"IF(statistics!$D$3<>0,IF(AJ259=statistics!$D$3,IF(AH259=0,\"\",AH259),\"\"),IF(AH259<>0,AH259,\"\"))","v":""},{"$f":"IF(statistics!$D$3<>0,IF(AJ259=statistics!$D$3,IF(A259=0,\"\",1),\"\"),IF(A259=0,\"\",1))","v":""},"","",null,{"$f":"IF(B259=0,\"\",IF(D259=0,IF(D258=0,AQ258+1,1),\"\"))","v":""},{"$nulls":6},{"$f":"J259*D259-J259*K259*(B259+C259)","v":0},null,null,null,{"$f":"IF(B259=$BA$2,ROW(),\"\")","v":""},null,null,{"$f":"IF(B259=$BA$2,INDEX(D:D,SMALL(BB:BB,CELL(\"содержимое\",BG259)))-INDEX(B:B,SMALL(BB:BB,CELL(\"содержимое\",BG259)))-INDEX(C:C,SMALL(BB:BB,CELL(\"содержимое\",BG259))),\"\")","v":""},null,{"$f":"IF($BA$2=B259,BG258+1,BG258)","v":0},null,{"$f":"INDEX(BE:BE,SMALL(BB:BB,CELL(\"содержимое\",BK259)))","v":{"$error":"#NUM!"}},{"$f":"BJ258+BI259","v":{"$error":"#NUM!"}},{"$f":"BK258+1","v":258}]
[{"$nulls":4},"","","","","",null,null,"",{"$nulls":6},259,"",{"$f":"IF(A261=0,IF(B261=\"\",IF(B260=0,\"\",SUM($AG$1:AG260)-SUM($U$1:U259)),\"\"),SUM($AG$1:AG260)-SUM($U$1:U259))","v":""},{"$nulls":5},0,{"$f":"IF(AJ260=statistics!$D$3,AB259+AH260-AG260,)","v":0},{"$f":"IF(AND(ROW(AC260)>=statistics!$C$55,ROW(AC260)<=statistics!$D$55),AC259+AH260-AG260,)","v":0},{"$f":"IF(AND(statistics!$C$55<=ROW(A260),ROW(A260)<=statistics!$D$55)=TRUE,AH260-AG260+AA259-INDEX(AA:AA,statistics!$C$55),\"\")","v":""},null,null,0,0,0,"",{"$f":"IF(statistics!$D$3<>0,IF(AJ260=statistics!$D$3,AG260,\"\"),IF(B260<>\"\",AG260,\"\"))","v":""},{"$f":"IF(statistics!$D$3<>0,IF(AJ260=statistics!$D$3,IF(AH260=0,\"\",AH260),\"\"),IF(AH260<>0,AH260,\"\"))","v":""},{"$f":"IF(statistics!$D$3<>0,IF(AJ260=statistics!$D$3,IF(A260=0,\"\",1),\"\"),IF(A260=0,\"\",1))","v":""},{"$f":"IF(AK260<>\"\",IF(AK259=0,ROW(AK260),ROW(AK260)),\"\")","v":""},{"$f":"IF(A260<>0,IF(MONTH(A260)=AJ259,\"\",MONTH(A260)),\"\")","v":""},null,"",{"$nulls":6},0,null,null,null,"",null,null,"",null,0,null,{"$error":"#NUM!"},{"$error":"#NUM!"},259]
[{"$nulls":4},"","","","","",null,null,"",{"$nulls":6},260,"",{"$f":"IF(A262=0,IF(B262=\"\",IF(B261=0,\"\",SUM($AG$1:AG261)-SUM($U$1:U260)),\"\"),SUM($AG$1:AG261)-SUM($U$1:U260))","v":""},{"$nulls":5},0,{"$f":"IF(AJ261=statistics!$D$3,AB260+AH261-AG261,)","v":0},{"$f":"IF(AND(ROW(AC261)>=statistics!$C$55,ROW(AC261)<=statistics!$D$55),AC260+AH261-AG261,)","v":0},{"$f":"IF(AND(statistics!$C$55<=ROW(A261),ROW(A261)<=statistics!$D$55)=TRUE,AH261-AG261+AA260-INDEX(AA:AA,statistics!$C$55),\"\")","v":""},null,null,{"$f":"IF(J261=0,B261+C261,(B261+C261)-(B261+C261)*J261*K261)","v":0},{"$f":"IF(J261=0,D261,D261*(1-J261))","v":0},0,"",{"$f":"IF(statistics!$D$3<>0,IF(AJ261=statistics!$D$3,AG261,\"\"),IF(B261<>\"\",AG261,\"\"))","v":""},{"$f":"IF(statistics!$D$3<>0,IF(AJ261=statistics!$D$3,IF(AH261=0,\"\",AH261),\"\"),IF(AH261<>0,AH261,\"\"))","v":""},{"$f":"IF(statistics!$D$3<>0,IF(AJ261=statistics!$D$3,IF(A261=0,\"\",1),\"\"),IF(A261=0,\"\",1))","v":""},"","",null,"",{"$nulls":6},0,null,null,null,"",null,null,"",null,0,null,{"$error":"#NUM!"},{"$error":"#NUM!"},260]
[{"$nulls":4},"","","","","",null,null,"",{"$nulls":6},261,"",{"$f":"IF(A263=0,IF(B263=\"\",IF(B262=0,\"\",SUM($AG$1:AG262)-SUM($U$1:U261)),\"\"),SUM($AG$1:AG262)-SUM($U$1:U261))","v":""},{"$nulls":5},0,{"$f":"IF(AJ262=statistics!$D$3,AB261+AH262-AG262,)","v":0},{"$f":"IF(AND(ROW(AC262)>=statistics!$C$55,ROW(AC262)<=statistics!$D$55),AC261+AH262-AG262,)","v":0},{"$f":"IF(AND(statistics!$C$55<=ROW(A262),ROW(A262)<=statistics!$D$55)=TRUE,AH262-AG262+AA261-INDEX(AA:AA,statistics!$C$55),\"\")","v":""},null,null,0,0,0,"",{"$f":"IF(statistics!$D$3<>0,IF(AJ262=statistics!$D$3,AG262,\"\"),IF(B262<>\"\",AG262,\"\"))","v":""},{"$f":"IF(statistics!$D$3<>0,IF(AJ262=statistics!$D$3,IF(AH262=0,\"\",AH262),\"\"),IF(AH262<>0,AH262,\"\"))","v":""},{"$f":"IF(statistics!$D$3<>0,IF(AJ262=statistics!$D$3,IF(A262=0,\"\",1),\"\"),IF(A262=0,\"\",1))","v":""},"","",null,"",{"$nulls":6},0,null,null,null,"",null,null,"",null,0,null,{"$error":"#NUM!"},{"$error":"#NUM!"},261]
[{"$nulls":4},"","","","","",null,null,"",{"$nulls":6},262,"",{"$f":"IF(A264=0,IF(B264=\"\",IF(B263=0,\"\",SUM($AG$1:AG263)-SUM($U$1:U262)),\"\"),SUM($AG$1:AG263)-SUM($U$1:U262))","v":""},{"$nulls":5},0,{"$f":"IF(AJ263=statistics!$D$3,AB262+AH263-AG263,)","v":0},{"$f":"IF(AND(ROW(AC263)>=statistics!$C$55,ROW(AC263)<=statistics!$D$55),AC262+AH263-AG263,)","v":0},{"$f":"IF(AND(statistics!$C$55<=ROW(A263),ROW(A263)<=statistics!$D$55)=TRUE,AH263-AG263+AA262-INDEX(AA:AA,statistics!$C$55),\"\")","v":""},null,null,0,0,0,"",{"$f":"IF(statistics!$D$3<>0,IF(AJ263=statistics!$D$3,AG263,\"\"),IF(B263<>\"\",AG263,\"\"))","v":""},{"$f":"IF(statistics!$D$3<>0,IF(AJ263=statistics!$D$3,IF(AH263=0,\"\",AH263),\"\"),IF(AH263<>0,AH263,\"\"))","v":""},{"$f":"IF(statistics!$D$3<>0,IF(AJ263=statistics!$D$3,IF(A263=0,\"\",1),\"\"),IF(A263=0,\"\",1))","v":""},"","",null,"",{"$nulls":6},0,null,null,null,"",null,null,"",null,0,null,{"$error":"#NUM!"},{"$error":"#NUM!"},262]
[{"$nulls":4},"","","","","",null,null,"",{"$nulls":6},263,"",{"$f":"IF(A265=0,IF(B265=\"\",IF(B264=0,\"\",SUM($AG$1:AG264)-SUM($U$1:U263)),\"\"),SUM($AG$1:AG264)-SUM($U$1:U263))","v":""},{"$nulls":5},0,{"$f":"IF(AJ264=statistics!$D$3,AB263+AH264-AG264,)","v":0},{"$f":"IF(AND(ROW(AC264)>=statistics!$C$55,ROW(AC264)<=statistics!$D$55),AC263+AH264-AG264,)","v":0},{"$f":"IF(AND(statistics!$C$55<=ROW(A264),ROW(A264)<=statistics!$D$55)=TRUE,AH264-AG264+AA263-INDEX(AA:AA,statistics!$C$55),\"\")","v":""},null,null,0,0,0,"",{"$f":"IF(statistics!$D$3<>0,IF(AJ264=statistics!$D$3,AG264,\"\"),IF(B264<>\"\",AG264,\"\"))","v":""},{"$f":"IF(statistics!$D$3<>0,IF(AJ264=statistics!$D$3,IF(AH264=0,\"\",AH264),\"\"),IF(AH264<>0,AH264,\"\"))","v":""},{"$f":"IF(statistics!$D$3<>0,IF(AJ264=statistics!$D$3,IF(A264=0,\"\",1),\"\"),IF(A264=0,\"\",1))","v":""},"","",null,"",{"$nulls":6},0,null,null,null,"",null,null,"",null,0,null,{"$error":"#NUM!"},{"$error":"#NUM!"},263]
[{"$nulls":4},"","","","","",null,null,"",{"$nulls":6},264,"",{"$f":"IF(A266=0,IF(B266=\"\",IF(B265=0,\"\",SUM($AG$1:AG265)-SUM($U$1:U264)),\"\"),SUM($AG$1:AG265)-SUM($U$1:U264))","v":""},{"$nulls":5},0,{"$f":"IF(AJ265=statistics!$D$3,AB264+AH265-AG265,)","v":0},{"$f":"IF(AND(ROW(AC265)>=statistics!$C$55,ROW(AC265)<=statistics!$D$55),AC264+AH265-AG265,)","v":0},{"$f":"IF(AND(statistics!$C$55<=ROW(A265),ROW(A265)<=statistics!$D$55)=TRUE,AH265-AG265+AA264-INDEX(AA:AA,statistics!$C$55),\"\")","v":""},null,null,0,0,0,"",{"$f":"IF(statistics!$D$3<>0,IF(AJ265=statistics!$D$3,AG265,\"\"),IF(B265<>\"\",AG265,\"\"))","v":""},{"$f":"IF(statistics!$D$3<>0,IF(AJ265=statistics!$D$3,IF(AH265=0,\"\",AH265),\"\"),IF(AH265<>0,AH265,\"\"))","v":""},{"$f":"IF(statistics!$D$3<>0,IF(AJ265=statistics!$D$3,IF(A265=0,\"\",1),\"\"),IF(A265=0,\"\",1))","v":""},"","",null,"",{"$nulls":6},0,null,null,null,"",null,null,"",null,0,null,{"$error":"#NUM!"},{"$error":"#NUM!"},264]
[{"$nulls":4},"","","","","",null,null,"",{"$nulls":6},265,"",{"$f":"IF(A267=0,IF(B267=\"\",IF(B266=0,\"\",SUM($AG$1:AG266)-SUM($U$1:U265)),\"\"),SUM($AG$1:AG266)-SUM($U$1:U265))","v":""},{"$nulls":5},0,{"$f":"IF(AJ266=statistics!$D$3,AB265+AH266-AG266,)","v":0},{"$f":"IF(AND(ROW(AC266)>=statistics!$C$55,ROW(AC266)<=statistics!$D$55),AC265+AH266-AG266,)","v":0},{"$f":"IF(AND(statistics!$C$55<=ROW(A266),ROW(A266)<=statistics!$D$55)=TRUE,AH266-AG266+AA265-INDEX(AA:AA,statistics!$C$55),\"\")","v":""},null,null,0,0,0,"",{"$f":"IF(statistics!$D$3<>0,IF(AJ266=statistics!$D$3,AG266,\"\"),IF(B266<>\"\",AG266,\"\"))","v":""},{"$f":"IF(statistics!$D$3<>0,IF(AJ266=statistics!$D$3,IF(AH266=0,\"\",AH266),\"\"),IF(AH266<>0,AH266,\"\"))","v":""},{"$f":"IF(statistics!$D$3<>0,IF(AJ266=statistics!$D$3,IF(A266=0,\"\",1),\"\"),IF(A266=0,\"\",1))","v":""},"","",null,"",{"$nulls":6},0,null,null,null,"",null,null,"",null,0,null,{"$error":"#NUM!"},{"$error":"#NUM!"},265]
[{"$nulls":4},"","","","","",null,null,"",{"$nulls":6},266,"",{"$f":"IF(A268=0,IF(B268=\"\",IF(B267=0,\"\",SUM($AG$1:AG267)-SUM($U$1:U266)),\"\"),SUM($AG$1:AG267)-SUM($U$1:U266))","v":""},{"$nulls":5},0,{"$f":"IF(AJ267=statistics!$D$3,AB266+AH267-AG267,)","v":0},{"$f":"IF(AND(ROW(AC267)>=statistics!$C$55,ROW(AC267)<=statistics!$D$55),AC266+AH267-AG267,)","v":0},{"$f":"IF(AND(statistics!$C$55<=ROW(A267),ROW(A267)<=statistics!$D$55)=TRUE,AH267-AG267+AA266-INDEX(AA:AA,statistics!$C$55),\"\")","v":""},null,null,0,0,0,"",{"$f":"IF(statistics!$D$3<>0,IF(AJ267=statistics!$D$3,AG267,\"\"),IF(B267<>\"\",AG267,\"\"))","v":""},{"$f":"IF(statistics!$D$3<>0,IF(AJ267=statistics!$D$3,IF(AH267=0,\"\",AH267),\"\"),IF(AH267<>0,AH267,\"\"))","v":""},{"$f":"IF(statistics!$D$3<>0,IF(AJ267=statistics!$D$3,IF(A267=0,\"\",1),\"\"),IF(A267=0,\"\",1))","v":""},"","",null,"",{"$nulls":6},0,null,null,null,"",null,null,"",null,0,null,{"$error":"#NUM!"},{"$error":"#NUM!"},266]
[{"$nulls":4},"","","","","",null,null,"",{"$nulls":6},267,"",{"$f":"IF(A269=0,IF(B269=\"\",IF(B268=0,\"\",SUM($AG$1:AG268)-SUM($U$1:U267)),\"\"),SUM($AG$1:AG268)-SUM($U$1:U267))","v":""},{"$nulls":5},0,{"$f":"IF(AJ268=statistics!$D$3,AB267+AH268-AG268,)","v":0},{"$f":"IF(AND(ROW(AC268)>=statistics!$C$55,ROW(AC268)<=statistics!$D$55),AC267+AH268-AG268,)","v":0},{"$f":"IF(AND(statistics!$C$55<=ROW(A268),ROW(A268)<=statistics!$D$55)=TRUE,AH268-AG268+AA267-INDEX(AA:AA,statistics!$C$55),\"\")","v":""},null,null,0,0,0,"",{"$f":"IF(statistics!$D$3<>0,IF(AJ268=statistics!$D$3,AG268,\"\"),IF(B268<>\"\",AG268,\"\"))","v":""},{"$f":"IF(statistics!$D$3<>0,IF(AJ268=statistics!$D$3,IF(AH268=0,\"\",AH268),\"\"),IF(AH268<>0,AH268,\"\"))","v":""},{"$f":"IF(statistics!$D$3<>0,IF(AJ268=statistics!$D$3,IF(A268=0,\"\",1),\"\"),IF(A268=0,\"\",1))","v":""},"","",null,"",{"$nulls":6},0,null,null,null,"",null,null,"",null,0,null,{"$error":"#NUM!"},{"$error":"#NUM!"},267]
[{"$nulls":4},"","","","","",null,null,"",{"$nulls":6},268,"",{"$f":"IF(A270=0,IF(B270=\"\",IF(B269=0,\"\",SUM($AG$1:AG269)-SUM($U$1:U268)),\"\"),SUM($AG$1:AG269)-SUM($U$1:U268))","v":""},{"$nulls":5},0,{"$f":"IF(AJ269=statistics!$D$3,AB268+AH269-AG269,)","v":0},{"$f":"IF(AND(ROW(AC269)>=statistics!$C$55,ROW(AC269)<=statistics!$D$55),AC268+AH269-AG269,)","v":0},{"$f":"IF(AND(statistics!$C$55<=ROW(A269),ROW(A269)<=statistics!$D$55)=TRUE,AH269-AG269+AA268-INDEX(AA:AA,statistics!$C$55),\"\")","v":""},null,null,0,0,0,"",{"$f":"IF(statistics!$D$3<>0,IF(AJ269=statistics!$D$3,AG269,\"\"),IF(B269<>\"\",AG269,\"\"))","v":""},{"$f":"IF(statistics!$D$3<>0,IF(AJ269=statistics!$D$3,IF(AH269=0,\"\",AH269),\"\"),IF(AH269<>0,AH269,\"\"))","v":""},{"$f":"IF(statistics!$D$3<>0,IF(AJ269=statistics!$D$3,IF(A269=0,\"\",1),\"\"),IF(A269=0,\"\",1))","v":""},"","",null,"",{"$nulls":6},0,null,null,null,"",null,null,"",null,0,null,{"$error":"#NUM!"},{"$error":"#NUM!"},268]
[{"$nulls":4},"","","","","",null,null,"",{"$nulls":6},269,"",{"$f":"IF(A271=0,IF(B271=\"\",IF(B270=0,\"\",SUM($AG$1:AG270)-SUM($U$1:U269)),\"\"),SUM($AG$1:AG270)-SUM($U$1:U269))","v":""},{"$nulls":5},0,{"$f":"IF(AJ270=statistics!$D$3,AB269+AH270-AG270,)","v":0},{"$f":"IF(AND(ROW(AC270)>=statistics!$C$55,ROW(AC270)<=statistics!$D$55),AC269+AH270-AG270,)","v":0},{"$f":"IF(AND(statistics!$C$55<=ROW(A270),ROW(A270)<=statistics!$D$55)=TRUE,AH270-AG270+AA269-INDEX(AA:AA,statistics!$C$55),\"\")","v":""},null,null,0,0,0,"",{"$f":"IF(statistics!$D$3<>0,IF(AJ270=statistics!$D$3,AG270,\"\"),IF(B270<>\"\",AG270,\"\"))","v":""},{"$f":"IF(statistics!$D$3<>0,IF(AJ270=statistics!$D$3,IF(AH270=0,\"\",AH270),\"\"),IF(AH270<>0,AH270,\"\"))","v":""},{"$f":"IF(statistics!$D$3<>0,IF(AJ270=statistics!$D$3,IF(A270=0,\"\",1),\"\"),IF(A270=0,\"\",1))","v":""},"","",null,"",{"$nulls":6},0,null,null,null,"",null,null,"",null,0,null,{"$error":"#NUM!"},{"$error":"#NUM!"},269]
[{"$nulls":4},"","","","","",null,null,"",{"$nulls":6},270,"",{"$f":"IF(A272=0,IF(B272=\"\",IF(B271=0,\"\",SUM($AG$1:AG271)-SUM($U$1:U270)),\"\"),SUM($AG$1:AG271)-SUM($U$1:U270))","v":""},{"$nulls":5},0,{"$f":"IF(AJ271=statistics!$D$3,AB270+AH271-AG271,)","v":0},{"$f":"IF(AND(ROW(AC271)>=statistics!$C$55,ROW(AC271)<=statistics!$D$55),AC270+AH271-AG271,)","v":0},{"$f":"IF(AND(statistics!$C$55<=ROW(A271),ROW(A271)<=statistics!$D$55)=TRUE,AH271-AG271+AA270-INDEX(AA:AA,statistics!$C$55),\"\")","v":""},null,null,0,0,0,"",{"$f":"IF(statistics!$D$3<>0,IF(AJ271=statistics!$D$3,AG271,\"\"),IF(B271<>\"\",AG271,\"\"))","v":""},{"$f":"IF(statistics!$D$3<>0,IF(AJ271=statistics!$D$3,IF(AH271=0,\"\",AH271),\"\"),IF(AH271<>0,AH271,\"\"))","v":""},{"$f":"IF(statistics!$D$3<>0,IF(AJ271=statistics!$D$3,IF(A271=0,\"\",1),\"\"),IF(A271=0,\"\",1))","v":""},"","",null,"",{"$nulls":6},0,null,null,null,"",null,null,"",null,0,null,{"$error":"#NUM!"},{"$error":"#NUM!"},270]
[{"$nulls":4},"","","","","",null,null,"",{"$nulls":6},271,"",{"$f":"IF(A273=0,IF(B273=\"\",IF(B272=0,\"\",SUM($AG$1:AG272)-SUM($U$1:U271)),\"\"),SUM($AG$1:AG272)-SUM($U$1:U271))","v":""},{"$nulls":5},0,{"$f":"IF(AJ272=statistics!$D$3,AB271+AH272-AG272,)","v":0},{"$f":"IF(AND(ROW(AC272)>=statistics!$C$55,ROW(AC272)<=statistics!$D$55),AC271+AH272-AG272,)","v":0},{"$f":"IF(AND(statistics!$C$55<=ROW(A272),ROW(A272)<=statistics!$D$55)=TRUE,AH272-AG272+AA271-INDEX(AA:AA,statistics!$C$55),\"\")","v":""},null,null,0,0,0,"",{"$f":"IF(statistics!$D$3<>0,IF(AJ272=statistics!$D$3,AG272,\"\"),IF(B272<>\"\",AG272,\"\"))","v":""},{"$f":"IF(statistics!$D$3<>0,IF(AJ272=statistics!$D$3,IF(AH272=0,\"\",AH272),\"\"),IF(AH272<>0,AH272,\"\"))","v":""},{"$f":"IF(statistics!$D$3<>0,IF(AJ272=statistics!$D$3,IF(A272=0,\"\",1),\"\"),IF(A272=0,\"\",1))","v":""},"","",null,"",{"$nulls":6},0,null,null,null,"",null,null,"",null,0,null,{"$error":"#NUM!"},{"$error":"#NUM!"},271]
[{"$nulls":4},"","",{"$f":"IF(A274=0,IF(B274=\"\",IF(B273=0,\"\",U273/S273),\"\"),U273/S273)","v":""},"","",null,null,"",{"$nulls":6},272,"",{"$f":"IF(A274=0,IF(B274=\"\",IF(B273=0,\"\",SUM($AG$1:AG273)-SUM($U$1:U272)),\"\"),SUM($AG$1:AG273)-SUM($U$1:U272))","v":""},{"$nulls":5},0,{"$f":"IF(AJ273=statistics!$D$3,AB272+AH273-AG273,)","v":0},{"$f":"IF(AND(ROW(AC273)>=statistics!$C$55,ROW(AC273)<=statistics!$D$55),AC272+AH273-AG273,)","v":0},{"$f":"IF(AND(statistics!$C$55<=ROW(A273),ROW(A273)<=statistics!$D$55)=TRUE,AH273-AG273+AA272-INDEX(AA:AA,statistics!$C$55),\"\")","v":""},null,null,0,0,0,"",{"$f":"IF(statistics!$D$3<>0,IF(AJ273=statistics!$D$3,AG273,\"\"),IF(B273<>\"\",AG273,\"\"))","v":""},{"$f":"IF(statistics!$D$3<>0,IF(AJ273=statistics!$D$3,IF(AH273=0,\"\",AH273),\"\"),IF(AH273<>0,AH273,\"\"))","v":""},{"$f":"IF(statistics!$D$3<>0,IF(AJ273=statistics!$D$3,IF(A273=0,\"\",1),\"\"),IF(A273=0,\"\",1))","v":""},"","",null,"",{"$nulls":6},0,null,null,null,"",null,null,"",null,0,null,{"$error":"#NUM!"},{"$error":"#NUM!"},272]
[{"$nulls":4},"","","","","",null,null,"",{"$nulls":6},273,"",{"$f":"IF(A275=0,IF(B275=\"\",IF(B274=0,\"\",SUM($AG$1:AG274)-SUM($U$1:U273)),\"\"),SUM($AG$1:AG274)-SUM($U$1:U273))","v":""},{"$nulls":5},0,{"$f":"IF(AJ274=statistics!$D$3,AB273+AH274-AG274,)","v":0},{"$f":"IF(AND(ROW(AC274)>=statistics!$C$55,ROW(AC274)<=statistics!$D$55),AC273+AH274-AG274,)","v":0},{"$f":"IF(AND(statistics!$C$55<=ROW(A274),ROW(A274)<=statistics!$D$55)=TRUE,AH274-AG274+AA273-INDEX(AA:AA,statistics!$C$55),\"\")","v":""},null,null,0,0,0,"",{"$f":"IF(statistics!$D$3<>0,IF(AJ274=statistics!$D$3,AG274,\"\"),IF(B274<>\"\",AG274,\"\"))","v":""},{"$f":"IF(statistics!$D$3<>0,IF(AJ274=statistics!$D$3,IF(AH274=0,\"\",AH274),\"\"),IF(AH274<>0,AH274,\"\"))","v":""},{"$f":"IF(statistics!$D$3<>0,IF(AJ274=statistics!$D$3,IF(A274=0,\"\",1),\"\"),IF(A274=0,\"\",1))","v":""},"","",null,"",{"$nulls":6},0,null,null,null,"",null,null,"",null,0,null,{"$error":"#NUM!"},{"$error":"#NUM!"},273]
[{"$nulls":4},"","","","","",null,null,"",{"$nulls":6},274,"",{"$f":"IF(A276=0,IF(B276=\"\",IF(B275=0,\"\",SUM($AG$1:AG275)-SUM($U$1:U274)),\"\"),SUM($AG$1:AG275)-SUM($U$1:U274))","v":""},{"$nulls":5},0,{"$f":"IF(AJ275=statistics!$D$3,AB274+AH275-AG275,)","v":0},{"$f":"IF(AND(ROW(AC275)>=statistics!$C$55,ROW(AC275)<=statistics!$D$55),AC274+AH275-AG275,)","v":0},{"$f":"IF(AND(statistics!$C$55<=ROW(A275),ROW(A275)<=statistics!$D$55)=TRUE,AH275-AG275+AA274-INDEX(AA:AA,statistics!$C$55),\"\")","v":""},null,null,0,0,0,"",{"$f":"IF(statistics!$D$3<>0,IF(AJ275=statistics!$D$3,AG275,\"\"),IF(B275<>\"\",AG275,\"\"))","v":""},{"$f":"IF(statistics!$D$3<>0,IF(AJ275=statistics!$D$3,IF(AH275=0,\"\",AH275),\"\"),IF(AH275<>0,AH275,\"\"))","v":""},{"$f":"IF(statistics!$D$3<>0,IF(AJ275=statistics!$D$3,IF(A275=0,\"\",1),\"\"),IF(A275=0,\"\",1))","v":""},"","",null,"",{"$nulls":6},0,null,null,null,"",null,null,"",null,0,null,{"$error":"#NUM!"},{"$error":"#NUM!"},274]
[{"$nulls":4},"","","","","",null,null,"",{"$nulls":6},275,"",{"$f":"IF(A277=0,IF(B277=\"\",IF(B276=0,\"\",SUM($AG$1:AG276)-SUM($U$1:U275)),\"\"),SUM($AG$1:AG276)-SUM($U$1:U275))","v":""},{"$nulls":5},0,{"$f":"IF(AJ276=statistics!$D$3,AB275+AH276-AG276,)","v":0},{"$f":"IF(AND(ROW(AC276)>=statistics!$C$55,ROW(AC276)<=statistics!$D$55),AC275+AH276-AG276,)","v":0},{"$f":"IF(AND(statistics!$C$55<=ROW(A276),ROW(A276)<=statistics!$D$55)=TRUE,AH276-AG276+AA275-INDEX(AA:AA,statistics!$C$55),\"\")","v":""},null,null,0,0,0,{"$f":"IF(A276<>0,MONTH(A276),IF(B276=\"\",\"\",AJ275))","v":""},{"$f":"IF(statistics!$D$3<>0,IF(AJ276=statistics!$D$3,AG276,\"\"),IF(B276<>\"\",AG276,\"\"))","v":""},{"$f":"IF(statistics!$D$3<>0,IF(AJ276=statistics!$D$3,IF(AH276=0,\"\",AH276),\"\"),IF(AH276<>0,AH276,\"\"))","v":""},{"$f":"IF(statistics!$D$3<>0,IF(AJ276=statistics!$D$3,IF(A276=0,\"\",1),\"\"),IF(A276=0,\"\",1))","v":""},"","",null,"",{"$nulls":6},0,null,null,null,"",null,null,"",null,0,null,{"$error":"#NUM!"},{"$error":"#NUM!"},275]
[{"$nulls":4},"","","","","",null,null,"",{"$nulls":6},276,"",{"$f":"IF(A278=0,IF(B278=\"\",IF(B277=0,\"\",SUM($AG$1:AG277)-SUM($U$1:U276)),\"\"),SUM($AG$1:AG277)-SUM($U$1:U276))","v":""},{"$nulls":5},0,{"$f":"IF(AJ277=statistics!$D$3,AB276+AH277-AG277,)","v":0},{"$f":"IF(AND(ROW(AC277)>=statistics!$C$55,ROW(AC277)<=statistics!$D$55),AC276+AH277-AG277,)","v":0},{"$f":"IF(AND(statistics!$C$55<=ROW(A277),ROW(A277)<=statistics!$D$55)=TRUE,AH277-AG277+AA276-INDEX(AA:AA,statistics!$C$55),\"\")","v":""},null,null,0,0,0,"",{"$f":"IF(statistics!$D$3<>0,IF(AJ277=statistics!$D$3,AG277,\"\"),IF(B277<>\"\",AG277,\"\"))","v":""},{"$f":"IF(statistics!$D$3<>0,IF(AJ277=statistics!$D$3,IF(AH277=0,\"\",AH277),\"\"),IF(AH277<>0,AH277,\"\"))","v":""},{"$f":"IF(statistics!$D$3<>0,IF(AJ277=statistics!$D$3,IF(A277=0,\"\",1),\"\"),IF(A277=0,\"\",1))","v":""},"","",null,"",{"$nulls":6},0,null,null,null,"",null,null,"",null,0,null,{"$error":"#NUM!"},{"$error":"#NUM!"},276]
[{"$nulls":4},"","","","","",null,null,"",{"$nulls":6},277,"",{"$f":"IF(A279=0,IF(B279=\"\",IF(B278=0,\"\",SUM($AG$1:AG278)-SUM($U$1:U277)),\"\"),SUM($AG$1:AG278)-SUM($U$1:U277))","v":""},{"$nulls":5},0,{"$f":"IF(AJ278=statistics!$D$3,AB277+AH278-AG278,)","v":0},{"$f":"IF(AND(ROW(AC278)>=statistics!$C$55,ROW(AC278)<=statistics!$D$55),AC277+AH278-AG278,)","v":0},{"$f":"IF(AND(statistics!$C$55<=ROW(A278),ROW(A278)<=statistics!$D$55)=TRUE,AH278-AG278+AA277-INDEX(AA:AA,statistics!$C$55),\"\")","v":""},null,null,0,0,0,"",{"$f":"IF(statistics!$D$3<>0,IF(AJ278=statistics!$D$3,AG278,\"\"),IF(B278<>\"\",AG278,\"\"))","v":""},{"$f":"IF(statistics!$D$3<>0,IF(AJ278=statistics!$D$3,IF(AH278=0,\"\",AH278),\"\"),IF(AH278<>0,AH278,\"\"))","v":""},{"$f":"IF(statistics!$D$3<>0,IF(AJ278=statistics!$D$3,IF(A278=0,\"\",1),\"\"),IF(A278=0,\"\",1))","v":""},"","",null,"",{"$nulls":6},0,null,null,null,"",null,null,"",null,0,null,{"$error":"#NUM!"},{"$error":"#NUM!"},277]
[{"$nulls":4},"","","","","",null,null,"",{"$nulls":6},278,"",{"$f":"IF(A280=0,IF(B280=\"\",IF(B279=0,\"\",SUM($AG$1:AG279)-SUM($U$1:U278)),\"\"),SUM($AG$1:AG279)-SUM($U$1:U278))","v":""},{"$nulls":5},0,{"$f":"IF(AJ279=statistics!$D$3,AB278+AH279-AG279,)","v":0},{"$f":"IF(AND(ROW(AC279)>=statistics!$C$55,ROW(AC279)<=statistics!$D$55),AC278+AH279-AG279,)","v":0},{"$f":"IF(AND(statistics!$C$55<=ROW(A279),ROW(A279)<=statistics!$D$55)=TRUE,AH279-AG279+AA278-INDEX(AA:AA,statistics!$C$55),\"\")","v":""},null,null,0,0,0,"",{"$f":"IF(statistics!$D$3<>0,IF(AJ279=statistics!$D$3,AG279,\"\"),IF(B279<>\"\",AG279,\"\"))","v":""},{"$f":"IF(statistics!$D$3<>0,IF(AJ279=statistics!$D$3,IF(AH279=0,\"\",AH279),\"\"),IF(AH279<>0,AH279,\"\"))","v":""},{"$f":"IF(statistics!$D$3<>0,IF(AJ279=statistics!$D$3,IF(A279=0,\"\",1),\"\"),IF(A279=0,\"\",1))","v":""},"","",null,"",{"$nulls":6},0,null,null,null,"",null,null,"",null,0,null,{"$error":"#NUM!"},{"$error":"#NUM!"},278]
[{"$nulls":4},"","","","","",null,null,"",{"$nulls":6},279,"",{"$f":"IF(A281=0,IF(B281=\"\",IF(B280=0,\"\",SUM($AG$1:AG280)-SUM($U$1:U279)),\"\"),SUM($AG$1:AG280)-SUM($U$1:U279))","v":""},{"$nulls":5},0,{"$f":"IF(AJ280=statistics!$D$3,AB279+AH280-AG280,)","v":0},{"$f":"IF(AND(ROW(AC280)>=statistics!$C$55,ROW(AC280)<=statistics!$D$55),AC279+AH280-AG280,)","v":0},{"$f":"IF(AND(statistics!$C$55<=ROW(A280),ROW(A280)<=statistics!$D$55)=TRUE,AH280-AG280+AA279-INDEX(AA:AA,statistics!$C$55),\"\")","v":""},null,null,0,0,0,"",{"$f":"IF(statistics!$D$3<>0,IF(AJ280=statistics!$D$3,AG280,\"\"),IF(B280<>\"\",AG280,\"\"))","v":""},{"$f":"IF(statistics!$D$3<>0,IF(AJ280=statistics!$D$3,IF(AH280=0,\"\",AH280),\"\"),IF(AH280<>0,AH280,\"\"))","v":""},{"$f":"IF(statistics!$D$3<>0,IF(AJ280=statistics!$D$3,IF(A280=0,\"\",1),\"\"),IF(A280=0,\"\",1))","v":""},"","",null,"",{"$nulls":6},0,null,null,null,"",null,null,"",null,0,null,{"$error":"#NUM!"},{"$error":"#NUM!"},279]
[{"$nulls":4},"","","","","",null,null,"",{"$nulls":6},280,"",{"$f":"IF(A282=0,IF(B282=\"\",IF(B281=0,\"\",SUM($AG$1:AG281)-SUM($U$1:U280)),\"\"),SUM($AG$1:AG281)-SUM($U$1:U280))","v":""},{"$nulls":5},0,{"$f":"IF(AJ281=statistics!$D$3,AB280+AH281-AG281,)","v":0},{"$f":"IF(AND(ROW(AC281)>=statistics!$C$55,ROW(AC281)<=statistics!$D$55),AC280+AH281-AG281,)","v":0},{"$f":"IF(AND(statistics!$C$55<=ROW(A281),ROW(A281)<=statistics!$D$55)=TRUE,AH281-AG281+AA280-INDEX(AA:AA,statistics!$C$55),\"\")","v":""},null,null,0,0,0,"",{"$f":"IF(statistics!$D$3<>0,IF(AJ281=statistics!$D$3,AG281,\"\"),IF(B281<>\"\",AG281,\"\"))","v":""},{"$f":"IF(statistics!$D$3<>0,IF(AJ281=statistics!$D$3,IF(AH281=0,\"\",AH281),\"\"),IF(AH281<>0,AH281,\"\"))","v":""},{"$f":"IF(statistics!$D$3<>0,IF(AJ281=statistics!$D$3,IF(A281=0,\"\",1),\"\"),IF(A281=0,\"\",1))","v":""},"","",null,"",{"$nulls":6},0,null,null,null,"",null,null,"",null,0,null,{"$error":"#NUM!"},{"$error":"#NUM!"},280]
[{"$nulls":4},"","","","","",null,null,"",{"$nulls":6},281,"",{"$f":"IF(A283=0,IF(B283=\"\",IF(B282=0,\"\",SUM($AG$1:AG282)-SUM($U$1:U281)),\"\"),SUM($AG$1:AG282)-SUM($U$1:U281))","v":""},{"$nulls":5},0,{"$f":"IF(AJ282=statistics!$D$3,AB281+AH282-AG282,)","v":0},{"$f":"IF(AND(ROW(AC282)>=statistics!$C$55,ROW(AC282)<=statistics!$D$55),AC281+AH282-AG282,)","v":0},{"$f":"IF(AND(statistics!$C$55<=ROW(A282),ROW(A282)<=statistics!$D$55)=TRUE,AH282-AG282+AA281-INDEX(AA:AA,statistics!$C$55),\"\")","v":""},null,null,0,0,0,"",{"$f":"IF(statistics!$D$3<>0,IF(AJ282=statistics!$D$3,AG282,\"\"),IF(B282<>\"\",AG282,\"\"))","v":""},{"$f":"IF(statistics!$D$3<>0,IF(AJ282=statistics!$D$3,IF(AH282=0,\"\",AH282),\"\"),IF(AH282<>0,AH282,\"\"))","v":""},{"$f":"IF(statistics!$D$3<>0,IF(AJ282=statistics!$D$3,IF(A282=0,\"\",1),\"\"),IF(A282=0,\"\",1))","v":""},"","",null,"",{"$nulls":6},0,null,null,null,"",null,null,"",null,0,null,{"$error":"#NUM!"},{"$error":"#NUM!"},281]
[{"$nulls":4},"","","","","",null,null,"",{"$nulls":6},282,"",{"$f":"IF(A284=0,IF(B284=\"\",IF(B283=0,\"\",SUM($AG$1:AG283)-SUM($U$1:U282)),\"\"),SUM($AG$1:AG283)-SUM($U$1:U282))","v":""},{"$nulls":5},0,{"$f":"IF(AJ283=statistics!$D$3,AB282+AH283-AG283,)","v":0},{"$f":"IF(AND(ROW(AC283)>=statistics!$C$55,ROW(AC283)<=statistics!$D$55),AC282+AH283-AG283,)","v":0},{"$f":"IF(AND(statistics!$C$55<=ROW(A283),ROW(A283)<=statistics!$D$55)=TRUE,AH283-AG283+AA282-INDEX(AA:AA,statistics!$C$55),\"\")","v":""},null,null,0,0,0,"",{"$f":"IF(statistics!$D$3<>0,IF(AJ283=statistics!$D$3,AG283,\"\"),IF(B283<>\"\",AG283,\"\"))","v":""},{"$f":"IF(statistics!$D$3<>0,IF(AJ283=statistics!$D$3,IF(AH283=0,\"\",AH283),\"\"),IF(AH283<>0,AH283,\"\"))","v":""},{"$f":"IF(statistics!$D$3<>0,IF(AJ283=statistics!$D$3,IF(A283=0,\"\",1),\"\"),IF(A283=0,\"\",1))","v":""},"","",null,"",{"$nulls":6},0,null,null,null,"",null,null,"",null,0,null,{"$error":"#NUM!"},{"$error":"#NUM!"},282]
[{"$nulls":4},"","","","","",null,null,"",{"$nulls":6},283,"",{"$f":"IF(A285=0,IF(B285=\"\",IF(B284=0,\"\",SUM($AG$1:AG284)-SUM($U$1:U283)),\"\"),SUM($AG$1:AG284)-SUM($U$1:U283))","v":""},{"$nulls":5},0,{"$f":"IF(AJ284=statistics!$D$3,AB283+AH284-AG284,)","v":0},{"$f":"IF(AND(ROW(AC284)>=statistics!$C$55,ROW(AC284)<=statistics!$D$55),AC283+AH284-AG284,)","v":0},{"$f":"IF(AND(statistics!$C$55<=ROW(A284),ROW(A284)<=statistics!$D$55)=TRUE,AH284-AG284+AA283-INDEX(AA:AA,statistics!$C$55),\"\")","v":""},null,null,0,0,0,"",{"$f":"IF(statistics!$D$3<>0,IF(AJ284=statistics!$D$3,AG284,\"\"),IF(B284<>\"\",AG284,\"\"))","v":""},{"$f":"IF(statistics!$D$3<>0,IF(AJ284=statistics!$D$3,IF(AH284=0,\"\",AH284),\"\"),IF(AH284<>0,AH284,\"\"))","v":""},{"$f":"IF(statistics!$D$3<>0,IF(AJ284=statistics!$D$3,IF(A284=0,\"\",1),\"\"),IF(A284=0,\"\",1))","v":""},"","",null,"",{"$nulls":6},0,null,null,null,"",null,null,"",null,0,null,{"$error":"#NUM!"},{"$error":"#NUM!"},283]
[{"$nulls":4},"","","","","",null,null,"",{"$nulls":6},284,"",{"$f":"IF(A286=0,IF(B286=\"\",IF(B285=0,\"\",SUM($AG$1:AG285)-SUM($U$1:U284)),\"\"),SUM($AG$1:AG285)-SUM($U$1:U284))","v":""},{"$nulls":5},0,{"$f":"IF(AJ285=statistics!$D$3,AB284+AH285-AG285,)","v":0},{"$f":"IF(AND(ROW(AC285)>=statistics!$C$55,ROW(AC285)<=statistics!$D$55),AC284+AH285-AG285,)","v":0},{"$f":"IF(AND(statistics!$C$55<=ROW(A285),ROW(A285)<=statistics!$D$55)=TRUE,AH285-AG285+AA284-INDEX(AA:AA,statistics!$C$55),\"\")","v":""},null,null,0,0,0,"",{"$f":"IF(statistics!$D$3<>0,IF(AJ285=statistics!$D$3,AG285,\"\"),IF(B285<>\"\",AG285,\"\"))","v":""},{"$f":"IF(statistics!$D$3<>0,IF(AJ285=statistics!$D$3,IF(AH285=0,\"\",AH285),\"\"),IF(AH285<>0,AH285,\"\"))","v":""},{"$f":"IF(statistics!$D$3<>0,IF(AJ285=statistics!$D$3,IF(A285=0,\"\",1),\"\"),IF(A285=0,\"\",1))","v":""},"","",null,"",{"$nulls":6},0,null,null,null,"",null,null,"",null,0,null,{"$error":"#NUM!"},{"$error":"#NUM!"},284]
[{"$nulls":4},"","","","","",null,null,"",{"$nulls":6},285,"",{"$f":"IF(A287=0,IF(B287=\"\",IF(B286=0,\"\",SUM($AG$1:AG286)-SUM($U$1:U285)),\"\"),SUM($AG$1:AG286)-SUM($U$1:U285))","v":""},{"$nulls":5},0,{"$f":"IF(AJ286=statistics!$D$3,AB285+AH286-AG286,)","v":0},{"$f":"IF(AND(ROW(AC286)>=statistics!$C$55,ROW(AC286)<=statistics!$D$55),AC285+AH286-AG286,)","v":0},{"$f":"IF(AND(statistics!$C$55<=ROW(A286),ROW(A286)<=statistics!$D$55)=TRUE,AH286-AG286+AA285-INDEX(AA:AA,statistics!$C$55),\"\")","v":""},null,null,0,0,0,"",{"$f":"IF(statistics!$D$3<>0,IF(AJ286=statistics!$D$3,AG286,\"\"),IF(B286<>\"\",AG286,\"\"))","v":""},{"$f":"IF(statistics!$D$3<>0,IF(AJ286=statistics!$D$3,IF(AH286=0,\"\",AH286),\"\"),IF(AH286<>0,AH286,\"\"))","v":""},{"$f":"IF(statistics!$D$3<>0,IF(AJ286=statistics!$D$3,IF(A286=0,\"\",1),\"\"),IF(A286=0,\"\",1))","v":""},"","",null,"",{"$nulls":6},0,null,null,null,"",null,null,"",null,0,null,{"$error":"#NUM!"},{"$error":"#NUM!"},285]
[{"$nulls":4},"","","","","",null,null,"",{"$nulls":6},286,"",{"$f":"IF(A288=0,IF(B288=\"\",IF(B287=0,\"\",SUM($AG$1:AG287)-SUM($U$1:U286)),\"\"),SUM($AG$1:AG287)-SUM($U$1:U286))","v":""},{"$nulls":5},0,{"$f":"IF(AJ287=statistics!$D$3,AB286+AH287-AG287,)","v":0},{"$f":"IF(AND(ROW(AC287)>=statistics!$C$55,ROW(AC287)<=statistics!$D$55),AC286+AH287-AG287,)","v":0},{"$f":"IF(AND(statistics!$C$55<=ROW(A287),ROW(A287)<=statistics!$D$55)=TRUE,AH287-AG287+AA286-INDEX(AA:AA,statistics!$C$55),\"\")","v":""},null,null,0,0,0,"",{"$f":"IF(statistics!$D$3<>0,IF(AJ287=statistics!$D$3,AG287,\"\"),IF(B287<>\"\",AG287,\"\"))","v":""},{"$f":"IF(statistics!$D$3<>0,IF(AJ287=statistics!$D$3,IF(AH287=0,\"\",AH287),\"\"),IF(AH287<>0,AH287,\"\"))","v":""},{"$f":"IF(statistics!$D$3<>0,IF(AJ287=statistics!$D$3,IF(A287=0,\"\",1),\"\"),IF(A287=0,\"\",1))","v":""},"","",null,"",{"$nulls":6},0,null,null,null,"",null,null,"",null,0,null,{"$error":"#NUM!"},{"$error":"#NUM!"},286]
[{"$nulls":4},"","","","","",null,null,"",{"$nulls":6},287,"",{"$f":"IF(A289=0,IF(B289=\"\",IF(B288=0,\"\",SUM($AG$1:AG288)-SUM($U$1:U287)),\"\"),SUM($AG$1:AG288)-SUM($U$1:U287))","v":""},{"$nulls":5},0,{"$f":"IF(AJ288=statistics!$D$3,AB287+AH288-AG288,)","v":0},{"$f":"IF(AND(ROW(AC288)>=statistics!$C$55,ROW(AC288)<=statistics!$D$55),AC287+AH288-AG288,)","v":0},{"$f":"IF(AND(statistics!$C$55<=ROW(A288),ROW(A288)<=statistics!$D$55)=TRUE,AH288-AG288+AA287-INDEX(AA:AA,statistics!$C$55),\"\")","v":""},null,null,0,0,0,"",{"$f":"IF(statistics!$D$3<>0,IF(AJ288=statistics!$D$3,AG288,\"\"),IF(B288<>\"\",AG288,\"\"))","v":""},{"$f":"IF(statistics!$D$3<>0,IF(AJ288=statistics!$D$3,IF(AH288=0,\"\",AH288),\"\"),IF(AH288<>0,AH288,\"\"))","v":""},{"$f":"IF(statistics!$D$3<>0,IF(AJ288=statistics!$D$3,IF(A288=0,\"\",1),\"\"),IF(A288=0,\"\",1))","v":""},"","",null,"",{"$nulls":6},0,null,null,null,"",null,null,"",null,0,null,{"$error":"#NUM!"},{"$error":"#NUM!"},287]
[{"$nulls":4},"","","","","",null,null,"",{"$nulls":6},288,"",{"$f":"IF(A290=0,IF(B290=\"\",IF(B289=0,\"\",SUM($AG$1:AG289)-SUM($U$1:U288)),\"\"),SUM($AG$1:AG289)-SUM($U$1:U288))","v":""},{"$nulls":5},0,{"$f":"IF(AJ289=statistics!$D$3,AB288+AH289-AG289,)","v":0},{"$f":"IF(AND(ROW(AC289)>=statistics!$C$55,ROW(AC289)<=statistics!$D$55),AC288+AH289-AG289,)","v":0},{"$f":"IF(AND(statistics!$C$55<=ROW(A289),ROW(A289)<=statistics!$D$55)=TRUE,AH289-AG289+AA288-INDEX(AA:AA,statistics!$C$55),\"\")","v":""},null,null,0,0,0,"",{"$f":"IF(statistics!$D$3<>0,IF(AJ289=statistics!$D$3,AG289,\"\"),IF(B289<>\"\",AG289,\"\"))","v":""},{"$f":"IF(statistics!$D$3<>0,IF(AJ289=statistics!$D$3,IF(AH289=0,\"\",AH289),\"\"),IF(AH289<>0,AH289,\"\"))","v":""},{"$f":"IF(statistics!$D$3<>0,IF(AJ289=statistics!$D$3,IF(A289=0,\"\",1),\"\"),IF(A289=0,\"\",1))","v":""},"","",null,"",{"$nulls":6},0,null,null,null,"",null,null,"",null,0,null,{"$error":"#NUM!"},{"$error":"#NUM!"},288]
[{"$nulls":4},"","","","","",null,null,"",{"$nulls":6},289,"",{"$f":"IF(A291=0,IF(B291=\"\",IF(B290=0,\"\",SUM($AG$1:AG290)-SUM($U$1:U289)),\"\"),SUM($AG$1:AG290)-SUM($U$1:U289))","v":""},{"$nulls":5},0,{"$f":"IF(AJ290=statistics!$D$3,AB289+AH290-AG290,)","v":0},{"$f":"IF(AND(ROW(AC290)>=statistics!$C$55,ROW(AC290)<=statistics!$D$55),AC289+AH290-AG290,)","v":0},{"$f":"IF(AND(statistics!$C$55<=ROW(A290),ROW(A290)<=statistics!$D$55)=TRUE,AH290-AG290+AA289-INDEX(AA:AA,statistics!$C$55),\"\")","v":""},null,null,0,0,0,"",{"$f":"IF(statistics!$D$3<>0,IF(AJ290=statistics!$D$3,AG290,\"\"),IF(B290<>\"\",AG290,\"\"))","v":""},{"$f":"IF(statistics!$D$3<>0,IF(AJ290=statistics!$D$3,IF(AH290=0,\"\",AH290),\"\"),IF(AH290<>0,AH290,\"\"))","v":""},{"$f":"IF(statistics!$D$3<>0,IF(AJ290=statistics!$D$3,IF(A290=0,\"\",1),\"\"),IF(A290=0,\"\",1))","v":""},"","",null,"",{"$nulls":6},0,null,null,null,"",null,null,"",null,0,null,{"$error":"#NUM!"},{"$error":"#NUM!"},289]
[{"$nulls":4},"","","","","",null,null,"",{"$nulls":6},290,"",{"$f":"IF(A292=0,IF(B292=\"\",IF(B291=0,\"\",SUM($AG$1:AG291)-SUM($U$1:U290)),\"\"),SUM($AG$1:AG291)-SUM($U$1:U290))","v":""},{"$nulls":5},0,{"$f":"IF(AJ291=statistics!$D$3,AB290+AH291-AG291,)","v":0},{"$f":"IF(AND(ROW(AC291)>=statistics!$C$55,ROW(AC291)<=statistics!$D$55),AC290+AH291-AG291,)","v":0},{"$f":"IF(AND(statistics!$C$55<=ROW(A291),ROW(A291)<=statistics!$D$55)=TRUE,AH291-AG291+AA290-INDEX(AA:AA,statistics!$C$55),\"\")","v":""},null,null,0,0,0,"",{"$f":"IF(statistics!$D$3<>0,IF(AJ291=statistics!$D$3,AG291,\"\"),IF(B291<>\"\",AG291,\"\"))","v":""},{"$f":"IF(statistics!$D$3<>0,IF(AJ291=statistics!$D$3,IF(AH291=0,\"\",AH291),\"\"),IF(AH291<>0,AH291,\"\"))","v":""},{"$f":"IF(statistics!$D$3<>0,IF(AJ291=statistics!$D$3,IF(A291=0,\"\",1),\"\"),IF(A291=0,\"\",1))","v":""},"","",null,"",{"$nulls":6},0,null,null,null,"",null,null,"",null,0,null,{"$error":"#NUM!"},{"$error":"#NUM!"},290]
[{"$nulls":4},"","","","","",null,null,"",{"$nulls":6},291,"",{"$f":"IF(A293=0,IF(B293=\"\",IF(B292=0,\"\",SUM($AG$1:AG292)-SUM($U$1:U291)),\"\"),SUM($AG$1:AG292)-SUM($U$1:U291))","v":""},{"$nulls":5},0,{"$f":"IF(AJ292=statistics!$D$3,AB291+AH292-AG292,)","v":0},{"$f":"IF(AND(ROW(AC292)>=statistics!$C$55,ROW(AC292)<=statistics!$D$55),AC291+AH292-AG292,)","v":0},{"$f":"IF(AND(statistics!$C$55<=ROW(A292),ROW(A292)<=statistics!$D$55)=TRUE,AH292-AG292+AA291-INDEX(AA:AA,statistics!$C$55),\"\")","v":""},null,null,0,0,0,"",{"$f":"IF(statistics!$D$3<>0,IF(AJ292=statistics!$D$3,AG292,\"\"),IF(B292<>\"\",AG292,\"\"))","v":""},{"$f":"IF(statistics!$D$3<>0,IF(AJ292=statistics!$D$3,IF(AH292=0,\"\",AH292),\"\"),IF(AH292<>0,AH292,\"\"))","v":""},{"$f":"IF(statistics!$D$3<>0,IF(AJ292=statistics!$D$3,IF(A292=0,\"\",1),\"\"),IF(A292=0,\"\",1))","v":""},"","",null,"",{"$nulls":6},0,null,null,null,"",null,null,"",null,0,null,{"$error":"#NUM!"},{"$error":"#NUM!"},291]
[{"$nulls":4},"","","","","",null,null,"",{"$nulls":6},292,"",{"$f":"IF(A294=0,IF(B294=\"\",IF(B293=0,\"\",SUM($AG$1:AG293)-SUM($U$1:U292)),\"\"),SUM($AG$1:AG293)-SUM($U$1:U292))","v":""},{"$nulls":5},0,{"$f":"IF(AJ293=statistics!$D$3,AB292+AH293-AG293,)","v":0},{"$f":"IF(AND(ROW(AC293)>=statistics!$C$55,ROW(AC293)<=statistics!$D$55),AC292+AH293-AG293,)","v":0},{"$f":"IF(AND(statistics!$C$55<=ROW(A293),ROW(A293)<=statistics!$D$55)=TRUE,AH293-AG293+AA292-INDEX(AA:AA,statistics!$C$55),\"\")","v":""},null,null,0,0,0,"",{"$f":"IF(statistics!$D$3<>0,IF(AJ293=statistics!$D$3,AG293,\"\"),IF(B293<>\"\",AG293,\"\"))","v":""},{"$f":"IF(statistics!$D$3<>0,IF(AJ293=statistics!$D$3,IF(AH293=0,\"\",AH293),\"\"),IF(AH293<>0,AH293,\"\"))","v":""},{"$f":"IF(statistics!$D$3<>0,IF(AJ293=statistics!$D$3,IF(A293=0,\"\",1),\"\"),IF(A293=0,\"\",1))","v":""},"","",null,"",{"$nulls":6},0,null,null,null,"",null,null,"",null,0,null,{"$error":"#NUM!"},{"$error":"#NUM!"},292]
[{"$nulls":4},"","","","","",null,null,"",{"$nulls":6},293,"",{"$f":"IF(A295=0,IF(B295=\"\",IF(B294=0,\"\",SUM($AG$1:AG294)-SUM($U$1:U293)),\"\"),SUM($AG$1:AG294)-SUM($U$1:U293))","v":""},{"$nulls":5},0,{"$f":"IF(AJ294=statistics!$D$3,AB293+AH294-AG294,)","v":0},{"$f":"IF(AND(ROW(AC294)>=statistics!$C$55,ROW(AC294)<=statistics!$D$55),AC293+AH294-AG294,)","v":0},{"$f":"IF(AND(statistics!$C$55<=ROW(A294),ROW(A294)<=statistics!$D$55)=TRUE,AH294-AG294+AA293-INDEX(AA:AA,statistics!$C$55),\"\")","v":""},null,null,0,0,0,"",{"$f":"IF(statistics!$D$3<>0,IF(AJ294=statistics!$D$3,AG294,\"\"),IF(B294<>\"\",AG294,\"\"))","v":""},{"$f":"IF(statistics!$D$3<>0,IF(AJ294=statistics!$D$3,IF(AH294=0,\"\",AH294),\"\"),IF(AH294<>0,AH294,\"\"))","v":""},{"$f":"IF(statistics!$D$3<>0,IF(AJ294=statistics!$D$3,IF(A294=0,\"\",1),\"\"),IF(A294=0,\"\",1))","v":""},"","",null,"",{"$nulls":6},0,null,null,null,"",null,null,"",null,0,null,{"$error":"#NUM!"},{"$error":"#NUM!"},293]
[{"$nulls":4},"","","","","",null,null,"",{"$nulls":6},294,"",{"$f":"IF(A296=0,IF(B296=\"\",IF(B295=0,\"\",SUM($AG$1:AG295)-SUM($U$1:U294)),\"\"),SUM($AG$1:AG295)-SUM($U$1:U294))","v":""},{"$nulls":5},0,{"$f":"IF(AJ295=statistics!$D$3,AB294+AH295-AG295,)","v":0},{"$f":"IF(AND(ROW(AC295)>=statistics!$C$55,ROW(AC295)<=statistics!$D$55),AC294+AH295-AG295,)","v":0},{"$f":"IF(AND(statistics!$C$55<=ROW(A295),ROW(A295)<=statistics!$D$55)=TRUE,AH295-AG295+AA294-INDEX(AA:AA,statistics!$C$55),\"\")","v":""},null,null,0,0,0,"",{"$f":"IF(statistics!$D$3<>0,IF(AJ295=statistics!$D$3,AG295,\"\"),IF(B295<>\"\",AG295,\"\"))","v":""},{"$f":"IF(statistics!$D$3<>0,IF(AJ295=statistics!$D$3,IF(AH295=0,\"\",AH295),\"\"),IF(AH295<>0,AH295,\"\"))","v":""},{"$f":"IF(statistics!$D$3<>0,IF(AJ295=statistics!$D$3,IF(A295=0,\"\",1),\"\"),IF(A295=0,\"\",1))","v":""},"","",null,"",{"$nulls":6},0,null,null,null,"",null,null,"",null,0,null,{"$error":"#NUM!"},{"$error":"#NUM!"},294]
[{"$nulls":4},"","","","","",null,null,"",{"$nulls":6},295,"",{"$f":"IF(A297=0,IF(B297=\"\",IF(B296=0,\"\",SUM($AG$1:AG296)-SUM($U$1:U295)),\"\"),SUM($AG$1:AG296)-SUM($U$1:U295))","v":""},{"$nulls":5},0,{"$f":"IF(AJ296=statistics!$D$3,AB295+AH296-AG296,)","v":0},{"$f":"IF(AND(ROW(AC296)>=statistics!$C$55,ROW(AC296)<=statistics!$D$55),AC295+AH296-AG296,)","v":0},{"$f":"IF(AND(statistics!$C$55<=ROW(A296),ROW(A296)<=statistics!$D$55)=TRUE,AH296-AG296+AA295-INDEX(AA:AA,statistics!$C$55),\"\")","v":""},null,null,0,0,0,"",{"$f":"IF(statistics!$D$3<>0,IF(AJ296=statistics!$D$3,AG296,\"\"),IF(B296<>\"\",AG296,\"\"))","v":""},{"$f":"IF(statistics!$D$3<>0,IF(AJ296=statistics!$D$3,IF(AH296=0,\"\",AH296),\"\"),IF(AH296<>0,AH296,\"\"))","v":""},{"$f":"IF(statistics!$D$3<>0,IF(AJ296=statistics!$D$3,IF(A296=0,\"\",1),\"\"),IF(A296=0,\"\",1))","v":""},"","",null,"",{"$nulls":6},0,null,null,null,"",null,null,"",null,0,null,{"$error":"#NUM!"},{"$error":"#NUM!"},295]
[{"$nulls":4},"","","","","",null,null,"",{"$nulls":6},296,"",{"$f":"IF(A298=0,IF(B298=\"\",IF(B297=0,\"\",SUM($AG$1:AG297)-SUM($U$1:U296)),\"\"),SUM($AG$1:AG297)-SUM($U$1:U296))","v":""},{"$nulls":5},0,{"$f":"IF(AJ297=statistics!$D$3,AB296+AH297-AG297,)","v":0},{"$f":"IF(AND(ROW(AC297)>=statistics!$C$55,ROW(AC297)<=statistics!$D$55),AC296+AH297-AG297,)","v":0},{"$f":"IF(AND(statistics!$C$55<=ROW(A297),ROW(A297)<=statistics!$D$55)=TRUE,AH297-AG297+AA296-INDEX(AA:AA,statistics!$C$55),\"\")","v":""},null,null,0,0,0,"",{"$f":"IF(statistics!$D$3<>0,IF(AJ297=statistics!$D$3,AG297,\"\"),IF(B297<>\"\",AG297,\"\"))","v":""},{"$f":"IF(statistics!$D$3<>0,IF(AJ297=statistics!$D$3,IF(AH297=0,\"\",AH297),\"\"),IF(AH297<>0,AH297,\"\"))","v":""},{"$f":"IF(statistics!$D$3<>0,IF(AJ297=statistics!$D$3,IF(A297=0,\"\",1),\"\"),IF(A297=0,\"\",1))","v":""},"","",null,"",{"$nulls":6},0,null,null,null,"",null,null,"",null,0,null,{"$error":"#NUM!"},{"$error":"#NUM!"},296]
[{"$nulls":4},"","","","","",null,null,"",{"$nulls":6},297,"",{"$f":"IF(A299=0,IF(B299=\"\",IF(B298=0,\"\",SUM($AG$1:AG298)-SUM($U$1:U297)),\"\"),SUM($AG$1:AG298)-SUM($U$1:U297))","v":""},{"$nulls":5},0,{"$f":"IF(AJ298=statistics!$D$3,AB297+AH298-AG298,)","v":0},{"$f":"IF(AND(ROW(AC298)>=statistics!$C$55,ROW(AC298)<=statistics!$D$55),AC297+AH298-AG298,)","v":0},{"$f":"IF(AND(statistics!$C$55<=ROW(A298),ROW(A298)<=statistics!$D$55)=TRUE,AH298-AG298+AA297-INDEX(AA:AA,statistics!$C$55),\"\")","v":""},null,null,0,0,0,"",{"$f":"IF(statistics!$D$3<>0,IF(AJ298=statistics!$D$3,AG298,\"\"),IF(B298<>\"\",AG298,\"\"))","v":""},{"$f":"IF(statistics!$D$3<>0,IF(AJ298=statistics!$D$3,IF(AH298=0,\"\",AH298),\"\"),IF(AH298<>0,AH298,\"\"))","v":""},{"$f":"IF(statistics!$D$3<>0,IF(AJ298=statistics!$D$3,IF(A298=0,\"\",1),\"\"),IF(A298=0,\"\",1))","v":""},"","",null,"",{"$nulls":6},0,null,null,null,"",null,null,"",null,0,null,{"$error":"#NUM!"},{"$error":"#NUM!"},297]
[{"$nulls":4},"","","","","",null,null,"",{"$nulls":6},298,"",{"$f":"IF(A300=0,IF(B300=\"\",IF(B299=0,\"\",SUM($AG$1:AG299)-SUM($U$1:U298)),\"\"),SUM($AG$1:AG299)-SUM($U$1:U298))","v":""},{"$nulls":5},0,{"$f":"IF(AJ299=statistics!$D$3,AB298+AH299-AG299,)","v":0},{"$f":"IF(AND(ROW(AC299)>=statistics!$C$55,ROW(AC299)<=statistics!$D$55),AC298+AH299-AG299,)","v":0},{"$f":"IF(AND(statistics!$C$55<=ROW(A299),ROW(A299)<=statistics!$D$55)=TRUE,AH299-AG299+AA298-INDEX(AA:AA,statistics!$C$55),\"\")","v":""},null,null,0,0,0,"",{"$f":"IF(statistics!$D$3<>0,IF(AJ299=statistics!$D$3,AG299,\"\"),IF(B299<>\"\",AG299,\"\"))","v":""},{"$f":"IF(statistics!$D$3<>0,IF(AJ299=statistics!$D$3,IF(AH299=0,\"\",AH299),\"\"),IF(AH299<>0,AH299,\"\"))","v":""},{"$f":"IF(statistics!$D$3<>0,IF(AJ299=statistics!$D$3,IF(A299=0,\"\",1),\"\"),IF(A299=0,\"\",1))","v":""},"","",null,"",{"$nulls":6},0,null,null,null,"",null,null,"",null,0,null,{"$error":"#NUM!"},{"$error":"#NUM!"},298]
[{"$nulls":4},"","","","","",null,null,"",{"$nulls":6},299,"",{"$f":"IF(A301=0,IF(B301=\"\",IF(B300=0,\"\",SUM($AG$1:AG300)-SUM($U$1:U299)),\"\"),SUM($AG$1:AG300)-SUM($U$1:U299))","v":""},{"$nulls":5},0,{"$f":"IF(AJ300=statistics!$D$3,AB299+AH300-AG300,)","v":0},{"$f":"IF(AND(ROW(AC300)>=statistics!$C$55,ROW(AC300)<=statistics!$D$55),AC299+AH300-AG300,)","v":0},{"$f":"IF(AND(statistics!$C$55<=ROW(A300),ROW(A300)<=statistics!$D$55)=TRUE,AH300-AG300+AA299-INDEX(AA:AA,statistics!$C$55),\"\")","v":""},null,null,0,0,0,"",{"$f":"IF(statistics!$D$3<>0,IF(AJ300=statistics!$D$3,AG300,\"\"),IF(B300<>\"\",AG300,\"\"))","v":""},{"$f":"IF(statistics!$D$3<>0,IF(AJ300=statistics!$D$3,IF(AH300=0,\"\",AH300),\"\"),IF(AH300<>0,AH300,\"\"))","v":""},{"$f":"IF(statistics!$D$3<>0,IF(AJ300=statistics!$D$3,IF(A300=0,\"\",1),\"\"),IF(A300=0,\"\",1))","v":""},"","",null,"",{"$nulls":6},0,null,null,null,"",null,null,"",null,0,null,{"$error":"#NUM!"},{"$error":"#NUM!"},299]
[{"$nulls":4},"","","","","",null,null,"",{"$nulls":6},300,"",{"$f":"IF(A302=0,IF(B302=\"\",IF(B301=0,\"\",SUM($AG$1:AG301)-SUM($U$1:U300)),\"\"),SUM($AG$1:AG301)-SUM($U$1:U300))","v":""},{"$nulls":5},0,{"$f":"IF(AJ301=statistics!$D$3,AB300+AH301-AG301,)","v":0},{"$f":"IF(AND(ROW(AC301)>=statistics!$C$55,ROW(AC301)<=statistics!$D$55),AC300+AH301-AG301,)","v":0},{"$f":"IF(AND(statistics!$C$55<=ROW(A301),ROW(A301)<=statistics!$D$55)=TRUE,AH301-AG301+AA300-INDEX(AA:AA,statistics!$C$55),\"\")","v":""},null,null,0,0,0,"",{"$f":"IF(statistics!$D$3<>0,IF(AJ301=statistics!$D$3,AG301,\"\"),IF(B301<>\"\",AG301,\"\"))","v":""},{"$f":"IF(statistics!$D$3<>0,IF(AJ301=statistics!$D$3,IF(AH301=0,\"\",AH301),\"\"),IF(AH301<>0,AH301,\"\"))","v":""},{"$f":"IF(statistics!$D$3<>0,IF(AJ301=statistics!$D$3,IF(A301=0,\"\",1),\"\"),IF(A301=0,\"\",1))","v":""},"","",null,"",{"$nulls":6},0,null,null,null,"",null,null,"",null,0,null,{"$error":"#NUM!"},{"$error":"#NUM!"},300]
[{"$nulls":4},"","","","","",null,null,"",{"$nulls":6},301,"",{"$f":"IF(A303=0,IF(B303=\"\",IF(B302=0,\"\",SUM($AG$1:AG302)-SUM($U$1:U301)),\"\"),SUM($AG$1:AG302)-SUM($U$1:U301))","v":""},{"$nulls":5},0,{"$f":"IF(AJ302=statistics!$D$3,AB301+AH302-AG302,)","v":0},{"$f":"IF(AND(ROW(AC302)>=statistics!$C$55,ROW(AC302)<=statistics!$D$55),AC301+AH302-AG302,)","v":0},{"$f":"IF(AND(statistics!$C$55<=ROW(A302),ROW(A302)<=statistics!$D$55)=TRUE,AH302-AG302+AA301-INDEX(AA:AA,statistics!$C$55),\"\")","v":""},null,null,0,0,0,"",{"$f":"IF(statistics!$D$3<>0,IF(AJ302=statistics!$D$3,AG302,\"\"),IF(B302<>\"\",AG302,\"\"))","v":""},{"$f":"IF(statistics!$D$3<>0,IF(AJ302=statistics!$D$3,IF(AH302=0,\"\",AH302),\"\"),IF(AH302<>0,AH302,\"\"))","v":""},{"$f":"IF(statistics!$D$3<>0,IF(AJ302=statistics!$D$3,IF(A302=0,\"\",1),\"\"),IF(A302=0,\"\",1))","v":""},"","",null,"",{"$nulls":6},0,null,null,null,"",null,null,"",null,0,null,{"$error":"#NUM!"},{"$error":"#NUM!"},301]
[{"$nulls":4},"","","","","",null,null,"",{"$nulls":6},302,"",{"$f":"IF(A304=0,IF(B304=\"\",IF(B303=0,\"\",SUM($AG$1:AG303)-SUM($U$1:U302)),\"\"),SUM($AG$1:AG303)-SUM($U$1:U302))","v":""},{"$nulls":5},0,{"$f":"IF(AJ303=statistics!$D$3,AB302+AH303-AG303,)","v":0},{"$f":"IF(AND(ROW(AC303)>=statistics!$C$55,ROW(AC303)<=statistics!$D$55),AC302+AH303-AG303,)","v":0},{"$f":"IF(AND(statistics!$C$55<=ROW(A303),ROW(A303)<=statistics!$D$55)=TRUE,AH303-AG303+AA302-INDEX(AA:AA,statistics!$C$55),\"\")","v":""},null,null,0,0,0,"",{"$f":"IF(statistics!$D$3<>0,IF(AJ303=statistics!$D$3,AG303,\"\"),IF(B303<>\"\",AG303,\"\"))","v":""},{"$f":"IF(statistics!$D$3<>0,IF(AJ303=statistics!$D$3,IF(AH303=0,\"\",AH303),\"\"),IF(AH303<>0,AH303,\"\"))","v":""},{"$f":"IF(statistics!$D$3<>0,IF(AJ303=statistics!$D$3,IF(A303=0,\"\",1),\"\"),IF(A303=0,\"\",1))","v":""},"","",null,"",{"$nulls":6},0,null,null,null,"",null,null,"",null,0,null,{"$error":"#NUM!"},{"$error":"#NUM!"},302]
[{"$nulls":4},"","","","","",null,null,"",{"$nulls":6},303,"",{"$f":"IF(A305=0,IF(B305=\"\",IF(B304=0,\"\",SUM($AG$1:AG304)-SUM($U$1:U303)),\"\"),SUM($AG$1:AG304)-SUM($U$1:U303))","v":""},{"$nulls":5},0,{"$f":"IF(AJ304=statistics!$D$3,AB303+AH304-AG304,)","v":0},{"$f":"IF(AND(ROW(AC304)>=statistics!$C$55,ROW(AC304)<=statistics!$D$55),AC303+AH304-AG304,)","v":0},{"$f":"IF(AND(statistics!$C$55<=ROW(A304),ROW(A304)<=statistics!$D$55)=TRUE,AH304-AG304+AA303-INDEX(AA:AA,statistics!$C$55),\"\")","v":""},null,null,0,0,0,"",{"$f":"IF(statistics!$D$3<>0,IF(AJ304=statistics!$D$3,AG304,\"\"),IF(B304<>\"\",AG304,\"\"))","v":""},{"$f":"IF(statistics!$D$3<>0,IF(AJ304=statistics!$D$3,IF(AH304=0,\"\",AH304),\"\"),IF(AH304<>0,AH304,\"\"))","v":""},{"$f":"IF(statistics!$D$3<>0,IF(AJ304=statistics!$D$3,IF(A304=0,\"\",1),\"\"),IF(A304=0,\"\",1))","v":""},"","",null,"",{"$nulls":6},0,null,null,null,"",null,null,"",null,0,null,{"$error":"#NUM!"},{"$error":"#NUM!"},303]
[{"$nulls":4},"","","","","",null,null,"",{"$nulls":6},304,"",{"$f":"IF(A306=0,IF(B306=\"\",IF(B305=0,\"\",SUM($AG$1:AG305)-SUM($U$1:U304)),\"\"),SUM($AG$1:AG305)-SUM($U$1:U304))","v":""},{"$nulls":5},0,{"$f":"IF(AJ305=statistics!$D$3,AB304+AH305-AG305,)","v":0},{"$f":"IF(AND(ROW(AC305)>=statistics!$C$55,ROW(AC305)<=statistics!$D$55),AC304+AH305-AG305,)","v":0},{"$f":"IF(AND(statistics!$C$55<=ROW(A305),ROW(A305)<=statistics!$D$55)=TRUE,AH305-AG305+AA304-INDEX(AA:AA,statistics!$C$55),\"\")","v":""},null,null,0,0,0,"",{"$f":"IF(statistics!$D$3<>0,IF(AJ305=statistics!$D$3,AG305,\"\"),IF(B305<>\"\",AG305,\"\"))","v":""},{"$f":"IF(statistics!$D$3<>0,IF(AJ305=statistics!$D$3,IF(AH305=0,\"\",AH305),\"\"),IF(AH305<>0,AH305,\"\"))","v":""},{"$f":"IF(statistics!$D$3<>0,IF(AJ305=statistics!$D$3,IF(A305=0,\"\",1),\"\"),IF(A305=0,\"\",1))","v":""},"","",null,"",{"$nulls":6},0,null,null,null,"",null,null,"",null,0,null,{"$error":"#NUM!"},{"$error":"#NUM!"},304]
[{"$nulls":4},"","","","","",null,null,"",{"$nulls":6},305,"",{"$f":"IF(A307=0,IF(B307=\"\",IF(B306=0,\"\",SUM($AG$1:AG306)-SUM($U$1:U305)),\"\"),SUM($AG$1:AG306)-SUM($U$1:U305))","v":""},{"$nulls":5},0,{"$f":"IF(AJ306=statistics!$D$3,AB305+AH306-AG306,)","v":0},{"$f":"IF(AND(ROW(AC306)>=statistics!$C$55,ROW(AC306)<=statistics!$D$55),AC305+AH306-AG306,)","v":0},{"$f":"IF(AND(statistics!$C$55<=ROW(A306),ROW(A306)<=statistics!$D$55)=TRUE,AH306-AG306+AA305-INDEX(AA:AA,statistics!$C$55),\"\")","v":""},null,null,0,0,0,"",{"$f":"IF(statistics!$D$3<>0,IF(AJ306=statistics!$D$3,AG306,\"\"),IF(B306<>\"\",AG306,\"\"))","v":""},{"$f":"IF(statistics!$D$3<>0,IF(AJ306=statistics!$D$3,IF(AH306=0,\"\",AH306),\"\"),IF(AH306<>0,AH306,\"\"))","v":""},{"$f":"IF(statistics!$D$3<>0,IF(AJ306=statistics!$D$3,IF(A306=0,\"\",1),\"\"),IF(A306=0,\"\",1))","v":""},"","",null,"",{"$nulls":6},0,null,null,null,"",null,null,"",null,0,null,{"$error":"#NUM!"},{"$error":"#NUM!"},305]
[{"$nulls":4},"","","","","",null,null,"",{"$nulls":6},306,"",{"$f":"IF(A308=0,IF(B308=\"\",IF(B307=0,\"\",SUM($AG$1:AG307)-SUM($U$1:U306)),\"\"),SUM($AG$1:AG307)-SUM($U$1:U306))","v":""},{"$nulls":5},0,{"$f":"IF(AJ307=statistics!$D$3,AB306+AH307-AG307,)","v":0},{"$f":"IF(AND(ROW(AC307)>=statistics!$C$55,ROW(AC307)<=statistics!$D$55),AC306+AH307-AG307,)","v":0},{"$f":"IF(AND(statistics!$C$55<=ROW(A307),ROW(A307)<=statistics!$D$55)=TRUE,AH307-AG307+AA306-INDEX(AA:AA,statistics!$C$55),\"\")","v":""},null,null,0,0,0,"",{"$f":"IF(statistics!$D$3<>0,IF(AJ307=statistics!$D$3,AG307,\"\"),IF(B307<>\"\",AG307,\"\"))","v":""},{"$f":"IF(statistics!$D$3<>0,IF(AJ307=statistics!$D$3,IF(AH307=0,\"\",AH307),\"\"),IF(AH307<>0,AH307,\"\"))","v":""},{"$f":"IF(statistics!$D$3<>0,IF(AJ307=statistics!$D$3,IF(A307=0,\"\",1),\"\"),IF(A307=0,\"\",1))","v":""},"","",null,"",{"$nulls":6},0,null,null,null,"",null,null,"",null,0,null,{"$error":"#NUM!"},{"$error":"#NUM!"},306]
[{"$nulls":4},"","","","","",null,null,"",{"$nulls":6},307,"",{"$f":"IF(A309=0,IF(B309=\"\",IF(B308=0,\"\",SUM($AG$1:AG308)-SUM($U$1:U307)),\"\"),SUM($AG$1:AG308)-SUM($U$1:U307))","v":""},{"$nulls":5},0,{"$f":"IF(AJ308=statistics!$D$3,AB307+AH308-AG308,)","v":0},{"$f":"IF(AND(ROW(AC308)>=statistics!$C$55,ROW(AC308)<=statistics!$D$55),AC307+AH308-AG308,)","v":0},{"$f":"IF(AND(statistics!$C$55<=ROW(A308),ROW(A308)<=statistics!$D$55)=TRUE,AH308-AG308+AA307-INDEX(AA:AA,statistics!$C$55),\"\")","v":""},null,null,0,0,0,"",{"$f":"IF(statistics!$D$3<>0,IF(AJ308=statistics!$D$3,AG308,\"\"),IF(B308<>\"\",AG308,\"\"))","v":""},{"$f":"IF(statistics!$D$3<>0,IF(AJ308=statistics!$D$3,IF(AH308=0,\"\",AH308),\"\"),IF(AH308<>0,AH308,\"\"))","v":""},{"$f":"IF(statistics!$D$3<>0,IF(AJ308=statistics!$D$3,IF(A308=0,\"\",1),\"\"),IF(A308=0,\"\",1))","v":""},"","",null,"",{"$nulls":6},0,null,null,null,"",null,null,"",null,0,null,{"$error":"#NUM!"},{"$error":"#NUM!"},307]
[{"$nulls":4},"","","","","",null,null,"",{"$nulls":6},308,"",{"$f":"IF(A310=0,IF(B310=\"\",IF(B309=0,\"\",SUM($AG$1:AG309)-SUM($U$1:U308)),\"\"),SUM($AG$1:AG309)-SUM($U$1:U308))","v":""},{"$nulls":5},0,{"$f":"IF(AJ309=statistics!$D$3,AB308+AH309-AG309,)","v":0},{"$f":"IF(AND(ROW(AC309)>=statistics!$C$55,ROW(AC309)<=statistics!$D$55),AC308+AH309-AG309,)","v":0},{"$f":"IF(AND(statistics!$C$55<=ROW(A309),ROW(A309)<=statistics!$D$55)=TRUE,AH309-AG309+AA308-INDEX(AA:AA,statistics!$C$55),\"\")","v":""},null,null,0,0,0,"",{"$f":"IF(statistics!$D$3<>0,IF(AJ309=statistics!$D$3,AG309,\"\"),IF(B309<>\"\",AG309,\"\"))","v":""},{"$f":"IF(statistics!$D$3<>0,IF(AJ309=statistics!$D$3,IF(AH309=0,\"\",AH309),\"\"),IF(AH309<>0,AH309,\"\"))","v":""},{"$f":"IF(statistics!$D$3<>0,IF(AJ309=statistics!$D$3,IF(A309=0,\"\",1),\"\"),IF(A309=0,\"\",1))","v":""},"","",null,"",{"$nulls":6},0,null,null,null,"",null,null,"",null,0,null,{"$error":"#NUM!"},{"$error":"#NUM!"},308]
[{"$nulls":4},"","","","","",null,null,"",{"$nulls":6},309,"",{"$f":"IF(A311=0,IF(B311=\"\",IF(B310=0,\"\",SUM($AG$1:AG310)-SUM($U$1:U309)),\"\"),SUM($AG$1:AG310)-SUM($U$1:U309))","v":""},{"$nulls":5},0,{"$f":"IF(AJ310=statistics!$D$3,AB309+AH310-AG310,)","v":0},{"$f":"IF(AND(ROW(AC310)>=statistics!$C$55,ROW(AC310)<=statistics!$D$55),AC309+AH310-AG310,)","v":0},{"$f":"IF(AND(statistics!$C$55<=ROW(A310),ROW(A310)<=statistics!$D$55)=TRUE,AH310-AG310+AA309-INDEX(AA:AA,statistics!$C$55),\"\")","v":""},null,null,0,0,0,"",{"$f":"IF(statistics!$D$3<>0,IF(AJ310=statistics!$D$3,AG310,\"\"),IF(B310<>\"\",AG310,\"\"))","v":""},{"$f":"IF(statistics!$D$3<>0,IF(AJ310=statistics!$D$3,IF(AH310=0,\"\",AH310),\"\"),IF(AH310<>0,AH310,\"\"))","v":""},{"$f":"IF(statistics!$D$3<>0,IF(AJ310=statistics!$D$3,IF(A310=0,\"\",1),\"\"),IF(A310=0,\"\",1))","v":""},"","",null,"",{"$nulls":6},0,null,null,null,"",null,null,"",null,0,null,{"$error":"#NUM!"},{"$error":"#NUM!"},309]
[{"$nulls":4},"","","","","",null,null,"",{"$nulls":6},310,"",{"$f":"IF(A312=0,IF(B312=\"\",IF(B311=0,\"\",SUM($AG$1:AG311)-SUM($U$1:U310)),\"\"),SUM($AG$1:AG311)-SUM($U$1:U310))","v":""},{"$nulls":5},0,{"$f":"IF(AJ311=statistics!$D$3,AB310+AH311-AG311,)","v":0},{"$f":"IF(AND(ROW(AC311)>=statistics!$C$55,ROW(AC311)<=statistics!$D$55),AC310+AH311-AG311,)","v":0},{"$f":"IF(AND(statistics!$C$55<=ROW(A311),ROW(A311)<=statistics!$D$55)=TRUE,AH311-AG311+AA310-INDEX(AA:AA,statistics!$C$55),\"\")","v":""},null,null,0,0,0,"",{"$f":"IF(statistics!$D$3<>0,IF(AJ311=statistics!$D$3,AG311,\"\"),IF(B311<>\"\",AG311,\"\"))","v":""},{"$f":"IF(statistics!$D$3<>0,IF(AJ311=statistics!$D$3,IF(AH311=0,\"\",AH311),\"\"),IF(AH311<>0,AH311,\"\"))","v":""},{"$f":"IF(statistics!$D$3<>0,IF(AJ311=statistics!$D$3,IF(A311=0,\"\",1),\"\"),IF(A311=0,\"\",1))","v":""},"","",null,"",{"$nulls":6},0,null,null,null,"",null,null,"",null,0,null,{"$error":"#NUM!"},{"$error":"#NUM!"},310]
[{"$nulls":4},"","","","","",null,null,"",{"$nulls":6},311,"",{"$f":"IF(A313=0,IF(B313=\"\",IF(B312=0,\"\",SUM($AG$1:AG312)-SUM($U$1:U311)),\"\"),SUM($AG$1:AG312)-SUM($U$1:U311))","v":""},{"$nulls":5},0,{"$f":"IF(AJ312=statistics!$D$3,AB311+AH312-AG312,)","v":0},{"$f":"IF(AND(ROW(AC312)>=statistics!$C$55,ROW(AC312)<=statistics!$D$55),AC311+AH312-AG312,)","v":0},{"$f":"IF(AND(statistics!$C$55<=ROW(A312),ROW(A312)<=statistics!$D$55)=TRUE,AH312-AG312+AA311-INDEX(AA:AA,statistics!$C$55),\"\")","v":""},null,null,0,0,0,"",{"$f":"IF(statistics!$D$3<>0,IF(AJ312=statistics!$D$3,AG312,\"\"),IF(B312<>\"\",AG312,\"\"))","v":""},{"$f":"IF(statistics!$D$3<>0,IF(AJ312=statistics!$D$3,IF(AH312=0,\"\",AH312),\"\"),IF(AH312<>0,AH312,\"\"))","v":""},{"$f":"IF(statistics!$D$3<>0,IF(AJ312=statistics!$D$3,IF(A312=0,\"\",1),\"\"),IF(A312=0,\"\",1))","v":""},"","",null,"",{"$nulls":6},0,null,null,null,"",null,null,"",null,0,null,{"$error":"#NUM!"},{"$error":"#NUM!"},311]
[{"$nulls":4},"","","","","",null,null,"",{"$nulls":6},312,"",{"$f":"IF(A314=0,IF(B314=\"\",IF(B313=0,\"\",SUM($AG$1:AG313)-SUM($U$1:U312)),\"\"),SUM($AG$1:AG313)-SUM($U$1:U312))","v":""},{"$nulls":5},0,{"$f":"IF(AJ313=statistics!$D$3,AB312+AH313-AG313,)","v":0},{"$f":"IF(AND(ROW(AC313)>=statistics!$C$55,ROW(AC313)<=statistics!$D$55),AC312+AH313-AG313,)","v":0},{"$f":"IF(AND(statistics!$C$55<=ROW(A313),ROW(A313)<=statistics!$D$55)=TRUE,AH313-AG313+AA312-INDEX(AA:AA,statistics!$C$55),\"\")","v":""},null,null,0,0,0,"",{"$f":"IF(statistics!$D$3<>0,IF(AJ313=statistics!$D$3,AG313,\"\"),IF(B313<>\"\",AG313,\"\"))","v":""},{"$f":"IF(statistics!$D$3<>0,IF(AJ313=statistics!$D$3,IF(AH313=0,\"\",AH313),\"\"),IF(AH313<>0,AH313,\"\"))","v":""},{"$f":"IF(statistics!$D$3<>0,IF(AJ313=statistics!$D$3,IF(A313=0,\"\",1),\"\"),IF(A313=0,\"\",1))","v":""},"","",null,"",{"$nulls":6},0,null,null,null,"",null,null,"",null,0,null,{"$error":"#NUM!"},{"$error":"#NUM!"},312]
[{"$nulls":4},"","","","","",null,null,"",{"$nulls":6},313,"",{"$f":"IF(A315=0,IF(B315=\"\",IF(B314=0,\"\",SUM($AG$1:AG314)-SUM($U$1:U313)),\"\"),SUM($AG$1:AG314)-SUM($U$1:U313))","v":""},{"$nulls":5},0,{"$f":"IF(AJ314=statistics!$D$3,AB313+AH314-AG314,)","v":0},{"$f":"IF(AND(ROW(AC314)>=statistics!$C$55,ROW(AC314)<=statistics!$D$55),AC313+AH314-AG314,)","v":0},{"$f":"IF(AND(statistics!$C$55<=ROW(A314),ROW(A314)<=statistics!$D$55)=TRUE,AH314-AG314+AA313-INDEX(AA:AA,statistics!$C$55),\"\")","v":""},null,null,0,0,0,"",{"$f":"IF(statistics!$D$3<>0,IF(AJ314=statistics!$D$3,AG314,\"\"),IF(B314<>\"\",AG314,\"\"))","v":""},{"$f":"IF(statistics!$D$3<>0,IF(AJ314=statistics!$D$3,IF(AH314=0,\"\",AH314),\"\"),IF(AH314<>0,AH314,\"\"))","v":""},{"$f":"IF(statistics!$D$3<>0,IF(AJ314=statistics!$D$3,IF(A314=0,\"\",1),\"\"),IF(A314=0,\"\",1))","v":""},"","",null,"",{"$nulls":6},0,null,null,null,"",null,null,"",null,0,null,{"$error":"#NUM!"},{"$error":"#NUM!"},313]
[{"$nulls":4},"","","","","",null,null,"",{"$nulls":6},314,"",{"$f":"IF(A316=0,IF(B316=\"\",IF(B315=0,\"\",SUM($AG$1:AG315)-SUM($U$1:U314)),\"\"),SUM($AG$1:AG315)-SUM($U$1:U314))","v":""},{"$nulls":5},0,{"$f":"IF(AJ315=statistics!$D$3,AB314+AH315-AG315,)","v":0},{"$f":"IF(AND(ROW(AC315)>=statistics!$C$55,ROW(AC315)<=statistics!$D$55),AC314+AH315-AG315,)","v":0},{"$f":"IF(AND(statistics!$C$55<=ROW(A315),ROW(A315)<=statistics!$D$55)=TRUE,AH315-AG315+AA314-INDEX(AA:AA,statistics!$C$55),\"\")","v":""},null,null,0,0,0,"",{"$f":"IF(statistics!$D$3<>0,IF(AJ315=statistics!$D$3,AG315,\"\"),IF(B315<>\"\",AG315,\"\"))","v":""},{"$f":"IF(statistics!$D$3<>0,IF(AJ315=statistics!$D$3,IF(AH315=0,\"\",AH315),\"\"),IF(AH315<>0,AH315,\"\"))","v":""},{"$f":"IF(statistics!$D$3<>0,IF(AJ315=statistics!$D$3,IF(A315=0,\"\",1),\"\"),IF(A315=0,\"\",1))","v":""},"","",null,"",{"$nulls":6},0,null,null,null,"",null,null,"",null,0,null,{"$error":"#NUM!"},{"$error":"#NUM!"},314]
[{"$nulls":4},"","","","","",null,null,"",{"$nulls":6},315,"",{"$f":"IF(A317=0,IF(B317=\"\",IF(B316=0,\"\",SUM($AG$1:AG316)-SUM($U$1:U315)),\"\"),SUM($AG$1:AG316)-SUM($U$1:U315))","v":""},{"$nulls":5},0,{"$f":"IF(AJ316=statistics!$D$3,AB315+AH316-AG316,)","v":0},{"$f":"IF(AND(ROW(AC316)>=statistics!$C$55,ROW(AC316)<=statistics!$D$55),AC315+AH316-AG316,)","v":0},{"$f":"IF(AND(statistics!$C$55<=ROW(A316),ROW(A316)<=statistics!$D$55)=TRUE,AH316-AG316+AA315-INDEX(AA:AA,statistics!$C$55),\"\")","v":""},null,null,0,0,0,"",{"$f":"IF(statistics!$D$3<>0,IF(AJ316=statistics!$D$3,AG316,\"\"),IF(B316<>\"\",AG316,\"\"))","v":""},{"$f":"IF(statistics!$D$3<>0,IF(AJ316=statistics!$D$3,IF(AH316=0,\"\",AH316),\"\"),IF(AH316<>0,AH316,\"\"))","v":""},{"$f":"IF(statistics!$D$3<>0,IF(AJ316=statistics!$D$3,IF(A316=0,\"\",1),\"\"),IF(A316=0,\"\",1))","v":""},"","",null,"",{"$nulls":6},0,null,null,null,"",null,null,"",null,0,null,{"$error":"#NUM!"},{"$error":"#NUM!"},315]
[{"$nulls":4},"","","","","",null,null,"",{"$nulls":6},316,"",{"$f":"IF(A318=0,IF(B318=\"\",IF(B317=0,\"\",SUM($AG$1:AG317)-SUM($U$1:U316)),\"\"),SUM($AG$1:AG317)-SUM($U$1:U316))","v":""},{"$nulls":5},0,{"$f":"IF(AJ317=statistics!$D$3,AB316+AH317-AG317,)","v":0},{"$f":"IF(AND(ROW(AC317)>=statistics!$C$55,ROW(AC317)<=statistics!$D$55),AC316+AH317-AG317,)","v":0},{"$f":"IF(AND(statistics!$C$55<=ROW(A317),ROW(A317)<=statistics!$D$55)=TRUE,AH317-AG317+AA316-INDEX(AA:AA,statistics!$C$55),\"\")","v":""},null,null,0,0,0,"",{"$f":"IF(statistics!$D$3<>0,IF(AJ317=statistics!$D$3,AG317,\"\"),IF(B317<>\"\",AG317,\"\"))","v":""},{"$f":"IF(statistics!$D$3<>0,IF(AJ317=statistics!$D$3,IF(AH317=0,\"\",AH317),\"\"),IF(AH317<>0,AH317,\"\"))","v":""},{"$f":"IF(statistics!$D$3<>0,IF(AJ317=statistics!$D$3,IF(A317=0,\"\",1),\"\"),IF(A317=0,\"\",1))","v":""},"","",null,"",{"$nulls":6},0,null,null,null,"",null,null,"",null,0,null,{"$error":"#NUM!"},{"$error":"#NUM!"},316]
[{"$nulls":4},"","","","","",null,null,"",{"$nulls":6},317,"",{"$f":"IF(A319=0,IF(B319=\"\",IF(B318=0,\"\",SUM($AG$1:AG318)-SUM($U$1:U317)),\"\"),SUM($AG$1:AG318)-SUM($U$1:U317))","v":""},{"$nulls":5},0,{"$f":"IF(AJ318=statistics!$D$3,AB317+AH318-AG318,)","v":0},{"$f":"IF(AND(ROW(AC318)>=statistics!$C$55,ROW(AC318)<=statistics!$D$55),AC317+AH318-AG318,)","v":0},{"$f":"IF(AND(statistics!$C$55<=ROW(A318),ROW(A318)<=statistics!$D$55)=TRUE,AH318-AG318+AA317-INDEX(AA:AA,statistics!$C$55),\"\")","v":""},null,null,0,0,0,"",{"$f":"IF(statistics!$D$3<>0,IF(AJ318=statistics!$D$3,AG318,\"\"),IF(B318<>\"\",AG318,\"\"))","v":""},{"$f":"IF(statistics!$D$3<>0,IF(AJ318=statistics!$D$3,IF(AH318=0,\"\",AH318),\"\"),IF(AH318<>0,AH318,\"\"))","v":""},{"$f":"IF(statistics!$D$3<>0,IF(AJ318=statistics!$D$3,IF(A318=0,\"\",1),\"\"),IF(A318=0,\"\",1))","v":""},"","",null,"",{"$nulls":6},0,null,null,null,"",null,null,"",null,0,null,{"$error":"#NUM!"},{"$error":"#NUM!"},317]
[{"$nulls":4},"","","","","",null,null,"",{"$nulls":6},318,"",{"$f":"IF(A320=0,IF(B320=\"\",IF(B319=0,\"\",SUM($AG$1:AG319)-SUM($U$1:U318)),\"\"),SUM($AG$1:AG319)-SUM($U$1:U318))","v":""},{"$nulls":5},0,{"$f":"IF(AJ319=statistics!$D$3,AB318+AH319-AG319,)","v":0},{"$f":"IF(AND(ROW(AC319)>=statistics!$C$55,ROW(AC319)<=statistics!$D$55),AC318+AH319-AG319,)","v":0},{"$f":"IF(AND(statistics!$C$55<=ROW(A319),ROW(A319)<=statistics!$D$55)=TRUE,AH319-AG319+AA318-INDEX(AA:AA,statistics!$C$55),\"\")","v":""},null,null,0,0,0,"",{"$f":"IF(statistics!$D$3<>0,IF(AJ319=statistics!$D$3,AG319,\"\"),IF(B319<>\"\",AG319,\"\"))","v":""},{"$f":"IF(statistics!$D$3<>0,IF(AJ319=statistics!$D$3,IF(AH319=0,\"\",AH319),\"\"),IF(AH319<>0,AH319,\"\"))","v":""},{"$f":"IF(statistics!$D$3<>0,IF(AJ319=statistics!$D$3,IF(A319=0,\"\",1),\"\"),IF(A319=0,\"\",1))","v":""},"","",null,"",{"$nulls":6},0,null,null,null,"",null,null,"",null,0,null,{"$error":"#NUM!"},{"$error":"#NUM!"},318]
[{"$nulls":4},"","","","","",null,null,"",{"$nulls":6},319,"",{"$f":"IF(A321=0,IF(B321=\"\",IF(B320=0,\"\",SUM($AG$1:AG320)-SUM($U$1:U319)),\"\"),SUM($AG$1:AG320)-SUM($U$1:U319))","v":""},{"$nulls":5},0,{"$f":"IF(AJ320=statistics!$D$3,AB319+AH320-AG320,)","v":0},{"$f":"IF(AND(ROW(AC320)>=statistics!$C$55,ROW(AC320)<=statistics!$D$55),AC319+AH320-AG320,)","v":0},{"$f":"IF(AND(statistics!$C$55<=ROW(A320),ROW(A320)<=statistics!$D$55)=TRUE,AH320-AG320+AA319-INDEX(AA:AA,statistics!$C$55),\"\")","v":""},null,null,0,0,0,"",{"$f":"IF(statistics!$D$3<>0,IF(AJ320=statistics!$D$3,AG320,\"\"),IF(B320<>\"\",AG320,\"\"))","v":""},{"$f":"IF(statistics!$D$3<>0,IF(AJ320=statistics!$D$3,IF(AH320=0,\"\",AH320),\"\"),IF(AH320<>0,AH320,\"\"))","v":""},{"$f":"IF(statistics!$D$3<>0,IF(AJ320=statistics!$D$3,IF(A320=0,\"\",1),\"\"),IF(A320=0,\"\",1))","v":""},"","",null,"",{"$nulls":6},0,null,null,null,"",null,null,"",null,0,null,{"$error":"#NUM!"},{"$error":"#NUM!"},319]
[{"$nulls":4},"","","","","",null,null,"",{"$nulls":6},320,"",{"$f":"IF(A322=0,IF(B322=\"\",IF(B321=0,\"\",SUM($AG$1:AG321)-SUM($U$1:U320)),\"\"),SUM($AG$1:AG321)-SUM($U$1:U320))","v":""},{"$nulls":5},0,{"$f":"IF(AJ321=statistics!$D$3,AB320+AH321-AG321,)","v":0},{"$f":"IF(AND(ROW(AC321)>=statistics!$C$55,ROW(AC321)<=statistics!$D$55),AC320+AH321-AG321,)","v":0},{"$f":"IF(AND(statistics!$C$55<=ROW(A321),ROW(A321)<=statistics!$D$55)=TRUE,AH321-AG321+AA320-INDEX(AA:AA,statistics!$C$55),\"\")","v":""},null,null,0,0,0,"",{"$f":"IF(statistics!$D$3<>0,IF(AJ321=statistics!$D$3,AG321,\"\"),IF(B321<>\"\",AG321,\"\"))","v":""},{"$f":"IF(statistics!$D$3<>0,IF(AJ321=statistics!$D$3,IF(AH321=0,\"\",AH321),\"\"),IF(AH321<>0,AH321,\"\"))","v":""},{"$f":"IF(statistics!$D$3<>0,IF(AJ321=statistics!$D$3,IF(A321=0,\"\",1),\"\"),IF(A321=0,\"\",1))","v":""},"","",null,"",{"$nulls":6},0,null,null,null,"",null,null,"",null,0,null,{"$error":"#NUM!"},{"$error":"#NUM!"},320]
[{"$nulls":4},"",{"$f":"IF(A322=0,\"\",IF(T322=0,\"\",E322/T322))","v":""},"",{"$f":"IF(A323=0,IF(B323=\"\",IF(B322=0,\"\",U322),\"\"),U322)","v":""},{"$f":"IF(A323=0,IF(B323=\"\",IF(B322=0,\"\",S322),\"\"),S322)","v":""},null,null,"",{"$nulls":6},{"$f":"IF(A322=0,S321+1,1)","v":321},"",{"$f":"IF(A323=0,IF(B323=\"\",IF(B322=0,\"\",SUM($AG$1:AG322)-SUM($U$1:U321)),\"\"),SUM($AG$1:AG322)-SUM($U$1:U321))","v":""},{"$nulls":5},0,{"$f":"IF(AJ322=statistics!$D$3,AB321+AH322-AG322,)","v":0},{"$f":"IF(AND(ROW(AC322)>=statistics!$C$55,ROW(AC322)<=statistics!$D$55),AC321+AH322-AG322,)","v":0},{"$f":"IF(AND(statistics!$C$55<=ROW(A322),ROW(A322)<=statistics!$D$55)=TRUE,AH322-AG322+AA321-INDEX(AA:AA,statistics!$C$55),\"\")","v":""},null,null,0,0,0,"",{"$f":"IF(statistics!$D$3<>0,IF(AJ322=statistics!$D$3,AG322,\"\"),IF(B322<>\"\",AG322,\"\"))","v":""},{"$f":"IF(statistics!$D$3<>0,IF(AJ322=statistics!$D$3,IF(AH322=0,\"\",AH322),\"\"),IF(AH322<>0,AH322,\"\"))","v":""},{"$f":"IF(statistics!$D$3<>0,IF(AJ322=statistics!$D$3,IF(A322=0,\"\",1),\"\"),IF(A322=0,\"\",1))","v":""},"","",null,"",{"$nulls":6},0,null,null,null,"",null,null,"",null,0,null,{"$error":"#NUM!"},{"$error":"#NUM!"},321]
[{"$nulls":4},{"$f":"IF(A323=0,\"\",IF(B323<>\"\",SUM(AH323:AH10321)-SUM(AG323:AG10321)-SUM(E324:E10321),\"\"))","v":""},"","","","",null,null,{"$f":"IF(A323=0,\"\",SUM(AI323:AI10321)-SUM(L324:L10321))","v":""},{"$nulls":6},322,{"$f":"IF(A323=0,\"\",SUM(AG323:AG10321)-SUM(T324:T10321))","v":""},{"$f":"IF(A324=0,IF(B324=\"\",IF(B323=0,\"\",SUM($AG$1:AG323)-SUM($U$1:U322)),\"\"),SUM($AG$1:AG323)-SUM($U$1:U322))","v":""},{"$nulls":5},{"$f":"AA322+AH323-AG323","v":0},{"$f":"IF(AJ323=statistics!$D$3,AB322+AH323-AG323,)","v":0},{"$f":"IF(AND(ROW(AC323)>=statistics!$C$55,ROW(AC323)<=statistics!$D$55),AC322+AH323-AG323,)","v":0},{"$f":"IF(AND(statistics!$C$55<=ROW(A323),ROW(A323)<=statistics!$D$55)=TRUE,AH323-AG323+AA322-INDEX(AA:AA,statistics!$C$55),\"\")","v":""},null,null,0,0,{"$f":"IF(J323=0,,D323*J323)","v":0},"",{"$f":"IF(statistics!$D$3<>0,IF(AJ323=statistics!$D$3,AG323,\"\"),IF(B323<>\"\",AG323,\"\"))","v":""},{"$f":"IF(statistics!$D$3<>0,IF(AJ323=statistics!$D$3,IF(AH323=0,\"\",AH323),\"\"),IF(AH323<>0,AH323,\"\"))","v":""},{"$f":"IF(statistics!$D$3<>0,IF(AJ323=statistics!$D$3,IF(A323=0,\"\",1),\"\"),IF(A323=0,\"\",1))","v":""},"","",null,{"$f":"IF(B323=0,\"\",IF(D323=0,IF(D322=0,AQ322+1,1),\"\"))","v":""},{"$nulls":6},{"$f":"J323*D323-J323*K323*(B323+C323)","v":0},null,null,null,{"$f":"IF(B323=$BA$2,ROW(),\"\")","v":""},null,null,{"$f":"IF(B323=$BA$2,INDEX(D:D,SMALL(BB:BB,CELL(\"содержимое\",BG323)))-INDEX(B:B,SMALL(BB:BB,CELL(\"содержимое\",BG323)))-INDEX(C:C,SMALL(BB:BB,CELL(\"содержимое\",BG323))),\"\")","v":""},null,{"$f":"IF($BA$2=B323,BG322+1,BG322)","v":0},null,{"$f":"INDEX(BE:BE,SMALL(BB:BB,CELL(\"содержимое\",BK323)))","v":{"$error":"#NUM!"}},{"$f":"BJ322+BI323","v":{"$error":"#NUM!"}},{"$f":"BK322+1","v":322}]
[{"$nulls":4},"","","","","",null,null,"",{"$nulls":6},323,"",{"$f":"IF(A325=0,IF(B325=\"\",IF(B324=0,\"\",SUM($AG$1:AG324)-SUM($U$1:U323)),\"\"),SUM($AG$1:AG324)-SUM($U$1:U323))","v":""},{"$nulls":5},0,{"$f":"IF(AJ324=statistics!$D$3,AB323+AH324-AG324,)","v":0},{"$f":"IF(AND(ROW(AC324)>=statistics!$C$55,ROW(AC324)<=statistics!$D$55),AC323+AH324-AG324,)","v":0},{"$f":"IF(AND(statistics!$C$55<=ROW(A324),ROW(A324)<=statistics!$D$55)=TRUE,AH324-AG324+AA323-INDEX(AA:AA,statistics!$C$55),\"\")","v":""},null,null,0,0,0,"",{"$f":"IF(statistics!$D$3<>0,IF(AJ324=statistics!$D$3,AG324,\"\"),IF(B324<>\"\",AG324,\"\"))","v":""},{"$f":"IF(statistics!$D$3<>0,IF(AJ324=statistics!$D$3,IF(AH324=0,\"\",AH324),\"\"),IF(AH324<>0,AH324,\"\"))","v":""},{"$f":"IF(statistics!$D$3<>0,IF(AJ324=statistics!$D$3,IF(A324=0,\"\",1),\"\"),IF(A324=0,\"\",1))","v":""},{"$f":"IF(AK324<>\"\",IF(AK323=0,ROW(AK324),ROW(AK324)),\"\")","v":""},{"$f":"IF(A324<>0,IF(MONTH(A324)=AJ323,\"\",MONTH(A324)),\"\")","v":""},null,"",{"$nulls":6},0,null,null,null,"",null,null,"",null,0,null,{"$error":"#NUM!"},{"$error":"#NUM!"},323]
[{"$nulls":4},"","","","","",null,null,"",{"$nulls":6},324,"",{"$f":"IF(A326=0,IF(B326=\"\",IF(B325=0,\"\",SUM($AG$1:AG325)-SUM($U$1:U324)),\"\"),SUM($AG$1:AG325)-SUM($U$1:U324))","v":""},{"$nulls":5},0,{"$f":"IF(AJ325=statistics!$D$3,AB324+AH325-AG325,)","v":0},{"$f":"IF(AND(ROW(AC325)>=statistics!$C$55,ROW(AC325)<=statistics!$D$55),AC324+AH325-AG325,)","v":0},{"$f":"IF(AND(statistics!$C$55<=ROW(A325),ROW(A325)<=statistics!$D$55)=TRUE,AH325-AG325+AA324-INDEX(AA:AA,statistics!$C$55),\"\")","v":""},null,null,{"$f":"IF(J325=0,B325+C325,(B325+C325)-(B325+C325)*J325*K325)","v":0},{"$f":"IF(J325=0,D325,D325*(1-J325))","v":0},0,"",{"$f":"IF(statistics!$D$3<>0,IF(AJ325=statistics!$D$3,AG325,\"\"),IF(B325<>\"\",AG325,\"\"))","v":""},{"$f":"IF(statistics!$D$3<>0,IF(AJ325=statistics!$D$3,IF(AH325=0,\"\",AH325),\"\"),IF(AH325<>0,AH325,\"\"))","v":""},{"$f":"IF(statistics!$D$3<>0,IF(AJ325=statistics!$D$3,IF(A325=0,\"\",1),\"\"),IF(A325=0,\"\",1))","v":""},"","",null,"",{"$nulls":6},0,null,null,null,"",null,null,"",null,0,null,{"$error":"#NUM!"},{"$error":"#NUM!"},324]
[{"$nulls":4},"","","","","",null,null,"",{"$nulls":6},325,"",{"$f":"IF(A327=0,IF(B327=\"\",IF(B326=0,\"\",SUM($AG$1:AG326)-SUM($U$1:U325)),\"\"),SUM($AG$1:AG326)-SUM($U$1:U325))","v":""},{"$nulls":5},0,{"$f":"IF(AJ326=statistics!$D$3,AB325+AH326-AG326,)","v":0},{"$f":"IF(AND(ROW(AC326)>=statistics!$C$55,ROW(AC326)<=statistics!$D$55),AC325+AH326-AG326,)","v":0},{"$f":"IF(AND(statistics!$C$55<=ROW(A326),ROW(A326)<=statistics!$D$55)=TRUE,AH326-AG326+AA325-INDEX(AA:AA,statistics!$C$55),\"\")","v":""},null,null,0,0,0,"",{"$f":"IF(statistics!$D$3<>0,IF(AJ326=statistics!$D$3,AG326,\"\"),IF(B326<>\"\",AG326,\"\"))","v":""},{"$f":"IF(statistics!$D$3<>0,IF(AJ326=statistics!$D$3,IF(AH326=0,\"\",AH326),\"\"),IF(AH326<>0,AH326,\"\"))","v":""},{"$f":"IF(statistics!$D$3<>0,IF(AJ326=statistics!$D$3,IF(A326=0,\"\",1),\"\"),IF(A326=0,\"\",1))","v":""},"","",null,"",{"$nulls":6},0,null,null,null,"",null,null,"",null,0,null,{"$error":"#NUM!"},{"$error":"#NUM!"},325]
[{"$nulls":4},"","","","","",null,null,"",{"$nulls":6},326,"",{"$f":"IF(A328=0,IF(B328=\"\",IF(B327=0,\"\",SUM($AG$1:AG327)-SUM($U$1:U326)),\"\"),SUM($AG$1:AG327)-SUM($U$1:U326))","v":""},{"$nulls":5},0,{"$f":"IF(AJ327=statistics!$D$3,AB326+AH327-AG327,)","v":0},{"$f":"IF(AND(ROW(AC327)>=statistics!$C$55,ROW(AC327)<=statistics!$D$55),AC326+AH327-AG327,)","v":0},{"$f":"IF(AND(statistics!$C$55<=ROW(A327),ROW(A327)<=statistics!$D$55)=TRUE,AH327-AG327+AA326-INDEX(AA:AA,statistics!$C$55),\"\")","v":""},null,null,0,0,0,"",{"$f":"IF(statistics!$D$3<>0,IF(AJ327=statistics!$D$3,AG327,\"\"),IF(B327<>\"\",AG327,\"\"))","v":""},{"$f":"IF(statistics!$D$3<>0,IF(AJ327=statistics!$D$3,IF(AH327=0,\"\",AH327),\"\"),IF(AH327<>0,AH327,\"\"))","v":""},{"$f":"IF(statistics!$D$3<>0,IF(AJ327=statistics!$D$3,IF(A327=0,\"\",1),\"\"),IF(A327=0,\"\",1))","v":""},"","",null,"",{"$nulls":6},0,null,null,null,"",null,null,"",null,0,null,{"$error":"#NUM!"},{"$error":"#NUM!"},326]
[{"$nulls":4},"","","","","",null,null,"",{"$nulls":6},327,"",{"$f":"IF(A329=0,IF(B329=\"\",IF(B328=0,\"\",SUM($AG$1:AG328)-SUM($U$1:U327)),\"\"),SUM($AG$1:AG328)-SUM($U$1:U327))","v":""},{"$nulls":5},0,{"$f":"IF(AJ328=statistics!$D$3,AB327+AH328-AG328,)","v":0},{"$f":"IF(AND(ROW(AC328)>=statistics!$C$55,ROW(AC328)<=statistics!$D$55),AC327+AH328-AG328,)","v":0},{"$f":"IF(AND(statistics!$C$55<=ROW(A328),ROW(A328)<=statistics!$D$55)=TRUE,AH328-AG328+AA327-INDEX(AA:AA,statistics!$C$55),\"\")","v":""},null,null,0,0,0,"",{"$f":"IF(statistics!$D$3<>0,IF(AJ328=statistics!$D$3,AG328,\"\"),IF(B328<>\"\",AG328,\"\"))","v":""},{"$f":"IF(statistics!$D$3<>0,IF(AJ328=statistics!$D$3,IF(AH328=0,\"\",AH328),\"\"),IF(AH328<>0,AH328,\"\"))","v":""},{"$f":"IF(statistics!$D$3<>0,IF(AJ328=statistics!$D$3,IF(A328=0,\"\",1),\"\"),IF(A328=0,\"\",1))","v":""},"","",null,"",{"$nulls":6},0,null,null,null,"",null,null,"",null,0,null,{"$error":"#NUM!"},{"$error":"#NUM!"},327]
[{"$nulls":4},"","","","","",null,null,"",{"$nulls":6},328,"",{"$f":"IF(A330=0,IF(B330=\"\",IF(B329=0,\"\",SUM($AG$1:AG329)-SUM($U$1:U328)),\"\"),SUM($AG$1:AG329)-SUM($U$1:U328))","v":""},{"$nulls":5},0,{"$f":"IF(AJ329=statistics!$D$3,AB328+AH329-AG329,)","v":0},{"$f":"IF(AND(ROW(AC329)>=statistics!$C$55,ROW(AC329)<=statistics!$D$55),AC328+AH329-AG329,)","v":0},{"$f":"IF(AND(statistics!$C$55<=ROW(A329),ROW(A329)<=statistics!$D$55)=TRUE,AH329-AG329+AA328-INDEX(AA:AA,statistics!$C$55),\"\")","v":""},null,null,0,0,0,"",{"$f":"IF(statistics!$D$3<>0,IF(AJ329=statistics!$D$3,AG329,\"\"),IF(B329<>\"\",AG329,\"\"))","v":""},{"$f":"IF(statistics!$D$3<>0,IF(AJ329=statistics!$D$3,IF(AH329=0,\"\",AH329),\"\"),IF(AH329<>0,AH329,\"\"))","v":""},{"$f":"IF(statistics!$D$3<>0,IF(AJ329=statistics!$D$3,IF(A329=0,\"\",1),\"\"),IF(A329=0,\"\",1))","v":""},"","",null,"",{"$nulls":6},0,null,null,null,"",null,null,"",null,0,null,{"$error":"#NUM!"},{"$error":"#NUM!"},328]
[{"$nulls":4},"","","","","",null,null,"",{"$nulls":6},329,"",{"$f":"IF(A331=0,IF(B331=\"\",IF(B330=0,\"\",SUM($AG$1:AG330)-SUM($U$1:U329)),\"\"),SUM($AG$1:AG330)-SUM($U$1:U329))","v":""},{"$nulls":5},0,{"$f":"IF(AJ330=statistics!$D$3,AB329+AH330-AG330,)","v":0},{"$f":"IF(AND(ROW(AC330)>=statistics!$C$55,ROW(AC330)<=statistics!$D$55),AC329+AH330-AG330,)","v":0},{"$f":"IF(AND(statistics!$C$55<=ROW(A330),ROW(A330)<=statistics!$D$55)=TRUE,AH330-AG330+AA329-INDEX(AA:AA,statistics!$C$55),\"\")","v":""},null,null,0,0,0,"",{"$f":"IF(statistics!$D$3<>0,IF(AJ330=statistics!$D$3,AG330,\"\"),IF(B330<>\"\",AG330,\"\"))","v":""},{"$f":"IF(statistics!$D$3<>0,IF(AJ330=statistics!$D$3,IF(AH330=0,\"\",AH330),\"\"),IF(AH330<>0,AH330,\"\"))","v":""},{"$f":"IF(statistics!$D$3<>0,IF(AJ330=statistics!$D$3,IF(A330=0,\"\",1),\"\"),IF(A330=0,\"\",1))","v":""},"","",null,"",{"$nulls":6},0,null,null,null,"",null,null,"",null,0,null,{"$error":"#NUM!"},{"$error":"#NUM!"},329]
[{"$nulls":4},"","","","","",null,null,"",{"$nulls":6},330,"",{"$f":"IF(A332=0,IF(B332=\"\",IF(B331=0,\"\",SUM($AG$1:AG331)-SUM($U$1:U330)),\"\"),SUM($AG$1:AG331)-SUM($U$1:U330))","v":""},{"$nulls":5},0,{"$f":"IF(AJ331=statistics!$D$3,AB330+AH331-AG331,)","v":0},{"$f":"IF(AND(ROW(AC331)>=statistics!$C$55,ROW(AC331)<=statistics!$D$55),AC330+AH331-AG331,)","v":0},{"$f":"IF(AND(statistics!$C$55<=ROW(A331),ROW(A331)<=statistics!$D$55)=TRUE,AH331-AG331+AA330-INDEX(AA:AA,statistics!$C$55),\"\")","v":""},null,null,0,0,0,"",{"$f":"IF(statistics!$D$3<>0,IF(AJ331=statistics!$D$3,AG331,\"\"),IF(B331<>\"\",AG331,\"\"))","v":""},{"$f":"IF(statistics!$D$3<>0,IF(AJ331=statistics!$D$3,IF(AH331=0,\"\",AH331),\"\"),IF(AH331<>0,AH331,\"\"))","v":""},{"$f":"IF(statistics!$D$3<>0,IF(AJ331=statistics!$D$3,IF(A331=0,\"\",1),\"\"),IF(A331=0,\"\",1))","v":""},"","",null,"",{"$nulls":6},0,null,null,null,"",null,null,"",null,0,null,{"$error":"#NUM!"},{"$error":"#NUM!"},330]
[{"$nulls":4},"","","","","",null,null,"",{"$nulls":6},331,"",{"$f":"IF(A333=0,IF(B333=\"\",IF(B332=0,\"\",SUM($AG$1:AG332)-SUM($U$1:U331)),\"\"),SUM($AG$1:AG332)-SUM($U$1:U331))","v":""},{"$nulls":5},0,{"$f":"IF(AJ332=statistics!$D$3,AB331+AH332-AG332,)","v":0},{"$f":"IF(AND(ROW(AC332)>=statistics!$C$55,ROW(AC332)<=statistics!$D$55),AC331+AH332-AG332,)","v":0},{"$f":"IF(AND(statistics!$C$55<=ROW(A332),ROW(A332)<=statistics!$D$55)=TRUE,AH332-AG332+AA331-INDEX(AA:AA,statistics!$C$55),\"\")","v":""},null,null,0,0,0,"",{"$f":"IF(statistics!$D$3<>0,IF(AJ332=statistics!$D$3,AG332,\"\"),IF(B332<>\"\",AG332,\"\"))","v":""},{"$f":"IF(statistics!$D$3<>0,IF(AJ332=statistics!$D$3,IF(AH332=0,\"\",AH332),\"\"),IF(AH332<>0,AH332,\"\"))","v":""},{"$f":"IF(statistics!$D$3<>0,IF(AJ332=statistics!$D$3,IF(A332=0,\"\",1),\"\"),IF(A332=0,\"\",1))","v":""},"","",null,"",{"$nulls":6},0,null,null,null,"",null,null,"",null,0,null,{"$error":"#NUM!"},{"$error":"#NUM!"},331]
[{"$nulls":4},"","","","","",null,null,"",{"$nulls":6},332,"",{"$f":"IF(A334=0,IF(B334=\"\",IF(B333=0,\"\",SUM($AG$1:AG333)-SUM($U$1:U332)),\"\"),SUM($AG$1:AG333)-SUM($U$1:U332))","v":""},{"$nulls":5},0,{"$f":"IF(AJ333=statistics!$D$3,AB332+AH333-AG333,)","v":0},{"$f":"IF(AND(ROW(AC333)>=statistics!$C$55,ROW(AC333)<=statistics!$D$55),AC332+AH333-AG333,)","v":0},{"$f":"IF(AND(statistics!$C$55<=ROW(A333),ROW(A333)<=statistics!$D$55)=TRUE,AH333-AG333+AA332-INDEX(AA:AA,statistics!$C$55),\"\")","v":""},null,null,0,0,0,"",{"$f":"IF(statistics!$D$3<>0,IF(AJ333=statistics!$D$3,AG333,\"\"),IF(B333<>\"\",AG333,\"\"))","v":""},{"$f":"IF(statistics!$D$3<>0,IF(AJ333=statistics!$D$3,IF(AH333=0,\"\",AH333),\"\"),IF(AH333<>0,AH333,\"\"))","v":""},{"$f":"IF(statistics!$D$3<>0,IF(AJ333=statistics!$D$3,IF(A333=0,\"\",1),\"\"),IF(A333=0,\"\",1))","v":""},"","",null,"",{"$nulls":6},0,null,null,null,"",null,null,"",null,0,null,{"$error":"#NUM!"},{"$error":"#NUM!"},332]
[{"$nulls":4},"","","","","",null,null,"",{"$nulls":6},333,"",{"$f":"IF(A335=0,IF(B335=\"\",IF(B334=0,\"\",SUM($AG$1:AG334)-SUM($U$1:U333)),\"\"),SUM($AG$1:AG334)-SUM($U$1:U333))","v":""},{"$nulls":5},0,{"$f":"IF(AJ334=statistics!$D$3,AB333+AH334-AG334,)","v":0},{"$f":"IF(AND(ROW(AC334)>=statistics!$C$55,ROW(AC334)<=statistics!$D$55),AC333+AH334-AG334,)","v":0},{"$f":"IF(AND(statistics!$C$55<=ROW(A334),ROW(A334)<=statistics!$D$55)=TRUE,AH334-AG334+AA333-INDEX(AA:AA,statistics!$C$55),\"\")","v":""},null,null,0,0,0,"",{"$f":"IF(statistics!$D$3<>0,IF(AJ334=statistics!$D$3,AG334,\"\"),IF(B334<>\"\",AG334,\"\"))","v":""},{"$f":"IF(statistics!$D$3<>0,IF(AJ334=statistics!$D$3,IF(AH334=0,\"\",AH334),\"\"),IF(AH334<>0,AH334,\"\"))","v":""},{"$f":"IF(statistics!$D$3<>0,IF(AJ334=statistics!$D$3,IF(A334=0,\"\",1),\"\"),IF(A334=0,\"\",1))","v":""},"","",null,"",{"$nulls":6},0,null,null,null,"",null,null,"",null,0,null,{"$error":"#NUM!"},{"$error":"#NUM!"},333]
[{"$nulls":4},"","","","","",null,null,"",{"$nulls":6},334,"",{"$f":"IF(A336=0,IF(B336=\"\",IF(B335=0,\"\",SUM($AG$1:AG335)-SUM($U$1:U334)),\"\"),SUM($AG$1:AG335)-SUM($U$1:U334))","v":""},{"$nulls":5},0,{"$f":"IF(AJ335=statistics!$D$3,AB334+AH335-AG335,)","v":0},{"$f":"IF(AND(ROW(AC335)>=statistics!$C$55,ROW(AC335)<=statistics!$D$55),AC334+AH335-AG335,)","v":0},{"$f":"IF(AND(statistics!$C$55<=ROW(A335),ROW(A335)<=statistics!$D$55)=TRUE,AH335-AG335+AA334-INDEX(AA:AA,statistics!$C$55),\"\")","v":""},null,null,0,0,0,"",{"$f":"IF(statistics!$D$3<>0,IF(AJ335=statistics!$D$3,AG335,\"\"),IF(B335<>\"\",AG335,\"\"))","v":""},{"$f":"IF(statistics!$D$3<>0,IF(AJ335=statistics!$D$3,IF(AH335=0,\"\",AH335),\"\"),IF(AH335<>0,AH335,\"\"))","v":""},{"$f":"IF(statistics!$D$3<>0,IF(AJ335=statistics!$D$3,IF(A335=0,\"\",1),\"\"),IF(A335=0,\"\",1))","v":""},"","",null,"",{"$nulls":6},0,null,null,null,"",null,null,"",null,0,null,{"$error":"#NUM!"},{"$error":"#NUM!"},334]
[{"$nulls":4},"","","","","",null,null,"",{"$nulls":6},335,"",{"$f":"IF(A337=0,IF(B337=\"\",IF(B336=0,\"\",SUM($AG$1:AG336)-SUM($U$1:U335)),\"\"),SUM($AG$1:AG336)-SUM($U$1:U335))","v":""},{"$nulls":5},0,{"$f":"IF(AJ336=statistics!$D$3,AB335+AH336-AG336,)","v":0},{"$f":"IF(AND(ROW(AC336)>=statistics!$C$55,ROW(AC336)<=statistics!$D$55),AC335+AH336-AG336,)","v":0},{"$f":"IF(AND(statistics!$C$55<=ROW(A336),ROW(A336)<=statistics!$D$55)=TRUE,AH336-AG336+AA335-INDEX(AA:AA,statistics!$C$55),\"\")","v":""},null,null,0,0,0,"",{"$f":"IF(statistics!$D$3<>0,IF(AJ336=statistics!$D$3,AG336,\"\"),IF(B336<>\"\",AG336,\"\"))","v":""},{"$f":"IF(statistics!$D$3<>0,IF(AJ336=statistics!$D$3,IF(AH336=0,\"\",AH336),\"\"),IF(AH336<>0,AH336,\"\"))","v":""},{"$f":"IF(statistics!$D$3<>0,IF(AJ336=statistics!$D$3,IF(A336=0,\"\",1),\"\"),IF(A336=0,\"\",1))","v":""},"","",null,"",{"$nulls":6},0,null,null,null,"",null,null,"",null,0,null,{"$error":"#NUM!"},{"$error":"#NUM!"},335]
[{"$nulls":4},"","",{"$f":"IF(A338=0,IF(B338=\"\",IF(B337=0,\"\",U337/S337),\"\"),U337/S337)","v":""},"","",null,null,"",{"$nulls":6},336,"",{"$f":"IF(A338=0,IF(B338=\"\",IF(B337=0,\"\",SUM($AG$1:AG337)-SUM($U$1:U336)),\"\"),SUM($AG$1:AG337)-SUM($U$1:U336))","v":""},{"$nulls":5},0,{"$f":"IF(AJ337=statistics!$D$3,AB336+AH337-AG337,)","v":0},{"$f":"IF(AND(ROW(AC337)>=statistics!$C$55,ROW(AC337)<=statistics!$D$55),AC336+AH337-AG337,)","v":0},{"$f":"IF(AND(statistics!$C$55<=ROW(A337),ROW(A337)<=statistics!$D$55)=TRUE,AH337-AG337+AA336-INDEX(AA:AA,statistics!$C$55),\"\")","v":""},null,null,0,0,0,"",{"$f":"IF(statistics!$D$3<>0,IF(AJ337=statistics!$D$3,AG337,\"\"),IF(B337<>\"\",AG337,\"\"))","v":""},{"$f":"IF(statistics!$D$3<>0,IF(AJ337=statistics!$D$3,IF(AH337=0,\"\",AH337),\"\"),IF(AH337<>0,AH337,\"\"))","v":""},{"$f":"IF(statistics!$D$3<>0,IF(AJ337=statistics!$D$3,IF(A337=0,\"\",1),\"\"),IF(A337=0,\"\",1))","v":""},"","",null,"",{"$nulls":6},0,null,null,null,"",null,null,"",null,0,null,{"$error":"#NUM!"},{"$error":"#NUM!"},336]
[{"$nulls":4},"","","","","",null,null,"",{"$nulls":6},337,"",{"$f":"IF(A339=0,IF(B339=\"\",IF(B338=0,\"\",SUM($AG$1:AG338)-SUM($U$1:U337)),\"\"),SUM($AG$1:AG338)-SUM($U$1:U337))","v":""},{"$nulls":5},0,{"$f":"IF(AJ338=statistics!$D$3,AB337+AH338-AG338,)","v":0},{"$f":"IF(AND(ROW(AC338)>=statistics!$C$55,ROW(AC338)<=statistics!$D$55),AC337+AH338-AG338,)","v":0},{"$f":"IF(AND(statistics!$C$55<=ROW(A338),ROW(A338)<=statistics!$D$55)=TRUE,AH338-AG338+AA337-INDEX(AA:AA,statistics!$C$55),\"\")","v":""},null,null,0,0,0,"",{"$f":"IF(statistics!$D$3<>0,IF(AJ338=statistics!$D$3,AG338,\"\"),IF(B338<>\"\",AG338,\"\"))","v":""},{"$f":"IF(statistics!$D$3<>0,IF(AJ338=statistics!$D$3,IF(AH338=0,\"\",AH338),\"\"),IF(AH338<>0,AH338,\"\"))","v":""},{"$f":"IF(statistics!$D$3<>0,IF(AJ338=statistics!$D$3,IF(A338=0,\"\",1),\"\"),IF(A338=0,\"\",1))","v":""},"","",null,"",{"$nulls":6},0,null,null,null,"",null,null,"",null,0,null,{"$error":"#NUM!"},{"$error":"#NUM!"},337]
[{"$nulls":4},"","","","","",null,null,"",{"$nulls":6},338,"",{"$f":"IF(A340=0,IF(B340=\"\",IF(B339=0,\"\",SUM($AG$1:AG339)-SUM($U$1:U338)),\"\"),SUM($AG$1:AG339)-SUM($U$1:U338))","v":""},{"$nulls":5},0,{"$f":"IF(AJ339=statistics!$D$3,AB338+AH339-AG339,)","v":0},{"$f":"IF(AND(ROW(AC339)>=statistics!$C$55,ROW(AC339)<=statistics!$D$55),AC338+AH339-AG339,)","v":0},{"$f":"IF(AND(statistics!$C$55<=ROW(A339),ROW(A339)<=statistics!$D$55)=TRUE,AH339-AG339+AA338-INDEX(AA:AA,statistics!$C$55),\"\")","v":""},null,null,0,0,0,"",{"$f":"IF(statistics!$D$3<>0,IF(AJ339=statistics!$D$3,AG339,\"\"),IF(B339<>\"\",AG339,\"\"))","v":""},{"$f":"IF(statistics!$D$3<>0,IF(AJ339=statistics!$D$3,IF(AH339=0,\"\",AH339),\"\"),IF(AH339<>0,AH339,\"\"))","v":""},{"$f":"IF(statistics!$D$3<>0,IF(AJ339=statistics!$D$3,IF(A339=0,\"\",1),\"\"),IF(A339=0,\"\",1))","v":""},"","",null,"",{"$nulls":6},0,null,null,null,"",null,null,"",null,0,null,{"$error":"#NUM!"},{"$error":"#NUM!"},338]
[{"$nulls":4},"","","","","",null,null,"",{"$nulls":6},339,"",{"$f":"IF(A341=0,IF(B341=\"\",IF(B340=0,\"\",SUM($AG$1:AG340)-SUM($U$1:U339)),\"\"),SUM($AG$1:AG340)-SUM($U$1:U339))","v":""},{"$nulls":5},0,{"$f":"IF(AJ340=statistics!$D$3,AB339+AH340-AG340,)","v":0},{"$f":"IF(AND(ROW(AC340)>=statistics!$C$55,ROW(AC340)<=statistics!$D$55),AC339+AH340-AG340,)","v":0},{"$f":"IF(AND(statistics!$C$55<=ROW(A340),ROW(A340)<=statistics!$D$55)=TRUE,AH340-AG340+AA339-INDEX(AA:AA,statistics!$C$55),\"\")","v":""},null,null,0,0,0,{"$f":"IF(A340<>0,MONTH(A340),IF(B340=\"\",\"\",AJ339))","v":""},{"$f":"IF(statistics!$D$3<>0,IF(AJ340=statistics!$D$3,AG340,\"\"),IF(B340<>\"\",AG340,\"\"))","v":""},{"$f":"IF(statistics!$D$3<>0,IF(AJ340=statistics!$D$3,IF(AH340=0,\"\",AH340),\"\"),IF(AH340<>0,AH340,\"\"))","v":""},{"$f":"IF(statistics!$D$3<>0,IF(AJ340=statistics!$D$3,IF(A340=0,\"\",1),\"\"),IF(A340=0,\"\",1))","v":""},"","",null,"",{"$nulls":6},0,null,null,null,"",null,null,"",null,0,null,{"$error":"#NUM!"},{"$error":"#NUM!"},339]
[{"$nulls":4},"","","","","",null,null,"",{"$nulls":6},340,"",{"$f":"IF(A342=0,IF(B342=\"\",IF(B341=0,\"\",SUM($AG$1:AG341)-SUM($U$1:U340)),\"\"),SUM($AG$1:AG341)-SUM($U$1:U340))","v":""},{"$nulls":5},0,{"$f":"IF(AJ341=statistics!$D$3,AB340+AH341-AG341,)","v":0},{"$f":"IF(AND(ROW(AC341)>=statistics!$C$55,ROW(AC341)<=statistics!$D$55),AC340+AH341-AG341,)","v":0},{"$f":"IF(AND(statistics!$C$55<=ROW(A341),ROW(A341)<=statistics!$D$55)=TRUE,AH341-AG341+AA340-INDEX(AA:AA,statistics!$C$55),\"\")","v":""},null,null,0,0,0,"",{"$f":"IF(statistics!$D$3<>0,IF(AJ341=statistics!$D$3,AG341,\"\"),IF(B341<>\"\",AG341,\"\"))","v":""},{"$f":"IF(statistics!$D$3<>0,IF(AJ341=statistics!$D$3,IF(AH341=0,\"\",AH341),\"\"),IF(AH341<>0,AH341,\"\"))","v":""},{"$f":"IF(statistics!$D$3<>0,IF(AJ341=statistics!$D$3,IF(A341=0,\"\",1),\"\"),IF(A341=0,\"\",1))","v":""},"","",null,"",{"$nulls":6},0,null,null,null,"",null,null,"",null,0,null,{"$error":"#NUM!"},{"$error":"#NUM!"},340]
[{"$nulls":4},"","","","","",null,null,"",{"$nulls":6},341,"",{"$f":"IF(A343=0,IF(B343=\"\",IF(B342=0,\"\",SUM($AG$1:AG342)-SUM($U$1:U341)),\"\"),SUM($AG$1:AG342)-SUM($U$1:U341))","v":""},{"$nulls":5},0,{"$f":"IF(AJ342=statistics!$D$3,AB341+AH342-AG342,)","v":0},{"$f":"IF(AND(ROW(AC342)>=statistics!$C$55,ROW(AC342)<=statistics!$D$55),AC341+AH342-AG342,)","v":0},{"$f":"IF(AND(statistics!$C$55<=ROW(A342),ROW(A342)<=statistics!$D$55)=TRUE,AH342-AG342+AA341-INDEX(AA:AA,statistics!$C$55),\"\")","v":""},null,null,0,0,0,"",{"$f":"IF(statistics!$D$3<>0,IF(AJ342=statistics!$D$3,AG342,\"\"),IF(B342<>\"\",AG342,\"\"))","v":""},{"$f":"IF(statistics!$D$3<>0,IF(AJ342=statistics!$D$3,IF(AH342=0,\"\",AH342),\"\"),IF(AH342<>0,AH342,\"\"))","v":""},{"$f":"IF(statistics!$D$3<>0,IF(AJ342=statistics!$D$3,IF(A342=0,\"\",1),\"\"),IF(A342=0,\"\",1))","v":""},"","",null,"",{"$nulls":6},0,null,null,null,"",null,null,"",null,0,null,{"$error":"#NUM!"},{"$error":"#NUM!"},341]
[{"$nulls":4},"","","","","",null,null,"",{"$nulls":6},342,"",{"$f":"IF(A344=0,IF(B344=\"\",IF(B343=0,\"\",SUM($AG$1:AG343)-SUM($U$1:U342)),\"\"),SUM($AG$1:AG343)-SUM($U$1:U342))","v":""},{"$nulls":5},0,{"$f":"IF(AJ343=statistics!$D$3,AB342+AH343-AG343,)","v":0},{"$f":"IF(AND(ROW(AC343)>=statistics!$C$55,ROW(AC343)<=statistics!$D$55),AC342+AH343-AG343,)","v":0},{"$f":"IF(AND(statistics!$C$55<=ROW(A343),ROW(A343)<=statistics!$D$55)=TRUE,AH343-AG343+AA342-INDEX(AA:AA,statistics!$C$55),\"\")","v":""},null,null,0,0,0,"",{"$f":"IF(statistics!$D$3<>0,IF(AJ343=statistics!$D$3,AG343,\"\"),IF(B343<>\"\",AG343,\"\"))","v":""},{"$f":"IF(statistics!$D$3<>0,IF(AJ343=statistics!$D$3,IF(AH343=0,\"\",AH343),\"\"),IF(AH343<>0,AH343,\"\"))","v":""},{"$f":"IF(statistics!$D$3<>0,IF(AJ343=statistics!$D$3,IF(A343=0,\"\",1),\"\"),IF(A343=0,\"\",1))","v":""},"","",null,"",{"$nulls":6},0,null,null,null,"",null,null,"",null,0,null,{"$error":"#NUM!"},{"$error":"#NUM!"},342]
[{"$nulls":4},"","","","","",null,null,"",{"$nulls":6},343,"",{"$f":"IF(A345=0,IF(B345=\"\",IF(B344=0,\"\",SUM($AG$1:AG344)-SUM($U$1:U343)),\"\"),SUM($AG$1:AG344)-SUM($U$1:U343))","v":""},{"$nulls":5},0,{"$f":"IF(AJ344=statistics!$D$3,AB343+AH344-AG344,)","v":0},{"$f":"IF(AND(ROW(AC344)>=statistics!$C$55,ROW(AC344)<=statistics!$D$55),AC343+AH344-AG344,)","v":0},{"$f":"IF(AND(statistics!$C$55<=ROW(A344),ROW(A344)<=statistics!$D$55)=TRUE,AH344-AG344+AA343-INDEX(AA:AA,statistics!$C$55),\"\")","v":""},null,null,0,0,0,"",{"$f":"IF(statistics!$D$3<>0,IF(AJ344=statistics!$D$3,AG344,\"\"),IF(B344<>\"\",AG344,\"\"))","v":""},{"$f":"IF(statistics!$D$3<>0,IF(AJ344=statistics!$D$3,IF(AH344=0,\"\",AH344),\"\"),IF(AH344<>0,AH344,\"\"))","v":""},{"$f":"IF(statistics!$D$3<>0,IF(AJ344=statistics!$D$3,IF(A344=0,\"\",1),\"\"),IF(A344=0,\"\",1))","v":""},"","",null,"",{"$nulls":6},0,null,null,null,"",null,null,"",null,0,null,{"$error":"#NUM!"},{"$error":"#NUM!"},343]
[{"$nulls":4},"","","","","",null,null,"",{"$nulls":6},344,"",{"$f":"IF(A346=0,IF(B346=\"\",IF(B345=0,\"\",SUM($AG$1:AG345)-SUM($U$1:U344)),\"\"),SUM($AG$1:AG345)-SUM($U$1:U344))","v":""},{"$nulls":5},0,{"$f":"IF(AJ345=statistics!$D$3,AB344+AH345-AG345,)","v":0},{"$f":"IF(AND(ROW(AC345)>=statistics!$C$55,ROW(AC345)<=statistics!$D$55),AC344+AH345-AG345,)","v":0},{"$f":"IF(AND(statistics!$C$55<=ROW(A345),ROW(A345)<=statistics!$D$55)=TRUE,AH345-AG345+AA344-INDEX(AA:AA,statistics!$C$55),\"\")","v":""},null,null,0,0,0,"",{"$f":"IF(statistics!$D$3<>0,IF(AJ345=statistics!$D$3,AG345,\"\"),IF(B345<>\"\",AG345,\"\"))","v":""},{"$f":"IF(statistics!$D$3<>0,IF(AJ345=statistics!$D$3,IF(AH345=0,\"\",AH345),\"\"),IF(AH345<>0,AH345,\"\"))","v":""},{"$f":"IF(statistics!$D$3<>0,IF(AJ345=statistics!$D$3,IF(A345=0,\"\",1),\"\"),IF(A345=0,\"\",1))","v":""},"","",null,"",{"$nulls":6},0,null,null,null,"",null,null,"",null,0,null,{"$error":"#NUM!"},{"$error":"#NUM!"},344]
[{"$nulls":4},"","","","","",null,null,"",{"$nulls":6},345,"",{"$f":"IF(A347=0,IF(B347=\"\",IF(B346=0,\"\",SUM($AG$1:AG346)-SUM($U$1:U345)),\"\"),SUM($AG$1:AG346)-SUM($U$1:U345))","v":""},{"$nulls":5},0,{"$f":"IF(AJ346=statistics!$D$3,AB345+AH346-AG346,)","v":0},{"$f":"IF(AND(ROW(AC346)>=statistics!$C$55,ROW(AC346)<=statistics!$D$55),AC345+AH346-AG346,)","v":0},{"$f":"IF(AND(statistics!$C$55<=ROW(A346),ROW(A346)<=statistics!$D$55)=TRUE,AH346-AG346+AA345-INDEX(AA:AA,statistics!$C$55),\"\")","v":""},null,null,0,0,0,"",{"$f":"IF(statistics!$D$3<>0,IF(AJ346=statistics!$D$3,AG346,\"\"),IF(B346<>\"\",AG346,\"\"))","v":""},{"$f":"IF(statistics!$D$3<>0,IF(AJ346=statistics!$D$3,IF(AH346=0,\"\",AH346),\"\"),IF(AH346<>0,AH346,\"\"))","v":""},{"$f":"IF(statistics!$D$3<>0,IF(AJ346=statistics!$D$3,IF(A346=0,\"\",1),\"\"),IF(A346=0,\"\",1))","v":""},"","",null,"",{"$nulls":6},0,null,null,null,"",null,null,"",null,0,null,{"$error":"#NUM!"},{"$error":"#NUM!"},345]
[{"$nulls":4},"","","","","",null,null,"",{"$nulls":6},346,"",{"$f":"IF(A348=0,IF(B348=\"\",IF(B347=0,\"\",SUM($AG$1:AG347)-SUM($U$1:U346)),\"\"),SUM($AG$1:AG347)-SUM($U$1:U346))","v":""},{"$nulls":5},0,{"$f":"IF(AJ347=statistics!$D$3,AB346+AH347-AG347,)","v":0},{"$f":"IF(AND(ROW(AC347)>=statistics!$C$55,ROW(AC347)<=statistics!$D$55),AC346+AH347-AG347,)","v":0},{"$f":"IF(AND(statistics!$C$55<=ROW(A347),ROW(A347)<=statistics!$D$55)=TRUE,AH347-AG347+AA346-INDEX(AA:AA,statistics!$C$55),\"\")","v":""},null,null,0,0,0,"",{"$f":"IF(statistics!$D$3<>0,IF(AJ347=statistics!$D$3,AG347,\"\"),IF(B347<>\"\",AG347,\"\"))","v":""},{"$f":"IF(statistics!$D$3<>0,IF(AJ347=statistics!$D$3,IF(AH347=0,\"\",AH347),\"\"),IF(AH347<>0,AH347,\"\"))","v":""},{"$f":"IF(statistics!$D$3<>0,IF(AJ347=statistics!$D$3,IF(A347=0,\"\",1),\"\"),IF(A347=0,\"\",1))","v":""},"","",null,"",{"$nulls":6},0,null,null,null,"",null,null,"",null,0,null,{"$error":"#NUM!"},{"$error":"#NUM!"},346]
[{"$nulls":4},"","","","","",null,null,"",{"$nulls":6},347,"",{"$f":"IF(A349=0,IF(B349=\"\",IF(B348=0,\"\",SUM($AG$1:AG348)-SUM($U$1:U347)),\"\"),SUM($AG$1:AG348)-SUM($U$1:U347))","v":""},{"$nulls":5},0,{"$f":"IF(AJ348=statistics!$D$3,AB347+AH348-AG348,)","v":0},{"$f":"IF(AND(ROW(AC348)>=statistics!$C$55,ROW(AC348)<=statistics!$D$55),AC347+AH348-AG348,)","v":0},{"$f":"IF(AND(statistics!$C$55<=ROW(A348),ROW(A348)<=statistics!$D$55)=TRUE,AH348-AG348+AA347-INDEX(AA:AA,statistics!$C$55),\"\")","v":""},null,null,0,0,0,"",{"$f":"IF(statistics!$D$3<>0,IF(AJ348=statistics!$D$3,AG348,\"\"),IF(B348<>\"\",AG348,\"\"))","v":""},{"$f":"IF(statistics!$D$3<>0,IF(AJ348=statistics!$D$3,IF(AH348=0,\"\",AH348),\"\"),IF(AH348<>0,AH348,\"\"))","v":""},{"$f":"IF(statistics!$D$3<>0,IF(AJ348=statistics!$D$3,IF(A348=0,\"\",1),\"\"),IF(A348=0,\"\",1))","v":""},"","",null,"",{"$nulls":6},0,null,null,null,"",null,null,"",null,0,null,{"$error":"#NUM!"},{"$error":"#NUM!"},347]
[{"$nulls":4},"","","","","",null,null,"",{"$nulls":6},348,"",{"$f":"IF(A350=0,IF(B350=\"\",IF(B349=0,\"\",SUM($AG$1:AG349)-SUM($U$1:U348)),\"\"),SUM($AG$1:AG349)-SUM($U$1:U348))","v":""},{"$nulls":5},0,{"$f":"IF(AJ349=statistics!$D$3,AB348+AH349-AG349,)","v":0},{"$f":"IF(AND(ROW(AC349)>=statistics!$C$55,ROW(AC349)<=statistics!$D$55),AC348+AH349-AG349,)","v":0},{"$f":"IF(AND(statistics!$C$55<=ROW(A349),ROW(A349)<=statistics!$D$55)=TRUE,AH349-AG349+AA348-INDEX(AA:AA,statistics!$C$55),\"\")","v":""},null,null,0,0,0,"",{"$f":"IF(statistics!$D$3<>0,IF(AJ349=statistics!$D$3,AG349,\"\"),IF(B349<>\"\",AG349,\"\"))","v":""},{"$f":"IF(statistics!$D$3<>0,IF(AJ349=statistics!$D$3,IF(AH349=0,\"\",AH349),\"\"),IF(AH349<>0,AH349,\"\"))","v":""},{"$f":"IF(statistics!$D$3<>0,IF(AJ349=statistics!$D$3,IF(A349=0,\"\",1),\"\"),IF(A349=0,\"\",1))","v":""},"","",null,"",{"$nulls":6},0,null,null,null,"",null,null,"",null,0,null,{"$error":"#NUM!"},{"$error":"#NUM!"},348]
[{"$nulls":4},"","","","","",null,null,"",{"$nulls":6},349,"",{"$f":"IF(A351=0,IF(B351=\"\",IF(B350=0,\"\",SUM($AG$1:AG350)-SUM($U$1:U349)),\"\"),SUM($AG$1:AG350)-SUM($U$1:U349))","v":""},{"$nulls":5},0,{"$f":"IF(AJ350=statistics!$D$3,AB349+AH350-AG350,)","v":0},{"$f":"IF(AND(ROW(AC350)>=statistics!$C$55,ROW(AC350)<=statistics!$D$55),AC349+AH350-AG350,)","v":0},{"$f":"IF(AND(statistics!$C$55<=ROW(A350),ROW(A350)<=statistics!$D$55)=TRUE,AH350-AG350+AA349-INDEX(AA:AA,statistics!$C$55),\"\")","v":""},null,null,0,0,0,"",{"$f":"IF(statistics!$D$3<>0,IF(AJ350=statistics!$D$3,AG350,\"\"),IF(B350<>\"\",AG350,\"\"))","v":""},{"$f":"IF(statistics!$D$3<>0,IF(AJ350=statistics!$D$3,IF(AH350=0,\"\",AH350),\"\"),IF(AH350<>0,AH350,\"\"))","v":""},{"$f":"IF(statistics!$D$3<>0,IF(AJ350=statistics!$D$3,IF(A350=0,\"\",1),\"\"),IF(A350=0,\"\",1))","v":""},"","",null,"",{"$nulls":6},0,null,null,null,"",null,null,"",null,0,null,{"$error":"#NUM!"},{"$error":"#NUM!"},349]
[{"$nulls":4},"","","","","",null,null,"",{"$nulls":6},350,"",{"$f":"IF(A352=0,IF(B352=\"\",IF(B351=0,\"\",SUM($AG$1:AG351)-SUM($U$1:U350)),\"\"),SUM($AG$1:AG351)-SUM($U$1:U350))","v":""},{"$nulls":5},0,{"$f":"IF(AJ351=statistics!$D$3,AB350+AH351-AG351,)","v":0},{"$f":"IF(AND(ROW(AC351)>=statistics!$C$55,ROW(AC351)<=statistics!$D$55),AC350+AH351-AG351,)","v":0},{"$f":"IF(AND(statistics!$C$55<=ROW(A351),ROW(A351)<=statistics!$D$55)=TRUE,AH351-AG351+AA350-INDEX(AA:AA,statistics!$C$55),\"\")","v":""},null,null,0,0,0,"",{"$f":"IF(statistics!$D$3<>0,IF(AJ351=statistics!$D$3,AG351,\"\"),IF(B351<>\"\",AG351,\"\"))","v":""},{"$f":"IF(statistics!$D$3<>0,IF(AJ351=statistics!$D$3,IF(AH351=0,\"\",AH351),\"\"),IF(AH351<>0,AH351,\"\"))","v":""},{"$f":"IF(statistics!$D$3<>0,IF(AJ351=statistics!$D$3,IF(A351=0,\"\",1),\"\"),IF(A351=0,\"\",1))","v":""},"","",null,"",{"$nulls":6},0,null,null,null,"",null,null,"",null,0,null,{"$error":"#NUM!"},{"$error":"#NUM!"},350]
[{"$nulls":4},"","","","","",null,null,"",{"$nulls":6},351,"",{"$f":"IF(A353=0,IF(B353=\"\",IF(B352=0,\"\",SUM($AG$1:AG352)-SUM($U$1:U351)),\"\"),SUM($AG$1:AG352)-SUM($U$1:U351))","v":""},{"$nulls":5},0,{"$f":"IF(AJ352=statistics!$D$3,AB351+AH352-AG352,)","v":0},{"$f":"IF(AND(ROW(AC352)>=statistics!$C$55,ROW(AC352)<=statistics!$D$55),AC351+AH352-AG352,)","v":0},{"$f":"IF(AND(statistics!$C$55<=ROW(A352),ROW(A352)<=statistics!$D$55)=TRUE,AH352-AG352+AA351-INDEX(AA:AA,statistics!$C$55),\"\")","v":""},null,null,0,0,0,"",{"$f":"IF(statistics!$D$3<>0,IF(AJ352=statistics!$D$3,AG352,\"\"),IF(B352<>\"\",AG352,\"\"))","v":""},{"$f":"IF(statistics!$D$3<>0,IF(AJ352=statistics!$D$3,IF(AH352=0,\"\",AH352),\"\"),IF(AH352<>0,AH352,\"\"))","v":""},{"$f":"IF(statistics!$D$3<>0,IF(AJ352=statistics!$D$3,IF(A352=0,\"\",1),\"\"),IF(A352=0,\"\",1))","v":""},"","",null,"",{"$nulls":6},0,null,null,null,"",null,null,"",null,0,null,{"$error":"#NUM!"},{"$error":"#NUM!"},351]
[{"$nulls":4},"","","","","",null,null,"",{"$nulls":6},352,"",{"$f":"IF(A354=0,IF(B354=\"\",IF(B353=0,\"\",SUM($AG$1:AG353)-SUM($U$1:U352)),\"\"),SUM($AG$1:AG353)-SUM($U$1:U352))","v":""},{"$nulls":5},0,{"$f":"IF(AJ353=statistics!$D$3,AB352+AH353-AG353,)","v":0},{"$f":"IF(AND(ROW(AC353)>=statistics!$C$55,ROW(AC353)<=statistics!$D$55),AC352+AH353-AG353,)","v":0},{"$f":"IF(AND(statistics!$C$55<=ROW(A353),ROW(A353)<=statistics!$D$55)=TRUE,AH353-AG353+AA352-INDEX(AA:AA,statistics!$C$55),\"\")","v":""},null,null,0,0,0,"",{"$f":"IF(statistics!$D$3<>0,IF(AJ353=statistics!$D$3,AG353,\"\"),IF(B353<>\"\",AG353,\"\"))","v":""},{"$f":"IF(statistics!$D$3<>0,IF(AJ353=statistics!$D$3,IF(AH353=0,\"\",AH353),\"\"),IF(AH353<>0,AH353,\"\"))","v":""},{"$f":"IF(statistics!$D$3<>0,IF(AJ353=statistics!$D$3,IF(A353=0,\"\",1),\"\"),IF(A353=0,\"\",1))","v":""},"","",null,"",{"$nulls":6},0,null,null,null,"",null,null,"",null,0,null,{"$error":"#NUM!"},{"$error":"#NUM!"},352]
[{"$nulls":4},"","","","","",null,null,"",{"$nulls":6},353,"",{"$f":"IF(A355=0,IF(B355=\"\",IF(B354=0,\"\",SUM($AG$1:AG354)-SUM($U$1:U353)),\"\"),SUM($AG$1:AG354)-SUM($U$1:U353))","v":""},{"$nulls":5},0,{"$f":"IF(AJ354=statistics!$D$3,AB353+AH354-AG354,)","v":0},{"$f":"IF(AND(ROW(AC354)>=statistics!$C$55,ROW(AC354)<=statistics!$D$55),AC353+AH354-AG354,)","v":0},{"$f":"IF(AND(statistics!$C$55<=ROW(A354),ROW(A354)<=statistics!$D$55)=TRUE,AH354-AG354+AA353-INDEX(AA:AA,statistics!$C$55),\"\")","v":""},null,null,0,0,0,"",{"$f":"IF(statistics!$D$3<>0,IF(AJ354=statistics!$D$3,AG354,\"\"),IF(B354<>\"\",AG354,\"\"))","v":""},{"$f":"IF(statistics!$D$3<>0,IF(AJ354=statistics!$D$3,IF(AH354=0,\"\",AH354),\"\"),IF(AH354<>0,AH354,\"\"))","v":""},{"$f":"IF(statistics!$D$3<>0,IF(AJ354=statistics!$D$3,IF(A354=0,\"\",1),\"\"),IF(A354=0,\"\",1))","v":""},"","",null,"",{"$nulls":6},0,null,null,null,"",null,null,"",null,0,null,{"$error":"#NUM!"},{"$error":"#NUM!"},353]
[{"$nulls":4},"","","","","",null,null,"",{"$nulls":6},354,"",{"$f":"IF(A356=0,IF(B356=\"\",IF(B355=0,\"\",SUM($AG$1:AG355)-SUM($U$1:U354)),\"\"),SUM($AG$1:AG355)-SUM($U$1:U354))","v":""},{"$nulls":5},0,{"$f":"IF(AJ355=statistics!$D$3,AB354+AH355-AG355,)","v":0},{"$f":"IF(AND(ROW(AC355)>=statistics!$C$55,ROW(AC355)<=statistics!$D$55),AC354+AH355-AG355,)","v":0},{"$f":"IF(AND(statistics!$C$55<=ROW(A355),ROW(A355)<=statistics!$D$55)=TRUE,AH355-AG355+AA354-INDEX(AA:AA,statistics!$C$55),\"\")","v":""},null,null,0,0,0,"",{"$f":"IF(statistics!$D$3<>0,IF(AJ355=statistics!$D$3,AG355,\"\"),IF(B355<>\"\",AG355,\"\"))","v":""},{"$f":"IF(statistics!$D$3<>0,IF(AJ355=statistics!$D$3,IF(AH355=0,\"\",AH355),\"\"),IF(AH355<>0,AH355,\"\"))","v":""},{"$f":"IF(statistics!$D$3<>0,IF(AJ355=statistics!$D$3,IF(A355=0,\"\",1),\"\"),IF(A355=0,\"\",1))","v":""},"","",null,"",{"$nulls":6},0,null,null,null,"",null,null,"",null,0,null,{"$error":"#NUM!"},{"$error":"#NUM!"},354]
[{"$nulls":4},"","","","","",null,null,"",{"$nulls":6},355,"",{"$f":"IF(A357=0,IF(B357=\"\",IF(B356=0,\"\",SUM($AG$1:AG356)-SUM($U$1:U355)),\"\"),SUM($AG$1:AG356)-SUM($U$1:U355))","v":""},{"$nulls":5},0,{"$f":"IF(AJ356=statistics!$D$3,AB355+AH356-AG356,)","v":0},{"$f":"IF(AND(ROW(AC356)>=statistics!$C$55,ROW(AC356)<=statistics!$D$55),AC355+AH356-AG356,)","v":0},{"$f":"IF(AND(statistics!$C$55<=ROW(A356),ROW(A356)<=statistics!$D$55)=TRUE,AH356-AG356+AA355-INDEX(AA:AA,statistics!$C$55),\"\")","v":""},null,null,0,0,0,"",{"$f":"IF(statistics!$D$3<>0,IF(AJ356=statistics!$D$3,AG356,\"\"),IF(B356<>\"\",AG356,\"\"))","v":""},{"$f":"IF(statistics!$D$3<>0,IF(AJ356=statistics!$D$3,IF(AH356=0,\"\",AH356),\"\"),IF(AH356<>0,AH356,\"\"))","v":""},{"$f":"IF(statistics!$D$3<>0,IF(AJ356=statistics!$D$3,IF(A356=0,\"\",1),\"\"),IF(A356=0,\"\",1))","v":""},"","",null,"",{"$nulls":6},0,null,null,null,"",null,null,"",null,0,null,{"$error":"#NUM!"},{"$error":"#NUM!"},355]
[{"$nulls":4},"","","","","",null,null,"",{"$nulls":6},356,"",{"$f":"IF(A358=0,IF(B358=\"\",IF(B357=0,\"\",SUM($AG$1:AG357)-SUM($U$1:U356)),\"\"),SUM($AG$1:AG357)-SUM($U$1:U356))","v":""},{"$nulls":5},0,{"$f":"IF(AJ357=statistics!$D$3,AB356+AH357-AG357,)","v":0},{"$f":"IF(AND(ROW(AC357)>=statistics!$C$55,ROW(AC357)<=statistics!$D$55),AC356+AH357-AG357,)","v":0},{"$f":"IF(AND(statistics!$C$55<=ROW(A357),ROW(A357)<=statistics!$D$55)=TRUE,AH357-AG357+AA356-INDEX(AA:AA,statistics!$C$55),\"\")","v":""},null,null,0,0,0,"",{"$f":"IF(statistics!$D$3<>0,IF(AJ357=statistics!$D$3,AG357,\"\"),IF(B357<>\"\",AG357,\"\"))","v":""},{"$f":"IF(statistics!$D$3<>0,IF(AJ357=statistics!$D$3,IF(AH357=0,\"\",AH357),\"\"),IF(AH357<>0,AH357,\"\"))","v":""},{"$f":"IF(statistics!$D$3<>0,IF(AJ357=statistics!$D$3,IF(A357=0,\"\",1),\"\"),IF(A357=0,\"\",1))","v":""},"","",null,"",{"$nulls":6},0,null,null,null,"",null,null,"",null,0,null,{"$error":"#NUM!"},{"$error":"#NUM!"},356]
[{"$nulls":4},"","","","","",null,null,"",{"$nulls":6},357,"",{"$f":"IF(A359=0,IF(B359=\"\",IF(B358=0,\"\",SUM($AG$1:AG358)-SUM($U$1:U357)),\"\"),SUM($AG$1:AG358)-SUM($U$1:U357))","v":""},{"$nulls":5},0,{"$f":"IF(AJ358=statistics!$D$3,AB357+AH358-AG358,)","v":0},{"$f":"IF(AND(ROW(AC358)>=statistics!$C$55,ROW(AC358)<=statistics!$D$55),AC357+AH358-AG358,)","v":0},{"$f":"IF(AND(statistics!$C$55<=ROW(A358),ROW(A358)<=statistics!$D$55)=TRUE,AH358-AG358+AA357-INDEX(AA:AA,statistics!$C$55),\"\")","v":""},null,null,0,0,0,"",{"$f":"IF(statistics!$D$3<>0,IF(AJ358=statistics!$D$3,AG358,\"\"),IF(B358<>\"\",AG358,\"\"))","v":""},{"$f":"IF(statistics!$D$3<>0,IF(AJ358=statistics!$D$3,IF(AH358=0,\"\",AH358),\"\"),IF(AH358<>0,AH358,\"\"))","v":""},{"$f":"IF(statistics!$D$3<>0,IF(AJ358=statistics!$D$3,IF(A358=0,\"\",1),\"\"),IF(A358=0,\"\",1))","v":""},"","",null,"",{"$nulls":6},0,null,null,null,"",null,null,"",null,0,null,{"$error":"#NUM!"},{"$error":"#NUM!"},357]
[{"$nulls":4},"","","","","",null,null,"",{"$nulls":6},358,"",{"$f":"IF(A360=0,IF(B360=\"\",IF(B359=0,\"\",SUM($AG$1:AG359)-SUM($U$1:U358)),\"\"),SUM($AG$1:AG359)-SUM($U$1:U358))","v":""},{"$nulls":5},0,{"$f":"IF(AJ359=statistics!$D$3,AB358+AH359-AG359,)","v":0},{"$f":"IF(AND(ROW(AC359)>=statistics!$C$55,ROW(AC359)<=statistics!$D$55),AC358+AH359-AG359,)","v":0},{"$f":"IF(AND(statistics!$C$55<=ROW(A359),ROW(A359)<=statistics!$D$55)=TRUE,AH359-AG359+AA358-INDEX(AA:AA,statistics!$C$55),\"\")","v":""},null,null,0,0,0,"",{"$f":"IF(statistics!$D$3<>0,IF(AJ359=statistics!$D$3,AG359,\"\"),IF(B359<>\"\",AG359,\"\"))","v":""},{"$f":"IF(statistics!$D$3<>0,IF(AJ359=statistics!$D$3,IF(AH359=0,\"\",AH359),\"\"),IF(AH359<>0,AH359,\"\"))","v":""},{"$f":"IF(statistics!$D$3<>0,IF(AJ359=statistics!$D$3,IF(A359=0,\"\",1),\"\"),IF(A359=0,\"\",1))","v":""},"","",null,"",{"$nulls":6},0,null,null,null,"",null,null,"",null,0,null,{"$error":"#NUM!"},{"$error":"#NUM!"},358]
[{"$nulls":4},"","","","","",null,null,"",{"$nulls":6},359,"",{"$f":"IF(A361=0,IF(B361=\"\",IF(B360=0,\"\",SUM($AG$1:AG360)-SUM($U$1:U359)),\"\"),SUM($AG$1:AG360)-SUM($U$1:U359))","v":""},{"$nulls":5},0,{"$f":"IF(AJ360=statistics!$D$3,AB359+AH360-AG360,)","v":0},{"$f":"IF(AND(ROW(AC360)>=statistics!$C$55,ROW(AC360)<=statistics!$D$55),AC359+AH360-AG360,)","v":0},{"$f":"IF(AND(statistics!$C$55<=ROW(A360),ROW(A360)<=statistics!$D$55)=TRUE,AH360-AG360+AA359-INDEX(AA:AA,statistics!$C$55),\"\")","v":""},null,null,0,0,0,"",{"$f":"IF(statistics!$D$3<>0,IF(AJ360=statistics!$D$3,AG360,\"\"),IF(B360<>\"\",AG360,\"\"))","v":""},{"$f":"IF(statistics!$D$3<>0,IF(AJ360=statistics!$D$3,IF(AH360=0,\"\",AH360),\"\"),IF(AH360<>0,AH360,\"\"))","v":""},{"$f":"IF(statistics!$D$3<>0,IF(AJ360=statistics!$D$3,IF(A360=0,\"\",1),\"\"),IF(A360=0,\"\",1))","v":""},"","",null,"",{"$nulls":6},0,null,null,null,"",null,null,"",null,0,null,{"$error":"#NUM!"},{"$error":"#NUM!"},359]
[{"$nulls":4},"","","","","",null,null,"",{"$nulls":6},360,"",{"$f":"IF(A362=0,IF(B362=\"\",IF(B361=0,\"\",SUM($AG$1:AG361)-SUM($U$1:U360)),\"\"),SUM($AG$1:AG361)-SUM($U$1:U360))","v":""},{"$nulls":5},0,{"$f":"IF(AJ361=statistics!$D$3,AB360+AH361-AG361,)","v":0},{"$f":"IF(AND(ROW(AC361)>=statistics!$C$55,ROW(AC361)<=statistics!$D$55),AC360+AH361-AG361,)","v":0},{"$f":"IF(AND(statistics!$C$55<=ROW(A361),ROW(A361)<=statistics!$D$55)=TRUE,AH361-AG361+AA360-INDEX(AA:AA,statistics!$C$55),\"\")","v":""},null,null,0,0,0,"",{"$f":"IF(statistics!$D$3<>0,IF(AJ361=statistics!$D$3,AG361,\"\"),IF(B361<>\"\",AG361,\"\"))","v":""},{"$f":"IF(statistics!$D$3<>0,IF(AJ361=statistics!$D$3,IF(AH361=0,\"\",AH361),\"\"),IF(AH361<>0,AH361,\"\"))","v":""},{"$f":"IF(statistics!$D$3<>0,IF(AJ361=statistics!$D$3,IF(A361=0,\"\",1),\"\"),IF(A361=0,\"\",1))","v":""},"","",null,"",{"$nulls":6},0,null,null,null,"",null,null,"",null,0,null,{"$error":"#NUM!"},{"$error":"#NUM!"},360]
[{"$nulls":4},"","","","","",null,null,"",{"$nulls":6},361,"",{"$f":"IF(A363=0,IF(B363=\"\",IF(B362=0,\"\",SUM($AG$1:AG362)-SUM($U$1:U361)),\"\"),SUM($AG$1:AG362)-SUM($U$1:U361))","v":""},{"$nulls":5},0,{"$f":"IF(AJ362=statistics!$D$3,AB361+AH362-AG362,)","v":0},{"$f":"IF(AND(ROW(AC362)>=statistics!$C$55,ROW(AC362)<=statistics!$D$55),AC361+AH362-AG362,)","v":0},{"$f":"IF(AND(statistics!$C$55<=ROW(A362),ROW(A362)<=statistics!$D$55)=TRUE,AH362-AG362+AA361-INDEX(AA:AA,statistics!$C$55),\"\")","v":""},null,null,0,0,0,"",{"$f":"IF(statistics!$D$3<>0,IF(AJ362=statistics!$D$3,AG362,\"\"),IF(B362<>\"\",AG362,\"\"))","v":""},{"$f":"IF(statistics!$D$3<>0,IF(AJ362=statistics!$D$3,IF(AH362=0,\"\",AH362),\"\"),IF(AH362<>0,AH362,\"\"))","v":""},{"$f":"IF(statistics!$D$3<>0,IF(AJ362=statistics!$D$3,IF(A362=0,\"\",1),\"\"),IF(A362=0,\"\",1))","v":""},"","",null,"",{"$nulls":6},0,null,null,null,"",null,null,"",null,0,null,{"$error":"#NUM!"},{"$error":"#NUM!"},361]
[{"$nulls":4},"","","","","",null,null,"",{"$nulls":6},362,"",{"$f":"IF(A364=0,IF(B364=\"\",IF(B363=0,\"\",SUM($AG$1:AG363)-SUM($U$1:U362)),\"\"),SUM($AG$1:AG363)-SUM($U$1:U362))","v":""},{"$nulls":5},0,{"$f":"IF(AJ363=statistics!$D$3,AB362+AH363-AG363,)","v":0},{"$f":"IF(AND(ROW(AC363)>=statistics!$C$55,ROW(AC363)<=statistics!$D$55),AC362+AH363-AG363,)","v":0},{"$f":"IF(AND(statistics!$C$55<=ROW(A363),ROW(A363)<=statistics!$D$55)=TRUE,AH363-AG363+AA362-INDEX(AA:AA,statistics!$C$55),\"\")","v":""},null,null,0,0,0,"",{"$f":"IF(statistics!$D$3<>0,IF(AJ363=statistics!$D$3,AG363,\"\"),IF(B363<>\"\",AG363,\"\"))","v":""},{"$f":"IF(statistics!$D$3<>0,IF(AJ363=statistics!$D$3,IF(AH363=0,\"\",AH363),\"\"),IF(AH363<>0,AH363,\"\"))","v":""},{"$f":"IF(statistics!$D$3<>0,IF(AJ363=statistics!$D$3,IF(A363=0,\"\",1),\"\"),IF(A363=0,\"\",1))","v":""},"","",null,"",{"$nulls":6},0,null,null,null,"",null,null,"",null,0,null,{"$error":"#NUM!"},{"$error":"#NUM!"},362]
[{"$nulls":4},"","","","","",null,null,"",{"$nulls":6},363,"",{"$f":"IF(A365=0,IF(B365=\"\",IF(B364=0,\"\",SUM($AG$1:AG364)-SUM($U$1:U363)),\"\"),SUM($AG$1:AG364)-SUM($U$1:U363))","v":""},{"$nulls":5},0,{"$f":"IF(AJ364=statistics!$D$3,AB363+AH364-AG364,)","v":0},{"$f":"IF(AND(ROW(AC364)>=statistics!$C$55,ROW(AC364)<=statistics!$D$55),AC363+AH364-AG364,)","v":0},{"$f":"IF(AND(statistics!$C$55<=ROW(A364),ROW(A364)<=statistics!$D$55)=TRUE,AH364-AG364+AA363-INDEX(AA:AA,statistics!$C$55),\"\")","v":""},null,null,0,0,0,"",{"$f":"IF(statistics!$D$3<>0,IF(AJ364=statistics!$D$3,AG364,\"\"),IF(B364<>\"\",AG364,\"\"))","v":""},{"$f":"IF(statistics!$D$3<>0,IF(AJ364=statistics!$D$3,IF(AH364=0,\"\",AH364),\"\"),IF(AH364<>0,AH364,\"\"))","v":""},{"$f":"IF(statistics!$D$3<>0,IF(AJ364=statistics!$D$3,IF(A364=0,\"\",1),\"\"),IF(A364=0,\"\",1))","v":""},"","",null,"",{"$nulls":6},0,null,null,null,"",null,null,"",null,0,null,{"$error":"#NUM!"},{"$error":"#NUM!"},363]
[{"$nulls":4},"","","","","",null,null,"",{"$nulls":6},364,"",{"$f":"IF(A366=0,IF(B366=\"\",IF(B365=0,\"\",SUM($AG$1:AG365)-SUM($U$1:U364)),\"\"),SUM($AG$1:AG365)-SUM($U$1:U364))","v":""},{"$nulls":5},0,{"$f":"IF(AJ365=statistics!$D$3,AB364+AH365-AG365,)","v":0},{"$f":"IF(AND(ROW(AC365)>=statistics!$C$55,ROW(AC365)<=statistics!$D$55),AC364+AH365-AG365,)","v":0},{"$f":"IF(AND(statistics!$C$55<=ROW(A365),ROW(A365)<=statistics!$D$55)=TRUE,AH365-AG365+AA364-INDEX(AA:AA,statistics!$C$55),\"\")","v":""},null,null,0,0,0,"",{"$f":"IF(statistics!$D$3<>0,IF(AJ365=statistics!$D$3,AG365,\"\"),IF(B365<>\"\",AG365,\"\"))","v":""},{"$f":"IF(statistics!$D$3<>0,IF(AJ365=statistics!$D$3,IF(AH365=0,\"\",AH365),\"\"),IF(AH365<>0,AH365,\"\"))","v":""},{"$f":"IF(statistics!$D$3<>0,IF(AJ365=statistics!$D$3,IF(A365=0,\"\",1),\"\"),IF(A365=0,\"\",1))","v":""},"","",null,"",{"$nulls":6},0,null,null,null,"",null,null,"",null,0,null,{"$error":"#NUM!"},{"$error":"#NUM!"},364]
[{"$nulls":4},"","","","","",null,null,"",{"$nulls":6},365,"",{"$f":"IF(A367=0,IF(B367=\"\",IF(B366=0,\"\",SUM($AG$1:AG366)-SUM($U$1:U365)),\"\"),SUM($AG$1:AG366)-SUM($U$1:U365))","v":""},{"$nulls":5},0,{"$f":"IF(AJ366=statistics!$D$3,AB365+AH366-AG366,)","v":0},{"$f":"IF(AND(ROW(AC366)>=statistics!$C$55,ROW(AC366)<=statistics!$D$55),AC365+AH366-AG366,)","v":0},{"$f":"IF(AND(statistics!$C$55<=ROW(A366),ROW(A366)<=statistics!$D$55)=TRUE,AH366-AG366+AA365-INDEX(AA:AA,statistics!$C$55),\"\")","v":""},null,null,0,0,0,"",{"$f":"IF(statistics!$D$3<>0,IF(AJ366=statistics!$D$3,AG366,\"\"),IF(B366<>\"\",AG366,\"\"))","v":""},{"$f":"IF(statistics!$D$3<>0,IF(AJ366=statistics!$D$3,IF(AH366=0,\"\",AH366),\"\"),IF(AH366<>0,AH366,\"\"))","v":""},{"$f":"IF(statistics!$D$3<>0,IF(AJ366=statistics!$D$3,IF(A366=0,\"\",1),\"\"),IF(A366=0,\"\",1))","v":""},"","",null,"",{"$nulls":6},0,null,null,null,"",null,null,"",null,0,null,{"$error":"#NUM!"},{"$error":"#NUM!"},365]
[{"$nulls":4},"","","","","",null,null,"",{"$nulls":6},366,"",{"$f":"IF(A368=0,IF(B368=\"\",IF(B367=0,\"\",SUM($AG$1:AG367)-SUM($U$1:U366)),\"\"),SUM($AG$1:AG367)-SUM($U$1:U366))","v":""},{"$nulls":5},0,{"$f":"IF(AJ367=statistics!$D$3,AB366+AH367-AG367,)","v":0},{"$f":"IF(AND(ROW(AC367)>=statistics!$C$55,ROW(AC367)<=statistics!$D$55),AC366+AH367-AG367,)","v":0},{"$f":"IF(AND(statistics!$C$55<=ROW(A367),ROW(A367)<=statistics!$D$55)=TRUE,AH367-AG367+AA366-INDEX(AA:AA,statistics!$C$55),\"\")","v":""},null,null,0,0,0,"",{"$f":"IF(statistics!$D$3<>0,IF(AJ367=statistics!$D$3,AG367,\"\"),IF(B367<>\"\",AG367,\"\"))","v":""},{"$f":"IF(statistics!$D$3<>0,IF(AJ367=statistics!$D$3,IF(AH367=0,\"\",AH367),\"\"),IF(AH367<>0,AH367,\"\"))","v":""},{"$f":"IF(statistics!$D$3<>0,IF(AJ367=statistics!$D$3,IF(A367=0,\"\",1),\"\"),IF(A367=0,\"\",1))","v":""},"","",null,"",{"$nulls":6},0,null,null,null,"",null,null,"",null,0,null,{"$error":"#NUM!"},{"$error":"#NUM!"},366]
[{"$nulls":4},"","","","","",null,null,"",{"$nulls":6},367,"",{"$f":"IF(A369=0,IF(B369=\"\",IF(B368=0,\"\",SUM($AG$1:AG368)-SUM($U$1:U367)),\"\"),SUM($AG$1:AG368)-SUM($U$1:U367))","v":""},{"$nulls":5},0,{"$f":"IF(AJ368=statistics!$D$3,AB367+AH368-AG368,)","v":0},{"$f":"IF(AND(ROW(AC368)>=statistics!$C$55,ROW(AC368)<=statistics!$D$55),AC367+AH368-AG368,)","v":0},{"$f":"IF(AND(statistics!$C$55<=ROW(A368),ROW(A368)<=statistics!$D$55)=TRUE,AH368-AG368+AA367-INDEX(AA:AA,statistics!$C$55),\"\")","v":""},null,null,0,0,0,"",{"$f":"IF(statistics!$D$3<>0,IF(AJ368=statistics!$D$3,AG368,\"\"),IF(B368<>\"\",AG368,\"\"))","v":""},{"$f":"IF(statistics!$D$3<>0,IF(AJ368=statistics!$D$3,IF(AH368=0,\"\",AH368),\"\"),IF(AH368<>0,AH368,\"\"))","v":""},{"$f":"IF(statistics!$D$3<>0,IF(AJ368=statistics!$D$3,IF(A368=0,\"\",1),\"\"),IF(A368=0,\"\",1))","v":""},"","",null,"",{"$nulls":6},0,null,null,null,"",null,null,"",null,0,null,{"$error":"#NUM!"},{"$error":"#NUM!"},367]
[{"$nulls":4},"","","","","",null,null,"",{"$nulls":6},368,"",{"$f":"IF(A370=0,IF(B370=\"\",IF(B369=0,\"\",SUM($AG$1:AG369)-SUM($U$1:U368)),\"\"),SUM($AG$1:AG369)-SUM($U$1:U368))","v":""},{"$nulls":5},0,{"$f":"IF(AJ369=statistics!$D$3,AB368+AH369-AG369,)","v":0},{"$f":"IF(AND(ROW(AC369)>=statistics!$C$55,ROW(AC369)<=statistics!$D$55),AC368+AH369-AG369,)","v":0},{"$f":"IF(AND(statistics!$C$55<=ROW(A369),ROW(A369)<=statistics!$D$55)=TRUE,AH369-AG369+AA368-INDEX(AA:AA,statistics!$C$55),\"\")","v":""},null,null,0,0,0,"",{"$f":"IF(statistics!$D$3<>0,IF(AJ369=statistics!$D$3,AG369,\"\"),IF(B369<>\"\",AG369,\"\"))","v":""},{"$f":"IF(statistics!$D$3<>0,IF(AJ369=statistics!$D$3,IF(AH369=0,\"\",AH369),\"\"),IF(AH369<>0,AH369,\"\"))","v":""},{"$f":"IF(statistics!$D$3<>0,IF(AJ369=statistics!$D$3,IF(A369=0,\"\",1),\"\"),IF(A369=0,\"\",1))","v":""},"","",null,"",{"$nulls":6},0,null,null,null,"",null,null,"",null,0,null,{"$error":"#NUM!"},{"$error":"#NUM!"},368]
[{"$nulls":4},"","","","","",null,null,"",{"$nulls":6},369,"",{"$f":"IF(A371=0,IF(B371=\"\",IF(B370=0,\"\",SUM($AG$1:AG370)-SUM($U$1:U369)),\"\"),SUM($AG$1:AG370)-SUM($U$1:U369))","v":""},{"$nulls":5},0,{"$f":"IF(AJ370=statistics!$D$3,AB369+AH370-AG370,)","v":0},{"$f":"IF(AND(ROW(AC370)>=statistics!$C$55,ROW(AC370)<=statistics!$D$55),AC369+AH370-AG370,)","v":0},{"$f":"IF(AND(statistics!$C$55<=ROW(A370),ROW(A370)<=statistics!$D$55)=TRUE,AH370-AG370+AA369-INDEX(AA:AA,statistics!$C$55),\"\")","v":""},null,null,0,0,0,"",{"$f":"IF(statistics!$D$3<>0,IF(AJ370=statistics!$D$3,AG370,\"\"),IF(B370<>\"\",AG370,\"\"))","v":""},{"$f":"IF(statistics!$D$3<>0,IF(AJ370=statistics!$D$3,IF(AH370=0,\"\",AH370),\"\"),IF(AH370<>0,AH370,\"\"))","v":""},{"$f":"IF(statistics!$D$3<>0,IF(AJ370=statistics!$D$3,IF(A370=0,\"\",1),\"\"),IF(A370=0,\"\",1))","v":""},"","",null,"",{"$nulls":6},0,null,null,null,"",null,null,"",null,0,null,{"$error":"#NUM!"},{"$error":"#NUM!"},369]
[{"$nulls":4},"","","","","",null,null,"",{"$nulls":6},370,"",{"$f":"IF(A372=0,IF(B372=\"\",IF(B371=0,\"\",SUM($AG$1:AG371)-SUM($U$1:U370)),\"\"),SUM($AG$1:AG371)-SUM($U$1:U370))","v":""},{"$nulls":5},0,{"$f":"IF(AJ371=statistics!$D$3,AB370+AH371-AG371,)","v":0},{"$f":"IF(AND(ROW(AC371)>=statistics!$C$55,ROW(AC371)<=statistics!$D$55),AC370+AH371-AG371,)","v":0},{"$f":"IF(AND(statistics!$C$55<=ROW(A371),ROW(A371)<=statistics!$D$55)=TRUE,AH371-AG371+AA370-INDEX(AA:AA,statistics!$C$55),\"\")","v":""},null,null,0,0,0,"",{"$f":"IF(statistics!$D$3<>0,IF(AJ371=statistics!$D$3,AG371,\"\"),IF(B371<>\"\",AG371,\"\"))","v":""},{"$f":"IF(statistics!$D$3<>0,IF(AJ371=statistics!$D$3,IF(AH371=0,\"\",AH371),\"\"),IF(AH371<>0,AH371,\"\"))","v":""},{"$f":"IF(statistics!$D$3<>0,IF(AJ371=statistics!$D$3,IF(A371=0,\"\",1),\"\"),IF(A371=0,\"\",1))","v":""},"","",null,"",{"$nulls":6},0,null,null,null,"",null,null,"",null,0,null,{"$error":"#NUM!"},{"$error":"#NUM!"},370]
[{"$nulls":4},"","","","","",null,null,"",{"$nulls":6},371,"",{"$f":"IF(A373=0,IF(B373=\"\",IF(B372=0,\"\",SUM($AG$1:AG372)-SUM($U$1:U371)),\"\"),SUM($AG$1:AG372)-SUM($U$1:U371))","v":""},{"$nulls":5},0,{"$f":"IF(AJ372=statistics!$D$3,AB371+AH372-AG372,)","v":0},{"$f":"IF(AND(ROW(AC372)>=statistics!$C$55,ROW(AC372)<=statistics!$D$55),AC371+AH372-AG372,)","v":0},{"$f":"IF(AND(statistics!$C$55<=ROW(A372),ROW(A372)<=statistics!$D$55)=TRUE,AH372-AG372+AA371-INDEX(AA:AA,statistics!$C$55),\"\")","v":""},null,null,0,0,0,"",{"$f":"IF(statistics!$D$3<>0,IF(AJ372=statistics!$D$3,AG372,\"\"),IF(B372<>\"\",AG372,\"\"))","v":""},{"$f":"IF(statistics!$D$3<>0,IF(AJ372=statistics!$D$3,IF(AH372=0,\"\",AH372),\"\"),IF(AH372<>0,AH372,\"\"))","v":""},{"$f":"IF(statistics!$D$3<>0,IF(AJ372=statistics!$D$3,IF(A372=0,\"\",1),\"\"),IF(A372=0,\"\",1))","v":""},"","",null,"",{"$nulls":6},0,null,null,null,"",null,null,"",null,0,null,{"$error":"#NUM!"},{"$error":"#NUM!"},371]
[{"$nulls":4},"","","","","",null,null,"",{"$nulls":6},372,"",{"$f":"IF(A374=0,IF(B374=\"\",IF(B373=0,\"\",SUM($AG$1:AG373)-SUM($U$1:U372)),\"\"),SUM($AG$1:AG373)-SUM($U$1:U372))","v":""},{"$nulls":5},0,{"$f":"IF(AJ373=statistics!$D$3,AB372+AH373-AG373,)","v":0},{"$f":"IF(AND(ROW(AC373)>=statistics!$C$55,ROW(AC373)<=statistics!$D$55),AC372+AH373-AG373,)","v":0},{"$f":"IF(AND(statistics!$C$55<=ROW(A373),ROW(A373)<=statistics!$D$55)=TRUE,AH373-AG373+AA372-INDEX(AA:AA,statistics!$C$55),\"\")","v":""},null,null,0,0,0,"",{"$f":"IF(statistics!$D$3<>0,IF(AJ373=statistics!$D$3,AG373,\"\"),IF(B373<>\"\",AG373,\"\"))","v":""},{"$f":"IF(statistics!$D$3<>0,IF(AJ373=statistics!$D$3,IF(AH373=0,\"\",AH373),\"\"),IF(AH373<>0,AH373,\"\"))","v":""},{"$f":"IF(statistics!$D$3<>0,IF(AJ373=statistics!$D$3,IF(A373=0,\"\",1),\"\"),IF(A373=0,\"\",1))","v":""},"","",null,"",{"$nulls":6},0,null,null,null,"",null,null,"",null,0,null,{"$error":"#NUM!"},{"$error":"#NUM!"},372]
[{"$nulls":4},"","","","","",null,null,"",{"$nulls":6},373,"",{"$f":"IF(A375=0,IF(B375=\"\",IF(B374=0,\"\",SUM($AG$1:AG374)-SUM($U$1:U373)),\"\"),SUM($AG$1:AG374)-SUM($U$1:U373))","v":""},{"$nulls":5},0,{"$f":"IF(AJ374=statistics!$D$3,AB373+AH374-AG374,)","v":0},{"$f":"IF(AND(ROW(AC374)>=statistics!$C$55,ROW(AC374)<=statistics!$D$55),AC373+AH374-AG374,)","v":0},{"$f":"IF(AND(statistics!$C$55<=ROW(A374),ROW(A374)<=statistics!$D$55)=TRUE,AH374-AG374+AA373-INDEX(AA:AA,statistics!$C$55),\"\")","v":""},null,null,0,0,0,"",{"$f":"IF(statistics!$D$3<>0,IF(AJ374=statistics!$D$3,AG374,\"\"),IF(B374<>\"\",AG374,\"\"))","v":""},{"$f":"IF(statistics!$D$3<>0,IF(AJ374=statistics!$D$3,IF(AH374=0,\"\",AH374),\"\"),IF(AH374<>0,AH374,\"\"))","v":""},{"$f":"IF(statistics!$D$3<>0,IF(AJ374=statistics!$D$3,IF(A374=0,\"\",1),\"\"),IF(A374=0,\"\",1))","v":""},"","",null,"",{"$nulls":6},0,null,null,null,"",null,null,"",null,0,null,{"$error":"#NUM!"},{"$error":"#NUM!"},373]
[{"$nulls":4},"","","","","",null,null,"",{"$nulls":6},374,"",{"$f":"IF(A376=0,IF(B376=\"\",IF(B375=0,\"\",SUM($AG$1:AG375)-SUM($U$1:U374)),\"\"),SUM($AG$1:AG375)-SUM($U$1:U374))","v":""},{"$nulls":5},0,{"$f":"IF(AJ375=statistics!$D$3,AB374+AH375-AG375,)","v":0},{"$f":"IF(AND(ROW(AC375)>=statistics!$C$55,ROW(AC375)<=statistics!$D$55),AC374+AH375-AG375,)","v":0},{"$f":"IF(AND(statistics!$C$55<=ROW(A375),ROW(A375)<=statistics!$D$55)=TRUE,AH375-AG375+AA374-INDEX(AA:AA,statistics!$C$55),\"\")","v":""},null,null,0,0,0,"",{"$f":"IF(statistics!$D$3<>0,IF(AJ375=statistics!$D$3,AG375,\"\"),IF(B375<>\"\",AG375,\"\"))","v":""},{"$f":"IF(statistics!$D$3<>0,IF(AJ375=statistics!$D$3,IF(AH375=0,\"\",AH375),\"\"),IF(AH375<>0,AH375,\"\"))","v":""},{"$f":"IF(statistics!$D$3<>0,IF(AJ375=statistics!$D$3,IF(A375=0,\"\",1),\"\"),IF(A375=0,\"\",1))","v":""},"","",null,"",{"$nulls":6},0,null,null,null,"",null,null,"",null,0,null,{"$error":"#NUM!"},{"$error":"#NUM!"},374]
[{"$nulls":4},"","","","","",null,null,"",{"$nulls":6},375,"",{"$f":"IF(A377=0,IF(B377=\"\",IF(B376=0,\"\",SUM($AG$1:AG376)-SUM($U$1:U375)),\"\"),SUM($AG$1:AG376)-SUM($U$1:U375))","v":""},{"$nulls":5},0,{"$f":"IF(AJ376=statistics!$D$3,AB375+AH376-AG376,)","v":0},{"$f":"IF(AND(ROW(AC376)>=statistics!$C$55,ROW(AC376)<=statistics!$D$55),AC375+AH376-AG376,)","v":0},{"$f":"IF(AND(statistics!$C$55<=ROW(A376),ROW(A376)<=statistics!$D$55)=TRUE,AH376-AG376+AA375-INDEX(AA:AA,statistics!$C$55),\"\")","v":""},null,null,0,0,0,"",{"$f":"IF(statistics!$D$3<>0,IF(AJ376=statistics!$D$3,AG376,\"\"),IF(B376<>\"\",AG376,\"\"))","v":""},{"$f":"IF(statistics!$D$3<>0,IF(AJ376=statistics!$D$3,IF(AH376=0,\"\",AH376),\"\"),IF(AH376<>0,AH376,\"\"))","v":""},{"$f":"IF(statistics!$D$3<>0,IF(AJ376=statistics!$D$3,IF(A376=0,\"\",1),\"\"),IF(A376=0,\"\",1))","v":""},"","",null,"",{"$nulls":6},0,null,null,null,"",null,null,"",null,0,null,{"$error":"#NUM!"},{"$error":"#NUM!"},375]
[{"$nulls":4},"","","","","",null,null,"",{"$nulls":6},376,"",{"$f":"IF(A378=0,IF(B378=\"\",IF(B377=0,\"\",SUM($AG$1:AG377)-SUM($U$1:U376)),\"\"),SUM($AG$1:AG377)-SUM($U$1:U376))","v":""},{"$nulls":5},0,{"$f":"IF(AJ377=statistics!$D$3,AB376+AH377-AG377,)","v":0},{"$f":"IF(AND(ROW(AC377)>=statistics!$C$55,ROW(AC377)<=statistics!$D$55),AC376+AH377-AG377,)","v":0},{"$f":"IF(AND(statistics!$C$55<=ROW(A377),ROW(A377)<=statistics!$D$55)=TRUE,AH377-AG377+AA376-INDEX(AA:AA,statistics!$C$55),\"\")","v":""},null,null,0,0,0,"",{"$f":"IF(statistics!$D$3<>0,IF(AJ377=statistics!$D$3,AG377,\"\"),IF(B377<>\"\",AG377,\"\"))","v":""},{"$f":"IF(statistics!$D$3<>0,IF(AJ377=statistics!$D$3,IF(AH377=0,\"\",AH377),\"\"),IF(AH377<>0,AH377,\"\"))","v":""},{"$f":"IF(statistics!$D$3<>0,IF(AJ377=statistics!$D$3,IF(A377=0,\"\",1),\"\"),IF(A377=0,\"\",1))","v":""},"","",null,"",{"$nulls":6},0,null,null,null,"",null,null,"",null,0,null,{"$error":"#NUM!"},{"$error":"#NUM!"},376]
[{"$nulls":4},"","","","","",null,null,"",{"$nulls":6},377,"",{"$f":"IF(A379=0,IF(B379=\"\",IF(B378=0,\"\",SUM($AG$1:AG378)-SUM($U$1:U377)),\"\"),SUM($AG$1:AG378)-SUM($U$1:U377))","v":""},{"$nulls":5},0,{"$f":"IF(AJ378=statistics!$D$3,AB377+AH378-AG378,)","v":0},{"$f":"IF(AND(ROW(AC378)>=statistics!$C$55,ROW(AC378)<=statistics!$D$55),AC377+AH378-AG378,)","v":0},{"$f":"IF(AND(statistics!$C$55<=ROW(A378),ROW(A378)<=statistics!$D$55)=TRUE,AH378-AG378+AA377-INDEX(AA:AA,statistics!$C$55),\"\")","v":""},null,null,0,0,0,"",{"$f":"IF(statistics!$D$3<>0,IF(AJ378=statistics!$D$3,AG378,\"\"),IF(B378<>\"\",AG378,\"\"))","v":""},{"$f":"IF(statistics!$D$3<>0,IF(AJ378=statistics!$D$3,IF(AH378=0,\"\",AH378),\"\"),IF(AH378<>0,AH378,\"\"))","v":""},{"$f":"IF(statistics!$D$3<>0,IF(AJ378=statistics!$D$3,IF(A378=0,\"\",1),\"\"),IF(A378=0,\"\",1))","v":""},"","",null,"",{"$nulls":6},0,null,null,null,"",null,null,"",null,0,null,{"$error":"#NUM!"},{"$error":"#NUM!"},377]
[{"$nulls":4},"","","","","",null,null,"",{"$nulls":6},378,"",{"$f":"IF(A380=0,IF(B380=\"\",IF(B379=0,\"\",SUM($AG$1:AG379)-SUM($U$1:U378)),\"\"),SUM($AG$1:AG379)-SUM($U$1:U378))","v":""},{"$nulls":5},0,{"$f":"IF(AJ379=statistics!$D$3,AB378+AH379-AG379,)","v":0},{"$f":"IF(AND(ROW(AC379)>=statistics!$C$55,ROW(AC379)<=statistics!$D$55),AC378+AH379-AG379,)","v":0},{"$f":"IF(AND(statistics!$C$55<=ROW(A379),ROW(A379)<=statistics!$D$55)=TRUE,AH379-AG379+AA378-INDEX(AA:AA,statistics!$C$55),\"\")","v":""},null,null,0,0,0,"",{"$f":"IF(statistics!$D$3<>0,IF(AJ379=statistics!$D$3,AG379,\"\"),IF(B379<>\"\",AG379,\"\"))","v":""},{"$f":"IF(statistics!$D$3<>0,IF(AJ379=statistics!$D$3,IF(AH379=0,\"\",AH379),\"\"),IF(AH379<>0,AH379,\"\"))","v":""},{"$f":"IF(statistics!$D$3<>0,IF(AJ379=statistics!$D$3,IF(A379=0,\"\",1),\"\"),IF(A379=0,\"\",1))","v":""},"","",null,"",{"$nulls":6},0,null,null,null,"",null,null,"",null,0,null,{"$error":"#NUM!"},{"$error":"#NUM!"},378]
[{"$nulls":4},"","","","","",null,null,"",{"$nulls":6},379,"",{"$f":"IF(A381=0,IF(B381=\"\",IF(B380=0,\"\",SUM($AG$1:AG380)-SUM($U$1:U379)),\"\"),SUM($AG$1:AG380)-SUM($U$1:U379))","v":""},{"$nulls":5},0,{"$f":"IF(AJ380=statistics!$D$3,AB379+AH380-AG380,)","v":0},{"$f":"IF(AND(ROW(AC380)>=statistics!$C$55,ROW(AC380)<=statistics!$D$55),AC379+AH380-AG380,)","v":0},{"$f":"IF(AND(statistics!$C$55<=ROW(A380),ROW(A380)<=statistics!$D$55)=TRUE,AH380-AG380+AA379-INDEX(AA:AA,statistics!$C$55),\"\")","v":""},null,null,0,0,0,"",{"$f":"IF(statistics!$D$3<>0,IF(AJ380=statistics!$D$3,AG380,\"\"),IF(B380<>\"\",AG380,\"\"))","v":""},{"$f":"IF(statistics!$D$3<>0,IF(AJ380=statistics!$D$3,IF(AH380=0,\"\",AH380),\"\"),IF(AH380<>0,AH380,\"\"))","v":""},{"$f":"IF(statistics!$D$3<>0,IF(AJ380=statistics!$D$3,IF(A380=0,\"\",1),\"\"),IF(A380=0,\"\",1))","v":""},"","",null,"",{"$nulls":6},0,null,null,null,"",null,null,"",null,0,null,{"$error":"#NUM!"},{"$error":"#NUM!"},379]
[{"$nulls":4},"","","","","",null,null,"",{"$nulls":6},380,"",{"$f":"IF(A382=0,IF(B382=\"\",IF(B381=0,\"\",SUM($AG$1:AG381)-SUM($U$1:U380)),\"\"),SUM($AG$1:AG381)-SUM($U$1:U380))","v":""},{"$nulls":5},0,{"$f":"IF(AJ381=statistics!$D$3,AB380+AH381-AG381,)","v":0},{"$f":"IF(AND(ROW(AC381)>=statistics!$C$55,ROW(AC381)<=statistics!$D$55),AC380+AH381-AG381,)","v":0},{"$f":"IF(AND(statistics!$C$55<=ROW(A381),ROW(A381)<=statistics!$D$55)=TRUE,AH381-AG381+AA380-INDEX(AA:AA,statistics!$C$55),\"\")","v":""},null,null,0,0,0,"",{"$f":"IF(statistics!$D$3<>0,IF(AJ381=statistics!$D$3,AG381,\"\"),IF(B381<>\"\",AG381,\"\"))","v":""},{"$f":"IF(statistics!$D$3<>0,IF(AJ381=statistics!$D$3,IF(AH381=0,\"\",AH381),\"\"),IF(AH381<>0,AH381,\"\"))","v":""},{"$f":"IF(statistics!$D$3<>0,IF(AJ381=statistics!$D$3,IF(A381=0,\"\",1),\"\"),IF(A381=0,\"\",1))","v":""},"","",null,"",{"$nulls":6},0,null,null,null,"",null,null,"",null,0,null,{"$error":"#NUM!"},{"$error":"#NUM!"},380]
[{"$nulls":4},"","","","","",null,null,"",{"$nulls":6},381,"",{"$f":"IF(A383=0,IF(B383=\"\",IF(B382=0,\"\",SUM($AG$1:AG382)-SUM($U$1:U381)),\"\"),SUM($AG$1:AG382)-SUM($U$1:U381))","v":""},{"$nulls":5},0,{"$f":"IF(AJ382=statistics!$D$3,AB381+AH382-AG382,)","v":0},{"$f":"IF(AND(ROW(AC382)>=statistics!$C$55,ROW(AC382)<=statistics!$D$55),AC381+AH382-AG382,)","v":0},{"$f":"IF(AND(statistics!$C$55<=ROW(A382),ROW(A382)<=statistics!$D$55)=TRUE,AH382-AG382+AA381-INDEX(AA:AA,statistics!$C$55),\"\")","v":""},null,null,0,0,0,"",{"$f":"IF(statistics!$D$3<>0,IF(AJ382=statistics!$D$3,AG382,\"\"),IF(B382<>\"\",AG382,\"\"))","v":""},{"$f":"IF(statistics!$D$3<>0,IF(AJ382=statistics!$D$3,IF(AH382=0,\"\",AH382),\"\"),IF(AH382<>0,AH382,\"\"))","v":""},{"$f":"IF(statistics!$D$3<>0,IF(AJ382=statistics!$D$3,IF(A382=0,\"\",1),\"\"),IF(A382=0,\"\",1))","v":""},"","",null,"",{"$nulls":6},0,null,null,null,"",null,null,"",null,0,null,{"$error":"#NUM!"},{"$error":"#NUM!"},381]
[{"$nulls":4},"","","","","",null,null,"",{"$nulls":6},382,"",{"$f":"IF(A384=0,IF(B384=\"\",IF(B383=0,\"\",SUM($AG$1:AG383)-SUM($U$1:U382)),\"\"),SUM($AG$1:AG383)-SUM($U$1:U382))","v":""},{"$nulls":5},0,{"$f":"IF(AJ383=statistics!$D$3,AB382+AH383-AG383,)","v":0},{"$f":"IF(AND(ROW(AC383)>=statistics!$C$55,ROW(AC383)<=statistics!$D$55),AC382+AH383-AG383,)","v":0},{"$f":"IF(AND(statistics!$C$55<=ROW(A383),ROW(A383)<=statistics!$D$55)=TRUE,AH383-AG383+AA382-INDEX(AA:AA,statistics!$C$55),\"\")","v":""},null,null,0,0,0,"",{"$f":"IF(statistics!$D$3<>0,IF(AJ383=statistics!$D$3,AG383,\"\"),IF(B383<>\"\",AG383,\"\"))","v":""},{"$f":"IF(statistics!$D$3<>0,IF(AJ383=statistics!$D$3,IF(AH383=0,\"\",AH383),\"\"),IF(AH383<>0,AH383,\"\"))","v":""},{"$f":"IF(statistics!$D$3<>0,IF(AJ383=statistics!$D$3,IF(A383=0,\"\",1),\"\"),IF(A383=0,\"\",1))","v":""},"","",null,"",{"$nulls":6},0,null,null,null,"",null,null,"",null,0,null,{"$error":"#NUM!"},{"$error":"#NUM!"},382]
[{"$nulls":4},"","","","","",null,null,"",{"$nulls":6},383,"",{"$f":"IF(A385=0,IF(B385=\"\",IF(B384=0,\"\",SUM($AG$1:AG384)-SUM($U$1:U383)),\"\"),SUM($AG$1:AG384)-SUM($U$1:U383))","v":""},{"$nulls":5},0,{"$f":"IF(AJ384=statistics!$D$3,AB383+AH384-AG384,)","v":0},{"$f":"IF(AND(ROW(AC384)>=statistics!$C$55,ROW(AC384)<=statistics!$D$55),AC383+AH384-AG384,)","v":0},{"$f":"IF(AND(statistics!$C$55<=ROW(A384),ROW(A384)<=statistics!$D$55)=TRUE,AH384-AG384+AA383-INDEX(AA:AA,statistics!$C$55),\"\")","v":""},null,null,0,0,0,"",{"$f":"IF(statistics!$D$3<>0,IF(AJ384=statistics!$D$3,AG384,\"\"),IF(B384<>\"\",AG384,\"\"))","v":""},{"$f":"IF(statistics!$D$3<>0,IF(AJ384=statistics!$D$3,IF(AH384=0,\"\",AH384),\"\"),IF(AH384<>0,AH384,\"\"))","v":""},{"$f":"IF(statistics!$D$3<>0,IF(AJ384=statistics!$D$3,IF(A384=0,\"\",1),\"\"),IF(A384=0,\"\",1))","v":""},"","",null,"",{"$nulls":6},0,null,null,null,"",null,null,"",null,0,null,{"$error":"#NUM!"},{"$error":"#NUM!"},383]
[{"$nulls":4},"","","","","",null,null,"",{"$nulls":6},384,"",{"$f":"IF(A386=0,IF(B386=\"\",IF(B385=0,\"\",SUM($AG$1:AG385)-SUM($U$1:U384)),\"\"),SUM($AG$1:AG385)-SUM($U$1:U384))","v":""},{"$nulls":5},0,{"$f":"IF(AJ385=statistics!$D$3,AB384+AH385-AG385,)","v":0},{"$f":"IF(AND(ROW(AC385)>=statistics!$C$55,ROW(AC385)<=statistics!$D$55),AC384+AH385-AG385,)","v":0},{"$f":"IF(AND(statistics!$C$55<=ROW(A385),ROW(A385)<=statistics!$D$55)=TRUE,AH385-AG385+AA384-INDEX(AA:AA,statistics!$C$55),\"\")","v":""},null,null,0,0,0,"",{"$f":"IF(statistics!$D$3<>0,IF(AJ385=statistics!$D$3,AG385,\"\"),IF(B385<>\"\",AG385,\"\"))","v":""},{"$f":"IF(statistics!$D$3<>0,IF(AJ385=statistics!$D$3,IF(AH385=0,\"\",AH385),\"\"),IF(AH385<>0,AH385,\"\"))","v":""},{"$f":"IF(statistics!$D$3<>0,IF(AJ385=statistics!$D$3,IF(A385=0,\"\",1),\"\"),IF(A385=0,\"\",1))","v":""},"","",null,"",{"$nulls":6},0,null,null,null,"",null,null,"",null,0,null,{"$error":"#NUM!"},{"$error":"#NUM!"},384]
[{"$nulls":4},"",{"$f":"IF(A386=0,\"\",IF(T386=0,\"\",E386/T386))","v":""},"",{"$f":"IF(A387=0,IF(B387=\"\",IF(B386=0,\"\",U386),\"\"),U386)","v":""},{"$f":"IF(A387=0,IF(B387=\"\",IF(B386=0,\"\",S386),\"\"),S386)","v":""},null,null,"",{"$nulls":6},{"$f":"IF(A386=0,S385+1,1)","v":385},"",{"$f":"IF(A387=0,IF(B387=\"\",IF(B386=0,\"\",SUM($AG$1:AG386)-SUM($U$1:U385)),\"\"),SUM($AG$1:AG386)-SUM($U$1:U385))","v":""},{"$nulls":5},0,{"$f":"IF(AJ386=statistics!$D$3,AB385+AH386-AG386,)","v":0},{"$f":"IF(AND(ROW(AC386)>=statistics!$C$55,ROW(AC386)<=statistics!$D$55),AC385+AH386-AG386,)","v":0},{"$f":"IF(AND(statistics!$C$55<=ROW(A386),ROW(A386)<=statistics!$D$55)=TRUE,AH386-AG386+AA385-INDEX(AA:AA,statistics!$C$55),\"\")","v":""},null,null,0,0,0,"",{"$f":"IF(statistics!$D$3<>0,IF(AJ386=statistics!$D$3,AG386,\"\"),IF(B386<>\"\",AG386,\"\"))","v":""},{"$f":"IF(statistics!$D$3<>0,IF(AJ386=statistics!$D$3,IF(AH386=0,\"\",AH386),\"\"),IF(AH386<>0,AH386,\"\"))","v":""},{"$f":"IF(statistics!$D$3<>0,IF(AJ386=statistics!$D$3,IF(A386=0,\"\",1),\"\"),IF(A386=0,\"\",1))","v":""},"","",null,"",{"$nulls":6},0,null,null,null,"",null,null,"",null,0,null,{"$error":"#NUM!"},{"$error":"#NUM!"},385]
[{"$nulls":4},{"$f":"IF(A387=0,\"\",IF(B387<>\"\",SUM(AH387:AH10385)-SUM(AG387:AG10385)-SUM(E388:E10385),\"\"))","v":""},"","","","",null,null,{"$f":"IF(A387=0,\"\",SUM(AI387:AI10385)-SUM(L388:L10385))","v":""},{"$nulls":6},386,{"$f":"IF(A387=0,\"\",SUM(AG387:AG10385)-SUM(T388:T10385))","v":""},{"$f":"IF(A388=0,IF(B388=\"\",IF(B387=0,\"\",SUM($AG$1:AG387)-SUM($U$1:U386)),\"\"),SUM($AG$1:AG387)-SUM($U$1:U386))","v":""},{"$nulls":5},{"$f":"AA386+AH387-AG387","v":0},{"$f":"IF(AJ387=statistics!$D$3,AB386+AH387-AG387,)","v":0},{"$f":"IF(AND(ROW(AC387)>=statistics!$C$55,ROW(AC387)<=statistics!$D$55),AC386+AH387-AG387,)","v":0},{"$f":"IF(AND(statistics!$C$55<=ROW(A387),ROW(A387)<=statistics!$D$55)=TRUE,AH387-AG387+AA386-INDEX(AA:AA,statistics!$C$55),\"\")","v":""},null,null,0,0,{"$f":"IF(J387=0,,D387*J387)","v":0},"",{"$f":"IF(statistics!$D$3<>0,IF(AJ387=statistics!$D$3,AG387,\"\"),IF(B387<>\"\",AG387,\"\"))","v":""},{"$f":"IF(statistics!$D$3<>0,IF(AJ387=statistics!$D$3,IF(AH387=0,\"\",AH387),\"\"),IF(AH387<>0,AH387,\"\"))","v":""},{"$f":"IF(statistics!$D$3<>0,IF(AJ387=statistics!$D$3,IF(A387=0,\"\",1),\"\"),IF(A387=0,\"\",1))","v":""},"","",null,{"$f":"IF(B387=0,\"\",IF(D387=0,IF(D386=0,AQ386+1,1),\"\"))","v":""},{"$nulls":6},{"$f":"J387*D387-J387*K387*(B387+C387)","v":0},null,null,null,{"$f":"IF(B387=$BA$2,ROW(),\"\")","v":""},null,null,{"$f":"IF(B387=$BA$2,INDEX(D:D,SMALL(BB:BB,CELL(\"содержимое\",BG387)))-INDEX(B:B,SMALL(BB:BB,CELL(\"содержимое\",BG387)))-INDEX(C:C,SMALL(BB:BB,CELL(\"содержимое\",BG387))),\"\")","v":""},null,{"$f":"IF($BA$2=B387,BG386+1,BG386)","v":0},null,{"$f":"INDEX(BE:BE,SMALL(BB:BB,CELL(\"содержимое\",BK387)))","v":{"$error":"#NUM!"}},{"$f":"BJ386+BI387","v":{"$error":"#NUM!"}},{"$f":"BK386+1","v":386}]
[{"$nulls":4},"","","","","",null,null,"",{"$nulls":6},387,"",{"$f":"IF(A389=0,IF(B389=\"\",IF(B388=0,\"\",SUM($AG$1:AG388)-SUM($U$1:U387)),\"\"),SUM($AG$1:AG388)-SUM($U$1:U387))","v":""},{"$nulls":5},0,{"$f":"IF(AJ388=statistics!$D$3,AB387+AH388-AG388,)","v":0},{"$f":"IF(AND(ROW(AC388)>=statistics!$C$55,ROW(AC388)<=statistics!$D$55),AC387+AH388-AG388,)","v":0},{"$f":"IF(AND(statistics!$C$55<=ROW(A388),ROW(A388)<=statistics!$D$55)=TRUE,AH388-AG388+AA387-INDEX(AA:AA,statistics!$C$55),\"\")","v":""},null,null,0,0,0,"",{"$f":"IF(statistics!$D$3<>0,IF(AJ388=statistics!$D$3,AG388,\"\"),IF(B388<>\"\",AG388,\"\"))","v":""},{"$f":"IF(statistics!$D$3<>0,IF(AJ388=statistics!$D$3,IF(AH388=0,\"\",AH388),\"\"),IF(AH388<>0,AH388,\"\"))","v":""},{"$f":"IF(statistics!$D$3<>0,IF(AJ388=statistics!$D$3,IF(A388=0,\"\",1),\"\"),IF(A388=0,\"\",1))","v":""},{"$f":"IF(AK388<>\"\",IF(AK387=0,ROW(AK388),ROW(AK388)),\"\")","v":""},{"$f":"IF(A388<>0,IF(MONTH(A388)=AJ387,\"\",MONTH(A388)),\"\")","v":""},null,"",{"$nulls":6},0,null,null,null,"",null,null,"",null,0,null,{"$error":"#NUM!"},{"$error":"#NUM!"},387]
[{"$nulls":4},"","","","","",null,null,"",{"$nulls":6},388,"",{"$f":"IF(A390=0,IF(B390=\"\",IF(B389=0,\"\",SUM($AG$1:AG389)-SUM($U$1:U388)),\"\"),SUM($AG$1:AG389)-SUM($U$1:U388))","v":""},{"$nulls":5},0,{"$f":"IF(AJ389=statistics!$D$3,AB388+AH389-AG389,)","v":0},{"$f":"IF(AND(ROW(AC389)>=statistics!$C$55,ROW(AC389)<=statistics!$D$55),AC388+AH389-AG389,)","v":0},{"$f":"IF(AND(statistics!$C$55<=ROW(A389),ROW(A389)<=statistics!$D$55)=TRUE,AH389-AG389+AA388-INDEX(AA:AA,statistics!$C$55),\"\")","v":""},null,null,{"$f":"IF(J389=0,B389+C389,(B389+C389)-(B389+C389)*J389*K389)","v":0},{"$f":"IF(J389=0,D389,D389*(1-J389))","v":0},0,"",{"$f":"IF(statistics!$D$3<>0,IF(AJ389=statistics!$D$3,AG389,\"\"),IF(B389<>\"\",AG389,\"\"))","v":""},{"$f":"IF(statistics!$D$3<>0,IF(AJ389=statistics!$D$3,IF(AH389=0,\"\",AH389),\"\"),IF(AH389<>0,AH389,\"\"))","v":""},{"$f":"IF(statistics!$D$3<>0,IF(AJ389=statistics!$D$3,IF(A389=0,\"\",1),\"\"),IF(A389=0,\"\",1))","v":""},"","",null,"",{"$nulls":6},0,null,null,null,"",null,null,"",null,0,null,{"$error":"#NUM!"},{"$error":"#NUM!"},388]
[{"$nulls":4},"","","","","",null,null,"",{"$nulls":6},389,"",{"$f":"IF(A391=0,IF(B391=\"\",IF(B390=0,\"\",SUM($AG$1:AG390)-SUM($U$1:U389)),\"\"),SUM($AG$1:AG390)-SUM($U$1:U389))","v":""},{"$nulls":5},0,{"$f":"IF(AJ390=statistics!$D$3,AB389+AH390-AG390,)","v":0},{"$f":"IF(AND(ROW(AC390)>=statistics!$C$55,ROW(AC390)<=statistics!$D$55),AC389+AH390-AG390,)","v":0},{"$f":"IF(AND(statistics!$C$55<=ROW(A390),ROW(A390)<=statistics!$D$55)=TRUE,AH390-AG390+AA389-INDEX(AA:AA,statistics!$C$55),\"\")","v":""},null,null,0,0,0,"",{"$f":"IF(statistics!$D$3<>0,IF(AJ390=statistics!$D$3,AG390,\"\"),IF(B390<>\"\",AG390,\"\"))","v":""},{"$f":"IF(statistics!$D$3<>0,IF(AJ390=statistics!$D$3,IF(AH390=0,\"\",AH390),\"\"),IF(AH390<>0,AH390,\"\"))","v":""},{"$f":"IF(statistics!$D$3<>0,IF(AJ390=statistics!$D$3,IF(A390=0,\"\",1),\"\"),IF(A390=0,\"\",1))","v":""},"","",null,"",{"$nulls":6},0,null,null,null,"",null,null,"",null,0,null,{"$error":"#NUM!"},{"$error":"#NUM!"},389]
[{"$nulls":4},"","","","","",null,null,"",{"$nulls":6},390,"",{"$f":"IF(A392=0,IF(B392=\"\",IF(B391=0,\"\",SUM($AG$1:AG391)-SUM($U$1:U390)),\"\"),SUM($AG$1:AG391)-SUM($U$1:U390))","v":""},{"$nulls":5},0,{"$f":"IF(AJ391=statistics!$D$3,AB390+AH391-AG391,)","v":0},{"$f":"IF(AND(ROW(AC391)>=statistics!$C$55,ROW(AC391)<=statistics!$D$55),AC390+AH391-AG391,)","v":0},{"$f":"IF(AND(statistics!$C$55<=ROW(A391),ROW(A391)<=statistics!$D$55)=TRUE,AH391-AG391+AA390-INDEX(AA:AA,statistics!$C$55),\"\")","v":""},null,null,0,0,0,"",{"$f":"IF(statistics!$D$3<>0,IF(AJ391=statistics!$D$3,AG391,\"\"),IF(B391<>\"\",AG391,\"\"))","v":""},{"$f":"IF(statistics!$D$3<>0,IF(AJ391=statistics!$D$3,IF(AH391=0,\"\",AH391),\"\"),IF(AH391<>0,AH391,\"\"))","v":""},{"$f":"IF(statistics!$D$3<>0,IF(AJ391=statistics!$D$3,IF(A391=0,\"\",1),\"\"),IF(A391=0,\"\",1))","v":""},"","",null,"",{"$nulls":6},0,null,null,null,"",null,null,"",null,0,null,{"$error":"#NUM!"},{"$error":"#NUM!"},390]
[{"$nulls":4},"","","","","",null,null,"",{"$nulls":6},391,"",{"$f":"IF(A393=0,IF(B393=\"\",IF(B392=0,\"\",SUM($AG$1:AG392)-SUM($U$1:U391)),\"\"),SUM($AG$1:AG392)-SUM($U$1:U391))","v":""},{"$nulls":5},0,{"$f":"IF(AJ392=statistics!$D$3,AB391+AH392-AG392,)","v":0},{"$f":"IF(AND(ROW(AC392)>=statistics!$C$55,ROW(AC392)<=statistics!$D$55),AC391+AH392-AG392,)","v":0},{"$f":"IF(AND(statistics!$C$55<=ROW(A392),ROW(A392)<=statistics!$D$55)=TRUE,AH392-AG392+AA391-INDEX(AA:AA,statistics!$C$55),\"\")","v":""},null,null,0,0,0,"",{"$f":"IF(statistics!$D$3<>0,IF(AJ392=statistics!$D$3,AG392,\"\"),IF(B392<>\"\",AG392,\"\"))","v":""},{"$f":"IF(statistics!$D$3<>0,IF(AJ392=statistics!$D$3,IF(AH392=0,\"\",AH392),\"\"),IF(AH392<>0,AH392,\"\"))","v":""},{"$f":"IF(statistics!$D$3<>0,IF(AJ392=statistics!$D$3,IF(A392=0,\"\",1),\"\"),IF(A392=0,\"\",1))","v":""},"","",null,"",{"$nulls":6},0,null,null,null,"",null,null,"",null,0,null,{"$error":"#NUM!"},{"$error":"#NUM!"},391]
[{"$nulls":4},"","","","","",null,null,"",{"$nulls":6},392,"",{"$f":"IF(A394=0,IF(B394=\"\",IF(B393=0,\"\",SUM($AG$1:AG393)-SUM($U$1:U392)),\"\"),SUM($AG$1:AG393)-SUM($U$1:U392))","v":""},{"$nulls":5},0,{"$f":"IF(AJ393=statistics!$D$3,AB392+AH393-AG393,)","v":0},{"$f":"IF(AND(ROW(AC393)>=statistics!$C$55,ROW(AC393)<=statistics!$D$55),AC392+AH393-AG393,)","v":0},{"$f":"IF(AND(statistics!$C$55<=ROW(A393),ROW(A393)<=statistics!$D$55)=TRUE,AH393-AG393+AA392-INDEX(AA:AA,statistics!$C$55),\"\")","v":""},null,null,0,0,0,"",{"$f":"IF(statistics!$D$3<>0,IF(AJ393=statistics!$D$3,AG393,\"\"),IF(B393<>\"\",AG393,\"\"))","v":""},{"$f":"IF(statistics!$D$3<>0,IF(AJ393=statistics!$D$3,IF(AH393=0,\"\",AH393),\"\"),IF(AH393<>0,AH393,\"\"))","v":""},{"$f":"IF(statistics!$D$3<>0,IF(AJ393=statistics!$D$3,IF(A393=0,\"\",1),\"\"),IF(A393=0,\"\",1))","v":""},"","",null,"",{"$nulls":6},0,null,null,null,"",null,null,"",null,0,null,{"$error":"#NUM!"},{"$error":"#NUM!"},392]
[{"$nulls":4},"","","","","",null,null,"",{"$nulls":6},393,"",{"$f":"IF(A395=0,IF(B395=\"\",IF(B394=0,\"\",SUM($AG$1:AG394)-SUM($U$1:U393)),\"\"),SUM($AG$1:AG394)-SUM($U$1:U393))","v":""},{"$nulls":5},0,{"$f":"IF(AJ394=statistics!$D$3,AB393+AH394-AG394,)","v":0},{"$f":"IF(AND(ROW(AC394)>=statistics!$C$55,ROW(AC394)<=statistics!$D$55),AC393+AH394-AG394,)","v":0},{"$f":"IF(AND(statistics!$C$55<=ROW(A394),ROW(A394)<=statistics!$D$55)=TRUE,AH394-AG394+AA393-INDEX(AA:AA,statistics!$C$55),\"\")","v":""},null,null,0,0,0,"",{"$f":"IF(statistics!$D$3<>0,IF(AJ394=statistics!$D$3,AG394,\"\"),IF(B394<>\"\",AG394,\"\"))","v":""},{"$f":"IF(statistics!$D$3<>0,IF(AJ394=statistics!$D$3,IF(AH394=0,\"\",AH394),\"\"),IF(AH394<>0,AH394,\"\"))","v":""},{"$f":"IF(statistics!$D$3<>0,IF(AJ394=statistics!$D$3,IF(A394=0,\"\",1),\"\"),IF(A394=0,\"\",1))","v":""},"","",null,"",{"$nulls":6},0,null,null,null,"",null,null,"",null,0,null,{"$error":"#NUM!"},{"$error":"#NUM!"},393]
[{"$nulls":4},"","","","","",null,null,"",{"$nulls":6},394,"",{"$f":"IF(A396=0,IF(B396=\"\",IF(B395=0,\"\",SUM($AG$1:AG395)-SUM($U$1:U394)),\"\"),SUM($AG$1:AG395)-SUM($U$1:U394))","v":""},{"$nulls":5},0,{"$f":"IF(AJ395=statistics!$D$3,AB394+AH395-AG395,)","v":0},{"$f":"IF(AND(ROW(AC395)>=statistics!$C$55,ROW(AC395)<=statistics!$D$55),AC394+AH395-AG395,)","v":0},{"$f":"IF(AND(statistics!$C$55<=ROW(A395),ROW(A395)<=statistics!$D$55)=TRUE,AH395-AG395+AA394-INDEX(AA:AA,statistics!$C$55),\"\")","v":""},null,null,0,0,0,"",{"$f":"IF(statistics!$D$3<>0,IF(AJ395=statistics!$D$3,AG395,\"\"),IF(B395<>\"\",AG395,\"\"))","v":""},{"$f":"IF(statistics!$D$3<>0,IF(AJ395=statistics!$D$3,IF(AH395=0,\"\",AH395),\"\"),IF(AH395<>0,AH395,\"\"))","v":""},{"$f":"IF(statistics!$D$3<>0,IF(AJ395=statistics!$D$3,IF(A395=0,\"\",1),\"\"),IF(A395=0,\"\",1))","v":""},"","",null,"",{"$nulls":6},0,null,null,null,"",null,null,"",null,0,null,{"$error":"#NUM!"},{"$error":"#NUM!"},394]
[{"$nulls":4},"","","","","",null,null,"",{"$nulls":6},395,"",{"$f":"IF(A397=0,IF(B397=\"\",IF(B396=0,\"\",SUM($AG$1:AG396)-SUM($U$1:U395)),\"\"),SUM($AG$1:AG396)-SUM($U$1:U395))","v":""},{"$nulls":5},0,{"$f":"IF(AJ396=statistics!$D$3,AB395+AH396-AG396,)","v":0},{"$f":"IF(AND(ROW(AC396)>=statistics!$C$55,ROW(AC396)<=statistics!$D$55),AC395+AH396-AG396,)","v":0},{"$f":"IF(AND(statistics!$C$55<=ROW(A396),ROW(A396)<=statistics!$D$55)=TRUE,AH396-AG396+AA395-INDEX(AA:AA,statistics!$C$55),\"\")","v":""},null,null,0,0,0,"",{"$f":"IF(statistics!$D$3<>0,IF(AJ396=statistics!$D$3,AG396,\"\"),IF(B396<>\"\",AG396,\"\"))","v":""},{"$f":"IF(statistics!$D$3<>0,IF(AJ396=statistics!$D$3,IF(AH396=0,\"\",AH396),\"\"),IF(AH396<>0,AH396,\"\"))","v":""},{"$f":"IF(statistics!$D$3<>0,IF(AJ396=statistics!$D$3,IF(A396=0,\"\",1),\"\"),IF(A396=0,\"\",1))","v":""},"","",null,"",{"$nulls":6},0,null,null,null,"",null,null,"",null,0,null,{"$error":"#NUM!"},{"$error":"#NUM!"},395]
[{"$nulls":4},"","","","","",null,null,"",{"$nulls":6},396,"",{"$f":"IF(A398=0,IF(B398=\"\",IF(B397=0,\"\",SUM($AG$1:AG397)-SUM($U$1:U396)),\"\"),SUM($AG$1:AG397)-SUM($U$1:U396))","v":""},{"$nulls":5},0,{"$f":"IF(AJ397=statistics!$D$3,AB396+AH397-AG397,)","v":0},{"$f":"IF(AND(ROW(AC397)>=statistics!$C$55,ROW(AC397)<=statistics!$D$55),AC396+AH397-AG397,)","v":0},{"$f":"IF(AND(statistics!$C$55<=ROW(A397),ROW(A397)<=statistics!$D$55)=TRUE,AH397-AG397+AA396-INDEX(AA:AA,statistics!$C$55),\"\")","v":""},null,null,0,0,0,"",{"$f":"IF(statistics!$D$3<>0,IF(AJ397=statistics!$D$3,AG397,\"\"),IF(B397<>\"\",AG397,\"\"))","v":""},{"$f":"IF(statistics!$D$3<>0,IF(AJ397=statistics!$D$3,IF(AH397=0,\"\",AH397),\"\"),IF(AH397<>0,AH397,\"\"))","v":""},{"$f":"IF(statistics!$D$3<>0,IF(AJ397=statistics!$D$3,IF(A397=0,\"\",1),\"\"),IF(A397=0,\"\",1))","v":""},"","",null,"",{"$nulls":6},0,null,null,null,"",null,null,"",null,0,null,{"$error":"#NUM!"},{"$error":"#NUM!"},396]
[{"$nulls":4},"","","","","",null,null,"",{"$nulls":6},397,"",{"$f":"IF(A399=0,IF(B399=\"\",IF(B398=0,\"\",SUM($AG$1:AG398)-SUM($U$1:U397)),\"\"),SUM($AG$1:AG398)-SUM($U$1:U397))","v":""},{"$nulls":5},0,{"$f":"IF(AJ398=statistics!$D$3,AB397+AH398-AG398,)","v":0},{"$f":"IF(AND(ROW(AC398)>=statistics!$C$55,ROW(AC398)<=statistics!$D$55),AC397+AH398-AG398,)","v":0},{"$f":"IF(AND(statistics!$C$55<=ROW(A398),ROW(A398)<=statistics!$D$55)=TRUE,AH398-AG398+AA397-INDEX(AA:AA,statistics!$C$55),\"\")","v":""},null,null,0,0,0,"",{"$f":"IF(statistics!$D$3<>0,IF(AJ398=statistics!$D$3,AG398,\"\"),IF(B398<>\"\",AG398,\"\"))","v":""},{"$f":"IF(statistics!$D$3<>0,IF(AJ398=statistics!$D$3,IF(AH398=0,\"\",AH398),\"\"),IF(AH398<>0,AH398,\"\"))","v":""},{"$f":"IF(statistics!$D$3<>0,IF(AJ398=statistics!$D$3,IF(A398=0,\"\",1),\"\"),IF(A398=0,\"\",1))","v":""},"","",null,"",{"$nulls":6},0,null,null,null,"",null,null,"",null,0,null,{"$error":"#NUM!"},{"$error":"#NUM!"},397]
[{"$nulls":4},"","","","","",null,null,"",{"$nulls":6},398,"",{"$f":"IF(A400=0,IF(B400=\"\",IF(B399=0,\"\",SUM($AG$1:AG399)-SUM($U$1:U398)),\"\"),SUM($AG$1:AG399)-SUM($U$1:U398))","v":""},{"$nulls":5},0,{"$f":"IF(AJ399=statistics!$D$3,AB398+AH399-AG399,)","v":0},{"$f":"IF(AND(ROW(AC399)>=statistics!$C$55,ROW(AC399)<=statistics!$D$55),AC398+AH399-AG399,)","v":0},{"$f":"IF(AND(statistics!$C$55<=ROW(A399),ROW(A399)<=statistics!$D$55)=TRUE,AH399-AG399+AA398-INDEX(AA:AA,statistics!$C$55),\"\")","v":""},null,null,0,0,0,"",{"$f":"IF(statistics!$D$3<>0,IF(AJ399=statistics!$D$3,AG399,\"\"),IF(B399<>\"\",AG399,\"\"))","v":""},{"$f":"IF(statistics!$D$3<>0,IF(AJ399=statistics!$D$3,IF(AH399=0,\"\",AH399),\"\"),IF(AH399<>0,AH399,\"\"))","v":""},{"$f":"IF(statistics!$D$3<>0,IF(AJ399=statistics!$D$3,IF(A399=0,\"\",1),\"\"),IF(A399=0,\"\",1))","v":""},"","",null,"",{"$nulls":6},0,null,null,null,"",null,null,"",null,0,null,{"$error":"#NUM!"},{"$error":"#NUM!"},398]
[{"$nulls":4},"","","","","",null,null,"",{"$nulls":6},399,"",{"$f":"IF(A401=0,IF(B401=\"\",IF(B400=0,\"\",SUM($AG$1:AG400)-SUM($U$1:U399)),\"\"),SUM($AG$1:AG400)-SUM($U$1:U399))","v":""},{"$nulls":5},0,{"$f":"IF(AJ400=statistics!$D$3,AB399+AH400-AG400,)","v":0},{"$f":"IF(AND(ROW(AC400)>=statistics!$C$55,ROW(AC400)<=statistics!$D$55),AC399+AH400-AG400,)","v":0},{"$f":"IF(AND(statistics!$C$55<=ROW(A400),ROW(A400)<=statistics!$D$55)=TRUE,AH400-AG400+AA399-INDEX(AA:AA,statistics!$C$55),\"\")","v":""},null,null,0,0,0,"",{"$f":"IF(statistics!$D$3<>0,IF(AJ400=statistics!$D$3,AG400,\"\"),IF(B400<>\"\",AG400,\"\"))","v":""},{"$f":"IF(statistics!$D$3<>0,IF(AJ400=statistics!$D$3,IF(AH400=0,\"\",AH400),\"\"),IF(AH400<>0,AH400,\"\"))","v":""},{"$f":"IF(statistics!$D$3<>0,IF(AJ400=statistics!$D$3,IF(A400=0,\"\",1),\"\"),IF(A400=0,\"\",1))","v":""},"","",null,"",{"$nulls":6},0,null,null,null,"",null,null,"",null,0,null,{"$error":"#NUM!"},{"$error":"#NUM!"},399]
[{"$nulls":4},"","",{"$f":"IF(A402=0,IF(B402=\"\",IF(B401=0,\"\",U401/S401),\"\"),U401/S401)","v":""},"","",null,null,"",{"$nulls":6},400,"",{"$f":"IF(A402=0,IF(B402=\"\",IF(B401=0,\"\",SUM($AG$1:AG401)-SUM($U$1:U400)),\"\"),SUM($AG$1:AG401)-SUM($U$1:U400))","v":""},{"$nulls":5},0,{"$f":"IF(AJ401=statistics!$D$3,AB400+AH401-AG401,)","v":0},{"$f":"IF(AND(ROW(AC401)>=statistics!$C$55,ROW(AC401)<=statistics!$D$55),AC400+AH401-AG401,)","v":0},{"$f":"IF(AND(statistics!$C$55<=ROW(A401),ROW(A401)<=statistics!$D$55)=TRUE,AH401-AG401+AA400-INDEX(AA:AA,statistics!$C$55),\"\")","v":""},null,null,0,0,0,"",{"$f":"IF(statistics!$D$3<>0,IF(AJ401=statistics!$D$3,AG401,\"\"),IF(B401<>\"\",AG401,\"\"))","v":""},{"$f":"IF(statistics!$D$3<>0,IF(AJ401=statistics!$D$3,IF(AH401=0,\"\",AH401),\"\"),IF(AH401<>0,AH401,\"\"))","v":""},{"$f":"IF(statistics!$D$3<>0,IF(AJ401=statistics!$D$3,IF(A401=0,\"\",1),\"\"),IF(A401=0,\"\",1))","v":""},"","",null,"",{"$nulls":6},0,null,null,null,"",null,null,"",null,0,null,{"$error":"#NUM!"},{"$error":"#NUM!"},400]
[{"$nulls":4},"","","","","",null,null,"",{"$nulls":6},401,"",{"$f":"IF(A403=0,IF(B403=\"\",IF(B402=0,\"\",SUM($AG$1:AG402)-SUM($U$1:U401)),\"\"),SUM($AG$1:AG402)-SUM($U$1:U401))","v":""},{"$nulls":5},0,{"$f":"IF(AJ402=statistics!$D$3,AB401+AH402-AG402,)","v":0},{"$f":"IF(AND(ROW(AC402)>=statistics!$C$55,ROW(AC402)<=statistics!$D$55),AC401+AH402-AG402,)","v":0},{"$f":"IF(AND(statistics!$C$55<=ROW(A402),ROW(A402)<=statistics!$D$55)=TRUE,AH402-AG402+AA401-INDEX(AA:AA,statistics!$C$55),\"\")","v":""},null,null,0,0,0,"",{"$f":"IF(statistics!$D$3<>0,IF(AJ402=statistics!$D$3,AG402,\"\"),IF(B402<>\"\",AG402,\"\"))","v":""},{"$f":"IF(statistics!$D$3<>0,IF(AJ402=statistics!$D$3,IF(AH402=0,\"\",AH402),\"\"),IF(AH402<>0,AH402,\"\"))","v":""},{"$f":"IF(statistics!$D$3<>0,IF(AJ402=statistics!$D$3,IF(A402=0,\"\",1),\"\"),IF(A402=0,\"\",1))","v":""},"","",null,"",{"$nulls":6},0,null,null,null,"",null,null,"",null,0,null,{"$error":"#NUM!"},{"$error":"#NUM!"},401]
[{"$nulls":4},"","","","","",null,null,"",{"$nulls":6},402,"",{"$f":"IF(A404=0,IF(B404=\"\",IF(B403=0,\"\",SUM($AG$1:AG403)-SUM($U$1:U402)),\"\"),SUM($AG$1:AG403)-SUM($U$1:U402))","v":""},{"$nulls":5},0,{"$f":"IF(AJ403=statistics!$D$3,AB402+AH403-AG403,)","v":0},{"$f":"IF(AND(ROW(AC403)>=statistics!$C$55,ROW(AC403)<=statistics!$D$55),AC402+AH403-AG403,)","v":0},{"$f":"IF(AND(statistics!$C$55<=ROW(A403),ROW(A403)<=statistics!$D$55)=TRUE,AH403-AG403+AA402-INDEX(AA:AA,statistics!$C$55),\"\")","v":""},null,null,0,0,0,"",{"$f":"IF(statistics!$D$3<>0,IF(AJ403=statistics!$D$3,AG403,\"\"),IF(B403<>\"\",AG403,\"\"))","v":""},{"$f":"IF(statistics!$D$3<>0,IF(AJ403=statistics!$D$3,IF(AH403=0,\"\",AH403),\"\"),IF(AH403<>0,AH403,\"\"))","v":""},{"$f":"IF(statistics!$D$3<>0,IF(AJ403=statistics!$D$3,IF(A403=0,\"\",1),\"\"),IF(A403=0,\"\",1))","v":""},"","",null,"",{"$nulls":6},0,null,null,null,"",null,null,"",null,0,null,{"$error":"#NUM!"},{"$error":"#NUM!"},402]
[{"$nulls":4},"","","","","",null,null,"",{"$nulls":6},403,"",{"$f":"IF(A405=0,IF(B405=\"\",IF(B404=0,\"\",SUM($AG$1:AG404)-SUM($U$1:U403)),\"\"),SUM($AG$1:AG404)-SUM($U$1:U403))","v":""},{"$nulls":5},0,{"$f":"IF(AJ404=statistics!$D$3,AB403+AH404-AG404,)","v":0},{"$f":"IF(AND(ROW(AC404)>=statistics!$C$55,ROW(AC404)<=statistics!$D$55),AC403+AH404-AG404,)","v":0},{"$f":"IF(AND(statistics!$C$55<=ROW(A404),ROW(A404)<=statistics!$D$55)=TRUE,AH404-AG404+AA403-INDEX(AA:AA,statistics!$C$55),\"\")","v":""},null,null,0,0,0,{"$f":"IF(A404<>0,MONTH(A404),IF(B404=\"\",\"\",AJ403))","v":""},{"$f":"IF(statistics!$D$3<>0,IF(AJ404=statistics!$D$3,AG404,\"\"),IF(B404<>\"\",AG404,\"\"))","v":""},{"$f":"IF(statistics!$D$3<>0,IF(AJ404=statistics!$D$3,IF(AH404=0,\"\",AH404),\"\"),IF(AH404<>0,AH404,\"\"))","v":""},{"$f":"IF(statistics!$D$3<>0,IF(AJ404=statistics!$D$3,IF(A404=0,\"\",1),\"\"),IF(A404=0,\"\",1))","v":""},"","",null,"",{"$nulls":6},0,null,null,null,"",null,null,"",null,0,null,{"$error":"#NUM!"},{"$error":"#NUM!"},403]
[{"$nulls":4},"","","","","",null,null,"",{"$nulls":6},404,"",{"$f":"IF(A406=0,IF(B406=\"\",IF(B405=0,\"\",SUM($AG$1:AG405)-SUM($U$1:U404)),\"\"),SUM($AG$1:AG405)-SUM($U$1:U404))","v":""},{"$nulls":5},0,{"$f":"IF(AJ405=statistics!$D$3,AB404+AH405-AG405,)","v":0},{"$f":"IF(AND(ROW(AC405)>=statistics!$C$55,ROW(AC405)<=statistics!$D$55),AC404+AH405-AG405,)","v":0},{"$f":"IF(AND(statistics!$C$55<=ROW(A405),ROW(A405)<=statistics!$D$55)=TRUE,AH405-AG405+AA404-INDEX(AA:AA,statistics!$C$55),\"\")","v":""},null,null,0,0,0,"",{"$f":"IF(statistics!$D$3<>0,IF(AJ405=statistics!$D$3,AG405,\"\"),IF(B405<>\"\",AG405,\"\"))","v":""},{"$f":"IF(statistics!$D$3<>0,IF(AJ405=statistics!$D$3,IF(AH405=0,\"\",AH405),\"\"),IF(AH405<>0,AH405,\"\"))","v":""},{"$f":"IF(statistics!$D$3<>0,IF(AJ405=statistics!$D$3,IF(A405=0,\"\",1),\"\"),IF(A405=0,\"\",1))","v":""},"","",null,"",{"$nulls":6},0,null,null,null,"",null,null,"",null,0,null,{"$error":"#NUM!"},{"$error":"#NUM!"},404]
[{"$nulls":4},"","","","","",null,null,"",{"$nulls":6},405,"",{"$f":"IF(A407=0,IF(B407=\"\",IF(B406=0,\"\",SUM($AG$1:AG406)-SUM($U$1:U405)),\"\"),SUM($AG$1:AG406)-SUM($U$1:U405))","v":""},{"$nulls":5},0,{"$f":"IF(AJ406=statistics!$D$3,AB405+AH406-AG406,)","v":0},{"$f":"IF(AND(ROW(AC406)>=statistics!$C$55,ROW(AC406)<=statistics!$D$55),AC405+AH406-AG406,)","v":0},{"$f":"IF(AND(statistics!$C$55<=ROW(A406),ROW(A406)<=statistics!$D$55)=TRUE,AH406-AG406+AA405-INDEX(AA:AA,statistics!$C$55),\"\")","v":""},null,null,0,0,0,"",{"$f":"IF(statistics!$D$3<>0,IF(AJ406=statistics!$D$3,AG406,\"\"),IF(B406<>\"\",AG406,\"\"))","v":""},{"$f":"IF(statistics!$D$3<>0,IF(AJ406=statistics!$D$3,IF(AH406=0,\"\",AH406),\"\"),IF(AH406<>0,AH406,\"\"))","v":""},{"$f":"IF(statistics!$D$3<>0,IF(AJ406=statistics!$D$3,IF(A406=0,\"\",1),\"\"),IF(A406=0,\"\",1))","v":""},"","",null,"",{"$nulls":6},0,null,null,null,"",null,null,"",null,0,null,{"$error":"#NUM!"},{"$error":"#NUM!"},405]
[{"$nulls":4},"","","","","",null,null,"",{"$nulls":6},406,"",{"$f":"IF(A408=0,IF(B408=\"\",IF(B407=0,\"\",SUM($AG$1:AG407)-SUM($U$1:U406)),\"\"),SUM($AG$1:AG407)-SUM($U$1:U406))","v":""},{"$nulls":5},0,{"$f":"IF(AJ407=statistics!$D$3,AB406+AH407-AG407,)","v":0},{"$f":"IF(AND(ROW(AC407)>=statistics!$C$55,ROW(AC407)<=statistics!$D$55),AC406+AH407-AG407,)","v":0},{"$f":"IF(AND(statistics!$C$55<=ROW(A407),ROW(A407)<=statistics!$D$55)=TRUE,AH407-AG407+AA406-INDEX(AA:AA,statistics!$C$55),\"\")","v":""},null,null,0,0,0,"",{"$f":"IF(statistics!$D$3<>0,IF(AJ407=statistics!$D$3,AG407,\"\"),IF(B407<>\"\",AG407,\"\"))","v":""},{"$f":"IF(statistics!$D$3<>0,IF(AJ407=statistics!$D$3,IF(AH407=0,\"\",AH407),\"\"),IF(AH407<>0,AH407,\"\"))","v":""},{"$f":"IF(statistics!$D$3<>0,IF(AJ407=statistics!$D$3,IF(A407=0,\"\",1),\"\"),IF(A407=0,\"\",1))","v":""},"","",null,"",{"$nulls":6},0,null,null,null,"",null,null,"",null,0,null,{"$error":"#NUM!"},{"$error":"#NUM!"},406]
[{"$nulls":4},"","","","","",null,null,"",{"$nulls":6},407,"",{"$f":"IF(A409=0,IF(B409=\"\",IF(B408=0,\"\",SUM($AG$1:AG408)-SUM($U$1:U407)),\"\"),SUM($AG$1:AG408)-SUM($U$1:U407))","v":""},{"$nulls":5},0,{"$f":"IF(AJ408=statistics!$D$3,AB407+AH408-AG408,)","v":0},{"$f":"IF(AND(ROW(AC408)>=statistics!$C$55,ROW(AC408)<=statistics!$D$55),AC407+AH408-AG408,)","v":0},{"$f":"IF(AND(statistics!$C$55<=ROW(A408),ROW(A408)<=statistics!$D$55)=TRUE,AH408-AG408+AA407-INDEX(AA:AA,statistics!$C$55),\"\")","v":""},null,null,0,0,0,"",{"$f":"IF(statistics!$D$3<>0,IF(AJ408=statistics!$D$3,AG408,\"\"),IF(B408<>\"\",AG408,\"\"))","v":""},{"$f":"IF(statistics!$D$3<>0,IF(AJ408=statistics!$D$3,IF(AH408=0,\"\",AH408),\"\"),IF(AH408<>0,AH408,\"\"))","v":""},{"$f":"IF(statistics!$D$3<>0,IF(AJ408=statistics!$D$3,IF(A408=0,\"\",1),\"\"),IF(A408=0,\"\",1))","v":""},"","",null,"",{"$nulls":6},0,null,null,null,"",null,null,"",null,0,null,{"$error":"#NUM!"},{"$error":"#NUM!"},407]
[{"$nulls":4},"","","","","",null,null,"",{"$nulls":6},408,"",{"$f":"IF(A410=0,IF(B410=\"\",IF(B409=0,\"\",SUM($AG$1:AG409)-SUM($U$1:U408)),\"\"),SUM($AG$1:AG409)-SUM($U$1:U408))","v":""},{"$nulls":5},0,{"$f":"IF(AJ409=statistics!$D$3,AB408+AH409-AG409,)","v":0},{"$f":"IF(AND(ROW(AC409)>=statistics!$C$55,ROW(AC409)<=statistics!$D$55),AC408+AH409-AG409,)","v":0},{"$f":"IF(AND(statistics!$C$55<=ROW(A409),ROW(A409)<=statistics!$D$55)=TRUE,AH409-AG409+AA408-INDEX(AA:AA,statistics!$C$55),\"\")","v":""},null,null,0,0,0,"",{"$f":"IF(statistics!$D$3<>0,IF(AJ409=statistics!$D$3,AG409,\"\"),IF(B409<>\"\",AG409,\"\"))","v":""},{"$f":"IF(statistics!$D$3<>0,IF(AJ409=statistics!$D$3,IF(AH409=0,\"\",AH409),\"\"),IF(AH409<>0,AH409,\"\"))","v":""},{"$f":"IF(statistics!$D$3<>0,IF(AJ409=statistics!$D$3,IF(A409=0,\"\",1),\"\"),IF(A409=0,\"\",1))","v":""},"","",null,"",{"$nulls":6},0,null,null,null,"",null,null,"",null,0,null,{"$error":"#NUM!"},{"$error":"#NUM!"},408]
[{"$nulls":4},"","","","","",null,null,"",{"$nulls":6},409,"",{"$f":"IF(A411=0,IF(B411=\"\",IF(B410=0,\"\",SUM($AG$1:AG410)-SUM($U$1:U409)),\"\"),SUM($AG$1:AG410)-SUM($U$1:U409))","v":""},{"$nulls":5},0,{"$f":"IF(AJ410=statistics!$D$3,AB409+AH410-AG410,)","v":0},{"$f":"IF(AND(ROW(AC410)>=statistics!$C$55,ROW(AC410)<=statistics!$D$55),AC409+AH410-AG410,)","v":0},{"$f":"IF(AND(statistics!$C$55<=ROW(A410),ROW(A410)<=statistics!$D$55)=TRUE,AH410-AG410+AA409-INDEX(AA:AA,statistics!$C$55),\"\")","v":""},null,null,0,0,0,"",{"$f":"IF(statistics!$D$3<>0,IF(AJ410=statistics!$D$3,AG410,\"\"),IF(B410<>\"\",AG410,\"\"))","v":""},{"$f":"IF(statistics!$D$3<>0,IF(AJ410=statistics!$D$3,IF(AH410=0,\"\",AH410),\"\"),IF(AH410<>0,AH410,\"\"))","v":""},{"$f":"IF(statistics!$D$3<>0,IF(AJ410=statistics!$D$3,IF(A410=0,\"\",1),\"\"),IF(A410=0,\"\",1))","v":""},"","",null,"",{"$nulls":6},0,null,null,null,"",null,null,"",null,0,null,{"$error":"#NUM!"},{"$error":"#NUM!"},409]
[{"$nulls":4},"","","","","",null,null,"",{"$nulls":6},410,"",{"$f":"IF(A412=0,IF(B412=\"\",IF(B411=0,\"\",SUM($AG$1:AG411)-SUM($U$1:U410)),\"\"),SUM($AG$1:AG411)-SUM($U$1:U410))","v":""},{"$nulls":5},0,{"$f":"IF(AJ411=statistics!$D$3,AB410+AH411-AG411,)","v":0},{"$f":"IF(AND(ROW(AC411)>=statistics!$C$55,ROW(AC411)<=statistics!$D$55),AC410+AH411-AG411,)","v":0},{"$f":"IF(AND(statistics!$C$55<=ROW(A411),ROW(A411)<=statistics!$D$55)=TRUE,AH411-AG411+AA410-INDEX(AA:AA,statistics!$C$55),\"\")","v":""},null,null,0,0,0,"",{"$f":"IF(statistics!$D$3<>0,IF(AJ411=statistics!$D$3,AG411,\"\"),IF(B411<>\"\",AG411,\"\"))","v":""},{"$f":"IF(statistics!$D$3<>0,IF(AJ411=statistics!$D$3,IF(AH411=0,\"\",AH411),\"\"),IF(AH411<>0,AH411,\"\"))","v":""},{"$f":"IF(statistics!$D$3<>0,IF(AJ411=statistics!$D$3,IF(A411=0,\"\",1),\"\"),IF(A411=0,\"\",1))","v":""},"","",null,"",{"$nulls":6},0,null,null,null,"",null,null,"",null,0,null,{"$error":"#NUM!"},{"$error":"#NUM!"},410]
[{"$nulls":4},"","","","","",null,null,"",{"$nulls":6},411,"",{"$f":"IF(A413=0,IF(B413=\"\",IF(B412=0,\"\",SUM($AG$1:AG412)-SUM($U$1:U411)),\"\"),SUM($AG$1:AG412)-SUM($U$1:U411))","v":""},{"$nulls":5},0,{"$f":"IF(AJ412=statistics!$D$3,AB411+AH412-AG412,)","v":0},{"$f":"IF(AND(ROW(AC412)>=statistics!$C$55,ROW(AC412)<=statistics!$D$55),AC411+AH412-AG412,)","v":0},{"$f":"IF(AND(statistics!$C$55<=ROW(A412),ROW(A412)<=statistics!$D$55)=TRUE,AH412-AG412+AA411-INDEX(AA:AA,statistics!$C$55),\"\")","v":""},null,null,0,0,0,"",{"$f":"IF(statistics!$D$3<>0,IF(AJ412=statistics!$D$3,AG412,\"\"),IF(B412<>\"\",AG412,\"\"))","v":""},{"$f":"IF(statistics!$D$3<>0,IF(AJ412=statistics!$D$3,IF(AH412=0,\"\",AH412),\"\"),IF(AH412<>0,AH412,\"\"))","v":""},{"$f":"IF(statistics!$D$3<>0,IF(AJ412=statistics!$D$3,IF(A412=0,\"\",1),\"\"),IF(A412=0,\"\",1))","v":""},"","",null,"",{"$nulls":6},0,null,null,null,"",null,null,"",null,0,null,{"$error":"#NUM!"},{"$error":"#NUM!"},411]
[{"$nulls":4},"","","","","",null,null,"",{"$nulls":6},412,"",{"$f":"IF(A414=0,IF(B414=\"\",IF(B413=0,\"\",SUM($AG$1:AG413)-SUM($U$1:U412)),\"\"),SUM($AG$1:AG413)-SUM($U$1:U412))","v":""},{"$nulls":5},0,{"$f":"IF(AJ413=statistics!$D$3,AB412+AH413-AG413,)","v":0},{"$f":"IF(AND(ROW(AC413)>=statistics!$C$55,ROW(AC413)<=statistics!$D$55),AC412+AH413-AG413,)","v":0},{"$f":"IF(AND(statistics!$C$55<=ROW(A413),ROW(A413)<=statistics!$D$55)=TRUE,AH413-AG413+AA412-INDEX(AA:AA,statistics!$C$55),\"\")","v":""},null,null,0,0,0,"",{"$f":"IF(statistics!$D$3<>0,IF(AJ413=statistics!$D$3,AG413,\"\"),IF(B413<>\"\",AG413,\"\"))","v":""},{"$f":"IF(statistics!$D$3<>0,IF(AJ413=statistics!$D$3,IF(AH413=0,\"\",AH413),\"\"),IF(AH413<>0,AH413,\"\"))","v":""},{"$f":"IF(statistics!$D$3<>0,IF(AJ413=statistics!$D$3,IF(A413=0,\"\",1),\"\"),IF(A413=0,\"\",1))","v":""},"","",null,"",{"$nulls":6},0,null,null,null,"",null,null,"",null,0,null,{"$error":"#NUM!"},{"$error":"#NUM!"},412]
[{"$nulls":4},"","","","","",null,null,"",{"$nulls":6},413,"",{"$f":"IF(A415=0,IF(B415=\"\",IF(B414=0,\"\",SUM($AG$1:AG414)-SUM($U$1:U413)),\"\"),SUM($AG$1:AG414)-SUM($U$1:U413))","v":""},{"$nulls":5},0,{"$f":"IF(AJ414=statistics!$D$3,AB413+AH414-AG414,)","v":0},{"$f":"IF(AND(ROW(AC414)>=statistics!$C$55,ROW(AC414)<=statistics!$D$55),AC413+AH414-AG414,)","v":0},{"$f":"IF(AND(statistics!$C$55<=ROW(A414),ROW(A414)<=statistics!$D$55)=TRUE,AH414-AG414+AA413-INDEX(AA:AA,statistics!$C$55),\"\")","v":""},null,null,0,0,0,"",{"$f":"IF(statistics!$D$3<>0,IF(AJ414=statistics!$D$3,AG414,\"\"),IF(B414<>\"\",AG414,\"\"))","v":""},{"$f":"IF(statistics!$D$3<>0,IF(AJ414=statistics!$D$3,IF(AH414=0,\"\",AH414),\"\"),IF(AH414<>0,AH414,\"\"))","v":""},{"$f":"IF(statistics!$D$3<>0,IF(AJ414=statistics!$D$3,IF(A414=0,\"\",1),\"\"),IF(A414=0,\"\",1))","v":""},"","",null,"",{"$nulls":6},0,null,null,null,"",null,null,"",null,0,null,{"$error":"#NUM!"},{"$error":"#NUM!"},413]
[{"$nulls":4},"","","","","",null,null,"",{"$nulls":6},414,"",{"$f":"IF(A416=0,IF(B416=\"\",IF(B415=0,\"\",SUM($AG$1:AG415)-SUM($U$1:U414)),\"\"),SUM($AG$1:AG415)-SUM($U$1:U414))","v":""},{"$nulls":5},0,{"$f":"IF(AJ415=statistics!$D$3,AB414+AH415-AG415,)","v":0},{"$f":"IF(AND(ROW(AC415)>=statistics!$C$55,ROW(AC415)<=statistics!$D$55),AC414+AH415-AG415,)","v":0},{"$f":"IF(AND(statistics!$C$55<=ROW(A415),ROW(A415)<=statistics!$D$55)=TRUE,AH415-AG415+AA414-INDEX(AA:AA,statistics!$C$55),\"\")","v":""},null,null,0,0,0,"",{"$f":"IF(statistics!$D$3<>0,IF(AJ415=statistics!$D$3,AG415,\"\"),IF(B415<>\"\",AG415,\"\"))","v":""},{"$f":"IF(statistics!$D$3<>0,IF(AJ415=statistics!$D$3,IF(AH415=0,\"\",AH415),\"\"),IF(AH415<>0,AH415,\"\"))","v":""},{"$f":"IF(statistics!$D$3<>0,IF(AJ415=statistics!$D$3,IF(A415=0,\"\",1),\"\"),IF(A415=0,\"\",1))","v":""},"","",null,"",{"$nulls":6},0,null,null,null,"",null,null,"",null,0,null,{"$error":"#NUM!"},{"$error":"#NUM!"},414]
[{"$nulls":4},"","","","","",null,null,"",{"$nulls":6},415,"",{"$f":"IF(A417=0,IF(B417=\"\",IF(B416=0,\"\",SUM($AG$1:AG416)-SUM($U$1:U415)),\"\"),SUM($AG$1:AG416)-SUM($U$1:U415))","v":""},{"$nulls":5},0,{"$f":"IF(AJ416=statistics!$D$3,AB415+AH416-AG416,)","v":0},{"$f":"IF(AND(ROW(AC416)>=statistics!$C$55,ROW(AC416)<=statistics!$D$55),AC415+AH416-AG416,)","v":0},{"$f":"IF(AND(statistics!$C$55<=ROW(A416),ROW(A416)<=statistics!$D$55)=TRUE,AH416-AG416+AA415-INDEX(AA:AA,statistics!$C$55),\"\")","v":""},null,null,0,0,0,"",{"$f":"IF(statistics!$D$3<>0,IF(AJ416=statistics!$D$3,AG416,\"\"),IF(B416<>\"\",AG416,\"\"))","v":""},{"$f":"IF(statistics!$D$3<>0,IF(AJ416=statistics!$D$3,IF(AH416=0,\"\",AH416),\"\"),IF(AH416<>0,AH416,\"\"))","v":""},{"$f":"IF(statistics!$D$3<>0,IF(AJ416=statistics!$D$3,IF(A416=0,\"\",1),\"\"),IF(A416=0,\"\",1))","v":""},"","",null,"",{"$nulls":6},0,null,null,null,"",null,null,"",null,0,null,{"$error":"#NUM!"},{"$error":"#NUM!"},415]
[{"$nulls":4},"","","","","",null,null,"",{"$nulls":6},416,"",{"$f":"IF(A418=0,IF(B418=\"\",IF(B417=0,\"\",SUM($AG$1:AG417)-SUM($U$1:U416)),\"\"),SUM($AG$1:AG417)-SUM($U$1:U416))","v":""},{"$nulls":5},0,{"$f":"IF(AJ417=statistics!$D$3,AB416+AH417-AG417,)","v":0},{"$f":"IF(AND(ROW(AC417)>=statistics!$C$55,ROW(AC417)<=statistics!$D$55),AC416+AH417-AG417,)","v":0},{"$f":"IF(AND(statistics!$C$55<=ROW(A417),ROW(A417)<=statistics!$D$55)=TRUE,AH417-AG417+AA416-INDEX(AA:AA,statistics!$C$55),\"\")","v":""},null,null,0,0,0,"",{"$f":"IF(statistics!$D$3<>0,IF(AJ417=statistics!$D$3,AG417,\"\"),IF(B417<>\"\",AG417,\"\"))","v":""},{"$f":"IF(statistics!$D$3<>0,IF(AJ417=statistics!$D$3,IF(AH417=0,\"\",AH417),\"\"),IF(AH417<>0,AH417,\"\"))","v":""},{"$f":"IF(statistics!$D$3<>0,IF(AJ417=statistics!$D$3,IF(A417=0,\"\",1),\"\"),IF(A417=0,\"\",1))","v":""},"","",null,"",{"$nulls":6},0,null,null,null,"",null,null,"",null,0,null,{"$error":"#NUM!"},{"$error":"#NUM!"},416]
[{"$nulls":4},"","","","","",null,null,"",{"$nulls":6},417,"",{"$f":"IF(A419=0,IF(B419=\"\",IF(B418=0,\"\",SUM($AG$1:AG418)-SUM($U$1:U417)),\"\"),SUM($AG$1:AG418)-SUM($U$1:U417))","v":""},{"$nulls":5},0,{"$f":"IF(AJ418=statistics!$D$3,AB417+AH418-AG418,)","v":0},{"$f":"IF(AND(ROW(AC418)>=statistics!$C$55,ROW(AC418)<=statistics!$D$55),AC417+AH418-AG418,)","v":0},{"$f":"IF(AND(statistics!$C$55<=ROW(A418),ROW(A418)<=statistics!$D$55)=TRUE,AH418-AG418+AA417-INDEX(AA:AA,statistics!$C$55),\"\")","v":""},null,null,0,0,0,"",{"$f":"IF(statistics!$D$3<>0,IF(AJ418=statistics!$D$3,AG418,\"\"),IF(B418<>\"\",AG418,\"\"))","v":""},{"$f":"IF(statistics!$D$3<>0,IF(AJ418=statistics!$D$3,IF(AH418=0,\"\",AH418),\"\"),IF(AH418<>0,AH418,\"\"))","v":""},{"$f":"IF(statistics!$D$3<>0,IF(AJ418=statistics!$D$3,IF(A418=0,\"\",1),\"\"),IF(A418=0,\"\",1))","v":""},"","",null,"",{"$nulls":6},0,null,null,null,"",null,null,"",null,0,null,{"$error":"#NUM!"},{"$error":"#NUM!"},417]
[{"$nulls":4},"","","","","",null,null,"",{"$nulls":6},418,"",{"$f":"IF(A420=0,IF(B420=\"\",IF(B419=0,\"\",SUM($AG$1:AG419)-SUM($U$1:U418)),\"\"),SUM($AG$1:AG419)-SUM($U$1:U418))","v":""},{"$nulls":5},0,{"$f":"IF(AJ419=statistics!$D$3,AB418+AH419-AG419,)","v":0},{"$f":"IF(AND(ROW(AC419)>=statistics!$C$55,ROW(AC419)<=statistics!$D$55),AC418+AH419-AG419,)","v":0},{"$f":"IF(AND(statistics!$C$55<=ROW(A419),ROW(A419)<=statistics!$D$55)=TRUE,AH419-AG419+AA418-INDEX(AA:AA,statistics!$C$55),\"\")","v":""},null,null,0,0,0,"",{"$f":"IF(statistics!$D$3<>0,IF(AJ419=statistics!$D$3,AG419,\"\"),IF(B419<>\"\",AG419,\"\"))","v":""},{"$f":"IF(statistics!$D$3<>0,IF(AJ419=statistics!$D$3,IF(AH419=0,\"\",AH419),\"\"),IF(AH419<>0,AH419,\"\"))","v":""},{"$f":"IF(statistics!$D$3<>0,IF(AJ419=statistics!$D$3,IF(A419=0,\"\",1),\"\"),IF(A419=0,\"\",1))","v":""},"","",null,"",{"$nulls":6},0,null,null,null,"",null,null,"",null,0,null,{"$error":"#NUM!"},{"$error":"#NUM!"},418]
[{"$nulls":4},"","","","","",null,null,"",{"$nulls":6},419,"",{"$f":"IF(A421=0,IF(B421=\"\",IF(B420=0,\"\",SUM($AG$1:AG420)-SUM($U$1:U419)),\"\"),SUM($AG$1:AG420)-SUM($U$1:U419))","v":""},{"$nulls":5},0,{"$f":"IF(AJ420=statistics!$D$3,AB419+AH420-AG420,)","v":0},{"$f":"IF(AND(ROW(AC420)>=statistics!$C$55,ROW(AC420)<=statistics!$D$55),AC419+AH420-AG420,)","v":0},{"$f":"IF(AND(statistics!$C$55<=ROW(A420),ROW(A420)<=statistics!$D$55)=TRUE,AH420-AG420+AA419-INDEX(AA:AA,statistics!$C$55),\"\")","v":""},null,null,0,0,0,"",{"$f":"IF(statistics!$D$3<>0,IF(AJ420=statistics!$D$3,AG420,\"\"),IF(B420<>\"\",AG420,\"\"))","v":""},{"$f":"IF(statistics!$D$3<>0,IF(AJ420=statistics!$D$3,IF(AH420=0,\"\",AH420),\"\"),IF(AH420<>0,AH420,\"\"))","v":""},{"$f":"IF(statistics!$D$3<>0,IF(AJ420=statistics!$D$3,IF(A420=0,\"\",1),\"\"),IF(A420=0,\"\",1))","v":""},"","",null,"",{"$nulls":6},0,null,null,null,"",null,null,"",null,0,null,{"$error":"#NUM!"},{"$error":"#NUM!"},419]
[{"$nulls":4},"","","","","",null,null,"",{"$nulls":6},420,"",{"$f":"IF(A422=0,IF(B422=\"\",IF(B421=0,\"\",SUM($AG$1:AG421)-SUM($U$1:U420)),\"\"),SUM($AG$1:AG421)-SUM($U$1:U420))","v":""},{"$nulls":5},0,{"$f":"IF(AJ421=statistics!$D$3,AB420+AH421-AG421,)","v":0},{"$f":"IF(AND(ROW(AC421)>=statistics!$C$55,ROW(AC421)<=statistics!$D$55),AC420+AH421-AG421,)","v":0},{"$f":"IF(AND(statistics!$C$55<=ROW(A421),ROW(A421)<=statistics!$D$55)=TRUE,AH421-AG421+AA420-INDEX(AA:AA,statistics!$C$55),\"\")","v":""},null,null,0,0,0,"",{"$f":"IF(statistics!$D$3<>0,IF(AJ421=statistics!$D$3,AG421,\"\"),IF(B421<>\"\",AG421,\"\"))","v":""},{"$f":"IF(statistics!$D$3<>0,IF(AJ421=statistics!$D$3,IF(AH421=0,\"\",AH421),\"\"),IF(AH421<>0,AH421,\"\"))","v":""},{"$f":"IF(statistics!$D$3<>0,IF(AJ421=statistics!$D$3,IF(A421=0,\"\",1),\"\"),IF(A421=0,\"\",1))","v":""},"","",null,"",{"$nulls":6},0,null,null,null,"",null,null,"",null,0,null,{"$error":"#NUM!"},{"$error":"#NUM!"},420]
[{"$nulls":4},"","","","","",null,null,"",{"$nulls":6},421,"",{"$f":"IF(A423=0,IF(B423=\"\",IF(B422=0,\"\",SUM($AG$1:AG422)-SUM($U$1:U421)),\"\"),SUM($AG$1:AG422)-SUM($U$1:U421))","v":""},{"$nulls":5},0,{"$f":"IF(AJ422=statistics!$D$3,AB421+AH422-AG422,)","v":0},{"$f":"IF(AND(ROW(AC422)>=statistics!$C$55,ROW(AC422)<=statistics!$D$55),AC421+AH422-AG422,)","v":0},{"$f":"IF(AND(statistics!$C$55<=ROW(A422),ROW(A422)<=statistics!$D$55)=TRUE,AH422-AG422+AA421-INDEX(AA:AA,statistics!$C$55),\"\")","v":""},null,null,0,0,0,"",{"$f":"IF(statistics!$D$3<>0,IF(AJ422=statistics!$D$3,AG422,\"\"),IF(B422<>\"\",AG422,\"\"))","v":""},{"$f":"IF(statistics!$D$3<>0,IF(AJ422=statistics!$D$3,IF(AH422=0,\"\",AH422),\"\"),IF(AH422<>0,AH422,\"\"))","v":""},{"$f":"IF(statistics!$D$3<>0,IF(AJ422=statistics!$D$3,IF(A422=0,\"\",1),\"\"),IF(A422=0,\"\",1))","v":""},"","",null,"",{"$nulls":6},0,null,null,null,"",null,null,"",null,0,null,{"$error":"#NUM!"},{"$error":"#NUM!"},421]
[{"$nulls":4},"","","","","",null,null,"",{"$nulls":6},422,"",{"$f":"IF(A424=0,IF(B424=\"\",IF(B423=0,\"\",SUM($AG$1:AG423)-SUM($U$1:U422)),\"\"),SUM($AG$1:AG423)-SUM($U$1:U422))","v":""},{"$nulls":5},0,{"$f":"IF(AJ423=statistics!$D$3,AB422+AH423-AG423,)","v":0},{"$f":"IF(AND(ROW(AC423)>=statistics!$C$55,ROW(AC423)<=statistics!$D$55),AC422+AH423-AG423,)","v":0},{"$f":"IF(AND(statistics!$C$55<=ROW(A423),ROW(A423)<=statistics!$D$55)=TRUE,AH423-AG423+AA422-INDEX(AA:AA,statistics!$C$55),\"\")","v":""},null,null,0,0,0,"",{"$f":"IF(statistics!$D$3<>0,IF(AJ423=statistics!$D$3,AG423,\"\"),IF(B423<>\"\",AG423,\"\"))","v":""},{"$f":"IF(statistics!$D$3<>0,IF(AJ423=statistics!$D$3,IF(AH423=0,\"\",AH423),\"\"),IF(AH423<>0,AH423,\"\"))","v":""},{"$f":"IF(statistics!$D$3<>0,IF(AJ423=statistics!$D$3,IF(A423=0,\"\",1),\"\"),IF(A423=0,\"\",1))","v":""},"","",null,"",{"$nulls":6},0,null,null,null,"",null,null,"",null,0,null,{"$error":"#NUM!"},{"$error":"#NUM!"},422]
[{"$nulls":4},"","","","","",null,null,"",{"$nulls":6},423,"",{"$f":"IF(A425=0,IF(B425=\"\",IF(B424=0,\"\",SUM($AG$1:AG424)-SUM($U$1:U423)),\"\"),SUM($AG$1:AG424)-SUM($U$1:U423))","v":""},{"$nulls":5},0,{"$f":"IF(AJ424=statistics!$D$3,AB423+AH424-AG424,)","v":0},{"$f":"IF(AND(ROW(AC424)>=statistics!$C$55,ROW(AC424)<=statistics!$D$55),AC423+AH424-AG424,)","v":0},{"$f":"IF(AND(statistics!$C$55<=ROW(A424),ROW(A424)<=statistics!$D$55)=TRUE,AH424-AG424+AA423-INDEX(AA:AA,statistics!$C$55),\"\")","v":""},null,null,0,0,0,"",{"$f":"IF(statistics!$D$3<>0,IF(AJ424=statistics!$D$3,AG424,\"\"),IF(B424<>\"\",AG424,\"\"))","v":""},{"$f":"IF(statistics!$D$3<>0,IF(AJ424=statistics!$D$3,IF(AH424=0,\"\",AH424),\"\"),IF(AH424<>0,AH424,\"\"))","v":""},{"$f":"IF(statistics!$D$3<>0,IF(AJ424=statistics!$D$3,IF(A424=0,\"\",1),\"\"),IF(A424=0,\"\",1))","v":""},"","",null,"",{"$nulls":6},0,null,null,null,"",null,null,"",null,0,null,{"$error":"#NUM!"},{"$error":"#NUM!"},423]
[{"$nulls":4},"","","","","",null,null,"",{"$nulls":6},424,"",{"$f":"IF(A426=0,IF(B426=\"\",IF(B425=0,\"\",SUM($AG$1:AG425)-SUM($U$1:U424)),\"\"),SUM($AG$1:AG425)-SUM($U$1:U424))","v":""},{"$nulls":5},0,{"$f":"IF(AJ425=statistics!$D$3,AB424+AH425-AG425,)","v":0},{"$f":"IF(AND(ROW(AC425)>=statistics!$C$55,ROW(AC425)<=statistics!$D$55),AC424+AH425-AG425,)","v":0},{"$f":"IF(AND(statistics!$C$55<=ROW(A425),ROW(A425)<=statistics!$D$55)=TRUE,AH425-AG425+AA424-INDEX(AA:AA,statistics!$C$55),\"\")","v":""},null,null,0,0,0,"",{"$f":"IF(statistics!$D$3<>0,IF(AJ425=statistics!$D$3,AG425,\"\"),IF(B425<>\"\",AG425,\"\"))","v":""},{"$f":"IF(statistics!$D$3<>0,IF(AJ425=statistics!$D$3,IF(AH425=0,\"\",AH425),\"\"),IF(AH425<>0,AH425,\"\"))","v":""},{"$f":"IF(statistics!$D$3<>0,IF(AJ425=statistics!$D$3,IF(A425=0,\"\",1),\"\"),IF(A425=0,\"\",1))","v":""},"","",null,"",{"$nulls":6},0,null,null,null,"",null,null,"",null,0,null,{"$error":"#NUM!"},{"$error":"#NUM!"},424]
[{"$nulls":4},"","","","","",null,null,"",{"$nulls":6},425,"",{"$f":"IF(A427=0,IF(B427=\"\",IF(B426=0,\"\",SUM($AG$1:AG426)-SUM($U$1:U425)),\"\"),SUM($AG$1:AG426)-SUM($U$1:U425))","v":""},{"$nulls":5},0,{"$f":"IF(AJ426=statistics!$D$3,AB425+AH426-AG426,)","v":0},{"$f":"IF(AND(ROW(AC426)>=statistics!$C$55,ROW(AC426)<=statistics!$D$55),AC425+AH426-AG426,)","v":0},{"$f":"IF(AND(statistics!$C$55<=ROW(A426),ROW(A426)<=statistics!$D$55)=TRUE,AH426-AG426+AA425-INDEX(AA:AA,statistics!$C$55),\"\")","v":""},null,null,0,0,0,"",{"$f":"IF(statistics!$D$3<>0,IF(AJ426=statistics!$D$3,AG426,\"\"),IF(B426<>\"\",AG426,\"\"))","v":""},{"$f":"IF(statistics!$D$3<>0,IF(AJ426=statistics!$D$3,IF(AH426=0,\"\",AH426),\"\"),IF(AH426<>0,AH426,\"\"))","v":""},{"$f":"IF(statistics!$D$3<>0,IF(AJ426=statistics!$D$3,IF(A426=0,\"\",1),\"\"),IF(A426=0,\"\",1))","v":""},"","",null,"",{"$nulls":6},0,null,null,null,"",null,null,"",null,0,null,{"$error":"#NUM!"},{"$error":"#NUM!"},425]
[{"$nulls":4},"","","","","",null,null,"",{"$nulls":6},426,"",{"$f":"IF(A428=0,IF(B428=\"\",IF(B427=0,\"\",SUM($AG$1:AG427)-SUM($U$1:U426)),\"\"),SUM($AG$1:AG427)-SUM($U$1:U426))","v":""},{"$nulls":5},0,{"$f":"IF(AJ427=statistics!$D$3,AB426+AH427-AG427,)","v":0},{"$f":"IF(AND(ROW(AC427)>=statistics!$C$55,ROW(AC427)<=statistics!$D$55),AC426+AH427-AG427,)","v":0},{"$f":"IF(AND(statistics!$C$55<=ROW(A427),ROW(A427)<=statistics!$D$55)=TRUE,AH427-AG427+AA426-INDEX(AA:AA,statistics!$C$55),\"\")","v":""},null,null,0,0,0,"",{"$f":"IF(statistics!$D$3<>0,IF(AJ427=statistics!$D$3,AG427,\"\"),IF(B427<>\"\",AG427,\"\"))","v":""},{"$f":"IF(statistics!$D$3<>0,IF(AJ427=statistics!$D$3,IF(AH427=0,\"\",AH427),\"\"),IF(AH427<>0,AH427,\"\"))","v":""},{"$f":"IF(statistics!$D$3<>0,IF(AJ427=statistics!$D$3,IF(A427=0,\"\",1),\"\"),IF(A427=0,\"\",1))","v":""},"","",null,"",{"$nulls":6},0,null,null,null,"",null,null,"",null,0,null,{"$error":"#NUM!"},{"$error":"#NUM!"},426]
[{"$nulls":4},"","","","","",null,null,"",{"$nulls":6},427,"",{"$f":"IF(A429=0,IF(B429=\"\",IF(B428=0,\"\",SUM($AG$1:AG428)-SUM($U$1:U427)),\"\"),SUM($AG$1:AG428)-SUM($U$1:U427))","v":""},{"$nulls":5},0,{"$f":"IF(AJ428=statistics!$D$3,AB427+AH428-AG428,)","v":0},{"$f":"IF(AND(ROW(AC428)>=statistics!$C$55,ROW(AC428)<=statistics!$D$55),AC427+AH428-AG428,)","v":0},{"$f":"IF(AND(statistics!$C$55<=ROW(A428),ROW(A428)<=statistics!$D$55)=TRUE,AH428-AG428+AA427-INDEX(AA:AA,statistics!$C$55),\"\")","v":""},null,null,0,0,0,"",{"$f":"IF(statistics!$D$3<>0,IF(AJ428=statistics!$D$3,AG428,\"\"),IF(B428<>\"\",AG428,\"\"))","v":""},{"$f":"IF(statistics!$D$3<>0,IF(AJ428=statistics!$D$3,IF(AH428=0,\"\",AH428),\"\"),IF(AH428<>0,AH428,\"\"))","v":""},{"$f":"IF(statistics!$D$3<>0,IF(AJ428=statistics!$D$3,IF(A428=0,\"\",1),\"\"),IF(A428=0,\"\",1))","v":""},"","",null,"",{"$nulls":6},0,null,null,null,"",null,null,"",null,0,null,{"$error":"#NUM!"},{"$error":"#NUM!"},427]
[{"$nulls":4},"","","","","",null,null,"",{"$nulls":6},428,"",{"$f":"IF(A430=0,IF(B430=\"\",IF(B429=0,\"\",SUM($AG$1:AG429)-SUM($U$1:U428)),\"\"),SUM($AG$1:AG429)-SUM($U$1:U428))","v":""},{"$nulls":5},0,{"$f":"IF(AJ429=statistics!$D$3,AB428+AH429-AG429,)","v":0},{"$f":"IF(AND(ROW(AC429)>=statistics!$C$55,ROW(AC429)<=statistics!$D$55),AC428+AH429-AG429,)","v":0},{"$f":"IF(AND(statistics!$C$55<=ROW(A429),ROW(A429)<=statistics!$D$55)=TRUE,AH429-AG429+AA428-INDEX(AA:AA,statistics!$C$55),\"\")","v":""},null,null,0,0,0,"",{"$f":"IF(statistics!$D$3<>0,IF(AJ429=statistics!$D$3,AG429,\"\"),IF(B429<>\"\",AG429,\"\"))","v":""},{"$f":"IF(statistics!$D$3<>0,IF(AJ429=statistics!$D$3,IF(AH429=0,\"\",AH429),\"\"),IF(AH429<>0,AH429,\"\"))","v":""},{"$f":"IF(statistics!$D$3<>0,IF(AJ429=statistics!$D$3,IF(A429=0,\"\",1),\"\"),IF(A429=0,\"\",1))","v":""},"","",null,"",{"$nulls":6},0,null,null,null,"",null,null,"",null,0,null,{"$error":"#NUM!"},{"$error":"#NUM!"},428]
[{"$nulls":4},"","","","","",null,null,"",{"$nulls":6},429,"",{"$f":"IF(A431=0,IF(B431=\"\",IF(B430=0,\"\",SUM($AG$1:AG430)-SUM($U$1:U429)),\"\"),SUM($AG$1:AG430)-SUM($U$1:U429))","v":""},{"$nulls":5},0,{"$f":"IF(AJ430=statistics!$D$3,AB429+AH430-AG430,)","v":0},{"$f":"IF(AND(ROW(AC430)>=statistics!$C$55,ROW(AC430)<=statistics!$D$55),AC429+AH430-AG430,)","v":0},{"$f":"IF(AND(statistics!$C$55<=ROW(A430),ROW(A430)<=statistics!$D$55)=TRUE,AH430-AG430+AA429-INDEX(AA:AA,statistics!$C$55),\"\")","v":""},null,null,0,0,0,"",{"$f":"IF(statistics!$D$3<>0,IF(AJ430=statistics!$D$3,AG430,\"\"),IF(B430<>\"\",AG430,\"\"))","v":""},{"$f":"IF(statistics!$D$3<>0,IF(AJ430=statistics!$D$3,IF(AH430=0,\"\",AH430),\"\"),IF(AH430<>0,AH430,\"\"))","v":""},{"$f":"IF(statistics!$D$3<>0,IF(AJ430=statistics!$D$3,IF(A430=0,\"\",1),\"\"),IF(A430=0,\"\",1))","v":""},"","",null,"",{"$nulls":6},0,null,null,null,"",null,null,"",null,0,null,{"$error":"#NUM!"},{"$error":"#NUM!"},429]
[{"$nulls":4},"","","","","",null,null,"",{"$nulls":6},430,"",{"$f":"IF(A432=0,IF(B432=\"\",IF(B431=0,\"\",SUM($AG$1:AG431)-SUM($U$1:U430)),\"\"),SUM($AG$1:AG431)-SUM($U$1:U430))","v":""},{"$nulls":5},0,{"$f":"IF(AJ431=statistics!$D$3,AB430+AH431-AG431,)","v":0},{"$f":"IF(AND(ROW(AC431)>=statistics!$C$55,ROW(AC431)<=statistics!$D$55),AC430+AH431-AG431,)","v":0},{"$f":"IF(AND(statistics!$C$55<=ROW(A431),ROW(A431)<=statistics!$D$55)=TRUE,AH431-AG431+AA430-INDEX(AA:AA,statistics!$C$55),\"\")","v":""},null,null,0,0,0,"",{"$f":"IF(statistics!$D$3<>0,IF(AJ431=statistics!$D$3,AG431,\"\"),IF(B431<>\"\",AG431,\"\"))","v":""},{"$f":"IF(statistics!$D$3<>0,IF(AJ431=statistics!$D$3,IF(AH431=0,\"\",AH431),\"\"),IF(AH431<>0,AH431,\"\"))","v":""},{"$f":"IF(statistics!$D$3<>0,IF(AJ431=statistics!$D$3,IF(A431=0,\"\",1),\"\"),IF(A431=0,\"\",1))","v":""},"","",null,"",{"$nulls":6},0,null,null,null,"",null,null,"",null,0,null,{"$error":"#NUM!"},{"$error":"#NUM!"},430]
[{"$nulls":4},"","","","","",null,null,"",{"$nulls":6},431,"",{"$f":"IF(A433=0,IF(B433=\"\",IF(B432=0,\"\",SUM($AG$1:AG432)-SUM($U$1:U431)),\"\"),SUM($AG$1:AG432)-SUM($U$1:U431))","v":""},{"$nulls":5},0,{"$f":"IF(AJ432=statistics!$D$3,AB431+AH432-AG432,)","v":0},{"$f":"IF(AND(ROW(AC432)>=statistics!$C$55,ROW(AC432)<=statistics!$D$55),AC431+AH432-AG432,)","v":0},{"$f":"IF(AND(statistics!$C$55<=ROW(A432),ROW(A432)<=statistics!$D$55)=TRUE,AH432-AG432+AA431-INDEX(AA:AA,statistics!$C$55),\"\")","v":""},null,null,0,0,0,"",{"$f":"IF(statistics!$D$3<>0,IF(AJ432=statistics!$D$3,AG432,\"\"),IF(B432<>\"\",AG432,\"\"))","v":""},{"$f":"IF(statistics!$D$3<>0,IF(AJ432=statistics!$D$3,IF(AH432=0,\"\",AH432),\"\"),IF(AH432<>0,AH432,\"\"))","v":""},{"$f":"IF(statistics!$D$3<>0,IF(AJ432=statistics!$D$3,IF(A432=0,\"\",1),\"\"),IF(A432=0,\"\",1))","v":""},"","",null,"",{"$nulls":6},0,null,null,null,"",null,null,"",null,0,null,{"$error":"#NUM!"},{"$error":"#NUM!"},431]
[{"$nulls":4},"","","","","",null,null,"",{"$nulls":6},432,"",{"$f":"IF(A434=0,IF(B434=\"\",IF(B433=0,\"\",SUM($AG$1:AG433)-SUM($U$1:U432)),\"\"),SUM($AG$1:AG433)-SUM($U$1:U432))","v":""},{"$nulls":5},0,{"$f":"IF(AJ433=statistics!$D$3,AB432+AH433-AG433,)","v":0},{"$f":"IF(AND(ROW(AC433)>=statistics!$C$55,ROW(AC433)<=statistics!$D$55),AC432+AH433-AG433,)","v":0},{"$f":"IF(AND(statistics!$C$55<=ROW(A433),ROW(A433)<=statistics!$D$55)=TRUE,AH433-AG433+AA432-INDEX(AA:AA,statistics!$C$55),\"\")","v":""},null,null,0,0,0,"",{"$f":"IF(statistics!$D$3<>0,IF(AJ433=statistics!$D$3,AG433,\"\"),IF(B433<>\"\",AG433,\"\"))","v":""},{"$f":"IF(statistics!$D$3<>0,IF(AJ433=statistics!$D$3,IF(AH433=0,\"\",AH433),\"\"),IF(AH433<>0,AH433,\"\"))","v":""},{"$f":"IF(statistics!$D$3<>0,IF(AJ433=statistics!$D$3,IF(A433=0,\"\",1),\"\"),IF(A433=0,\"\",1))","v":""},"","",null,"",{"$nulls":6},0,null,null,null,"",null,null,"",null,0,null,{"$error":"#NUM!"},{"$error":"#NUM!"},432]
[{"$nulls":4},"","","","","",null,null,"",{"$nulls":6},433,"",{"$f":"IF(A435=0,IF(B435=\"\",IF(B434=0,\"\",SUM($AG$1:AG434)-SUM($U$1:U433)),\"\"),SUM($AG$1:AG434)-SUM($U$1:U433))","v":""},{"$nulls":5},0,{"$f":"IF(AJ434=statistics!$D$3,AB433+AH434-AG434,)","v":0},{"$f":"IF(AND(ROW(AC434)>=statistics!$C$55,ROW(AC434)<=statistics!$D$55),AC433+AH434-AG434,)","v":0},{"$f":"IF(AND(statistics!$C$55<=ROW(A434),ROW(A434)<=statistics!$D$55)=TRUE,AH434-AG434+AA433-INDEX(AA:AA,statistics!$C$55),\"\")","v":""},null,null,0,0,0,"",{"$f":"IF(statistics!$D$3<>0,IF(AJ434=statistics!$D$3,AG434,\"\"),IF(B434<>\"\",AG434,\"\"))","v":""},{"$f":"IF(statistics!$D$3<>0,IF(AJ434=statistics!$D$3,IF(AH434=0,\"\",AH434),\"\"),IF(AH434<>0,AH434,\"\"))","v":""},{"$f":"IF(statistics!$D$3<>0,IF(AJ434=statistics!$D$3,IF(A434=0,\"\",1),\"\"),IF(A434=0,\"\",1))","v":""},"","",null,"",{"$nulls":6},0,null,null,null,"",null,null,"",null,0,null,{"$error":"#NUM!"},{"$error":"#NUM!"},433]
[{"$nulls":4},"","","","","",null,null,"",{"$nulls":6},434,"",{"$f":"IF(A436=0,IF(B436=\"\",IF(B435=0,\"\",SUM($AG$1:AG435)-SUM($U$1:U434)),\"\"),SUM($AG$1:AG435)-SUM($U$1:U434))","v":""},{"$nulls":5},0,{"$f":"IF(AJ435=statistics!$D$3,AB434+AH435-AG435,)","v":0},{"$f":"IF(AND(ROW(AC435)>=statistics!$C$55,ROW(AC435)<=statistics!$D$55),AC434+AH435-AG435,)","v":0},{"$f":"IF(AND(statistics!$C$55<=ROW(A435),ROW(A435)<=statistics!$D$55)=TRUE,AH435-AG435+AA434-INDEX(AA:AA,statistics!$C$55),\"\")","v":""},null,null,0,0,0,"",{"$f":"IF(statistics!$D$3<>0,IF(AJ435=statistics!$D$3,AG435,\"\"),IF(B435<>\"\",AG435,\"\"))","v":""},{"$f":"IF(statistics!$D$3<>0,IF(AJ435=statistics!$D$3,IF(AH435=0,\"\",AH435),\"\"),IF(AH435<>0,AH435,\"\"))","v":""},{"$f":"IF(statistics!$D$3<>0,IF(AJ435=statistics!$D$3,IF(A435=0,\"\",1),\"\"),IF(A435=0,\"\",1))","v":""},"","",null,"",{"$nulls":6},0,null,null,null,"",null,null,"",null,0,null,{"$error":"#NUM!"},{"$error":"#NUM!"},434]
[{"$nulls":4},"","","","","",null,null,"",{"$nulls":6},435,"",{"$f":"IF(A437=0,IF(B437=\"\",IF(B436=0,\"\",SUM($AG$1:AG436)-SUM($U$1:U435)),\"\"),SUM($AG$1:AG436)-SUM($U$1:U435))","v":""},{"$nulls":5},0,{"$f":"IF(AJ436=statistics!$D$3,AB435+AH436-AG436,)","v":0},{"$f":"IF(AND(ROW(AC436)>=statistics!$C$55,ROW(AC436)<=statistics!$D$55),AC435+AH436-AG436,)","v":0},{"$f":"IF(AND(statistics!$C$55<=ROW(A436),ROW(A436)<=statistics!$D$55)=TRUE,AH436-AG436+AA435-INDEX(AA:AA,statistics!$C$55),\"\")","v":""},null,null,0,0,0,"",{"$f":"IF(statistics!$D$3<>0,IF(AJ436=statistics!$D$3,AG436,\"\"),IF(B436<>\"\",AG436,\"\"))","v":""},{"$f":"IF(statistics!$D$3<>0,IF(AJ436=statistics!$D$3,IF(AH436=0,\"\",AH436),\"\"),IF(AH436<>0,AH436,\"\"))","v":""},{"$f":"IF(statistics!$D$3<>0,IF(AJ436=statistics!$D$3,IF(A436=0,\"\",1),\"\"),IF(A436=0,\"\",1))","v":""},"","",null,"",{"$nulls":6},0,null,null,null,"",null,null,"",null,0,null,{"$error":"#NUM!"},{"$error":"#NUM!"},435]
[{"$nulls":4},"","","","","",null,null,"",{"$nulls":6},436,"",{"$f":"IF(A438=0,IF(B438=\"\",IF(B437=0,\"\",SUM($AG$1:AG437)-SUM($U$1:U436)),\"\"),SUM($AG$1:AG437)-SUM($U$1:U436))","v":""},{"$nulls":5},0,{"$f":"IF(AJ437=statistics!$D$3,AB436+AH437-AG437,)","v":0},{"$f":"IF(AND(ROW(AC437)>=statistics!$C$55,ROW(AC437)<=statistics!$D$55),AC436+AH437-AG437,)","v":0},{"$f":"IF(AND(statistics!$C$55<=ROW(A437),ROW(A437)<=statistics!$D$55)=TRUE,AH437-AG437+AA436-INDEX(AA:AA,statistics!$C$55),\"\")","v":""},null,null,0,0,0,"",{"$f":"IF(statistics!$D$3<>0,IF(AJ437=statistics!$D$3,AG437,\"\"),IF(B437<>\"\",AG437,\"\"))","v":""},{"$f":"IF(statistics!$D$3<>0,IF(AJ437=statistics!$D$3,IF(AH437=0,\"\",AH437),\"\"),IF(AH437<>0,AH437,\"\"))","v":""},{"$f":"IF(statistics!$D$3<>0,IF(AJ437=statistics!$D$3,IF(A437=0,\"\",1),\"\"),IF(A437=0,\"\",1))","v":""},"","",null,"",{"$nulls":6},0,null,null,null,"",null,null,"",null,0,null,{"$error":"#NUM!"},{"$error":"#NUM!"},436]
[{"$nulls":4},"","","","","",null,null,"",{"$nulls":6},437,"",{"$f":"IF(A439=0,IF(B439=\"\",IF(B438=0,\"\",SUM($AG$1:AG438)-SUM($U$1:U437)),\"\"),SUM($AG$1:AG438)-SUM($U$1:U437))","v":""},{"$nulls":5},0,{"$f":"IF(AJ438=statistics!$D$3,AB437+AH438-AG438,)","v":0},{"$f":"IF(AND(ROW(AC438)>=statistics!$C$55,ROW(AC438)<=statistics!$D$55),AC437+AH438-AG438,)","v":0},{"$f":"IF(AND(statistics!$C$55<=ROW(A438),ROW(A438)<=statistics!$D$55)=TRUE,AH438-AG438+AA437-INDEX(AA:AA,statistics!$C$55),\"\")","v":""},null,null,0,0,0,"",{"$f":"IF(statistics!$D$3<>0,IF(AJ438=statistics!$D$3,AG438,\"\"),IF(B438<>\"\",AG438,\"\"))","v":""},{"$f":"IF(statistics!$D$3<>0,IF(AJ438=statistics!$D$3,IF(AH438=0,\"\",AH438),\"\"),IF(AH438<>0,AH438,\"\"))","v":""},{"$f":"IF(statistics!$D$3<>0,IF(AJ438=statistics!$D$3,IF(A438=0,\"\",1),\"\"),IF(A438=0,\"\",1))","v":""},"","",null,"",{"$nulls":6},0,null,null,null,"",null,null,"",null,0,null,{"$error":"#NUM!"},{"$error":"#NUM!"},437]
[{"$nulls":4},"","","","","",null,null,"",{"$nulls":6},438,"",{"$f":"IF(A440=0,IF(B440=\"\",IF(B439=0,\"\",SUM($AG$1:AG439)-SUM($U$1:U438)),\"\"),SUM($AG$1:AG439)-SUM($U$1:U438))","v":""},{"$nulls":5},0,{"$f":"IF(AJ439=statistics!$D$3,AB438+AH439-AG439,)","v":0},{"$f":"IF(AND(ROW(AC439)>=statistics!$C$55,ROW(AC439)<=statistics!$D$55),AC438+AH439-AG439,)","v":0},{"$f":"IF(AND(statistics!$C$55<=ROW(A439),ROW(A439)<=statistics!$D$55)=TRUE,AH439-AG439+AA438-INDEX(AA:AA,statistics!$C$55),\"\")","v":""},null,null,0,0,0,"",{"$f":"IF(statistics!$D$3<>0,IF(AJ439=statistics!$D$3,AG439,\"\"),IF(B439<>\"\",AG439,\"\"))","v":""},{"$f":"IF(statistics!$D$3<>0,IF(AJ439=statistics!$D$3,IF(AH439=0,\"\",AH439),\"\"),IF(AH439<>0,AH439,\"\"))","v":""},{"$f":"IF(statistics!$D$3<>0,IF(AJ439=statistics!$D$3,IF(A439=0,\"\",1),\"\"),IF(A439=0,\"\",1))","v":""},"","",null,"",{"$nulls":6},0,null,null,null,"",null,null,"",null,0,null,{"$error":"#NUM!"},{"$error":"#NUM!"},438]
[{"$nulls":4},"","","","","",null,null,"",{"$nulls":6},439,"",{"$f":"IF(A441=0,IF(B441=\"\",IF(B440=0,\"\",SUM($AG$1:AG440)-SUM($U$1:U439)),\"\"),SUM($AG$1:AG440)-SUM($U$1:U439))","v":""},{"$nulls":5},0,{"$f":"IF(AJ440=statistics!$D$3,AB439+AH440-AG440,)","v":0},{"$f":"IF(AND(ROW(AC440)>=statistics!$C$55,ROW(AC440)<=statistics!$D$55),AC439+AH440-AG440,)","v":0},{"$f":"IF(AND(statistics!$C$55<=ROW(A440),ROW(A440)<=statistics!$D$55)=TRUE,AH440-AG440+AA439-INDEX(AA:AA,statistics!$C$55),\"\")","v":""},null,null,0,0,0,"",{"$f":"IF(statistics!$D$3<>0,IF(AJ440=statistics!$D$3,AG440,\"\"),IF(B440<>\"\",AG440,\"\"))","v":""},{"$f":"IF(statistics!$D$3<>0,IF(AJ440=statistics!$D$3,IF(AH440=0,\"\",AH440),\"\"),IF(AH440<>0,AH440,\"\"))","v":""},{"$f":"IF(statistics!$D$3<>0,IF(AJ440=statistics!$D$3,IF(A440=0,\"\",1),\"\"),IF(A440=0,\"\",1))","v":""},"","",null,"",{"$nulls":6},0,null,null,null,"",null,null,"",null,0,null,{"$error":"#NUM!"},{"$error":"#NUM!"},439]
[{"$nulls":4},"","","","","",null,null,"",{"$nulls":6},440,"",{"$f":"IF(A442=0,IF(B442=\"\",IF(B441=0,\"\",SUM($AG$1:AG441)-SUM($U$1:U440)),\"\"),SUM($AG$1:AG441)-SUM($U$1:U440))","v":""},{"$nulls":5},0,{"$f":"IF(AJ441=statistics!$D$3,AB440+AH441-AG441,)","v":0},{"$f":"IF(AND(ROW(AC441)>=statistics!$C$55,ROW(AC441)<=statistics!$D$55),AC440+AH441-AG441,)","v":0},{"$f":"IF(AND(statistics!$C$55<=ROW(A441),ROW(A441)<=statistics!$D$55)=TRUE,AH441-AG441+AA440-INDEX(AA:AA,statistics!$C$55),\"\")","v":""},null,null,0,0,0,"",{"$f":"IF(statistics!$D$3<>0,IF(AJ441=statistics!$D$3,AG441,\"\"),IF(B441<>\"\",AG441,\"\"))","v":""},{"$f":"IF(statistics!$D$3<>0,IF(AJ441=statistics!$D$3,IF(AH441=0,\"\",AH441),\"\"),IF(AH441<>0,AH441,\"\"))","v":""},{"$f":"IF(statistics!$D$3<>0,IF(AJ441=statistics!$D$3,IF(A441=0,\"\",1),\"\"),IF(A441=0,\"\",1))","v":""},"","",null,"",{"$nulls":6},0,null,null,null,"",null,null,"",null,0,null,{"$error":"#NUM!"},{"$error":"#NUM!"},440]
[{"$nulls":4},"","","","","",null,null,"",{"$nulls":6},441,"",{"$f":"IF(A443=0,IF(B443=\"\",IF(B442=0,\"\",SUM($AG$1:AG442)-SUM($U$1:U441)),\"\"),SUM($AG$1:AG442)-SUM($U$1:U441))","v":""},{"$nulls":5},0,{"$f":"IF(AJ442=statistics!$D$3,AB441+AH442-AG442,)","v":0},{"$f":"IF(AND(ROW(AC442)>=statistics!$C$55,ROW(AC442)<=statistics!$D$55),AC441+AH442-AG442,)","v":0},{"$f":"IF(AND(statistics!$C$55<=ROW(A442),ROW(A442)<=statistics!$D$55)=TRUE,AH442-AG442+AA441-INDEX(AA:AA,statistics!$C$55),\"\")","v":""},null,null,0,0,0,"",{"$f":"IF(statistics!$D$3<>0,IF(AJ442=statistics!$D$3,AG442,\"\"),IF(B442<>\"\",AG442,\"\"))","v":""},{"$f":"IF(statistics!$D$3<>0,IF(AJ442=statistics!$D$3,IF(AH442=0,\"\",AH442),\"\"),IF(AH442<>0,AH442,\"\"))","v":""},{"$f":"IF(statistics!$D$3<>0,IF(AJ442=statistics!$D$3,IF(A442=0,\"\",1),\"\"),IF(A442=0,\"\",1))","v":""},"","",null,"",{"$nulls":6},0,null,null,null,"",null,null,"",null,0,null,{"$error":"#NUM!"},{"$error":"#NUM!"},441]
[{"$nulls":4},"","","","","",null,null,"",{"$nulls":6},442,"",{"$f":"IF(A444=0,IF(B444=\"\",IF(B443=0,\"\",SUM($AG$1:AG443)-SUM($U$1:U442)),\"\"),SUM($AG$1:AG443)-SUM($U$1:U442))","v":""},{"$nulls":5},0,{"$f":"IF(AJ443=statistics!$D$3,AB442+AH443-AG443,)","v":0},{"$f":"IF(AND(ROW(AC443)>=statistics!$C$55,ROW(AC443)<=statistics!$D$55),AC442+AH443-AG443,)","v":0},{"$f":"IF(AND(statistics!$C$55<=ROW(A443),ROW(A443)<=statistics!$D$55)=TRUE,AH443-AG443+AA442-INDEX(AA:AA,statistics!$C$55),\"\")","v":""},null,null,0,0,0,"",{"$f":"IF(statistics!$D$3<>0,IF(AJ443=statistics!$D$3,AG443,\"\"),IF(B443<>\"\",AG443,\"\"))","v":""},{"$f":"IF(statistics!$D$3<>0,IF(AJ443=statistics!$D$3,IF(AH443=0,\"\",AH443),\"\"),IF(AH443<>0,AH443,\"\"))","v":""},{"$f":"IF(statistics!$D$3<>0,IF(AJ443=statistics!$D$3,IF(A443=0,\"\",1),\"\"),IF(A443=0,\"\",1))","v":""},"","",null,"",{"$nulls":6},0,null,null,null,"",null,null,"",null,0,null,{"$error":"#NUM!"},{"$error":"#NUM!"},442]
[{"$nulls":4},"","","","","",null,null,"",{"$nulls":6},443,"",{"$f":"IF(A445=0,IF(B445=\"\",IF(B444=0,\"\",SUM($AG$1:AG444)-SUM($U$1:U443)),\"\"),SUM($AG$1:AG444)-SUM($U$1:U443))","v":""},{"$nulls":5},0,{"$f":"IF(AJ444=statistics!$D$3,AB443+AH444-AG444,)","v":0},{"$f":"IF(AND(ROW(AC444)>=statistics!$C$55,ROW(AC444)<=statistics!$D$55),AC443+AH444-AG444,)","v":0},{"$f":"IF(AND(statistics!$C$55<=ROW(A444),ROW(A444)<=statistics!$D$55)=TRUE,AH444-AG444+AA443-INDEX(AA:AA,statistics!$C$55),\"\")","v":""},null,null,0,0,0,"",{"$f":"IF(statistics!$D$3<>0,IF(AJ444=statistics!$D$3,AG444,\"\"),IF(B444<>\"\",AG444,\"\"))","v":""},{"$f":"IF(statistics!$D$3<>0,IF(AJ444=statistics!$D$3,IF(AH444=0,\"\",AH444),\"\"),IF(AH444<>0,AH444,\"\"))","v":""},{"$f":"IF(statistics!$D$3<>0,IF(AJ444=statistics!$D$3,IF(A444=0,\"\",1),\"\"),IF(A444=0,\"\",1))","v":""},"","",null,"",{"$nulls":6},0,null,null,null,"",null,null,"",null,0,null,{"$error":"#NUM!"},{"$error":"#NUM!"},443]
[{"$nulls":4},"","","","","",null,null,"",{"$nulls":6},444,"",{"$f":"IF(A446=0,IF(B446=\"\",IF(B445=0,\"\",SUM($AG$1:AG445)-SUM($U$1:U444)),\"\"),SUM($AG$1:AG445)-SUM($U$1:U444))","v":""},{"$nulls":5},0,{"$f":"IF(AJ445=statistics!$D$3,AB444+AH445-AG445,)","v":0},{"$f":"IF(AND(ROW(AC445)>=statistics!$C$55,ROW(AC445)<=statistics!$D$55),AC444+AH445-AG445,)","v":0},{"$f":"IF(AND(statistics!$C$55<=ROW(A445),ROW(A445)<=statistics!$D$55)=TRUE,AH445-AG445+AA444-INDEX(AA:AA,statistics!$C$55),\"\")","v":""},null,null,0,0,0,"",{"$f":"IF(statistics!$D$3<>0,IF(AJ445=statistics!$D$3,AG445,\"\"),IF(B445<>\"\",AG445,\"\"))","v":""},{"$f":"IF(statistics!$D$3<>0,IF(AJ445=statistics!$D$3,IF(AH445=0,\"\",AH445),\"\"),IF(AH445<>0,AH445,\"\"))","v":""},{"$f":"IF(statistics!$D$3<>0,IF(AJ445=statistics!$D$3,IF(A445=0,\"\",1),\"\"),IF(A445=0,\"\",1))","v":""},"","",null,"",{"$nulls":6},0,null,null,null,"",null,null,"",null,0,null,{"$error":"#NUM!"},{"$error":"#NUM!"},444]
[{"$nulls":4},"","","","","",null,null,"",{"$nulls":6},445,"",{"$f":"IF(A447=0,IF(B447=\"\",IF(B446=0,\"\",SUM($AG$1:AG446)-SUM($U$1:U445)),\"\"),SUM($AG$1:AG446)-SUM($U$1:U445))","v":""},{"$nulls":5},0,{"$f":"IF(AJ446=statistics!$D$3,AB445+AH446-AG446,)","v":0},{"$f":"IF(AND(ROW(AC446)>=statistics!$C$55,ROW(AC446)<=statistics!$D$55),AC445+AH446-AG446,)","v":0},{"$f":"IF(AND(statistics!$C$55<=ROW(A446),ROW(A446)<=statistics!$D$55)=TRUE,AH446-AG446+AA445-INDEX(AA:AA,statistics!$C$55),\"\")","v":""},null,null,0,0,0,"",{"$f":"IF(statistics!$D$3<>0,IF(AJ446=statistics!$D$3,AG446,\"\"),IF(B446<>\"\",AG446,\"\"))","v":""},{"$f":"IF(statistics!$D$3<>0,IF(AJ446=statistics!$D$3,IF(AH446=0,\"\",AH446),\"\"),IF(AH446<>0,AH446,\"\"))","v":""},{"$f":"IF(statistics!$D$3<>0,IF(AJ446=statistics!$D$3,IF(A446=0,\"\",1),\"\"),IF(A446=0,\"\",1))","v":""},"","",null,"",{"$nulls":6},0,null,null,null,"",null,null,"",null,0,null,{"$error":"#NUM!"},{"$error":"#NUM!"},445]
[{"$nulls":4},"","","","","",null,null,"",{"$nulls":6},446,"",{"$f":"IF(A448=0,IF(B448=\"\",IF(B447=0,\"\",SUM($AG$1:AG447)-SUM($U$1:U446)),\"\"),SUM($AG$1:AG447)-SUM($U$1:U446))","v":""},{"$nulls":5},0,{"$f":"IF(AJ447=statistics!$D$3,AB446+AH447-AG447,)","v":0},{"$f":"IF(AND(ROW(AC447)>=statistics!$C$55,ROW(AC447)<=statistics!$D$55),AC446+AH447-AG447,)","v":0},{"$f":"IF(AND(statistics!$C$55<=ROW(A447),ROW(A447)<=statistics!$D$55)=TRUE,AH447-AG447+AA446-INDEX(AA:AA,statistics!$C$55),\"\")","v":""},null,null,0,0,0,"",{"$f":"IF(statistics!$D$3<>0,IF(AJ447=statistics!$D$3,AG447,\"\"),IF(B447<>\"\",AG447,\"\"))","v":""},{"$f":"IF(statistics!$D$3<>0,IF(AJ447=statistics!$D$3,IF(AH447=0,\"\",AH447),\"\"),IF(AH447<>0,AH447,\"\"))","v":""},{"$f":"IF(statistics!$D$3<>0,IF(AJ447=statistics!$D$3,IF(A447=0,\"\",1),\"\"),IF(A447=0,\"\",1))","v":""},"","",null,"",{"$nulls":6},0,null,null,null,"",null,null,"",null,0,null,{"$error":"#NUM!"},{"$error":"#NUM!"},446]
[{"$nulls":4},"","","","","",null,null,"",{"$nulls":6},447,"",{"$f":"IF(A449=0,IF(B449=\"\",IF(B448=0,\"\",SUM($AG$1:AG448)-SUM($U$1:U447)),\"\"),SUM($AG$1:AG448)-SUM($U$1:U447))","v":""},{"$nulls":5},0,{"$f":"IF(AJ448=statistics!$D$3,AB447+AH448-AG448,)","v":0},{"$f":"IF(AND(ROW(AC448)>=statistics!$C$55,ROW(AC448)<=statistics!$D$55),AC447+AH448-AG448,)","v":0},{"$f":"IF(AND(statistics!$C$55<=ROW(A448),ROW(A448)<=statistics!$D$55)=TRUE,AH448-AG448+AA447-INDEX(AA:AA,statistics!$C$55),\"\")","v":""},null,null,0,0,0,"",{"$f":"IF(statistics!$D$3<>0,IF(AJ448=statistics!$D$3,AG448,\"\"),IF(B448<>\"\",AG448,\"\"))","v":""},{"$f":"IF(statistics!$D$3<>0,IF(AJ448=statistics!$D$3,IF(AH448=0,\"\",AH448),\"\"),IF(AH448<>0,AH448,\"\"))","v":""},{"$f":"IF(statistics!$D$3<>0,IF(AJ448=statistics!$D$3,IF(A448=0,\"\",1),\"\"),IF(A448=0,\"\",1))","v":""},"","",null,"",{"$nulls":6},0,null,null,null,"",null,null,"",null,0,null,{"$error":"#NUM!"},{"$error":"#NUM!"},447]
[{"$nulls":4},"","","","","",null,null,"",{"$nulls":6},448,"",{"$f":"IF(A450=0,IF(B450=\"\",IF(B449=0,\"\",SUM($AG$1:AG449)-SUM($U$1:U448)),\"\"),SUM($AG$1:AG449)-SUM($U$1:U448))","v":""},{"$nulls":5},0,{"$f":"IF(AJ449=statistics!$D$3,AB448+AH449-AG449,)","v":0},{"$f":"IF(AND(ROW(AC449)>=statistics!$C$55,ROW(AC449)<=statistics!$D$55),AC448+AH449-AG449,)","v":0},{"$f":"IF(AND(statistics!$C$55<=ROW(A449),ROW(A449)<=statistics!$D$55)=TRUE,AH449-AG449+AA448-INDEX(AA:AA,statistics!$C$55),\"\")","v":""},null,null,0,0,0,"",{"$f":"IF(statistics!$D$3<>0,IF(AJ449=statistics!$D$3,AG449,\"\"),IF(B449<>\"\",AG449,\"\"))","v":""},{"$f":"IF(statistics!$D$3<>0,IF(AJ449=statistics!$D$3,IF(AH449=0,\"\",AH449),\"\"),IF(AH449<>0,AH449,\"\"))","v":""},{"$f":"IF(statistics!$D$3<>0,IF(AJ449=statistics!$D$3,IF(A449=0,\"\",1),\"\"),IF(A449=0,\"\",1))","v":""},"","",null,"",{"$nulls":6},0,null,null,null,"",null,null,"",null,0,null,{"$error":"#NUM!"},{"$error":"#NUM!"},448]
[{"$nulls":4},"",{"$f":"IF(A450=0,\"\",IF(T450=0,\"\",E450/T450))","v":""},"",{"$f":"IF(A451=0,IF(B451=\"\",IF(B450=0,\"\",U450),\"\"),U450)","v":""},{"$f":"IF(A451=0,IF(B451=\"\",IF(B450=0,\"\",S450),\"\"),S450)","v":""},null,null,"",{"$nulls":6},{"$f":"IF(A450=0,S449+1,1)","v":449},"",{"$f":"IF(A451=0,IF(B451=\"\",IF(B450=0,\"\",SUM($AG$1:AG450)-SUM($U$1:U449)),\"\"),SUM($AG$1:AG450)-SUM($U$1:U449))","v":""},{"$nulls":5},0,{"$f":"IF(AJ450=statistics!$D$3,AB449+AH450-AG450,)","v":0},{"$f":"IF(AND(ROW(AC450)>=statistics!$C$55,ROW(AC450)<=statistics!$D$55),AC449+AH450-AG450,)","v":0},{"$f":"IF(AND(statistics!$C$55<=ROW(A450),ROW(A450)<=statistics!$D$55)=TRUE,AH450-AG450+AA449-INDEX(AA:AA,statistics!$C$55),\"\")","v":""},null,null,0,0,0,"",{"$f":"IF(statistics!$D$3<>0,IF(AJ450=statistics!$D$3,AG450,\"\"),IF(B450<>\"\",AG450,\"\"))","v":""},{"$f":"IF(statistics!$D$3<>0,IF(AJ450=statistics!$D$3,IF(AH450=0,\"\",AH450),\"\"),IF(AH450<>0,AH450,\"\"))","v":""},{"$f":"IF(statistics!$D$3<>0,IF(AJ450=statistics!$D$3,IF(A450=0,\"\",1),\"\"),IF(A450=0,\"\",1))","v":""},"","",null,"",{"$nulls":6},0,null,null,null,"",null,null,"",null,0,null,{"$error":"#NUM!"},{"$error":"#NUM!"},449]
[{"$nulls":4},{"$f":"IF(A451=0,\"\",IF(B451<>\"\",SUM(AH451:AH10449)-SUM(AG451:AG10449)-SUM(E452:E10449),\"\"))","v":""},"","","","",null,null,{"$f":"IF(A451=0,\"\",SUM(AI451:AI10449)-SUM(L452:L10449))","v":""},{"$nulls":6},450,{"$f":"IF(A451=0,\"\",SUM(AG451:AG10449)-SUM(T452:T10449))","v":""},{"$f":"IF(A452=0,IF(B452=\"\",IF(B451=0,\"\",SUM($AG$1:AG451)-SUM($U$1:U450)),\"\"),SUM($AG$1:AG451)-SUM($U$1:U450))","v":""},{"$nulls":5},{"$f":"AA450+AH451-AG451","v":0},{"$f":"IF(AJ451=statistics!$D$3,AB450+AH451-AG451,)","v":0},{"$f":"IF(AND(ROW(AC451)>=statistics!$C$55,ROW(AC451)<=statistics!$D$55),AC450+AH451-AG451,)","v":0},{"$f":"IF(AND(statistics!$C$55<=ROW(A451),ROW(A451)<=statistics!$D$55)=TRUE,AH451-AG451+AA450-INDEX(AA:AA,statistics!$C$55),\"\")","v":""},null,null,0,0,{"$f":"IF(J451=0,,D451*J451)","v":0},"",{"$f":"IF(statistics!$D$3<>0,IF(AJ451=statistics!$D$3,AG451,\"\"),IF(B451<>\"\",AG451,\"\"))","v":""},{"$f":"IF(statistics!$D$3<>0,IF(AJ451=statistics!$D$3,IF(AH451=0,\"\",AH451),\"\"),IF(AH451<>0,AH451,\"\"))","v":""},{"$f":"IF(statistics!$D$3<>0,IF(AJ451=statistics!$D$3,IF(A451=0,\"\",1),\"\"),IF(A451=0,\"\",1))","v":""},"","",null,{"$f":"IF(B451=0,\"\",IF(D451=0,IF(D450=0,AQ450+1,1),\"\"))","v":""},{"$nulls":6},{"$f":"J451*D451-J451*K451*(B451+C451)","v":0},null,null,null,{"$f":"IF(B451=$BA$2,ROW(),\"\")","v":""},null,null,{"$f":"IF(B451=$BA$2,INDEX(D:D,SMALL(BB:BB,CELL(\"содержимое\",BG451)))-INDEX(B:B,SMALL(BB:BB,CELL(\"содержимое\",BG451)))-INDEX(C:C,SMALL(BB:BB,CELL(\"содержимое\",BG451))),\"\")","v":""},null,{"$f":"IF($BA$2=B451,BG450+1,BG450)","v":0},null,{"$f":"INDEX(BE:BE,SMALL(BB:BB,CELL(\"содержимое\",BK451)))","v":{"$error":"#NUM!"}},{"$f":"BJ450+BI451","v":{"$error":"#NUM!"}},{"$f":"BK450+1","v":450}]
[{"$nulls":4},"","","","","",null,null,"",{"$nulls":6},451,"",{"$f":"IF(A453=0,IF(B453=\"\",IF(B452=0,\"\",SUM($AG$1:AG452)-SUM($U$1:U451)),\"\"),SUM($AG$1:AG452)-SUM($U$1:U451))","v":""},{"$nulls":5},0,{"$f":"IF(AJ452=statistics!$D$3,AB451+AH452-AG452,)","v":0},{"$f":"IF(AND(ROW(AC452)>=statistics!$C$55,ROW(AC452)<=statistics!$D$55),AC451+AH452-AG452,)","v":0},{"$f":"IF(AND(statistics!$C$55<=ROW(A452),ROW(A452)<=statistics!$D$55)=TRUE,AH452-AG452+AA451-INDEX(AA:AA,statistics!$C$55),\"\")","v":""},null,null,0,0,0,"",{"$f":"IF(statistics!$D$3<>0,IF(AJ452=statistics!$D$3,AG452,\"\"),IF(B452<>\"\",AG452,\"\"))","v":""},{"$f":"IF(statistics!$D$3<>0,IF(AJ452=statistics!$D$3,IF(AH452=0,\"\",AH452),\"\"),IF(AH452<>0,AH452,\"\"))","v":""},{"$f":"IF(statistics!$D$3<>0,IF(AJ452=statistics!$D$3,IF(A452=0,\"\",1),\"\"),IF(A452=0,\"\",1))","v":""},{"$f":"IF(AK452<>\"\",IF(AK451=0,ROW(AK452),ROW(AK452)),\"\")","v":""},{"$f":"IF(A452<>0,IF(MONTH(A452)=AJ451,\"\",MONTH(A452)),\"\")","v":""},null,"",{"$nulls":6},0,null,null,null,"",null,null,"",null,0,null,{"$error":"#NUM!"},{"$error":"#NUM!"},451]
[{"$nulls":4},"","","","","",null,null,"",{"$nulls":6},452,"",{"$f":"IF(A454=0,IF(B454=\"\",IF(B453=0,\"\",SUM($AG$1:AG453)-SUM($U$1:U452)),\"\"),SUM($AG$1:AG453)-SUM($U$1:U452))","v":""},{"$nulls":5},0,{"$f":"IF(AJ453=statistics!$D$3,AB452+AH453-AG453,)","v":0},{"$f":"IF(AND(ROW(AC453)>=statistics!$C$55,ROW(AC453)<=statistics!$D$55),AC452+AH453-AG453,)","v":0},{"$f":"IF(AND(statistics!$C$55<=ROW(A453),ROW(A453)<=statistics!$D$55)=TRUE,AH453-AG453+AA452-INDEX(AA:AA,statistics!$C$55),\"\")","v":""},null,null,{"$f":"IF(J453=0,B453+C453,(B453+C453)-(B453+C453)*J453*K453)","v":0},{"$f":"IF(J453=0,D453,D453*(1-J453))","v":0},0,"",{"$f":"IF(statistics!$D$3<>0,IF(AJ453=statistics!$D$3,AG453,\"\"),IF(B453<>\"\",AG453,\"\"))","v":""},{"$f":"IF(statistics!$D$3<>0,IF(AJ453=statistics!$D$3,IF(AH453=0,\"\",AH453),\"\"),IF(AH453<>0,AH453,\"\"))","v":""},{"$f":"IF(statistics!$D$3<>0,IF(AJ453=statistics!$D$3,IF(A453=0,\"\",1),\"\"),IF(A453=0,\"\",1))","v":""},"","",null,"",{"$nulls":6},0,null,null,null,"",null,null,"",null,0,null,{"$error":"#NUM!"},{"$error":"#NUM!"},452]
[{"$nulls":4},"","","","","",null,null,"",{"$nulls":6},453,"",{"$f":"IF(A455=0,IF(B455=\"\",IF(B454=0,\"\",SUM($AG$1:AG454)-SUM($U$1:U453)),\"\"),SUM($AG$1:AG454)-SUM($U$1:U453))","v":""},{"$nulls":5},0,{"$f":"IF(AJ454=statistics!$D$3,AB453+AH454-AG454,)","v":0},{"$f":"IF(AND(ROW(AC454)>=statistics!$C$55,ROW(AC454)<=statistics!$D$55),AC453+AH454-AG454,)","v":0},{"$f":"IF(AND(statistics!$C$55<=ROW(A454),ROW(A454)<=statistics!$D$55)=TRUE,AH454-AG454+AA453-INDEX(AA:AA,statistics!$C$55),\"\")","v":""},null,null,0,0,0,"",{"$f":"IF(statistics!$D$3<>0,IF(AJ454=statistics!$D$3,AG454,\"\"),IF(B454<>\"\",AG454,\"\"))","v":""},{"$f":"IF(statistics!$D$3<>0,IF(AJ454=statistics!$D$3,IF(AH454=0,\"\",AH454),\"\"),IF(AH454<>0,AH454,\"\"))","v":""},{"$f":"IF(statistics!$D$3<>0,IF(AJ454=statistics!$D$3,IF(A454=0,\"\",1),\"\"),IF(A454=0,\"\",1))","v":""},"","",null,"",{"$nulls":6},0,null,null,null,"",null,null,"",null,0,null,{"$error":"#NUM!"},{"$error":"#NUM!"},453]
[{"$nulls":4},"","","","","",null,null,"",{"$nulls":6},454,"",{"$f":"IF(A456=0,IF(B456=\"\",IF(B455=0,\"\",SUM($AG$1:AG455)-SUM($U$1:U454)),\"\"),SUM($AG$1:AG455)-SUM($U$1:U454))","v":""},{"$nulls":5},0,{"$f":"IF(AJ455=statistics!$D$3,AB454+AH455-AG455,)","v":0},{"$f":"IF(AND(ROW(AC455)>=statistics!$C$55,ROW(AC455)<=statistics!$D$55),AC454+AH455-AG455,)","v":0},{"$f":"IF(AND(statistics!$C$55<=ROW(A455),ROW(A455)<=statistics!$D$55)=TRUE,AH455-AG455+AA454-INDEX(AA:AA,statistics!$C$55),\"\")","v":""},null,null,0,0,0,"",{"$f":"IF(statistics!$D$3<>0,IF(AJ455=statistics!$D$3,AG455,\"\"),IF(B455<>\"\",AG455,\"\"))","v":""},{"$f":"IF(statistics!$D$3<>0,IF(AJ455=statistics!$D$3,IF(AH455=0,\"\",AH455),\"\"),IF(AH455<>0,AH455,\"\"))","v":""},{"$f":"IF(statistics!$D$3<>0,IF(AJ455=statistics!$D$3,IF(A455=0,\"\",1),\"\"),IF(A455=0,\"\",1))","v":""},"","",null,"",{"$nulls":6},0,null,null,null,"",null,null,"",null,0,null,{"$error":"#NUM!"},{"$error":"#NUM!"},454]
[{"$nulls":4},"","","","","",null,null,"",{"$nulls":6},455,"",{"$f":"IF(A457=0,IF(B457=\"\",IF(B456=0,\"\",SUM($AG$1:AG456)-SUM($U$1:U455)),\"\"),SUM($AG$1:AG456)-SUM($U$1:U455))","v":""},{"$nulls":5},0,{"$f":"IF(AJ456=statistics!$D$3,AB455+AH456-AG456,)","v":0},{"$f":"IF(AND(ROW(AC456)>=statistics!$C$55,ROW(AC456)<=statistics!$D$55),AC455+AH456-AG456,)","v":0},{"$f":"IF(AND(statistics!$C$55<=ROW(A456),ROW(A456)<=statistics!$D$55)=TRUE,AH456-AG456+AA455-INDEX(AA:AA,statistics!$C$55),\"\")","v":""},null,null,0,0,0,"",{"$f":"IF(statistics!$D$3<>0,IF(AJ456=statistics!$D$3,AG456,\"\"),IF(B456<>\"\",AG456,\"\"))","v":""},{"$f":"IF(statistics!$D$3<>0,IF(AJ456=statistics!$D$3,IF(AH456=0,\"\",AH456),\"\"),IF(AH456<>0,AH456,\"\"))","v":""},{"$f":"IF(statistics!$D$3<>0,IF(AJ456=statistics!$D$3,IF(A456=0,\"\",1),\"\"),IF(A456=0,\"\",1))","v":""},"","",null,"",{"$nulls":6},0,null,null,null,"",null,null,"",null,0,null,{"$error":"#NUM!"},{"$error":"#NUM!"},455]
[{"$nulls":4},"","","","","",null,null,"",{"$nulls":6},456,"",{"$f":"IF(A458=0,IF(B458=\"\",IF(B457=0,\"\",SUM($AG$1:AG457)-SUM($U$1:U456)),\"\"),SUM($AG$1:AG457)-SUM($U$1:U456))","v":""},{"$nulls":5},0,{"$f":"IF(AJ457=statistics!$D$3,AB456+AH457-AG457,)","v":0},{"$f":"IF(AND(ROW(AC457)>=statistics!$C$55,ROW(AC457)<=statistics!$D$55),AC456+AH457-AG457,)","v":0},{"$f":"IF(AND(statistics!$C$55<=ROW(A457),ROW(A457)<=statistics!$D$55)=TRUE,AH457-AG457+AA456-INDEX(AA:AA,statistics!$C$55),\"\")","v":""},null,null,0,0,0,"",{"$f":"IF(statistics!$D$3<>0,IF(AJ457=statistics!$D$3,AG457,\"\"),IF(B457<>\"\",AG457,\"\"))","v":""},{"$f":"IF(statistics!$D$3<>0,IF(AJ457=statistics!$D$3,IF(AH457=0,\"\",AH457),\"\"),IF(AH457<>0,AH457,\"\"))","v":""},{"$f":"IF(statistics!$D$3<>0,IF(AJ457=statistics!$D$3,IF(A457=0,\"\",1),\"\"),IF(A457=0,\"\",1))","v":""},"","",null,"",{"$nulls":6},0,null,null,null,"",null,null,"",null,0,null,{"$error":"#NUM!"},{"$error":"#NUM!"},456]
[{"$nulls":4},"","","","","",null,null,"",{"$nulls":6},457,"",{"$f":"IF(A459=0,IF(B459=\"\",IF(B458=0,\"\",SUM($AG$1:AG458)-SUM($U$1:U457)),\"\"),SUM($AG$1:AG458)-SUM($U$1:U457))","v":""},{"$nulls":5},0,{"$f":"IF(AJ458=statistics!$D$3,AB457+AH458-AG458,)","v":0},{"$f":"IF(AND(ROW(AC458)>=statistics!$C$55,ROW(AC458)<=statistics!$D$55),AC457+AH458-AG458,)","v":0},{"$f":"IF(AND(statistics!$C$55<=ROW(A458),ROW(A458)<=statistics!$D$55)=TRUE,AH458-AG458+AA457-INDEX(AA:AA,statistics!$C$55),\"\")","v":""},null,null,0,0,0,"",{"$f":"IF(statistics!$D$3<>0,IF(AJ458=statistics!$D$3,AG458,\"\"),IF(B458<>\"\",AG458,\"\"))","v":""},{"$f":"IF(statistics!$D$3<>0,IF(AJ458=statistics!$D$3,IF(AH458=0,\"\",AH458),\"\"),IF(AH458<>0,AH458,\"\"))","v":""},{"$f":"IF(statistics!$D$3<>0,IF(AJ458=statistics!$D$3,IF(A458=0,\"\",1),\"\"),IF(A458=0,\"\",1))","v":""},"","",null,"",{"$nulls":6},0,null,null,null,"",null,null,"",null,0,null,{"$error":"#NUM!"},{"$error":"#NUM!"},457]
[{"$nulls":4},"","","","","",null,null,"",{"$nulls":6},458,"",{"$f":"IF(A460=0,IF(B460=\"\",IF(B459=0,\"\",SUM($AG$1:AG459)-SUM($U$1:U458)),\"\"),SUM($AG$1:AG459)-SUM($U$1:U458))","v":""},{"$nulls":5},0,{"$f":"IF(AJ459=statistics!$D$3,AB458+AH459-AG459,)","v":0},{"$f":"IF(AND(ROW(AC459)>=statistics!$C$55,ROW(AC459)<=statistics!$D$55),AC458+AH459-AG459,)","v":0},{"$f":"IF(AND(statistics!$C$55<=ROW(A459),ROW(A459)<=statistics!$D$55)=TRUE,AH459-AG459+AA458-INDEX(AA:AA,statistics!$C$55),\"\")","v":""},null,null,0,0,0,"",{"$f":"IF(statistics!$D$3<>0,IF(AJ459=statistics!$D$3,AG459,\"\"),IF(B459<>\"\",AG459,\"\"))","v":""},{"$f":"IF(statistics!$D$3<>0,IF(AJ459=statistics!$D$3,IF(AH459=0,\"\",AH459),\"\"),IF(AH459<>0,AH459,\"\"))","v":""},{"$f":"IF(statistics!$D$3<>0,IF(AJ459=statistics!$D$3,IF(A459=0,\"\",1),\"\"),IF(A459=0,\"\",1))","v":""},"","",null,"",{"$nulls":6},0,null,null,null,"",null,null,"",null,0,null,{"$error":"#NUM!"},{"$error":"#NUM!"},458]
[{"$nulls":4},"","","","","",null,null,"",{"$nulls":6},459,"",{"$f":"IF(A461=0,IF(B461=\"\",IF(B460=0,\"\",SUM($AG$1:AG460)-SUM($U$1:U459)),\"\"),SUM($AG$1:AG460)-SUM($U$1:U459))","v":""},{"$nulls":5},0,{"$f":"IF(AJ460=statistics!$D$3,AB459+AH460-AG460,)","v":0},{"$f":"IF(AND(ROW(AC460)>=statistics!$C$55,ROW(AC460)<=statistics!$D$55),AC459+AH460-AG460,)","v":0},{"$f":"IF(AND(statistics!$C$55<=ROW(A460),ROW(A460)<=statistics!$D$55)=TRUE,AH460-AG460+AA459-INDEX(AA:AA,statistics!$C$55),\"\")","v":""},null,null,0,0,0,"",{"$f":"IF(statistics!$D$3<>0,IF(AJ460=statistics!$D$3,AG460,\"\"),IF(B460<>\"\",AG460,\"\"))","v":""},{"$f":"IF(statistics!$D$3<>0,IF(AJ460=statistics!$D$3,IF(AH460=0,\"\",AH460),\"\"),IF(AH460<>0,AH460,\"\"))","v":""},{"$f":"IF(statistics!$D$3<>0,IF(AJ460=statistics!$D$3,IF(A460=0,\"\",1),\"\"),IF(A460=0,\"\",1))","v":""},"","",null,"",{"$nulls":6},0,null,null,null,"",null,null,"",null,0,null,{"$error":"#NUM!"},{"$error":"#NUM!"},459]
[{"$nulls":4},"","","","","",null,null,"",{"$nulls":6},460,"",{"$f":"IF(A462=0,IF(B462=\"\",IF(B461=0,\"\",SUM($AG$1:AG461)-SUM($U$1:U460)),\"\"),SUM($AG$1:AG461)-SUM($U$1:U460))","v":""},{"$nulls":5},0,{"$f":"IF(AJ461=statistics!$D$3,AB460+AH461-AG461,)","v":0},{"$f":"IF(AND(ROW(AC461)>=statistics!$C$55,ROW(AC461)<=statistics!$D$55),AC460+AH461-AG461,)","v":0},{"$f":"IF(AND(statistics!$C$55<=ROW(A461),ROW(A461)<=statistics!$D$55)=TRUE,AH461-AG461+AA460-INDEX(AA:AA,statistics!$C$55),\"\")","v":""},null,null,0,0,0,"",{"$f":"IF(statistics!$D$3<>0,IF(AJ461=statistics!$D$3,AG461,\"\"),IF(B461<>\"\",AG461,\"\"))","v":""},{"$f":"IF(statistics!$D$3<>0,IF(AJ461=statistics!$D$3,IF(AH461=0,\"\",AH461),\"\"),IF(AH461<>0,AH461,\"\"))","v":""},{"$f":"IF(statistics!$D$3<>0,IF(AJ461=statistics!$D$3,IF(A461=0,\"\",1),\"\"),IF(A461=0,\"\",1))","v":""},"","",null,"",{"$nulls":6},0,null,null,null,"",null,null,"",null,0,null,{"$error":"#NUM!"},{"$error":"#NUM!"},460]
[{"$nulls":4},"","","","","",null,null,"",{"$nulls":6},461,"",{"$f":"IF(A463=0,IF(B463=\"\",IF(B462=0,\"\",SUM($AG$1:AG462)-SUM($U$1:U461)),\"\"),SUM($AG$1:AG462)-SUM($U$1:U461))","v":""},{"$nulls":5},0,{"$f":"IF(AJ462=statistics!$D$3,AB461+AH462-AG462,)","v":0},{"$f":"IF(AND(ROW(AC462)>=statistics!$C$55,ROW(AC462)<=statistics!$D$55),AC461+AH462-AG462,)","v":0},{"$f":"IF(AND(statistics!$C$55<=ROW(A462),ROW(A462)<=statistics!$D$55)=TRUE,AH462-AG462+AA461-INDEX(AA:AA,statistics!$C$55),\"\")","v":""},null,null,0,0,0,"",{"$f":"IF(statistics!$D$3<>0,IF(AJ462=statistics!$D$3,AG462,\"\"),IF(B462<>\"\",AG462,\"\"))","v":""},{"$f":"IF(statistics!$D$3<>0,IF(AJ462=statistics!$D$3,IF(AH462=0,\"\",AH462),\"\"),IF(AH462<>0,AH462,\"\"))","v":""},{"$f":"IF(statistics!$D$3<>0,IF(AJ462=statistics!$D$3,IF(A462=0,\"\",1),\"\"),IF(A462=0,\"\",1))","v":""},"","",null,"",{"$nulls":6},0,null,null,null,"",null,null,"",null,0,null,{"$error":"#NUM!"},{"$error":"#NUM!"},461]
[{"$nulls":4},"","","","","",null,null,"",{"$nulls":6},462,"",{"$f":"IF(A464=0,IF(B464=\"\",IF(B463=0,\"\",SUM($AG$1:AG463)-SUM($U$1:U462)),\"\"),SUM($AG$1:AG463)-SUM($U$1:U462))","v":""},{"$nulls":5},0,{"$f":"IF(AJ463=statistics!$D$3,AB462+AH463-AG463,)","v":0},{"$f":"IF(AND(ROW(AC463)>=statistics!$C$55,ROW(AC463)<=statistics!$D$55),AC462+AH463-AG463,)","v":0},{"$f":"IF(AND(statistics!$C$55<=ROW(A463),ROW(A463)<=statistics!$D$55)=TRUE,AH463-AG463+AA462-INDEX(AA:AA,statistics!$C$55),\"\")","v":""},null,null,0,0,0,"",{"$f":"IF(statistics!$D$3<>0,IF(AJ463=statistics!$D$3,AG463,\"\"),IF(B463<>\"\",AG463,\"\"))","v":""},{"$f":"IF(statistics!$D$3<>0,IF(AJ463=statistics!$D$3,IF(AH463=0,\"\",AH463),\"\"),IF(AH463<>0,AH463,\"\"))","v":""},{"$f":"IF(statistics!$D$3<>0,IF(AJ463=statistics!$D$3,IF(A463=0,\"\",1),\"\"),IF(A463=0,\"\",1))","v":""},"","",null,"",{"$nulls":6},0,null,null,null,"",null,null,"",null,0,null,{"$error":"#NUM!"},{"$error":"#NUM!"},462]
[{"$nulls":4},"","","","","",null,null,"",{"$nulls":6},463,"",{"$f":"IF(A465=0,IF(B465=\"\",IF(B464=0,\"\",SUM($AG$1:AG464)-SUM($U$1:U463)),\"\"),SUM($AG$1:AG464)-SUM($U$1:U463))","v":""},{"$nulls":5},0,{"$f":"IF(AJ464=statistics!$D$3,AB463+AH464-AG464,)","v":0},{"$f":"IF(AND(ROW(AC464)>=statistics!$C$55,ROW(AC464)<=statistics!$D$55),AC463+AH464-AG464,)","v":0},{"$f":"IF(AND(statistics!$C$55<=ROW(A464),ROW(A464)<=statistics!$D$55)=TRUE,AH464-AG464+AA463-INDEX(AA:AA,statistics!$C$55),\"\")","v":""},null,null,0,0,0,"",{"$f":"IF(statistics!$D$3<>0,IF(AJ464=statistics!$D$3,AG464,\"\"),IF(B464<>\"\",AG464,\"\"))","v":""},{"$f":"IF(statistics!$D$3<>0,IF(AJ464=statistics!$D$3,IF(AH464=0,\"\",AH464),\"\"),IF(AH464<>0,AH464,\"\"))","v":""},{"$f":"IF(statistics!$D$3<>0,IF(AJ464=statistics!$D$3,IF(A464=0,\"\",1),\"\"),IF(A464=0,\"\",1))","v":""},"","",null,"",{"$nulls":6},0,null,null,null,"",null,null,"",null,0,null,{"$error":"#NUM!"},{"$error":"#NUM!"},463]
[{"$nulls":4},"","",{"$f":"IF(A466=0,IF(B466=\"\",IF(B465=0,\"\",U465/S465),\"\"),U465/S465)","v":""},"","",null,null,"",{"$nulls":6},464,"",{"$f":"IF(A466=0,IF(B466=\"\",IF(B465=0,\"\",SUM($AG$1:AG465)-SUM($U$1:U464)),\"\"),SUM($AG$1:AG465)-SUM($U$1:U464))","v":""},{"$nulls":5},0,{"$f":"IF(AJ465=statistics!$D$3,AB464+AH465-AG465,)","v":0},{"$f":"IF(AND(ROW(AC465)>=statistics!$C$55,ROW(AC465)<=statistics!$D$55),AC464+AH465-AG465,)","v":0},{"$f":"IF(AND(statistics!$C$55<=ROW(A465),ROW(A465)<=statistics!$D$55)=TRUE,AH465-AG465+AA464-INDEX(AA:AA,statistics!$C$55),\"\")","v":""},null,null,0,0,0,"",{"$f":"IF(statistics!$D$3<>0,IF(AJ465=statistics!$D$3,AG465,\"\"),IF(B465<>\"\",AG465,\"\"))","v":""},{"$f":"IF(statistics!$D$3<>0,IF(AJ465=statistics!$D$3,IF(AH465=0,\"\",AH465),\"\"),IF(AH465<>0,AH465,\"\"))","v":""},{"$f":"IF(statistics!$D$3<>0,IF(AJ465=statistics!$D$3,IF(A465=0,\"\",1),\"\"),IF(A465=0,\"\",1))","v":""},"","",null,"",{"$nulls":6},0,null,null,null,"",null,null,"",null,0,null,{"$error":"#NUM!"},{"$error":"#NUM!"},464]
[{"$nulls":4},"","","","","",null,null,"",{"$nulls":6},465,"",{"$f":"IF(A467=0,IF(B467=\"\",IF(B466=0,\"\",SUM($AG$1:AG466)-SUM($U$1:U465)),\"\"),SUM($AG$1:AG466)-SUM($U$1:U465))","v":""},{"$nulls":5},0,{"$f":"IF(AJ466=statistics!$D$3,AB465+AH466-AG466,)","v":0},{"$f":"IF(AND(ROW(AC466)>=statistics!$C$55,ROW(AC466)<=statistics!$D$55),AC465+AH466-AG466,)","v":0},{"$f":"IF(AND(statistics!$C$55<=ROW(A466),ROW(A466)<=statistics!$D$55)=TRUE,AH466-AG466+AA465-INDEX(AA:AA,statistics!$C$55),\"\")","v":""},null,null,0,0,0,"",{"$f":"IF(statistics!$D$3<>0,IF(AJ466=statistics!$D$3,AG466,\"\"),IF(B466<>\"\",AG466,\"\"))","v":""},{"$f":"IF(statistics!$D$3<>0,IF(AJ466=statistics!$D$3,IF(AH466=0,\"\",AH466),\"\"),IF(AH466<>0,AH466,\"\"))","v":""},{"$f":"IF(statistics!$D$3<>0,IF(AJ466=statistics!$D$3,IF(A466=0,\"\",1),\"\"),IF(A466=0,\"\",1))","v":""},"","",null,"",{"$nulls":6},0,null,null,null,"",null,null,"",null,0,null,{"$error":"#NUM!"},{"$error":"#NUM!"},465]
[{"$nulls":4},"","","","","",null,null,"",{"$nulls":6},466,"",{"$f":"IF(A468=0,IF(B468=\"\",IF(B467=0,\"\",SUM($AG$1:AG467)-SUM($U$1:U466)),\"\"),SUM($AG$1:AG467)-SUM($U$1:U466))","v":""},{"$nulls":5},0,{"$f":"IF(AJ467=statistics!$D$3,AB466+AH467-AG467,)","v":0},{"$f":"IF(AND(ROW(AC467)>=statistics!$C$55,ROW(AC467)<=statistics!$D$55),AC466+AH467-AG467,)","v":0},{"$f":"IF(AND(statistics!$C$55<=ROW(A467),ROW(A467)<=statistics!$D$55)=TRUE,AH467-AG467+AA466-INDEX(AA:AA,statistics!$C$55),\"\")","v":""},null,null,0,0,0,"",{"$f":"IF(statistics!$D$3<>0,IF(AJ467=statistics!$D$3,AG467,\"\"),IF(B467<>\"\",AG467,\"\"))","v":""},{"$f":"IF(statistics!$D$3<>0,IF(AJ467=statistics!$D$3,IF(AH467=0,\"\",AH467),\"\"),IF(AH467<>0,AH467,\"\"))","v":""},{"$f":"IF(statistics!$D$3<>0,IF(AJ467=statistics!$D$3,IF(A467=0,\"\",1),\"\"),IF(A467=0,\"\",1))","v":""},"","",null,"",{"$nulls":6},0,null,null,null,"",null,null,"",null,0,null,{"$error":"#NUM!"},{"$error":"#NUM!"},466]
[{"$nulls":4},"","","","","",null,null,"",{"$nulls":6},467,"",{"$f":"IF(A469=0,IF(B469=\"\",IF(B468=0,\"\",SUM($AG$1:AG468)-SUM($U$1:U467)),\"\"),SUM($AG$1:AG468)-SUM($U$1:U467))","v":""},{"$nulls":5},0,{"$f":"IF(AJ468=statistics!$D$3,AB467+AH468-AG468,)","v":0},{"$f":"IF(AND(ROW(AC468)>=statistics!$C$55,ROW(AC468)<=statistics!$D$55),AC467+AH468-AG468,)","v":0},{"$f":"IF(AND(statistics!$C$55<=ROW(A468),ROW(A468)<=statistics!$D$55)=TRUE,AH468-AG468+AA467-INDEX(AA:AA,statistics!$C$55),\"\")","v":""},null,null,0,0,0,{"$f":"IF(A468<>0,MONTH(A468),IF(B468=\"\",\"\",AJ467))","v":""},{"$f":"IF(statistics!$D$3<>0,IF(AJ468=statistics!$D$3,AG468,\"\"),IF(B468<>\"\",AG468,\"\"))","v":""},{"$f":"IF(statistics!$D$3<>0,IF(AJ468=statistics!$D$3,IF(AH468=0,\"\",AH468),\"\"),IF(AH468<>0,AH468,\"\"))","v":""},{"$f":"IF(statistics!$D$3<>0,IF(AJ468=statistics!$D$3,IF(A468=0,\"\",1),\"\"),IF(A468=0,\"\",1))","v":""},"","",null,"",{"$nulls":6},0,null,null,null,"",null,null,"",null,0,null,{"$error":"#NUM!"},{"$error":"#NUM!"},467]
[{"$nulls":4},"","","","","",null,null,"",{"$nulls":6},468,"",{"$f":"IF(A470=0,IF(B470=\"\",IF(B469=0,\"\",SUM($AG$1:AG469)-SUM($U$1:U468)),\"\"),SUM($AG$1:AG469)-SUM($U$1:U468))","v":""},{"$nulls":5},0,{"$f":"IF(AJ469=statistics!$D$3,AB468+AH469-AG469,)","v":0},{"$f":"IF(AND(ROW(AC469)>=statistics!$C$55,ROW(AC469)<=statistics!$D$55),AC468+AH469-AG469,)","v":0},{"$f":"IF(AND(statistics!$C$55<=ROW(A469),ROW(A469)<=statistics!$D$55)=TRUE,AH469-AG469+AA468-INDEX(AA:AA,statistics!$C$55),\"\")","v":""},null,null,0,0,0,"",{"$f":"IF(statistics!$D$3<>0,IF(AJ469=statistics!$D$3,AG469,\"\"),IF(B469<>\"\",AG469,\"\"))","v":""},{"$f":"IF(statistics!$D$3<>0,IF(AJ469=statistics!$D$3,IF(AH469=0,\"\",AH469),\"\"),IF(AH469<>0,AH469,\"\"))","v":""},{"$f":"IF(statistics!$D$3<>0,IF(AJ469=statistics!$D$3,IF(A469=0,\"\",1),\"\"),IF(A469=0,\"\",1))","v":""},"","",null,"",{"$nulls":6},0,null,null,null,"",null,null,"",null,0,null,{"$error":"#NUM!"},{"$error":"#NUM!"},468]
[{"$nulls":4},"","","","","",null,null,"",{"$nulls":6},469,"",{"$f":"IF(A471=0,IF(B471=\"\",IF(B470=0,\"\",SUM($AG$1:AG470)-SUM($U$1:U469)),\"\"),SUM($AG$1:AG470)-SUM($U$1:U469))","v":""},{"$nulls":5},0,{"$f":"IF(AJ470=statistics!$D$3,AB469+AH470-AG470,)","v":0},{"$f":"IF(AND(ROW(AC470)>=statistics!$C$55,ROW(AC470)<=statistics!$D$55),AC469+AH470-AG470,)","v":0},{"$f":"IF(AND(statistics!$C$55<=ROW(A470),ROW(A470)<=statistics!$D$55)=TRUE,AH470-AG470+AA469-INDEX(AA:AA,statistics!$C$55),\"\")","v":""},null,null,0,0,0,"",{"$f":"IF(statistics!$D$3<>0,IF(AJ470=statistics!$D$3,AG470,\"\"),IF(B470<>\"\",AG470,\"\"))","v":""},{"$f":"IF(statistics!$D$3<>0,IF(AJ470=statistics!$D$3,IF(AH470=0,\"\",AH470),\"\"),IF(AH470<>0,AH470,\"\"))","v":""},{"$f":"IF(statistics!$D$3<>0,IF(AJ470=statistics!$D$3,IF(A470=0,\"\",1),\"\"),IF(A470=0,\"\",1))","v":""},"","",null,"",{"$nulls":6},0,null,null,null,"",null,null,"",null,0,null,{"$error":"#NUM!"},{"$error":"#NUM!"},469]
[{"$nulls":4},"","","","","",null,null,"",{"$nulls":6},470,"",{"$f":"IF(A472=0,IF(B472=\"\",IF(B471=0,\"\",SUM($AG$1:AG471)-SUM($U$1:U470)),\"\"),SUM($AG$1:AG471)-SUM($U$1:U470))","v":""},{"$nulls":5},0,{"$f":"IF(AJ471=statistics!$D$3,AB470+AH471-AG471,)","v":0},{"$f":"IF(AND(ROW(AC471)>=statistics!$C$55,ROW(AC471)<=statistics!$D$55),AC470+AH471-AG471,)","v":0},{"$f":"IF(AND(statistics!$C$55<=ROW(A471),ROW(A471)<=statistics!$D$55)=TRUE,AH471-AG471+AA470-INDEX(AA:AA,statistics!$C$55),\"\")","v":""},null,null,0,0,0,"",{"$f":"IF(statistics!$D$3<>0,IF(AJ471=statistics!$D$3,AG471,\"\"),IF(B471<>\"\",AG471,\"\"))","v":""},{"$f":"IF(statistics!$D$3<>0,IF(AJ471=statistics!$D$3,IF(AH471=0,\"\",AH471),\"\"),IF(AH471<>0,AH471,\"\"))","v":""},{"$f":"IF(statistics!$D$3<>0,IF(AJ471=statistics!$D$3,IF(A471=0,\"\",1),\"\"),IF(A471=0,\"\",1))","v":""},"","",null,"",{"$nulls":6},0,null,null,null,"",null,null,"",null,0,null,{"$error":"#NUM!"},{"$error":"#NUM!"},470]
[{"$nulls":4},"","","","","",null,null,"",{"$nulls":6},471,"",{"$f":"IF(A473=0,IF(B473=\"\",IF(B472=0,\"\",SUM($AG$1:AG472)-SUM($U$1:U471)),\"\"),SUM($AG$1:AG472)-SUM($U$1:U471))","v":""},{"$nulls":5},0,{"$f":"IF(AJ472=statistics!$D$3,AB471+AH472-AG472,)","v":0},{"$f":"IF(AND(ROW(AC472)>=statistics!$C$55,ROW(AC472)<=statistics!$D$55),AC471+AH472-AG472,)","v":0},{"$f":"IF(AND(statistics!$C$55<=ROW(A472),ROW(A472)<=statistics!$D$55)=TRUE,AH472-AG472+AA471-INDEX(AA:AA,statistics!$C$55),\"\")","v":""},null,null,0,0,0,"",{"$f":"IF(statistics!$D$3<>0,IF(AJ472=statistics!$D$3,AG472,\"\"),IF(B472<>\"\",AG472,\"\"))","v":""},{"$f":"IF(statistics!$D$3<>0,IF(AJ472=statistics!$D$3,IF(AH472=0,\"\",AH472),\"\"),IF(AH472<>0,AH472,\"\"))","v":""},{"$f":"IF(statistics!$D$3<>0,IF(AJ472=statistics!$D$3,IF(A472=0,\"\",1),\"\"),IF(A472=0,\"\",1))","v":""},"","",null,"",{"$nulls":6},0,null,null,null,"",null,null,"",null,0,null,{"$error":"#NUM!"},{"$error":"#NUM!"},471]
[{"$nulls":4},"","","","","",null,null,"",{"$nulls":6},472,"",{"$f":"IF(A474=0,IF(B474=\"\",IF(B473=0,\"\",SUM($AG$1:AG473)-SUM($U$1:U472)),\"\"),SUM($AG$1:AG473)-SUM($U$1:U472))","v":""},{"$nulls":5},0,{"$f":"IF(AJ473=statistics!$D$3,AB472+AH473-AG473,)","v":0},{"$f":"IF(AND(ROW(AC473)>=statistics!$C$55,ROW(AC473)<=statistics!$D$55),AC472+AH473-AG473,)","v":0},{"$f":"IF(AND(statistics!$C$55<=ROW(A473),ROW(A473)<=statistics!$D$55)=TRUE,AH473-AG473+AA472-INDEX(AA:AA,statistics!$C$55),\"\")","v":""},null,null,0,0,0,"",{"$f":"IF(statistics!$D$3<>0,IF(AJ473=statistics!$D$3,AG473,\"\"),IF(B473<>\"\",AG473,\"\"))","v":""},{"$f":"IF(statistics!$D$3<>0,IF(AJ473=statistics!$D$3,IF(AH473=0,\"\",AH473),\"\"),IF(AH473<>0,AH473,\"\"))","v":""},{"$f":"IF(statistics!$D$3<>0,IF(AJ473=statistics!$D$3,IF(A473=0,\"\",1),\"\"),IF(A473=0,\"\",1))","v":""},"","",null,"",{"$nulls":6},0,null,null,null,"",null,null,"",null,0,null,{"$error":"#NUM!"},{"$error":"#NUM!"},472]
[{"$nulls":4},"","","","","",null,null,"",{"$nulls":6},473,"",{"$f":"IF(A475=0,IF(B475=\"\",IF(B474=0,\"\",SUM($AG$1:AG474)-SUM($U$1:U473)),\"\"),SUM($AG$1:AG474)-SUM($U$1:U473))","v":""},{"$nulls":5},0,{"$f":"IF(AJ474=statistics!$D$3,AB473+AH474-AG474,)","v":0},{"$f":"IF(AND(ROW(AC474)>=statistics!$C$55,ROW(AC474)<=statistics!$D$55),AC473+AH474-AG474,)","v":0},{"$f":"IF(AND(statistics!$C$55<=ROW(A474),ROW(A474)<=statistics!$D$55)=TRUE,AH474-AG474+AA473-INDEX(AA:AA,statistics!$C$55),\"\")","v":""},null,null,0,0,0,"",{"$f":"IF(statistics!$D$3<>0,IF(AJ474=statistics!$D$3,AG474,\"\"),IF(B474<>\"\",AG474,\"\"))","v":""},{"$f":"IF(statistics!$D$3<>0,IF(AJ474=statistics!$D$3,IF(AH474=0,\"\",AH474),\"\"),IF(AH474<>0,AH474,\"\"))","v":""},{"$f":"IF(statistics!$D$3<>0,IF(AJ474=statistics!$D$3,IF(A474=0,\"\",1),\"\"),IF(A474=0,\"\",1))","v":""},"","",null,"",{"$nulls":6},0,null,null,null,"",null,null,"",null,0,null,{"$error":"#NUM!"},{"$error":"#NUM!"},473]
[{"$nulls":4},"","","","","",null,null,"",{"$nulls":6},474,"",{"$f":"IF(A476=0,IF(B476=\"\",IF(B475=0,\"\",SUM($AG$1:AG475)-SUM($U$1:U474)),\"\"),SUM($AG$1:AG475)-SUM($U$1:U474))","v":""},{"$nulls":5},0,{"$f":"IF(AJ475=statistics!$D$3,AB474+AH475-AG475,)","v":0},{"$f":"IF(AND(ROW(AC475)>=statistics!$C$55,ROW(AC475)<=statistics!$D$55),AC474+AH475-AG475,)","v":0},{"$f":"IF(AND(statistics!$C$55<=ROW(A475),ROW(A475)<=statistics!$D$55)=TRUE,AH475-AG475+AA474-INDEX(AA:AA,statistics!$C$55),\"\")","v":""},null,null,0,0,0,"",{"$f":"IF(statistics!$D$3<>0,IF(AJ475=statistics!$D$3,AG475,\"\"),IF(B475<>\"\",AG475,\"\"))","v":""},{"$f":"IF(statistics!$D$3<>0,IF(AJ475=statistics!$D$3,IF(AH475=0,\"\",AH475),\"\"),IF(AH475<>0,AH475,\"\"))","v":""},{"$f":"IF(statistics!$D$3<>0,IF(AJ475=statistics!$D$3,IF(A475=0,\"\",1),\"\"),IF(A475=0,\"\",1))","v":""},"","",null,"",{"$nulls":6},0,null,null,null,"",null,null,"",null,0,null,{"$error":"#NUM!"},{"$error":"#NUM!"},474]
[{"$nulls":4},"","","","","",null,null,"",{"$nulls":6},475,"",{"$f":"IF(A477=0,IF(B477=\"\",IF(B476=0,\"\",SUM($AG$1:AG476)-SUM($U$1:U475)),\"\"),SUM($AG$1:AG476)-SUM($U$1:U475))","v":""},{"$nulls":5},0,{"$f":"IF(AJ476=statistics!$D$3,AB475+AH476-AG476,)","v":0},{"$f":"IF(AND(ROW(AC476)>=statistics!$C$55,ROW(AC476)<=statistics!$D$55),AC475+AH476-AG476,)","v":0},{"$f":"IF(AND(statistics!$C$55<=ROW(A476),ROW(A476)<=statistics!$D$55)=TRUE,AH476-AG476+AA475-INDEX(AA:AA,statistics!$C$55),\"\")","v":""},null,null,0,0,0,"",{"$f":"IF(statistics!$D$3<>0,IF(AJ476=statistics!$D$3,AG476,\"\"),IF(B476<>\"\",AG476,\"\"))","v":""},{"$f":"IF(statistics!$D$3<>0,IF(AJ476=statistics!$D$3,IF(AH476=0,\"\",AH476),\"\"),IF(AH476<>0,AH476,\"\"))","v":""},{"$f":"IF(statistics!$D$3<>0,IF(AJ476=statistics!$D$3,IF(A476=0,\"\",1),\"\"),IF(A476=0,\"\",1))","v":""},"","",null,"",{"$nulls":6},0,null,null,null,"",null,null,"",null,0,null,{"$error":"#NUM!"},{"$error":"#NUM!"},475]
[{"$nulls":4},"","","","","",null,null,"",{"$nulls":6},476,"",{"$f":"IF(A478=0,IF(B478=\"\",IF(B477=0,\"\",SUM($AG$1:AG477)-SUM($U$1:U476)),\"\"),SUM($AG$1:AG477)-SUM($U$1:U476))","v":""},{"$nulls":5},0,{"$f":"IF(AJ477=statistics!$D$3,AB476+AH477-AG477,)","v":0},{"$f":"IF(AND(ROW(AC477)>=statistics!$C$55,ROW(AC477)<=statistics!$D$55),AC476+AH477-AG477,)","v":0},{"$f":"IF(AND(statistics!$C$55<=ROW(A477),ROW(A477)<=statistics!$D$55)=TRUE,AH477-AG477+AA476-INDEX(AA:AA,statistics!$C$55),\"\")","v":""},null,null,0,0,0,"",{"$f":"IF(statistics!$D$3<>0,IF(AJ477=statistics!$D$3,AG477,\"\"),IF(B477<>\"\",AG477,\"\"))","v":""},{"$f":"IF(statistics!$D$3<>0,IF(AJ477=statistics!$D$3,IF(AH477=0,\"\",AH477),\"\"),IF(AH477<>0,AH477,\"\"))","v":""},{"$f":"IF(statistics!$D$3<>0,IF(AJ477=statistics!$D$3,IF(A477=0,\"\",1),\"\"),IF(A477=0,\"\",1))","v":""},"","",null,"",{"$nulls":6},0,null,null,null,"",null,null,"",null,0,null,{"$error":"#NUM!"},{"$error":"#NUM!"},476]
[{"$nulls":4},"","","","","",null,null,"",{"$nulls":6},477,"",{"$f":"IF(A479=0,IF(B479=\"\",IF(B478=0,\"\",SUM($AG$1:AG478)-SUM($U$1:U477)),\"\"),SUM($AG$1:AG478)-SUM($U$1:U477))","v":""},{"$nulls":5},0,{"$f":"IF(AJ478=statistics!$D$3,AB477+AH478-AG478,)","v":0},{"$f":"IF(AND(ROW(AC478)>=statistics!$C$55,ROW(AC478)<=statistics!$D$55),AC477+AH478-AG478,)","v":0},{"$f":"IF(AND(statistics!$C$55<=ROW(A478),ROW(A478)<=statistics!$D$55)=TRUE,AH478-AG478+AA477-INDEX(AA:AA,statistics!$C$55),\"\")","v":""},null,null,0,0,0,"",{"$f":"IF(statistics!$D$3<>0,IF(AJ478=statistics!$D$3,AG478,\"\"),IF(B478<>\"\",AG478,\"\"))","v":""},{"$f":"IF(statistics!$D$3<>0,IF(AJ478=statistics!$D$3,IF(AH478=0,\"\",AH478),\"\"),IF(AH478<>0,AH478,\"\"))","v":""},{"$f":"IF(statistics!$D$3<>0,IF(AJ478=statistics!$D$3,IF(A478=0,\"\",1),\"\"),IF(A478=0,\"\",1))","v":""},"","",null,"",{"$nulls":6},0,null,null,null,"",null,null,"",null,0,null,{"$error":"#NUM!"},{"$error":"#NUM!"},477]
[{"$nulls":4},"","","","","",null,null,"",{"$nulls":6},478,"",{"$f":"IF(A480=0,IF(B480=\"\",IF(B479=0,\"\",SUM($AG$1:AG479)-SUM($U$1:U478)),\"\"),SUM($AG$1:AG479)-SUM($U$1:U478))","v":""},{"$nulls":5},0,{"$f":"IF(AJ479=statistics!$D$3,AB478+AH479-AG479,)","v":0},{"$f":"IF(AND(ROW(AC479)>=statistics!$C$55,ROW(AC479)<=statistics!$D$55),AC478+AH479-AG479,)","v":0},{"$f":"IF(AND(statistics!$C$55<=ROW(A479),ROW(A479)<=statistics!$D$55)=TRUE,AH479-AG479+AA478-INDEX(AA:AA,statistics!$C$55),\"\")","v":""},null,null,0,0,0,"",{"$f":"IF(statistics!$D$3<>0,IF(AJ479=statistics!$D$3,AG479,\"\"),IF(B479<>\"\",AG479,\"\"))","v":""},{"$f":"IF(statistics!$D$3<>0,IF(AJ479=statistics!$D$3,IF(AH479=0,\"\",AH479),\"\"),IF(AH479<>0,AH479,\"\"))","v":""},{"$f":"IF(statistics!$D$3<>0,IF(AJ479=statistics!$D$3,IF(A479=0,\"\",1),\"\"),IF(A479=0,\"\",1))","v":""},"","",null,"",{"$nulls":6},0,null,null,null,"",null,null,"",null,0,null,{"$error":"#NUM!"},{"$error":"#NUM!"},478]
[{"$nulls":4},"","","","","",null,null,"",{"$nulls":6},479,"",{"$f":"IF(A481=0,IF(B481=\"\",IF(B480=0,\"\",SUM($AG$1:AG480)-SUM($U$1:U479)),\"\"),SUM($AG$1:AG480)-SUM($U$1:U479))","v":""},{"$nulls":5},0,{"$f":"IF(AJ480=statistics!$D$3,AB479+AH480-AG480,)","v":0},{"$f":"IF(AND(ROW(AC480)>=statistics!$C$55,ROW(AC480)<=statistics!$D$55),AC479+AH480-AG480,)","v":0},{"$f":"IF(AND(statistics!$C$55<=ROW(A480),ROW(A480)<=statistics!$D$55)=TRUE,AH480-AG480+AA479-INDEX(AA:AA,statistics!$C$55),\"\")","v":""},null,null,0,0,0,"",{"$f":"IF(statistics!$D$3<>0,IF(AJ480=statistics!$D$3,AG480,\"\"),IF(B480<>\"\",AG480,\"\"))","v":""},{"$f":"IF(statistics!$D$3<>0,IF(AJ480=statistics!$D$3,IF(AH480=0,\"\",AH480),\"\"),IF(AH480<>0,AH480,\"\"))","v":""},{"$f":"IF(statistics!$D$3<>0,IF(AJ480=statistics!$D$3,IF(A480=0,\"\",1),\"\"),IF(A480=0,\"\",1))","v":""},"","",null,"",{"$nulls":6},0,null,null,null,"",null,null,"",null,0,null,{"$error":"#NUM!"},{"$error":"#NUM!"},479]
[{"$nulls":4},"","","","","",null,null,"",{"$nulls":6},480,"",{"$f":"IF(A482=0,IF(B482=\"\",IF(B481=0,\"\",SUM($AG$1:AG481)-SUM($U$1:U480)),\"\"),SUM($AG$1:AG481)-SUM($U$1:U480))","v":""},{"$nulls":5},0,{"$f":"IF(AJ481=statistics!$D$3,AB480+AH481-AG481,)","v":0},{"$f":"IF(AND(ROW(AC481)>=statistics!$C$55,ROW(AC481)<=statistics!$D$55),AC480+AH481-AG481,)","v":0},{"$f":"IF(AND(statistics!$C$55<=ROW(A481),ROW(A481)<=statistics!$D$55)=TRUE,AH481-AG481+AA480-INDEX(AA:AA,statistics!$C$55),\"\")","v":""},null,null,0,0,0,"",{"$f":"IF(statistics!$D$3<>0,IF(AJ481=statistics!$D$3,AG481,\"\"),IF(B481<>\"\",AG481,\"\"))","v":""},{"$f":"IF(statistics!$D$3<>0,IF(AJ481=statistics!$D$3,IF(AH481=0,\"\",AH481),\"\"),IF(AH481<>0,AH481,\"\"))","v":""},{"$f":"IF(statistics!$D$3<>0,IF(AJ481=statistics!$D$3,IF(A481=0,\"\",1),\"\"),IF(A481=0,\"\",1))","v":""},"","",null,"",{"$nulls":6},0,null,null,null,"",null,null,"",null,0,null,{"$error":"#NUM!"},{"$error":"#NUM!"},480]
[{"$nulls":4},"","","","","",null,null,"",{"$nulls":6},481,"",{"$f":"IF(A483=0,IF(B483=\"\",IF(B482=0,\"\",SUM($AG$1:AG482)-SUM($U$1:U481)),\"\"),SUM($AG$1:AG482)-SUM($U$1:U481))","v":""},{"$nulls":5},0,{"$f":"IF(AJ482=statistics!$D$3,AB481+AH482-AG482,)","v":0},{"$f":"IF(AND(ROW(AC482)>=statistics!$C$55,ROW(AC482)<=statistics!$D$55),AC481+AH482-AG482,)","v":0},{"$f":"IF(AND(statistics!$C$55<=ROW(A482),ROW(A482)<=statistics!$D$55)=TRUE,AH482-AG482+AA481-INDEX(AA:AA,statistics!$C$55),\"\")","v":""},null,null,0,0,0,"",{"$f":"IF(statistics!$D$3<>0,IF(AJ482=statistics!$D$3,AG482,\"\"),IF(B482<>\"\",AG482,\"\"))","v":""},{"$f":"IF(statistics!$D$3<>0,IF(AJ482=statistics!$D$3,IF(AH482=0,\"\",AH482),\"\"),IF(AH482<>0,AH482,\"\"))","v":""},{"$f":"IF(statistics!$D$3<>0,IF(AJ482=statistics!$D$3,IF(A482=0,\"\",1),\"\"),IF(A482=0,\"\",1))","v":""},"","",null,"",{"$nulls":6},0,null,null,null,"",null,null,"",null,0,null,{"$error":"#NUM!"},{"$error":"#NUM!"},481]
[{"$nulls":4},"","","","","",null,null,"",{"$nulls":6},482,"",{"$f":"IF(A484=0,IF(B484=\"\",IF(B483=0,\"\",SUM($AG$1:AG483)-SUM($U$1:U482)),\"\"),SUM($AG$1:AG483)-SUM($U$1:U482))","v":""},{"$nulls":5},0,{"$f":"IF(AJ483=statistics!$D$3,AB482+AH483-AG483,)","v":0},{"$f":"IF(AND(ROW(AC483)>=statistics!$C$55,ROW(AC483)<=statistics!$D$55),AC482+AH483-AG483,)","v":0},{"$f":"IF(AND(statistics!$C$55<=ROW(A483),ROW(A483)<=statistics!$D$55)=TRUE,AH483-AG483+AA482-INDEX(AA:AA,statistics!$C$55),\"\")","v":""},null,null,0,0,0,"",{"$f":"IF(statistics!$D$3<>0,IF(AJ483=statistics!$D$3,AG483,\"\"),IF(B483<>\"\",AG483,\"\"))","v":""},{"$f":"IF(statistics!$D$3<>0,IF(AJ483=statistics!$D$3,IF(AH483=0,\"\",AH483),\"\"),IF(AH483<>0,AH483,\"\"))","v":""},{"$f":"IF(statistics!$D$3<>0,IF(AJ483=statistics!$D$3,IF(A483=0,\"\",1),\"\"),IF(A483=0,\"\",1))","v":""},"","",null,"",{"$nulls":6},0,null,null,null,"",null,null,"",null,0,null,{"$error":"#NUM!"},{"$error":"#NUM!"},482]
[{"$nulls":4},"","","","","",null,null,"",{"$nulls":6},483,"",{"$f":"IF(A485=0,IF(B485=\"\",IF(B484=0,\"\",SUM($AG$1:AG484)-SUM($U$1:U483)),\"\"),SUM($AG$1:AG484)-SUM($U$1:U483))","v":""},{"$nulls":5},0,{"$f":"IF(AJ484=statistics!$D$3,AB483+AH484-AG484,)","v":0},{"$f":"IF(AND(ROW(AC484)>=statistics!$C$55,ROW(AC484)<=statistics!$D$55),AC483+AH484-AG484,)","v":0},{"$f":"IF(AND(statistics!$C$55<=ROW(A484),ROW(A484)<=statistics!$D$55)=TRUE,AH484-AG484+AA483-INDEX(AA:AA,statistics!$C$55),\"\")","v":""},null,null,0,0,0,"",{"$f":"IF(statistics!$D$3<>0,IF(AJ484=statistics!$D$3,AG484,\"\"),IF(B484<>\"\",AG484,\"\"))","v":""},{"$f":"IF(statistics!$D$3<>0,IF(AJ484=statistics!$D$3,IF(AH484=0,\"\",AH484),\"\"),IF(AH484<>0,AH484,\"\"))","v":""},{"$f":"IF(statistics!$D$3<>0,IF(AJ484=statistics!$D$3,IF(A484=0,\"\",1),\"\"),IF(A484=0,\"\",1))","v":""},"","",null,"",{"$nulls":6},0,null,null,null,"",null,null,"",null,0,null,{"$error":"#NUM!"},{"$error":"#NUM!"},483]
[{"$nulls":4},"","","","","",null,null,"",{"$nulls":6},484,"",{"$f":"IF(A486=0,IF(B486=\"\",IF(B485=0,\"\",SUM($AG$1:AG485)-SUM($U$1:U484)),\"\"),SUM($AG$1:AG485)-SUM($U$1:U484))","v":""},{"$nulls":5},0,{"$f":"IF(AJ485=statistics!$D$3,AB484+AH485-AG485,)","v":0},{"$f":"IF(AND(ROW(AC485)>=statistics!$C$55,ROW(AC485)<=statistics!$D$55),AC484+AH485-AG485,)","v":0},{"$f":"IF(AND(statistics!$C$55<=ROW(A485),ROW(A485)<=statistics!$D$55)=TRUE,AH485-AG485+AA484-INDEX(AA:AA,statistics!$C$55),\"\")","v":""},null,null,0,0,0,"",{"$f":"IF(statistics!$D$3<>0,IF(AJ485=statistics!$D$3,AG485,\"\"),IF(B485<>\"\",AG485,\"\"))","v":""},{"$f":"IF(statistics!$D$3<>0,IF(AJ485=statistics!$D$3,IF(AH485=0,\"\",AH485),\"\"),IF(AH485<>0,AH485,\"\"))","v":""},{"$f":"IF(statistics!$D$3<>0,IF(AJ485=statistics!$D$3,IF(A485=0,\"\",1),\"\"),IF(A485=0,\"\",1))","v":""},"","",null,"",{"$nulls":6},0,null,null,null,"",null,null,"",null,0,null,{"$error":"#NUM!"},{"$error":"#NUM!"},484]
[{"$nulls":4},"","","","","",null,null,"",{"$nulls":6},485,"",{"$f":"IF(A487=0,IF(B487=\"\",IF(B486=0,\"\",SUM($AG$1:AG486)-SUM($U$1:U485)),\"\"),SUM($AG$1:AG486)-SUM($U$1:U485))","v":""},{"$nulls":5},0,{"$f":"IF(AJ486=statistics!$D$3,AB485+AH486-AG486,)","v":0},{"$f":"IF(AND(ROW(AC486)>=statistics!$C$55,ROW(AC486)<=statistics!$D$55),AC485+AH486-AG486,)","v":0},{"$f":"IF(AND(statistics!$C$55<=ROW(A486),ROW(A486)<=statistics!$D$55)=TRUE,AH486-AG486+AA485-INDEX(AA:AA,statistics!$C$55),\"\")","v":""},null,null,0,0,0,"",{"$f":"IF(statistics!$D$3<>0,IF(AJ486=statistics!$D$3,AG486,\"\"),IF(B486<>\"\",AG486,\"\"))","v":""},{"$f":"IF(statistics!$D$3<>0,IF(AJ486=statistics!$D$3,IF(AH486=0,\"\",AH486),\"\"),IF(AH486<>0,AH486,\"\"))","v":""},{"$f":"IF(statistics!$D$3<>0,IF(AJ486=statistics!$D$3,IF(A486=0,\"\",1),\"\"),IF(A486=0,\"\",1))","v":""},"","",null,"",{"$nulls":6},0,null,null,null,"",null,null,"",null,0,null,{"$error":"#NUM!"},{"$error":"#NUM!"},485]
[{"$nulls":4},"","","","","",null,null,"",{"$nulls":6},486,"",{"$f":"IF(A488=0,IF(B488=\"\",IF(B487=0,\"\",SUM($AG$1:AG487)-SUM($U$1:U486)),\"\"),SUM($AG$1:AG487)-SUM($U$1:U486))","v":""},{"$nulls":5},0,{"$f":"IF(AJ487=statistics!$D$3,AB486+AH487-AG487,)","v":0},{"$f":"IF(AND(ROW(AC487)>=statistics!$C$55,ROW(AC487)<=statistics!$D$55),AC486+AH487-AG487,)","v":0},{"$f":"IF(AND(statistics!$C$55<=ROW(A487),ROW(A487)<=statistics!$D$55)=TRUE,AH487-AG487+AA486-INDEX(AA:AA,statistics!$C$55),\"\")","v":""},null,null,0,0,0,"",{"$f":"IF(statistics!$D$3<>0,IF(AJ487=statistics!$D$3,AG487,\"\"),IF(B487<>\"\",AG487,\"\"))","v":""},{"$f":"IF(statistics!$D$3<>0,IF(AJ487=statistics!$D$3,IF(AH487=0,\"\",AH487),\"\"),IF(AH487<>0,AH487,\"\"))","v":""},{"$f":"IF(statistics!$D$3<>0,IF(AJ487=statistics!$D$3,IF(A487=0,\"\",1),\"\"),IF(A487=0,\"\",1))","v":""},"","",null,"",{"$nulls":6},0,null,null,null,"",null,null,"",null,0,null,{"$error":"#NUM!"},{"$error":"#NUM!"},486]
[{"$nulls":4},"","","","","",null,null,"",{"$nulls":6},487,"",{"$f":"IF(A489=0,IF(B489=\"\",IF(B488=0,\"\",SUM($AG$1:AG488)-SUM($U$1:U487)),\"\"),SUM($AG$1:AG488)-SUM($U$1:U487))","v":""},{"$nulls":5},0,{"$f":"IF(AJ488=statistics!$D$3,AB487+AH488-AG488,)","v":0},{"$f":"IF(AND(ROW(AC488)>=statistics!$C$55,ROW(AC488)<=statistics!$D$55),AC487+AH488-AG488,)","v":0},{"$f":"IF(AND(statistics!$C$55<=ROW(A488),ROW(A488)<=statistics!$D$55)=TRUE,AH488-AG488+AA487-INDEX(AA:AA,statistics!$C$55),\"\")","v":""},null,null,0,0,0,"",{"$f":"IF(statistics!$D$3<>0,IF(AJ488=statistics!$D$3,AG488,\"\"),IF(B488<>\"\",AG488,\"\"))","v":""},{"$f":"IF(statistics!$D$3<>0,IF(AJ488=statistics!$D$3,IF(AH488=0,\"\",AH488),\"\"),IF(AH488<>0,AH488,\"\"))","v":""},{"$f":"IF(statistics!$D$3<>0,IF(AJ488=statistics!$D$3,IF(A488=0,\"\",1),\"\"),IF(A488=0,\"\",1))","v":""},"","",null,"",{"$nulls":6},0,null,null,null,"",null,null,"",null,0,null,{"$error":"#NUM!"},{"$error":"#NUM!"},487]
[{"$nulls":4},"","","","","",null,null,"",{"$nulls":6},488,"",{"$f":"IF(A490=0,IF(B490=\"\",IF(B489=0,\"\",SUM($AG$1:AG489)-SUM($U$1:U488)),\"\"),SUM($AG$1:AG489)-SUM($U$1:U488))","v":""},{"$nulls":5},0,{"$f":"IF(AJ489=statistics!$D$3,AB488+AH489-AG489,)","v":0},{"$f":"IF(AND(ROW(AC489)>=statistics!$C$55,ROW(AC489)<=statistics!$D$55),AC488+AH489-AG489,)","v":0},{"$f":"IF(AND(statistics!$C$55<=ROW(A489),ROW(A489)<=statistics!$D$55)=TRUE,AH489-AG489+AA488-INDEX(AA:AA,statistics!$C$55),\"\")","v":""},null,null,0,0,0,"",{"$f":"IF(statistics!$D$3<>0,IF(AJ489=statistics!$D$3,AG489,\"\"),IF(B489<>\"\",AG489,\"\"))","v":""},{"$f":"IF(statistics!$D$3<>0,IF(AJ489=statistics!$D$3,IF(AH489=0,\"\",AH489),\"\"),IF(AH489<>0,AH489,\"\"))","v":""},{"$f":"IF(statistics!$D$3<>0,IF(AJ489=statistics!$D$3,IF(A489=0,\"\",1),\"\"),IF(A489=0,\"\",1))","v":""},"","",null,"",{"$nulls":6},0,null,null,null,"",null,null,"",null,0,null,{"$error":"#NUM!"},{"$error":"#NUM!"},488]
[{"$nulls":4},"","","","","",null,null,"",{"$nulls":6},489,"",{"$f":"IF(A491=0,IF(B491=\"\",IF(B490=0,\"\",SUM($AG$1:AG490)-SUM($U$1:U489)),\"\"),SUM($AG$1:AG490)-SUM($U$1:U489))","v":""},{"$nulls":5},0,{"$f":"IF(AJ490=statistics!$D$3,AB489+AH490-AG490,)","v":0},{"$f":"IF(AND(ROW(AC490)>=statistics!$C$55,ROW(AC490)<=statistics!$D$55),AC489+AH490-AG490,)","v":0},{"$f":"IF(AND(statistics!$C$55<=ROW(A490),ROW(A490)<=statistics!$D$55)=TRUE,AH490-AG490+AA489-INDEX(AA:AA,statistics!$C$55),\"\")","v":""},null,null,0,0,0,"",{"$f":"IF(statistics!$D$3<>0,IF(AJ490=statistics!$D$3,AG490,\"\"),IF(B490<>\"\",AG490,\"\"))","v":""},{"$f":"IF(statistics!$D$3<>0,IF(AJ490=statistics!$D$3,IF(AH490=0,\"\",AH490),\"\"),IF(AH490<>0,AH490,\"\"))","v":""},{"$f":"IF(statistics!$D$3<>0,IF(AJ490=statistics!$D$3,IF(A490=0,\"\",1),\"\"),IF(A490=0,\"\",1))","v":""},"","",null,"",{"$nulls":6},0,null,null,null,"",null,null,"",null,0,null,{"$error":"#NUM!"},{"$error":"#NUM!"},489]
[{"$nulls":4},"","","","","",null,null,"",{"$nulls":6},490,"",{"$f":"IF(A492=0,IF(B492=\"\",IF(B491=0,\"\",SUM($AG$1:AG491)-SUM($U$1:U490)),\"\"),SUM($AG$1:AG491)-SUM($U$1:U490))","v":""},{"$nulls":5},0,{"$f":"IF(AJ491=statistics!$D$3,AB490+AH491-AG491,)","v":0},{"$f":"IF(AND(ROW(AC491)>=statistics!$C$55,ROW(AC491)<=statistics!$D$55),AC490+AH491-AG491,)","v":0},{"$f":"IF(AND(statistics!$C$55<=ROW(A491),ROW(A491)<=statistics!$D$55)=TRUE,AH491-AG491+AA490-INDEX(AA:AA,statistics!$C$55),\"\")","v":""},null,null,0,0,0,"",{"$f":"IF(statistics!$D$3<>0,IF(AJ491=statistics!$D$3,AG491,\"\"),IF(B491<>\"\",AG491,\"\"))","v":""},{"$f":"IF(statistics!$D$3<>0,IF(AJ491=statistics!$D$3,IF(AH491=0,\"\",AH491),\"\"),IF(AH491<>0,AH491,\"\"))","v":""},{"$f":"IF(statistics!$D$3<>0,IF(AJ491=statistics!$D$3,IF(A491=0,\"\",1),\"\"),IF(A491=0,\"\",1))","v":""},"","",null,"",{"$nulls":6},0,null,null,null,"",null,null,"",null,0,null,{"$error":"#NUM!"},{"$error":"#NUM!"},490]
[{"$nulls":4},"","","","","",null,null,"",{"$nulls":6},491,"",{"$f":"IF(A493=0,IF(B493=\"\",IF(B492=0,\"\",SUM($AG$1:AG492)-SUM($U$1:U491)),\"\"),SUM($AG$1:AG492)-SUM($U$1:U491))","v":""},{"$nulls":5},0,{"$f":"IF(AJ492=statistics!$D$3,AB491+AH492-AG492,)","v":0},{"$f":"IF(AND(ROW(AC492)>=statistics!$C$55,ROW(AC492)<=statistics!$D$55),AC491+AH492-AG492,)","v":0},{"$f":"IF(AND(statistics!$C$55<=ROW(A492),ROW(A492)<=statistics!$D$55)=TRUE,AH492-AG492+AA491-INDEX(AA:AA,statistics!$C$55),\"\")","v":""},null,null,0,0,0,"",{"$f":"IF(statistics!$D$3<>0,IF(AJ492=statistics!$D$3,AG492,\"\"),IF(B492<>\"\",AG492,\"\"))","v":""},{"$f":"IF(statistics!$D$3<>0,IF(AJ492=statistics!$D$3,IF(AH492=0,\"\",AH492),\"\"),IF(AH492<>0,AH492,\"\"))","v":""},{"$f":"IF(statistics!$D$3<>0,IF(AJ492=statistics!$D$3,IF(A492=0,\"\",1),\"\"),IF(A492=0,\"\",1))","v":""},"","",null,"",{"$nulls":6},0,null,null,null,"",null,null,"",null,0,null,{"$error":"#NUM!"},{"$error":"#NUM!"},491]
[{"$nulls":4},"","","","","",null,null,"",{"$nulls":6},492,"",{"$f":"IF(A494=0,IF(B494=\"\",IF(B493=0,\"\",SUM($AG$1:AG493)-SUM($U$1:U492)),\"\"),SUM($AG$1:AG493)-SUM($U$1:U492))","v":""},{"$nulls":5},0,{"$f":"IF(AJ493=statistics!$D$3,AB492+AH493-AG493,)","v":0},{"$f":"IF(AND(ROW(AC493)>=statistics!$C$55,ROW(AC493)<=statistics!$D$55),AC492+AH493-AG493,)","v":0},{"$f":"IF(AND(statistics!$C$55<=ROW(A493),ROW(A493)<=statistics!$D$55)=TRUE,AH493-AG493+AA492-INDEX(AA:AA,statistics!$C$55),\"\")","v":""},null,null,0,0,0,"",{"$f":"IF(statistics!$D$3<>0,IF(AJ493=statistics!$D$3,AG493,\"\"),IF(B493<>\"\",AG493,\"\"))","v":""},{"$f":"IF(statistics!$D$3<>0,IF(AJ493=statistics!$D$3,IF(AH493=0,\"\",AH493),\"\"),IF(AH493<>0,AH493,\"\"))","v":""},{"$f":"IF(statistics!$D$3<>0,IF(AJ493=statistics!$D$3,IF(A493=0,\"\",1),\"\"),IF(A493=0,\"\",1))","v":""},"","",null,"",{"$nulls":6},0,null,null,null,"",null,null,"",null,0,null,{"$error":"#NUM!"},{"$error":"#NUM!"},492]
[{"$nulls":4},"","","","","",null,null,"",{"$nulls":6},493,"",{"$f":"IF(A495=0,IF(B495=\"\",IF(B494=0,\"\",SUM($AG$1:AG494)-SUM($U$1:U493)),\"\"),SUM($AG$1:AG494)-SUM($U$1:U493))","v":""},{"$nulls":5},0,{"$f":"IF(AJ494=statistics!$D$3,AB493+AH494-AG494,)","v":0},{"$f":"IF(AND(ROW(AC494)>=statistics!$C$55,ROW(AC494)<=statistics!$D$55),AC493+AH494-AG494,)","v":0},{"$f":"IF(AND(statistics!$C$55<=ROW(A494),ROW(A494)<=statistics!$D$55)=TRUE,AH494-AG494+AA493-INDEX(AA:AA,statistics!$C$55),\"\")","v":""},null,null,0,0,0,"",{"$f":"IF(statistics!$D$3<>0,IF(AJ494=statistics!$D$3,AG494,\"\"),IF(B494<>\"\",AG494,\"\"))","v":""},{"$f":"IF(statistics!$D$3<>0,IF(AJ494=statistics!$D$3,IF(AH494=0,\"\",AH494),\"\"),IF(AH494<>0,AH494,\"\"))","v":""},{"$f":"IF(statistics!$D$3<>0,IF(AJ494=statistics!$D$3,IF(A494=0,\"\",1),\"\"),IF(A494=0,\"\",1))","v":""},"","",null,"",{"$nulls":6},0,null,null,null,"",null,null,"",null,0,null,{"$error":"#NUM!"},{"$error":"#NUM!"},493]
[{"$nulls":4},"","","","","",null,null,"",{"$nulls":6},494,"",{"$f":"IF(A496=0,IF(B496=\"\",IF(B495=0,\"\",SUM($AG$1:AG495)-SUM($U$1:U494)),\"\"),SUM($AG$1:AG495)-SUM($U$1:U494))","v":""},{"$nulls":5},0,{"$f":"IF(AJ495=statistics!$D$3,AB494+AH495-AG495,)","v":0},{"$f":"IF(AND(ROW(AC495)>=statistics!$C$55,ROW(AC495)<=statistics!$D$55),AC494+AH495-AG495,)","v":0},{"$f":"IF(AND(statistics!$C$55<=ROW(A495),ROW(A495)<=statistics!$D$55)=TRUE,AH495-AG495+AA494-INDEX(AA:AA,statistics!$C$55),\"\")","v":""},null,null,0,0,0,"",{"$f":"IF(statistics!$D$3<>0,IF(AJ495=statistics!$D$3,AG495,\"\"),IF(B495<>\"\",AG495,\"\"))","v":""},{"$f":"IF(statistics!$D$3<>0,IF(AJ495=statistics!$D$3,IF(AH495=0,\"\",AH495),\"\"),IF(AH495<>0,AH495,\"\"))","v":""},{"$f":"IF(statistics!$D$3<>0,IF(AJ495=statistics!$D$3,IF(A495=0,\"\",1),\"\"),IF(A495=0,\"\",1))","v":""},"","",null,"",{"$nulls":6},0,null,null,null,"",null,null,"",null,0,null,{"$error":"#NUM!"},{"$error":"#NUM!"},494]
[{"$nulls":4},"","","","","",null,null,"",{"$nulls":6},495,"",{"$f":"IF(A497=0,IF(B497=\"\",IF(B496=0,\"\",SUM($AG$1:AG496)-SUM($U$1:U495)),\"\"),SUM($AG$1:AG496)-SUM($U$1:U495))","v":""},{"$nulls":5},0,{"$f":"IF(AJ496=statistics!$D$3,AB495+AH496-AG496,)","v":0},{"$f":"IF(AND(ROW(AC496)>=statistics!$C$55,ROW(AC496)<=statistics!$D$55),AC495+AH496-AG496,)","v":0},{"$f":"IF(AND(statistics!$C$55<=ROW(A496),ROW(A496)<=statistics!$D$55)=TRUE,AH496-AG496+AA495-INDEX(AA:AA,statistics!$C$55),\"\")","v":""},null,null,0,0,0,"",{"$f":"IF(statistics!$D$3<>0,IF(AJ496=statistics!$D$3,AG496,\"\"),IF(B496<>\"\",AG496,\"\"))","v":""},{"$f":"IF(statistics!$D$3<>0,IF(AJ496=statistics!$D$3,IF(AH496=0,\"\",AH496),\"\"),IF(AH496<>0,AH496,\"\"))","v":""},{"$f":"IF(statistics!$D$3<>0,IF(AJ496=statistics!$D$3,IF(A496=0,\"\",1),\"\"),IF(A496=0,\"\",1))","v":""},"","",null,"",{"$nulls":6},0,null,null,null,"",null,null,"",null,0,null,{"$error":"#NUM!"},{"$error":"#NUM!"},495]
[{"$nulls":4},"","","","","",null,null,"",{"$nulls":6},496,"",{"$f":"IF(A498=0,IF(B498=\"\",IF(B497=0,\"\",SUM($AG$1:AG497)-SUM($U$1:U496)),\"\"),SUM($AG$1:AG497)-SUM($U$1:U496))","v":""},{"$nulls":5},0,{"$f":"IF(AJ497=statistics!$D$3,AB496+AH497-AG497,)","v":0},{"$f":"IF(AND(ROW(AC497)>=statistics!$C$55,ROW(AC497)<=statistics!$D$55),AC496+AH497-AG497,)","v":0},{"$f":"IF(AND(statistics!$C$55<=ROW(A497),ROW(A497)<=statistics!$D$55)=TRUE,AH497-AG497+AA496-INDEX(AA:AA,statistics!$C$55),\"\")","v":""},null,null,0,0,0,"",{"$f":"IF(statistics!$D$3<>0,IF(AJ497=statistics!$D$3,AG497,\"\"),IF(B497<>\"\",AG497,\"\"))","v":""},{"$f":"IF(statistics!$D$3<>0,IF(AJ497=statistics!$D$3,IF(AH497=0,\"\",AH497),\"\"),IF(AH497<>0,AH497,\"\"))","v":""},{"$f":"IF(statistics!$D$3<>0,IF(AJ497=statistics!$D$3,IF(A497=0,\"\",1),\"\"),IF(A497=0,\"\",1))","v":""},"","",null,"",{"$nulls":6},0,null,null,null,"",null,null,"",null,0,null,{"$error":"#NUM!"},{"$error":"#NUM!"},496]
[{"$nulls":4},"","","","","",null,null,"",{"$nulls":6},497,"",{"$f":"IF(A499=0,IF(B499=\"\",IF(B498=0,\"\",SUM($AG$1:AG498)-SUM($U$1:U497)),\"\"),SUM($AG$1:AG498)-SUM($U$1:U497))","v":""},{"$nulls":5},0,{"$f":"IF(AJ498=statistics!$D$3,AB497+AH498-AG498,)","v":0},{"$f":"IF(AND(ROW(AC498)>=statistics!$C$55,ROW(AC498)<=statistics!$D$55),AC497+AH498-AG498,)","v":0},{"$f":"IF(AND(statistics!$C$55<=ROW(A498),ROW(A498)<=statistics!$D$55)=TRUE,AH498-AG498+AA497-INDEX(AA:AA,statistics!$C$55),\"\")","v":""},null,null,0,0,0,"",{"$f":"IF(statistics!$D$3<>0,IF(AJ498=statistics!$D$3,AG498,\"\"),IF(B498<>\"\",AG498,\"\"))","v":""},{"$f":"IF(statistics!$D$3<>0,IF(AJ498=statistics!$D$3,IF(AH498=0,\"\",AH498),\"\"),IF(AH498<>0,AH498,\"\"))","v":""},{"$f":"IF(statistics!$D$3<>0,IF(AJ498=statistics!$D$3,IF(A498=0,\"\",1),\"\"),IF(A498=0,\"\",1))","v":""},"","",null,"",{"$nulls":6},0,null,null,null,"",null,null,"",null,0,null,{"$error":"#NUM!"},{"$error":"#NUM!"},497]
[{"$nulls":4},"","","","","",null,null,"",{"$nulls":6},498,"",{"$f":"IF(A500=0,IF(B500=\"\",IF(B499=0,\"\",SUM($AG$1:AG499)-SUM($U$1:U498)),\"\"),SUM($AG$1:AG499)-SUM($U$1:U498))","v":""},{"$nulls":5},0,{"$f":"IF(AJ499=statistics!$D$3,AB498+AH499-AG499,)","v":0},{"$f":"IF(AND(ROW(AC499)>=statistics!$C$55,ROW(AC499)<=statistics!$D$55),AC498+AH499-AG499,)","v":0},{"$f":"IF(AND(statistics!$C$55<=ROW(A499),ROW(A499)<=statistics!$D$55)=TRUE,AH499-AG499+AA498-INDEX(AA:AA,statistics!$C$55),\"\")","v":""},null,null,0,0,0,"",{"$f":"IF(statistics!$D$3<>0,IF(AJ499=statistics!$D$3,AG499,\"\"),IF(B499<>\"\",AG499,\"\"))","v":""},{"$f":"IF(statistics!$D$3<>0,IF(AJ499=statistics!$D$3,IF(AH499=0,\"\",AH499),\"\"),IF(AH499<>0,AH499,\"\"))","v":""},{"$f":"IF(statistics!$D$3<>0,IF(AJ499=statistics!$D$3,IF(A499=0,\"\",1),\"\"),IF(A499=0,\"\",1))","v":""},"","",null,"",{"$nulls":6},0,null,null,null,"",null,null,"",null,0,null,{"$error":"#NUM!"},{"$error":"#NUM!"},498]
[{"$nulls":4},"","","","","",null,null,"",{"$nulls":6},499,"",{"$f":"IF(A501=0,IF(B501=\"\",IF(B500=0,\"\",SUM($AG$1:AG500)-SUM($U$1:U499)),\"\"),SUM($AG$1:AG500)-SUM($U$1:U499))","v":""},{"$nulls":5},0,{"$f":"IF(AJ500=statistics!$D$3,AB499+AH500-AG500,)","v":0},{"$f":"IF(AND(ROW(AC500)>=statistics!$C$55,ROW(AC500)<=statistics!$D$55),AC499+AH500-AG500,)","v":0},{"$f":"IF(AND(statistics!$C$55<=ROW(A500),ROW(A500)<=statistics!$D$55)=TRUE,AH500-AG500+AA499-INDEX(AA:AA,statistics!$C$55),\"\")","v":""},null,null,0,0,0,"",{"$f":"IF(statistics!$D$3<>0,IF(AJ500=statistics!$D$3,AG500,\"\"),IF(B500<>\"\",AG500,\"\"))","v":""},{"$f":"IF(statistics!$D$3<>0,IF(AJ500=statistics!$D$3,IF(AH500=0,\"\",AH500),\"\"),IF(AH500<>0,AH500,\"\"))","v":""},{"$f":"IF(statistics!$D$3<>0,IF(AJ500=statistics!$D$3,IF(A500=0,\"\",1),\"\"),IF(A500=0,\"\",1))","v":""},"","",null,"",{"$nulls":6},0,null,null,null,"",null,null,"",null,0,null,{"$error":"#NUM!"},{"$error":"#NUM!"},499]
[{"$nulls":4},"","","","","",null,null,"",{"$nulls":6},506,"",{"$f":"IF(A508=0,IF(B508=\"\",IF(B507=0,\"\",SUM($AG$1:AG507)-SUM($U$1:U506)),\"\"),SUM($AG$1:AG507)-SUM($U$1:U506))","v":""},{"$nulls":5},0,{"$f":"IF(AJ507=statistics!$D$3,AB506+AH507-AG507,)","v":0},{"$f":"IF(AND(ROW(AC507)>=statistics!$C$55,ROW(AC507)<=statistics!$D$55),AC506+AH507-AG507,)","v":0},{"$f":"IF(AND(statistics!$C$55<=ROW(A507),ROW(A507)<=statistics!$D$55)=TRUE,AH507-AG507+AA506-INDEX(AA:AA,statistics!$C$55),\"\")","v":""},null,null,0,0,0,"",{"$f":"IF(statistics!$D$3<>0,IF(AJ507=statistics!$D$3,AG507,\"\"),IF(B507<>\"\",AG507,\"\"))","v":""},{"$f":"IF(statistics!$D$3<>0,IF(AJ507=statistics!$D$3,IF(AH507=0,\"\",AH507),\"\"),IF(AH507<>0,AH507,\"\"))","v":""},{"$f":"IF(statistics!$D$3<>0,IF(AJ507=statistics!$D$3,IF(A507=0,\"\",1),\"\"),IF(A507=0,\"\",1))","v":""},"","",null,"",{"$nulls":6},0,null,null,null,"",null,null,"",null,0,null,{"$error":"#NUM!"},{"$error":"#NUM!"},506]
[{"$nulls":4},"","","","","",null,null,"",{"$nulls":6},515,"",{"$f":"IF(A517=0,IF(B517=\"\",IF(B516=0,\"\",SUM($AG$1:AG516)-SUM($U$1:U515)),\"\"),SUM($AG$1:AG516)-SUM($U$1:U515))","v":""},{"$nulls":5},0,{"$f":"IF(AJ516=statistics!$D$3,AB515+AH516-AG516,)","v":0},{"$f":"IF(AND(ROW(AC516)>=statistics!$C$55,ROW(AC516)<=statistics!$D$55),AC515+AH516-AG516,)","v":0},{"$f":"IF(AND(statistics!$C$55<=ROW(A516),ROW(A516)<=statistics!$D$55)=TRUE,AH516-AG516+AA515-INDEX(AA:AA,statistics!$C$55),\"\")","v":""},null,null,0,0,0,"",{"$f":"IF(statistics!$D$3<>0,IF(AJ516=statistics!$D$3,AG516,\"\"),IF(B516<>\"\",AG516,\"\"))","v":""},{"$f":"IF(statistics!$D$3<>0,IF(AJ516=statistics!$D$3,IF(AH516=0,\"\",AH516),\"\"),IF(AH516<>0,AH516,\"\"))","v":""},{"$f":"IF(statistics!$D$3<>0,IF(AJ516=statistics!$D$3,IF(A516=0,\"\",1),\"\"),IF(A516=0,\"\",1))","v":""},{"$f":"IF(AK516<>\"\",IF(AK515=0,ROW(AK516),ROW(AK516)),\"\")","v":""},{"$f":"IF(A516<>0,IF(MONTH(A516)=AJ515,\"\",MONTH(A516)),\"\")","v":""},null,"",{"$nulls":6},0,null,null,null,"",null,null,"",null,0,null,{"$error":"#NUM!"},{"$error":"#NUM!"},515]
[{"$nulls":4},"","","","","",null,null,"",{"$nulls":6},520,"",{"$f":"IF(A522=0,IF(B522=\"\",IF(B521=0,\"\",SUM($AG$1:AG521)-SUM($U$1:U520)),\"\"),SUM($AG$1:AG521)-SUM($U$1:U520))","v":""},{"$nulls":5},0,{"$f":"IF(AJ521=statistics!$D$3,AB520+AH521-AG521,)","v":0},{"$f":"IF(AND(ROW(AC521)>=statistics!$C$55,ROW(AC521)<=statistics!$D$55),AC520+AH521-AG521,)","v":0},{"$f":"IF(AND(statistics!$C$55<=ROW(A521),ROW(A521)<=statistics!$D$55)=TRUE,AH521-AG521+AA520-INDEX(AA:AA,statistics!$C$55),\"\")","v":""},null,null,0,0,0,"",{"$f":"IF(statistics!$D$3<>0,IF(AJ521=statistics!$D$3,AG521,\"\"),IF(B521<>\"\",AG521,\"\"))","v":""},{"$f":"IF(statistics!$D$3<>0,IF(AJ521=statistics!$D$3,IF(AH521=0,\"\",AH521),\"\"),IF(AH521<>0,AH521,\"\"))","v":""},{"$f":"IF(statistics!$D$3<>0,IF(AJ521=statistics!$D$3,IF(A521=0,\"\",1),\"\"),IF(A521=0,\"\",1))","v":""},"","",null,"",{"$nulls":6},0,null,null,null,"",null,null,"",null,0,null,{"$error":"#NUM!"},{"$error":"#NUM!"},520]
[{"$nulls":4},"","","","","",null,null,"",{"$nulls":6},531,"",{"$f":"IF(A533=0,IF(B533=\"\",IF(B532=0,\"\",SUM($AG$1:AG532)-SUM($U$1:U531)),\"\"),SUM($AG$1:AG532)-SUM($U$1:U531))","v":""},{"$nulls":5},0,{"$f":"IF(AJ532=statistics!$D$3,AB531+AH532-AG532,)","v":0},{"$f":"IF(AND(ROW(AC532)>=statistics!$C$55,ROW(AC532)<=statistics!$D$55),AC531+AH532-AG532,)","v":0},{"$f":"IF(AND(statistics!$C$55<=ROW(A532),ROW(A532)<=statistics!$D$55)=TRUE,AH532-AG532+AA531-INDEX(AA:AA,statistics!$C$55),\"\")","v":""},null,null,0,0,0,{"$f":"IF(A532<>0,MONTH(A532),IF(B532=\"\",\"\",AJ531))","v":""},{"$f":"IF(statistics!$D$3<>0,IF(AJ532=statistics!$D$3,AG532,\"\"),IF(B532<>\"\",AG532,\"\"))","v":""},{"$f":"IF(statistics!$D$3<>0,IF(AJ532=statistics!$D$3,IF(AH532=0,\"\",AH532),\"\"),IF(AH532<>0,AH532,\"\"))","v":""},{"$f":"IF(statistics!$D$3<>0,IF(AJ532=statistics!$D$3,IF(A532=0,\"\",1),\"\"),IF(A532=0,\"\",1))","v":""},"","",null,"",{"$nulls":6},0,null,null,null,"",null,null,"",null,0,null,{"$error":"#NUM!"},{"$error":"#NUM!"},531]
[{"$nulls":4},"","","","","",null,null,"",{"$nulls":6},546,"",{"$f":"IF(A548=0,IF(B548=\"\",IF(B547=0,\"\",SUM($AG$1:AG547)-SUM($U$1:U546)),\"\"),SUM($AG$1:AG547)-SUM($U$1:U546))","v":""},{"$nulls":5},0,{"$f":"IF(AJ547=statistics!$D$3,AB546+AH547-AG547,)","v":0},{"$f":"IF(AND(ROW(AC547)>=statistics!$C$55,ROW(AC547)<=statistics!$D$55),AC546+AH547-AG547,)","v":0},{"$f":"IF(AND(statistics!$C$55<=ROW(A547),ROW(A547)<=statistics!$D$55)=TRUE,AH547-AG547+AA546-INDEX(AA:AA,statistics!$C$55),\"\")","v":""},null,null,0,0,0,"",{"$f":"IF(statistics!$D$3<>0,IF(AJ547=statistics!$D$3,AG547,\"\"),IF(B547<>\"\",AG547,\"\"))","v":""},{"$f":"IF(statistics!$D$3<>0,IF(AJ547=statistics!$D$3,IF(AH547=0,\"\",AH547),\"\"),IF(AH547<>0,AH547,\"\"))","v":""},{"$f":"IF(statistics!$D$3<>0,IF(AJ547=statistics!$D$3,IF(A547=0,\"\",1),\"\"),IF(A547=0,\"\",1))","v":""},"","",null,"",{"$nulls":6},0,null,null,null,"",null,null,"",null,0,null,{"$error":"#NUM!"},{"$error":"#NUM!"},546]
[{"$nulls":4},"","","","","",null,null,"",{"$nulls":6},551,"",{"$f":"IF(A553=0,IF(B553=\"\",IF(B552=0,\"\",SUM($AG$1:AG552)-SUM($U$1:U551)),\"\"),SUM($AG$1:AG552)-SUM($U$1:U551))","v":""},{"$nulls":5},0,{"$f":"IF(AJ552=statistics!$D$3,AB551+AH552-AG552,)","v":0},{"$f":"IF(AND(ROW(AC552)>=statistics!$C$55,ROW(AC552)<=statistics!$D$55),AC551+AH552-AG552,)","v":0},{"$f":"IF(AND(statistics!$C$55<=ROW(A552),ROW(A552)<=statistics!$D$55)=TRUE,AH552-AG552+AA551-INDEX(AA:AA,statistics!$C$55),\"\")","v":""},null,null,0,0,0,"",{"$f":"IF(statistics!$D$3<>0,IF(AJ552=statistics!$D$3,AG552,\"\"),IF(B552<>\"\",AG552,\"\"))","v":""},{"$f":"IF(statistics!$D$3<>0,IF(AJ552=statistics!$D$3,IF(AH552=0,\"\",AH552),\"\"),IF(AH552<>0,AH552,\"\"))","v":""},{"$f":"IF(statistics!$D$3<>0,IF(AJ552=statistics!$D$3,IF(A552=0,\"\",1),\"\"),IF(A552=0,\"\",1))","v":""},"","",null,"",{"$nulls":6},0,null,null,null,"",null,null,"",null,0,null,{"$error":"#NUM!"},{"$error":"#NUM!"},551]
[{"$nulls":4},"","","","","",null,null,"",{"$nulls":6},562,"",{"$f":"IF(A564=0,IF(B564=\"\",IF(B563=0,\"\",SUM($AG$1:AG563)-SUM($U$1:U562)),\"\"),SUM($AG$1:AG563)-SUM($U$1:U562))","v":""},{"$nulls":5},0,{"$f":"IF(AJ563=statistics!$D$3,AB562+AH563-AG563,)","v":0},{"$f":"IF(AND(ROW(AC563)>=statistics!$C$55,ROW(AC563)<=statistics!$D$55),AC562+AH563-AG563,)","v":0},{"$f":"IF(AND(statistics!$C$55<=ROW(A563),ROW(A563)<=statistics!$D$55)=TRUE,AH563-AG563+AA562-INDEX(AA:AA,statistics!$C$55),\"\")","v":""},null,null,0,0,0,"",{"$f":"IF(statistics!$D$3<>0,IF(AJ563=statistics!$D$3,AG563,\"\"),IF(B563<>\"\",AG563,\"\"))","v":""},{"$f":"IF(statistics!$D$3<>0,IF(AJ563=statistics!$D$3,IF(AH563=0,\"\",AH563),\"\"),IF(AH563<>0,AH563,\"\"))","v":""},{"$f":"IF(statistics!$D$3<>0,IF(AJ563=statistics!$D$3,IF(A563=0,\"\",1),\"\"),IF(A563=0,\"\",1))","v":""},"","",null,"",{"$nulls":6},0,null,null,null,"",null,null,"",null,0,null,{"$error":"#NUM!"},{"$error":"#NUM!"},562]
[{"$nulls":4},"","","","","",null,null,"",{"$nulls":6},572,"",{"$f":"IF(A574=0,IF(B574=\"\",IF(B573=0,\"\",SUM($AG$1:AG573)-SUM($U$1:U572)),\"\"),SUM($AG$1:AG573)-SUM($U$1:U572))","v":""},{"$nulls":5},0,{"$f":"IF(AJ573=statistics!$D$3,AB572+AH573-AG573,)","v":0},{"$f":"IF(AND(ROW(AC573)>=statistics!$C$55,ROW(AC573)<=statistics!$D$55),AC572+AH573-AG573,)","v":0},{"$f":"IF(AND(statistics!$C$55<=ROW(A573),ROW(A573)<=statistics!$D$55)=TRUE,AH573-AG573+AA572-INDEX(AA:AA,statistics!$C$55),\"\")","v":""},null,null,0,0,0,"",{"$f":"IF(statistics!$D$3<>0,IF(AJ573=statistics!$D$3,AG573,\"\"),IF(B573<>\"\",AG573,\"\"))","v":""},{"$f":"IF(statistics!$D$3<>0,IF(AJ573=statistics!$D$3,IF(AH573=0,\"\",AH573),\"\"),IF(AH573<>0,AH573,\"\"))","v":""},{"$f":"IF(statistics!$D$3<>0,IF(AJ573=statistics!$D$3,IF(A573=0,\"\",1),\"\"),IF(A573=0,\"\",1))","v":""},"","",null,"",{"$nulls":6},0,null,null,null,"",null,null,"",null,0,null,{"$error":"#NUM!"},{"$error":"#NUM!"},572]
[{"$nulls":4},"","","","","",null,null,"",{"$nulls":6},587,"",{"$f":"IF(A589=0,IF(B589=\"\",IF(B588=0,\"\",SUM($AG$1:AG588)-SUM($U$1:U587)),\"\"),SUM($AG$1:AG588)-SUM($U$1:U587))","v":""},{"$nulls":5},0,{"$f":"IF(AJ588=statistics!$D$3,AB587+AH588-AG588,)","v":0},{"$f":"IF(AND(ROW(AC588)>=statistics!$C$55,ROW(AC588)<=statistics!$D$55),AC587+AH588-AG588,)","v":0},{"$f":"IF(AND(statistics!$C$55<=ROW(A588),ROW(A588)<=statistics!$D$55)=TRUE,AH588-AG588+AA587-INDEX(AA:AA,statistics!$C$55),\"\")","v":""},null,null,0,0,0,"",{"$f":"IF(statistics!$D$3<>0,IF(AJ588=statistics!$D$3,AG588,\"\"),IF(B588<>\"\",AG588,\"\"))","v":""},{"$f":"IF(statistics!$D$3<>0,IF(AJ588=statistics!$D$3,IF(AH588=0,\"\",AH588),\"\"),IF(AH588<>0,AH588,\"\"))","v":""},{"$f":"IF(statistics!$D$3<>0,IF(AJ588=statistics!$D$3,IF(A588=0,\"\",1),\"\"),IF(A588=0,\"\",1))","v":""},"","",null,"",{"$nulls":6},0,null,null,null,"",null,null,"",null,0,null,{"$error":"#NUM!"},{"$error":"#NUM!"},587]
[{"$nulls":4},"","",{"$f":"IF(A594=0,IF(B594=\"\",IF(B593=0,\"\",U593/S593),\"\"),U593/S593)","v":""},"","",null,null,"",{"$nulls":6},592,"",{"$f":"IF(A594=0,IF(B594=\"\",IF(B593=0,\"\",SUM($AG$1:AG593)-SUM($U$1:U592)),\"\"),SUM($AG$1:AG593)-SUM($U$1:U592))","v":""},{"$nulls":5},0,{"$f":"IF(AJ593=statistics!$D$3,AB592+AH593-AG593,)","v":0},{"$f":"IF(AND(ROW(AC593)>=statistics!$C$55,ROW(AC593)<=statistics!$D$55),AC592+AH593-AG593,)","v":0},{"$f":"IF(AND(statistics!$C$55<=ROW(A593),ROW(A593)<=statistics!$D$55)=TRUE,AH593-AG593+AA592-INDEX(AA:AA,statistics!$C$55),\"\")","v":""},null,null,0,0,0,"",{"$f":"IF(statistics!$D$3<>0,IF(AJ593=statistics!$D$3,AG593,\"\"),IF(B593<>\"\",AG593,\"\"))","v":""},{"$f":"IF(statistics!$D$3<>0,IF(AJ593=statistics!$D$3,IF(AH593=0,\"\",AH593),\"\"),IF(AH593<>0,AH593,\"\"))","v":""},{"$f":"IF(statistics!$D$3<>0,IF(AJ593=statistics!$D$3,IF(A593=0,\"\",1),\"\"),IF(A593=0,\"\",1))","v":""},"","",null,"",{"$nulls":6},0,null,null,null,"",null,null,"",null,0,null,{"$error":"#NUM!"},{"$error":"#NUM!"},592]
[{"$nulls":4},"","","","","",null,null,"",{"$nulls":6},607,"",{"$f":"IF(A609=0,IF(B609=\"\",IF(B608=0,\"\",SUM($AG$1:AG608)-SUM($U$1:U607)),\"\"),SUM($AG$1:AG608)-SUM($U$1:U607))","v":""},{"$nulls":5},0,{"$f":"IF(AJ608=statistics!$D$3,AB607+AH608-AG608,)","v":0},{"$f":"IF(AND(ROW(AC608)>=statistics!$C$55,ROW(AC608)<=statistics!$D$55),AC607+AH608-AG608,)","v":0},{"$f":"IF(AND(statistics!$C$55<=ROW(A608),ROW(A608)<=statistics!$D$55)=TRUE,AH608-AG608+AA607-INDEX(AA:AA,statistics!$C$55),\"\")","v":""},null,null,0,0,0,"",{"$f":"IF(statistics!$D$3<>0,IF(AJ608=statistics!$D$3,AG608,\"\"),IF(B608<>\"\",AG608,\"\"))","v":""},{"$f":"IF(statistics!$D$3<>0,IF(AJ608=statistics!$D$3,IF(AH608=0,\"\",AH608),\"\"),IF(AH608<>0,AH608,\"\"))","v":""},{"$f":"IF(statistics!$D$3<>0,IF(AJ608=statistics!$D$3,IF(A608=0,\"\",1),\"\"),IF(A608=0,\"\",1))","v":""},"","",null,"",{"$nulls":6},0,null,null,null,"",null,null,"",null,0,null,{"$error":"#NUM!"},{"$error":"#NUM!"},607]
[{"$nulls":4},"","","","","",null,null,"",{"$nulls":6},608,"",{"$f":"IF(A610=0,IF(B610=\"\",IF(B609=0,\"\",SUM($AG$1:AG609)-SUM($U$1:U608)),\"\"),SUM($AG$1:AG609)-SUM($U$1:U608))","v":""},{"$nulls":5},0,{"$f":"IF(AJ609=statistics!$D$3,AB608+AH609-AG609,)","v":0},{"$f":"IF(AND(ROW(AC609)>=statistics!$C$55,ROW(AC609)<=statistics!$D$55),AC608+AH609-AG609,)","v":0},{"$f":"IF(AND(statistics!$C$55<=ROW(A609),ROW(A609)<=statistics!$D$55)=TRUE,AH609-AG609+AA608-INDEX(AA:AA,statistics!$C$55),\"\")","v":""},null,null,0,0,0,"",{"$f":"IF(statistics!$D$3<>0,IF(AJ609=statistics!$D$3,AG609,\"\"),IF(B609<>\"\",AG609,\"\"))","v":""},{"$f":"IF(statistics!$D$3<>0,IF(AJ609=statistics!$D$3,IF(AH609=0,\"\",AH609),\"\"),IF(AH609<>0,AH609,\"\"))","v":""},{"$f":"IF(statistics!$D$3<>0,IF(AJ609=statistics!$D$3,IF(A609=0,\"\",1),\"\"),IF(A609=0,\"\",1))","v":""},"","",null,"",{"$nulls":6},0,null,null,null,"",null,null,"",null,0,null,{"$error":"#NUM!"},{"$error":"#NUM!"},608]
[{"$nulls":4},"","","","","",null,null,"",{"$nulls":6},623,"",{"$f":"IF(A625=0,IF(B625=\"\",IF(B624=0,\"\",SUM($AG$1:AG624)-SUM($U$1:U623)),\"\"),SUM($AG$1:AG624)-SUM($U$1:U623))","v":""},{"$nulls":5},0,{"$f":"IF(AJ624=statistics!$D$3,AB623+AH624-AG624,)","v":0},{"$f":"IF(AND(ROW(AC624)>=statistics!$C$55,ROW(AC624)<=statistics!$D$55),AC623+AH624-AG624,)","v":0},{"$f":"IF(AND(statistics!$C$55<=ROW(A624),ROW(A624)<=statistics!$D$55)=TRUE,AH624-AG624+AA623-INDEX(AA:AA,statistics!$C$55),\"\")","v":""},null,null,0,0,0,"",{"$f":"IF(statistics!$D$3<>0,IF(AJ624=statistics!$D$3,AG624,\"\"),IF(B624<>\"\",AG624,\"\"))","v":""},{"$f":"IF(statistics!$D$3<>0,IF(AJ624=statistics!$D$3,IF(AH624=0,\"\",AH624),\"\"),IF(AH624<>0,AH624,\"\"))","v":""},{"$f":"IF(statistics!$D$3<>0,IF(AJ624=statistics!$D$3,IF(A624=0,\"\",1),\"\"),IF(A624=0,\"\",1))","v":""},"","",null,"",{"$nulls":6},0,null,null,null,"",null,null,"",null,0,null,{"$error":"#NUM!"},{"$error":"#NUM!"},623]
[{"$nulls":4},"","","","","",null,null,"",{"$nulls":6},628,"",{"$f":"IF(A630=0,IF(B630=\"\",IF(B629=0,\"\",SUM($AG$1:AG629)-SUM($U$1:U628)),\"\"),SUM($AG$1:AG629)-SUM($U$1:U628))","v":""},{"$nulls":5},0,{"$f":"IF(AJ629=statistics!$D$3,AB628+AH629-AG629,)","v":0},{"$f":"IF(AND(ROW(AC629)>=statistics!$C$55,ROW(AC629)<=statistics!$D$55),AC628+AH629-AG629,)","v":0},{"$f":"IF(AND(statistics!$C$55<=ROW(A629),ROW(A629)<=statistics!$D$55)=TRUE,AH629-AG629+AA628-INDEX(AA:AA,statistics!$C$55),\"\")","v":""},null,null,0,0,0,"",{"$f":"IF(statistics!$D$3<>0,IF(AJ629=statistics!$D$3,AG629,\"\"),IF(B629<>\"\",AG629,\"\"))","v":""},{"$f":"IF(statistics!$D$3<>0,IF(AJ629=statistics!$D$3,IF(AH629=0,\"\",AH629),\"\"),IF(AH629<>0,AH629,\"\"))","v":""},{"$f":"IF(statistics!$D$3<>0,IF(AJ629=statistics!$D$3,IF(A629=0,\"\",1),\"\"),IF(A629=0,\"\",1))","v":""},"","",null,"",{"$nulls":6},0,null,null,null,"",null,null,"",null,0,null,{"$error":"#NUM!"},{"$error":"#NUM!"},628]
[{"$nulls":4},"","","","","",null,null,"",{"$nulls":6},638,"",{"$f":"IF(A640=0,IF(B640=\"\",IF(B639=0,\"\",SUM($AG$1:AG639)-SUM($U$1:U638)),\"\"),SUM($AG$1:AG639)-SUM($U$1:U638))","v":""},{"$nulls":5},0,{"$f":"IF(AJ639=statistics!$D$3,AB638+AH639-AG639,)","v":0},{"$f":"IF(AND(ROW(AC639)>=statistics!$C$55,ROW(AC639)<=statistics!$D$55),AC638+AH639-AG639,)","v":0},{"$f":"IF(AND(statistics!$C$55<=ROW(A639),ROW(A639)<=statistics!$D$55)=TRUE,AH639-AG639+AA638-INDEX(AA:AA,statistics!$C$55),\"\")","v":""},null,null,0,0,0,"",{"$f":"IF(statistics!$D$3<>0,IF(AJ639=statistics!$D$3,AG639,\"\"),IF(B639<>\"\",AG639,\"\"))","v":""},{"$f":"IF(statistics!$D$3<>0,IF(AJ639=statistics!$D$3,IF(AH639=0,\"\",AH639),\"\"),IF(AH639<>0,AH639,\"\"))","v":""},{"$f":"IF(statistics!$D$3<>0,IF(AJ639=statistics!$D$3,IF(A639=0,\"\",1),\"\"),IF(A639=0,\"\",1))","v":""},"","",null,"",{"$nulls":6},0,null,null,null,"",null,null,"",null,0,null,{"$error":"#NUM!"},{"$error":"#NUM!"},638]
[{"$nulls":4},"","","","","",null,null,"",{"$nulls":6},653,"",{"$f":"IF(A655=0,IF(B655=\"\",IF(B654=0,\"\",SUM($AG$1:AG654)-SUM($U$1:U653)),\"\"),SUM($AG$1:AG654)-SUM($U$1:U653))","v":""},{"$nulls":5},0,{"$f":"IF(AJ654=statistics!$D$3,AB653+AH654-AG654,)","v":0},{"$f":"IF(AND(ROW(AC654)>=statistics!$C$55,ROW(AC654)<=statistics!$D$55),AC653+AH654-AG654,)","v":0},{"$f":"IF(AND(statistics!$C$55<=ROW(A654),ROW(A654)<=statistics!$D$55)=TRUE,AH654-AG654+AA653-INDEX(AA:AA,statistics!$C$55),\"\")","v":""},null,null,0,0,0,"",{"$f":"IF(statistics!$D$3<>0,IF(AJ654=statistics!$D$3,AG654,\"\"),IF(B654<>\"\",AG654,\"\"))","v":""},{"$f":"IF(statistics!$D$3<>0,IF(AJ654=statistics!$D$3,IF(AH654=0,\"\",AH654),\"\"),IF(AH654<>0,AH654,\"\"))","v":""},{"$f":"IF(statistics!$D$3<>0,IF(AJ654=statistics!$D$3,IF(A654=0,\"\",1),\"\"),IF(A654=0,\"\",1))","v":""},"","",null,"",{"$nulls":6},0,null,null,null,"",null,null,"",null,0,null,{"$error":"#NUM!"},{"$error":"#NUM!"},653]
[{"$nulls":4},"","","","","",null,null,"",{"$nulls":6},664,"",{"$f":"IF(A666=0,IF(B666=\"\",IF(B665=0,\"\",SUM($AG$1:AG665)-SUM($U$1:U664)),\"\"),SUM($AG$1:AG665)-SUM($U$1:U664))","v":""},{"$nulls":5},0,{"$f":"IF(AJ665=statistics!$D$3,AB664+AH665-AG665,)","v":0},{"$f":"IF(AND(ROW(AC665)>=statistics!$C$55,ROW(AC665)<=statistics!$D$55),AC664+AH665-AG665,)","v":0},{"$f":"IF(AND(statistics!$C$55<=ROW(A665),ROW(A665)<=statistics!$D$55)=TRUE,AH665-AG665+AA664-INDEX(AA:AA,statistics!$C$55),\"\")","v":""},null,null,0,0,0,"",{"$f":"IF(statistics!$D$3<>0,IF(AJ665=statistics!$D$3,AG665,\"\"),IF(B665<>\"\",AG665,\"\"))","v":""},{"$f":"IF(statistics!$D$3<>0,IF(AJ665=statistics!$D$3,IF(AH665=0,\"\",AH665),\"\"),IF(AH665<>0,AH665,\"\"))","v":""},{"$f":"IF(statistics!$D$3<>0,IF(AJ665=statistics!$D$3,IF(A665=0,\"\",1),\"\"),IF(A665=0,\"\",1))","v":""},"","",null,"",{"$nulls":6},0,null,null,null,"",null,null,"",null,0,null,{"$error":"#NUM!"},{"$error":"#NUM!"},664]
[{"$nulls":4},"","","","","",null,null,"",{"$nulls":6},669,"",{"$f":"IF(A671=0,IF(B671=\"\",IF(B670=0,\"\",SUM($AG$1:AG670)-SUM($U$1:U669)),\"\"),SUM($AG$1:AG670)-SUM($U$1:U669))","v":""},{"$nulls":5},0,{"$f":"IF(AJ670=statistics!$D$3,AB669+AH670-AG670,)","v":0},{"$f":"IF(AND(ROW(AC670)>=statistics!$C$55,ROW(AC670)<=statistics!$D$55),AC669+AH670-AG670,)","v":0},{"$f":"IF(AND(statistics!$C$55<=ROW(A670),ROW(A670)<=statistics!$D$55)=TRUE,AH670-AG670+AA669-INDEX(AA:AA,statistics!$C$55),\"\")","v":""},null,null,0,0,0,"",{"$f":"IF(statistics!$D$3<>0,IF(AJ670=statistics!$D$3,AG670,\"\"),IF(B670<>\"\",AG670,\"\"))","v":""},{"$f":"IF(statistics!$D$3<>0,IF(AJ670=statistics!$D$3,IF(AH670=0,\"\",AH670),\"\"),IF(AH670<>0,AH670,\"\"))","v":""},{"$f":"IF(statistics!$D$3<>0,IF(AJ670=statistics!$D$3,IF(A670=0,\"\",1),\"\"),IF(A670=0,\"\",1))","v":""},"","",null,"",{"$nulls":6},0,null,null,null,"",null,null,"",null,0,null,{"$error":"#NUM!"},{"$error":"#NUM!"},669]
[{"$nulls":4},"","","","","",null,null,"",{"$nulls":6},684,"",{"$f":"IF(A686=0,IF(B686=\"\",IF(B685=0,\"\",SUM($AG$1:AG685)-SUM($U$1:U684)),\"\"),SUM($AG$1:AG685)-SUM($U$1:U684))","v":""},{"$nulls":5},0,{"$f":"IF(AJ685=statistics!$D$3,AB684+AH685-AG685,)","v":0},{"$f":"IF(AND(ROW(AC685)>=statistics!$C$55,ROW(AC685)<=statistics!$D$55),AC684+AH685-AG685,)","v":0},{"$f":"IF(AND(statistics!$C$55<=ROW(A685),ROW(A685)<=statistics!$D$55)=TRUE,AH685-AG685+AA684-INDEX(AA:AA,statistics!$C$55),\"\")","v":""},null,null,0,0,0,"",{"$f":"IF(statistics!$D$3<>0,IF(AJ685=statistics!$D$3,AG685,\"\"),IF(B685<>\"\",AG685,\"\"))","v":""},{"$f":"IF(statistics!$D$3<>0,IF(AJ685=statistics!$D$3,IF(AH685=0,\"\",AH685),\"\"),IF(AH685<>0,AH685,\"\"))","v":""},{"$f":"IF(statistics!$D$3<>0,IF(AJ685=statistics!$D$3,IF(A685=0,\"\",1),\"\"),IF(A685=0,\"\",1))","v":""},"","",null,"",{"$nulls":6},0,null,null,null,"",null,null,"",null,0,null,{"$error":"#NUM!"},{"$error":"#NUM!"},684]
[{"$nulls":4},"","","","","",null,null,"",{"$nulls":6},695,"",{"$f":"IF(A697=0,IF(B697=\"\",IF(B696=0,\"\",SUM($AG$1:AG696)-SUM($U$1:U695)),\"\"),SUM($AG$1:AG696)-SUM($U$1:U695))","v":""},{"$nulls":5},0,{"$f":"IF(AJ696=statistics!$D$3,AB695+AH696-AG696,)","v":0},{"$f":"IF(AND(ROW(AC696)>=statistics!$C$55,ROW(AC696)<=statistics!$D$55),AC695+AH696-AG696,)","v":0},{"$f":"IF(AND(statistics!$C$55<=ROW(A696),ROW(A696)<=statistics!$D$55)=TRUE,AH696-AG696+AA695-INDEX(AA:AA,statistics!$C$55),\"\")","v":""},null,null,0,0,0,"",{"$f":"IF(statistics!$D$3<>0,IF(AJ696=statistics!$D$3,AG696,\"\"),IF(B696<>\"\",AG696,\"\"))","v":""},{"$f":"IF(statistics!$D$3<>0,IF(AJ696=statistics!$D$3,IF(AH696=0,\"\",AH696),\"\"),IF(AH696<>0,AH696,\"\"))","v":""},{"$f":"IF(statistics!$D$3<>0,IF(AJ696=statistics!$D$3,IF(A696=0,\"\",1),\"\"),IF(A696=0,\"\",1))","v":""},"","",null,"",{"$nulls":6},0,null,null,null,"",null,null,"",null,0,null,{"$error":"#NUM!"},{"$error":"#NUM!"},695]
[{"$nulls":4},"","","","","",null,null,"",{"$nulls":6},700,"",{"$f":"IF(A702=0,IF(B702=\"\",IF(B701=0,\"\",SUM($AG$1:AG701)-SUM($U$1:U700)),\"\"),SUM($AG$1:AG701)-SUM($U$1:U700))","v":""},{"$nulls":5},0,{"$f":"IF(AJ701=statistics!$D$3,AB700+AH701-AG701,)","v":0},{"$f":"IF(AND(ROW(AC701)>=statistics!$C$55,ROW(AC701)<=statistics!$D$55),AC700+AH701-AG701,)","v":0},{"$f":"IF(AND(statistics!$C$55<=ROW(A701),ROW(A701)<=statistics!$D$55)=TRUE,AH701-AG701+AA700-INDEX(AA:AA,statistics!$C$55),\"\")","v":""},null,null,0,0,0,"",{"$f":"IF(statistics!$D$3<>0,IF(AJ701=statistics!$D$3,AG701,\"\"),IF(B701<>\"\",AG701,\"\"))","v":""},{"$f":"IF(statistics!$D$3<>0,IF(AJ701=statistics!$D$3,IF(AH701=0,\"\",AH701),\"\"),IF(AH701<>0,AH701,\"\"))","v":""},{"$f":"IF(statistics!$D$3<>0,IF(AJ701=statistics!$D$3,IF(A701=0,\"\",1),\"\"),IF(A701=0,\"\",1))","v":""},"","",null,"",{"$nulls":6},0,null,null,null,"",null,null,"",null,0,null,{"$error":"#NUM!"},{"$error":"#NUM!"},700]
[{"$nulls":4},"","","","","",null,null,"",{"$nulls":6},713,"",{"$f":"IF(A715=0,IF(B715=\"\",IF(B714=0,\"\",SUM($AG$1:AG714)-SUM($U$1:U713)),\"\"),SUM($AG$1:AG714)-SUM($U$1:U713))","v":""},{"$nulls":5},0,{"$f":"IF(AJ714=statistics!$D$3,AB713+AH714-AG714,)","v":0},{"$f":"IF(AND(ROW(AC714)>=statistics!$C$55,ROW(AC714)<=statistics!$D$55),AC713+AH714-AG714,)","v":0},{"$f":"IF(AND(statistics!$C$55<=ROW(A714),ROW(A714)<=statistics!$D$55)=TRUE,AH714-AG714+AA713-INDEX(AA:AA,statistics!$C$55),\"\")","v":""},null,null,0,0,0,"",{"$f":"IF(statistics!$D$3<>0,IF(AJ714=statistics!$D$3,AG714,\"\"),IF(B714<>\"\",AG714,\"\"))","v":""},{"$f":"IF(statistics!$D$3<>0,IF(AJ714=statistics!$D$3,IF(AH714=0,\"\",AH714),\"\"),IF(AH714<>0,AH714,\"\"))","v":""},{"$f":"IF(statistics!$D$3<>0,IF(AJ714=statistics!$D$3,IF(A714=0,\"\",1),\"\"),IF(A714=0,\"\",1))","v":""},"","",null,"",{"$nulls":6},0,null,null,null,"",null,null,"",null,0,null,{"$error":"#NUM!"},{"$error":"#NUM!"},713]
[{"$nulls":4},"","","","","",null,null,"",{"$nulls":6},725,"",{"$f":"IF(A727=0,IF(B727=\"\",IF(B726=0,\"\",SUM($AG$1:AG726)-SUM($U$1:U725)),\"\"),SUM($AG$1:AG726)-SUM($U$1:U725))","v":""},{"$nulls":5},0,{"$f":"IF(AJ726=statistics!$D$3,AB725+AH726-AG726,)","v":0},{"$f":"IF(AND(ROW(AC726)>=statistics!$C$55,ROW(AC726)<=statistics!$D$55),AC725+AH726-AG726,)","v":0},{"$f":"IF(AND(statistics!$C$55<=ROW(A726),ROW(A726)<=statistics!$D$55)=TRUE,AH726-AG726+AA725-INDEX(AA:AA,statistics!$C$55),\"\")","v":""},null,null,0,0,0,"",{"$f":"IF(statistics!$D$3<>0,IF(AJ726=statistics!$D$3,AG726,\"\"),IF(B726<>\"\",AG726,\"\"))","v":""},{"$f":"IF(statistics!$D$3<>0,IF(AJ726=statistics!$D$3,IF(AH726=0,\"\",AH726),\"\"),IF(AH726<>0,AH726,\"\"))","v":""},{"$f":"IF(statistics!$D$3<>0,IF(AJ726=statistics!$D$3,IF(A726=0,\"\",1),\"\"),IF(A726=0,\"\",1))","v":""},"","",null,"",{"$nulls":6},0,null,null,null,"",null,null,"",null,0,null,{"$error":"#NUM!"},{"$error":"#NUM!"},725]
[{"$nulls":4},"","","","","",null,null,"",{"$nulls":6},730,"",{"$f":"IF(A732=0,IF(B732=\"\",IF(B731=0,\"\",SUM($AG$1:AG731)-SUM($U$1:U730)),\"\"),SUM($AG$1:AG731)-SUM($U$1:U730))","v":""},{"$nulls":5},0,{"$f":"IF(AJ731=statistics!$D$3,AB730+AH731-AG731,)","v":0},{"$f":"IF(AND(ROW(AC731)>=statistics!$C$55,ROW(AC731)<=statistics!$D$55),AC730+AH731-AG731,)","v":0},{"$f":"IF(AND(statistics!$C$55<=ROW(A731),ROW(A731)<=statistics!$D$55)=TRUE,AH731-AG731+AA730-INDEX(AA:AA,statistics!$C$55),\"\")","v":""},null,null,0,0,0,"",{"$f":"IF(statistics!$D$3<>0,IF(AJ731=statistics!$D$3,AG731,\"\"),IF(B731<>\"\",AG731,\"\"))","v":""},{"$f":"IF(statistics!$D$3<>0,IF(AJ731=statistics!$D$3,IF(AH731=0,\"\",AH731),\"\"),IF(AH731<>0,AH731,\"\"))","v":""},{"$f":"IF(statistics!$D$3<>0,IF(AJ731=statistics!$D$3,IF(A731=0,\"\",1),\"\"),IF(A731=0,\"\",1))","v":""},"","",null,"",{"$nulls":6},0,null,null,null,"",null,null,"",null,0,null,{"$error":"#NUM!"},{"$error":"#NUM!"},730]
[{"$nulls":4},"","","","","",null,null,"",{"$nulls":6},741,"",{"$f":"IF(A743=0,IF(B743=\"\",IF(B742=0,\"\",SUM($AG$1:AG742)-SUM($U$1:U741)),\"\"),SUM($AG$1:AG742)-SUM($U$1:U741))","v":""},{"$nulls":5},0,{"$f":"IF(AJ742=statistics!$D$3,AB741+AH742-AG742,)","v":0},{"$f":"IF(AND(ROW(AC742)>=statistics!$C$55,ROW(AC742)<=statistics!$D$55),AC741+AH742-AG742,)","v":0},{"$f":"IF(AND(statistics!$C$55<=ROW(A742),ROW(A742)<=statistics!$D$55)=TRUE,AH742-AG742+AA741-INDEX(AA:AA,statistics!$C$55),\"\")","v":""},null,null,0,0,0,"",{"$f":"IF(statistics!$D$3<>0,IF(AJ742=statistics!$D$3,AG742,\"\"),IF(B742<>\"\",AG742,\"\"))","v":""},{"$f":"IF(statistics!$D$3<>0,IF(AJ742=statistics!$D$3,IF(AH742=0,\"\",AH742),\"\"),IF(AH742<>0,AH742,\"\"))","v":""},{"$f":"IF(statistics!$D$3<>0,IF(AJ742=statistics!$D$3,IF(A742=0,\"\",1),\"\"),IF(A742=0,\"\",1))","v":""},"","",null,"",{"$nulls":6},0,null,null,null,"",null,null,"",null,0,null,{"$error":"#NUM!"},{"$error":"#NUM!"},741]
[{"$nulls":4},"","","","","",null,null,"",{"$nulls":6},746,"",{"$f":"IF(A748=0,IF(B748=\"\",IF(B747=0,\"\",SUM($AG$1:AG747)-SUM($U$1:U746)),\"\"),SUM($AG$1:AG747)-SUM($U$1:U746))","v":""},{"$nulls":5},0,{"$f":"IF(AJ747=statistics!$D$3,AB746+AH747-AG747,)","v":0},{"$f":"IF(AND(ROW(AC747)>=statistics!$C$55,ROW(AC747)<=statistics!$D$55),AC746+AH747-AG747,)","v":0},{"$f":"IF(AND(statistics!$C$55<=ROW(A747),ROW(A747)<=statistics!$D$55)=TRUE,AH747-AG747+AA746-INDEX(AA:AA,statistics!$C$55),\"\")","v":""},null,null,0,0,0,"",{"$f":"IF(statistics!$D$3<>0,IF(AJ747=statistics!$D$3,AG747,\"\"),IF(B747<>\"\",AG747,\"\"))","v":""},{"$f":"IF(statistics!$D$3<>0,IF(AJ747=statistics!$D$3,IF(AH747=0,\"\",AH747),\"\"),IF(AH747<>0,AH747,\"\"))","v":""},{"$f":"IF(statistics!$D$3<>0,IF(AJ747=statistics!$D$3,IF(A747=0,\"\",1),\"\"),IF(A747=0,\"\",1))","v":""},"","",null,"",{"$nulls":6},0,null,null,null,"",null,null,"",null,0,null,{"$error":"#NUM!"},{"$error":"#NUM!"},746]
[{"$nulls":4},"","","","","",null,null,"",{"$nulls":6},761,"",{"$f":"IF(A763=0,IF(B763=\"\",IF(B762=0,\"\",SUM($AG$1:AG762)-SUM($U$1:U761)),\"\"),SUM($AG$1:AG762)-SUM($U$1:U761))","v":""},{"$nulls":5},0,{"$f":"IF(AJ762=statistics!$D$3,AB761+AH762-AG762,)","v":0},{"$f":"IF(AND(ROW(AC762)>=statistics!$C$55,ROW(AC762)<=statistics!$D$55),AC761+AH762-AG762,)","v":0},{"$f":"IF(AND(statistics!$C$55<=ROW(A762),ROW(A762)<=statistics!$D$55)=TRUE,AH762-AG762+AA761-INDEX(AA:AA,statistics!$C$55),\"\")","v":""},null,null,0,0,0,"",{"$f":"IF(statistics!$D$3<>0,IF(AJ762=statistics!$D$3,AG762,\"\"),IF(B762<>\"\",AG762,\"\"))","v":""},{"$f":"IF(statistics!$D$3<>0,IF(AJ762=statistics!$D$3,IF(AH762=0,\"\",AH762),\"\"),IF(AH762<>0,AH762,\"\"))","v":""},{"$f":"IF(statistics!$D$3<>0,IF(AJ762=statistics!$D$3,IF(A762=0,\"\",1),\"\"),IF(A762=0,\"\",1))","v":""},"","",null,"",{"$nulls":6},0,null,null,null,"",null,null,"",null,0,null,{"$error":"#NUM!"},{"$error":"#NUM!"},761]
[{"$nulls":4},"","","","","",null,null,"",{"$nulls":6},772,"",{"$f":"IF(A774=0,IF(B774=\"\",IF(B773=0,\"\",SUM($AG$1:AG773)-SUM($U$1:U772)),\"\"),SUM($AG$1:AG773)-SUM($U$1:U772))","v":""},{"$nulls":5},0,{"$f":"IF(AJ773=statistics!$D$3,AB772+AH773-AG773,)","v":0},{"$f":"IF(AND(ROW(AC773)>=statistics!$C$55,ROW(AC773)<=statistics!$D$55),AC772+AH773-AG773,)","v":0},{"$f":"IF(AND(statistics!$C$55<=ROW(A773),ROW(A773)<=statistics!$D$55)=TRUE,AH773-AG773+AA772-INDEX(AA:AA,statistics!$C$55),\"\")","v":""},null,null,{"$f":"IF(J773=0,B773+C773,(B773+C773)-(B773+C773)*J773*K773)","v":0},{"$f":"IF(J773=0,D773,D773*(1-J773))","v":0},0,"",{"$f":"IF(statistics!$D$3<>0,IF(AJ773=statistics!$D$3,AG773,\"\"),IF(B773<>\"\",AG773,\"\"))","v":""},{"$f":"IF(statistics!$D$3<>0,IF(AJ773=statistics!$D$3,IF(AH773=0,\"\",AH773),\"\"),IF(AH773<>0,AH773,\"\"))","v":""},{"$f":"IF(statistics!$D$3<>0,IF(AJ773=statistics!$D$3,IF(A773=0,\"\",1),\"\"),IF(A773=0,\"\",1))","v":""},"","",null,"",{"$nulls":6},0,null,null,null,"",null,null,"",null,0,null,{"$error":"#NUM!"},{"$error":"#NUM!"},772]
[{"$nulls":4},"","",{"$f":"IF(A786=0,IF(B786=\"\",IF(B785=0,\"\",U785/S785),\"\"),U785/S785)","v":""},"","",null,null,"",{"$nulls":6},784,"",{"$f":"IF(A786=0,IF(B786=\"\",IF(B785=0,\"\",SUM($AG$1:AG785)-SUM($U$1:U784)),\"\"),SUM($AG$1:AG785)-SUM($U$1:U784))","v":""},{"$nulls":5},0,{"$f":"IF(AJ785=statistics!$D$3,AB784+AH785-AG785,)","v":0},{"$f":"IF(AND(ROW(AC785)>=statistics!$C$55,ROW(AC785)<=statistics!$D$55),AC784+AH785-AG785,)","v":0},{"$f":"IF(AND(statistics!$C$55<=ROW(A785),ROW(A785)<=statistics!$D$55)=TRUE,AH785-AG785+AA784-INDEX(AA:AA,statistics!$C$55),\"\")","v":""},null,null,0,0,0,"",{"$f":"IF(statistics!$D$3<>0,IF(AJ785=statistics!$D$3,AG785,\"\"),IF(B785<>\"\",AG785,\"\"))","v":""},{"$f":"IF(statistics!$D$3<>0,IF(AJ785=statistics!$D$3,IF(AH785=0,\"\",AH785),\"\"),IF(AH785<>0,AH785,\"\"))","v":""},{"$f":"IF(statistics!$D$3<>0,IF(AJ785=statistics!$D$3,IF(A785=0,\"\",1),\"\"),IF(A785=0,\"\",1))","v":""},"","",null,"",{"$nulls":6},0,null,null,null,"",null,null,"",null,0,null,{"$error":"#NUM!"},{"$error":"#NUM!"},784]
[{"$nulls":4},"","","","","",null,null,"",{"$nulls":6},787,"",{"$f":"IF(A789=0,IF(B789=\"\",IF(B788=0,\"\",SUM($AG$1:AG788)-SUM($U$1:U787)),\"\"),SUM($AG$1:AG788)-SUM($U$1:U787))","v":""},{"$nulls":5},0,{"$f":"IF(AJ788=statistics!$D$3,AB787+AH788-AG788,)","v":0},{"$f":"IF(AND(ROW(AC788)>=statistics!$C$55,ROW(AC788)<=statistics!$D$55),AC787+AH788-AG788,)","v":0},{"$f":"IF(AND(statistics!$C$55<=ROW(A788),ROW(A788)<=statistics!$D$55)=TRUE,AH788-AG788+AA787-INDEX(AA:AA,statistics!$C$55),\"\")","v":""},null,null,0,0,0,{"$f":"IF(A788<>0,MONTH(A788),IF(B788=\"\",\"\",AJ787))","v":""},{"$f":"IF(statistics!$D$3<>0,IF(AJ788=statistics!$D$3,AG788,\"\"),IF(B788<>\"\",AG788,\"\"))","v":""},{"$f":"IF(statistics!$D$3<>0,IF(AJ788=statistics!$D$3,IF(AH788=0,\"\",AH788),\"\"),IF(AH788<>0,AH788,\"\"))","v":""},{"$f":"IF(statistics!$D$3<>0,IF(AJ788=statistics!$D$3,IF(A788=0,\"\",1),\"\"),IF(A788=0,\"\",1))","v":""},"","",null,"",{"$nulls":6},0,null,null,null,"",null,null,"",null,0,null,{"$error":"#NUM!"},{"$error":"#NUM!"},787]
[{"$nulls":4},"","","","","",null,null,"",{"$nulls":6},802,"",{"$f":"IF(A804=0,IF(B804=\"\",IF(B803=0,\"\",SUM($AG$1:AG803)-SUM($U$1:U802)),\"\"),SUM($AG$1:AG803)-SUM($U$1:U802))","v":""},{"$nulls":5},0,{"$f":"IF(AJ803=statistics!$D$3,AB802+AH803-AG803,)","v":0},{"$f":"IF(AND(ROW(AC803)>=statistics!$C$55,ROW(AC803)<=statistics!$D$55),AC802+AH803-AG803,)","v":0},{"$f":"IF(AND(statistics!$C$55<=ROW(A803),ROW(A803)<=statistics!$D$55)=TRUE,AH803-AG803+AA802-INDEX(AA:AA,statistics!$C$55),\"\")","v":""},null,null,0,0,0,"",{"$f":"IF(statistics!$D$3<>0,IF(AJ803=statistics!$D$3,AG803,\"\"),IF(B803<>\"\",AG803,\"\"))","v":""},{"$f":"IF(statistics!$D$3<>0,IF(AJ803=statistics!$D$3,IF(AH803=0,\"\",AH803),\"\"),IF(AH803<>0,AH803,\"\"))","v":""},{"$f":"IF(statistics!$D$3<>0,IF(AJ803=statistics!$D$3,IF(A803=0,\"\",1),\"\"),IF(A803=0,\"\",1))","v":""},"","",null,"",{"$nulls":6},0,null,null,null,"",null,null,"",null,0,null,{"$error":"#NUM!"},{"$error":"#NUM!"},802]
[{"$nulls":4},"","","","","",null,null,"",{"$nulls":6},807,"",{"$f":"IF(A809=0,IF(B809=\"\",IF(B808=0,\"\",SUM($AG$1:AG808)-SUM($U$1:U807)),\"\"),SUM($AG$1:AG808)-SUM($U$1:U807))","v":""},{"$nulls":5},0,{"$f":"IF(AJ808=statistics!$D$3,AB807+AH808-AG808,)","v":0},{"$f":"IF(AND(ROW(AC808)>=statistics!$C$55,ROW(AC808)<=statistics!$D$55),AC807+AH808-AG808,)","v":0},{"$f":"IF(AND(statistics!$C$55<=ROW(A808),ROW(A808)<=statistics!$D$55)=TRUE,AH808-AG808+AA807-INDEX(AA:AA,statistics!$C$55),\"\")","v":""},null,null,0,0,0,"",{"$f":"IF(statistics!$D$3<>0,IF(AJ808=statistics!$D$3,AG808,\"\"),IF(B808<>\"\",AG808,\"\"))","v":""},{"$f":"IF(statistics!$D$3<>0,IF(AJ808=statistics!$D$3,IF(AH808=0,\"\",AH808),\"\"),IF(AH808<>0,AH808,\"\"))","v":""},{"$f":"IF(statistics!$D$3<>0,IF(AJ808=statistics!$D$3,IF(A808=0,\"\",1),\"\"),IF(A808=0,\"\",1))","v":""},"","",null,"",{"$nulls":6},0,null,null,null,"",null,null,"",null,0,null,{"$error":"#NUM!"},{"$error":"#NUM!"},807]
[{"$nulls":4},"","","","","",null,null,"",{"$nulls":6},818,"",{"$f":"IF(A820=0,IF(B820=\"\",IF(B819=0,\"\",SUM($AG$1:AG819)-SUM($U$1:U818)),\"\"),SUM($AG$1:AG819)-SUM($U$1:U818))","v":""},{"$nulls":5},0,{"$f":"IF(AJ819=statistics!$D$3,AB818+AH819-AG819,)","v":0},{"$f":"IF(AND(ROW(AC819)>=statistics!$C$55,ROW(AC819)<=statistics!$D$55),AC818+AH819-AG819,)","v":0},{"$f":"IF(AND(statistics!$C$55<=ROW(A819),ROW(A819)<=statistics!$D$55)=TRUE,AH819-AG819+AA818-INDEX(AA:AA,statistics!$C$55),\"\")","v":""},null,null,0,0,0,"",{"$f":"IF(statistics!$D$3<>0,IF(AJ819=statistics!$D$3,AG819,\"\"),IF(B819<>\"\",AG819,\"\"))","v":""},{"$f":"IF(statistics!$D$3<>0,IF(AJ819=statistics!$D$3,IF(AH819=0,\"\",AH819),\"\"),IF(AH819<>0,AH819,\"\"))","v":""},{"$f":"IF(statistics!$D$3<>0,IF(AJ819=statistics!$D$3,IF(A819=0,\"\",1),\"\"),IF(A819=0,\"\",1))","v":""},"","",null,"",{"$nulls":6},0,null,null,null,"",null,null,"",null,0,null,{"$error":"#NUM!"},{"$error":"#NUM!"},818]
[{"$nulls":4},"",{"$f":"IF(A834=0,\"\",IF(T834=0,\"\",E834/T834))","v":""},"",{"$f":"IF(A835=0,IF(B835=\"\",IF(B834=0,\"\",U834),\"\"),U834)","v":""},{"$f":"IF(A835=0,IF(B835=\"\",IF(B834=0,\"\",S834),\"\"),S834)","v":""},null,null,"",{"$nulls":6},{"$f":"IF(A834=0,S833+1,1)","v":833},"",{"$f":"IF(A835=0,IF(B835=\"\",IF(B834=0,\"\",SUM($AG$1:AG834)-SUM($U$1:U833)),\"\"),SUM($AG$1:AG834)-SUM($U$1:U833))","v":""},{"$nulls":5},0,{"$f":"IF(AJ834=statistics!$D$3,AB833+AH834-AG834,)","v":0},{"$f":"IF(AND(ROW(AC834)>=statistics!$C$55,ROW(AC834)<=statistics!$D$55),AC833+AH834-AG834,)","v":0},{"$f":"IF(AND(statistics!$C$55<=ROW(A834),ROW(A834)<=statistics!$D$55)=TRUE,AH834-AG834+AA833-INDEX(AA:AA,statistics!$C$55),\"\")","v":""},null,null,0,0,0,"",{"$f":"IF(statistics!$D$3<>0,IF(AJ834=statistics!$D$3,AG834,\"\"),IF(B834<>\"\",AG834,\"\"))","v":""},{"$f":"IF(statistics!$D$3<>0,IF(AJ834=statistics!$D$3,IF(AH834=0,\"\",AH834),\"\"),IF(AH834<>0,AH834,\"\"))","v":""},{"$f":"IF(statistics!$D$3<>0,IF(AJ834=statistics!$D$3,IF(A834=0,\"\",1),\"\"),IF(A834=0,\"\",1))","v":""},"","",null,"",{"$nulls":6},0,null,null,null,"",null,null,"",null,0,null,{"$error":"#NUM!"},{"$error":"#NUM!"},833]
[{"$nulls":4},"","","","","",null,null,"",{"$nulls":6},838,"",{"$f":"IF(A840=0,IF(B840=\"\",IF(B839=0,\"\",SUM($AG$1:AG839)-SUM($U$1:U838)),\"\"),SUM($AG$1:AG839)-SUM($U$1:U838))","v":""},{"$nulls":5},0,{"$f":"IF(AJ839=statistics!$D$3,AB838+AH839-AG839,)","v":0},{"$f":"IF(AND(ROW(AC839)>=statistics!$C$55,ROW(AC839)<=statistics!$D$55),AC838+AH839-AG839,)","v":0},{"$f":"IF(AND(statistics!$C$55<=ROW(A839),ROW(A839)<=statistics!$D$55)=TRUE,AH839-AG839+AA838-INDEX(AA:AA,statistics!$C$55),\"\")","v":""},null,null,0,0,0,"",{"$f":"IF(statistics!$D$3<>0,IF(AJ839=statistics!$D$3,AG839,\"\"),IF(B839<>\"\",AG839,\"\"))","v":""},{"$f":"IF(statistics!$D$3<>0,IF(AJ839=statistics!$D$3,IF(AH839=0,\"\",AH839),\"\"),IF(AH839<>0,AH839,\"\"))","v":""},{"$f":"IF(statistics!$D$3<>0,IF(AJ839=statistics!$D$3,IF(A839=0,\"\",1),\"\"),IF(A839=0,\"\",1))","v":""},"","",null,"",{"$nulls":6},0,null,null,null,"",null,null,"",null,0,null,{"$error":"#NUM!"},{"$error":"#NUM!"},838]
[{"$nulls":4},"","","","","",null,null,"",{"$nulls":6},850,"",{"$f":"IF(A852=0,IF(B852=\"\",IF(B851=0,\"\",SUM($AG$1:AG851)-SUM($U$1:U850)),\"\"),SUM($AG$1:AG851)-SUM($U$1:U850))","v":""},{"$nulls":5},0,{"$f":"IF(AJ851=statistics!$D$3,AB850+AH851-AG851,)","v":0},{"$f":"IF(AND(ROW(AC851)>=statistics!$C$55,ROW(AC851)<=statistics!$D$55),AC850+AH851-AG851,)","v":0},{"$f":"IF(AND(statistics!$C$55<=ROW(A851),ROW(A851)<=statistics!$D$55)=TRUE,AH851-AG851+AA850-INDEX(AA:AA,statistics!$C$55),\"\")","v":""},null,null,0,0,0,"",{"$f":"IF(statistics!$D$3<>0,IF(AJ851=statistics!$D$3,AG851,\"\"),IF(B851<>\"\",AG851,\"\"))","v":""},{"$f":"IF(statistics!$D$3<>0,IF(AJ851=statistics!$D$3,IF(AH851=0,\"\",AH851),\"\"),IF(AH851<>0,AH851,\"\"))","v":""},{"$f":"IF(statistics!$D$3<>0,IF(AJ851=statistics!$D$3,IF(A851=0,\"\",1),\"\"),IF(A851=0,\"\",1))","v":""},"","",null,"",{"$nulls":6},0,null,null,null,"",null,null,"",null,0,null,{"$error":"#NUM!"},{"$error":"#NUM!"},850]
[{"$nulls":4},"","","","","",null,null,"",{"$nulls":6},863,"",{"$f":"IF(A865=0,IF(B865=\"\",IF(B864=0,\"\",SUM($AG$1:AG864)-SUM($U$1:U863)),\"\"),SUM($AG$1:AG864)-SUM($U$1:U863))","v":""},{"$nulls":5},0,{"$f":"IF(AJ864=statistics!$D$3,AB863+AH864-AG864,)","v":0},{"$f":"IF(AND(ROW(AC864)>=statistics!$C$55,ROW(AC864)<=statistics!$D$55),AC863+AH864-AG864,)","v":0},{"$f":"IF(AND(statistics!$C$55<=ROW(A864),ROW(A864)<=statistics!$D$55)=TRUE,AH864-AG864+AA863-INDEX(AA:AA,statistics!$C$55),\"\")","v":""},null,null,0,0,0,"",{"$f":"IF(statistics!$D$3<>0,IF(AJ864=statistics!$D$3,AG864,\"\"),IF(B864<>\"\",AG864,\"\"))","v":""},{"$f":"IF(statistics!$D$3<>0,IF(AJ864=statistics!$D$3,IF(AH864=0,\"\",AH864),\"\"),IF(AH864<>0,AH864,\"\"))","v":""},{"$f":"IF(statistics!$D$3<>0,IF(AJ864=statistics!$D$3,IF(A864=0,\"\",1),\"\"),IF(A864=0,\"\",1))","v":""},"","",null,"",{"$nulls":6},0,null,null,null,"",null,null,"",null,0,null,{"$error":"#NUM!"},{"$error":"#NUM!"},863]
[{"$nulls":4},"","","","","",null,null,"",{"$nulls":6},864,"",{"$f":"IF(A866=0,IF(B866=\"\",IF(B865=0,\"\",SUM($AG$1:AG865)-SUM($U$1:U864)),\"\"),SUM($AG$1:AG865)-SUM($U$1:U864))","v":""},{"$nulls":5},0,{"$f":"IF(AJ865=statistics!$D$3,AB864+AH865-AG865,)","v":0},{"$f":"IF(AND(ROW(AC865)>=statistics!$C$55,ROW(AC865)<=statistics!$D$55),AC864+AH865-AG865,)","v":0},{"$f":"IF(AND(statistics!$C$55<=ROW(A865),ROW(A865)<=statistics!$D$55)=TRUE,AH865-AG865+AA864-INDEX(AA:AA,statistics!$C$55),\"\")","v":""},null,null,0,0,0,"",{"$f":"IF(statistics!$D$3<>0,IF(AJ865=statistics!$D$3,AG865,\"\"),IF(B865<>\"\",AG865,\"\"))","v":""},{"$f":"IF(statistics!$D$3<>0,IF(AJ865=statistics!$D$3,IF(AH865=0,\"\",AH865),\"\"),IF(AH865<>0,AH865,\"\"))","v":""},{"$f":"IF(statistics!$D$3<>0,IF(AJ865=statistics!$D$3,IF(A865=0,\"\",1),\"\"),IF(A865=0,\"\",1))","v":""},"","",null,"",{"$nulls":6},0,null,null,null,"",null,null,"",null,0,null,{"$error":"#NUM!"},{"$error":"#NUM!"},864]
[{"$nulls":4},"","","","","",null,null,"",{"$nulls":6},879,"",{"$f":"IF(A881=0,IF(B881=\"\",IF(B880=0,\"\",SUM($AG$1:AG880)-SUM($U$1:U879)),\"\"),SUM($AG$1:AG880)-SUM($U$1:U879))","v":""},{"$nulls":5},0,{"$f":"IF(AJ880=statistics!$D$3,AB879+AH880-AG880,)","v":0},{"$f":"IF(AND(ROW(AC880)>=statistics!$C$55,ROW(AC880)<=statistics!$D$55),AC879+AH880-AG880,)","v":0},{"$f":"IF(AND(statistics!$C$55<=ROW(A880),ROW(A880)<=statistics!$D$55)=TRUE,AH880-AG880+AA879-INDEX(AA:AA,statistics!$C$55),\"\")","v":""},null,null,0,0,0,"",{"$f":"IF(statistics!$D$3<>0,IF(AJ880=statistics!$D$3,AG880,\"\"),IF(B880<>\"\",AG880,\"\"))","v":""},{"$f":"IF(statistics!$D$3<>0,IF(AJ880=statistics!$D$3,IF(AH880=0,\"\",AH880),\"\"),IF(AH880<>0,AH880,\"\"))","v":""},{"$f":"IF(statistics!$D$3<>0,IF(AJ880=statistics!$D$3,IF(A880=0,\"\",1),\"\"),IF(A880=0,\"\",1))","v":""},"","",null,"",{"$nulls":6},0,null,null,null,"",null,null,"",null,0,null,{"$error":"#NUM!"},{"$error":"#NUM!"},879]
[{"$nulls":4},"","","","","",null,null,"",{"$nulls":6},884,"",{"$f":"IF(A886=0,IF(B886=\"\",IF(B885=0,\"\",SUM($AG$1:AG885)-SUM($U$1:U884)),\"\"),SUM($AG$1:AG885)-SUM($U$1:U884))","v":""},{"$nulls":5},0,{"$f":"IF(AJ885=statistics!$D$3,AB884+AH885-AG885,)","v":0},{"$f":"IF(AND(ROW(AC885)>=statistics!$C$55,ROW(AC885)<=statistics!$D$55),AC884+AH885-AG885,)","v":0},{"$f":"IF(AND(statistics!$C$55<=ROW(A885),ROW(A885)<=statistics!$D$55)=TRUE,AH885-AG885+AA884-INDEX(AA:AA,statistics!$C$55),\"\")","v":""},null,null,0,0,0,"",{"$f":"IF(statistics!$D$3<>0,IF(AJ885=statistics!$D$3,AG885,\"\"),IF(B885<>\"\",AG885,\"\"))","v":""},{"$f":"IF(statistics!$D$3<>0,IF(AJ885=statistics!$D$3,IF(AH885=0,\"\",AH885),\"\"),IF(AH885<>0,AH885,\"\"))","v":""},{"$f":"IF(statistics!$D$3<>0,IF(AJ885=statistics!$D$3,IF(A885=0,\"\",1),\"\"),IF(A885=0,\"\",1))","v":""},"","",null,"",{"$nulls":6},0,null,null,null,"",null,null,"",null,0,null,{"$error":"#NUM!"},{"$error":"#NUM!"},884]
[{"$nulls":4},"","","","","",null,null,"",{"$nulls":6},895,"",{"$f":"IF(A897=0,IF(B897=\"\",IF(B896=0,\"\",SUM($AG$1:AG896)-SUM($U$1:U895)),\"\"),SUM($AG$1:AG896)-SUM($U$1:U895))","v":""},{"$nulls":5},0,{"$f":"IF(AJ896=statistics!$D$3,AB895+AH896-AG896,)","v":0},{"$f":"IF(AND(ROW(AC896)>=statistics!$C$55,ROW(AC896)<=statistics!$D$55),AC895+AH896-AG896,)","v":0},{"$f":"IF(AND(statistics!$C$55<=ROW(A896),ROW(A896)<=statistics!$D$55)=TRUE,AH896-AG896+AA895-INDEX(AA:AA,statistics!$C$55),\"\")","v":""},null,null,0,0,0,"",{"$f":"IF(statistics!$D$3<>0,IF(AJ896=statistics!$D$3,AG896,\"\"),IF(B896<>\"\",AG896,\"\"))","v":""},{"$f":"IF(statistics!$D$3<>0,IF(AJ896=statistics!$D$3,IF(AH896=0,\"\",AH896),\"\"),IF(AH896<>0,AH896,\"\"))","v":""},{"$f":"IF(statistics!$D$3<>0,IF(AJ896=statistics!$D$3,IF(A896=0,\"\",1),\"\"),IF(A896=0,\"\",1))","v":""},"","",null,"",{"$nulls":6},0,null,null,null,"",null,null,"",null,0,null,{"$error":"#NUM!"},{"$error":"#NUM!"},895]
[{"$nulls":4},"","","","","",null,null,"",{"$nulls":6},910,"",{"$f":"IF(A912=0,IF(B912=\"\",IF(B911=0,\"\",SUM($AG$1:AG911)-SUM($U$1:U910)),\"\"),SUM($AG$1:AG911)-SUM($U$1:U910))","v":""},{"$nulls":5},0,{"$f":"IF(AJ911=statistics!$D$3,AB910+AH911-AG911,)","v":0},{"$f":"IF(AND(ROW(AC911)>=statistics!$C$55,ROW(AC911)<=statistics!$D$55),AC910+AH911-AG911,)","v":0},{"$f":"IF(AND(statistics!$C$55<=ROW(A911),ROW(A911)<=statistics!$D$55)=TRUE,AH911-AG911+AA910-INDEX(AA:AA,statistics!$C$55),\"\")","v":""},null,null,0,0,0,"",{"$f":"IF(statistics!$D$3<>0,IF(AJ911=statistics!$D$3,AG911,\"\"),IF(B911<>\"\",AG911,\"\"))","v":""},{"$f":"IF(statistics!$D$3<>0,IF(AJ911=statistics!$D$3,IF(AH911=0,\"\",AH911),\"\"),IF(AH911<>0,AH911,\"\"))","v":""},{"$f":"IF(statistics!$D$3<>0,IF(AJ911=statistics!$D$3,IF(A911=0,\"\",1),\"\"),IF(A911=0,\"\",1))","v":""},"","",null,"",{"$nulls":6},0,null,null,null,"",null,null,"",null,0,null,{"$error":"#NUM!"},{"$error":"#NUM!"},910]
[{"$nulls":4},"","","","","",null,null,"",{"$nulls":6},916,"",{"$f":"IF(A918=0,IF(B918=\"\",IF(B917=0,\"\",SUM($AG$1:AG917)-SUM($U$1:U916)),\"\"),SUM($AG$1:AG917)-SUM($U$1:U916))","v":""},{"$nulls":5},0,{"$f":"IF(AJ917=statistics!$D$3,AB916+AH917-AG917,)","v":0},{"$f":"IF(AND(ROW(AC917)>=statistics!$C$55,ROW(AC917)<=statistics!$D$55),AC916+AH917-AG917,)","v":0},{"$f":"IF(AND(statistics!$C$55<=ROW(A917),ROW(A917)<=statistics!$D$55)=TRUE,AH917-AG917+AA916-INDEX(AA:AA,statistics!$C$55),\"\")","v":""},null,null,0,0,0,"",{"$f":"IF(statistics!$D$3<>0,IF(AJ917=statistics!$D$3,AG917,\"\"),IF(B917<>\"\",AG917,\"\"))","v":""},{"$f":"IF(statistics!$D$3<>0,IF(AJ917=statistics!$D$3,IF(AH917=0,\"\",AH917),\"\"),IF(AH917<>0,AH917,\"\"))","v":""},{"$f":"IF(statistics!$D$3<>0,IF(AJ917=statistics!$D$3,IF(A917=0,\"\",1),\"\"),IF(A917=0,\"\",1))","v":""},"","",null,"",{"$nulls":6},0,null,null,null,"",null,null,"",null,0,null,{"$error":"#NUM!"},{"$error":"#NUM!"},916]
[{"$nulls":4},"","","","","",null,null,"",{"$nulls":6},925,"",{"$f":"IF(A927=0,IF(B927=\"\",IF(B926=0,\"\",SUM($AG$1:AG926)-SUM($U$1:U925)),\"\"),SUM($AG$1:AG926)-SUM($U$1:U925))","v":""},{"$nulls":5},0,{"$f":"IF(AJ926=statistics!$D$3,AB925+AH926-AG926,)","v":0},{"$f":"IF(AND(ROW(AC926)>=statistics!$C$55,ROW(AC926)<=statistics!$D$55),AC925+AH926-AG926,)","v":0},{"$f":"IF(AND(statistics!$C$55<=ROW(A926),ROW(A926)<=statistics!$D$55)=TRUE,AH926-AG926+AA925-INDEX(AA:AA,statistics!$C$55),\"\")","v":""},null,null,0,0,0,"",{"$f":"IF(statistics!$D$3<>0,IF(AJ926=statistics!$D$3,AG926,\"\"),IF(B926<>\"\",AG926,\"\"))","v":""},{"$f":"IF(statistics!$D$3<>0,IF(AJ926=statistics!$D$3,IF(AH926=0,\"\",AH926),\"\"),IF(AH926<>0,AH926,\"\"))","v":""},{"$f":"IF(statistics!$D$3<>0,IF(AJ926=statistics!$D$3,IF(A926=0,\"\",1),\"\"),IF(A926=0,\"\",1))","v":""},"","",null,"",{"$nulls":6},0,null,null,null,"",null,null,"",null,0,null,{"$error":"#NUM!"},{"$error":"#NUM!"},925]
[{"$nulls":4},"","","","","",null,null,"",{"$nulls":6},940,"",{"$f":"IF(A942=0,IF(B942=\"\",IF(B941=0,\"\",SUM($AG$1:AG941)-SUM($U$1:U940)),\"\"),SUM($AG$1:AG941)-SUM($U$1:U940))","v":""},{"$nulls":5},0,{"$f":"IF(AJ941=statistics!$D$3,AB940+AH941-AG941,)","v":0},{"$f":"IF(AND(ROW(AC941)>=statistics!$C$55,ROW(AC941)<=statistics!$D$55),AC940+AH941-AG941,)","v":0},{"$f":"IF(AND(statistics!$C$55<=ROW(A941),ROW(A941)<=statistics!$D$55)=TRUE,AH941-AG941+AA940-INDEX(AA:AA,statistics!$C$55),\"\")","v":""},null,null,0,0,0,"",{"$f":"IF(statistics!$D$3<>0,IF(AJ941=statistics!$D$3,AG941,\"\"),IF(B941<>\"\",AG941,\"\"))","v":""},{"$f":"IF(statistics!$D$3<>0,IF(AJ941=statistics!$D$3,IF(AH941=0,\"\",AH941),\"\"),IF(AH941<>0,AH941,\"\"))","v":""},{"$f":"IF(statistics!$D$3<>0,IF(AJ941=statistics!$D$3,IF(A941=0,\"\",1),\"\"),IF(A941=0,\"\",1))","v":""},"","",null,"",{"$nulls":6},0,null,null,null,"",null,null,"",null,0,null,{"$error":"#NUM!"},{"$error":"#NUM!"},940]
[{"$nulls":4},"","","","","",null,null,"",{"$nulls":6},951,"",{"$f":"IF(A953=0,IF(B953=\"\",IF(B952=0,\"\",SUM($AG$1:AG952)-SUM($U$1:U951)),\"\"),SUM($AG$1:AG952)-SUM($U$1:U951))","v":""},{"$nulls":5},0,{"$f":"IF(AJ952=statistics!$D$3,AB951+AH952-AG952,)","v":0},{"$f":"IF(AND(ROW(AC952)>=statistics!$C$55,ROW(AC952)<=statistics!$D$55),AC951+AH952-AG952,)","v":0},{"$f":"IF(AND(statistics!$C$55<=ROW(A952),ROW(A952)<=statistics!$D$55)=TRUE,AH952-AG952+AA951-INDEX(AA:AA,statistics!$C$55),\"\")","v":""},null,null,0,0,0,"",{"$f":"IF(statistics!$D$3<>0,IF(AJ952=statistics!$D$3,AG952,\"\"),IF(B952<>\"\",AG952,\"\"))","v":""},{"$f":"IF(statistics!$D$3<>0,IF(AJ952=statistics!$D$3,IF(AH952=0,\"\",AH952),\"\"),IF(AH952<>0,AH952,\"\"))","v":""},{"$f":"IF(statistics!$D$3<>0,IF(AJ952=statistics!$D$3,IF(A952=0,\"\",1),\"\"),IF(A952=0,\"\",1))","v":""},"","",null,"",{"$nulls":6},0,null,null,null,"",null,null,"",null,0,null,{"$error":"#NUM!"},{"$error":"#NUM!"},951]
[{"$nulls":4},"","","","","",null,null,"",{"$nulls":6},956,"",{"$f":"IF(A958=0,IF(B958=\"\",IF(B957=0,\"\",SUM($AG$1:AG957)-SUM($U$1:U956)),\"\"),SUM($AG$1:AG957)-SUM($U$1:U956))","v":""},{"$nulls":5},0,{"$f":"IF(AJ957=statistics!$D$3,AB956+AH957-AG957,)","v":0},{"$f":"IF(AND(ROW(AC957)>=statistics!$C$55,ROW(AC957)<=statistics!$D$55),AC956+AH957-AG957,)","v":0},{"$f":"IF(AND(statistics!$C$55<=ROW(A957),ROW(A957)<=statistics!$D$55)=TRUE,AH957-AG957+AA956-INDEX(AA:AA,statistics!$C$55),\"\")","v":""},null,null,0,0,0,"",{"$f":"IF(statistics!$D$3<>0,IF(AJ957=statistics!$D$3,AG957,\"\"),IF(B957<>\"\",AG957,\"\"))","v":""},{"$f":"IF(statistics!$D$3<>0,IF(AJ957=statistics!$D$3,IF(AH957=0,\"\",AH957),\"\"),IF(AH957<>0,AH957,\"\"))","v":""},{"$f":"IF(statistics!$D$3<>0,IF(AJ957=statistics!$D$3,IF(A957=0,\"\",1),\"\"),IF(A957=0,\"\",1))","v":""},"","",null,"",{"$nulls":6},0,null,null,null,"",null,null,"",null,0,null,{"$error":"#NUM!"},{"$error":"#NUM!"},956]
[{"$nulls":4},"","","","","",null,null,"",{"$nulls":6},971,"",{"$f":"IF(A973=0,IF(B973=\"\",IF(B972=0,\"\",SUM($AG$1:AG972)-SUM($U$1:U971)),\"\"),SUM($AG$1:AG972)-SUM($U$1:U971))","v":""},{"$nulls":5},0,{"$f":"IF(AJ972=statistics!$D$3,AB971+AH972-AG972,)","v":0},{"$f":"IF(AND(ROW(AC972)>=statistics!$C$55,ROW(AC972)<=statistics!$D$55),AC971+AH972-AG972,)","v":0},{"$f":"IF(AND(statistics!$C$55<=ROW(A972),ROW(A972)<=statistics!$D$55)=TRUE,AH972-AG972+AA971-INDEX(AA:AA,statistics!$C$55),\"\")","v":""},null,null,0,0,0,"",{"$f":"IF(statistics!$D$3<>0,IF(AJ972=statistics!$D$3,AG972,\"\"),IF(B972<>\"\",AG972,\"\"))","v":""},{"$f":"IF(statistics!$D$3<>0,IF(AJ972=statistics!$D$3,IF(AH972=0,\"\",AH972),\"\"),IF(AH972<>0,AH972,\"\"))","v":""},{"$f":"IF(statistics!$D$3<>0,IF(AJ972=statistics!$D$3,IF(A972=0,\"\",1),\"\"),IF(A972=0,\"\",1))","v":""},"","",null,"",{"$nulls":6},0,null,null,null,"",null,null,"",null,0,null,{"$error":"#NUM!"},{"$error":"#NUM!"},971]
[{"$nulls":4},"","","","","",null,null,"",{"$nulls":6},982,"",{"$f":"IF(A984=0,IF(B984=\"\",IF(B983=0,\"\",SUM($AG$1:AG983)-SUM($U$1:U982)),\"\"),SUM($AG$1:AG983)-SUM($U$1:U982))","v":""},{"$nulls":5},0,{"$f":"IF(AJ983=statistics!$D$3,AB982+AH983-AG983,)","v":0},{"$f":"IF(AND(ROW(AC983)>=statistics!$C$55,ROW(AC983)<=statistics!$D$55),AC982+AH983-AG983,)","v":0},{"$f":"IF(AND(statistics!$C$55<=ROW(A983),ROW(A983)<=statistics!$D$55)=TRUE,AH983-AG983+AA982-INDEX(AA:AA,statistics!$C$55),\"\")","v":""},null,null,0,0,0,"",{"$f":"IF(statistics!$D$3<>0,IF(AJ983=statistics!$D$3,AG983,\"\"),IF(B983<>\"\",AG983,\"\"))","v":""},{"$f":"IF(statistics!$D$3<>0,IF(AJ983=statistics!$D$3,IF(AH983=0,\"\",AH983),\"\"),IF(AH983<>0,AH983,\"\"))","v":""},{"$f":"IF(statistics!$D$3<>0,IF(AJ983=statistics!$D$3,IF(A983=0,\"\",1),\"\"),IF(A983=0,\"\",1))","v":""},"","",null,"",{"$nulls":6},0,null,null,null,"",null,null,"",null,0,null,{"$error":"#NUM!"},{"$error":"#NUM!"},982]
[{"$nulls":4},"","","","","",null,null,"",{"$nulls":6},987,"",{"$f":"IF(A989=0,IF(B989=\"\",IF(B988=0,\"\",SUM($AG$1:AG988)-SUM($U$1:U987)),\"\"),SUM($AG$1:AG988)-SUM($U$1:U987))","v":""},{"$nulls":5},0,{"$f":"IF(AJ988=statistics!$D$3,AB987+AH988-AG988,)","v":0},{"$f":"IF(AND(ROW(AC988)>=statistics!$C$55,ROW(AC988)<=statistics!$D$55),AC987+AH988-AG988,)","v":0},{"$f":"IF(AND(statistics!$C$55<=ROW(A988),ROW(A988)<=statistics!$D$55)=TRUE,AH988-AG988+AA987-INDEX(AA:AA,statistics!$C$55),\"\")","v":""},null,null,0,0,0,"",{"$f":"IF(statistics!$D$3<>0,IF(AJ988=statistics!$D$3,AG988,\"\"),IF(B988<>\"\",AG988,\"\"))","v":""},{"$f":"IF(statistics!$D$3<>0,IF(AJ988=statistics!$D$3,IF(AH988=0,\"\",AH988),\"\"),IF(AH988<>0,AH988,\"\"))","v":""},{"$f":"IF(statistics!$D$3<>0,IF(AJ988=statistics!$D$3,IF(A988=0,\"\",1),\"\"),IF(A988=0,\"\",1))","v":""},"","",null,"",{"$nulls":6},0,null,null,null,"",null,null,"",null,0,null,{"$error":"#NUM!"},{"$error":"#NUM!"},987]
[{"$nulls":4},"","","","","",null,null,"",{"$nulls":6},995,"",{"$f":"IF(A997=0,IF(B997=\"\",IF(B996=0,\"\",SUM($AG$1:AG996)-SUM($U$1:U995)),\"\"),SUM($AG$1:AG996)-SUM($U$1:U995))","v":""},{"$nulls":5},0,{"$f":"IF(AJ996=statistics!$D$3,AB995+AH996-AG996,)","v":0},{"$f":"IF(AND(ROW(AC996)>=statistics!$C$55,ROW(AC996)<=statistics!$D$55),AC995+AH996-AG996,)","v":0},{"$f":"IF(AND(statistics!$C$55<=ROW(A996),ROW(A996)<=statistics!$D$55)=TRUE,AH996-AG996+AA995-INDEX(AA:AA,statistics!$C$55),\"\")","v":""},null,null,0,0,0,"",{"$f":"IF(statistics!$D$3<>0,IF(AJ996=statistics!$D$3,AG996,\"\"),IF(B996<>\"\",AG996,\"\"))","v":""},{"$f":"IF(statistics!$D$3<>0,IF(AJ996=statistics!$D$3,IF(AH996=0,\"\",AH996),\"\"),IF(AH996<>0,AH996,\"\"))","v":""},{"$f":"IF(statistics!$D$3<>0,IF(AJ996=statistics!$D$3,IF(A996=0,\"\",1),\"\"),IF(A996=0,\"\",1))","v":""},"","",null,"",{"$nulls":6},0,null,null,null,"",null,null,"",null,0,null,{"$error":"#NUM!"},{"$error":"#NUM!"},995]
[{"$nulls":4},"","","","","",null,null,"",{"$nulls":6},1002,"",{"$f":"IF(A1004=0,IF(B1004=\"\",IF(B1003=0,\"\",SUM($AG$1:AG1003)-SUM($U$1:U1002)),\"\"),SUM($AG$1:AG1003)-SUM($U$1:U1002))","v":""},{"$nulls":5},0,{"$f":"IF(AJ1003=statistics!$D$3,AB1002+AH1003-AG1003,)","v":0},{"$f":"IF(AND(ROW(AC1003)>=statistics!$C$55,ROW(AC1003)<=statistics!$D$55),AC1002+AH1003-AG1003,)","v":0},{"$f":"IF(AND(statistics!$C$55<=ROW(A1003),ROW(A1003)<=statistics!$D$55)=TRUE,AH1003-AG1003+AA1002-INDEX(AA:AA,statistics!$C$55),\"\")","v":""},null,null,0,0,0,"",{"$f":"IF(statistics!$D$3<>0,IF(AJ1003=statistics!$D$3,AG1003,\"\"),IF(B1003<>\"\",AG1003,\"\"))","v":""},{"$f":"IF(statistics!$D$3<>0,IF(AJ1003=statistics!$D$3,IF(AH1003=0,\"\",AH1003),\"\"),IF(AH1003<>0,AH1003,\"\"))","v":""},{"$f":"IF(statistics!$D$3<>0,IF(AJ1003=statistics!$D$3,IF(A1003=0,\"\",1),\"\"),IF(A1003=0,\"\",1))","v":""},"","",null,"",{"$nulls":6},0,null,null,null,"",null,null,"",null,0,null,{"$error":"#NUM!"},{"$error":"#NUM!"},1002]
[{"$nulls":4},"","","","","",null,null,"",{"$nulls":6},1017,"",{"$f":"IF(A1019=0,IF(B1019=\"\",IF(B1018=0,\"\",SUM($AG$1:AG1018)-SUM($U$1:U1017)),\"\"),SUM($AG$1:AG1018)-SUM($U$1:U1017))","v":""},{"$nulls":5},0,{"$f":"IF(AJ1018=statistics!$D$3,AB1017+AH1018-AG1018,)","v":0},{"$f":"IF(AND(ROW(AC1018)>=statistics!$C$55,ROW(AC1018)<=statistics!$D$55),AC1017+AH1018-AG1018,)","v":0},{"$f":"IF(AND(statistics!$C$55<=ROW(A1018),ROW(A1018)<=statistics!$D$55)=TRUE,AH1018-AG1018+AA1017-INDEX(AA:AA,statistics!$C$55),\"\")","v":""},null,null,0,0,0,"",{"$f":"IF(statistics!$D$3<>0,IF(AJ1018=statistics!$D$3,AG1018,\"\"),IF(B1018<>\"\",AG1018,\"\"))","v":""},{"$f":"IF(statistics!$D$3<>0,IF(AJ1018=statistics!$D$3,IF(AH1018=0,\"\",AH1018),\"\"),IF(AH1018<>0,AH1018,\"\"))","v":""},{"$f":"IF(statistics!$D$3<>0,IF(AJ1018=statistics!$D$3,IF(A1018=0,\"\",1),\"\"),IF(A1018=0,\"\",1))","v":""},"","",null,"",{"$nulls":6},0,null,null,null,"",null,null,"",null,0,null,{"$error":"#NUM!"},{"$error":"#NUM!"},1017]
[{"$nulls":4},"","","","","",null,null,"",{"$nulls":6},1028,"",{"$f":"IF(A1030=0,IF(B1030=\"\",IF(B1029=0,\"\",SUM($AG$1:AG1029)-SUM($U$1:U1028)),\"\"),SUM($AG$1:AG1029)-SUM($U$1:U1028))","v":""},{"$nulls":5},0,{"$f":"IF(AJ1029=statistics!$D$3,AB1028+AH1029-AG1029,)","v":0},{"$f":"IF(AND(ROW(AC1029)>=statistics!$C$55,ROW(AC1029)<=statistics!$D$55),AC1028+AH1029-AG1029,)","v":0},{"$f":"IF(AND(statistics!$C$55<=ROW(A1029),ROW(A1029)<=statistics!$D$55)=TRUE,AH1029-AG1029+AA1028-INDEX(AA:AA,statistics!$C$55),\"\")","v":""},null,null,0,0,0,"",{"$f":"IF(statistics!$D$3<>0,IF(AJ1029=statistics!$D$3,AG1029,\"\"),IF(B1029<>\"\",AG1029,\"\"))","v":""},{"$f":"IF(statistics!$D$3<>0,IF(AJ1029=statistics!$D$3,IF(AH1029=0,\"\",AH1029),\"\"),IF(AH1029<>0,AH1029,\"\"))","v":""},{"$f":"IF(statistics!$D$3<>0,IF(AJ1029=statistics!$D$3,IF(A1029=0,\"\",1),\"\"),IF(A1029=0,\"\",1))","v":""},"","",null,"",{"$nulls":6},0,null,null,null,"",null,null,"",null,0,null,{"$error":"#NUM!"},{"$error":"#NUM!"},1028]
[{"$nulls":4},"","","","","",null,null,"",{"$nulls":6},1033,"",{"$f":"IF(A1035=0,IF(B1035=\"\",IF(B1034=0,\"\",SUM($AG$1:AG1034)-SUM($U$1:U1033)),\"\"),SUM($AG$1:AG1034)-SUM($U$1:U1033))","v":""},{"$nulls":5},0,{"$f":"IF(AJ1034=statistics!$D$3,AB1033+AH1034-AG1034,)","v":0},{"$f":"IF(AND(ROW(AC1034)>=statistics!$C$55,ROW(AC1034)<=statistics!$D$55),AC1033+AH1034-AG1034,)","v":0},{"$f":"IF(AND(statistics!$C$55<=ROW(A1034),ROW(A1034)<=statistics!$D$55)=TRUE,AH1034-AG1034+AA1033-INDEX(AA:AA,statistics!$C$55),\"\")","v":""},null,null,0,0,0,"",{"$f":"IF(statistics!$D$3<>0,IF(AJ1034=statistics!$D$3,AG1034,\"\"),IF(B1034<>\"\",AG1034,\"\"))","v":""},{"$f":"IF(statistics!$D$3<>0,IF(AJ1034=statistics!$D$3,IF(AH1034=0,\"\",AH1034),\"\"),IF(AH1034<>0,AH1034,\"\"))","v":""},{"$f":"IF(statistics!$D$3<>0,IF(AJ1034=statistics!$D$3,IF(A1034=0,\"\",1),\"\"),IF(A1034=0,\"\",1))","v":""},"","",null,"",{"$nulls":6},0,null,null,null,"",null,null,"",null,0,null,{"$error":"#NUM!"},{"$error":"#NUM!"},1033]
[{"$nulls":4},"","","","","",null,null,"",{"$nulls":6},1044,"",{"$f":"IF(A1046=0,IF(B1046=\"\",IF(B1045=0,\"\",SUM($AG$1:AG1045)-SUM($U$1:U1044)),\"\"),SUM($AG$1:AG1045)-SUM($U$1:U1044))","v":""},{"$nulls":5},0,{"$f":"IF(AJ1045=statistics!$D$3,AB1044+AH1045-AG1045,)","v":0},{"$f":"IF(AND(ROW(AC1045)>=statistics!$C$55,ROW(AC1045)<=statistics!$D$55),AC1044+AH1045-AG1045,)","v":0},{"$f":"IF(AND(statistics!$C$55<=ROW(A1045),ROW(A1045)<=statistics!$D$55)=TRUE,AH1045-AG1045+AA1044-INDEX(AA:AA,statistics!$C$55),\"\")","v":""},null,null,0,0,0,"",{"$f":"IF(statistics!$D$3<>0,IF(AJ1045=statistics!$D$3,AG1045,\"\"),IF(B1045<>\"\",AG1045,\"\"))","v":""},{"$f":"IF(statistics!$D$3<>0,IF(AJ1045=statistics!$D$3,IF(AH1045=0,\"\",AH1045),\"\"),IF(AH1045<>0,AH1045,\"\"))","v":""},{"$f":"IF(statistics!$D$3<>0,IF(AJ1045=statistics!$D$3,IF(A1045=0,\"\",1),\"\"),IF(A1045=0,\"\",1))","v":""},"","",null,"",{"$nulls":6},0,null,null,null,"",null,null,"",null,0,null,{"$error":"#NUM!"},{"$error":"#NUM!"},1044]
[{"$nulls":4},"","","","","",null,null,"",{"$nulls":6},1059,"",{"$f":"IF(A1061=0,IF(B1061=\"\",IF(B1060=0,\"\",SUM($AG$1:AG1060)-SUM($U$1:U1059)),\"\"),SUM($AG$1:AG1060)-SUM($U$1:U1059))","v":""},{"$nulls":5},0,{"$f":"IF(AJ1060=statistics!$D$3,AB1059+AH1060-AG1060,)","v":0},{"$f":"IF(AND(ROW(AC1060)>=statistics!$C$55,ROW(AC1060)<=statistics!$D$55),AC1059+AH1060-AG1060,)","v":0},{"$f":"IF(AND(statistics!$C$55<=ROW(A1060),ROW(A1060)<=statistics!$D$55)=TRUE,AH1060-AG1060+AA1059-INDEX(AA:AA,statistics!$C$55),\"\")","v":""},null,null,0,0,0,"",{"$f":"IF(statistics!$D$3<>0,IF(AJ1060=statistics!$D$3,AG1060,\"\"),IF(B1060<>\"\",AG1060,\"\"))","v":""},{"$f":"IF(statistics!$D$3<>0,IF(AJ1060=statistics!$D$3,IF(AH1060=0,\"\",AH1060),\"\"),IF(AH1060<>0,AH1060,\"\"))","v":""},{"$f":"IF(statistics!$D$3<>0,IF(AJ1060=statistics!$D$3,IF(A1060=0,\"\",1),\"\"),IF(A1060=0,\"\",1))","v":""},"","",null,"",{"$nulls":6},0,null,null,null,"",null,null,"",null,0,null,{"$error":"#NUM!"},{"$error":"#NUM!"},1059]
[{"$nulls":4},"","","","","",null,null,"",{"$nulls":6},1066,"",{"$f":"IF(A1068=0,IF(B1068=\"\",IF(B1067=0,\"\",SUM($AG$1:AG1067)-SUM($U$1:U1066)),\"\"),SUM($AG$1:AG1067)-SUM($U$1:U1066))","v":""},{"$nulls":5},0,{"$f":"IF(AJ1067=statistics!$D$3,AB1066+AH1067-AG1067,)","v":0},{"$f":"IF(AND(ROW(AC1067)>=statistics!$C$55,ROW(AC1067)<=statistics!$D$55),AC1066+AH1067-AG1067,)","v":0},{"$f":"IF(AND(statistics!$C$55<=ROW(A1067),ROW(A1067)<=statistics!$D$55)=TRUE,AH1067-AG1067+AA1066-INDEX(AA:AA,statistics!$C$55),\"\")","v":""},null,null,0,0,0,"",{"$f":"IF(statistics!$D$3<>0,IF(AJ1067=statistics!$D$3,AG1067,\"\"),IF(B1067<>\"\",AG1067,\"\"))","v":""},{"$f":"IF(statistics!$D$3<>0,IF(AJ1067=statistics!$D$3,IF(AH1067=0,\"\",AH1067),\"\"),IF(AH1067<>0,AH1067,\"\"))","v":""},{"$f":"IF(statistics!$D$3<>0,IF(AJ1067=statistics!$D$3,IF(A1067=0,\"\",1),\"\"),IF(A1067=0,\"\",1))","v":""},"","",null,"",{"$nulls":6},0,null,null,null,"",null,null,"",null,0,null,{"$error":"#NUM!"},{"$error":"#NUM!"},1066]
[{"$nulls":4},"","","","","",null,null,"",{"$nulls":6},1074,"",{"$f":"IF(A1076=0,IF(B1076=\"\",IF(B1075=0,\"\",SUM($AG$1:AG1075)-SUM($U$1:U1074)),\"\"),SUM($AG$1:AG1075)-SUM($U$1:U1074))","v":""},{"$nulls":5},0,{"$f":"IF(AJ1075=statistics!$D$3,AB1074+AH1075-AG1075,)","v":0},{"$f":"IF(AND(ROW(AC1075)>=statistics!$C$55,ROW(AC1075)<=statistics!$D$55),AC1074+AH1075-AG1075,)","v":0},{"$f":"IF(AND(statistics!$C$55<=ROW(A1075),ROW(A1075)<=statistics!$D$55)=TRUE,AH1075-AG1075+AA1074-INDEX(AA:AA,statistics!$C$55),\"\")","v":""},null,null,0,0,0,"",{"$f":"IF(statistics!$D$3<>0,IF(AJ1075=statistics!$D$3,AG1075,\"\"),IF(B1075<>\"\",AG1075,\"\"))","v":""},{"$f":"IF(statistics!$D$3<>0,IF(AJ1075=statistics!$D$3,IF(AH1075=0,\"\",AH1075),\"\"),IF(AH1075<>0,AH1075,\"\"))","v":""},{"$f":"IF(statistics!$D$3<>0,IF(AJ1075=statistics!$D$3,IF(A1075=0,\"\",1),\"\"),IF(A1075=0,\"\",1))","v":""},"","",null,"",{"$nulls":6},0,null,null,null,"",null,null,"",null,0,null,{"$error":"#NUM!"},{"$error":"#NUM!"},1074]
[{"$nulls":4},"","","",{"$f":"IF(A1091=0,IF(B1091=\"\",IF(B1090=0,\"\",U1090),\"\"),U1090)","v":""},{"$f":"IF(A1091=0,IF(B1091=\"\",IF(B1090=0,\"\",S1090),\"\"),S1090)","v":""},null,null,"",{"$nulls":6},{"$f":"IF(A1090=0,S1089+1,1)","v":1089},"",{"$f":"IF(A1091=0,IF(B1091=\"\",IF(B1090=0,\"\",SUM($AG$1:AG1090)-SUM($U$1:U1089)),\"\"),SUM($AG$1:AG1090)-SUM($U$1:U1089))","v":""},{"$nulls":5},0,{"$f":"IF(AJ1090=statistics!$D$3,AB1089+AH1090-AG1090,)","v":0},{"$f":"IF(AND(ROW(AC1090)>=statistics!$C$55,ROW(AC1090)<=statistics!$D$55),AC1089+AH1090-AG1090,)","v":0},{"$f":"IF(AND(statistics!$C$55<=ROW(A1090),ROW(A1090)<=statistics!$D$55)=TRUE,AH1090-AG1090+AA1089-INDEX(AA:AA,statistics!$C$55),\"\")","v":""},null,null,0,0,0,"",{"$f":"IF(statistics!$D$3<>0,IF(AJ1090=statistics!$D$3,AG1090,\"\"),IF(B1090<>\"\",AG1090,\"\"))","v":""},{"$f":"IF(statistics!$D$3<>0,IF(AJ1090=statistics!$D$3,IF(AH1090=0,\"\",AH1090),\"\"),IF(AH1090<>0,AH1090,\"\"))","v":""},{"$f":"IF(statistics!$D$3<>0,IF(AJ1090=statistics!$D$3,IF(A1090=0,\"\",1),\"\"),IF(A1090=0,\"\",1))","v":""},"","",null,"",{"$nulls":6},0,null,null,null,"",null,null,"",null,0,null,{"$error":"#NUM!"},{"$error":"#NUM!"},1089]
[{"$nulls":4},"","","","","",null,null,"",{"$nulls":6},1094,"",{"$f":"IF(A1096=0,IF(B1096=\"\",IF(B1095=0,\"\",SUM($AG$1:AG1095)-SUM($U$1:U1094)),\"\"),SUM($AG$1:AG1095)-SUM($U$1:U1094))","v":""},{"$nulls":5},0,{"$f":"IF(AJ1095=statistics!$D$3,AB1094+AH1095-AG1095,)","v":0},{"$f":"IF(AND(ROW(AC1095)>=statistics!$C$55,ROW(AC1095)<=statistics!$D$55),AC1094+AH1095-AG1095,)","v":0},{"$f":"IF(AND(statistics!$C$55<=ROW(A1095),ROW(A1095)<=statistics!$D$55)=TRUE,AH1095-AG1095+AA1094-INDEX(AA:AA,statistics!$C$55),\"\")","v":""},null,null,0,0,0,"",{"$f":"IF(statistics!$D$3<>0,IF(AJ1095=statistics!$D$3,AG1095,\"\"),IF(B1095<>\"\",AG1095,\"\"))","v":""},{"$f":"IF(statistics!$D$3<>0,IF(AJ1095=statistics!$D$3,IF(AH1095=0,\"\",AH1095),\"\"),IF(AH1095<>0,AH1095,\"\"))","v":""},{"$f":"IF(statistics!$D$3<>0,IF(AJ1095=statistics!$D$3,IF(A1095=0,\"\",1),\"\"),IF(A1095=0,\"\",1))","v":""},"","",null,"",{"$nulls":6},0,null,null,null,"",null,null,"",null,0,null,{"$error":"#NUM!"},{"$error":"#NUM!"},1094]
[{"$nulls":4},"","","","","",null,null,"",{"$nulls":6},1105,"",{"$f":"IF(A1107=0,IF(B1107=\"\",IF(B1106=0,\"\",SUM($AG$1:AG1106)-SUM($U$1:U1105)),\"\"),SUM($AG$1:AG1106)-SUM($U$1:U1105))","v":""},{"$nulls":5},0,{"$f":"IF(AJ1106=statistics!$D$3,AB1105+AH1106-AG1106,)","v":0},{"$f":"IF(AND(ROW(AC1106)>=statistics!$C$55,ROW(AC1106)<=statistics!$D$55),AC1105+AH1106-AG1106,)","v":0},{"$f":"IF(AND(statistics!$C$55<=ROW(A1106),ROW(A1106)<=statistics!$D$55)=TRUE,AH1106-AG1106+AA1105-INDEX(AA:AA,statistics!$C$55),\"\")","v":""},null,null,0,0,0,"",{"$f":"IF(statistics!$D$3<>0,IF(AJ1106=statistics!$D$3,AG1106,\"\"),IF(B1106<>\"\",AG1106,\"\"))","v":""},{"$f":"IF(statistics!$D$3<>0,IF(AJ1106=statistics!$D$3,IF(AH1106=0,\"\",AH1106),\"\"),IF(AH1106<>0,AH1106,\"\"))","v":""},{"$f":"IF(statistics!$D$3<>0,IF(AJ1106=statistics!$D$3,IF(A1106=0,\"\",1),\"\"),IF(A1106=0,\"\",1))","v":""},"","",null,"",{"$nulls":6},0,null,null,null,"",null,null,"",null,0,null,{"$error":"#NUM!"},{"$error":"#NUM!"},1105]
[{"$nulls":4},"","","","","",null,null,"",{"$nulls":6},1120,"",{"$f":"IF(A1122=0,IF(B1122=\"\",IF(B1121=0,\"\",SUM($AG$1:AG1121)-SUM($U$1:U1120)),\"\"),SUM($AG$1:AG1121)-SUM($U$1:U1120))","v":""},{"$nulls":5},0,{"$f":"IF(AJ1121=statistics!$D$3,AB1120+AH1121-AG1121,)","v":0},{"$f":"IF(AND(ROW(AC1121)>=statistics!$C$55,ROW(AC1121)<=statistics!$D$55),AC1120+AH1121-AG1121,)","v":0},{"$f":"IF(AND(statistics!$C$55<=ROW(A1121),ROW(A1121)<=statistics!$D$55)=TRUE,AH1121-AG1121+AA1120-INDEX(AA:AA,statistics!$C$55),\"\")","v":""},null,null,0,0,0,"",{"$f":"IF(statistics!$D$3<>0,IF(AJ1121=statistics!$D$3,AG1121,\"\"),IF(B1121<>\"\",AG1121,\"\"))","v":""},{"$f":"IF(statistics!$D$3<>0,IF(AJ1121=statistics!$D$3,IF(AH1121=0,\"\",AH1121),\"\"),IF(AH1121<>0,AH1121,\"\"))","v":""},{"$f":"IF(statistics!$D$3<>0,IF(AJ1121=statistics!$D$3,IF(A1121=0,\"\",1),\"\"),IF(A1121=0,\"\",1))","v":""},"","",null,"",{"$nulls":6},0,null,null,null,"",null,null,"",null,0,null,{"$error":"#NUM!"},{"$error":"#NUM!"},1120]
[{"$nulls":4},"","","","","",null,null,"",{"$nulls":6},1121,"",{"$f":"IF(A1123=0,IF(B1123=\"\",IF(B1122=0,\"\",SUM($AG$1:AG1122)-SUM($U$1:U1121)),\"\"),SUM($AG$1:AG1122)-SUM($U$1:U1121))","v":""},{"$nulls":5},0,{"$f":"IF(AJ1122=statistics!$D$3,AB1121+AH1122-AG1122,)","v":0},{"$f":"IF(AND(ROW(AC1122)>=statistics!$C$55,ROW(AC1122)<=statistics!$D$55),AC1121+AH1122-AG1122,)","v":0},{"$f":"IF(AND(statistics!$C$55<=ROW(A1122),ROW(A1122)<=statistics!$D$55)=TRUE,AH1122-AG1122+AA1121-INDEX(AA:AA,statistics!$C$55),\"\")","v":""},null,null,0,0,0,"",{"$f":"IF(statistics!$D$3<>0,IF(AJ1122=statistics!$D$3,AG1122,\"\"),IF(B1122<>\"\",AG1122,\"\"))","v":""},{"$f":"IF(statistics!$D$3<>0,IF(AJ1122=statistics!$D$3,IF(AH1122=0,\"\",AH1122),\"\"),IF(AH1122<>0,AH1122,\"\"))","v":""},{"$f":"IF(statistics!$D$3<>0,IF(AJ1122=statistics!$D$3,IF(A1122=0,\"\",1),\"\"),IF(A1122=0,\"\",1))","v":""},"","",null,"",{"$nulls":6},0,null,null,null,"",null,null,"",null,0,null,{"$error":"#NUM!"},{"$error":"#NUM!"},1121]
[{"$nulls":4},"","","","","",null,null,"",{"$nulls":6},1132,"",{"$f":"IF(A1134=0,IF(B1134=\"\",IF(B1133=0,\"\",SUM($AG$1:AG1133)-SUM($U$1:U1132)),\"\"),SUM($AG$1:AG1133)-SUM($U$1:U1132))","v":""},{"$nulls":5},0,{"$f":"IF(AJ1133=statistics!$D$3,AB1132+AH1133-AG1133,)","v":0},{"$f":"IF(AND(ROW(AC1133)>=statistics!$C$55,ROW(AC1133)<=statistics!$D$55),AC1132+AH1133-AG1133,)","v":0},{"$f":"IF(AND(statistics!$C$55<=ROW(A1133),ROW(A1133)<=statistics!$D$55)=TRUE,AH1133-AG1133+AA1132-INDEX(AA:AA,statistics!$C$55),\"\")","v":""},null,null,0,0,0,"",{"$f":"IF(statistics!$D$3<>0,IF(AJ1133=statistics!$D$3,AG1133,\"\"),IF(B1133<>\"\",AG1133,\"\"))","v":""},{"$f":"IF(statistics!$D$3<>0,IF(AJ1133=statistics!$D$3,IF(AH1133=0,\"\",AH1133),\"\"),IF(AH1133<>0,AH1133,\"\"))","v":""},{"$f":"IF(statistics!$D$3<>0,IF(AJ1133=statistics!$D$3,IF(A1133=0,\"\",1),\"\"),IF(A1133=0,\"\",1))","v":""},"","",null,"",{"$nulls":6},0,null,null,null,"",null,null,"",null,0,null,{"$error":"#NUM!"},{"$error":"#NUM!"},1132]
[{"$nulls":4},"","","","","",null,null,"",{"$nulls":6},1140,"",{"$f":"IF(A1142=0,IF(B1142=\"\",IF(B1141=0,\"\",SUM($AG$1:AG1141)-SUM($U$1:U1140)),\"\"),SUM($AG$1:AG1141)-SUM($U$1:U1140))","v":""},{"$nulls":5},0,{"$f":"IF(AJ1141=statistics!$D$3,AB1140+AH1141-AG1141,)","v":0},{"$f":"IF(AND(ROW(AC1141)>=statistics!$C$55,ROW(AC1141)<=statistics!$D$55),AC1140+AH1141-AG1141,)","v":0},{"$f":"IF(AND(statistics!$C$55<=ROW(A1141),ROW(A1141)<=statistics!$D$55)=TRUE,AH1141-AG1141+AA1140-INDEX(AA:AA,statistics!$C$55),\"\")","v":""},null,null,0,0,0,"",{"$f":"IF(statistics!$D$3<>0,IF(AJ1141=statistics!$D$3,AG1141,\"\"),IF(B1141<>\"\",AG1141,\"\"))","v":""},{"$f":"IF(statistics!$D$3<>0,IF(AJ1141=statistics!$D$3,IF(AH1141=0,\"\",AH1141),\"\"),IF(AH1141<>0,AH1141,\"\"))","v":""},{"$f":"IF(statistics!$D$3<>0,IF(AJ1141=statistics!$D$3,IF(A1141=0,\"\",1),\"\"),IF(A1141=0,\"\",1))","v":""},"","",null,"",{"$nulls":6},0,null,null,null,"",null,null,"",null,0,null,{"$error":"#NUM!"},{"$error":"#NUM!"},1140]
[{"$nulls":4},"","","","","",null,null,"",{"$nulls":6},1151,"",{"$f":"IF(A1153=0,IF(B1153=\"\",IF(B1152=0,\"\",SUM($AG$1:AG1152)-SUM($U$1:U1151)),\"\"),SUM($AG$1:AG1152)-SUM($U$1:U1151))","v":""},{"$nulls":5},0,{"$f":"IF(AJ1152=statistics!$D$3,AB1151+AH1152-AG1152,)","v":0},{"$f":"IF(AND(ROW(AC1152)>=statistics!$C$55,ROW(AC1152)<=statistics!$D$55),AC1151+AH1152-AG1152,)","v":0},{"$f":"IF(AND(statistics!$C$55<=ROW(A1152),ROW(A1152)<=statistics!$D$55)=TRUE,AH1152-AG1152+AA1151-INDEX(AA:AA,statistics!$C$55),\"\")","v":""},null,null,0,0,0,"",{"$f":"IF(statistics!$D$3<>0,IF(AJ1152=statistics!$D$3,AG1152,\"\"),IF(B1152<>\"\",AG1152,\"\"))","v":""},{"$f":"IF(statistics!$D$3<>0,IF(AJ1152=statistics!$D$3,IF(AH1152=0,\"\",AH1152),\"\"),IF(AH1152<>0,AH1152,\"\"))","v":""},{"$f":"IF(statistics!$D$3<>0,IF(AJ1152=statistics!$D$3,IF(A1152=0,\"\",1),\"\"),IF(A1152=0,\"\",1))","v":""},"","",null,"",{"$nulls":6},0,null,null,null,"",null,null,"",null,0,null,{"$error":"#NUM!"},{"$error":"#NUM!"},1151]
[{"$nulls":4},"","","","","",null,null,"",{"$nulls":6},1166,"",{"$f":"IF(A1168=0,IF(B1168=\"\",IF(B1167=0,\"\",SUM($AG$1:AG1167)-SUM($U$1:U1166)),\"\"),SUM($AG$1:AG1167)-SUM($U$1:U1166))","v":""},{"$nulls":5},0,{"$f":"IF(AJ1167=statistics!$D$3,AB1166+AH1167-AG1167,)","v":0},{"$f":"IF(AND(ROW(AC1167)>=statistics!$C$55,ROW(AC1167)<=statistics!$D$55),AC1166+AH1167-AG1167,)","v":0},{"$f":"IF(AND(statistics!$C$55<=ROW(A1167),ROW(A1167)<=statistics!$D$55)=TRUE,AH1167-AG1167+AA1166-INDEX(AA:AA,statistics!$C$55),\"\")","v":""},null,null,0,0,0,"",{"$f":"IF(statistics!$D$3<>0,IF(AJ1167=statistics!$D$3,AG1167,\"\"),IF(B1167<>\"\",AG1167,\"\"))","v":""},{"$f":"IF(statistics!$D$3<>0,IF(AJ1167=statistics!$D$3,IF(AH1167=0,\"\",AH1167),\"\"),IF(AH1167<>0,AH1167,\"\"))","v":""},{"$f":"IF(statistics!$D$3<>0,IF(AJ1167=statistics!$D$3,IF(A1167=0,\"\",1),\"\"),IF(A1167=0,\"\",1))","v":""},"","",null,"",{"$nulls":6},0,null,null,null,"",null,null,"",null,0,null,{"$error":"#NUM!"},{"$error":"#NUM!"},1166]
[{"$nulls":4},"","","","","",null,null,"",{"$nulls":6},1171,"",{"$f":"IF(A1173=0,IF(B1173=\"\",IF(B1172=0,\"\",SUM($AG$1:AG1172)-SUM($U$1:U1171)),\"\"),SUM($AG$1:AG1172)-SUM($U$1:U1171))","v":""},{"$nulls":5},0,{"$f":"IF(AJ1172=statistics!$D$3,AB1171+AH1172-AG1172,)","v":0},{"$f":"IF(AND(ROW(AC1172)>=statistics!$C$55,ROW(AC1172)<=statistics!$D$55),AC1171+AH1172-AG1172,)","v":0},{"$f":"IF(AND(statistics!$C$55<=ROW(A1172),ROW(A1172)<=statistics!$D$55)=TRUE,AH1172-AG1172+AA1171-INDEX(AA:AA,statistics!$C$55),\"\")","v":""},null,null,0,0,0,{"$f":"IF(A1172<>0,MONTH(A1172),IF(B1172=\"\",\"\",AJ1171))","v":""},{"$f":"IF(statistics!$D$3<>0,IF(AJ1172=statistics!$D$3,AG1172,\"\"),IF(B1172<>\"\",AG1172,\"\"))","v":""},{"$f":"IF(statistics!$D$3<>0,IF(AJ1172=statistics!$D$3,IF(AH1172=0,\"\",AH1172),\"\"),IF(AH1172<>0,AH1172,\"\"))","v":""},{"$f":"IF(statistics!$D$3<>0,IF(AJ1172=statistics!$D$3,IF(A1172=0,\"\",1),\"\"),IF(A1172=0,\"\",1))","v":""},"","",null,"",{"$nulls":6},0,null,null,null,"",null,null,"",null,0,null,{"$error":"#NUM!"},{"$error":"#NUM!"},1171]
[{"$nulls":4},"","","","","",null,null,"",{"$nulls":6},1182,"",{"$f":"IF(A1184=0,IF(B1184=\"\",IF(B1183=0,\"\",SUM($AG$1:AG1183)-SUM($U$1:U1182)),\"\"),SUM($AG$1:AG1183)-SUM($U$1:U1182))","v":""},{"$nulls":5},0,{"$f":"IF(AJ1183=statistics!$D$3,AB1182+AH1183-AG1183,)","v":0},{"$f":"IF(AND(ROW(AC1183)>=statistics!$C$55,ROW(AC1183)<=statistics!$D$55),AC1182+AH1183-AG1183,)","v":0},{"$f":"IF(AND(statistics!$C$55<=ROW(A1183),ROW(A1183)<=statistics!$D$55)=TRUE,AH1183-AG1183+AA1182-INDEX(AA:AA,statistics!$C$55),\"\")","v":""},null,null,0,0,0,"",{"$f":"IF(statistics!$D$3<>0,IF(AJ1183=statistics!$D$3,AG1183,\"\"),IF(B1183<>\"\",AG1183,\"\"))","v":""},{"$f":"IF(statistics!$D$3<>0,IF(AJ1183=statistics!$D$3,IF(AH1183=0,\"\",AH1183),\"\"),IF(AH1183<>0,AH1183,\"\"))","v":""},{"$f":"IF(statistics!$D$3<>0,IF(AJ1183=statistics!$D$3,IF(A1183=0,\"\",1),\"\"),IF(A1183=0,\"\",1))","v":""},"","",null,"",{"$nulls":6},0,null,null,null,"",null,null,"",null,0,null,{"$error":"#NUM!"},{"$error":"#NUM!"},1182]
[{"$nulls":4},"","","","","",null,null,"",{"$nulls":6},1197,"",{"$f":"IF(A1199=0,IF(B1199=\"\",IF(B1198=0,\"\",SUM($AG$1:AG1198)-SUM($U$1:U1197)),\"\"),SUM($AG$1:AG1198)-SUM($U$1:U1197))","v":""},{"$nulls":5},0,{"$f":"IF(AJ1198=statistics!$D$3,AB1197+AH1198-AG1198,)","v":0},{"$f":"IF(AND(ROW(AC1198)>=statistics!$C$55,ROW(AC1198)<=statistics!$D$55),AC1197+AH1198-AG1198,)","v":0},{"$f":"IF(AND(statistics!$C$55<=ROW(A1198),ROW(A1198)<=statistics!$D$55)=TRUE,AH1198-AG1198+AA1197-INDEX(AA:AA,statistics!$C$55),\"\")","v":""},null,null,0,0,0,"",{"$f":"IF(statistics!$D$3<>0,IF(AJ1198=statistics!$D$3,AG1198,\"\"),IF(B1198<>\"\",AG1198,\"\"))","v":""},{"$f":"IF(statistics!$D$3<>0,IF(AJ1198=statistics!$D$3,IF(AH1198=0,\"\",AH1198),\"\"),IF(AH1198<>0,AH1198,\"\"))","v":""},{"$f":"IF(statistics!$D$3<>0,IF(AJ1198=statistics!$D$3,IF(A1198=0,\"\",1),\"\"),IF(A1198=0,\"\",1))","v":""},"","",null,"",{"$nulls":6},0,null,null,null,"",null,null,"",null,0,null,{"$error":"#NUM!"},{"$error":"#NUM!"},1197]
[{"$nulls":4},"","","","","",null,null,"",{"$nulls":6},1207,"",{"$f":"IF(A1209=0,IF(B1209=\"\",IF(B1208=0,\"\",SUM($AG$1:AG1208)-SUM($U$1:U1207)),\"\"),SUM($AG$1:AG1208)-SUM($U$1:U1207))","v":""},{"$nulls":5},0,{"$f":"IF(AJ1208=statistics!$D$3,AB1207+AH1208-AG1208,)","v":0},{"$f":"IF(AND(ROW(AC1208)>=statistics!$C$55,ROW(AC1208)<=statistics!$D$55),AC1207+AH1208-AG1208,)","v":0},{"$f":"IF(AND(statistics!$C$55<=ROW(A1208),ROW(A1208)<=statistics!$D$55)=TRUE,AH1208-AG1208+AA1207-INDEX(AA:AA,statistics!$C$55),\"\")","v":""},null,null,0,0,0,"",{"$f":"IF(statistics!$D$3<>0,IF(AJ1208=statistics!$D$3,AG1208,\"\"),IF(B1208<>\"\",AG1208,\"\"))","v":""},{"$f":"IF(statistics!$D$3<>0,IF(AJ1208=statistics!$D$3,IF(AH1208=0,\"\",AH1208),\"\"),IF(AH1208<>0,AH1208,\"\"))","v":""},{"$f":"IF(statistics!$D$3<>0,IF(AJ1208=statistics!$D$3,IF(A1208=0,\"\",1),\"\"),IF(A1208=0,\"\",1))","v":""},"","",null,"",{"$nulls":6},0,null,null,null,"",null,null,"",null,0,null,{"$error":"#NUM!"},{"$error":"#NUM!"},1207]
[{"$nulls":4},"","","","","",null,null,"",{"$nulls":6},1212,"",{"$f":"IF(A1214=0,IF(B1214=\"\",IF(B1213=0,\"\",SUM($AG$1:AG1213)-SUM($U$1:U1212)),\"\"),SUM($AG$1:AG1213)-SUM($U$1:U1212))","v":""},{"$nulls":5},0,{"$f":"IF(AJ1213=statistics!$D$3,AB1212+AH1213-AG1213,)","v":0},{"$f":"IF(AND(ROW(AC1213)>=statistics!$C$55,ROW(AC1213)<=statistics!$D$55),AC1212+AH1213-AG1213,)","v":0},{"$f":"IF(AND(statistics!$C$55<=ROW(A1213),ROW(A1213)<=statistics!$D$55)=TRUE,AH1213-AG1213+AA1212-INDEX(AA:AA,statistics!$C$55),\"\")","v":""},null,null,0,0,0,"",{"$f":"IF(statistics!$D$3<>0,IF(AJ1213=statistics!$D$3,AG1213,\"\"),IF(B1213<>\"\",AG1213,\"\"))","v":""},{"$f":"IF(statistics!$D$3<>0,IF(AJ1213=statistics!$D$3,IF(AH1213=0,\"\",AH1213),\"\"),IF(AH1213<>0,AH1213,\"\"))","v":""},{"$f":"IF(statistics!$D$3<>0,IF(AJ1213=statistics!$D$3,IF(A1213=0,\"\",1),\"\"),IF(A1213=0,\"\",1))","v":""},"","",null,"",{"$nulls":6},0,null,null,null,"",null,null,"",null,0,null,{"$error":"#NUM!"},{"$error":"#NUM!"},1212]
[{"$nulls":4},"","","","","",null,null,"",{"$nulls":6},1227,"",{"$f":"IF(A1229=0,IF(B1229=\"\",IF(B1228=0,\"\",SUM($AG$1:AG1228)-SUM($U$1:U1227)),\"\"),SUM($AG$1:AG1228)-SUM($U$1:U1227))","v":""},{"$nulls":5},0,{"$f":"IF(AJ1228=statistics!$D$3,AB1227+AH1228-AG1228,)","v":0},{"$f":"IF(AND(ROW(AC1228)>=statistics!$C$55,ROW(AC1228)<=statistics!$D$55),AC1227+AH1228-AG1228,)","v":0},{"$f":"IF(AND(statistics!$C$55<=ROW(A1228),ROW(A1228)<=statistics!$D$55)=TRUE,AH1228-AG1228+AA1227-INDEX(AA:AA,statistics!$C$55),\"\")","v":""},null,null,0,0,0,"",{"$f":"IF(statistics!$D$3<>0,IF(AJ1228=statistics!$D$3,AG1228,\"\"),IF(B1228<>\"\",AG1228,\"\"))","v":""},{"$f":"IF(statistics!$D$3<>0,IF(AJ1228=statistics!$D$3,IF(AH1228=0,\"\",AH1228),\"\"),IF(AH1228<>0,AH1228,\"\"))","v":""},{"$f":"IF(statistics!$D$3<>0,IF(AJ1228=statistics!$D$3,IF(A1228=0,\"\",1),\"\"),IF(A1228=0,\"\",1))","v":""},"","",null,"",{"$nulls":6},0,null,null,null,"",null,null,"",null,0,null,{"$error":"#NUM!"},{"$error":"#NUM!"},1227]
[{"$nulls":4},"","","","","",null,null,"",{"$nulls":6},1238,"",{"$f":"IF(A1240=0,IF(B1240=\"\",IF(B1239=0,\"\",SUM($AG$1:AG1239)-SUM($U$1:U1238)),\"\"),SUM($AG$1:AG1239)-SUM($U$1:U1238))","v":""},{"$nulls":5},0,{"$f":"IF(AJ1239=statistics!$D$3,AB1238+AH1239-AG1239,)","v":0},{"$f":"IF(AND(ROW(AC1239)>=statistics!$C$55,ROW(AC1239)<=statistics!$D$55),AC1238+AH1239-AG1239,)","v":0},{"$f":"IF(AND(statistics!$C$55<=ROW(A1239),ROW(A1239)<=statistics!$D$55)=TRUE,AH1239-AG1239+AA1238-INDEX(AA:AA,statistics!$C$55),\"\")","v":""},null,null,0,0,0,"",{"$f":"IF(statistics!$D$3<>0,IF(AJ1239=statistics!$D$3,AG1239,\"\"),IF(B1239<>\"\",AG1239,\"\"))","v":""},{"$f":"IF(statistics!$D$3<>0,IF(AJ1239=statistics!$D$3,IF(AH1239=0,\"\",AH1239),\"\"),IF(AH1239<>0,AH1239,\"\"))","v":""},{"$f":"IF(statistics!$D$3<>0,IF(AJ1239=statistics!$D$3,IF(A1239=0,\"\",1),\"\"),IF(A1239=0,\"\",1))","v":""},"","",null,"",{"$nulls":6},0,null,null,null,"",null,null,"",null,0,null,{"$error":"#NUM!"},{"$error":"#NUM!"},1238]
[{"$nulls":4},"","","","","",null,null,"",{"$nulls":6},1243,"",{"$f":"IF(A1245=0,IF(B1245=\"\",IF(B1244=0,\"\",SUM($AG$1:AG1244)-SUM($U$1:U1243)),\"\"),SUM($AG$1:AG1244)-SUM($U$1:U1243))","v":""},{"$nulls":5},0,{"$f":"IF(AJ1244=statistics!$D$3,AB1243+AH1244-AG1244,)","v":0},{"$f":"IF(AND(ROW(AC1244)>=statistics!$C$55,ROW(AC1244)<=statistics!$D$55),AC1243+AH1244-AG1244,)","v":0},{"$f":"IF(AND(statistics!$C$55<=ROW(A1244),ROW(A1244)<=statistics!$D$55)=TRUE,AH1244-AG1244+AA1243-INDEX(AA:AA,statistics!$C$55),\"\")","v":""},null,null,0,0,0,"",{"$f":"IF(statistics!$D$3<>0,IF(AJ1244=statistics!$D$3,AG1244,\"\"),IF(B1244<>\"\",AG1244,\"\"))","v":""},{"$f":"IF(statistics!$D$3<>0,IF(AJ1244=statistics!$D$3,IF(AH1244=0,\"\",AH1244),\"\"),IF(AH1244<>0,AH1244,\"\"))","v":""},{"$f":"IF(statistics!$D$3<>0,IF(AJ1244=statistics!$D$3,IF(A1244=0,\"\",1),\"\"),IF(A1244=0,\"\",1))","v":""},"","",null,"",{"$nulls":6},0,null,null,null,"",null,null,"",null,0,null,{"$error":"#NUM!"},{"$error":"#NUM!"},1243]
[{"$nulls":4},"","","","","",null,null,"",{"$nulls":6},1254,"",{"$f":"IF(A1256=0,IF(B1256=\"\",IF(B1255=0,\"\",SUM($AG$1:AG1255)-SUM($U$1:U1254)),\"\"),SUM($AG$1:AG1255)-SUM($U$1:U1254))","v":""},{"$nulls":5},0,{"$f":"IF(AJ1255=statistics!$D$3,AB1254+AH1255-AG1255,)","v":0},{"$f":"IF(AND(ROW(AC1255)>=statistics!$C$55,ROW(AC1255)<=statistics!$D$55),AC1254+AH1255-AG1255,)","v":0},{"$f":"IF(AND(statistics!$C$55<=ROW(A1255),ROW(A1255)<=statistics!$D$55)=TRUE,AH1255-AG1255+AA1254-INDEX(AA:AA,statistics!$C$55),\"\")","v":""},null,null,0,0,0,"",{"$f":"IF(statistics!$D$3<>0,IF(AJ1255=statistics!$D$3,AG1255,\"\"),IF(B1255<>\"\",AG1255,\"\"))","v":""},{"$f":"IF(statistics!$D$3<>0,IF(AJ1255=statistics!$D$3,IF(AH1255=0,\"\",AH1255),\"\"),IF(AH1255<>0,AH1255,\"\"))","v":""},{"$f":"IF(statistics!$D$3<>0,IF(AJ1255=statistics!$D$3,IF(A1255=0,\"\",1),\"\"),IF(A1255=0,\"\",1))","v":""},"","",null,"",{"$nulls":6},0,null,null,null,"",null,null,"",null,0,null,{"$error":"#NUM!"},{"$error":"#NUM!"},1254]
[{"$nulls":4},"","","","","",null,null,"",{"$nulls":6},1259,"",{"$f":"IF(A1261=0,IF(B1261=\"\",IF(B1260=0,\"\",SUM($AG$1:AG1260)-SUM($U$1:U1259)),\"\"),SUM($AG$1:AG1260)-SUM($U$1:U1259))","v":""},{"$nulls":5},0,{"$f":"IF(AJ1260=statistics!$D$3,AB1259+AH1260-AG1260,)","v":0},{"$f":"IF(AND(ROW(AC1260)>=statistics!$C$55,ROW(AC1260)<=statistics!$D$55),AC1259+AH1260-AG1260,)","v":0},{"$f":"IF(AND(statistics!$C$55<=ROW(A1260),ROW(A1260)<=statistics!$D$55)=TRUE,AH1260-AG1260+AA1259-INDEX(AA:AA,statistics!$C$55),\"\")","v":""},null,null,0,0,0,"",{"$f":"IF(statistics!$D$3<>0,IF(AJ1260=statistics!$D$3,AG1260,\"\"),IF(B1260<>\"\",AG1260,\"\"))","v":""},{"$f":"IF(statistics!$D$3<>0,IF(AJ1260=statistics!$D$3,IF(AH1260=0,\"\",AH1260),\"\"),IF(AH1260<>0,AH1260,\"\"))","v":""},{"$f":"IF(statistics!$D$3<>0,IF(AJ1260=statistics!$D$3,IF(A1260=0,\"\",1),\"\"),IF(A1260=0,\"\",1))","v":""},"","",null,"",{"$nulls":6},0,null,null,null,"",null,null,"",null,0,null,{"$error":"#NUM!"},{"$error":"#NUM!"},1259]
[{"$nulls":4},"","","","","",null,null,"",{"$nulls":6},1269,"",{"$f":"IF(A1271=0,IF(B1271=\"\",IF(B1270=0,\"\",SUM($AG$1:AG1270)-SUM($U$1:U1269)),\"\"),SUM($AG$1:AG1270)-SUM($U$1:U1269))","v":""},{"$nulls":5},0,{"$f":"IF(AJ1270=statistics!$D$3,AB1269+AH1270-AG1270,)","v":0},{"$f":"IF(AND(ROW(AC1270)>=statistics!$C$55,ROW(AC1270)<=statistics!$D$55),AC1269+AH1270-AG1270,)","v":0},{"$f":"IF(AND(statistics!$C$55<=ROW(A1270),ROW(A1270)<=statistics!$D$55)=TRUE,AH1270-AG1270+AA1269-INDEX(AA:AA,statistics!$C$55),\"\")","v":""},null,null,0,0,0,"",{"$f":"IF(statistics!$D$3<>0,IF(AJ1270=statistics!$D$3,AG1270,\"\"),IF(B1270<>\"\",AG1270,\"\"))","v":""},{"$f":"IF(statistics!$D$3<>0,IF(AJ1270=statistics!$D$3,IF(AH1270=0,\"\",AH1270),\"\"),IF(AH1270<>0,AH1270,\"\"))","v":""},{"$f":"IF(statistics!$D$3<>0,IF(AJ1270=statistics!$D$3,IF(A1270=0,\"\",1),\"\"),IF(A1270=0,\"\",1))","v":""},"","",null,"",{"$nulls":6},0,null,null,null,"",null,null,"",null,0,null,{"$error":"#NUM!"},{"$error":"#NUM!"},1269]
[{"$nulls":4},"","","","","",null,null,"",{"$nulls":6},1284,"",{"$f":"IF(A1286=0,IF(B1286=\"\",IF(B1285=0,\"\",SUM($AG$1:AG1285)-SUM($U$1:U1284)),\"\"),SUM($AG$1:AG1285)-SUM($U$1:U1284))","v":""},{"$nulls":5},0,{"$f":"IF(AJ1285=statistics!$D$3,AB1284+AH1285-AG1285,)","v":0},{"$f":"IF(AND(ROW(AC1285)>=statistics!$C$55,ROW(AC1285)<=statistics!$D$55),AC1284+AH1285-AG1285,)","v":0},{"$f":"IF(AND(statistics!$C$55<=ROW(A1285),ROW(A1285)<=statistics!$D$55)=TRUE,AH1285-AG1285+AA1284-INDEX(AA:AA,statistics!$C$55),\"\")","v":""},null,null,0,0,0,"",{"$f":"IF(statistics!$D$3<>0,IF(AJ1285=statistics!$D$3,AG1285,\"\"),IF(B1285<>\"\",AG1285,\"\"))","v":""},{"$f":"IF(statistics!$D$3<>0,IF(AJ1285=statistics!$D$3,IF(AH1285=0,\"\",AH1285),\"\"),IF(AH1285<>0,AH1285,\"\"))","v":""},{"$f":"IF(statistics!$D$3<>0,IF(AJ1285=statistics!$D$3,IF(A1285=0,\"\",1),\"\"),IF(A1285=0,\"\",1))","v":""},"","",null,"",{"$nulls":6},0,null,null,null,"",null,null,"",null,0,null,{"$error":"#NUM!"},{"$error":"#NUM!"},1284]
[{"$nulls":4},"","","","","",null,null,"",{"$nulls":6},1289,"",{"$f":"IF(A1291=0,IF(B1291=\"\",IF(B1290=0,\"\",SUM($AG$1:AG1290)-SUM($U$1:U1289)),\"\"),SUM($AG$1:AG1290)-SUM($U$1:U1289))","v":""},{"$nulls":5},0,{"$f":"IF(AJ1290=statistics!$D$3,AB1289+AH1290-AG1290,)","v":0},{"$f":"IF(AND(ROW(AC1290)>=statistics!$C$55,ROW(AC1290)<=statistics!$D$55),AC1289+AH1290-AG1290,)","v":0},{"$f":"IF(AND(statistics!$C$55<=ROW(A1290),ROW(A1290)<=statistics!$D$55)=TRUE,AH1290-AG1290+AA1289-INDEX(AA:AA,statistics!$C$55),\"\")","v":""},null,null,0,0,0,"",{"$f":"IF(statistics!$D$3<>0,IF(AJ1290=statistics!$D$3,AG1290,\"\"),IF(B1290<>\"\",AG1290,\"\"))","v":""},{"$f":"IF(statistics!$D$3<>0,IF(AJ1290=statistics!$D$3,IF(AH1290=0,\"\",AH1290),\"\"),IF(AH1290<>0,AH1290,\"\"))","v":""},{"$f":"IF(statistics!$D$3<>0,IF(AJ1290=statistics!$D$3,IF(A1290=0,\"\",1),\"\"),IF(A1290=0,\"\",1))","v":""},"","",null,"",{"$nulls":6},0,null,null,null,"",null,null,"",null,0,null,{"$error":"#NUM!"},{"$error":"#NUM!"},1289]
[{"$nulls":4},"","","","","",null,null,"",{"$nulls":6},1304,"",{"$f":"IF(A1306=0,IF(B1306=\"\",IF(B1305=0,\"\",SUM($AG$1:AG1305)-SUM($U$1:U1304)),\"\"),SUM($AG$1:AG1305)-SUM($U$1:U1304))","v":""},{"$nulls":5},0,{"$f":"IF(AJ1305=statistics!$D$3,AB1304+AH1305-AG1305,)","v":0},{"$f":"IF(AND(ROW(AC1305)>=statistics!$C$55,ROW(AC1305)<=statistics!$D$55),AC1304+AH1305-AG1305,)","v":0},{"$f":"IF(AND(statistics!$C$55<=ROW(A1305),ROW(A1305)<=statistics!$D$55)=TRUE,AH1305-AG1305+AA1304-INDEX(AA:AA,statistics!$C$55),\"\")","v":""},null,null,0,0,0,"",{"$f":"IF(statistics!$D$3<>0,IF(AJ1305=statistics!$D$3,AG1305,\"\"),IF(B1305<>\"\",AG1305,\"\"))","v":""},{"$f":"IF(statistics!$D$3<>0,IF(AJ1305=statistics!$D$3,IF(AH1305=0,\"\",AH1305),\"\"),IF(AH1305<>0,AH1305,\"\"))","v":""},{"$f":"IF(statistics!$D$3<>0,IF(AJ1305=statistics!$D$3,IF(A1305=0,\"\",1),\"\"),IF(A1305=0,\"\",1))","v":""},"","",null,"",{"$nulls":6},0,null,null,null,"",null,null,"",null,0,null,{"$error":"#NUM!"},{"$error":"#NUM!"},1304]
[{"$nulls":4},"","","","","",null,null,"",{"$nulls":6},1315,"",{"$f":"IF(A1317=0,IF(B1317=\"\",IF(B1316=0,\"\",SUM($AG$1:AG1316)-SUM($U$1:U1315)),\"\"),SUM($AG$1:AG1316)-SUM($U$1:U1315))","v":""},{"$nulls":5},0,{"$f":"IF(AJ1316=statistics!$D$3,AB1315+AH1316-AG1316,)","v":0},{"$f":"IF(AND(ROW(AC1316)>=statistics!$C$55,ROW(AC1316)<=statistics!$D$55),AC1315+AH1316-AG1316,)","v":0},{"$f":"IF(AND(statistics!$C$55<=ROW(A1316),ROW(A1316)<=statistics!$D$55)=TRUE,AH1316-AG1316+AA1315-INDEX(AA:AA,statistics!$C$55),\"\")","v":""},null,null,0,0,0,"",{"$f":"IF(statistics!$D$3<>0,IF(AJ1316=statistics!$D$3,AG1316,\"\"),IF(B1316<>\"\",AG1316,\"\"))","v":""},{"$f":"IF(statistics!$D$3<>0,IF(AJ1316=statistics!$D$3,IF(AH1316=0,\"\",AH1316),\"\"),IF(AH1316<>0,AH1316,\"\"))","v":""},{"$f":"IF(statistics!$D$3<>0,IF(AJ1316=statistics!$D$3,IF(A1316=0,\"\",1),\"\"),IF(A1316=0,\"\",1))","v":""},"","",null,"",{"$nulls":6},0,null,null,null,"",null,null,"",null,0,null,{"$error":"#NUM!"},{"$error":"#NUM!"},1315]
[{"$nulls":4},"","","","","",null,null,"",{"$nulls":6},1320,"",{"$f":"IF(A1322=0,IF(B1322=\"\",IF(B1321=0,\"\",SUM($AG$1:AG1321)-SUM($U$1:U1320)),\"\"),SUM($AG$1:AG1321)-SUM($U$1:U1320))","v":""},{"$nulls":5},0,{"$f":"IF(AJ1321=statistics!$D$3,AB1320+AH1321-AG1321,)","v":0},{"$f":"IF(AND(ROW(AC1321)>=statistics!$C$55,ROW(AC1321)<=statistics!$D$55),AC1320+AH1321-AG1321,)","v":0},{"$f":"IF(AND(statistics!$C$55<=ROW(A1321),ROW(A1321)<=statistics!$D$55)=TRUE,AH1321-AG1321+AA1320-INDEX(AA:AA,statistics!$C$55),\"\")","v":""},null,null,0,0,0,"",{"$f":"IF(statistics!$D$3<>0,IF(AJ1321=statistics!$D$3,AG1321,\"\"),IF(B1321<>\"\",AG1321,\"\"))","v":""},{"$f":"IF(statistics!$D$3<>0,IF(AJ1321=statistics!$D$3,IF(AH1321=0,\"\",AH1321),\"\"),IF(AH1321<>0,AH1321,\"\"))","v":""},{"$f":"IF(statistics!$D$3<>0,IF(AJ1321=statistics!$D$3,IF(A1321=0,\"\",1),\"\"),IF(A1321=0,\"\",1))","v":""},"","",null,"",{"$nulls":6},0,null,null,null,"",null,null,"",null,0,null,{"$error":"#NUM!"},{"$error":"#NUM!"},1320]
[{"$nulls":4},"","","","","",null,null,"",{"$nulls":6},1331,"",{"$f":"IF(A1333=0,IF(B1333=\"\",IF(B1332=0,\"\",SUM($AG$1:AG1332)-SUM($U$1:U1331)),\"\"),SUM($AG$1:AG1332)-SUM($U$1:U1331))","v":""},{"$nulls":5},0,{"$f":"IF(AJ1332=statistics!$D$3,AB1331+AH1332-AG1332,)","v":0},{"$f":"IF(AND(ROW(AC1332)>=statistics!$C$55,ROW(AC1332)<=statistics!$D$55),AC1331+AH1332-AG1332,)","v":0},{"$f":"IF(AND(statistics!$C$55<=ROW(A1332),ROW(A1332)<=statistics!$D$55)=TRUE,AH1332-AG1332+AA1331-INDEX(AA:AA,statistics!$C$55),\"\")","v":""},null,null,0,0,0,"",{"$f":"IF(statistics!$D$3<>0,IF(AJ1332=statistics!$D$3,AG1332,\"\"),IF(B1332<>\"\",AG1332,\"\"))","v":""},{"$f":"IF(statistics!$D$3<>0,IF(AJ1332=statistics!$D$3,IF(AH1332=0,\"\",AH1332),\"\"),IF(AH1332<>0,AH1332,\"\"))","v":""},{"$f":"IF(statistics!$D$3<>0,IF(AJ1332=statistics!$D$3,IF(A1332=0,\"\",1),\"\"),IF(A1332=0,\"\",1))","v":""},"","",null,"",{"$nulls":6},0,null,null,null,"",null,null,"",null,0,null,{"$error":"#NUM!"},{"$error":"#NUM!"},1331]
[{"$nulls":4},"",{"$f":"IF(A1345=0,\"\",IF(T1345=0,\"\",E1345/T1345))","v":""},"","","",null,null,"",{"$nulls":6},1344,"",{"$f":"IF(A1346=0,IF(B1346=\"\",IF(B1345=0,\"\",SUM($AG$1:AG1345)-SUM($U$1:U1344)),\"\"),SUM($AG$1:AG1345)-SUM($U$1:U1344))","v":""},{"$nulls":5},0,{"$f":"IF(AJ1345=statistics!$D$3,AB1344+AH1345-AG1345,)","v":0},{"$f":"IF(AND(ROW(AC1345)>=statistics!$C$55,ROW(AC1345)<=statistics!$D$55),AC1344+AH1345-AG1345,)","v":0},{"$f":"IF(AND(statistics!$C$55<=ROW(A1345),ROW(A1345)<=statistics!$D$55)=TRUE,AH1345-AG1345+AA1344-INDEX(AA:AA,statistics!$C$55),\"\")","v":""},null,null,0,0,0,"",{"$f":"IF(statistics!$D$3<>0,IF(AJ1345=statistics!$D$3,AG1345,\"\"),IF(B1345<>\"\",AG1345,\"\"))","v":""},{"$f":"IF(statistics!$D$3<>0,IF(AJ1345=statistics!$D$3,IF(AH1345=0,\"\",AH1345),\"\"),IF(AH1345<>0,AH1345,\"\"))","v":""},{"$f":"IF(statistics!$D$3<>0,IF(AJ1345=statistics!$D$3,IF(A1345=0,\"\",1),\"\"),IF(A1345=0,\"\",1))","v":""},"","",null,"",{"$nulls":6},0,null,null,null,"",null,null,"",null,0,null,{"$error":"#NUM!"},{"$error":"#NUM!"},1344]
[{"$nulls":4},"","","","","",null,null,"",{"$nulls":6},1350,"",{"$f":"IF(A1352=0,IF(B1352=\"\",IF(B1351=0,\"\",SUM($AG$1:AG1351)-SUM($U$1:U1350)),\"\"),SUM($AG$1:AG1351)-SUM($U$1:U1350))","v":""},{"$nulls":5},0,{"$f":"IF(AJ1351=statistics!$D$3,AB1350+AH1351-AG1351,)","v":0},{"$f":"IF(AND(ROW(AC1351)>=statistics!$C$55,ROW(AC1351)<=statistics!$D$55),AC1350+AH1351-AG1351,)","v":0},{"$f":"IF(AND(statistics!$C$55<=ROW(A1351),ROW(A1351)<=statistics!$D$55)=TRUE,AH1351-AG1351+AA1350-INDEX(AA:AA,statistics!$C$55),\"\")","v":""},null,null,0,0,0,"",{"$f":"IF(statistics!$D$3<>0,IF(AJ1351=statistics!$D$3,AG1351,\"\"),IF(B1351<>\"\",AG1351,\"\"))","v":""},{"$f":"IF(statistics!$D$3<>0,IF(AJ1351=statistics!$D$3,IF(AH1351=0,\"\",AH1351),\"\"),IF(AH1351<>0,AH1351,\"\"))","v":""},{"$f":"IF(statistics!$D$3<>0,IF(AJ1351=statistics!$D$3,IF(A1351=0,\"\",1),\"\"),IF(A1351=0,\"\",1))","v":""},"","",null,"",{"$nulls":6},0,null,null,null,"",null,null,"",null,0,null,{"$error":"#NUM!"},{"$error":"#NUM!"},1350]
[{"$nulls":4},"","","","","",null,null,"",{"$nulls":6},1361,"",{"$f":"IF(A1363=0,IF(B1363=\"\",IF(B1362=0,\"\",SUM($AG$1:AG1362)-SUM($U$1:U1361)),\"\"),SUM($AG$1:AG1362)-SUM($U$1:U1361))","v":""},{"$nulls":5},0,{"$f":"IF(AJ1362=statistics!$D$3,AB1361+AH1362-AG1362,)","v":0},{"$f":"IF(AND(ROW(AC1362)>=statistics!$C$55,ROW(AC1362)<=statistics!$D$55),AC1361+AH1362-AG1362,)","v":0},{"$f":"IF(AND(statistics!$C$55<=ROW(A1362),ROW(A1362)<=statistics!$D$55)=TRUE,AH1362-AG1362+AA1361-INDEX(AA:AA,statistics!$C$55),\"\")","v":""},null,null,0,0,0,"",{"$f":"IF(statistics!$D$3<>0,IF(AJ1362=statistics!$D$3,AG1362,\"\"),IF(B1362<>\"\",AG1362,\"\"))","v":""},{"$f":"IF(statistics!$D$3<>0,IF(AJ1362=statistics!$D$3,IF(AH1362=0,\"\",AH1362),\"\"),IF(AH1362<>0,AH1362,\"\"))","v":""},{"$f":"IF(statistics!$D$3<>0,IF(AJ1362=statistics!$D$3,IF(A1362=0,\"\",1),\"\"),IF(A1362=0,\"\",1))","v":""},"","",null,"",{"$nulls":6},0,null,null,null,"",null,null,"",null,0,null,{"$error":"#NUM!"},{"$error":"#NUM!"},1361]
[{"$nulls":4},"","","","","",null,null,"",{"$nulls":6},1376,"",{"$f":"IF(A1378=0,IF(B1378=\"\",IF(B1377=0,\"\",SUM($AG$1:AG1377)-SUM($U$1:U1376)),\"\"),SUM($AG$1:AG1377)-SUM($U$1:U1376))","v":""},{"$nulls":5},0,{"$f":"IF(AJ1377=statistics!$D$3,AB1376+AH1377-AG1377,)","v":0},{"$f":"IF(AND(ROW(AC1377)>=statistics!$C$55,ROW(AC1377)<=statistics!$D$55),AC1376+AH1377-AG1377,)","v":0},{"$f":"IF(AND(statistics!$C$55<=ROW(A1377),ROW(A1377)<=statistics!$D$55)=TRUE,AH1377-AG1377+AA1376-INDEX(AA:AA,statistics!$C$55),\"\")","v":""},null,null,0,0,0,"",{"$f":"IF(statistics!$D$3<>0,IF(AJ1377=statistics!$D$3,AG1377,\"\"),IF(B1377<>\"\",AG1377,\"\"))","v":""},{"$f":"IF(statistics!$D$3<>0,IF(AJ1377=statistics!$D$3,IF(AH1377=0,\"\",AH1377),\"\"),IF(AH1377<>0,AH1377,\"\"))","v":""},{"$f":"IF(statistics!$D$3<>0,IF(AJ1377=statistics!$D$3,IF(A1377=0,\"\",1),\"\"),IF(A1377=0,\"\",1))","v":""},"","",null,"",{"$nulls":6},0,null,null,null,"",null,null,"",null,0,null,{"$error":"#NUM!"},{"$error":"#NUM!"},1376]
[{"$nulls":4},"","","","","",null,null,"",{"$nulls":6},1381,"",{"$f":"IF(A1383=0,IF(B1383=\"\",IF(B1382=0,\"\",SUM($AG$1:AG1382)-SUM($U$1:U1381)),\"\"),SUM($AG$1:AG1382)-SUM($U$1:U1381))","v":""},{"$nulls":5},0,{"$f":"IF(AJ1382=statistics!$D$3,AB1381+AH1382-AG1382,)","v":0},{"$f":"IF(AND(ROW(AC1382)>=statistics!$C$55,ROW(AC1382)<=statistics!$D$55),AC1381+AH1382-AG1382,)","v":0},{"$f":"IF(AND(statistics!$C$55<=ROW(A1382),ROW(A1382)<=statistics!$D$55)=TRUE,AH1382-AG1382+AA1381-INDEX(AA:AA,statistics!$C$55),\"\")","v":""},null,null,0,0,0,"",{"$f":"IF(statistics!$D$3<>0,IF(AJ1382=statistics!$D$3,AG1382,\"\"),IF(B1382<>\"\",AG1382,\"\"))","v":""},{"$f":"IF(statistics!$D$3<>0,IF(AJ1382=statistics!$D$3,IF(AH1382=0,\"\",AH1382),\"\"),IF(AH1382<>0,AH1382,\"\"))","v":""},{"$f":"IF(statistics!$D$3<>0,IF(AJ1382=statistics!$D$3,IF(A1382=0,\"\",1),\"\"),IF(A1382=0,\"\",1))","v":""},"","",null,"",{"$nulls":6},0,null,null,null,"",null,null,"",null,0,null,{"$error":"#NUM!"},{"$error":"#NUM!"},1381]
[{"$nulls":4},"","","","","",null,null,"",{"$nulls":6},1392,"",{"$f":"IF(A1394=0,IF(B1394=\"\",IF(B1393=0,\"\",SUM($AG$1:AG1393)-SUM($U$1:U1392)),\"\"),SUM($AG$1:AG1393)-SUM($U$1:U1392))","v":""},{"$nulls":5},0,{"$f":"IF(AJ1393=statistics!$D$3,AB1392+AH1393-AG1393,)","v":0},{"$f":"IF(AND(ROW(AC1393)>=statistics!$C$55,ROW(AC1393)<=statistics!$D$55),AC1392+AH1393-AG1393,)","v":0},{"$f":"IF(AND(statistics!$C$55<=ROW(A1393),ROW(A1393)<=statistics!$D$55)=TRUE,AH1393-AG1393+AA1392-INDEX(AA:AA,statistics!$C$55),\"\")","v":""},null,null,0,0,0,"",{"$f":"IF(statistics!$D$3<>0,IF(AJ1393=statistics!$D$3,AG1393,\"\"),IF(B1393<>\"\",AG1393,\"\"))","v":""},{"$f":"IF(statistics!$D$3<>0,IF(AJ1393=statistics!$D$3,IF(AH1393=0,\"\",AH1393),\"\"),IF(AH1393<>0,AH1393,\"\"))","v":""},{"$f":"IF(statistics!$D$3<>0,IF(AJ1393=statistics!$D$3,IF(A1393=0,\"\",1),\"\"),IF(A1393=0,\"\",1))","v":""},"","",null,"",{"$nulls":6},0,null,null,null,"",null,null,"",null,0,null,{"$error":"#NUM!"},{"$error":"#NUM!"},1392]
[{"$nulls":4},"","","","","",null,null,"",{"$nulls":6},1397,"",{"$f":"IF(A1399=0,IF(B1399=\"\",IF(B1398=0,\"\",SUM($AG$1:AG1398)-SUM($U$1:U1397)),\"\"),SUM($AG$1:AG1398)-SUM($U$1:U1397))","v":""},{"$nulls":5},0,{"$f":"IF(AJ1398=statistics!$D$3,AB1397+AH1398-AG1398,)","v":0},{"$f":"IF(AND(ROW(AC1398)>=statistics!$C$55,ROW(AC1398)<=statistics!$D$55),AC1397+AH1398-AG1398,)","v":0},{"$f":"IF(AND(statistics!$C$55<=ROW(A1398),ROW(A1398)<=statistics!$D$55)=TRUE,AH1398-AG1398+AA1397-INDEX(AA:AA,statistics!$C$55),\"\")","v":""},null,null,0,0,0,"",{"$f":"IF(statistics!$D$3<>0,IF(AJ1398=statistics!$D$3,AG1398,\"\"),IF(B1398<>\"\",AG1398,\"\"))","v":""},{"$f":"IF(statistics!$D$3<>0,IF(AJ1398=statistics!$D$3,IF(AH1398=0,\"\",AH1398),\"\"),IF(AH1398<>0,AH1398,\"\"))","v":""},{"$f":"IF(statistics!$D$3<>0,IF(AJ1398=statistics!$D$3,IF(A1398=0,\"\",1),\"\"),IF(A1398=0,\"\",1))","v":""},"","",null,"",{"$nulls":6},0,null,null,null,"",null,null,"",null,0,null,{"$error":"#NUM!"},{"$error":"#NUM!"},1397]
[{"$nulls":4},{"$f":"IF(A1411=0,\"\",IF(B1411<>\"\",SUM(AH1411:AH11409)-SUM(AG1411:AG11409)-SUM(E1412:E11409),\"\"))","v":""},"","","","",null,null,{"$f":"IF(A1411=0,\"\",SUM(AI1411:AI11409)-SUM(L1412:L11409))","v":""},{"$nulls":6},1410,{"$f":"IF(A1411=0,\"\",SUM(AG1411:AG11409)-SUM(T1412:T11409))","v":""},{"$f":"IF(A1412=0,IF(B1412=\"\",IF(B1411=0,\"\",SUM($AG$1:AG1411)-SUM($U$1:U1410)),\"\"),SUM($AG$1:AG1411)-SUM($U$1:U1410))","v":""},{"$nulls":5},{"$f":"AA1410+AH1411-AG1411","v":0},{"$f":"IF(AJ1411=statistics!$D$3,AB1410+AH1411-AG1411,)","v":0},{"$f":"IF(AND(ROW(AC1411)>=statistics!$C$55,ROW(AC1411)<=statistics!$D$55),AC1410+AH1411-AG1411,)","v":0},{"$f":"IF(AND(statistics!$C$55<=ROW(A1411),ROW(A1411)<=statistics!$D$55)=TRUE,AH1411-AG1411+AA1410-INDEX(AA:AA,statistics!$C$55),\"\")","v":""},null,null,{"$f":"IF(J1411=0,B1411+C1411,(B1411+C1411)-(B1411+C1411)*J1411*K1411)","v":0},{"$f":"IF(J1411=0,D1411,D1411*(1-J1411))","v":0},{"$f":"IF(J1411=0,,D1411*J1411)","v":0},"",{"$f":"IF(statistics!$D$3<>0,IF(AJ1411=statistics!$D$3,AG1411,\"\"),IF(B1411<>\"\",AG1411,\"\"))","v":""},{"$f":"IF(statistics!$D$3<>0,IF(AJ1411=statistics!$D$3,IF(AH1411=0,\"\",AH1411),\"\"),IF(AH1411<>0,AH1411,\"\"))","v":""},{"$f":"IF(statistics!$D$3<>0,IF(AJ1411=statistics!$D$3,IF(A1411=0,\"\",1),\"\"),IF(A1411=0,\"\",1))","v":""},"","",null,{"$f":"IF(B1411=0,\"\",IF(D1411=0,IF(D1410=0,AQ1410+1,1),\"\"))","v":""},{"$nulls":6},{"$f":"J1411*D1411-J1411*K1411*(B1411+C1411)","v":0},null,null,null,{"$f":"IF(B1411=$BA$2,ROW(),\"\")","v":""},null,null,{"$f":"IF(B1411=$BA$2,INDEX(D:D,SMALL(BB:BB,CELL(\"содержимое\",BG1411)))-INDEX(B:B,SMALL(BB:BB,CELL(\"содержимое\",BG1411)))-INDEX(C:C,SMALL(BB:BB,CELL(\"содержимое\",BG1411))),\"\")","v":""},null,{"$f":"IF($BA$2=B1411,BG1410+1,BG1410)","v":0},null,{"$f":"INDEX(BE:BE,SMALL(BB:BB,CELL(\"содержимое\",BK1411)))","v":{"$error":"#NUM!"}},{"$f":"BJ1410+BI1411","v":{"$error":"#NUM!"}},{"$f":"BK1410+1","v":1410}]
[{"$nulls":4},"","","","","",null,null,"",{"$nulls":6},1422,"",{"$f":"IF(A1424=0,IF(B1424=\"\",IF(B1423=0,\"\",SUM($AG$1:AG1423)-SUM($U$1:U1422)),\"\"),SUM($AG$1:AG1423)-SUM($U$1:U1422))","v":""},{"$nulls":5},0,{"$f":"IF(AJ1423=statistics!$D$3,AB1422+AH1423-AG1423,)","v":0},{"$f":"IF(AND(ROW(AC1423)>=statistics!$C$55,ROW(AC1423)<=statistics!$D$55),AC1422+AH1423-AG1423,)","v":0},{"$f":"IF(AND(statistics!$C$55<=ROW(A1423),ROW(A1423)<=statistics!$D$55)=TRUE,AH1423-AG1423+AA1422-INDEX(AA:AA,statistics!$C$55),\"\")","v":""},null,null,0,0,0,"",{"$f":"IF(statistics!$D$3<>0,IF(AJ1423=statistics!$D$3,AG1423,\"\"),IF(B1423<>\"\",AG1423,\"\"))","v":""},{"$f":"IF(statistics!$D$3<>0,IF(AJ1423=statistics!$D$3,IF(AH1423=0,\"\",AH1423),\"\"),IF(AH1423<>0,AH1423,\"\"))","v":""},{"$f":"IF(statistics!$D$3<>0,IF(AJ1423=statistics!$D$3,IF(A1423=0,\"\",1),\"\"),IF(A1423=0,\"\",1))","v":""},"","",null,"",{"$nulls":6},0,null,null,null,"",null,null,"",null,0,null,{"$error":"#NUM!"},{"$error":"#NUM!"},1422]
[{"$nulls":4},"","","","","",null,null,"",{"$nulls":6},1427,"",{"$f":"IF(A1429=0,IF(B1429=\"\",IF(B1428=0,\"\",SUM($AG$1:AG1428)-SUM($U$1:U1427)),\"\"),SUM($AG$1:AG1428)-SUM($U$1:U1427))","v":""},{"$nulls":5},0,{"$f":"IF(AJ1428=statistics!$D$3,AB1427+AH1428-AG1428,)","v":0},{"$f":"IF(AND(ROW(AC1428)>=statistics!$C$55,ROW(AC1428)<=statistics!$D$55),AC1427+AH1428-AG1428,)","v":0},{"$f":"IF(AND(statistics!$C$55<=ROW(A1428),ROW(A1428)<=statistics!$D$55)=TRUE,AH1428-AG1428+AA1427-INDEX(AA:AA,statistics!$C$55),\"\")","v":""},null,null,0,0,0,{"$f":"IF(A1428<>0,MONTH(A1428),IF(B1428=\"\",\"\",AJ1427))","v":""},{"$f":"IF(statistics!$D$3<>0,IF(AJ1428=statistics!$D$3,AG1428,\"\"),IF(B1428<>\"\",AG1428,\"\"))","v":""},{"$f":"IF(statistics!$D$3<>0,IF(AJ1428=statistics!$D$3,IF(AH1428=0,\"\",AH1428),\"\"),IF(AH1428<>0,AH1428,\"\"))","v":""},{"$f":"IF(statistics!$D$3<>0,IF(AJ1428=statistics!$D$3,IF(A1428=0,\"\",1),\"\"),IF(A1428=0,\"\",1))","v":""},"","",null,"",{"$nulls":6},0,null,null,null,"",null,null,"",null,0,null,{"$error":"#NUM!"},{"$error":"#NUM!"},1427]
[{"$nulls":4},"","","","","",null,null,"",{"$nulls":6},1438,"",{"$f":"IF(A1440=0,IF(B1440=\"\",IF(B1439=0,\"\",SUM($AG$1:AG1439)-SUM($U$1:U1438)),\"\"),SUM($AG$1:AG1439)-SUM($U$1:U1438))","v":""},{"$nulls":5},0,{"$f":"IF(AJ1439=statistics!$D$3,AB1438+AH1439-AG1439,)","v":0},{"$f":"IF(AND(ROW(AC1439)>=statistics!$C$55,ROW(AC1439)<=statistics!$D$55),AC1438+AH1439-AG1439,)","v":0},{"$f":"IF(AND(statistics!$C$55<=ROW(A1439),ROW(A1439)<=statistics!$D$55)=TRUE,AH1439-AG1439+AA1438-INDEX(AA:AA,statistics!$C$55),\"\")","v":""},null,null,0,0,0,"",{"$f":"IF(statistics!$D$3<>0,IF(AJ1439=statistics!$D$3,AG1439,\"\"),IF(B1439<>\"\",AG1439,\"\"))","v":""},{"$f":"IF(statistics!$D$3<>0,IF(AJ1439=statistics!$D$3,IF(AH1439=0,\"\",AH1439),\"\"),IF(AH1439<>0,AH1439,\"\"))","v":""},{"$f":"IF(statistics!$D$3<>0,IF(AJ1439=statistics!$D$3,IF(A1439=0,\"\",1),\"\"),IF(A1439=0,\"\",1))","v":""},"","",null,"",{"$nulls":6},0,null,null,null,"",null,null,"",null,0,null,{"$error":"#NUM!"},{"$error":"#NUM!"},1438]
[{"$nulls":4},"","","","","",null,null,"",{"$nulls":6},1453,"",{"$f":"IF(A1455=0,IF(B1455=\"\",IF(B1454=0,\"\",SUM($AG$1:AG1454)-SUM($U$1:U1453)),\"\"),SUM($AG$1:AG1454)-SUM($U$1:U1453))","v":""},{"$nulls":5},0,{"$f":"IF(AJ1454=statistics!$D$3,AB1453+AH1454-AG1454,)","v":0},{"$f":"IF(AND(ROW(AC1454)>=statistics!$C$55,ROW(AC1454)<=statistics!$D$55),AC1453+AH1454-AG1454,)","v":0},{"$f":"IF(AND(statistics!$C$55<=ROW(A1454),ROW(A1454)<=statistics!$D$55)=TRUE,AH1454-AG1454+AA1453-INDEX(AA:AA,statistics!$C$55),\"\")","v":""},null,null,0,0,0,"",{"$f":"IF(statistics!$D$3<>0,IF(AJ1454=statistics!$D$3,AG1454,\"\"),IF(B1454<>\"\",AG1454,\"\"))","v":""},{"$f":"IF(statistics!$D$3<>0,IF(AJ1454=statistics!$D$3,IF(AH1454=0,\"\",AH1454),\"\"),IF(AH1454<>0,AH1454,\"\"))","v":""},{"$f":"IF(statistics!$D$3<>0,IF(AJ1454=statistics!$D$3,IF(A1454=0,\"\",1),\"\"),IF(A1454=0,\"\",1))","v":""},"","",null,"",{"$nulls":6},0,null,null,null,"",null,null,"",null,0,null,{"$error":"#NUM!"},{"$error":"#NUM!"},1453]
[{"$nulls":4},"","","","","",null,null,"",{"$nulls":6},1464,"",{"$f":"IF(A1466=0,IF(B1466=\"\",IF(B1465=0,\"\",SUM($AG$1:AG1465)-SUM($U$1:U1464)),\"\"),SUM($AG$1:AG1465)-SUM($U$1:U1464))","v":""},{"$nulls":5},0,{"$f":"IF(AJ1465=statistics!$D$3,AB1464+AH1465-AG1465,)","v":0},{"$f":"IF(AND(ROW(AC1465)>=statistics!$C$55,ROW(AC1465)<=statistics!$D$55),AC1464+AH1465-AG1465,)","v":0},{"$f":"IF(AND(statistics!$C$55<=ROW(A1465),ROW(A1465)<=statistics!$D$55)=TRUE,AH1465-AG1465+AA1464-INDEX(AA:AA,statistics!$C$55),\"\")","v":""},null,null,0,0,0,"",{"$f":"IF(statistics!$D$3<>0,IF(AJ1465=statistics!$D$3,AG1465,\"\"),IF(B1465<>\"\",AG1465,\"\"))","v":""},{"$f":"IF(statistics!$D$3<>0,IF(AJ1465=statistics!$D$3,IF(AH1465=0,\"\",AH1465),\"\"),IF(AH1465<>0,AH1465,\"\"))","v":""},{"$f":"IF(statistics!$D$3<>0,IF(AJ1465=statistics!$D$3,IF(A1465=0,\"\",1),\"\"),IF(A1465=0,\"\",1))","v":""},"","",null,"",{"$nulls":6},0,null,null,null,"",null,null,"",null,0,null,{"$error":"#NUM!"},{"$error":"#NUM!"},1464]
[{"$nulls":4},"","","","","",null,null,"",{"$nulls":6},1469,"",{"$f":"IF(A1471=0,IF(B1471=\"\",IF(B1470=0,\"\",SUM($AG$1:AG1470)-SUM($U$1:U1469)),\"\"),SUM($AG$1:AG1470)-SUM($U$1:U1469))","v":""},{"$nulls":5},0,{"$f":"IF(AJ1470=statistics!$D$3,AB1469+AH1470-AG1470,)","v":0},{"$f":"IF(AND(ROW(AC1470)>=statistics!$C$55,ROW(AC1470)<=statistics!$D$55),AC1469+AH1470-AG1470,)","v":0},{"$f":"IF(AND(statistics!$C$55<=ROW(A1470),ROW(A1470)<=statistics!$D$55)=TRUE,AH1470-AG1470+AA1469-INDEX(AA:AA,statistics!$C$55),\"\")","v":""},null,null,0,0,0,"",{"$f":"IF(statistics!$D$3<>0,IF(AJ1470=statistics!$D$3,AG1470,\"\"),IF(B1470<>\"\",AG1470,\"\"))","v":""},{"$f":"IF(statistics!$D$3<>0,IF(AJ1470=statistics!$D$3,IF(AH1470=0,\"\",AH1470),\"\"),IF(AH1470<>0,AH1470,\"\"))","v":""},{"$f":"IF(statistics!$D$3<>0,IF(AJ1470=statistics!$D$3,IF(A1470=0,\"\",1),\"\"),IF(A1470=0,\"\",1))","v":""},"","",null,"",{"$nulls":6},0,null,null,null,"",null,null,"",null,0,null,{"$error":"#NUM!"},{"$error":"#NUM!"},1469]
[{"$nulls":4},"","","","","",null,null,"",{"$nulls":6},1484,"",{"$f":"IF(A1486=0,IF(B1486=\"\",IF(B1485=0,\"\",SUM($AG$1:AG1485)-SUM($U$1:U1484)),\"\"),SUM($AG$1:AG1485)-SUM($U$1:U1484))","v":""},{"$nulls":5},0,{"$f":"IF(AJ1485=statistics!$D$3,AB1484+AH1485-AG1485,)","v":0},{"$f":"IF(AND(ROW(AC1485)>=statistics!$C$55,ROW(AC1485)<=statistics!$D$55),AC1484+AH1485-AG1485,)","v":0},{"$f":"IF(AND(statistics!$C$55<=ROW(A1485),ROW(A1485)<=statistics!$D$55)=TRUE,AH1485-AG1485+AA1484-INDEX(AA:AA,statistics!$C$55),\"\")","v":""},null,null,0,0,0,"",{"$f":"IF(statistics!$D$3<>0,IF(AJ1485=statistics!$D$3,AG1485,\"\"),IF(B1485<>\"\",AG1485,\"\"))","v":""},{"$f":"IF(statistics!$D$3<>0,IF(AJ1485=statistics!$D$3,IF(AH1485=0,\"\",AH1485),\"\"),IF(AH1485<>0,AH1485,\"\"))","v":""},{"$f":"IF(statistics!$D$3<>0,IF(AJ1485=statistics!$D$3,IF(A1485=0,\"\",1),\"\"),IF(A1485=0,\"\",1))","v":""},"","",null,"",{"$nulls":6},0,null,null,null,"",null,null,"",null,0,null,{"$error":"#NUM!"},{"$error":"#NUM!"},1484]
[{"$nulls":4},"","","","","",null,null,"",{"$nulls":6},1489,"",{"$f":"IF(A1491=0,IF(B1491=\"\",IF(B1490=0,\"\",SUM($AG$1:AG1490)-SUM($U$1:U1489)),\"\"),SUM($AG$1:AG1490)-SUM($U$1:U1489))","v":""},{"$nulls":5},0,{"$f":"IF(AJ1490=statistics!$D$3,AB1489+AH1490-AG1490,)","v":0},{"$f":"IF(AND(ROW(AC1490)>=statistics!$C$55,ROW(AC1490)<=statistics!$D$55),AC1489+AH1490-AG1490,)","v":0},{"$f":"IF(AND(statistics!$C$55<=ROW(A1490),ROW(A1490)<=statistics!$D$55)=TRUE,AH1490-AG1490+AA1489-INDEX(AA:AA,statistics!$C$55),\"\")","v":""},null,null,0,0,0,"",{"$f":"IF(statistics!$D$3<>0,IF(AJ1490=statistics!$D$3,AG1490,\"\"),IF(B1490<>\"\",AG1490,\"\"))","v":""},{"$f":"IF(statistics!$D$3<>0,IF(AJ1490=statistics!$D$3,IF(AH1490=0,\"\",AH1490),\"\"),IF(AH1490<>0,AH1490,\"\"))","v":""},{"$f":"IF(statistics!$D$3<>0,IF(AJ1490=statistics!$D$3,IF(A1490=0,\"\",1),\"\"),IF(A1490=0,\"\",1))","v":""},"","",null,"",{"$nulls":6},0,null,null,null,"",null,null,"",null,0,null,{"$error":"#NUM!"},{"$error":"#NUM!"},1489]
[{"$nulls":4},"","","","","",null,null,"",{"$nulls":6},1499,"",{"$f":"IF(A1501=0,IF(B1501=\"\",IF(B1500=0,\"\",SUM($AG$1:AG1500)-SUM($U$1:U1499)),\"\"),SUM($AG$1:AG1500)-SUM($U$1:U1499))","v":""},{"$nulls":5},0,{"$f":"IF(AJ1500=statistics!$D$3,AB1499+AH1500-AG1500,)","v":0},{"$f":"IF(AND(ROW(AC1500)>=statistics!$C$55,ROW(AC1500)<=statistics!$D$55),AC1499+AH1500-AG1500,)","v":0},{"$f":"IF(AND(statistics!$C$55<=ROW(A1500),ROW(A1500)<=statistics!$D$55)=TRUE,AH1500-AG1500+AA1499-INDEX(AA:AA,statistics!$C$55),\"\")","v":""},null,null,0,0,0,"",{"$f":"IF(statistics!$D$3<>0,IF(AJ1500=statistics!$D$3,AG1500,\"\"),IF(B1500<>\"\",AG1500,\"\"))","v":""},{"$f":"IF(statistics!$D$3<>0,IF(AJ1500=statistics!$D$3,IF(AH1500=0,\"\",AH1500),\"\"),IF(AH1500<>0,AH1500,\"\"))","v":""},{"$f":"IF(statistics!$D$3<>0,IF(AJ1500=statistics!$D$3,IF(A1500=0,\"\",1),\"\"),IF(A1500=0,\"\",1))","v":""},"","",null,"",{"$nulls":6},0,null,null,null,"",null,null,"",null,0,null,{"$error":"#NUM!"},{"$error":"#NUM!"},1499]
[{"$nulls":4},"","","","","",null,null,"",{"$nulls":6},1514,"",{"$f":"IF(A1516=0,IF(B1516=\"\",IF(B1515=0,\"\",SUM($AG$1:AG1515)-SUM($U$1:U1514)),\"\"),SUM($AG$1:AG1515)-SUM($U$1:U1514))","v":""},{"$nulls":5},0,{"$f":"IF(AJ1515=statistics!$D$3,AB1514+AH1515-AG1515,)","v":0},{"$f":"IF(AND(ROW(AC1515)>=statistics!$C$55,ROW(AC1515)<=statistics!$D$55),AC1514+AH1515-AG1515,)","v":0},{"$f":"IF(AND(statistics!$C$55<=ROW(A1515),ROW(A1515)<=statistics!$D$55)=TRUE,AH1515-AG1515+AA1514-INDEX(AA:AA,statistics!$C$55),\"\")","v":""},null,null,0,0,0,"",{"$f":"IF(statistics!$D$3<>0,IF(AJ1515=statistics!$D$3,AG1515,\"\"),IF(B1515<>\"\",AG1515,\"\"))","v":""},{"$f":"IF(statistics!$D$3<>0,IF(AJ1515=statistics!$D$3,IF(AH1515=0,\"\",AH1515),\"\"),IF(AH1515<>0,AH1515,\"\"))","v":""},{"$f":"IF(statistics!$D$3<>0,IF(AJ1515=statistics!$D$3,IF(A1515=0,\"\",1),\"\"),IF(A1515=0,\"\",1))","v":""},"","",null,"",{"$nulls":6},0,null,null,null,"",null,null,"",null,0,null,{"$error":"#NUM!"},{"$error":"#NUM!"},1514]
[{"$nulls":4},"","","","","",null,null,"",{"$nulls":6},1515,"",{"$f":"IF(A1517=0,IF(B1517=\"\",IF(B1516=0,\"\",SUM($AG$1:AG1516)-SUM($U$1:U1515)),\"\"),SUM($AG$1:AG1516)-SUM($U$1:U1515))","v":""},{"$nulls":5},0,{"$f":"IF(AJ1516=statistics!$D$3,AB1515+AH1516-AG1516,)","v":0},{"$f":"IF(AND(ROW(AC1516)>=statistics!$C$55,ROW(AC1516)<=statistics!$D$55),AC1515+AH1516-AG1516,)","v":0},{"$f":"IF(AND(statistics!$C$55<=ROW(A1516),ROW(A1516)<=statistics!$D$55)=TRUE,AH1516-AG1516+AA1515-INDEX(AA:AA,statistics!$C$55),\"\")","v":""},null,null,0,0,0,"",{"$f":"IF(statistics!$D$3<>0,IF(AJ1516=statistics!$D$3,AG1516,\"\"),IF(B1516<>\"\",AG1516,\"\"))","v":""},{"$f":"IF(statistics!$D$3<>0,IF(AJ1516=statistics!$D$3,IF(AH1516=0,\"\",AH1516),\"\"),IF(AH1516<>0,AH1516,\"\"))","v":""},{"$f":"IF(statistics!$D$3<>0,IF(AJ1516=statistics!$D$3,IF(A1516=0,\"\",1),\"\"),IF(A1516=0,\"\",1))","v":""},"","",null,"",{"$nulls":6},0,null,null,null,"",null,null,"",null,0,null,{"$error":"#NUM!"},{"$error":"#NUM!"},1515]
[{"$nulls":4},"","","","","",null,null,"",{"$nulls":6},1530,"",{"$f":"IF(A1532=0,IF(B1532=\"\",IF(B1531=0,\"\",SUM($AG$1:AG1531)-SUM($U$1:U1530)),\"\"),SUM($AG$1:AG1531)-SUM($U$1:U1530))","v":""},{"$nulls":5},0,{"$f":"IF(AJ1531=statistics!$D$3,AB1530+AH1531-AG1531,)","v":0},{"$f":"IF(AND(ROW(AC1531)>=statistics!$C$55,ROW(AC1531)<=statistics!$D$55),AC1530+AH1531-AG1531,)","v":0},{"$f":"IF(AND(statistics!$C$55<=ROW(A1531),ROW(A1531)<=statistics!$D$55)=TRUE,AH1531-AG1531+AA1530-INDEX(AA:AA,statistics!$C$55),\"\")","v":""},null,null,0,0,0,"",{"$f":"IF(statistics!$D$3<>0,IF(AJ1531=statistics!$D$3,AG1531,\"\"),IF(B1531<>\"\",AG1531,\"\"))","v":""},{"$f":"IF(statistics!$D$3<>0,IF(AJ1531=statistics!$D$3,IF(AH1531=0,\"\",AH1531),\"\"),IF(AH1531<>0,AH1531,\"\"))","v":""},{"$f":"IF(statistics!$D$3<>0,IF(AJ1531=statistics!$D$3,IF(A1531=0,\"\",1),\"\"),IF(A1531=0,\"\",1))","v":""},"","",null,"",{"$nulls":6},0,null,null,null,"",null,null,"",null,0,null,{"$error":"#NUM!"},{"$error":"#NUM!"},1530]
[{"$nulls":4},"","","","","",null,null,"",{"$nulls":6},1541,"",{"$f":"IF(A1543=0,IF(B1543=\"\",IF(B1542=0,\"\",SUM($AG$1:AG1542)-SUM($U$1:U1541)),\"\"),SUM($AG$1:AG1542)-SUM($U$1:U1541))","v":""},{"$nulls":5},0,{"$f":"IF(AJ1542=statistics!$D$3,AB1541+AH1542-AG1542,)","v":0},{"$f":"IF(AND(ROW(AC1542)>=statistics!$C$55,ROW(AC1542)<=statistics!$D$55),AC1541+AH1542-AG1542,)","v":0},{"$f":"IF(AND(statistics!$C$55<=ROW(A1542),ROW(A1542)<=statistics!$D$55)=TRUE,AH1542-AG1542+AA1541-INDEX(AA:AA,statistics!$C$55),\"\")","v":""},null,null,0,0,0,"",{"$f":"IF(statistics!$D$3<>0,IF(AJ1542=statistics!$D$3,AG1542,\"\"),IF(B1542<>\"\",AG1542,\"\"))","v":""},{"$f":"IF(statistics!$D$3<>0,IF(AJ1542=statistics!$D$3,IF(AH1542=0,\"\",AH1542),\"\"),IF(AH1542<>0,AH1542,\"\"))","v":""},{"$f":"IF(statistics!$D$3<>0,IF(AJ1542=statistics!$D$3,IF(A1542=0,\"\",1),\"\"),IF(A1542=0,\"\",1))","v":""},"","",null,"",{"$nulls":6},0,null,null,null,"",null,null,"",null,0,null,{"$error":"#NUM!"},{"$error":"#NUM!"},1541]
[{"$nulls":4},"","","","","",null,null,"",{"$nulls":6},1546,"",{"$f":"IF(A1548=0,IF(B1548=\"\",IF(B1547=0,\"\",SUM($AG$1:AG1547)-SUM($U$1:U1546)),\"\"),SUM($AG$1:AG1547)-SUM($U$1:U1546))","v":""},{"$nulls":5},0,{"$f":"IF(AJ1547=statistics!$D$3,AB1546+AH1547-AG1547,)","v":0},{"$f":"IF(AND(ROW(AC1547)>=statistics!$C$55,ROW(AC1547)<=statistics!$D$55),AC1546+AH1547-AG1547,)","v":0},{"$f":"IF(AND(statistics!$C$55<=ROW(A1547),ROW(A1547)<=statistics!$D$55)=TRUE,AH1547-AG1547+AA1546-INDEX(AA:AA,statistics!$C$55),\"\")","v":""},null,null,0,0,0,"",{"$f":"IF(statistics!$D$3<>0,IF(AJ1547=statistics!$D$3,AG1547,\"\"),IF(B1547<>\"\",AG1547,\"\"))","v":""},{"$f":"IF(statistics!$D$3<>0,IF(AJ1547=statistics!$D$3,IF(AH1547=0,\"\",AH1547),\"\"),IF(AH1547<>0,AH1547,\"\"))","v":""},{"$f":"IF(statistics!$D$3<>0,IF(AJ1547=statistics!$D$3,IF(A1547=0,\"\",1),\"\"),IF(A1547=0,\"\",1))","v":""},"","",null,"",{"$nulls":6},0,null,null,null,"",null,null,"",null,0,null,{"$error":"#NUM!"},{"$error":"#NUM!"},1546]
[{"$nulls":4},"","","","","",null,null,"",{"$nulls":6},1560,"",{"$f":"IF(A1562=0,IF(B1562=\"\",IF(B1561=0,\"\",SUM($AG$1:AG1561)-SUM($U$1:U1560)),\"\"),SUM($AG$1:AG1561)-SUM($U$1:U1560))","v":""},{"$nulls":5},0,{"$f":"IF(AJ1561=statistics!$D$3,AB1560+AH1561-AG1561,)","v":0},{"$f":"IF(AND(ROW(AC1561)>=statistics!$C$55,ROW(AC1561)<=statistics!$D$55),AC1560+AH1561-AG1561,)","v":0},{"$f":"IF(AND(statistics!$C$55<=ROW(A1561),ROW(A1561)<=statistics!$D$55)=TRUE,AH1561-AG1561+AA1560-INDEX(AA:AA,statistics!$C$55),\"\")","v":""},null,null,0,0,0,"",{"$f":"IF(statistics!$D$3<>0,IF(AJ1561=statistics!$D$3,AG1561,\"\"),IF(B1561<>\"\",AG1561,\"\"))","v":""},{"$f":"IF(statistics!$D$3<>0,IF(AJ1561=statistics!$D$3,IF(AH1561=0,\"\",AH1561),\"\"),IF(AH1561<>0,AH1561,\"\"))","v":""},{"$f":"IF(statistics!$D$3<>0,IF(AJ1561=statistics!$D$3,IF(A1561=0,\"\",1),\"\"),IF(A1561=0,\"\",1))","v":""},"","",null,"",{"$nulls":6},0,null,null,null,"",null,null,"",null,0,null,{"$error":"#NUM!"},{"$error":"#NUM!"},1560]
[{"$nulls":4},"","","","","",null,null,"",{"$nulls":6},1571,"",{"$f":"IF(A1573=0,IF(B1573=\"\",IF(B1572=0,\"\",SUM($AG$1:AG1572)-SUM($U$1:U1571)),\"\"),SUM($AG$1:AG1572)-SUM($U$1:U1571))","v":""},{"$nulls":5},0,{"$f":"IF(AJ1572=statistics!$D$3,AB1571+AH1572-AG1572,)","v":0},{"$f":"IF(AND(ROW(AC1572)>=statistics!$C$55,ROW(AC1572)<=statistics!$D$55),AC1571+AH1572-AG1572,)","v":0},{"$f":"IF(AND(statistics!$C$55<=ROW(A1572),ROW(A1572)<=statistics!$D$55)=TRUE,AH1572-AG1572+AA1571-INDEX(AA:AA,statistics!$C$55),\"\")","v":""},null,null,0,0,0,"",{"$f":"IF(statistics!$D$3<>0,IF(AJ1572=statistics!$D$3,AG1572,\"\"),IF(B1572<>\"\",AG1572,\"\"))","v":""},{"$f":"IF(statistics!$D$3<>0,IF(AJ1572=statistics!$D$3,IF(AH1572=0,\"\",AH1572),\"\"),IF(AH1572<>0,AH1572,\"\"))","v":""},{"$f":"IF(statistics!$D$3<>0,IF(AJ1572=statistics!$D$3,IF(A1572=0,\"\",1),\"\"),IF(A1572=0,\"\",1))","v":""},"","",null,"",{"$nulls":6},0,null,null,null,"",null,null,"",null,0,null,{"$error":"#NUM!"},{"$error":"#NUM!"},1571]
[{"$nulls":4},"","","","","",null,null,"",{"$nulls":6},1576,"",{"$f":"IF(A1578=0,IF(B1578=\"\",IF(B1577=0,\"\",SUM($AG$1:AG1577)-SUM($U$1:U1576)),\"\"),SUM($AG$1:AG1577)-SUM($U$1:U1576))","v":""},{"$nulls":5},0,{"$f":"IF(AJ1577=statistics!$D$3,AB1576+AH1577-AG1577,)","v":0},{"$f":"IF(AND(ROW(AC1577)>=statistics!$C$55,ROW(AC1577)<=statistics!$D$55),AC1576+AH1577-AG1577,)","v":0},{"$f":"IF(AND(statistics!$C$55<=ROW(A1577),ROW(A1577)<=statistics!$D$55)=TRUE,AH1577-AG1577+AA1576-INDEX(AA:AA,statistics!$C$55),\"\")","v":""},null,null,0,0,0,"",{"$f":"IF(statistics!$D$3<>0,IF(AJ1577=statistics!$D$3,AG1577,\"\"),IF(B1577<>\"\",AG1577,\"\"))","v":""},{"$f":"IF(statistics!$D$3<>0,IF(AJ1577=statistics!$D$3,IF(AH1577=0,\"\",AH1577),\"\"),IF(AH1577<>0,AH1577,\"\"))","v":""},{"$f":"IF(statistics!$D$3<>0,IF(AJ1577=statistics!$D$3,IF(A1577=0,\"\",1),\"\"),IF(A1577=0,\"\",1))","v":""},"","",null,"",{"$nulls":6},0,null,null,null,"",null,null,"",null,0,null,{"$error":"#NUM!"},{"$error":"#NUM!"},1576]
[{"$nulls":4},"","","","","",null,null,"",{"$nulls":6},1587,"",{"$f":"IF(A1589=0,IF(B1589=\"\",IF(B1588=0,\"\",SUM($AG$1:AG1588)-SUM($U$1:U1587)),\"\"),SUM($AG$1:AG1588)-SUM($U$1:U1587))","v":""},{"$nulls":5},0,{"$f":"IF(AJ1588=statistics!$D$3,AB1587+AH1588-AG1588,)","v":0},{"$f":"IF(AND(ROW(AC1588)>=statistics!$C$55,ROW(AC1588)<=statistics!$D$55),AC1587+AH1588-AG1588,)","v":0},{"$f":"IF(AND(statistics!$C$55<=ROW(A1588),ROW(A1588)<=statistics!$D$55)=TRUE,AH1588-AG1588+AA1587-INDEX(AA:AA,statistics!$C$55),\"\")","v":""},null,null,0,0,0,"",{"$f":"IF(statistics!$D$3<>0,IF(AJ1588=statistics!$D$3,AG1588,\"\"),IF(B1588<>\"\",AG1588,\"\"))","v":""},{"$f":"IF(statistics!$D$3<>0,IF(AJ1588=statistics!$D$3,IF(AH1588=0,\"\",AH1588),\"\"),IF(AH1588<>0,AH1588,\"\"))","v":""},{"$f":"IF(statistics!$D$3<>0,IF(AJ1588=statistics!$D$3,IF(A1588=0,\"\",1),\"\"),IF(A1588=0,\"\",1))","v":""},"","",null,"",{"$nulls":6},0,null,null,null,"",null,null,"",null,0,null,{"$error":"#NUM!"},{"$error":"#NUM!"},1587]
[{"$nulls":4},{"$f":"IF(A1603=0,\"\",IF(B1603<>\"\",SUM(AH1603:AH11601)-SUM(AG1603:AG11601)-SUM(E1604:E11601),\"\"))","v":""},"","","","",null,null,{"$f":"IF(A1603=0,\"\",SUM(AI1603:AI11601)-SUM(L1604:L11601))","v":""},{"$nulls":6},1602,{"$f":"IF(A1603=0,\"\",SUM(AG1603:AG11601)-SUM(T1604:T11601))","v":""},{"$f":"IF(A1604=0,IF(B1604=\"\",IF(B1603=0,\"\",SUM($AG$1:AG1603)-SUM($U$1:U1602)),\"\"),SUM($AG$1:AG1603)-SUM($U$1:U1602))","v":""},{"$nulls":5},{"$f":"AA1602+AH1603-AG1603","v":0},{"$f":"IF(AJ1603=statistics!$D$3,AB1602+AH1603-AG1603,)","v":0},{"$f":"IF(AND(ROW(AC1603)>=statistics!$C$55,ROW(AC1603)<=statistics!$D$55),AC1602+AH1603-AG1603,)","v":0},{"$f":"IF(AND(statistics!$C$55<=ROW(A1603),ROW(A1603)<=statistics!$D$55)=TRUE,AH1603-AG1603+AA1602-INDEX(AA:AA,statistics!$C$55),\"\")","v":""},null,null,{"$f":"IF(J1603=0,B1603+C1603,(B1603+C1603)-(B1603+C1603)*J1603*K1603)","v":0},{"$f":"IF(J1603=0,D1603,D1603*(1-J1603))","v":0},{"$f":"IF(J1603=0,,D1603*J1603)","v":0},"",{"$f":"IF(statistics!$D$3<>0,IF(AJ1603=statistics!$D$3,AG1603,\"\"),IF(B1603<>\"\",AG1603,\"\"))","v":""},{"$f":"IF(statistics!$D$3<>0,IF(AJ1603=statistics!$D$3,IF(AH1603=0,\"\",AH1603),\"\"),IF(AH1603<>0,AH1603,\"\"))","v":""},{"$f":"IF(statistics!$D$3<>0,IF(AJ1603=statistics!$D$3,IF(A1603=0,\"\",1),\"\"),IF(A1603=0,\"\",1))","v":""},"","",null,{"$f":"IF(B1603=0,\"\",IF(D1603=0,IF(D1602=0,AQ1602+1,1),\"\"))","v":""},{"$nulls":6},{"$f":"J1603*D1603-J1603*K1603*(B1603+C1603)","v":0},null,null,null,{"$f":"IF(B1603=$BA$2,ROW(),\"\")","v":""},null,null,{"$f":"IF(B1603=$BA$2,INDEX(D:D,SMALL(BB:BB,CELL(\"содержимое\",BG1603)))-INDEX(B:B,SMALL(BB:BB,CELL(\"содержимое\",BG1603)))-INDEX(C:C,SMALL(BB:BB,CELL(\"содержимое\",BG1603))),\"\")","v":""},null,{"$f":"IF($BA$2=B1603,BG1602+1,BG1602)","v":0},null,{"$f":"INDEX(BE:BE,SMALL(BB:BB,CELL(\"содержимое\",BK1603)))","v":{"$error":"#NUM!"}},{"$f":"BJ1602+BI1603","v":{"$error":"#NUM!"}},{"$f":"BK1602+1","v":1602}]
[{"$nulls":4},"","","","","",null,null,"",{"$nulls":6},1607,"",{"$f":"IF(A1609=0,IF(B1609=\"\",IF(B1608=0,\"\",SUM($AG$1:AG1608)-SUM($U$1:U1607)),\"\"),SUM($AG$1:AG1608)-SUM($U$1:U1607))","v":""},{"$nulls":5},0,{"$f":"IF(AJ1608=statistics!$D$3,AB1607+AH1608-AG1608,)","v":0},{"$f":"IF(AND(ROW(AC1608)>=statistics!$C$55,ROW(AC1608)<=statistics!$D$55),AC1607+AH1608-AG1608,)","v":0},{"$f":"IF(AND(statistics!$C$55<=ROW(A1608),ROW(A1608)<=statistics!$D$55)=TRUE,AH1608-AG1608+AA1607-INDEX(AA:AA,statistics!$C$55),\"\")","v":""},null,null,0,0,0,"",{"$f":"IF(statistics!$D$3<>0,IF(AJ1608=statistics!$D$3,AG1608,\"\"),IF(B1608<>\"\",AG1608,\"\"))","v":""},{"$f":"IF(statistics!$D$3<>0,IF(AJ1608=statistics!$D$3,IF(AH1608=0,\"\",AH1608),\"\"),IF(AH1608<>0,AH1608,\"\"))","v":""},{"$f":"IF(statistics!$D$3<>0,IF(AJ1608=statistics!$D$3,IF(A1608=0,\"\",1),\"\"),IF(A1608=0,\"\",1))","v":""},"","",null,"",{"$nulls":6},0,null,null,null,"",null,null,"",null,0,null,{"$error":"#NUM!"},{"$error":"#NUM!"},1607]
[{"$nulls":4},"","","","","",null,null,"",{"$nulls":6},1618,"",{"$f":"IF(A1620=0,IF(B1620=\"\",IF(B1619=0,\"\",SUM($AG$1:AG1619)-SUM($U$1:U1618)),\"\"),SUM($AG$1:AG1619)-SUM($U$1:U1618))","v":""},{"$nulls":5},0,{"$f":"IF(AJ1619=statistics!$D$3,AB1618+AH1619-AG1619,)","v":0},{"$f":"IF(AND(ROW(AC1619)>=statistics!$C$55,ROW(AC1619)<=statistics!$D$55),AC1618+AH1619-AG1619,)","v":0},{"$f":"IF(AND(statistics!$C$55<=ROW(A1619),ROW(A1619)<=statistics!$D$55)=TRUE,AH1619-AG1619+AA1618-INDEX(AA:AA,statistics!$C$55),\"\")","v":""},null,null,0,0,0,"",{"$f":"IF(statistics!$D$3<>0,IF(AJ1619=statistics!$D$3,AG1619,\"\"),IF(B1619<>\"\",AG1619,\"\"))","v":""},{"$f":"IF(statistics!$D$3<>0,IF(AJ1619=statistics!$D$3,IF(AH1619=0,\"\",AH1619),\"\"),IF(AH1619<>0,AH1619,\"\"))","v":""},{"$f":"IF(statistics!$D$3<>0,IF(AJ1619=statistics!$D$3,IF(A1619=0,\"\",1),\"\"),IF(A1619=0,\"\",1))","v":""},"","",null,"",{"$nulls":6},0,null,null,null,"",null,null,"",null,0,null,{"$error":"#NUM!"},{"$error":"#NUM!"},1618]
[{"$nulls":4},"","","","","",null,null,"",{"$nulls":6},1626,"",{"$f":"IF(A1628=0,IF(B1628=\"\",IF(B1627=0,\"\",SUM($AG$1:AG1627)-SUM($U$1:U1626)),\"\"),SUM($AG$1:AG1627)-SUM($U$1:U1626))","v":""},{"$nulls":5},0,{"$f":"IF(AJ1627=statistics!$D$3,AB1626+AH1627-AG1627,)","v":0},{"$f":"IF(AND(ROW(AC1627)>=statistics!$C$55,ROW(AC1627)<=statistics!$D$55),AC1626+AH1627-AG1627,)","v":0},{"$f":"IF(AND(statistics!$C$55<=ROW(A1627),ROW(A1627)<=statistics!$D$55)=TRUE,AH1627-AG1627+AA1626-INDEX(AA:AA,statistics!$C$55),\"\")","v":""},null,null,0,0,0,"",{"$f":"IF(statistics!$D$3<>0,IF(AJ1627=statistics!$D$3,AG1627,\"\"),IF(B1627<>\"\",AG1627,\"\"))","v":""},{"$f":"IF(statistics!$D$3<>0,IF(AJ1627=statistics!$D$3,IF(AH1627=0,\"\",AH1627),\"\"),IF(AH1627<>0,AH1627,\"\"))","v":""},{"$f":"IF(statistics!$D$3<>0,IF(AJ1627=statistics!$D$3,IF(A1627=0,\"\",1),\"\"),IF(A1627=0,\"\",1))","v":""},"","",null,"",{"$nulls":6},0,null,null,null,"",null,null,"",null,0,null,{"$error":"#NUM!"},{"$error":"#NUM!"},1626]
[{"$nulls":4},"","","","","",null,null,"",{"$nulls":6},1637,"",{"$f":"IF(A1639=0,IF(B1639=\"\",IF(B1638=0,\"\",SUM($AG$1:AG1638)-SUM($U$1:U1637)),\"\"),SUM($AG$1:AG1638)-SUM($U$1:U1637))","v":""},{"$nulls":5},0,{"$f":"IF(AJ1638=statistics!$D$3,AB1637+AH1638-AG1638,)","v":0},{"$f":"IF(AND(ROW(AC1638)>=statistics!$C$55,ROW(AC1638)<=statistics!$D$55),AC1637+AH1638-AG1638,)","v":0},{"$f":"IF(AND(statistics!$C$55<=ROW(A1638),ROW(A1638)<=statistics!$D$55)=TRUE,AH1638-AG1638+AA1637-INDEX(AA:AA,statistics!$C$55),\"\")","v":""},null,null,0,0,0,"",{"$f":"IF(statistics!$D$3<>0,IF(AJ1638=statistics!$D$3,AG1638,\"\"),IF(B1638<>\"\",AG1638,\"\"))","v":""},{"$f":"IF(statistics!$D$3<>0,IF(AJ1638=statistics!$D$3,IF(AH1638=0,\"\",AH1638),\"\"),IF(AH1638<>0,AH1638,\"\"))","v":""},{"$f":"IF(statistics!$D$3<>0,IF(AJ1638=statistics!$D$3,IF(A1638=0,\"\",1),\"\"),IF(A1638=0,\"\",1))","v":""},"","",null,"",{"$nulls":6},0,null,null,null,"",null,null,"",null,0,null,{"$error":"#NUM!"},{"$error":"#NUM!"},1637]
[{"$nulls":4},"","","","","",null,null,"",{"$nulls":6},1648,"",{"$f":"IF(A1650=0,IF(B1650=\"\",IF(B1649=0,\"\",SUM($AG$1:AG1649)-SUM($U$1:U1648)),\"\"),SUM($AG$1:AG1649)-SUM($U$1:U1648))","v":""},{"$nulls":5},0,{"$f":"IF(AJ1649=statistics!$D$3,AB1648+AH1649-AG1649,)","v":0},{"$f":"IF(AND(ROW(AC1649)>=statistics!$C$55,ROW(AC1649)<=statistics!$D$55),AC1648+AH1649-AG1649,)","v":0},{"$f":"IF(AND(statistics!$C$55<=ROW(A1649),ROW(A1649)<=statistics!$D$55)=TRUE,AH1649-AG1649+AA1648-INDEX(AA:AA,statistics!$C$55),\"\")","v":""},null,null,0,0,0,"",{"$f":"IF(statistics!$D$3<>0,IF(AJ1649=statistics!$D$3,AG1649,\"\"),IF(B1649<>\"\",AG1649,\"\"))","v":""},{"$f":"IF(statistics!$D$3<>0,IF(AJ1649=statistics!$D$3,IF(AH1649=0,\"\",AH1649),\"\"),IF(AH1649<>0,AH1649,\"\"))","v":""},{"$f":"IF(statistics!$D$3<>0,IF(AJ1649=statistics!$D$3,IF(A1649=0,\"\",1),\"\"),IF(A1649=0,\"\",1))","v":""},"","",null,"",{"$nulls":6},0,null,null,null,"",null,null,"",null,0,null,{"$error":"#NUM!"},{"$error":"#NUM!"},1648]
[{"$nulls":4},"","","","","",null,null,"",{"$nulls":6},1653,"",{"$f":"IF(A1655=0,IF(B1655=\"\",IF(B1654=0,\"\",SUM($AG$1:AG1654)-SUM($U$1:U1653)),\"\"),SUM($AG$1:AG1654)-SUM($U$1:U1653))","v":""},{"$nulls":5},0,{"$f":"IF(AJ1654=statistics!$D$3,AB1653+AH1654-AG1654,)","v":0},{"$f":"IF(AND(ROW(AC1654)>=statistics!$C$55,ROW(AC1654)<=statistics!$D$55),AC1653+AH1654-AG1654,)","v":0},{"$f":"IF(AND(statistics!$C$55<=ROW(A1654),ROW(A1654)<=statistics!$D$55)=TRUE,AH1654-AG1654+AA1653-INDEX(AA:AA,statistics!$C$55),\"\")","v":""},null,null,0,0,0,"",{"$f":"IF(statistics!$D$3<>0,IF(AJ1654=statistics!$D$3,AG1654,\"\"),IF(B1654<>\"\",AG1654,\"\"))","v":""},{"$f":"IF(statistics!$D$3<>0,IF(AJ1654=statistics!$D$3,IF(AH1654=0,\"\",AH1654),\"\"),IF(AH1654<>0,AH1654,\"\"))","v":""},{"$f":"IF(statistics!$D$3<>0,IF(AJ1654=statistics!$D$3,IF(A1654=0,\"\",1),\"\"),IF(A1654=0,\"\",1))","v":""},"","",null,"",{"$nulls":6},0,null,null,null,"",null,null,"",null,0,null,{"$error":"#NUM!"},{"$error":"#NUM!"},1653]
[{"$nulls":4},"",{"$f":"IF(A1665=0,\"\",IF(T1665=0,\"\",E1665/T1665))","v":""},"","","",null,null,"",{"$nulls":6},1664,"",{"$f":"IF(A1666=0,IF(B1666=\"\",IF(B1665=0,\"\",SUM($AG$1:AG1665)-SUM($U$1:U1664)),\"\"),SUM($AG$1:AG1665)-SUM($U$1:U1664))","v":""},{"$nulls":5},0,{"$f":"IF(AJ1665=statistics!$D$3,AB1664+AH1665-AG1665,)","v":0},{"$f":"IF(AND(ROW(AC1665)>=statistics!$C$55,ROW(AC1665)<=statistics!$D$55),AC1664+AH1665-AG1665,)","v":0},{"$f":"IF(AND(statistics!$C$55<=ROW(A1665),ROW(A1665)<=statistics!$D$55)=TRUE,AH1665-AG1665+AA1664-INDEX(AA:AA,statistics!$C$55),\"\")","v":""},null,null,0,0,0,"",{"$f":"IF(statistics!$D$3<>0,IF(AJ1665=statistics!$D$3,AG1665,\"\"),IF(B1665<>\"\",AG1665,\"\"))","v":""},{"$f":"IF(statistics!$D$3<>0,IF(AJ1665=statistics!$D$3,IF(AH1665=0,\"\",AH1665),\"\"),IF(AH1665<>0,AH1665,\"\"))","v":""},{"$f":"IF(statistics!$D$3<>0,IF(AJ1665=statistics!$D$3,IF(A1665=0,\"\",1),\"\"),IF(A1665=0,\"\",1))","v":""},"","",null,"",{"$nulls":6},0,null,null,null,"",null,null,"",null,0,null,{"$error":"#NUM!"},{"$error":"#NUM!"},1664]
[{"$nulls":4},"","","","","",null,null,"",{"$nulls":6},1679,"",{"$f":"IF(A1681=0,IF(B1681=\"\",IF(B1680=0,\"\",SUM($AG$1:AG1680)-SUM($U$1:U1679)),\"\"),SUM($AG$1:AG1680)-SUM($U$1:U1679))","v":""},{"$nulls":5},0,{"$f":"IF(AJ1680=statistics!$D$3,AB1679+AH1680-AG1680,)","v":0},{"$f":"IF(AND(ROW(AC1680)>=statistics!$C$55,ROW(AC1680)<=statistics!$D$55),AC1679+AH1680-AG1680,)","v":0},{"$f":"IF(AND(statistics!$C$55<=ROW(A1680),ROW(A1680)<=statistics!$D$55)=TRUE,AH1680-AG1680+AA1679-INDEX(AA:AA,statistics!$C$55),\"\")","v":""},null,null,0,0,0,"",{"$f":"IF(statistics!$D$3<>0,IF(AJ1680=statistics!$D$3,AG1680,\"\"),IF(B1680<>\"\",AG1680,\"\"))","v":""},{"$f":"IF(statistics!$D$3<>0,IF(AJ1680=statistics!$D$3,IF(AH1680=0,\"\",AH1680),\"\"),IF(AH1680<>0,AH1680,\"\"))","v":""},{"$f":"IF(statistics!$D$3<>0,IF(AJ1680=statistics!$D$3,IF(A1680=0,\"\",1),\"\"),IF(A1680=0,\"\",1))","v":""},"","",null,"",{"$nulls":6},0,null,null,null,"",null,null,"",null,0,null,{"$error":"#NUM!"},{"$error":"#NUM!"},1679]
[{"$nulls":4},"","","","","",null,null,"",{"$nulls":6},1684,"",{"$f":"IF(A1686=0,IF(B1686=\"\",IF(B1685=0,\"\",SUM($AG$1:AG1685)-SUM($U$1:U1684)),\"\"),SUM($AG$1:AG1685)-SUM($U$1:U1684))","v":""},{"$nulls":5},0,{"$f":"IF(AJ1685=statistics!$D$3,AB1684+AH1685-AG1685,)","v":0},{"$f":"IF(AND(ROW(AC1685)>=statistics!$C$55,ROW(AC1685)<=statistics!$D$55),AC1684+AH1685-AG1685,)","v":0},{"$f":"IF(AND(statistics!$C$55<=ROW(A1685),ROW(A1685)<=statistics!$D$55)=TRUE,AH1685-AG1685+AA1684-INDEX(AA:AA,statistics!$C$55),\"\")","v":""},null,null,0,0,0,"",{"$f":"IF(statistics!$D$3<>0,IF(AJ1685=statistics!$D$3,AG1685,\"\"),IF(B1685<>\"\",AG1685,\"\"))","v":""},{"$f":"IF(statistics!$D$3<>0,IF(AJ1685=statistics!$D$3,IF(AH1685=0,\"\",AH1685),\"\"),IF(AH1685<>0,AH1685,\"\"))","v":""},{"$f":"IF(statistics!$D$3<>0,IF(AJ1685=statistics!$D$3,IF(A1685=0,\"\",1),\"\"),IF(A1685=0,\"\",1))","v":""},"","",null,"",{"$nulls":6},0,null,null,null,"",null,null,"",null,0,null,{"$error":"#NUM!"},{"$error":"#NUM!"},1684]
[{"$nulls":4},"","","","","",null,null,"",{"$nulls":6},1701,"",{"$f":"IF(A1703=0,IF(B1703=\"\",IF(B1702=0,\"\",SUM($AG$1:AG1702)-SUM($U$1:U1701)),\"\"),SUM($AG$1:AG1702)-SUM($U$1:U1701))","v":""},{"$nulls":5},0,{"$f":"IF(AJ1702=statistics!$D$3,AB1701+AH1702-AG1702,)","v":0},{"$f":"IF(AND(ROW(AC1702)>=statistics!$C$55,ROW(AC1702)<=statistics!$D$55),AC1701+AH1702-AG1702,)","v":0},{"$f":"IF(AND(statistics!$C$55<=ROW(A1702),ROW(A1702)<=statistics!$D$55)=TRUE,AH1702-AG1702+AA1701-INDEX(AA:AA,statistics!$C$55),\"\")","v":""},null,null,0,0,0,"",{"$f":"IF(statistics!$D$3<>0,IF(AJ1702=statistics!$D$3,AG1702,\"\"),IF(B1702<>\"\",AG1702,\"\"))","v":""},{"$f":"IF(statistics!$D$3<>0,IF(AJ1702=statistics!$D$3,IF(AH1702=0,\"\",AH1702),\"\"),IF(AH1702<>0,AH1702,\"\"))","v":""},{"$f":"IF(statistics!$D$3<>0,IF(AJ1702=statistics!$D$3,IF(A1702=0,\"\",1),\"\"),IF(A1702=0,\"\",1))","v":""},"","",null,"",{"$nulls":6},0,null,null,null,"",null,null,"",null,0,null,{"$error":"#NUM!"},{"$error":"#NUM!"},1701]
[{"$nulls":4},"","","","","",null,null,"",{"$nulls":6},1709,"",{"$f":"IF(A1711=0,IF(B1711=\"\",IF(B1710=0,\"\",SUM($AG$1:AG1710)-SUM($U$1:U1709)),\"\"),SUM($AG$1:AG1710)-SUM($U$1:U1709))","v":""},{"$nulls":5},0,{"$f":"IF(AJ1710=statistics!$D$3,AB1709+AH1710-AG1710,)","v":0},{"$f":"IF(AND(ROW(AC1710)>=statistics!$C$55,ROW(AC1710)<=statistics!$D$55),AC1709+AH1710-AG1710,)","v":0},{"$f":"IF(AND(statistics!$C$55<=ROW(A1710),ROW(A1710)<=statistics!$D$55)=TRUE,AH1710-AG1710+AA1709-INDEX(AA:AA,statistics!$C$55),\"\")","v":""},null,null,0,0,0,"",{"$f":"IF(statistics!$D$3<>0,IF(AJ1710=statistics!$D$3,AG1710,\"\"),IF(B1710<>\"\",AG1710,\"\"))","v":""},{"$f":"IF(statistics!$D$3<>0,IF(AJ1710=statistics!$D$3,IF(AH1710=0,\"\",AH1710),\"\"),IF(AH1710<>0,AH1710,\"\"))","v":""},{"$f":"IF(statistics!$D$3<>0,IF(AJ1710=statistics!$D$3,IF(A1710=0,\"\",1),\"\"),IF(A1710=0,\"\",1))","v":""},"","",null,"",{"$nulls":6},0,null,null,null,"",null,null,"",null,0,null,{"$error":"#NUM!"},{"$error":"#NUM!"},1709]
[{"$nulls":4},"","","","","",null,null,"",{"$nulls":6},1714,"",{"$f":"IF(A1716=0,IF(B1716=\"\",IF(B1715=0,\"\",SUM($AG$1:AG1715)-SUM($U$1:U1714)),\"\"),SUM($AG$1:AG1715)-SUM($U$1:U1714))","v":""},{"$nulls":5},0,{"$f":"IF(AJ1715=statistics!$D$3,AB1714+AH1715-AG1715,)","v":0},{"$f":"IF(AND(ROW(AC1715)>=statistics!$C$55,ROW(AC1715)<=statistics!$D$55),AC1714+AH1715-AG1715,)","v":0},{"$f":"IF(AND(statistics!$C$55<=ROW(A1715),ROW(A1715)<=statistics!$D$55)=TRUE,AH1715-AG1715+AA1714-INDEX(AA:AA,statistics!$C$55),\"\")","v":""},null,null,0,0,0,"",{"$f":"IF(statistics!$D$3<>0,IF(AJ1715=statistics!$D$3,AG1715,\"\"),IF(B1715<>\"\",AG1715,\"\"))","v":""},{"$f":"IF(statistics!$D$3<>0,IF(AJ1715=statistics!$D$3,IF(AH1715=0,\"\",AH1715),\"\"),IF(AH1715<>0,AH1715,\"\"))","v":""},{"$f":"IF(statistics!$D$3<>0,IF(AJ1715=statistics!$D$3,IF(A1715=0,\"\",1),\"\"),IF(A1715=0,\"\",1))","v":""},"","",null,"",{"$nulls":6},0,null,null,null,"",null,null,"",null,0,null,{"$error":"#NUM!"},{"$error":"#NUM!"},1714]
[{"$nulls":4},"","","","","",null,null,"",{"$nulls":6},1725,"",{"$f":"IF(A1727=0,IF(B1727=\"\",IF(B1726=0,\"\",SUM($AG$1:AG1726)-SUM($U$1:U1725)),\"\"),SUM($AG$1:AG1726)-SUM($U$1:U1725))","v":""},{"$nulls":5},0,{"$f":"IF(AJ1726=statistics!$D$3,AB1725+AH1726-AG1726,)","v":0},{"$f":"IF(AND(ROW(AC1726)>=statistics!$C$55,ROW(AC1726)<=statistics!$D$55),AC1725+AH1726-AG1726,)","v":0},{"$f":"IF(AND(statistics!$C$55<=ROW(A1726),ROW(A1726)<=statistics!$D$55)=TRUE,AH1726-AG1726+AA1725-INDEX(AA:AA,statistics!$C$55),\"\")","v":""},null,null,0,0,0,"",{"$f":"IF(statistics!$D$3<>0,IF(AJ1726=statistics!$D$3,AG1726,\"\"),IF(B1726<>\"\",AG1726,\"\"))","v":""},{"$f":"IF(statistics!$D$3<>0,IF(AJ1726=statistics!$D$3,IF(AH1726=0,\"\",AH1726),\"\"),IF(AH1726<>0,AH1726,\"\"))","v":""},{"$f":"IF(statistics!$D$3<>0,IF(AJ1726=statistics!$D$3,IF(A1726=0,\"\",1),\"\"),IF(A1726=0,\"\",1))","v":""},"","",null,"",{"$nulls":6},0,null,null,null,"",null,null,"",null,0,null,{"$error":"#NUM!"},{"$error":"#NUM!"},1725]
[{"$nulls":4},"","","","","",null,null,"",{"$nulls":6},1740,"",{"$f":"IF(A1742=0,IF(B1742=\"\",IF(B1741=0,\"\",SUM($AG$1:AG1741)-SUM($U$1:U1740)),\"\"),SUM($AG$1:AG1741)-SUM($U$1:U1740))","v":""},{"$nulls":5},0,{"$f":"IF(AJ1741=statistics!$D$3,AB1740+AH1741-AG1741,)","v":0},{"$f":"IF(AND(ROW(AC1741)>=statistics!$C$55,ROW(AC1741)<=statistics!$D$55),AC1740+AH1741-AG1741,)","v":0},{"$f":"IF(AND(statistics!$C$55<=ROW(A1741),ROW(A1741)<=statistics!$D$55)=TRUE,AH1741-AG1741+AA1740-INDEX(AA:AA,statistics!$C$55),\"\")","v":""},null,null,0,0,0,"",{"$f":"IF(statistics!$D$3<>0,IF(AJ1741=statistics!$D$3,AG1741,\"\"),IF(B1741<>\"\",AG1741,\"\"))","v":""},{"$f":"IF(statistics!$D$3<>0,IF(AJ1741=statistics!$D$3,IF(AH1741=0,\"\",AH1741),\"\"),IF(AH1741<>0,AH1741,\"\"))","v":""},{"$f":"IF(statistics!$D$3<>0,IF(AJ1741=statistics!$D$3,IF(A1741=0,\"\",1),\"\"),IF(A1741=0,\"\",1))","v":""},"","",null,"",{"$nulls":6},0,null,null,null,"",null,null,"",null,0,null,{"$error":"#NUM!"},{"$error":"#NUM!"},1740]
[{"$nulls":4},"","","","","",null,null,"",{"$nulls":6},1751,"",{"$f":"IF(A1753=0,IF(B1753=\"\",IF(B1752=0,\"\",SUM($AG$1:AG1752)-SUM($U$1:U1751)),\"\"),SUM($AG$1:AG1752)-SUM($U$1:U1751))","v":""},{"$nulls":5},0,{"$f":"IF(AJ1752=statistics!$D$3,AB1751+AH1752-AG1752,)","v":0},{"$f":"IF(AND(ROW(AC1752)>=statistics!$C$55,ROW(AC1752)<=statistics!$D$55),AC1751+AH1752-AG1752,)","v":0},{"$f":"IF(AND(statistics!$C$55<=ROW(A1752),ROW(A1752)<=statistics!$D$55)=TRUE,AH1752-AG1752+AA1751-INDEX(AA:AA,statistics!$C$55),\"\")","v":""},null,null,0,0,0,"",{"$f":"IF(statistics!$D$3<>0,IF(AJ1752=statistics!$D$3,AG1752,\"\"),IF(B1752<>\"\",AG1752,\"\"))","v":""},{"$f":"IF(statistics!$D$3<>0,IF(AJ1752=statistics!$D$3,IF(AH1752=0,\"\",AH1752),\"\"),IF(AH1752<>0,AH1752,\"\"))","v":""},{"$f":"IF(statistics!$D$3<>0,IF(AJ1752=statistics!$D$3,IF(A1752=0,\"\",1),\"\"),IF(A1752=0,\"\",1))","v":""},"","",null,"",{"$nulls":6},0,null,null,null,"",null,null,"",null,0,null,{"$error":"#NUM!"},{"$error":"#NUM!"},1751]
[{"$nulls":4},"","","","","",null,null,"",{"$nulls":6},1756,"",{"$f":"IF(A1758=0,IF(B1758=\"\",IF(B1757=0,\"\",SUM($AG$1:AG1757)-SUM($U$1:U1756)),\"\"),SUM($AG$1:AG1757)-SUM($U$1:U1756))","v":""},{"$nulls":5},0,{"$f":"IF(AJ1757=statistics!$D$3,AB1756+AH1757-AG1757,)","v":0},{"$f":"IF(AND(ROW(AC1757)>=statistics!$C$55,ROW(AC1757)<=statistics!$D$55),AC1756+AH1757-AG1757,)","v":0},{"$f":"IF(AND(statistics!$C$55<=ROW(A1757),ROW(A1757)<=statistics!$D$55)=TRUE,AH1757-AG1757+AA1756-INDEX(AA:AA,statistics!$C$55),\"\")","v":""},null,null,0,0,0,"",{"$f":"IF(statistics!$D$3<>0,IF(AJ1757=statistics!$D$3,AG1757,\"\"),IF(B1757<>\"\",AG1757,\"\"))","v":""},{"$f":"IF(statistics!$D$3<>0,IF(AJ1757=statistics!$D$3,IF(AH1757=0,\"\",AH1757),\"\"),IF(AH1757<>0,AH1757,\"\"))","v":""},{"$f":"IF(statistics!$D$3<>0,IF(AJ1757=statistics!$D$3,IF(A1757=0,\"\",1),\"\"),IF(A1757=0,\"\",1))","v":""},"","",null,"",{"$nulls":6},0,null,null,null,"",null,null,"",null,0,null,{"$error":"#NUM!"},{"$error":"#NUM!"},1756]
[{"$nulls":4},"","","","","",null,null,"",{"$nulls":6},1763,"",{"$f":"IF(A1765=0,IF(B1765=\"\",IF(B1764=0,\"\",SUM($AG$1:AG1764)-SUM($U$1:U1763)),\"\"),SUM($AG$1:AG1764)-SUM($U$1:U1763))","v":""},{"$nulls":5},0,{"$f":"IF(AJ1764=statistics!$D$3,AB1763+AH1764-AG1764,)","v":0},{"$f":"IF(AND(ROW(AC1764)>=statistics!$C$55,ROW(AC1764)<=statistics!$D$55),AC1763+AH1764-AG1764,)","v":0},{"$f":"IF(AND(statistics!$C$55<=ROW(A1764),ROW(A1764)<=statistics!$D$55)=TRUE,AH1764-AG1764+AA1763-INDEX(AA:AA,statistics!$C$55),\"\")","v":""},null,null,0,0,0,"",{"$f":"IF(statistics!$D$3<>0,IF(AJ1764=statistics!$D$3,AG1764,\"\"),IF(B1764<>\"\",AG1764,\"\"))","v":""},{"$f":"IF(statistics!$D$3<>0,IF(AJ1764=statistics!$D$3,IF(AH1764=0,\"\",AH1764),\"\"),IF(AH1764<>0,AH1764,\"\"))","v":""},{"$f":"IF(statistics!$D$3<>0,IF(AJ1764=statistics!$D$3,IF(A1764=0,\"\",1),\"\"),IF(A1764=0,\"\",1))","v":""},"","",null,"",{"$nulls":6},0,null,null,null,"",null,null,"",null,0,null,{"$error":"#NUM!"},{"$error":"#NUM!"},1763]
[{"$nulls":4},"","","","","",null,null,"",{"$nulls":6},1771,"",{"$f":"IF(A1773=0,IF(B1773=\"\",IF(B1772=0,\"\",SUM($AG$1:AG1772)-SUM($U$1:U1771)),\"\"),SUM($AG$1:AG1772)-SUM($U$1:U1771))","v":""},{"$nulls":5},0,{"$f":"IF(AJ1772=statistics!$D$3,AB1771+AH1772-AG1772,)","v":0},{"$f":"IF(AND(ROW(AC1772)>=statistics!$C$55,ROW(AC1772)<=statistics!$D$55),AC1771+AH1772-AG1772,)","v":0},{"$f":"IF(AND(statistics!$C$55<=ROW(A1772),ROW(A1772)<=statistics!$D$55)=TRUE,AH1772-AG1772+AA1771-INDEX(AA:AA,statistics!$C$55),\"\")","v":""},null,null,0,0,0,"",{"$f":"IF(statistics!$D$3<>0,IF(AJ1772=statistics!$D$3,AG1772,\"\"),IF(B1772<>\"\",AG1772,\"\"))","v":""},{"$f":"IF(statistics!$D$3<>0,IF(AJ1772=statistics!$D$3,IF(AH1772=0,\"\",AH1772),\"\"),IF(AH1772<>0,AH1772,\"\"))","v":""},{"$f":"IF(statistics!$D$3<>0,IF(AJ1772=statistics!$D$3,IF(A1772=0,\"\",1),\"\"),IF(A1772=0,\"\",1))","v":""},"","",null,"",{"$nulls":6},0,null,null,null,"",null,null,"",null,0,null,{"$error":"#NUM!"},{"$error":"#NUM!"},1771]
[{"$nulls":4},"","","","","",null,null,"",{"$nulls":6},1786,"",{"$f":"IF(A1788=0,IF(B1788=\"\",IF(B1787=0,\"\",SUM($AG$1:AG1787)-SUM($U$1:U1786)),\"\"),SUM($AG$1:AG1787)-SUM($U$1:U1786))","v":""},{"$nulls":5},0,{"$f":"IF(AJ1787=statistics!$D$3,AB1786+AH1787-AG1787,)","v":0},{"$f":"IF(AND(ROW(AC1787)>=statistics!$C$55,ROW(AC1787)<=statistics!$D$55),AC1786+AH1787-AG1787,)","v":0},{"$f":"IF(AND(statistics!$C$55<=ROW(A1787),ROW(A1787)<=statistics!$D$55)=TRUE,AH1787-AG1787+AA1786-INDEX(AA:AA,statistics!$C$55),\"\")","v":""},null,null,0,0,0,"",{"$f":"IF(statistics!$D$3<>0,IF(AJ1787=statistics!$D$3,AG1787,\"\"),IF(B1787<>\"\",AG1787,\"\"))","v":""},{"$f":"IF(statistics!$D$3<>0,IF(AJ1787=statistics!$D$3,IF(AH1787=0,\"\",AH1787),\"\"),IF(AH1787<>0,AH1787,\"\"))","v":""},{"$f":"IF(statistics!$D$3<>0,IF(AJ1787=statistics!$D$3,IF(A1787=0,\"\",1),\"\"),IF(A1787=0,\"\",1))","v":""},"","",null,"",{"$nulls":6},0,null,null,null,"",null,null,"",null,0,null,{"$error":"#NUM!"},{"$error":"#NUM!"},1786]
[{"$nulls":4},"","","","","",null,null,"",{"$nulls":6},1797,"",{"$f":"IF(A1799=0,IF(B1799=\"\",IF(B1798=0,\"\",SUM($AG$1:AG1798)-SUM($U$1:U1797)),\"\"),SUM($AG$1:AG1798)-SUM($U$1:U1797))","v":""},{"$nulls":5},0,{"$f":"IF(AJ1798=statistics!$D$3,AB1797+AH1798-AG1798,)","v":0},{"$f":"IF(AND(ROW(AC1798)>=statistics!$C$55,ROW(AC1798)<=statistics!$D$55),AC1797+AH1798-AG1798,)","v":0},{"$f":"IF(AND(statistics!$C$55<=ROW(A1798),ROW(A1798)<=statistics!$D$55)=TRUE,AH1798-AG1798+AA1797-INDEX(AA:AA,statistics!$C$55),\"\")","v":""},null,null,0,0,0,"",{"$f":"IF(statistics!$D$3<>0,IF(AJ1798=statistics!$D$3,AG1798,\"\"),IF(B1798<>\"\",AG1798,\"\"))","v":""},{"$f":"IF(statistics!$D$3<>0,IF(AJ1798=statistics!$D$3,IF(AH1798=0,\"\",AH1798),\"\"),IF(AH1798<>0,AH1798,\"\"))","v":""},{"$f":"IF(statistics!$D$3<>0,IF(AJ1798=statistics!$D$3,IF(A1798=0,\"\",1),\"\"),IF(A1798=0,\"\",1))","v":""},"","",null,"",{"$nulls":6},0,null,null,null,"",null,null,"",null,0,null,{"$error":"#NUM!"},{"$error":"#NUM!"},1797]
[{"$nulls":4},"","","","","",null,null,"",{"$nulls":6},1802,"",{"$f":"IF(A1804=0,IF(B1804=\"\",IF(B1803=0,\"\",SUM($AG$1:AG1803)-SUM($U$1:U1802)),\"\"),SUM($AG$1:AG1803)-SUM($U$1:U1802))","v":""},{"$nulls":5},0,{"$f":"IF(AJ1803=statistics!$D$3,AB1802+AH1803-AG1803,)","v":0},{"$f":"IF(AND(ROW(AC1803)>=statistics!$C$55,ROW(AC1803)<=statistics!$D$55),AC1802+AH1803-AG1803,)","v":0},{"$f":"IF(AND(statistics!$C$55<=ROW(A1803),ROW(A1803)<=statistics!$D$55)=TRUE,AH1803-AG1803+AA1802-INDEX(AA:AA,statistics!$C$55),\"\")","v":""},null,null,0,0,0,"",{"$f":"IF(statistics!$D$3<>0,IF(AJ1803=statistics!$D$3,AG1803,\"\"),IF(B1803<>\"\",AG1803,\"\"))","v":""},{"$f":"IF(statistics!$D$3<>0,IF(AJ1803=statistics!$D$3,IF(AH1803=0,\"\",AH1803),\"\"),IF(AH1803<>0,AH1803,\"\"))","v":""},{"$f":"IF(statistics!$D$3<>0,IF(AJ1803=statistics!$D$3,IF(A1803=0,\"\",1),\"\"),IF(A1803=0,\"\",1))","v":""},"","",null,"",{"$nulls":6},0,null,null,null,"",null,null,"",null,0,null,{"$error":"#NUM!"},{"$error":"#NUM!"},1802]
[{"$nulls":4},"","","","","",null,null,"",{"$nulls":6},1817,"",{"$f":"IF(A1819=0,IF(B1819=\"\",IF(B1818=0,\"\",SUM($AG$1:AG1818)-SUM($U$1:U1817)),\"\"),SUM($AG$1:AG1818)-SUM($U$1:U1817))","v":""},{"$nulls":5},0,{"$f":"IF(AJ1818=statistics!$D$3,AB1817+AH1818-AG1818,)","v":0},{"$f":"IF(AND(ROW(AC1818)>=statistics!$C$55,ROW(AC1818)<=statistics!$D$55),AC1817+AH1818-AG1818,)","v":0},{"$f":"IF(AND(statistics!$C$55<=ROW(A1818),ROW(A1818)<=statistics!$D$55)=TRUE,AH1818-AG1818+AA1817-INDEX(AA:AA,statistics!$C$55),\"\")","v":""},null,null,0,0,0,"",{"$f":"IF(statistics!$D$3<>0,IF(AJ1818=statistics!$D$3,AG1818,\"\"),IF(B1818<>\"\",AG1818,\"\"))","v":""},{"$f":"IF(statistics!$D$3<>0,IF(AJ1818=statistics!$D$3,IF(AH1818=0,\"\",AH1818),\"\"),IF(AH1818<>0,AH1818,\"\"))","v":""},{"$f":"IF(statistics!$D$3<>0,IF(AJ1818=statistics!$D$3,IF(A1818=0,\"\",1),\"\"),IF(A1818=0,\"\",1))","v":""},"","",null,"",{"$nulls":6},0,null,null,null,"",null,null,"",null,0,null,{"$error":"#NUM!"},{"$error":"#NUM!"},1817]
[{"$nulls":4},"","","","","",null,null,"",{"$nulls":6},1828,"",{"$f":"IF(A1830=0,IF(B1830=\"\",IF(B1829=0,\"\",SUM($AG$1:AG1829)-SUM($U$1:U1828)),\"\"),SUM($AG$1:AG1829)-SUM($U$1:U1828))","v":""},{"$nulls":5},0,{"$f":"IF(AJ1829=statistics!$D$3,AB1828+AH1829-AG1829,)","v":0},{"$f":"IF(AND(ROW(AC1829)>=statistics!$C$55,ROW(AC1829)<=statistics!$D$55),AC1828+AH1829-AG1829,)","v":0},{"$f":"IF(AND(statistics!$C$55<=ROW(A1829),ROW(A1829)<=statistics!$D$55)=TRUE,AH1829-AG1829+AA1828-INDEX(AA:AA,statistics!$C$55),\"\")","v":""},null,null,0,0,0,"",{"$f":"IF(statistics!$D$3<>0,IF(AJ1829=statistics!$D$3,AG1829,\"\"),IF(B1829<>\"\",AG1829,\"\"))","v":""},{"$f":"IF(statistics!$D$3<>0,IF(AJ1829=statistics!$D$3,IF(AH1829=0,\"\",AH1829),\"\"),IF(AH1829<>0,AH1829,\"\"))","v":""},{"$f":"IF(statistics!$D$3<>0,IF(AJ1829=statistics!$D$3,IF(A1829=0,\"\",1),\"\"),IF(A1829=0,\"\",1))","v":""},"","",null,"",{"$nulls":6},0,null,null,null,"",null,null,"",null,0,null,{"$error":"#NUM!"},{"$error":"#NUM!"},1828]
[{"$nulls":4},"","","","","",null,null,"",{"$nulls":6},1838,"",{"$f":"IF(A1840=0,IF(B1840=\"\",IF(B1839=0,\"\",SUM($AG$1:AG1839)-SUM($U$1:U1838)),\"\"),SUM($AG$1:AG1839)-SUM($U$1:U1838))","v":""},{"$nulls":5},0,{"$f":"IF(AJ1839=statistics!$D$3,AB1838+AH1839-AG1839,)","v":0},{"$f":"IF(AND(ROW(AC1839)>=statistics!$C$55,ROW(AC1839)<=statistics!$D$55),AC1838+AH1839-AG1839,)","v":0},{"$f":"IF(AND(statistics!$C$55<=ROW(A1839),ROW(A1839)<=statistics!$D$55)=TRUE,AH1839-AG1839+AA1838-INDEX(AA:AA,statistics!$C$55),\"\")","v":""},null,null,0,0,0,"",{"$f":"IF(statistics!$D$3<>0,IF(AJ1839=statistics!$D$3,AG1839,\"\"),IF(B1839<>\"\",AG1839,\"\"))","v":""},{"$f":"IF(statistics!$D$3<>0,IF(AJ1839=statistics!$D$3,IF(AH1839=0,\"\",AH1839),\"\"),IF(AH1839<>0,AH1839,\"\"))","v":""},{"$f":"IF(statistics!$D$3<>0,IF(AJ1839=statistics!$D$3,IF(A1839=0,\"\",1),\"\"),IF(A1839=0,\"\",1))","v":""},"","",null,"",{"$nulls":6},0,null,null,null,"",null,null,"",null,0,null,{"$error":"#NUM!"},{"$error":"#NUM!"},1838]
[{"$nulls":4},"","","","","",null,null,"",{"$nulls":6},1847,"",{"$f":"IF(A1849=0,IF(B1849=\"\",IF(B1848=0,\"\",SUM($AG$1:AG1848)-SUM($U$1:U1847)),\"\"),SUM($AG$1:AG1848)-SUM($U$1:U1847))","v":""},{"$nulls":5},0,{"$f":"IF(AJ1848=statistics!$D$3,AB1847+AH1848-AG1848,)","v":0},{"$f":"IF(AND(ROW(AC1848)>=statistics!$C$55,ROW(AC1848)<=statistics!$D$55),AC1847+AH1848-AG1848,)","v":0},{"$f":"IF(AND(statistics!$C$55<=ROW(A1848),ROW(A1848)<=statistics!$D$55)=TRUE,AH1848-AG1848+AA1847-INDEX(AA:AA,statistics!$C$55),\"\")","v":""},null,null,0,0,0,"",{"$f":"IF(statistics!$D$3<>0,IF(AJ1848=statistics!$D$3,AG1848,\"\"),IF(B1848<>\"\",AG1848,\"\"))","v":""},{"$f":"IF(statistics!$D$3<>0,IF(AJ1848=statistics!$D$3,IF(AH1848=0,\"\",AH1848),\"\"),IF(AH1848<>0,AH1848,\"\"))","v":""},{"$f":"IF(statistics!$D$3<>0,IF(AJ1848=statistics!$D$3,IF(A1848=0,\"\",1),\"\"),IF(A1848=0,\"\",1))","v":""},"","",null,"",{"$nulls":6},0,null,null,null,"",null,null,"",null,0,null,{"$error":"#NUM!"},{"$error":"#NUM!"},1847]
[{"$nulls":4},{"$f":"IF(A1859=0,\"\",IF(B1859<>\"\",SUM(AH1859:AH11857)-SUM(AG1859:AG11857)-SUM(E1860:E11857),\"\"))","v":""},"","","","",null,null,{"$f":"IF(A1859=0,\"\",SUM(AI1859:AI11857)-SUM(L1860:L11857))","v":""},{"$nulls":6},1858,{"$f":"IF(A1859=0,\"\",SUM(AG1859:AG11857)-SUM(T1860:T11857))","v":""},{"$f":"IF(A1860=0,IF(B1860=\"\",IF(B1859=0,\"\",SUM($AG$1:AG1859)-SUM($U$1:U1858)),\"\"),SUM($AG$1:AG1859)-SUM($U$1:U1858))","v":""},{"$nulls":5},{"$f":"AA1858+AH1859-AG1859","v":0},{"$f":"IF(AJ1859=statistics!$D$3,AB1858+AH1859-AG1859,)","v":0},{"$f":"IF(AND(ROW(AC1859)>=statistics!$C$55,ROW(AC1859)<=statistics!$D$55),AC1858+AH1859-AG1859,)","v":0},{"$f":"IF(AND(statistics!$C$55<=ROW(A1859),ROW(A1859)<=statistics!$D$55)=TRUE,AH1859-AG1859+AA1858-INDEX(AA:AA,statistics!$C$55),\"\")","v":""},null,null,{"$f":"IF(J1859=0,B1859+C1859,(B1859+C1859)-(B1859+C1859)*J1859*K1859)","v":0},{"$f":"IF(J1859=0,D1859,D1859*(1-J1859))","v":0},{"$f":"IF(J1859=0,,D1859*J1859)","v":0},"",{"$f":"IF(statistics!$D$3<>0,IF(AJ1859=statistics!$D$3,AG1859,\"\"),IF(B1859<>\"\",AG1859,\"\"))","v":""},{"$f":"IF(statistics!$D$3<>0,IF(AJ1859=statistics!$D$3,IF(AH1859=0,\"\",AH1859),\"\"),IF(AH1859<>0,AH1859,\"\"))","v":""},{"$f":"IF(statistics!$D$3<>0,IF(AJ1859=statistics!$D$3,IF(A1859=0,\"\",1),\"\"),IF(A1859=0,\"\",1))","v":""},"","",null,{"$f":"IF(B1859=0,\"\",IF(D1859=0,IF(D1858=0,AQ1858+1,1),\"\"))","v":""},{"$nulls":6},{"$f":"J1859*D1859-J1859*K1859*(B1859+C1859)","v":0},null,null,null,{"$f":"IF(B1859=$BA$2,ROW(),\"\")","v":""},null,null,{"$f":"IF(B1859=$BA$2,INDEX(D:D,SMALL(BB:BB,CELL(\"содержимое\",BG1859)))-INDEX(B:B,SMALL(BB:BB,CELL(\"содержимое\",BG1859)))-INDEX(C:C,SMALL(BB:BB,CELL(\"содержимое\",BG1859))),\"\")","v":""},null,{"$f":"IF($BA$2=B1859,BG1858+1,BG1858)","v":0},null,{"$f":"INDEX(BE:BE,SMALL(BB:BB,CELL(\"содержимое\",BK1859)))","v":{"$error":"#NUM!"}},{"$f":"BJ1858+BI1859","v":{"$error":"#NUM!"}},{"$f":"BK1858+1","v":1858}]
[{"$nulls":4},"","","","","",null,null,"",{"$nulls":6},1863,"",{"$f":"IF(A1865=0,IF(B1865=\"\",IF(B1864=0,\"\",SUM($AG$1:AG1864)-SUM($U$1:U1863)),\"\"),SUM($AG$1:AG1864)-SUM($U$1:U1863))","v":""},{"$nulls":5},0,{"$f":"IF(AJ1864=statistics!$D$3,AB1863+AH1864-AG1864,)","v":0},{"$f":"IF(AND(ROW(AC1864)>=statistics!$C$55,ROW(AC1864)<=statistics!$D$55),AC1863+AH1864-AG1864,)","v":0},{"$f":"IF(AND(statistics!$C$55<=ROW(A1864),ROW(A1864)<=statistics!$D$55)=TRUE,AH1864-AG1864+AA1863-INDEX(AA:AA,statistics!$C$55),\"\")","v":""},null,null,0,0,0,"",{"$f":"IF(statistics!$D$3<>0,IF(AJ1864=statistics!$D$3,AG1864,\"\"),IF(B1864<>\"\",AG1864,\"\"))","v":""},{"$f":"IF(statistics!$D$3<>0,IF(AJ1864=statistics!$D$3,IF(AH1864=0,\"\",AH1864),\"\"),IF(AH1864<>0,AH1864,\"\"))","v":""},{"$f":"IF(statistics!$D$3<>0,IF(AJ1864=statistics!$D$3,IF(A1864=0,\"\",1),\"\"),IF(A1864=0,\"\",1))","v":""},"","",null,"",{"$nulls":6},0,null,null,null,"",null,null,"",null,0,null,{"$error":"#NUM!"},{"$error":"#NUM!"},1863]
[{"$nulls":4},"","","","","",null,null,"",{"$nulls":6},1874,"",{"$f":"IF(A1876=0,IF(B1876=\"\",IF(B1875=0,\"\",SUM($AG$1:AG1875)-SUM($U$1:U1874)),\"\"),SUM($AG$1:AG1875)-SUM($U$1:U1874))","v":""},{"$nulls":5},0,{"$f":"IF(AJ1875=statistics!$D$3,AB1874+AH1875-AG1875,)","v":0},{"$f":"IF(AND(ROW(AC1875)>=statistics!$C$55,ROW(AC1875)<=statistics!$D$55),AC1874+AH1875-AG1875,)","v":0},{"$f":"IF(AND(statistics!$C$55<=ROW(A1875),ROW(A1875)<=statistics!$D$55)=TRUE,AH1875-AG1875+AA1874-INDEX(AA:AA,statistics!$C$55),\"\")","v":""},null,null,0,0,0,"",{"$f":"IF(statistics!$D$3<>0,IF(AJ1875=statistics!$D$3,AG1875,\"\"),IF(B1875<>\"\",AG1875,\"\"))","v":""},{"$f":"IF(statistics!$D$3<>0,IF(AJ1875=statistics!$D$3,IF(AH1875=0,\"\",AH1875),\"\"),IF(AH1875<>0,AH1875,\"\"))","v":""},{"$f":"IF(statistics!$D$3<>0,IF(AJ1875=statistics!$D$3,IF(A1875=0,\"\",1),\"\"),IF(A1875=0,\"\",1))","v":""},"","",null,"",{"$nulls":6},0,null,null,null,"",null,null,"",null,0,null,{"$error":"#NUM!"},{"$error":"#NUM!"},1874]
[{"$nulls":4},"","","","","",null,null,"",{"$nulls":6},1889,"",{"$f":"IF(A1891=0,IF(B1891=\"\",IF(B1890=0,\"\",SUM($AG$1:AG1890)-SUM($U$1:U1889)),\"\"),SUM($AG$1:AG1890)-SUM($U$1:U1889))","v":""},{"$nulls":5},0,{"$f":"IF(AJ1890=statistics!$D$3,AB1889+AH1890-AG1890,)","v":0},{"$f":"IF(AND(ROW(AC1890)>=statistics!$C$55,ROW(AC1890)<=statistics!$D$55),AC1889+AH1890-AG1890,)","v":0},{"$f":"IF(AND(statistics!$C$55<=ROW(A1890),ROW(A1890)<=statistics!$D$55)=TRUE,AH1890-AG1890+AA1889-INDEX(AA:AA,statistics!$C$55),\"\")","v":""},null,null,0,0,0,"",{"$f":"IF(statistics!$D$3<>0,IF(AJ1890=statistics!$D$3,AG1890,\"\"),IF(B1890<>\"\",AG1890,\"\"))","v":""},{"$f":"IF(statistics!$D$3<>0,IF(AJ1890=statistics!$D$3,IF(AH1890=0,\"\",AH1890),\"\"),IF(AH1890<>0,AH1890,\"\"))","v":""},{"$f":"IF(statistics!$D$3<>0,IF(AJ1890=statistics!$D$3,IF(A1890=0,\"\",1),\"\"),IF(A1890=0,\"\",1))","v":""},"","",null,"",{"$nulls":6},0,null,null,null,"",null,null,"",null,0,null,{"$error":"#NUM!"},{"$error":"#NUM!"},1889]
[{"$nulls":4},"","","","","",null,null,"",{"$nulls":6},1894,"",{"$f":"IF(A1896=0,IF(B1896=\"\",IF(B1895=0,\"\",SUM($AG$1:AG1895)-SUM($U$1:U1894)),\"\"),SUM($AG$1:AG1895)-SUM($U$1:U1894))","v":""},{"$nulls":5},0,{"$f":"IF(AJ1895=statistics!$D$3,AB1894+AH1895-AG1895,)","v":0},{"$f":"IF(AND(ROW(AC1895)>=statistics!$C$55,ROW(AC1895)<=statistics!$D$55),AC1894+AH1895-AG1895,)","v":0},{"$f":"IF(AND(statistics!$C$55<=ROW(A1895),ROW(A1895)<=statistics!$D$55)=TRUE,AH1895-AG1895+AA1894-INDEX(AA:AA,statistics!$C$55),\"\")","v":""},null,null,0,0,0,"",{"$f":"IF(statistics!$D$3<>0,IF(AJ1895=statistics!$D$3,AG1895,\"\"),IF(B1895<>\"\",AG1895,\"\"))","v":""},{"$f":"IF(statistics!$D$3<>0,IF(AJ1895=statistics!$D$3,IF(AH1895=0,\"\",AH1895),\"\"),IF(AH1895<>0,AH1895,\"\"))","v":""},{"$f":"IF(statistics!$D$3<>0,IF(AJ1895=statistics!$D$3,IF(A1895=0,\"\",1),\"\"),IF(A1895=0,\"\",1))","v":""},"","",null,"",{"$nulls":6},0,null,null,null,"",null,null,"",null,0,null,{"$error":"#NUM!"},{"$error":"#NUM!"},1894]
[{"$nulls":4},"","","","","",null,null,"",{"$nulls":6},1904,"",{"$f":"IF(A1906=0,IF(B1906=\"\",IF(B1905=0,\"\",SUM($AG$1:AG1905)-SUM($U$1:U1904)),\"\"),SUM($AG$1:AG1905)-SUM($U$1:U1904))","v":""},{"$nulls":5},0,{"$f":"IF(AJ1905=statistics!$D$3,AB1904+AH1905-AG1905,)","v":0},{"$f":"IF(AND(ROW(AC1905)>=statistics!$C$55,ROW(AC1905)<=statistics!$D$55),AC1904+AH1905-AG1905,)","v":0},{"$f":"IF(AND(statistics!$C$55<=ROW(A1905),ROW(A1905)<=statistics!$D$55)=TRUE,AH1905-AG1905+AA1904-INDEX(AA:AA,statistics!$C$55),\"\")","v":""},null,null,0,0,0,"",{"$f":"IF(statistics!$D$3<>0,IF(AJ1905=statistics!$D$3,AG1905,\"\"),IF(B1905<>\"\",AG1905,\"\"))","v":""},{"$f":"IF(statistics!$D$3<>0,IF(AJ1905=statistics!$D$3,IF(AH1905=0,\"\",AH1905),\"\"),IF(AH1905<>0,AH1905,\"\"))","v":""},{"$f":"IF(statistics!$D$3<>0,IF(AJ1905=statistics!$D$3,IF(A1905=0,\"\",1),\"\"),IF(A1905=0,\"\",1))","v":""},"","",null,"",{"$nulls":6},0,null,null,null,"",null,null,"",null,0,null,{"$error":"#NUM!"},{"$error":"#NUM!"},1904]
[{"$nulls":4},"","","","","",null,null,"",{"$nulls":6},1909,"",{"$f":"IF(A1911=0,IF(B1911=\"\",IF(B1910=0,\"\",SUM($AG$1:AG1910)-SUM($U$1:U1909)),\"\"),SUM($AG$1:AG1910)-SUM($U$1:U1909))","v":""},{"$nulls":5},0,{"$f":"IF(AJ1910=statistics!$D$3,AB1909+AH1910-AG1910,)","v":0},{"$f":"IF(AND(ROW(AC1910)>=statistics!$C$55,ROW(AC1910)<=statistics!$D$55),AC1909+AH1910-AG1910,)","v":0},{"$f":"IF(AND(statistics!$C$55<=ROW(A1910),ROW(A1910)<=statistics!$D$55)=TRUE,AH1910-AG1910+AA1909-INDEX(AA:AA,statistics!$C$55),\"\")","v":""},null,null,0,0,0,"",{"$f":"IF(statistics!$D$3<>0,IF(AJ1910=statistics!$D$3,AG1910,\"\"),IF(B1910<>\"\",AG1910,\"\"))","v":""},{"$f":"IF(statistics!$D$3<>0,IF(AJ1910=statistics!$D$3,IF(AH1910=0,\"\",AH1910),\"\"),IF(AH1910<>0,AH1910,\"\"))","v":""},{"$f":"IF(statistics!$D$3<>0,IF(AJ1910=statistics!$D$3,IF(A1910=0,\"\",1),\"\"),IF(A1910=0,\"\",1))","v":""},"","",null,"",{"$nulls":6},0,null,null,null,"",null,null,"",null,0,null,{"$error":"#NUM!"},{"$error":"#NUM!"},1909]
[{"$nulls":4},"",{"$f":"IF(A1921=0,\"\",IF(T1921=0,\"\",E1921/T1921))","v":""},"","","",null,null,"",{"$nulls":6},1920,"",{"$f":"IF(A1922=0,IF(B1922=\"\",IF(B1921=0,\"\",SUM($AG$1:AG1921)-SUM($U$1:U1920)),\"\"),SUM($AG$1:AG1921)-SUM($U$1:U1920))","v":""},{"$nulls":5},0,{"$f":"IF(AJ1921=statistics!$D$3,AB1920+AH1921-AG1921,)","v":0},{"$f":"IF(AND(ROW(AC1921)>=statistics!$C$55,ROW(AC1921)<=statistics!$D$55),AC1920+AH1921-AG1921,)","v":0},{"$f":"IF(AND(statistics!$C$55<=ROW(A1921),ROW(A1921)<=statistics!$D$55)=TRUE,AH1921-AG1921+AA1920-INDEX(AA:AA,statistics!$C$55),\"\")","v":""},null,null,0,0,0,"",{"$f":"IF(statistics!$D$3<>0,IF(AJ1921=statistics!$D$3,AG1921,\"\"),IF(B1921<>\"\",AG1921,\"\"))","v":""},{"$f":"IF(statistics!$D$3<>0,IF(AJ1921=statistics!$D$3,IF(AH1921=0,\"\",AH1921),\"\"),IF(AH1921<>0,AH1921,\"\"))","v":""},{"$f":"IF(statistics!$D$3<>0,IF(AJ1921=statistics!$D$3,IF(A1921=0,\"\",1),\"\"),IF(A1921=0,\"\",1))","v":""},"","",null,"",{"$nulls":6},0,null,null,null,"",null,null,"",null,0,null,{"$error":"#NUM!"},{"$error":"#NUM!"},1920]
[{"$nulls":4},"","","","","",null,null,"",{"$nulls":6},1935,"",{"$f":"IF(A1937=0,IF(B1937=\"\",IF(B1936=0,\"\",SUM($AG$1:AG1936)-SUM($U$1:U1935)),\"\"),SUM($AG$1:AG1936)-SUM($U$1:U1935))","v":""},{"$nulls":5},0,{"$f":"IF(AJ1936=statistics!$D$3,AB1935+AH1936-AG1936,)","v":0},{"$f":"IF(AND(ROW(AC1936)>=statistics!$C$55,ROW(AC1936)<=statistics!$D$55),AC1935+AH1936-AG1936,)","v":0},{"$f":"IF(AND(statistics!$C$55<=ROW(A1936),ROW(A1936)<=statistics!$D$55)=TRUE,AH1936-AG1936+AA1935-INDEX(AA:AA,statistics!$C$55),\"\")","v":""},null,null,0,0,0,"",{"$f":"IF(statistics!$D$3<>0,IF(AJ1936=statistics!$D$3,AG1936,\"\"),IF(B1936<>\"\",AG1936,\"\"))","v":""},{"$f":"IF(statistics!$D$3<>0,IF(AJ1936=statistics!$D$3,IF(AH1936=0,\"\",AH1936),\"\"),IF(AH1936<>0,AH1936,\"\"))","v":""},{"$f":"IF(statistics!$D$3<>0,IF(AJ1936=statistics!$D$3,IF(A1936=0,\"\",1),\"\"),IF(A1936=0,\"\",1))","v":""},"","",null,"",{"$nulls":6},0,null,null,null,"",null,null,"",null,0,null,{"$error":"#NUM!"},{"$error":"#NUM!"},1935]
[{"$nulls":4},"","","","","",null,null,"",{"$nulls":6},1940,"",{"$f":"IF(A1942=0,IF(B1942=\"\",IF(B1941=0,\"\",SUM($AG$1:AG1941)-SUM($U$1:U1940)),\"\"),SUM($AG$1:AG1941)-SUM($U$1:U1940))","v":""},{"$nulls":5},0,{"$f":"IF(AJ1941=statistics!$D$3,AB1940+AH1941-AG1941,)","v":0},{"$f":"IF(AND(ROW(AC1941)>=statistics!$C$55,ROW(AC1941)<=statistics!$D$55),AC1940+AH1941-AG1941,)","v":0},{"$f":"IF(AND(statistics!$C$55<=ROW(A1941),ROW(A1941)<=statistics!$D$55)=TRUE,AH1941-AG1941+AA1940-INDEX(AA:AA,statistics!$C$55),\"\")","v":""},null,null,0,0,0,"",{"$f":"IF(statistics!$D$3<>0,IF(AJ1941=statistics!$D$3,AG1941,\"\"),IF(B1941<>\"\",AG1941,\"\"))","v":""},{"$f":"IF(statistics!$D$3<>0,IF(AJ1941=statistics!$D$3,IF(AH1941=0,\"\",AH1941),\"\"),IF(AH1941<>0,AH1941,\"\"))","v":""},{"$f":"IF(statistics!$D$3<>0,IF(AJ1941=statistics!$D$3,IF(A1941=0,\"\",1),\"\"),IF(A1941=0,\"\",1))","v":""},"","",null,"",{"$nulls":6},0,null,null,null,"",null,null,"",null,0,null,{"$error":"#NUM!"},{"$error":"#NUM!"},1940]
[{"$nulls":4},"","","","","",null,null,"",{"$nulls":6},1951,"",{"$f":"IF(A1953=0,IF(B1953=\"\",IF(B1952=0,\"\",SUM($AG$1:AG1952)-SUM($U$1:U1951)),\"\"),SUM($AG$1:AG1952)-SUM($U$1:U1951))","v":""},{"$nulls":5},0,{"$f":"IF(AJ1952=statistics!$D$3,AB1951+AH1952-AG1952,)","v":0},{"$f":"IF(AND(ROW(AC1952)>=statistics!$C$55,ROW(AC1952)<=statistics!$D$55),AC1951+AH1952-AG1952,)","v":0},{"$f":"IF(AND(statistics!$C$55<=ROW(A1952),ROW(A1952)<=statistics!$D$55)=TRUE,AH1952-AG1952+AA1951-INDEX(AA:AA,statistics!$C$55),\"\")","v":""},null,null,0,0,0,"",{"$f":"IF(statistics!$D$3<>0,IF(AJ1952=statistics!$D$3,AG1952,\"\"),IF(B1952<>\"\",AG1952,\"\"))","v":""},{"$f":"IF(statistics!$D$3<>0,IF(AJ1952=statistics!$D$3,IF(AH1952=0,\"\",AH1952),\"\"),IF(AH1952<>0,AH1952,\"\"))","v":""},{"$f":"IF(statistics!$D$3<>0,IF(AJ1952=statistics!$D$3,IF(A1952=0,\"\",1),\"\"),IF(A1952=0,\"\",1))","v":""},"","",null,"",{"$nulls":6},0,null,null,null,"",null,null,"",null,0,null,{"$error":"#NUM!"},{"$error":"#NUM!"},1951]
[{"$nulls":4},"","","","","",null,null,"",{"$nulls":6},1966,"",{"$f":"IF(A1968=0,IF(B1968=\"\",IF(B1967=0,\"\",SUM($AG$1:AG1967)-SUM($U$1:U1966)),\"\"),SUM($AG$1:AG1967)-SUM($U$1:U1966))","v":""},{"$nulls":5},0,{"$f":"IF(AJ1967=statistics!$D$3,AB1966+AH1967-AG1967,)","v":0},{"$f":"IF(AND(ROW(AC1967)>=statistics!$C$55,ROW(AC1967)<=statistics!$D$55),AC1966+AH1967-AG1967,)","v":0},{"$f":"IF(AND(statistics!$C$55<=ROW(A1967),ROW(A1967)<=statistics!$D$55)=TRUE,AH1967-AG1967+AA1966-INDEX(AA:AA,statistics!$C$55),\"\")","v":""},null,null,0,0,0,"",{"$f":"IF(statistics!$D$3<>0,IF(AJ1967=statistics!$D$3,AG1967,\"\"),IF(B1967<>\"\",AG1967,\"\"))","v":""},{"$f":"IF(statistics!$D$3<>0,IF(AJ1967=statistics!$D$3,IF(AH1967=0,\"\",AH1967),\"\"),IF(AH1967<>0,AH1967,\"\"))","v":""},{"$f":"IF(statistics!$D$3<>0,IF(AJ1967=statistics!$D$3,IF(A1967=0,\"\",1),\"\"),IF(A1967=0,\"\",1))","v":""},"","",null,"",{"$nulls":6},0,null,null,null,"",null,null,"",null,0,null,{"$error":"#NUM!"},{"$error":"#NUM!"},1966]
[{"$nulls":4},"","","","","",null,null,"",{"$nulls":6},1971,"",{"$f":"IF(A1973=0,IF(B1973=\"\",IF(B1972=0,\"\",SUM($AG$1:AG1972)-SUM($U$1:U1971)),\"\"),SUM($AG$1:AG1972)-SUM($U$1:U1971))","v":""},{"$nulls":5},0,{"$f":"IF(AJ1972=statistics!$D$3,AB1971+AH1972-AG1972,)","v":0},{"$f":"IF(AND(ROW(AC1972)>=statistics!$C$55,ROW(AC1972)<=statistics!$D$55),AC1971+AH1972-AG1972,)","v":0},{"$f":"IF(AND(statistics!$C$55<=ROW(A1972),ROW(A1972)<=statistics!$D$55)=TRUE,AH1972-AG1972+AA1971-INDEX(AA:AA,statistics!$C$55),\"\")","v":""},null,null,0,0,0,"",{"$f":"IF(statistics!$D$3<>0,IF(AJ1972=statistics!$D$3,AG1972,\"\"),IF(B1972<>\"\",AG1972,\"\"))","v":""},{"$f":"IF(statistics!$D$3<>0,IF(AJ1972=statistics!$D$3,IF(AH1972=0,\"\",AH1972),\"\"),IF(AH1972<>0,AH1972,\"\"))","v":""},{"$f":"IF(statistics!$D$3<>0,IF(AJ1972=statistics!$D$3,IF(A1972=0,\"\",1),\"\"),IF(A1972=0,\"\",1))","v":""},"","",null,"",{"$nulls":6},0,null,null,null,"",null,null,"",null,0,null,{"$error":"#NUM!"},{"$error":"#NUM!"},1971]
[{"$nulls":4},"","","","","",null,null,"",{"$nulls":6},1983,"",{"$f":"IF(A1985=0,IF(B1985=\"\",IF(B1984=0,\"\",SUM($AG$1:AG1984)-SUM($U$1:U1983)),\"\"),SUM($AG$1:AG1984)-SUM($U$1:U1983))","v":""},{"$nulls":5},0,{"$f":"IF(AJ1984=statistics!$D$3,AB1983+AH1984-AG1984,)","v":0},{"$f":"IF(AND(ROW(AC1984)>=statistics!$C$55,ROW(AC1984)<=statistics!$D$55),AC1983+AH1984-AG1984,)","v":0},{"$f":"IF(AND(statistics!$C$55<=ROW(A1984),ROW(A1984)<=statistics!$D$55)=TRUE,AH1984-AG1984+AA1983-INDEX(AA:AA,statistics!$C$55),\"\")","v":""},null,null,0,0,0,"",{"$f":"IF(statistics!$D$3<>0,IF(AJ1984=statistics!$D$3,AG1984,\"\"),IF(B1984<>\"\",AG1984,\"\"))","v":""},{"$f":"IF(statistics!$D$3<>0,IF(AJ1984=statistics!$D$3,IF(AH1984=0,\"\",AH1984),\"\"),IF(AH1984<>0,AH1984,\"\"))","v":""},{"$f":"IF(statistics!$D$3<>0,IF(AJ1984=statistics!$D$3,IF(A1984=0,\"\",1),\"\"),IF(A1984=0,\"\",1))","v":""},"","",null,"",{"$nulls":6},0,null,null,null,"",null,null,"",null,0,null,{"$error":"#NUM!"},{"$error":"#NUM!"},1983]
[{"$nulls":4},"","","","","",null,null,"",{"$nulls":6},1996,"",{"$f":"IF(A1998=0,IF(B1998=\"\",IF(B1997=0,\"\",SUM($AG$1:AG1997)-SUM($U$1:U1996)),\"\"),SUM($AG$1:AG1997)-SUM($U$1:U1996))","v":""},{"$nulls":5},0,{"$f":"IF(AJ1997=statistics!$D$3,AB1996+AH1997-AG1997,)","v":0},{"$f":"IF(AND(ROW(AC1997)>=statistics!$C$55,ROW(AC1997)<=statistics!$D$55),AC1996+AH1997-AG1997,)","v":0},{"$f":"IF(AND(statistics!$C$55<=ROW(A1997),ROW(A1997)<=statistics!$D$55)=TRUE,AH1997-AG1997+AA1996-INDEX(AA:AA,statistics!$C$55),\"\")","v":""},null,null,0,0,0,"",{"$f":"IF(statistics!$D$3<>0,IF(AJ1997=statistics!$D$3,AG1997,\"\"),IF(B1997<>\"\",AG1997,\"\"))","v":""},{"$f":"IF(statistics!$D$3<>0,IF(AJ1997=statistics!$D$3,IF(AH1997=0,\"\",AH1997),\"\"),IF(AH1997<>0,AH1997,\"\"))","v":""},{"$f":"IF(statistics!$D$3<>0,IF(AJ1997=statistics!$D$3,IF(A1997=0,\"\",1),\"\"),IF(A1997=0,\"\",1))","v":""},"","",null,"",{"$nulls":6},0,null,null,null,"",null,null,"",null,0,null,{"$error":"#NUM!"},{"$error":"#NUM!"},1996]
[{"$nulls":4},"","","","","",null,null,"",{"$nulls":6},2007,"",{"$f":"IF(A2009=0,IF(B2009=\"\",IF(B2008=0,\"\",SUM($AG$1:AG2008)-SUM($U$1:U2007)),\"\"),SUM($AG$1:AG2008)-SUM($U$1:U2007))","v":""},{"$nulls":5},0,{"$f":"IF(AJ2008=statistics!$D$3,AB2007+AH2008-AG2008,)","v":0},{"$f":"IF(AND(ROW(AC2008)>=statistics!$C$55,ROW(AC2008)<=statistics!$D$55),AC2007+AH2008-AG2008,)","v":0},{"$f":"IF(AND(statistics!$C$55<=ROW(A2008),ROW(A2008)<=statistics!$D$55)=TRUE,AH2008-AG2008+AA2007-INDEX(AA:AA,statistics!$C$55),\"\")","v":""},null,null,0,0,0,"",{"$f":"IF(statistics!$D$3<>0,IF(AJ2008=statistics!$D$3,AG2008,\"\"),IF(B2008<>\"\",AG2008,\"\"))","v":""},{"$f":"IF(statistics!$D$3<>0,IF(AJ2008=statistics!$D$3,IF(AH2008=0,\"\",AH2008),\"\"),IF(AH2008<>0,AH2008,\"\"))","v":""},{"$f":"IF(statistics!$D$3<>0,IF(AJ2008=statistics!$D$3,IF(A2008=0,\"\",1),\"\"),IF(A2008=0,\"\",1))","v":""},"","",null,"",{"$nulls":6},0,null,null,null,"",null,null,"",null,0,null,{"$error":"#NUM!"},{"$error":"#NUM!"},2007]
[{"$nulls":4},"","","","","",null,null,"",{"$nulls":6},2012,"",{"$f":"IF(A2014=0,IF(B2014=\"\",IF(B2013=0,\"\",SUM($AG$1:AG2013)-SUM($U$1:U2012)),\"\"),SUM($AG$1:AG2013)-SUM($U$1:U2012))","v":""},{"$nulls":5},0,{"$f":"IF(AJ2013=statistics!$D$3,AB2012+AH2013-AG2013,)","v":0},{"$f":"IF(AND(ROW(AC2013)>=statistics!$C$55,ROW(AC2013)<=statistics!$D$55),AC2012+AH2013-AG2013,)","v":0},{"$f":"IF(AND(statistics!$C$55<=ROW(A2013),ROW(A2013)<=statistics!$D$55)=TRUE,AH2013-AG2013+AA2012-INDEX(AA:AA,statistics!$C$55),\"\")","v":""},null,null,0,0,0,"",{"$f":"IF(statistics!$D$3<>0,IF(AJ2013=statistics!$D$3,AG2013,\"\"),IF(B2013<>\"\",AG2013,\"\"))","v":""},{"$f":"IF(statistics!$D$3<>0,IF(AJ2013=statistics!$D$3,IF(AH2013=0,\"\",AH2013),\"\"),IF(AH2013<>0,AH2013,\"\"))","v":""},{"$f":"IF(statistics!$D$3<>0,IF(AJ2013=statistics!$D$3,IF(A2013=0,\"\",1),\"\"),IF(A2013=0,\"\",1))","v":""},"","",null,"",{"$nulls":6},0,null,null,null,"",null,null,"",null,0,null,{"$error":"#NUM!"},{"$error":"#NUM!"},2012]
[{"$nulls":4},"","","","","",null,null,"",{"$nulls":6},2027,"",{"$f":"IF(A2029=0,IF(B2029=\"\",IF(B2028=0,\"\",SUM($AG$1:AG2028)-SUM($U$1:U2027)),\"\"),SUM($AG$1:AG2028)-SUM($U$1:U2027))","v":""},{"$nulls":5},0,{"$f":"IF(AJ2028=statistics!$D$3,AB2027+AH2028-AG2028,)","v":0},{"$f":"IF(AND(ROW(AC2028)>=statistics!$C$55,ROW(AC2028)<=statistics!$D$55),AC2027+AH2028-AG2028,)","v":0},{"$f":"IF(AND(statistics!$C$55<=ROW(A2028),ROW(A2028)<=statistics!$D$55)=TRUE,AH2028-AG2028+AA2027-INDEX(AA:AA,statistics!$C$55),\"\")","v":""},null,null,0,0,0,"",{"$f":"IF(statistics!$D$3<>0,IF(AJ2028=statistics!$D$3,AG2028,\"\"),IF(B2028<>\"\",AG2028,\"\"))","v":""},{"$f":"IF(statistics!$D$3<>0,IF(AJ2028=statistics!$D$3,IF(AH2028=0,\"\",AH2028),\"\"),IF(AH2028<>0,AH2028,\"\"))","v":""},{"$f":"IF(statistics!$D$3<>0,IF(AJ2028=statistics!$D$3,IF(A2028=0,\"\",1),\"\"),IF(A2028=0,\"\",1))","v":""},"","",null,"",{"$nulls":6},0,null,null,null,"",null,null,"",null,0,null,{"$error":"#NUM!"},{"$error":"#NUM!"},2027]
[{"$nulls":4},"","","","","",null,null,"",{"$nulls":6},2028,"",{"$f":"IF(A2030=0,IF(B2030=\"\",IF(B2029=0,\"\",SUM($AG$1:AG2029)-SUM($U$1:U2028)),\"\"),SUM($AG$1:AG2029)-SUM($U$1:U2028))","v":""},{"$nulls":5},0,{"$f":"IF(AJ2029=statistics!$D$3,AB2028+AH2029-AG2029,)","v":0},{"$f":"IF(AND(ROW(AC2029)>=statistics!$C$55,ROW(AC2029)<=statistics!$D$55),AC2028+AH2029-AG2029,)","v":0},{"$f":"IF(AND(statistics!$C$55<=ROW(A2029),ROW(A2029)<=statistics!$D$55)=TRUE,AH2029-AG2029+AA2028-INDEX(AA:AA,statistics!$C$55),\"\")","v":""},null,null,0,0,0,"",{"$f":"IF(statistics!$D$3<>0,IF(AJ2029=statistics!$D$3,AG2029,\"\"),IF(B2029<>\"\",AG2029,\"\"))","v":""},{"$f":"IF(statistics!$D$3<>0,IF(AJ2029=statistics!$D$3,IF(AH2029=0,\"\",AH2029),\"\"),IF(AH2029<>0,AH2029,\"\"))","v":""},{"$f":"IF(statistics!$D$3<>0,IF(AJ2029=statistics!$D$3,IF(A2029=0,\"\",1),\"\"),IF(A2029=0,\"\",1))","v":""},"","",null,"",{"$nulls":6},0,null,null,null,"",null,null,"",null,0,null,{"$error":"#NUM!"},{"$error":"#NUM!"},2028]
[{"$nulls":4},"","","","","",null,null,"",{"$nulls":6},2043,"",{"$f":"IF(A2045=0,IF(B2045=\"\",IF(B2044=0,\"\",SUM($AG$1:AG2044)-SUM($U$1:U2043)),\"\"),SUM($AG$1:AG2044)-SUM($U$1:U2043))","v":""},{"$nulls":5},0,{"$f":"IF(AJ2044=statistics!$D$3,AB2043+AH2044-AG2044,)","v":0},{"$f":"IF(AND(ROW(AC2044)>=statistics!$C$55,ROW(AC2044)<=statistics!$D$55),AC2043+AH2044-AG2044,)","v":0},{"$f":"IF(AND(statistics!$C$55<=ROW(A2044),ROW(A2044)<=statistics!$D$55)=TRUE,AH2044-AG2044+AA2043-INDEX(AA:AA,statistics!$C$55),\"\")","v":""},null,null,0,0,0,"",{"$f":"IF(statistics!$D$3<>0,IF(AJ2044=statistics!$D$3,AG2044,\"\"),IF(B2044<>\"\",AG2044,\"\"))","v":""},{"$f":"IF(statistics!$D$3<>0,IF(AJ2044=statistics!$D$3,IF(AH2044=0,\"\",AH2044),\"\"),IF(AH2044<>0,AH2044,\"\"))","v":""},{"$f":"IF(statistics!$D$3<>0,IF(AJ2044=statistics!$D$3,IF(A2044=0,\"\",1),\"\"),IF(A2044=0,\"\",1))","v":""},"","",null,"",{"$nulls":6},0,null,null,null,"",null,null,"",null,0,null,{"$error":"#NUM!"},{"$error":"#NUM!"},2043]
[{"$nulls":4},"","","","","",null,null,"",{"$nulls":6},2054,"",{"$f":"IF(A2056=0,IF(B2056=\"\",IF(B2055=0,\"\",SUM($AG$1:AG2055)-SUM($U$1:U2054)),\"\"),SUM($AG$1:AG2055)-SUM($U$1:U2054))","v":""},{"$nulls":5},0,{"$f":"IF(AJ2055=statistics!$D$3,AB2054+AH2055-AG2055,)","v":0},{"$f":"IF(AND(ROW(AC2055)>=statistics!$C$55,ROW(AC2055)<=statistics!$D$55),AC2054+AH2055-AG2055,)","v":0},{"$f":"IF(AND(statistics!$C$55<=ROW(A2055),ROW(A2055)<=statistics!$D$55)=TRUE,AH2055-AG2055+AA2054-INDEX(AA:AA,statistics!$C$55),\"\")","v":""},null,null,0,0,0,"",{"$f":"IF(statistics!$D$3<>0,IF(AJ2055=statistics!$D$3,AG2055,\"\"),IF(B2055<>\"\",AG2055,\"\"))","v":""},{"$f":"IF(statistics!$D$3<>0,IF(AJ2055=statistics!$D$3,IF(AH2055=0,\"\",AH2055),\"\"),IF(AH2055<>0,AH2055,\"\"))","v":""},{"$f":"IF(statistics!$D$3<>0,IF(AJ2055=statistics!$D$3,IF(A2055=0,\"\",1),\"\"),IF(A2055=0,\"\",1))","v":""},"","",null,"",{"$nulls":6},0,null,null,null,"",null,null,"",null,0,null,{"$error":"#NUM!"},{"$error":"#NUM!"},2054]
[{"$nulls":4},"","","","","",null,null,"",{"$nulls":6},2058,"",{"$f":"IF(A2060=0,IF(B2060=\"\",IF(B2059=0,\"\",SUM($AG$1:AG2059)-SUM($U$1:U2058)),\"\"),SUM($AG$1:AG2059)-SUM($U$1:U2058))","v":""},{"$nulls":5},0,{"$f":"IF(AJ2059=statistics!$D$3,AB2058+AH2059-AG2059,)","v":0},{"$f":"IF(AND(ROW(AC2059)>=statistics!$C$55,ROW(AC2059)<=statistics!$D$55),AC2058+AH2059-AG2059,)","v":0},{"$f":"IF(AND(statistics!$C$55<=ROW(A2059),ROW(A2059)<=statistics!$D$55)=TRUE,AH2059-AG2059+AA2058-INDEX(AA:AA,statistics!$C$55),\"\")","v":""},null,null,0,0,0,"",{"$f":"IF(statistics!$D$3<>0,IF(AJ2059=statistics!$D$3,AG2059,\"\"),IF(B2059<>\"\",AG2059,\"\"))","v":""},{"$f":"IF(statistics!$D$3<>0,IF(AJ2059=statistics!$D$3,IF(AH2059=0,\"\",AH2059),\"\"),IF(AH2059<>0,AH2059,\"\"))","v":""},{"$f":"IF(statistics!$D$3<>0,IF(AJ2059=statistics!$D$3,IF(A2059=0,\"\",1),\"\"),IF(A2059=0,\"\",1))","v":""},"","",null,"",{"$nulls":6},0,null,null,null,"",null,null,"",null,0,null,{"$error":"#NUM!"},{"$error":"#NUM!"},2058]
[{"$nulls":4},"","","","","",null,null,"",{"$nulls":6},2073,"",{"$f":"IF(A2075=0,IF(B2075=\"\",IF(B2074=0,\"\",SUM($AG$1:AG2074)-SUM($U$1:U2073)),\"\"),SUM($AG$1:AG2074)-SUM($U$1:U2073))","v":""},{"$nulls":5},0,{"$f":"IF(AJ2074=statistics!$D$3,AB2073+AH2074-AG2074,)","v":0},{"$f":"IF(AND(ROW(AC2074)>=statistics!$C$55,ROW(AC2074)<=statistics!$D$55),AC2073+AH2074-AG2074,)","v":0},{"$f":"IF(AND(statistics!$C$55<=ROW(A2074),ROW(A2074)<=statistics!$D$55)=TRUE,AH2074-AG2074+AA2073-INDEX(AA:AA,statistics!$C$55),\"\")","v":""},null,null,0,0,0,"",{"$f":"IF(statistics!$D$3<>0,IF(AJ2074=statistics!$D$3,AG2074,\"\"),IF(B2074<>\"\",AG2074,\"\"))","v":""},{"$f":"IF(statistics!$D$3<>0,IF(AJ2074=statistics!$D$3,IF(AH2074=0,\"\",AH2074),\"\"),IF(AH2074<>0,AH2074,\"\"))","v":""},{"$f":"IF(statistics!$D$3<>0,IF(AJ2074=statistics!$D$3,IF(A2074=0,\"\",1),\"\"),IF(A2074=0,\"\",1))","v":""},"","",null,"",{"$nulls":6},0,null,null,null,"",null,null,"",null,0,null,{"$error":"#NUM!"},{"$error":"#NUM!"},2073]
[{"$nulls":4},"","","","","",null,null,"",{"$nulls":6},2084,"",{"$f":"IF(A2086=0,IF(B2086=\"\",IF(B2085=0,\"\",SUM($AG$1:AG2085)-SUM($U$1:U2084)),\"\"),SUM($AG$1:AG2085)-SUM($U$1:U2084))","v":""},{"$nulls":5},0,{"$f":"IF(AJ2085=statistics!$D$3,AB2084+AH2085-AG2085,)","v":0},{"$f":"IF(AND(ROW(AC2085)>=statistics!$C$55,ROW(AC2085)<=statistics!$D$55),AC2084+AH2085-AG2085,)","v":0},{"$f":"IF(AND(statistics!$C$55<=ROW(A2085),ROW(A2085)<=statistics!$D$55)=TRUE,AH2085-AG2085+AA2084-INDEX(AA:AA,statistics!$C$55),\"\")","v":""},null,null,0,0,0,"",{"$f":"IF(statistics!$D$3<>0,IF(AJ2085=statistics!$D$3,AG2085,\"\"),IF(B2085<>\"\",AG2085,\"\"))","v":""},{"$f":"IF(statistics!$D$3<>0,IF(AJ2085=statistics!$D$3,IF(AH2085=0,\"\",AH2085),\"\"),IF(AH2085<>0,AH2085,\"\"))","v":""},{"$f":"IF(statistics!$D$3<>0,IF(AJ2085=statistics!$D$3,IF(A2085=0,\"\",1),\"\"),IF(A2085=0,\"\",1))","v":""},"","",null,"",{"$nulls":6},0,null,null,null,"",null,null,"",null,0,null,{"$error":"#NUM!"},{"$error":"#NUM!"},2084]
[{"$nulls":4},"","","","","",null,null,"",{"$nulls":6},2089,"",{"$f":"IF(A2091=0,IF(B2091=\"\",IF(B2090=0,\"\",SUM($AG$1:AG2090)-SUM($U$1:U2089)),\"\"),SUM($AG$1:AG2090)-SUM($U$1:U2089))","v":""},{"$nulls":5},0,{"$f":"IF(AJ2090=statistics!$D$3,AB2089+AH2090-AG2090,)","v":0},{"$f":"IF(AND(ROW(AC2090)>=statistics!$C$55,ROW(AC2090)<=statistics!$D$55),AC2089+AH2090-AG2090,)","v":0},{"$f":"IF(AND(statistics!$C$55<=ROW(A2090),ROW(A2090)<=statistics!$D$55)=TRUE,AH2090-AG2090+AA2089-INDEX(AA:AA,statistics!$C$55),\"\")","v":""},null,null,0,0,0,"",{"$f":"IF(statistics!$D$3<>0,IF(AJ2090=statistics!$D$3,AG2090,\"\"),IF(B2090<>\"\",AG2090,\"\"))","v":""},{"$f":"IF(statistics!$D$3<>0,IF(AJ2090=statistics!$D$3,IF(AH2090=0,\"\",AH2090),\"\"),IF(AH2090<>0,AH2090,\"\"))","v":""},{"$f":"IF(statistics!$D$3<>0,IF(AJ2090=statistics!$D$3,IF(A2090=0,\"\",1),\"\"),IF(A2090=0,\"\",1))","v":""},"","",null,"",{"$nulls":6},0,null,null,null,"",null,null,"",null,0,null,{"$error":"#NUM!"},{"$error":"#NUM!"},2089]
[{"$nulls":4},"","","","","",null,null,"",{"$nulls":6},2104,"",{"$f":"IF(A2106=0,IF(B2106=\"\",IF(B2105=0,\"\",SUM($AG$1:AG2105)-SUM($U$1:U2104)),\"\"),SUM($AG$1:AG2105)-SUM($U$1:U2104))","v":""},{"$nulls":5},0,{"$f":"IF(AJ2105=statistics!$D$3,AB2104+AH2105-AG2105,)","v":0},{"$f":"IF(AND(ROW(AC2105)>=statistics!$C$55,ROW(AC2105)<=statistics!$D$55),AC2104+AH2105-AG2105,)","v":0},{"$f":"IF(AND(statistics!$C$55<=ROW(A2105),ROW(A2105)<=statistics!$D$55)=TRUE,AH2105-AG2105+AA2104-INDEX(AA:AA,statistics!$C$55),\"\")","v":""},null,null,0,0,0,"",{"$f":"IF(statistics!$D$3<>0,IF(AJ2105=statistics!$D$3,AG2105,\"\"),IF(B2105<>\"\",AG2105,\"\"))","v":""},{"$f":"IF(statistics!$D$3<>0,IF(AJ2105=statistics!$D$3,IF(AH2105=0,\"\",AH2105),\"\"),IF(AH2105<>0,AH2105,\"\"))","v":""},{"$f":"IF(statistics!$D$3<>0,IF(AJ2105=statistics!$D$3,IF(A2105=0,\"\",1),\"\"),IF(A2105=0,\"\",1))","v":""},"","",null,"",{"$nulls":6},0,null,null,null,"",null,null,"",null,0,null,{"$error":"#NUM!"},{"$error":"#NUM!"},2104]
[{"$nulls":4},"","","","","",null,null,"",{"$nulls":6},2115,"",{"$f":"IF(A2117=0,IF(B2117=\"\",IF(B2116=0,\"\",SUM($AG$1:AG2116)-SUM($U$1:U2115)),\"\"),SUM($AG$1:AG2116)-SUM($U$1:U2115))","v":""},{"$nulls":5},0,{"$f":"IF(AJ2116=statistics!$D$3,AB2115+AH2116-AG2116,)","v":0},{"$f":"IF(AND(ROW(AC2116)>=statistics!$C$55,ROW(AC2116)<=statistics!$D$55),AC2115+AH2116-AG2116,)","v":0},{"$f":"IF(AND(statistics!$C$55<=ROW(A2116),ROW(A2116)<=statistics!$D$55)=TRUE,AH2116-AG2116+AA2115-INDEX(AA:AA,statistics!$C$55),\"\")","v":""},null,null,0,0,0,"",{"$f":"IF(statistics!$D$3<>0,IF(AJ2116=statistics!$D$3,AG2116,\"\"),IF(B2116<>\"\",AG2116,\"\"))","v":""},{"$f":"IF(statistics!$D$3<>0,IF(AJ2116=statistics!$D$3,IF(AH2116=0,\"\",AH2116),\"\"),IF(AH2116<>0,AH2116,\"\"))","v":""},{"$f":"IF(statistics!$D$3<>0,IF(AJ2116=statistics!$D$3,IF(A2116=0,\"\",1),\"\"),IF(A2116=0,\"\",1))","v":""},{"$f":"IF(AK2116<>\"\",IF(AK2115=0,ROW(AK2116),ROW(AK2116)),\"\")","v":""},{"$f":"IF(A2116<>0,IF(MONTH(A2116)=AJ2115,\"\",MONTH(A2116)),\"\")","v":""},null,"",{"$nulls":6},0,null,null,null,"",null,null,"",null,0,null,{"$error":"#NUM!"},{"$error":"#NUM!"},2115]
[{"$nulls":4},"","","","","",null,null,"",{"$nulls":6},2120,"",{"$f":"IF(A2122=0,IF(B2122=\"\",IF(B2121=0,\"\",SUM($AG$1:AG2121)-SUM($U$1:U2120)),\"\"),SUM($AG$1:AG2121)-SUM($U$1:U2120))","v":""},{"$nulls":5},0,{"$f":"IF(AJ2121=statistics!$D$3,AB2120+AH2121-AG2121,)","v":0},{"$f":"IF(AND(ROW(AC2121)>=statistics!$C$55,ROW(AC2121)<=statistics!$D$55),AC2120+AH2121-AG2121,)","v":0},{"$f":"IF(AND(statistics!$C$55<=ROW(A2121),ROW(A2121)<=statistics!$D$55)=TRUE,AH2121-AG2121+AA2120-INDEX(AA:AA,statistics!$C$55),\"\")","v":""},null,null,0,0,0,"",{"$f":"IF(statistics!$D$3<>0,IF(AJ2121=statistics!$D$3,AG2121,\"\"),IF(B2121<>\"\",AG2121,\"\"))","v":""},{"$f":"IF(statistics!$D$3<>0,IF(AJ2121=statistics!$D$3,IF(AH2121=0,\"\",AH2121),\"\"),IF(AH2121<>0,AH2121,\"\"))","v":""},{"$f":"IF(statistics!$D$3<>0,IF(AJ2121=statistics!$D$3,IF(A2121=0,\"\",1),\"\"),IF(A2121=0,\"\",1))","v":""},"","",null,"",{"$nulls":6},0,null,null,null,"",null,null,"",null,0,null,{"$error":"#NUM!"},{"$error":"#NUM!"},2120]
[{"$nulls":4},"","","","","",null,null,"",{"$nulls":6},2130,"",{"$f":"IF(A2132=0,IF(B2132=\"\",IF(B2131=0,\"\",SUM($AG$1:AG2131)-SUM($U$1:U2130)),\"\"),SUM($AG$1:AG2131)-SUM($U$1:U2130))","v":""},{"$nulls":5},0,{"$f":"IF(AJ2131=statistics!$D$3,AB2130+AH2131-AG2131,)","v":0},{"$f":"IF(AND(ROW(AC2131)>=statistics!$C$55,ROW(AC2131)<=statistics!$D$55),AC2130+AH2131-AG2131,)","v":0},{"$f":"IF(AND(statistics!$C$55<=ROW(A2131),ROW(A2131)<=statistics!$D$55)=TRUE,AH2131-AG2131+AA2130-INDEX(AA:AA,statistics!$C$55),\"\")","v":""},null,null,0,0,0,"",{"$f":"IF(statistics!$D$3<>0,IF(AJ2131=statistics!$D$3,AG2131,\"\"),IF(B2131<>\"\",AG2131,\"\"))","v":""},{"$f":"IF(statistics!$D$3<>0,IF(AJ2131=statistics!$D$3,IF(AH2131=0,\"\",AH2131),\"\"),IF(AH2131<>0,AH2131,\"\"))","v":""},{"$f":"IF(statistics!$D$3<>0,IF(AJ2131=statistics!$D$3,IF(A2131=0,\"\",1),\"\"),IF(A2131=0,\"\",1))","v":""},"","",null,"",{"$nulls":6},0,null,null,null,"",null,null,"",null,0,null,{"$error":"#NUM!"},{"$error":"#NUM!"},2130]
[{"$nulls":4},"","","","","",null,null,"",{"$nulls":6},2145,"",{"$f":"IF(A2147=0,IF(B2147=\"\",IF(B2146=0,\"\",SUM($AG$1:AG2146)-SUM($U$1:U2145)),\"\"),SUM($AG$1:AG2146)-SUM($U$1:U2145))","v":""},{"$nulls":5},0,{"$f":"IF(AJ2146=statistics!$D$3,AB2145+AH2146-AG2146,)","v":0},{"$f":"IF(AND(ROW(AC2146)>=statistics!$C$55,ROW(AC2146)<=statistics!$D$55),AC2145+AH2146-AG2146,)","v":0},{"$f":"IF(AND(statistics!$C$55<=ROW(A2146),ROW(A2146)<=statistics!$D$55)=TRUE,AH2146-AG2146+AA2145-INDEX(AA:AA,statistics!$C$55),\"\")","v":""},null,null,0,0,0,"",{"$f":"IF(statistics!$D$3<>0,IF(AJ2146=statistics!$D$3,AG2146,\"\"),IF(B2146<>\"\",AG2146,\"\"))","v":""},{"$f":"IF(statistics!$D$3<>0,IF(AJ2146=statistics!$D$3,IF(AH2146=0,\"\",AH2146),\"\"),IF(AH2146<>0,AH2146,\"\"))","v":""},{"$f":"IF(statistics!$D$3<>0,IF(AJ2146=statistics!$D$3,IF(A2146=0,\"\",1),\"\"),IF(A2146=0,\"\",1))","v":""},"","",null,"",{"$nulls":6},0,null,null,null,"",null,null,"",null,0,null,{"$error":"#NUM!"},{"$error":"#NUM!"},2145]
[{"$nulls":4},"","","","","",null,null,"",{"$nulls":6},2150,"",{"$f":"IF(A2152=0,IF(B2152=\"\",IF(B2151=0,\"\",SUM($AG$1:AG2151)-SUM($U$1:U2150)),\"\"),SUM($AG$1:AG2151)-SUM($U$1:U2150))","v":""},{"$nulls":5},0,{"$f":"IF(AJ2151=statistics!$D$3,AB2150+AH2151-AG2151,)","v":0},{"$f":"IF(AND(ROW(AC2151)>=statistics!$C$55,ROW(AC2151)<=statistics!$D$55),AC2150+AH2151-AG2151,)","v":0},{"$f":"IF(AND(statistics!$C$55<=ROW(A2151),ROW(A2151)<=statistics!$D$55)=TRUE,AH2151-AG2151+AA2150-INDEX(AA:AA,statistics!$C$55),\"\")","v":""},null,null,0,0,0,"",{"$f":"IF(statistics!$D$3<>0,IF(AJ2151=statistics!$D$3,AG2151,\"\"),IF(B2151<>\"\",AG2151,\"\"))","v":""},{"$f":"IF(statistics!$D$3<>0,IF(AJ2151=statistics!$D$3,IF(AH2151=0,\"\",AH2151),\"\"),IF(AH2151<>0,AH2151,\"\"))","v":""},{"$f":"IF(statistics!$D$3<>0,IF(AJ2151=statistics!$D$3,IF(A2151=0,\"\",1),\"\"),IF(A2151=0,\"\",1))","v":""},"","",null,"",{"$nulls":6},0,null,null,null,"",null,null,"",null,0,null,{"$error":"#NUM!"},{"$error":"#NUM!"},2150]
[{"$nulls":4},"","","","","",null,null,"",{"$nulls":6},2161,"",{"$f":"IF(A2163=0,IF(B2163=\"\",IF(B2162=0,\"\",SUM($AG$1:AG2162)-SUM($U$1:U2161)),\"\"),SUM($AG$1:AG2162)-SUM($U$1:U2161))","v":""},{"$nulls":5},0,{"$f":"IF(AJ2162=statistics!$D$3,AB2161+AH2162-AG2162,)","v":0},{"$f":"IF(AND(ROW(AC2162)>=statistics!$C$55,ROW(AC2162)<=statistics!$D$55),AC2161+AH2162-AG2162,)","v":0},{"$f":"IF(AND(statistics!$C$55<=ROW(A2162),ROW(A2162)<=statistics!$D$55)=TRUE,AH2162-AG2162+AA2161-INDEX(AA:AA,statistics!$C$55),\"\")","v":""},null,null,0,0,0,"",{"$f":"IF(statistics!$D$3<>0,IF(AJ2162=statistics!$D$3,AG2162,\"\"),IF(B2162<>\"\",AG2162,\"\"))","v":""},{"$f":"IF(statistics!$D$3<>0,IF(AJ2162=statistics!$D$3,IF(AH2162=0,\"\",AH2162),\"\"),IF(AH2162<>0,AH2162,\"\"))","v":""},{"$f":"IF(statistics!$D$3<>0,IF(AJ2162=statistics!$D$3,IF(A2162=0,\"\",1),\"\"),IF(A2162=0,\"\",1))","v":""},"","",null,"",{"$nulls":6},0,null,null,null,"",null,null,"",null,0,null,{"$error":"#NUM!"},{"$error":"#NUM!"},2161]
[{"$nulls":4},"","","","","",null,null,"",{"$nulls":6},2166,"",{"$f":"IF(A2168=0,IF(B2168=\"\",IF(B2167=0,\"\",SUM($AG$1:AG2167)-SUM($U$1:U2166)),\"\"),SUM($AG$1:AG2167)-SUM($U$1:U2166))","v":""},{"$nulls":5},0,{"$f":"IF(AJ2167=statistics!$D$3,AB2166+AH2167-AG2167,)","v":0},{"$f":"IF(AND(ROW(AC2167)>=statistics!$C$55,ROW(AC2167)<=statistics!$D$55),AC2166+AH2167-AG2167,)","v":0},{"$f":"IF(AND(statistics!$C$55<=ROW(A2167),ROW(A2167)<=statistics!$D$55)=TRUE,AH2167-AG2167+AA2166-INDEX(AA:AA,statistics!$C$55),\"\")","v":""},null,null,0,0,0,"",{"$f":"IF(statistics!$D$3<>0,IF(AJ2167=statistics!$D$3,AG2167,\"\"),IF(B2167<>\"\",AG2167,\"\"))","v":""},{"$f":"IF(statistics!$D$3<>0,IF(AJ2167=statistics!$D$3,IF(AH2167=0,\"\",AH2167),\"\"),IF(AH2167<>0,AH2167,\"\"))","v":""},{"$f":"IF(statistics!$D$3<>0,IF(AJ2167=statistics!$D$3,IF(A2167=0,\"\",1),\"\"),IF(A2167=0,\"\",1))","v":""},"","",null,"",{"$nulls":6},0,null,null,null,"",null,null,"",null,0,null,{"$error":"#NUM!"},{"$error":"#NUM!"},2166]
[{"$nulls":4},"","","","","",null,null,"",{"$nulls":6},2181,"",{"$f":"IF(A2183=0,IF(B2183=\"\",IF(B2182=0,\"\",SUM($AG$1:AG2182)-SUM($U$1:U2181)),\"\"),SUM($AG$1:AG2182)-SUM($U$1:U2181))","v":""},{"$nulls":5},0,{"$f":"IF(AJ2182=statistics!$D$3,AB2181+AH2182-AG2182,)","v":0},{"$f":"IF(AND(ROW(AC2182)>=statistics!$C$55,ROW(AC2182)<=statistics!$D$55),AC2181+AH2182-AG2182,)","v":0},{"$f":"IF(AND(statistics!$C$55<=ROW(A2182),ROW(A2182)<=statistics!$D$55)=TRUE,AH2182-AG2182+AA2181-INDEX(AA:AA,statistics!$C$55),\"\")","v":""},null,null,0,0,0,"",{"$f":"IF(statistics!$D$3<>0,IF(AJ2182=statistics!$D$3,AG2182,\"\"),IF(B2182<>\"\",AG2182,\"\"))","v":""},{"$f":"IF(statistics!$D$3<>0,IF(AJ2182=statistics!$D$3,IF(AH2182=0,\"\",AH2182),\"\"),IF(AH2182<>0,AH2182,\"\"))","v":""},{"$f":"IF(statistics!$D$3<>0,IF(AJ2182=statistics!$D$3,IF(A2182=0,\"\",1),\"\"),IF(A2182=0,\"\",1))","v":""},"","",null,"",{"$nulls":6},0,null,null,null,"",null,null,"",null,0,null,{"$error":"#NUM!"},{"$error":"#NUM!"},2181]
[{"$nulls":4},"","","","","",null,null,"",{"$nulls":6},2186,"",{"$f":"IF(A2188=0,IF(B2188=\"\",IF(B2187=0,\"\",SUM($AG$1:AG2187)-SUM($U$1:U2186)),\"\"),SUM($AG$1:AG2187)-SUM($U$1:U2186))","v":""},{"$nulls":5},0,{"$f":"IF(AJ2187=statistics!$D$3,AB2186+AH2187-AG2187,)","v":0},{"$f":"IF(AND(ROW(AC2187)>=statistics!$C$55,ROW(AC2187)<=statistics!$D$55),AC2186+AH2187-AG2187,)","v":0},{"$f":"IF(AND(statistics!$C$55<=ROW(A2187),ROW(A2187)<=statistics!$D$55)=TRUE,AH2187-AG2187+AA2186-INDEX(AA:AA,statistics!$C$55),\"\")","v":""},null,null,0,0,0,"",{"$f":"IF(statistics!$D$3<>0,IF(AJ2187=statistics!$D$3,AG2187,\"\"),IF(B2187<>\"\",AG2187,\"\"))","v":""},{"$f":"IF(statistics!$D$3<>0,IF(AJ2187=statistics!$D$3,IF(AH2187=0,\"\",AH2187),\"\"),IF(AH2187<>0,AH2187,\"\"))","v":""},{"$f":"IF(statistics!$D$3<>0,IF(AJ2187=statistics!$D$3,IF(A2187=0,\"\",1),\"\"),IF(A2187=0,\"\",1))","v":""},"","",null,"",{"$nulls":6},0,null,null,null,"",null,null,"",null,0,null,{"$error":"#NUM!"},{"$error":"#NUM!"},2186]
[{"$nulls":4},"","","","","",null,null,"",{"$nulls":6},2196,"",{"$f":"IF(A2198=0,IF(B2198=\"\",IF(B2197=0,\"\",SUM($AG$1:AG2197)-SUM($U$1:U2196)),\"\"),SUM($AG$1:AG2197)-SUM($U$1:U2196))","v":""},{"$nulls":5},0,{"$f":"IF(AJ2197=statistics!$D$3,AB2196+AH2197-AG2197,)","v":0},{"$f":"IF(AND(ROW(AC2197)>=statistics!$C$55,ROW(AC2197)<=statistics!$D$55),AC2196+AH2197-AG2197,)","v":0},{"$f":"IF(AND(statistics!$C$55<=ROW(A2197),ROW(A2197)<=statistics!$D$55)=TRUE,AH2197-AG2197+AA2196-INDEX(AA:AA,statistics!$C$55),\"\")","v":""},null,null,0,0,0,"",{"$f":"IF(statistics!$D$3<>0,IF(AJ2197=statistics!$D$3,AG2197,\"\"),IF(B2197<>\"\",AG2197,\"\"))","v":""},{"$f":"IF(statistics!$D$3<>0,IF(AJ2197=statistics!$D$3,IF(AH2197=0,\"\",AH2197),\"\"),IF(AH2197<>0,AH2197,\"\"))","v":""},{"$f":"IF(statistics!$D$3<>0,IF(AJ2197=statistics!$D$3,IF(A2197=0,\"\",1),\"\"),IF(A2197=0,\"\",1))","v":""},"","",null,"",{"$nulls":6},0,null,null,null,"",null,null,"",null,0,null,{"$error":"#NUM!"},{"$error":"#NUM!"},2196]
[{"$nulls":4},"","","","","",null,null,"",{"$nulls":6},2207,"",{"$f":"IF(A2209=0,IF(B2209=\"\",IF(B2208=0,\"\",SUM($AG$1:AG2208)-SUM($U$1:U2207)),\"\"),SUM($AG$1:AG2208)-SUM($U$1:U2207))","v":""},{"$nulls":5},0,{"$f":"IF(AJ2208=statistics!$D$3,AB2207+AH2208-AG2208,)","v":0},{"$f":"IF(AND(ROW(AC2208)>=statistics!$C$55,ROW(AC2208)<=statistics!$D$55),AC2207+AH2208-AG2208,)","v":0},{"$f":"IF(AND(statistics!$C$55<=ROW(A2208),ROW(A2208)<=statistics!$D$55)=TRUE,AH2208-AG2208+AA2207-INDEX(AA:AA,statistics!$C$55),\"\")","v":""},null,null,0,0,0,"",{"$f":"IF(statistics!$D$3<>0,IF(AJ2208=statistics!$D$3,AG2208,\"\"),IF(B2208<>\"\",AG2208,\"\"))","v":""},{"$f":"IF(statistics!$D$3<>0,IF(AJ2208=statistics!$D$3,IF(AH2208=0,\"\",AH2208),\"\"),IF(AH2208<>0,AH2208,\"\"))","v":""},{"$f":"IF(statistics!$D$3<>0,IF(AJ2208=statistics!$D$3,IF(A2208=0,\"\",1),\"\"),IF(A2208=0,\"\",1))","v":""},"","",null,"",{"$nulls":6},0,null,null,null,"",null,null,"",null,0,null,{"$error":"#NUM!"},{"$error":"#NUM!"},2207]
[{"$nulls":4},"","","","","",null,null,"",{"$nulls":6},2222,"",{"$f":"IF(A2224=0,IF(B2224=\"\",IF(B2223=0,\"\",SUM($AG$1:AG2223)-SUM($U$1:U2222)),\"\"),SUM($AG$1:AG2223)-SUM($U$1:U2222))","v":""},{"$nulls":5},0,{"$f":"IF(AJ2223=statistics!$D$3,AB2222+AH2223-AG2223,)","v":0},{"$f":"IF(AND(ROW(AC2223)>=statistics!$C$55,ROW(AC2223)<=statistics!$D$55),AC2222+AH2223-AG2223,)","v":0},{"$f":"IF(AND(statistics!$C$55<=ROW(A2223),ROW(A2223)<=statistics!$D$55)=TRUE,AH2223-AG2223+AA2222-INDEX(AA:AA,statistics!$C$55),\"\")","v":""},null,null,0,0,0,"",{"$f":"IF(statistics!$D$3<>0,IF(AJ2223=statistics!$D$3,AG2223,\"\"),IF(B2223<>\"\",AG2223,\"\"))","v":""},{"$f":"IF(statistics!$D$3<>0,IF(AJ2223=statistics!$D$3,IF(AH2223=0,\"\",AH2223),\"\"),IF(AH2223<>0,AH2223,\"\"))","v":""},{"$f":"IF(statistics!$D$3<>0,IF(AJ2223=statistics!$D$3,IF(A2223=0,\"\",1),\"\"),IF(A2223=0,\"\",1))","v":""},"","",null,"",{"$nulls":6},0,null,null,null,"",null,null,"",null,0,null,{"$error":"#NUM!"},{"$error":"#NUM!"},2222]
[{"$nulls":4},"","","","","",null,null,"",{"$nulls":6},2227,"",{"$f":"IF(A2229=0,IF(B2229=\"\",IF(B2228=0,\"\",SUM($AG$1:AG2228)-SUM($U$1:U2227)),\"\"),SUM($AG$1:AG2228)-SUM($U$1:U2227))","v":""},{"$nulls":5},0,{"$f":"IF(AJ2228=statistics!$D$3,AB2227+AH2228-AG2228,)","v":0},{"$f":"IF(AND(ROW(AC2228)>=statistics!$C$55,ROW(AC2228)<=statistics!$D$55),AC2227+AH2228-AG2228,)","v":0},{"$f":"IF(AND(statistics!$C$55<=ROW(A2228),ROW(A2228)<=statistics!$D$55)=TRUE,AH2228-AG2228+AA2227-INDEX(AA:AA,statistics!$C$55),\"\")","v":""},null,null,0,0,0,"",{"$f":"IF(statistics!$D$3<>0,IF(AJ2228=statistics!$D$3,AG2228,\"\"),IF(B2228<>\"\",AG2228,\"\"))","v":""},{"$f":"IF(statistics!$D$3<>0,IF(AJ2228=statistics!$D$3,IF(AH2228=0,\"\",AH2228),\"\"),IF(AH2228<>0,AH2228,\"\"))","v":""},{"$f":"IF(statistics!$D$3<>0,IF(AJ2228=statistics!$D$3,IF(A2228=0,\"\",1),\"\"),IF(A2228=0,\"\",1))","v":""},"","",null,"",{"$nulls":6},0,null,null,null,"",null,null,"",null,0,null,{"$error":"#NUM!"},{"$error":"#NUM!"},2227]
[{"$nulls":4},"","","","","",null,null,"",{"$nulls":6},2238,"",{"$f":"IF(A2240=0,IF(B2240=\"\",IF(B2239=0,\"\",SUM($AG$1:AG2239)-SUM($U$1:U2238)),\"\"),SUM($AG$1:AG2239)-SUM($U$1:U2238))","v":""},{"$nulls":5},0,{"$f":"IF(AJ2239=statistics!$D$3,AB2238+AH2239-AG2239,)","v":0},{"$f":"IF(AND(ROW(AC2239)>=statistics!$C$55,ROW(AC2239)<=statistics!$D$55),AC2238+AH2239-AG2239,)","v":0},{"$f":"IF(AND(statistics!$C$55<=ROW(A2239),ROW(A2239)<=statistics!$D$55)=TRUE,AH2239-AG2239+AA2238-INDEX(AA:AA,statistics!$C$55),\"\")","v":""},null,null,0,0,0,"",{"$f":"IF(statistics!$D$3<>0,IF(AJ2239=statistics!$D$3,AG2239,\"\"),IF(B2239<>\"\",AG2239,\"\"))","v":""},{"$f":"IF(statistics!$D$3<>0,IF(AJ2239=statistics!$D$3,IF(AH2239=0,\"\",AH2239),\"\"),IF(AH2239<>0,AH2239,\"\"))","v":""},{"$f":"IF(statistics!$D$3<>0,IF(AJ2239=statistics!$D$3,IF(A2239=0,\"\",1),\"\"),IF(A2239=0,\"\",1))","v":""},"","",null,"",{"$nulls":6},0,null,null,null,"",null,null,"",null,0,null,{"$error":"#NUM!"},{"$error":"#NUM!"},2238]
[{"$nulls":4},"","","","","",null,null,"",{"$nulls":6},2253,"",{"$f":"IF(A2255=0,IF(B2255=\"\",IF(B2254=0,\"\",SUM($AG$1:AG2254)-SUM($U$1:U2253)),\"\"),SUM($AG$1:AG2254)-SUM($U$1:U2253))","v":""},{"$nulls":5},0,{"$f":"IF(AJ2254=statistics!$D$3,AB2253+AH2254-AG2254,)","v":0},{"$f":"IF(AND(ROW(AC2254)>=statistics!$C$55,ROW(AC2254)<=statistics!$D$55),AC2253+AH2254-AG2254,)","v":0},{"$f":"IF(AND(statistics!$C$55<=ROW(A2254),ROW(A2254)<=statistics!$D$55)=TRUE,AH2254-AG2254+AA2253-INDEX(AA:AA,statistics!$C$55),\"\")","v":""},null,null,0,0,0,"",{"$f":"IF(statistics!$D$3<>0,IF(AJ2254=statistics!$D$3,AG2254,\"\"),IF(B2254<>\"\",AG2254,\"\"))","v":""},{"$f":"IF(statistics!$D$3<>0,IF(AJ2254=statistics!$D$3,IF(AH2254=0,\"\",AH2254),\"\"),IF(AH2254<>0,AH2254,\"\"))","v":""},{"$f":"IF(statistics!$D$3<>0,IF(AJ2254=statistics!$D$3,IF(A2254=0,\"\",1),\"\"),IF(A2254=0,\"\",1))","v":""},"","",null,"",{"$nulls":6},0,null,null,null,"",null,null,"",null,0,null,{"$error":"#NUM!"},{"$error":"#NUM!"},2253]
[{"$nulls":4},"","","","","",null,null,"",{"$nulls":6},2257,"",{"$f":"IF(A2259=0,IF(B2259=\"\",IF(B2258=0,\"\",SUM($AG$1:AG2258)-SUM($U$1:U2257)),\"\"),SUM($AG$1:AG2258)-SUM($U$1:U2257))","v":""},{"$nulls":5},0,{"$f":"IF(AJ2258=statistics!$D$3,AB2257+AH2258-AG2258,)","v":0},{"$f":"IF(AND(ROW(AC2258)>=statistics!$C$55,ROW(AC2258)<=statistics!$D$55),AC2257+AH2258-AG2258,)","v":0},{"$f":"IF(AND(statistics!$C$55<=ROW(A2258),ROW(A2258)<=statistics!$D$55)=TRUE,AH2258-AG2258+AA2257-INDEX(AA:AA,statistics!$C$55),\"\")","v":""},null,null,0,0,0,"",{"$f":"IF(statistics!$D$3<>0,IF(AJ2258=statistics!$D$3,AG2258,\"\"),IF(B2258<>\"\",AG2258,\"\"))","v":""},{"$f":"IF(statistics!$D$3<>0,IF(AJ2258=statistics!$D$3,IF(AH2258=0,\"\",AH2258),\"\"),IF(AH2258<>0,AH2258,\"\"))","v":""},{"$f":"IF(statistics!$D$3<>0,IF(AJ2258=statistics!$D$3,IF(A2258=0,\"\",1),\"\"),IF(A2258=0,\"\",1))","v":""},"","",null,"",{"$nulls":6},0,null,null,null,"",null,null,"",null,0,null,{"$error":"#NUM!"},{"$error":"#NUM!"},2257]
[{"$nulls":4},"","","","","",null,null,"",{"$nulls":6},2268,"",{"$f":"IF(A2270=0,IF(B2270=\"\",IF(B2269=0,\"\",SUM($AG$1:AG2269)-SUM($U$1:U2268)),\"\"),SUM($AG$1:AG2269)-SUM($U$1:U2268))","v":""},{"$nulls":5},0,{"$f":"IF(AJ2269=statistics!$D$3,AB2268+AH2269-AG2269,)","v":0},{"$f":"IF(AND(ROW(AC2269)>=statistics!$C$55,ROW(AC2269)<=statistics!$D$55),AC2268+AH2269-AG2269,)","v":0},{"$f":"IF(AND(statistics!$C$55<=ROW(A2269),ROW(A2269)<=statistics!$D$55)=TRUE,AH2269-AG2269+AA2268-INDEX(AA:AA,statistics!$C$55),\"\")","v":""},null,null,0,0,0,"",{"$f":"IF(statistics!$D$3<>0,IF(AJ2269=statistics!$D$3,AG2269,\"\"),IF(B2269<>\"\",AG2269,\"\"))","v":""},{"$f":"IF(statistics!$D$3<>0,IF(AJ2269=statistics!$D$3,IF(AH2269=0,\"\",AH2269),\"\"),IF(AH2269<>0,AH2269,\"\"))","v":""},{"$f":"IF(statistics!$D$3<>0,IF(AJ2269=statistics!$D$3,IF(A2269=0,\"\",1),\"\"),IF(A2269=0,\"\",1))","v":""},"","",null,"",{"$nulls":6},0,null,null,null,"",null,null,"",null,0,null,{"$error":"#NUM!"},{"$error":"#NUM!"},2268]
[{"$nulls":4},"","","","","",null,null,"",{"$nulls":6},2283,"",{"$f":"IF(A2285=0,IF(B2285=\"\",IF(B2284=0,\"\",SUM($AG$1:AG2284)-SUM($U$1:U2283)),\"\"),SUM($AG$1:AG2284)-SUM($U$1:U2283))","v":""},{"$nulls":5},0,{"$f":"IF(AJ2284=statistics!$D$3,AB2283+AH2284-AG2284,)","v":0},{"$f":"IF(AND(ROW(AC2284)>=statistics!$C$55,ROW(AC2284)<=statistics!$D$55),AC2283+AH2284-AG2284,)","v":0},{"$f":"IF(AND(statistics!$C$55<=ROW(A2284),ROW(A2284)<=statistics!$D$55)=TRUE,AH2284-AG2284+AA2283-INDEX(AA:AA,statistics!$C$55),\"\")","v":""},null,null,0,0,0,"",{"$f":"IF(statistics!$D$3<>0,IF(AJ2284=statistics!$D$3,AG2284,\"\"),IF(B2284<>\"\",AG2284,\"\"))","v":""},{"$f":"IF(statistics!$D$3<>0,IF(AJ2284=statistics!$D$3,IF(AH2284=0,\"\",AH2284),\"\"),IF(AH2284<>0,AH2284,\"\"))","v":""},{"$f":"IF(statistics!$D$3<>0,IF(AJ2284=statistics!$D$3,IF(A2284=0,\"\",1),\"\"),IF(A2284=0,\"\",1))","v":""},"","",null,"",{"$nulls":6},0,null,null,null,"",null,null,"",null,0,null,{"$error":"#NUM!"},{"$error":"#NUM!"},2283]
[{"$nulls":4},"","","","","",null,null,"",{"$nulls":6},2284,"",{"$f":"IF(A2286=0,IF(B2286=\"\",IF(B2285=0,\"\",SUM($AG$1:AG2285)-SUM($U$1:U2284)),\"\"),SUM($AG$1:AG2285)-SUM($U$1:U2284))","v":""},{"$nulls":5},0,{"$f":"IF(AJ2285=statistics!$D$3,AB2284+AH2285-AG2285,)","v":0},{"$f":"IF(AND(ROW(AC2285)>=statistics!$C$55,ROW(AC2285)<=statistics!$D$55),AC2284+AH2285-AG2285,)","v":0},{"$f":"IF(AND(statistics!$C$55<=ROW(A2285),ROW(A2285)<=statistics!$D$55)=TRUE,AH2285-AG2285+AA2284-INDEX(AA:AA,statistics!$C$55),\"\")","v":""},null,null,0,0,0,"",{"$f":"IF(statistics!$D$3<>0,IF(AJ2285=statistics!$D$3,AG2285,\"\"),IF(B2285<>\"\",AG2285,\"\"))","v":""},{"$f":"IF(statistics!$D$3<>0,IF(AJ2285=statistics!$D$3,IF(AH2285=0,\"\",AH2285),\"\"),IF(AH2285<>0,AH2285,\"\"))","v":""},{"$f":"IF(statistics!$D$3<>0,IF(AJ2285=statistics!$D$3,IF(A2285=0,\"\",1),\"\"),IF(A2285=0,\"\",1))","v":""},"","",null,"",{"$nulls":6},0,null,null,null,"",null,null,"",null,0,null,{"$error":"#NUM!"},{"$error":"#NUM!"},2284]
[{"$nulls":4},"","","","","",null,null,"",{"$nulls":6},2299,"",{"$f":"IF(A2301=0,IF(B2301=\"\",IF(B2300=0,\"\",SUM($AG$1:AG2300)-SUM($U$1:U2299)),\"\"),SUM($AG$1:AG2300)-SUM($U$1:U2299))","v":""},{"$nulls":5},0,{"$f":"IF(AJ2300=statistics!$D$3,AB2299+AH2300-AG2300,)","v":0},{"$f":"IF(AND(ROW(AC2300)>=statistics!$C$55,ROW(AC2300)<=statistics!$D$55),AC2299+AH2300-AG2300,)","v":0},{"$f":"IF(AND(statistics!$C$55<=ROW(A2300),ROW(A2300)<=statistics!$D$55)=TRUE,AH2300-AG2300+AA2299-INDEX(AA:AA,statistics!$C$55),\"\")","v":""},null,null,0,0,0,"",{"$f":"IF(statistics!$D$3<>0,IF(AJ2300=statistics!$D$3,AG2300,\"\"),IF(B2300<>\"\",AG2300,\"\"))","v":""},{"$f":"IF(statistics!$D$3<>0,IF(AJ2300=statistics!$D$3,IF(AH2300=0,\"\",AH2300),\"\"),IF(AH2300<>0,AH2300,\"\"))","v":""},{"$f":"IF(statistics!$D$3<>0,IF(AJ2300=statistics!$D$3,IF(A2300=0,\"\",1),\"\"),IF(A2300=0,\"\",1))","v":""},"","",null,"",{"$nulls":6},0,null,null,null,"",null,null,"",null,0,null,{"$error":"#NUM!"},{"$error":"#NUM!"},2299]
[{"$nulls":4},"",{"$f":"IF(A2305=0,\"\",IF(T2305=0,\"\",E2305/T2305))","v":""},"","","",null,null,"",{"$nulls":6},2304,"",{"$f":"IF(A2306=0,IF(B2306=\"\",IF(B2305=0,\"\",SUM($AG$1:AG2305)-SUM($U$1:U2304)),\"\"),SUM($AG$1:AG2305)-SUM($U$1:U2304))","v":""},{"$nulls":5},0,{"$f":"IF(AJ2305=statistics!$D$3,AB2304+AH2305-AG2305,)","v":0},{"$f":"IF(AND(ROW(AC2305)>=statistics!$C$55,ROW(AC2305)<=statistics!$D$55),AC2304+AH2305-AG2305,)","v":0},{"$f":"IF(AND(statistics!$C$55<=ROW(A2305),ROW(A2305)<=statistics!$D$55)=TRUE,AH2305-AG2305+AA2304-INDEX(AA:AA,statistics!$C$55),\"\")","v":""},null,null,0,0,0,"",{"$f":"IF(statistics!$D$3<>0,IF(AJ2305=statistics!$D$3,AG2305,\"\"),IF(B2305<>\"\",AG2305,\"\"))","v":""},{"$f":"IF(statistics!$D$3<>0,IF(AJ2305=statistics!$D$3,IF(AH2305=0,\"\",AH2305),\"\"),IF(AH2305<>0,AH2305,\"\"))","v":""},{"$f":"IF(statistics!$D$3<>0,IF(AJ2305=statistics!$D$3,IF(A2305=0,\"\",1),\"\"),IF(A2305=0,\"\",1))","v":""},"","",null,"",{"$nulls":6},0,null,null,null,"",null,null,"",null,0,null,{"$error":"#NUM!"},{"$error":"#NUM!"},2304]
[{"$nulls":4},"","","","","",null,null,"",{"$nulls":6},2315,"",{"$f":"IF(A2317=0,IF(B2317=\"\",IF(B2316=0,\"\",SUM($AG$1:AG2316)-SUM($U$1:U2315)),\"\"),SUM($AG$1:AG2316)-SUM($U$1:U2315))","v":""},{"$nulls":5},0,{"$f":"IF(AJ2316=statistics!$D$3,AB2315+AH2316-AG2316,)","v":0},{"$f":"IF(AND(ROW(AC2316)>=statistics!$C$55,ROW(AC2316)<=statistics!$D$55),AC2315+AH2316-AG2316,)","v":0},{"$f":"IF(AND(statistics!$C$55<=ROW(A2316),ROW(A2316)<=statistics!$D$55)=TRUE,AH2316-AG2316+AA2315-INDEX(AA:AA,statistics!$C$55),\"\")","v":""},null,null,0,0,0,"",{"$f":"IF(statistics!$D$3<>0,IF(AJ2316=statistics!$D$3,AG2316,\"\"),IF(B2316<>\"\",AG2316,\"\"))","v":""},{"$f":"IF(statistics!$D$3<>0,IF(AJ2316=statistics!$D$3,IF(AH2316=0,\"\",AH2316),\"\"),IF(AH2316<>0,AH2316,\"\"))","v":""},{"$f":"IF(statistics!$D$3<>0,IF(AJ2316=statistics!$D$3,IF(A2316=0,\"\",1),\"\"),IF(A2316=0,\"\",1))","v":""},"","",null,"",{"$nulls":6},0,null,null,null,"",null,null,"",null,0,null,{"$error":"#NUM!"},{"$error":"#NUM!"},2315]
[{"$nulls":4},"","","","","",null,null,"",{"$nulls":6},2332,"",{"$f":"IF(A2334=0,IF(B2334=\"\",IF(B2333=0,\"\",SUM($AG$1:AG2333)-SUM($U$1:U2332)),\"\"),SUM($AG$1:AG2333)-SUM($U$1:U2332))","v":""},{"$nulls":5},0,{"$f":"IF(AJ2333=statistics!$D$3,AB2332+AH2333-AG2333,)","v":0},{"$f":"IF(AND(ROW(AC2333)>=statistics!$C$55,ROW(AC2333)<=statistics!$D$55),AC2332+AH2333-AG2333,)","v":0},{"$f":"IF(AND(statistics!$C$55<=ROW(A2333),ROW(A2333)<=statistics!$D$55)=TRUE,AH2333-AG2333+AA2332-INDEX(AA:AA,statistics!$C$55),\"\")","v":""},null,null,0,0,0,"",{"$f":"IF(statistics!$D$3<>0,IF(AJ2333=statistics!$D$3,AG2333,\"\"),IF(B2333<>\"\",AG2333,\"\"))","v":""},{"$f":"IF(statistics!$D$3<>0,IF(AJ2333=statistics!$D$3,IF(AH2333=0,\"\",AH2333),\"\"),IF(AH2333<>0,AH2333,\"\"))","v":""},{"$f":"IF(statistics!$D$3<>0,IF(AJ2333=statistics!$D$3,IF(A2333=0,\"\",1),\"\"),IF(A2333=0,\"\",1))","v":""},"","",null,"",{"$nulls":6},0,null,null,null,"",null,null,"",null,0,null,{"$error":"#NUM!"},{"$error":"#NUM!"},2332]
[{"$nulls":4},"","","","","",null,null,"",{"$nulls":6},2340,"",{"$f":"IF(A2342=0,IF(B2342=\"\",IF(B2341=0,\"\",SUM($AG$1:AG2341)-SUM($U$1:U2340)),\"\"),SUM($AG$1:AG2341)-SUM($U$1:U2340))","v":""},{"$nulls":5},0,{"$f":"IF(AJ2341=statistics!$D$3,AB2340+AH2341-AG2341,)","v":0},{"$f":"IF(AND(ROW(AC2341)>=statistics!$C$55,ROW(AC2341)<=statistics!$D$55),AC2340+AH2341-AG2341,)","v":0},{"$f":"IF(AND(statistics!$C$55<=ROW(A2341),ROW(A2341)<=statistics!$D$55)=TRUE,AH2341-AG2341+AA2340-INDEX(AA:AA,statistics!$C$55),\"\")","v":""},null,null,0,0,0,"",{"$f":"IF(statistics!$D$3<>0,IF(AJ2341=statistics!$D$3,AG2341,\"\"),IF(B2341<>\"\",AG2341,\"\"))","v":""},{"$f":"IF(statistics!$D$3<>0,IF(AJ2341=statistics!$D$3,IF(AH2341=0,\"\",AH2341),\"\"),IF(AH2341<>0,AH2341,\"\"))","v":""},{"$f":"IF(statistics!$D$3<>0,IF(AJ2341=statistics!$D$3,IF(A2341=0,\"\",1),\"\"),IF(A2341=0,\"\",1))","v":""},"","",null,"",{"$nulls":6},0,null,null,null,"",null,null,"",null,0,null,{"$error":"#NUM!"},{"$error":"#NUM!"},2340]
[{"$nulls":4},"","","","","",null,null,"",{"$nulls":6},2345,"",{"$f":"IF(A2347=0,IF(B2347=\"\",IF(B2346=0,\"\",SUM($AG$1:AG2346)-SUM($U$1:U2345)),\"\"),SUM($AG$1:AG2346)-SUM($U$1:U2345))","v":""},{"$nulls":5},0,{"$f":"IF(AJ2346=statistics!$D$3,AB2345+AH2346-AG2346,)","v":0},{"$f":"IF(AND(ROW(AC2346)>=statistics!$C$55,ROW(AC2346)<=statistics!$D$55),AC2345+AH2346-AG2346,)","v":0},{"$f":"IF(AND(statistics!$C$55<=ROW(A2346),ROW(A2346)<=statistics!$D$55)=TRUE,AH2346-AG2346+AA2345-INDEX(AA:AA,statistics!$C$55),\"\")","v":""},null,null,0,0,0,"",{"$f":"IF(statistics!$D$3<>0,IF(AJ2346=statistics!$D$3,AG2346,\"\"),IF(B2346<>\"\",AG2346,\"\"))","v":""},{"$f":"IF(statistics!$D$3<>0,IF(AJ2346=statistics!$D$3,IF(AH2346=0,\"\",AH2346),\"\"),IF(AH2346<>0,AH2346,\"\"))","v":""},{"$f":"IF(statistics!$D$3<>0,IF(AJ2346=statistics!$D$3,IF(A2346=0,\"\",1),\"\"),IF(A2346=0,\"\",1))","v":""},"","",null,"",{"$nulls":6},0,null,null,null,"",null,null,"",null,0,null,{"$error":"#NUM!"},{"$error":"#NUM!"},2345]
[{"$nulls":4},"","","","","",null,null,"",{"$nulls":6},2360,"",{"$f":"IF(A2362=0,IF(B2362=\"\",IF(B2361=0,\"\",SUM($AG$1:AG2361)-SUM($U$1:U2360)),\"\"),SUM($AG$1:AG2361)-SUM($U$1:U2360))","v":""},{"$nulls":5},0,{"$f":"IF(AJ2361=statistics!$D$3,AB2360+AH2361-AG2361,)","v":0},{"$f":"IF(AND(ROW(AC2361)>=statistics!$C$55,ROW(AC2361)<=statistics!$D$55),AC2360+AH2361-AG2361,)","v":0},{"$f":"IF(AND(statistics!$C$55<=ROW(A2361),ROW(A2361)<=statistics!$D$55)=TRUE,AH2361-AG2361+AA2360-INDEX(AA:AA,statistics!$C$55),\"\")","v":""},null,null,0,0,0,"",{"$f":"IF(statistics!$D$3<>0,IF(AJ2361=statistics!$D$3,AG2361,\"\"),IF(B2361<>\"\",AG2361,\"\"))","v":""},{"$f":"IF(statistics!$D$3<>0,IF(AJ2361=statistics!$D$3,IF(AH2361=0,\"\",AH2361),\"\"),IF(AH2361<>0,AH2361,\"\"))","v":""},{"$f":"IF(statistics!$D$3<>0,IF(AJ2361=statistics!$D$3,IF(A2361=0,\"\",1),\"\"),IF(A2361=0,\"\",1))","v":""},"","",null,"",{"$nulls":6},0,null,null,null,"",null,null,"",null,0,null,{"$error":"#NUM!"},{"$error":"#NUM!"},2360]
[{"$nulls":4},"","","","","",null,null,"",{"$nulls":6},2371,"",{"$f":"IF(A2373=0,IF(B2373=\"\",IF(B2372=0,\"\",SUM($AG$1:AG2372)-SUM($U$1:U2371)),\"\"),SUM($AG$1:AG2372)-SUM($U$1:U2371))","v":""},{"$nulls":5},0,{"$f":"IF(AJ2372=statistics!$D$3,AB2371+AH2372-AG2372,)","v":0},{"$f":"IF(AND(ROW(AC2372)>=statistics!$C$55,ROW(AC2372)<=statistics!$D$55),AC2371+AH2372-AG2372,)","v":0},{"$f":"IF(AND(statistics!$C$55<=ROW(A2372),ROW(A2372)<=statistics!$D$55)=TRUE,AH2372-AG2372+AA2371-INDEX(AA:AA,statistics!$C$55),\"\")","v":""},null,null,0,0,0,"",{"$f":"IF(statistics!$D$3<>0,IF(AJ2372=statistics!$D$3,AG2372,\"\"),IF(B2372<>\"\",AG2372,\"\"))","v":""},{"$f":"IF(statistics!$D$3<>0,IF(AJ2372=statistics!$D$3,IF(AH2372=0,\"\",AH2372),\"\"),IF(AH2372<>0,AH2372,\"\"))","v":""},{"$f":"IF(statistics!$D$3<>0,IF(AJ2372=statistics!$D$3,IF(A2372=0,\"\",1),\"\"),IF(A2372=0,\"\",1))","v":""},{"$f":"IF(AK2372<>\"\",IF(AK2371=0,ROW(AK2372),ROW(AK2372)),\"\")","v":""},{"$f":"IF(A2372<>0,IF(MONTH(A2372)=AJ2371,\"\",MONTH(A2372)),\"\")","v":""},null,"",{"$nulls":6},0,null,null,null,"",null,null,"",null,0,null,{"$error":"#NUM!"},{"$error":"#NUM!"},2371]
[{"$nulls":4},"","","","","",null,null,"",{"$nulls":6},2376,"",{"$f":"IF(A2378=0,IF(B2378=\"\",IF(B2377=0,\"\",SUM($AG$1:AG2377)-SUM($U$1:U2376)),\"\"),SUM($AG$1:AG2377)-SUM($U$1:U2376))","v":""},{"$nulls":5},0,{"$f":"IF(AJ2377=statistics!$D$3,AB2376+AH2377-AG2377,)","v":0},{"$f":"IF(AND(ROW(AC2377)>=statistics!$C$55,ROW(AC2377)<=statistics!$D$55),AC2376+AH2377-AG2377,)","v":0},{"$f":"IF(AND(statistics!$C$55<=ROW(A2377),ROW(A2377)<=statistics!$D$55)=TRUE,AH2377-AG2377+AA2376-INDEX(AA:AA,statistics!$C$55),\"\")","v":""},null,null,0,0,0,"",{"$f":"IF(statistics!$D$3<>0,IF(AJ2377=statistics!$D$3,AG2377,\"\"),IF(B2377<>\"\",AG2377,\"\"))","v":""},{"$f":"IF(statistics!$D$3<>0,IF(AJ2377=statistics!$D$3,IF(AH2377=0,\"\",AH2377),\"\"),IF(AH2377<>0,AH2377,\"\"))","v":""},{"$f":"IF(statistics!$D$3<>0,IF(AJ2377=statistics!$D$3,IF(A2377=0,\"\",1),\"\"),IF(A2377=0,\"\",1))","v":""},"","",null,"",{"$nulls":6},0,null,null,null,"",null,null,"",null,0,null,{"$error":"#NUM!"},{"$error":"#NUM!"},2376]
[{"$nulls":4},"","","","","",null,null,"",{"$nulls":6},2391,"",{"$f":"IF(A2393=0,IF(B2393=\"\",IF(B2392=0,\"\",SUM($AG$1:AG2392)-SUM($U$1:U2391)),\"\"),SUM($AG$1:AG2392)-SUM($U$1:U2391))","v":""},{"$nulls":5},0,{"$f":"IF(AJ2392=statistics!$D$3,AB2391+AH2392-AG2392,)","v":0},{"$f":"IF(AND(ROW(AC2392)>=statistics!$C$55,ROW(AC2392)<=statistics!$D$55),AC2391+AH2392-AG2392,)","v":0},{"$f":"IF(AND(statistics!$C$55<=ROW(A2392),ROW(A2392)<=statistics!$D$55)=TRUE,AH2392-AG2392+AA2391-INDEX(AA:AA,statistics!$C$55),\"\")","v":""},null,null,0,0,0,"",{"$f":"IF(statistics!$D$3<>0,IF(AJ2392=statistics!$D$3,AG2392,\"\"),IF(B2392<>\"\",AG2392,\"\"))","v":""},{"$f":"IF(statistics!$D$3<>0,IF(AJ2392=statistics!$D$3,IF(AH2392=0,\"\",AH2392),\"\"),IF(AH2392<>0,AH2392,\"\"))","v":""},{"$f":"IF(statistics!$D$3<>0,IF(AJ2392=statistics!$D$3,IF(A2392=0,\"\",1),\"\"),IF(A2392=0,\"\",1))","v":""},"","",null,"",{"$nulls":6},0,null,null,null,"",null,null,"",null,0,null,{"$error":"#NUM!"},{"$error":"#NUM!"},2391]
[{"$nulls":4},"","","","","",null,null,"",{"$nulls":6},2398,"",{"$f":"IF(A2400=0,IF(B2400=\"\",IF(B2399=0,\"\",SUM($AG$1:AG2399)-SUM($U$1:U2398)),\"\"),SUM($AG$1:AG2399)-SUM($U$1:U2398))","v":""},{"$nulls":5},0,{"$f":"IF(AJ2399=statistics!$D$3,AB2398+AH2399-AG2399,)","v":0},{"$f":"IF(AND(ROW(AC2399)>=statistics!$C$55,ROW(AC2399)<=statistics!$D$55),AC2398+AH2399-AG2399,)","v":0},{"$f":"IF(AND(statistics!$C$55<=ROW(A2399),ROW(A2399)<=statistics!$D$55)=TRUE,AH2399-AG2399+AA2398-INDEX(AA:AA,statistics!$C$55),\"\")","v":""},null,null,0,0,0,"",{"$f":"IF(statistics!$D$3<>0,IF(AJ2399=statistics!$D$3,AG2399,\"\"),IF(B2399<>\"\",AG2399,\"\"))","v":""},{"$f":"IF(statistics!$D$3<>0,IF(AJ2399=statistics!$D$3,IF(AH2399=0,\"\",AH2399),\"\"),IF(AH2399<>0,AH2399,\"\"))","v":""},{"$f":"IF(statistics!$D$3<>0,IF(AJ2399=statistics!$D$3,IF(A2399=0,\"\",1),\"\"),IF(A2399=0,\"\",1))","v":""},"","",null,"",{"$nulls":6},0,null,null,null,"",null,null,"",null,0,null,{"$error":"#NUM!"},{"$error":"#NUM!"},2398]
[{"$nulls":4},"","","","","",null,null,"",{"$nulls":6},2406,"",{"$f":"IF(A2408=0,IF(B2408=\"\",IF(B2407=0,\"\",SUM($AG$1:AG2407)-SUM($U$1:U2406)),\"\"),SUM($AG$1:AG2407)-SUM($U$1:U2406))","v":""},{"$nulls":5},0,{"$f":"IF(AJ2407=statistics!$D$3,AB2406+AH2407-AG2407,)","v":0},{"$f":"IF(AND(ROW(AC2407)>=statistics!$C$55,ROW(AC2407)<=statistics!$D$55),AC2406+AH2407-AG2407,)","v":0},{"$f":"IF(AND(statistics!$C$55<=ROW(A2407),ROW(A2407)<=statistics!$D$55)=TRUE,AH2407-AG2407+AA2406-INDEX(AA:AA,statistics!$C$55),\"\")","v":""},null,null,0,0,0,"",{"$f":"IF(statistics!$D$3<>0,IF(AJ2407=statistics!$D$3,AG2407,\"\"),IF(B2407<>\"\",AG2407,\"\"))","v":""},{"$f":"IF(statistics!$D$3<>0,IF(AJ2407=statistics!$D$3,IF(AH2407=0,\"\",AH2407),\"\"),IF(AH2407<>0,AH2407,\"\"))","v":""},{"$f":"IF(statistics!$D$3<>0,IF(AJ2407=statistics!$D$3,IF(A2407=0,\"\",1),\"\"),IF(A2407=0,\"\",1))","v":""},"","",null,"",{"$nulls":6},0,null,null,null,"",null,null,"",null,0,null,{"$error":"#NUM!"},{"$error":"#NUM!"},2406]
[{"$nulls":4},"","","","","",null,null,"",{"$nulls":6},2417,"",{"$f":"IF(A2419=0,IF(B2419=\"\",IF(B2418=0,\"\",SUM($AG$1:AG2418)-SUM($U$1:U2417)),\"\"),SUM($AG$1:AG2418)-SUM($U$1:U2417))","v":""},{"$nulls":5},0,{"$f":"IF(AJ2418=statistics!$D$3,AB2417+AH2418-AG2418,)","v":0},{"$f":"IF(AND(ROW(AC2418)>=statistics!$C$55,ROW(AC2418)<=statistics!$D$55),AC2417+AH2418-AG2418,)","v":0},{"$f":"IF(AND(statistics!$C$55<=ROW(A2418),ROW(A2418)<=statistics!$D$55)=TRUE,AH2418-AG2418+AA2417-INDEX(AA:AA,statistics!$C$55),\"\")","v":""},null,null,0,0,0,"",{"$f":"IF(statistics!$D$3<>0,IF(AJ2418=statistics!$D$3,AG2418,\"\"),IF(B2418<>\"\",AG2418,\"\"))","v":""},{"$f":"IF(statistics!$D$3<>0,IF(AJ2418=statistics!$D$3,IF(AH2418=0,\"\",AH2418),\"\"),IF(AH2418<>0,AH2418,\"\"))","v":""},{"$f":"IF(statistics!$D$3<>0,IF(AJ2418=statistics!$D$3,IF(A2418=0,\"\",1),\"\"),IF(A2418=0,\"\",1))","v":""},"","",null,"",{"$nulls":6},0,null,null,null,"",null,null,"",null,0,null,{"$error":"#NUM!"},{"$error":"#NUM!"},2417]
[{"$nulls":4},"","","","","",null,null,"",{"$nulls":6},2422,"",{"$f":"IF(A2424=0,IF(B2424=\"\",IF(B2423=0,\"\",SUM($AG$1:AG2423)-SUM($U$1:U2422)),\"\"),SUM($AG$1:AG2423)-SUM($U$1:U2422))","v":""},{"$nulls":5},0,{"$f":"IF(AJ2423=statistics!$D$3,AB2422+AH2423-AG2423,)","v":0},{"$f":"IF(AND(ROW(AC2423)>=statistics!$C$55,ROW(AC2423)<=statistics!$D$55),AC2422+AH2423-AG2423,)","v":0},{"$f":"IF(AND(statistics!$C$55<=ROW(A2423),ROW(A2423)<=statistics!$D$55)=TRUE,AH2423-AG2423+AA2422-INDEX(AA:AA,statistics!$C$55),\"\")","v":""},null,null,0,0,0,"",{"$f":"IF(statistics!$D$3<>0,IF(AJ2423=statistics!$D$3,AG2423,\"\"),IF(B2423<>\"\",AG2423,\"\"))","v":""},{"$f":"IF(statistics!$D$3<>0,IF(AJ2423=statistics!$D$3,IF(AH2423=0,\"\",AH2423),\"\"),IF(AH2423<>0,AH2423,\"\"))","v":""},{"$f":"IF(statistics!$D$3<>0,IF(AJ2423=statistics!$D$3,IF(A2423=0,\"\",1),\"\"),IF(A2423=0,\"\",1))","v":""},"","",null,"",{"$nulls":6},0,null,null,null,"",null,null,"",null,0,null,{"$error":"#NUM!"},{"$error":"#NUM!"},2422]
[{"$nulls":4},"","","","","",null,null,"",{"$nulls":6},2437,"",{"$f":"IF(A2439=0,IF(B2439=\"\",IF(B2438=0,\"\",SUM($AG$1:AG2438)-SUM($U$1:U2437)),\"\"),SUM($AG$1:AG2438)-SUM($U$1:U2437))","v":""},{"$nulls":5},0,{"$f":"IF(AJ2438=statistics!$D$3,AB2437+AH2438-AG2438,)","v":0},{"$f":"IF(AND(ROW(AC2438)>=statistics!$C$55,ROW(AC2438)<=statistics!$D$55),AC2437+AH2438-AG2438,)","v":0},{"$f":"IF(AND(statistics!$C$55<=ROW(A2438),ROW(A2438)<=statistics!$D$55)=TRUE,AH2438-AG2438+AA2437-INDEX(AA:AA,statistics!$C$55),\"\")","v":""},null,null,0,0,0,"",{"$f":"IF(statistics!$D$3<>0,IF(AJ2438=statistics!$D$3,AG2438,\"\"),IF(B2438<>\"\",AG2438,\"\"))","v":""},{"$f":"IF(statistics!$D$3<>0,IF(AJ2438=statistics!$D$3,IF(AH2438=0,\"\",AH2438),\"\"),IF(AH2438<>0,AH2438,\"\"))","v":""},{"$f":"IF(statistics!$D$3<>0,IF(AJ2438=statistics!$D$3,IF(A2438=0,\"\",1),\"\"),IF(A2438=0,\"\",1))","v":""},"","",null,"",{"$nulls":6},0,null,null,null,"",null,null,"",null,0,null,{"$error":"#NUM!"},{"$error":"#NUM!"},2437]
[{"$nulls":4},"","",{"$f":"IF(A2450=0,IF(B2450=\"\",IF(B2449=0,\"\",U2449/S2449),\"\"),U2449/S2449)","v":""},"","",null,null,"",{"$nulls":6},2448,"",{"$f":"IF(A2450=0,IF(B2450=\"\",IF(B2449=0,\"\",SUM($AG$1:AG2449)-SUM($U$1:U2448)),\"\"),SUM($AG$1:AG2449)-SUM($U$1:U2448))","v":""},{"$nulls":5},0,{"$f":"IF(AJ2449=statistics!$D$3,AB2448+AH2449-AG2449,)","v":0},{"$f":"IF(AND(ROW(AC2449)>=statistics!$C$55,ROW(AC2449)<=statistics!$D$55),AC2448+AH2449-AG2449,)","v":0},{"$f":"IF(AND(statistics!$C$55<=ROW(A2449),ROW(A2449)<=statistics!$D$55)=TRUE,AH2449-AG2449+AA2448-INDEX(AA:AA,statistics!$C$55),\"\")","v":""},null,null,0,0,0,"",{"$f":"IF(statistics!$D$3<>0,IF(AJ2449=statistics!$D$3,AG2449,\"\"),IF(B2449<>\"\",AG2449,\"\"))","v":""},{"$f":"IF(statistics!$D$3<>0,IF(AJ2449=statistics!$D$3,IF(AH2449=0,\"\",AH2449),\"\"),IF(AH2449<>0,AH2449,\"\"))","v":""},{"$f":"IF(statistics!$D$3<>0,IF(AJ2449=statistics!$D$3,IF(A2449=0,\"\",1),\"\"),IF(A2449=0,\"\",1))","v":""},"","",null,"",{"$nulls":6},0,null,null,null,"",null,null,"",null,0,null,{"$error":"#NUM!"},{"$error":"#NUM!"},2448]
[{"$nulls":4},"","","","","",null,null,"",{"$nulls":6},2453,"",{"$f":"IF(A2455=0,IF(B2455=\"\",IF(B2454=0,\"\",SUM($AG$1:AG2454)-SUM($U$1:U2453)),\"\"),SUM($AG$1:AG2454)-SUM($U$1:U2453))","v":""},{"$nulls":5},0,{"$f":"IF(AJ2454=statistics!$D$3,AB2453+AH2454-AG2454,)","v":0},{"$f":"IF(AND(ROW(AC2454)>=statistics!$C$55,ROW(AC2454)<=statistics!$D$55),AC2453+AH2454-AG2454,)","v":0},{"$f":"IF(AND(statistics!$C$55<=ROW(A2454),ROW(A2454)<=statistics!$D$55)=TRUE,AH2454-AG2454+AA2453-INDEX(AA:AA,statistics!$C$55),\"\")","v":""},null,null,0,0,0,"",{"$f":"IF(statistics!$D$3<>0,IF(AJ2454=statistics!$D$3,AG2454,\"\"),IF(B2454<>\"\",AG2454,\"\"))","v":""},{"$f":"IF(statistics!$D$3<>0,IF(AJ2454=statistics!$D$3,IF(AH2454=0,\"\",AH2454),\"\"),IF(AH2454<>0,AH2454,\"\"))","v":""},{"$f":"IF(statistics!$D$3<>0,IF(AJ2454=statistics!$D$3,IF(A2454=0,\"\",1),\"\"),IF(A2454=0,\"\",1))","v":""},"","",null,"",{"$nulls":6},0,null,null,null,"",null,null,"",null,0,null,{"$error":"#NUM!"},{"$error":"#NUM!"},2453]
[{"$nulls":4},"","","","","",null,null,"",{"$nulls":6},2464,"",{"$f":"IF(A2466=0,IF(B2466=\"\",IF(B2465=0,\"\",SUM($AG$1:AG2465)-SUM($U$1:U2464)),\"\"),SUM($AG$1:AG2465)-SUM($U$1:U2464))","v":""},{"$nulls":5},0,{"$f":"IF(AJ2465=statistics!$D$3,AB2464+AH2465-AG2465,)","v":0},{"$f":"IF(AND(ROW(AC2465)>=statistics!$C$55,ROW(AC2465)<=statistics!$D$55),AC2464+AH2465-AG2465,)","v":0},{"$f":"IF(AND(statistics!$C$55<=ROW(A2465),ROW(A2465)<=statistics!$D$55)=TRUE,AH2465-AG2465+AA2464-INDEX(AA:AA,statistics!$C$55),\"\")","v":""},null,null,0,0,0,"",{"$f":"IF(statistics!$D$3<>0,IF(AJ2465=statistics!$D$3,AG2465,\"\"),IF(B2465<>\"\",AG2465,\"\"))","v":""},{"$f":"IF(statistics!$D$3<>0,IF(AJ2465=statistics!$D$3,IF(AH2465=0,\"\",AH2465),\"\"),IF(AH2465<>0,AH2465,\"\"))","v":""},{"$f":"IF(statistics!$D$3<>0,IF(AJ2465=statistics!$D$3,IF(A2465=0,\"\",1),\"\"),IF(A2465=0,\"\",1))","v":""},"","",null,"",{"$nulls":6},0,null,null,null,"",null,null,"",null,0,null,{"$error":"#NUM!"},{"$error":"#NUM!"},2464]
[{"$nulls":4},"","","","","",null,null,"",{"$nulls":6},2477,"",{"$f":"IF(A2479=0,IF(B2479=\"\",IF(B2478=0,\"\",SUM($AG$1:AG2478)-SUM($U$1:U2477)),\"\"),SUM($AG$1:AG2478)-SUM($U$1:U2477))","v":""},{"$nulls":5},0,{"$f":"IF(AJ2478=statistics!$D$3,AB2477+AH2478-AG2478,)","v":0},{"$f":"IF(AND(ROW(AC2478)>=statistics!$C$55,ROW(AC2478)<=statistics!$D$55),AC2477+AH2478-AG2478,)","v":0},{"$f":"IF(AND(statistics!$C$55<=ROW(A2478),ROW(A2478)<=statistics!$D$55)=TRUE,AH2478-AG2478+AA2477-INDEX(AA:AA,statistics!$C$55),\"\")","v":""},null,null,0,0,0,"",{"$f":"IF(statistics!$D$3<>0,IF(AJ2478=statistics!$D$3,AG2478,\"\"),IF(B2478<>\"\",AG2478,\"\"))","v":""},{"$f":"IF(statistics!$D$3<>0,IF(AJ2478=statistics!$D$3,IF(AH2478=0,\"\",AH2478),\"\"),IF(AH2478<>0,AH2478,\"\"))","v":""},{"$f":"IF(statistics!$D$3<>0,IF(AJ2478=statistics!$D$3,IF(A2478=0,\"\",1),\"\"),IF(A2478=0,\"\",1))","v":""},"","",null,"",{"$nulls":6},0,null,null,null,"",null,null,"",null,0,null,{"$error":"#NUM!"},{"$error":"#NUM!"},2477]
[{"$nulls":4},"","","","","",null,null,"",{"$nulls":6},2483,"",{"$f":"IF(A2485=0,IF(B2485=\"\",IF(B2484=0,\"\",SUM($AG$1:AG2484)-SUM($U$1:U2483)),\"\"),SUM($AG$1:AG2484)-SUM($U$1:U2483))","v":""},{"$nulls":5},0,{"$f":"IF(AJ2484=statistics!$D$3,AB2483+AH2484-AG2484,)","v":0},{"$f":"IF(AND(ROW(AC2484)>=statistics!$C$55,ROW(AC2484)<=statistics!$D$55),AC2483+AH2484-AG2484,)","v":0},{"$f":"IF(AND(statistics!$C$55<=ROW(A2484),ROW(A2484)<=statistics!$D$55)=TRUE,AH2484-AG2484+AA2483-INDEX(AA:AA,statistics!$C$55),\"\")","v":""},null,null,0,0,0,"",{"$f":"IF(statistics!$D$3<>0,IF(AJ2484=statistics!$D$3,AG2484,\"\"),IF(B2484<>\"\",AG2484,\"\"))","v":""},{"$f":"IF(statistics!$D$3<>0,IF(AJ2484=statistics!$D$3,IF(AH2484=0,\"\",AH2484),\"\"),IF(AH2484<>0,AH2484,\"\"))","v":""},{"$f":"IF(statistics!$D$3<>0,IF(AJ2484=statistics!$D$3,IF(A2484=0,\"\",1),\"\"),IF(A2484=0,\"\",1))","v":""},"","",null,"",{"$nulls":6},0,null,null,null,"",null,null,"",null,0,null,{"$error":"#NUM!"},{"$error":"#NUM!"},2483]
[{"$nulls":4},"","","","","",null,null,"",{"$nulls":6},2494,"",{"$f":"IF(A2496=0,IF(B2496=\"\",IF(B2495=0,\"\",SUM($AG$1:AG2495)-SUM($U$1:U2494)),\"\"),SUM($AG$1:AG2495)-SUM($U$1:U2494))","v":""},{"$nulls":5},0,{"$f":"IF(AJ2495=statistics!$D$3,AB2494+AH2495-AG2495,)","v":0},{"$f":"IF(AND(ROW(AC2495)>=statistics!$C$55,ROW(AC2495)<=statistics!$D$55),AC2494+AH2495-AG2495,)","v":0},{"$f":"IF(AND(statistics!$C$55<=ROW(A2495),ROW(A2495)<=statistics!$D$55)=TRUE,AH2495-AG2495+AA2494-INDEX(AA:AA,statistics!$C$55),\"\")","v":""},null,null,0,0,0,"",{"$f":"IF(statistics!$D$3<>0,IF(AJ2495=statistics!$D$3,AG2495,\"\"),IF(B2495<>\"\",AG2495,\"\"))","v":""},{"$f":"IF(statistics!$D$3<>0,IF(AJ2495=statistics!$D$3,IF(AH2495=0,\"\",AH2495),\"\"),IF(AH2495<>0,AH2495,\"\"))","v":""},{"$f":"IF(statistics!$D$3<>0,IF(AJ2495=statistics!$D$3,IF(A2495=0,\"\",1),\"\"),IF(A2495=0,\"\",1))","v":""},"","",null,"",{"$nulls":6},0,null,null,null,"",null,null,"",null,0,null,{"$error":"#NUM!"},{"$error":"#NUM!"},2494]
[{"$nulls":4},"","","","","",null,null,"",{"$nulls":6},2509,"",{"$f":"IF(A2511=0,IF(B2511=\"\",IF(B2510=0,\"\",SUM($AG$1:AG2510)-SUM($U$1:U2509)),\"\"),SUM($AG$1:AG2510)-SUM($U$1:U2509))","v":""},{"$nulls":5},0,{"$f":"IF(AJ2510=statistics!$D$3,AB2509+AH2510-AG2510,)","v":0},{"$f":"IF(AND(ROW(AC2510)>=statistics!$C$55,ROW(AC2510)<=statistics!$D$55),AC2509+AH2510-AG2510,)","v":0},{"$f":"IF(AND(statistics!$C$55<=ROW(A2510),ROW(A2510)<=statistics!$D$55)=TRUE,AH2510-AG2510+AA2509-INDEX(AA:AA,statistics!$C$55),\"\")","v":""},null,null,0,0,0,"",{"$f":"IF(statistics!$D$3<>0,IF(AJ2510=statistics!$D$3,AG2510,\"\"),IF(B2510<>\"\",AG2510,\"\"))","v":""},{"$f":"IF(statistics!$D$3<>0,IF(AJ2510=statistics!$D$3,IF(AH2510=0,\"\",AH2510),\"\"),IF(AH2510<>0,AH2510,\"\"))","v":""},{"$f":"IF(statistics!$D$3<>0,IF(AJ2510=statistics!$D$3,IF(A2510=0,\"\",1),\"\"),IF(A2510=0,\"\",1))","v":""},"","",null,"",{"$nulls":6},0,null,null,null,"",null,null,"",null,0,null,{"$error":"#NUM!"},{"$error":"#NUM!"},2509]
[{"$nulls":4},"","","","","",null,null,"",{"$nulls":6},2514,"",{"$f":"IF(A2516=0,IF(B2516=\"\",IF(B2515=0,\"\",SUM($AG$1:AG2515)-SUM($U$1:U2514)),\"\"),SUM($AG$1:AG2515)-SUM($U$1:U2514))","v":""},{"$nulls":5},0,{"$f":"IF(AJ2515=statistics!$D$3,AB2514+AH2515-AG2515,)","v":0},{"$f":"IF(AND(ROW(AC2515)>=statistics!$C$55,ROW(AC2515)<=statistics!$D$55),AC2514+AH2515-AG2515,)","v":0},{"$f":"IF(AND(statistics!$C$55<=ROW(A2515),ROW(A2515)<=statistics!$D$55)=TRUE,AH2515-AG2515+AA2514-INDEX(AA:AA,statistics!$C$55),\"\")","v":""},null,null,0,0,0,"",{"$f":"IF(statistics!$D$3<>0,IF(AJ2515=statistics!$D$3,AG2515,\"\"),IF(B2515<>\"\",AG2515,\"\"))","v":""},{"$f":"IF(statistics!$D$3<>0,IF(AJ2515=statistics!$D$3,IF(AH2515=0,\"\",AH2515),\"\"),IF(AH2515<>0,AH2515,\"\"))","v":""},{"$f":"IF(statistics!$D$3<>0,IF(AJ2515=statistics!$D$3,IF(A2515=0,\"\",1),\"\"),IF(A2515=0,\"\",1))","v":""},"","",null,"",{"$nulls":6},0,null,null,null,"",null,null,"",null,0,null,{"$error":"#NUM!"},{"$error":"#NUM!"},2514]
[{"$nulls":4},"","","","","",null,null,"",{"$nulls":6},2525,"",{"$f":"IF(A2527=0,IF(B2527=\"\",IF(B2526=0,\"\",SUM($AG$1:AG2526)-SUM($U$1:U2525)),\"\"),SUM($AG$1:AG2526)-SUM($U$1:U2525))","v":""},{"$nulls":5},0,{"$f":"IF(AJ2526=statistics!$D$3,AB2525+AH2526-AG2526,)","v":0},{"$f":"IF(AND(ROW(AC2526)>=statistics!$C$55,ROW(AC2526)<=statistics!$D$55),AC2525+AH2526-AG2526,)","v":0},{"$f":"IF(AND(statistics!$C$55<=ROW(A2526),ROW(A2526)<=statistics!$D$55)=TRUE,AH2526-AG2526+AA2525-INDEX(AA:AA,statistics!$C$55),\"\")","v":""},null,null,0,0,0,"",{"$f":"IF(statistics!$D$3<>0,IF(AJ2526=statistics!$D$3,AG2526,\"\"),IF(B2526<>\"\",AG2526,\"\"))","v":""},{"$f":"IF(statistics!$D$3<>0,IF(AJ2526=statistics!$D$3,IF(AH2526=0,\"\",AH2526),\"\"),IF(AH2526<>0,AH2526,\"\"))","v":""},{"$f":"IF(statistics!$D$3<>0,IF(AJ2526=statistics!$D$3,IF(A2526=0,\"\",1),\"\"),IF(A2526=0,\"\",1))","v":""},"","",null,"",{"$nulls":6},0,null,null,null,"",null,null,"",null,0,null,{"$error":"#NUM!"},{"$error":"#NUM!"},2525]
[{"$nulls":4},"","","","","",null,null,"",{"$nulls":6},2540,"",{"$f":"IF(A2542=0,IF(B2542=\"\",IF(B2541=0,\"\",SUM($AG$1:AG2541)-SUM($U$1:U2540)),\"\"),SUM($AG$1:AG2541)-SUM($U$1:U2540))","v":""},{"$nulls":5},0,{"$f":"IF(AJ2541=statistics!$D$3,AB2540+AH2541-AG2541,)","v":0},{"$f":"IF(AND(ROW(AC2541)>=statistics!$C$55,ROW(AC2541)<=statistics!$D$55),AC2540+AH2541-AG2541,)","v":0},{"$f":"IF(AND(statistics!$C$55<=ROW(A2541),ROW(A2541)<=statistics!$D$55)=TRUE,AH2541-AG2541+AA2540-INDEX(AA:AA,statistics!$C$55),\"\")","v":""},null,null,0,0,0,"",{"$f":"IF(statistics!$D$3<>0,IF(AJ2541=statistics!$D$3,AG2541,\"\"),IF(B2541<>\"\",AG2541,\"\"))","v":""},{"$f":"IF(statistics!$D$3<>0,IF(AJ2541=statistics!$D$3,IF(AH2541=0,\"\",AH2541),\"\"),IF(AH2541<>0,AH2541,\"\"))","v":""},{"$f":"IF(statistics!$D$3<>0,IF(AJ2541=statistics!$D$3,IF(A2541=0,\"\",1),\"\"),IF(A2541=0,\"\",1))","v":""},"","",null,"",{"$nulls":6},0,null,null,null,"",null,null,"",null,0,null,{"$error":"#NUM!"},{"$error":"#NUM!"},2540]
[{"$nulls":4},"","","","","",null,null,"",{"$nulls":6},2543,"",{"$f":"IF(A2545=0,IF(B2545=\"\",IF(B2544=0,\"\",SUM($AG$1:AG2544)-SUM($U$1:U2543)),\"\"),SUM($AG$1:AG2544)-SUM($U$1:U2543))","v":""},{"$nulls":5},0,{"$f":"IF(AJ2544=statistics!$D$3,AB2543+AH2544-AG2544,)","v":0},{"$f":"IF(AND(ROW(AC2544)>=statistics!$C$55,ROW(AC2544)<=statistics!$D$55),AC2543+AH2544-AG2544,)","v":0},{"$f":"IF(AND(statistics!$C$55<=ROW(A2544),ROW(A2544)<=statistics!$D$55)=TRUE,AH2544-AG2544+AA2543-INDEX(AA:AA,statistics!$C$55),\"\")","v":""},null,null,0,0,0,"",{"$f":"IF(statistics!$D$3<>0,IF(AJ2544=statistics!$D$3,AG2544,\"\"),IF(B2544<>\"\",AG2544,\"\"))","v":""},{"$f":"IF(statistics!$D$3<>0,IF(AJ2544=statistics!$D$3,IF(AH2544=0,\"\",AH2544),\"\"),IF(AH2544<>0,AH2544,\"\"))","v":""},{"$f":"IF(statistics!$D$3<>0,IF(AJ2544=statistics!$D$3,IF(A2544=0,\"\",1),\"\"),IF(A2544=0,\"\",1))","v":""},"","",null,"",{"$nulls":6},0,null,null,null,"",null,null,"",null,0,null,{"$error":"#NUM!"},{"$error":"#NUM!"},2543]
[{"$nulls":4},"","","","","",null,null,"",{"$nulls":6},2555,"",{"$f":"IF(A2557=0,IF(B2557=\"\",IF(B2556=0,\"\",SUM($AG$1:AG2556)-SUM($U$1:U2555)),\"\"),SUM($AG$1:AG2556)-SUM($U$1:U2555))","v":""},{"$nulls":5},0,{"$f":"IF(AJ2556=statistics!$D$3,AB2555+AH2556-AG2556,)","v":0},{"$f":"IF(AND(ROW(AC2556)>=statistics!$C$55,ROW(AC2556)<=statistics!$D$55),AC2555+AH2556-AG2556,)","v":0},{"$f":"IF(AND(statistics!$C$55<=ROW(A2556),ROW(A2556)<=statistics!$D$55)=TRUE,AH2556-AG2556+AA2555-INDEX(AA:AA,statistics!$C$55),\"\")","v":""},null,null,0,0,0,"",{"$f":"IF(statistics!$D$3<>0,IF(AJ2556=statistics!$D$3,AG2556,\"\"),IF(B2556<>\"\",AG2556,\"\"))","v":""},{"$f":"IF(statistics!$D$3<>0,IF(AJ2556=statistics!$D$3,IF(AH2556=0,\"\",AH2556),\"\"),IF(AH2556<>0,AH2556,\"\"))","v":""},{"$f":"IF(statistics!$D$3<>0,IF(AJ2556=statistics!$D$3,IF(A2556=0,\"\",1),\"\"),IF(A2556=0,\"\",1))","v":""},"","",null,"",{"$nulls":6},0,null,null,null,"",null,null,"",null,0,null,{"$error":"#NUM!"},{"$error":"#NUM!"},2555]
[{"$nulls":4},"",{"$f":"IF(A2561=0,\"\",IF(T2561=0,\"\",E2561/T2561))","v":""},"","","",null,null,"",{"$nulls":6},2560,"",{"$f":"IF(A2562=0,IF(B2562=\"\",IF(B2561=0,\"\",SUM($AG$1:AG2561)-SUM($U$1:U2560)),\"\"),SUM($AG$1:AG2561)-SUM($U$1:U2560))","v":""},{"$nulls":5},0,{"$f":"IF(AJ2561=statistics!$D$3,AB2560+AH2561-AG2561,)","v":0},{"$f":"IF(AND(ROW(AC2561)>=statistics!$C$55,ROW(AC2561)<=statistics!$D$55),AC2560+AH2561-AG2561,)","v":0},{"$f":"IF(AND(statistics!$C$55<=ROW(A2561),ROW(A2561)<=statistics!$D$55)=TRUE,AH2561-AG2561+AA2560-INDEX(AA:AA,statistics!$C$55),\"\")","v":""},null,null,0,0,0,"",{"$f":"IF(statistics!$D$3<>0,IF(AJ2561=statistics!$D$3,AG2561,\"\"),IF(B2561<>\"\",AG2561,\"\"))","v":""},{"$f":"IF(statistics!$D$3<>0,IF(AJ2561=statistics!$D$3,IF(AH2561=0,\"\",AH2561),\"\"),IF(AH2561<>0,AH2561,\"\"))","v":""},{"$f":"IF(statistics!$D$3<>0,IF(AJ2561=statistics!$D$3,IF(A2561=0,\"\",1),\"\"),IF(A2561=0,\"\",1))","v":""},"","",null,"",{"$nulls":6},0,null,null,null,"",null,null,"",null,0,null,{"$error":"#NUM!"},{"$error":"#NUM!"},2560]
[{"$nulls":4},"","","","","",null,null,"",{"$nulls":6},2571,"",{"$f":"IF(A2573=0,IF(B2573=\"\",IF(B2572=0,\"\",SUM($AG$1:AG2572)-SUM($U$1:U2571)),\"\"),SUM($AG$1:AG2572)-SUM($U$1:U2571))","v":""},{"$nulls":5},0,{"$f":"IF(AJ2572=statistics!$D$3,AB2571+AH2572-AG2572,)","v":0},{"$f":"IF(AND(ROW(AC2572)>=statistics!$C$55,ROW(AC2572)<=statistics!$D$55),AC2571+AH2572-AG2572,)","v":0},{"$f":"IF(AND(statistics!$C$55<=ROW(A2572),ROW(A2572)<=statistics!$D$55)=TRUE,AH2572-AG2572+AA2571-INDEX(AA:AA,statistics!$C$55),\"\")","v":""},null,null,0,0,0,"",{"$f":"IF(statistics!$D$3<>0,IF(AJ2572=statistics!$D$3,AG2572,\"\"),IF(B2572<>\"\",AG2572,\"\"))","v":""},{"$f":"IF(statistics!$D$3<>0,IF(AJ2572=statistics!$D$3,IF(AH2572=0,\"\",AH2572),\"\"),IF(AH2572<>0,AH2572,\"\"))","v":""},{"$f":"IF(statistics!$D$3<>0,IF(AJ2572=statistics!$D$3,IF(A2572=0,\"\",1),\"\"),IF(A2572=0,\"\",1))","v":""},"","",null,"",{"$nulls":6},0,null,null,null,"",null,null,"",null,0,null,{"$error":"#NUM!"},{"$error":"#NUM!"},2571]
[{"$nulls":4},"","","","","",null,null,"",{"$nulls":6},2586,"",{"$f":"IF(A2588=0,IF(B2588=\"\",IF(B2587=0,\"\",SUM($AG$1:AG2587)-SUM($U$1:U2586)),\"\"),SUM($AG$1:AG2587)-SUM($U$1:U2586))","v":""},{"$nulls":5},0,{"$f":"IF(AJ2587=statistics!$D$3,AB2586+AH2587-AG2587,)","v":0},{"$f":"IF(AND(ROW(AC2587)>=statistics!$C$55,ROW(AC2587)<=statistics!$D$55),AC2586+AH2587-AG2587,)","v":0},{"$f":"IF(AND(statistics!$C$55<=ROW(A2587),ROW(A2587)<=statistics!$D$55)=TRUE,AH2587-AG2587+AA2586-INDEX(AA:AA,statistics!$C$55),\"\")","v":""},null,null,0,0,0,"",{"$f":"IF(statistics!$D$3<>0,IF(AJ2587=statistics!$D$3,AG2587,\"\"),IF(B2587<>\"\",AG2587,\"\"))","v":""},{"$f":"IF(statistics!$D$3<>0,IF(AJ2587=statistics!$D$3,IF(AH2587=0,\"\",AH2587),\"\"),IF(AH2587<>0,AH2587,\"\"))","v":""},{"$f":"IF(statistics!$D$3<>0,IF(AJ2587=statistics!$D$3,IF(A2587=0,\"\",1),\"\"),IF(A2587=0,\"\",1))","v":""},"","",null,"",{"$nulls":6},0,null,null,null,"",null,null,"",null,0,null,{"$error":"#NUM!"},{"$error":"#NUM!"},2586]
[{"$nulls":4},"","","","","",null,null,"",{"$nulls":6},2591,"",{"$f":"IF(A2593=0,IF(B2593=\"\",IF(B2592=0,\"\",SUM($AG$1:AG2592)-SUM($U$1:U2591)),\"\"),SUM($AG$1:AG2592)-SUM($U$1:U2591))","v":""},{"$nulls":5},0,{"$f":"IF(AJ2592=statistics!$D$3,AB2591+AH2592-AG2592,)","v":0},{"$f":"IF(AND(ROW(AC2592)>=statistics!$C$55,ROW(AC2592)<=statistics!$D$55),AC2591+AH2592-AG2592,)","v":0},{"$f":"IF(AND(statistics!$C$55<=ROW(A2592),ROW(A2592)<=statistics!$D$55)=TRUE,AH2592-AG2592+AA2591-INDEX(AA:AA,statistics!$C$55),\"\")","v":""},null,null,0,0,0,"",{"$f":"IF(statistics!$D$3<>0,IF(AJ2592=statistics!$D$3,AG2592,\"\"),IF(B2592<>\"\",AG2592,\"\"))","v":""},{"$f":"IF(statistics!$D$3<>0,IF(AJ2592=statistics!$D$3,IF(AH2592=0,\"\",AH2592),\"\"),IF(AH2592<>0,AH2592,\"\"))","v":""},{"$f":"IF(statistics!$D$3<>0,IF(AJ2592=statistics!$D$3,IF(A2592=0,\"\",1),\"\"),IF(A2592=0,\"\",1))","v":""},"","",null,"",{"$nulls":6},0,null,null,null,"",null,null,"",null,0,null,{"$error":"#NUM!"},{"$error":"#NUM!"},2591]
[{"$nulls":4},"","","","","",null,null,"",{"$nulls":6},2602,"",{"$f":"IF(A2604=0,IF(B2604=\"\",IF(B2603=0,\"\",SUM($AG$1:AG2603)-SUM($U$1:U2602)),\"\"),SUM($AG$1:AG2603)-SUM($U$1:U2602))","v":""},{"$nulls":5},0,{"$f":"IF(AJ2603=statistics!$D$3,AB2602+AH2603-AG2603,)","v":0},{"$f":"IF(AND(ROW(AC2603)>=statistics!$C$55,ROW(AC2603)<=statistics!$D$55),AC2602+AH2603-AG2603,)","v":0},{"$f":"IF(AND(statistics!$C$55<=ROW(A2603),ROW(A2603)<=statistics!$D$55)=TRUE,AH2603-AG2603+AA2602-INDEX(AA:AA,statistics!$C$55),\"\")","v":""},null,null,0,0,0,"",{"$f":"IF(statistics!$D$3<>0,IF(AJ2603=statistics!$D$3,AG2603,\"\"),IF(B2603<>\"\",AG2603,\"\"))","v":""},{"$f":"IF(statistics!$D$3<>0,IF(AJ2603=statistics!$D$3,IF(AH2603=0,\"\",AH2603),\"\"),IF(AH2603<>0,AH2603,\"\"))","v":""},{"$f":"IF(statistics!$D$3<>0,IF(AJ2603=statistics!$D$3,IF(A2603=0,\"\",1),\"\"),IF(A2603=0,\"\",1))","v":""},"","",null,"",{"$nulls":6},0,null,null,null,"",null,null,"",null,0,null,{"$error":"#NUM!"},{"$error":"#NUM!"},2602]
[{"$nulls":4},"","","","","",null,null,"",{"$nulls":6},2614,"",{"$f":"IF(A2616=0,IF(B2616=\"\",IF(B2615=0,\"\",SUM($AG$1:AG2615)-SUM($U$1:U2614)),\"\"),SUM($AG$1:AG2615)-SUM($U$1:U2614))","v":""},{"$nulls":5},0,{"$f":"IF(AJ2615=statistics!$D$3,AB2614+AH2615-AG2615,)","v":0},{"$f":"IF(AND(ROW(AC2615)>=statistics!$C$55,ROW(AC2615)<=statistics!$D$55),AC2614+AH2615-AG2615,)","v":0},{"$f":"IF(AND(statistics!$C$55<=ROW(A2615),ROW(A2615)<=statistics!$D$55)=TRUE,AH2615-AG2615+AA2614-INDEX(AA:AA,statistics!$C$55),\"\")","v":""},null,null,0,0,0,"",{"$f":"IF(statistics!$D$3<>0,IF(AJ2615=statistics!$D$3,AG2615,\"\"),IF(B2615<>\"\",AG2615,\"\"))","v":""},{"$f":"IF(statistics!$D$3<>0,IF(AJ2615=statistics!$D$3,IF(AH2615=0,\"\",AH2615),\"\"),IF(AH2615<>0,AH2615,\"\"))","v":""},{"$f":"IF(statistics!$D$3<>0,IF(AJ2615=statistics!$D$3,IF(A2615=0,\"\",1),\"\"),IF(A2615=0,\"\",1))","v":""},"","",null,"",{"$nulls":6},0,null,null,null,"",null,null,"",null,0,null,{"$error":"#NUM!"},{"$error":"#NUM!"},2614]
[{"$nulls":4},"","","","","",null,null,"",{"$nulls":6},2627,"",{"$f":"IF(A2629=0,IF(B2629=\"\",IF(B2628=0,\"\",SUM($AG$1:AG2628)-SUM($U$1:U2627)),\"\"),SUM($AG$1:AG2628)-SUM($U$1:U2627))","v":""},{"$nulls":5},0,{"$f":"IF(AJ2628=statistics!$D$3,AB2627+AH2628-AG2628,)","v":0},{"$f":"IF(AND(ROW(AC2628)>=statistics!$C$55,ROW(AC2628)<=statistics!$D$55),AC2627+AH2628-AG2628,)","v":0},{"$f":"IF(AND(statistics!$C$55<=ROW(A2628),ROW(A2628)<=statistics!$D$55)=TRUE,AH2628-AG2628+AA2627-INDEX(AA:AA,statistics!$C$55),\"\")","v":""},null,null,0,0,0,"",{"$f":"IF(statistics!$D$3<>0,IF(AJ2628=statistics!$D$3,AG2628,\"\"),IF(B2628<>\"\",AG2628,\"\"))","v":""},{"$f":"IF(statistics!$D$3<>0,IF(AJ2628=statistics!$D$3,IF(AH2628=0,\"\",AH2628),\"\"),IF(AH2628<>0,AH2628,\"\"))","v":""},{"$f":"IF(statistics!$D$3<>0,IF(AJ2628=statistics!$D$3,IF(A2628=0,\"\",1),\"\"),IF(A2628=0,\"\",1))","v":""},{"$f":"IF(AK2628<>\"\",IF(AK2627=0,ROW(AK2628),ROW(AK2628)),\"\")","v":""},{"$f":"IF(A2628<>0,IF(MONTH(A2628)=AJ2627,\"\",MONTH(A2628)),\"\")","v":""},null,"",{"$nulls":6},0,null,null,null,"",null,null,"",null,0,null,{"$error":"#NUM!"},{"$error":"#NUM!"},2627]
[{"$nulls":4},"","","","","",null,null,"",{"$nulls":6},2632,"",{"$f":"IF(A2634=0,IF(B2634=\"\",IF(B2633=0,\"\",SUM($AG$1:AG2633)-SUM($U$1:U2632)),\"\"),SUM($AG$1:AG2633)-SUM($U$1:U2632))","v":""},{"$nulls":5},0,{"$f":"IF(AJ2633=statistics!$D$3,AB2632+AH2633-AG2633,)","v":0},{"$f":"IF(AND(ROW(AC2633)>=statistics!$C$55,ROW(AC2633)<=statistics!$D$55),AC2632+AH2633-AG2633,)","v":0},{"$f":"IF(AND(statistics!$C$55<=ROW(A2633),ROW(A2633)<=statistics!$D$55)=TRUE,AH2633-AG2633+AA2632-INDEX(AA:AA,statistics!$C$55),\"\")","v":""},null,null,0,0,0,"",{"$f":"IF(statistics!$D$3<>0,IF(AJ2633=statistics!$D$3,AG2633,\"\"),IF(B2633<>\"\",AG2633,\"\"))","v":""},{"$f":"IF(statistics!$D$3<>0,IF(AJ2633=statistics!$D$3,IF(AH2633=0,\"\",AH2633),\"\"),IF(AH2633<>0,AH2633,\"\"))","v":""},{"$f":"IF(statistics!$D$3<>0,IF(AJ2633=statistics!$D$3,IF(A2633=0,\"\",1),\"\"),IF(A2633=0,\"\",1))","v":""},"","",null,"",{"$nulls":6},0,null,null,null,"",null,null,"",null,0,null,{"$error":"#NUM!"},{"$error":"#NUM!"},2632]
[{"$nulls":4},"","","","","",null,null,"",{"$nulls":6},2647,"",{"$f":"IF(A2649=0,IF(B2649=\"\",IF(B2648=0,\"\",SUM($AG$1:AG2648)-SUM($U$1:U2647)),\"\"),SUM($AG$1:AG2648)-SUM($U$1:U2647))","v":""},{"$nulls":5},0,{"$f":"IF(AJ2648=statistics!$D$3,AB2647+AH2648-AG2648,)","v":0},{"$f":"IF(AND(ROW(AC2648)>=statistics!$C$55,ROW(AC2648)<=statistics!$D$55),AC2647+AH2648-AG2648,)","v":0},{"$f":"IF(AND(statistics!$C$55<=ROW(A2648),ROW(A2648)<=statistics!$D$55)=TRUE,AH2648-AG2648+AA2647-INDEX(AA:AA,statistics!$C$55),\"\")","v":""},null,null,0,0,0,"",{"$f":"IF(statistics!$D$3<>0,IF(AJ2648=statistics!$D$3,AG2648,\"\"),IF(B2648<>\"\",AG2648,\"\"))","v":""},{"$f":"IF(statistics!$D$3<>0,IF(AJ2648=statistics!$D$3,IF(AH2648=0,\"\",AH2648),\"\"),IF(AH2648<>0,AH2648,\"\"))","v":""},{"$f":"IF(statistics!$D$3<>0,IF(AJ2648=statistics!$D$3,IF(A2648=0,\"\",1),\"\"),IF(A2648=0,\"\",1))","v":""},"","",null,"",{"$nulls":6},0,null,null,null,"",null,null,"",null,0,null,{"$error":"#NUM!"},{"$error":"#NUM!"},2647]
[{"$nulls":4},"","","","","",null,null,"",{"$nulls":6},2658,"",{"$f":"IF(A2660=0,IF(B2660=\"\",IF(B2659=0,\"\",SUM($AG$1:AG2659)-SUM($U$1:U2658)),\"\"),SUM($AG$1:AG2659)-SUM($U$1:U2658))","v":""},{"$nulls":5},0,{"$f":"IF(AJ2659=statistics!$D$3,AB2658+AH2659-AG2659,)","v":0},{"$f":"IF(AND(ROW(AC2659)>=statistics!$C$55,ROW(AC2659)<=statistics!$D$55),AC2658+AH2659-AG2659,)","v":0},{"$f":"IF(AND(statistics!$C$55<=ROW(A2659),ROW(A2659)<=statistics!$D$55)=TRUE,AH2659-AG2659+AA2658-INDEX(AA:AA,statistics!$C$55),\"\")","v":""},null,null,0,0,0,"",{"$f":"IF(statistics!$D$3<>0,IF(AJ2659=statistics!$D$3,AG2659,\"\"),IF(B2659<>\"\",AG2659,\"\"))","v":""},{"$f":"IF(statistics!$D$3<>0,IF(AJ2659=statistics!$D$3,IF(AH2659=0,\"\",AH2659),\"\"),IF(AH2659<>0,AH2659,\"\"))","v":""},{"$f":"IF(statistics!$D$3<>0,IF(AJ2659=statistics!$D$3,IF(A2659=0,\"\",1),\"\"),IF(A2659=0,\"\",1))","v":""},"","",null,"",{"$nulls":6},0,null,null,null,"",null,null,"",null,0,null,{"$error":"#NUM!"},{"$error":"#NUM!"},2658]
[{"$nulls":4},"","","","","",null,null,"",{"$nulls":6},2663,"",{"$f":"IF(A2665=0,IF(B2665=\"\",IF(B2664=0,\"\",SUM($AG$1:AG2664)-SUM($U$1:U2663)),\"\"),SUM($AG$1:AG2664)-SUM($U$1:U2663))","v":""},{"$nulls":5},0,{"$f":"IF(AJ2664=statistics!$D$3,AB2663+AH2664-AG2664,)","v":0},{"$f":"IF(AND(ROW(AC2664)>=statistics!$C$55,ROW(AC2664)<=statistics!$D$55),AC2663+AH2664-AG2664,)","v":0},{"$f":"IF(AND(statistics!$C$55<=ROW(A2664),ROW(A2664)<=statistics!$D$55)=TRUE,AH2664-AG2664+AA2663-INDEX(AA:AA,statistics!$C$55),\"\")","v":""},null,null,0,0,0,"",{"$f":"IF(statistics!$D$3<>0,IF(AJ2664=statistics!$D$3,AG2664,\"\"),IF(B2664<>\"\",AG2664,\"\"))","v":""},{"$f":"IF(statistics!$D$3<>0,IF(AJ2664=statistics!$D$3,IF(AH2664=0,\"\",AH2664),\"\"),IF(AH2664<>0,AH2664,\"\"))","v":""},{"$f":"IF(statistics!$D$3<>0,IF(AJ2664=statistics!$D$3,IF(A2664=0,\"\",1),\"\"),IF(A2664=0,\"\",1))","v":""},"","",null,"",{"$nulls":6},0,null,null,null,"",null,null,"",null,0,null,{"$error":"#NUM!"},{"$error":"#NUM!"},2663]
[{"$nulls":4},"","","","","",null,null,"",{"$nulls":6},2674,"",{"$f":"IF(A2676=0,IF(B2676=\"\",IF(B2675=0,\"\",SUM($AG$1:AG2675)-SUM($U$1:U2674)),\"\"),SUM($AG$1:AG2675)-SUM($U$1:U2674))","v":""},{"$nulls":5},0,{"$f":"IF(AJ2675=statistics!$D$3,AB2674+AH2675-AG2675,)","v":0},{"$f":"IF(AND(ROW(AC2675)>=statistics!$C$55,ROW(AC2675)<=statistics!$D$55),AC2674+AH2675-AG2675,)","v":0},{"$f":"IF(AND(statistics!$C$55<=ROW(A2675),ROW(A2675)<=statistics!$D$55)=TRUE,AH2675-AG2675+AA2674-INDEX(AA:AA,statistics!$C$55),\"\")","v":""},null,null,0,0,0,"",{"$f":"IF(statistics!$D$3<>0,IF(AJ2675=statistics!$D$3,AG2675,\"\"),IF(B2675<>\"\",AG2675,\"\"))","v":""},{"$f":"IF(statistics!$D$3<>0,IF(AJ2675=statistics!$D$3,IF(AH2675=0,\"\",AH2675),\"\"),IF(AH2675<>0,AH2675,\"\"))","v":""},{"$f":"IF(statistics!$D$3<>0,IF(AJ2675=statistics!$D$3,IF(A2675=0,\"\",1),\"\"),IF(A2675=0,\"\",1))","v":""},"","",null,"",{"$nulls":6},0,null,null,null,"",null,null,"",null,0,null,{"$error":"#NUM!"},{"$error":"#NUM!"},2674]
[{"$nulls":4},"","","","","",null,null,"",{"$nulls":6},2680,"",{"$f":"IF(A2682=0,IF(B2682=\"\",IF(B2681=0,\"\",SUM($AG$1:AG2681)-SUM($U$1:U2680)),\"\"),SUM($AG$1:AG2681)-SUM($U$1:U2680))","v":""},{"$nulls":5},0,{"$f":"IF(AJ2681=statistics!$D$3,AB2680+AH2681-AG2681,)","v":0},{"$f":"IF(AND(ROW(AC2681)>=statistics!$C$55,ROW(AC2681)<=statistics!$D$55),AC2680+AH2681-AG2681,)","v":0},{"$f":"IF(AND(statistics!$C$55<=ROW(A2681),ROW(A2681)<=statistics!$D$55)=TRUE,AH2681-AG2681+AA2680-INDEX(AA:AA,statistics!$C$55),\"\")","v":""},null,null,0,0,0,"",{"$f":"IF(statistics!$D$3<>0,IF(AJ2681=statistics!$D$3,AG2681,\"\"),IF(B2681<>\"\",AG2681,\"\"))","v":""},{"$f":"IF(statistics!$D$3<>0,IF(AJ2681=statistics!$D$3,IF(AH2681=0,\"\",AH2681),\"\"),IF(AH2681<>0,AH2681,\"\"))","v":""},{"$f":"IF(statistics!$D$3<>0,IF(AJ2681=statistics!$D$3,IF(A2681=0,\"\",1),\"\"),IF(A2681=0,\"\",1))","v":""},"","",null,"",{"$nulls":6},0,null,null,null,"",null,null,"",null,0,null,{"$error":"#NUM!"},{"$error":"#NUM!"},2680]
[{"$nulls":4},"","","","","",null,null,"",{"$nulls":6},2693,"",{"$f":"IF(A2695=0,IF(B2695=\"\",IF(B2694=0,\"\",SUM($AG$1:AG2694)-SUM($U$1:U2693)),\"\"),SUM($AG$1:AG2694)-SUM($U$1:U2693))","v":""},{"$nulls":5},0,{"$f":"IF(AJ2694=statistics!$D$3,AB2693+AH2694-AG2694,)","v":0},{"$f":"IF(AND(ROW(AC2694)>=statistics!$C$55,ROW(AC2694)<=statistics!$D$55),AC2693+AH2694-AG2694,)","v":0},{"$f":"IF(AND(statistics!$C$55<=ROW(A2694),ROW(A2694)<=statistics!$D$55)=TRUE,AH2694-AG2694+AA2693-INDEX(AA:AA,statistics!$C$55),\"\")","v":""},null,null,0,0,0,"",{"$f":"IF(statistics!$D$3<>0,IF(AJ2694=statistics!$D$3,AG2694,\"\"),IF(B2694<>\"\",AG2694,\"\"))","v":""},{"$f":"IF(statistics!$D$3<>0,IF(AJ2694=statistics!$D$3,IF(AH2694=0,\"\",AH2694),\"\"),IF(AH2694<>0,AH2694,\"\"))","v":""},{"$f":"IF(statistics!$D$3<>0,IF(AJ2694=statistics!$D$3,IF(A2694=0,\"\",1),\"\"),IF(A2694=0,\"\",1))","v":""},"","",null,"",{"$nulls":6},0,null,null,null,"",null,null,"",null,0,null,{"$error":"#NUM!"},{"$error":"#NUM!"},2693]
[{"$nulls":4},"","",{"$f":"IF(A2706=0,IF(B2706=\"\",IF(B2705=0,\"\",U2705/S2705),\"\"),U2705/S2705)","v":""},"","",null,null,"",{"$nulls":6},2704,"",{"$f":"IF(A2706=0,IF(B2706=\"\",IF(B2705=0,\"\",SUM($AG$1:AG2705)-SUM($U$1:U2704)),\"\"),SUM($AG$1:AG2705)-SUM($U$1:U2704))","v":""},{"$nulls":5},0,{"$f":"IF(AJ2705=statistics!$D$3,AB2704+AH2705-AG2705,)","v":0},{"$f":"IF(AND(ROW(AC2705)>=statistics!$C$55,ROW(AC2705)<=statistics!$D$55),AC2704+AH2705-AG2705,)","v":0},{"$f":"IF(AND(statistics!$C$55<=ROW(A2705),ROW(A2705)<=statistics!$D$55)=TRUE,AH2705-AG2705+AA2704-INDEX(AA:AA,statistics!$C$55),\"\")","v":""},null,null,0,0,0,"",{"$f":"IF(statistics!$D$3<>0,IF(AJ2705=statistics!$D$3,AG2705,\"\"),IF(B2705<>\"\",AG2705,\"\"))","v":""},{"$f":"IF(statistics!$D$3<>0,IF(AJ2705=statistics!$D$3,IF(AH2705=0,\"\",AH2705),\"\"),IF(AH2705<>0,AH2705,\"\"))","v":""},{"$f":"IF(statistics!$D$3<>0,IF(AJ2705=statistics!$D$3,IF(A2705=0,\"\",1),\"\"),IF(A2705=0,\"\",1))","v":""},"","",null,"",{"$nulls":6},0,null,null,null,"",null,null,"",null,0,null,{"$error":"#NUM!"},{"$error":"#NUM!"},2704]
[{"$nulls":4},"","","","","",null,null,"",{"$nulls":6},2709,"",{"$f":"IF(A2711=0,IF(B2711=\"\",IF(B2710=0,\"\",SUM($AG$1:AG2710)-SUM($U$1:U2709)),\"\"),SUM($AG$1:AG2710)-SUM($U$1:U2709))","v":""},{"$nulls":5},0,{"$f":"IF(AJ2710=statistics!$D$3,AB2709+AH2710-AG2710,)","v":0},{"$f":"IF(AND(ROW(AC2710)>=statistics!$C$55,ROW(AC2710)<=statistics!$D$55),AC2709+AH2710-AG2710,)","v":0},{"$f":"IF(AND(statistics!$C$55<=ROW(A2710),ROW(A2710)<=statistics!$D$55)=TRUE,AH2710-AG2710+AA2709-INDEX(AA:AA,statistics!$C$55),\"\")","v":""},null,null,0,0,0,"",{"$f":"IF(statistics!$D$3<>0,IF(AJ2710=statistics!$D$3,AG2710,\"\"),IF(B2710<>\"\",AG2710,\"\"))","v":""},{"$f":"IF(statistics!$D$3<>0,IF(AJ2710=statistics!$D$3,IF(AH2710=0,\"\",AH2710),\"\"),IF(AH2710<>0,AH2710,\"\"))","v":""},{"$f":"IF(statistics!$D$3<>0,IF(AJ2710=statistics!$D$3,IF(A2710=0,\"\",1),\"\"),IF(A2710=0,\"\",1))","v":""},"","",null,"",{"$nulls":6},0,null,null,null,"",null,null,"",null,0,null,{"$error":"#NUM!"},{"$error":"#NUM!"},2709]
[{"$nulls":4},"","","","","",null,null,"",{"$nulls":6},2724,"",{"$f":"IF(A2726=0,IF(B2726=\"\",IF(B2725=0,\"\",SUM($AG$1:AG2725)-SUM($U$1:U2724)),\"\"),SUM($AG$1:AG2725)-SUM($U$1:U2724))","v":""},{"$nulls":5},0,{"$f":"IF(AJ2725=statistics!$D$3,AB2724+AH2725-AG2725,)","v":0},{"$f":"IF(AND(ROW(AC2725)>=statistics!$C$55,ROW(AC2725)<=statistics!$D$55),AC2724+AH2725-AG2725,)","v":0},{"$f":"IF(AND(statistics!$C$55<=ROW(A2725),ROW(A2725)<=statistics!$D$55)=TRUE,AH2725-AG2725+AA2724-INDEX(AA:AA,statistics!$C$55),\"\")","v":""},null,null,0,0,0,"",{"$f":"IF(statistics!$D$3<>0,IF(AJ2725=statistics!$D$3,AG2725,\"\"),IF(B2725<>\"\",AG2725,\"\"))","v":""},{"$f":"IF(statistics!$D$3<>0,IF(AJ2725=statistics!$D$3,IF(AH2725=0,\"\",AH2725),\"\"),IF(AH2725<>0,AH2725,\"\"))","v":""},{"$f":"IF(statistics!$D$3<>0,IF(AJ2725=statistics!$D$3,IF(A2725=0,\"\",1),\"\"),IF(A2725=0,\"\",1))","v":""},"","",null,"",{"$nulls":6},0,null,null,null,"",null,null,"",null,0,null,{"$error":"#NUM!"},{"$error":"#NUM!"},2724]
[{"$nulls":4},"","","","","",null,null,"",{"$nulls":6},2735,"",{"$f":"IF(A2737=0,IF(B2737=\"\",IF(B2736=0,\"\",SUM($AG$1:AG2736)-SUM($U$1:U2735)),\"\"),SUM($AG$1:AG2736)-SUM($U$1:U2735))","v":""},{"$nulls":5},0,{"$f":"IF(AJ2736=statistics!$D$3,AB2735+AH2736-AG2736,)","v":0},{"$f":"IF(AND(ROW(AC2736)>=statistics!$C$55,ROW(AC2736)<=statistics!$D$55),AC2735+AH2736-AG2736,)","v":0},{"$f":"IF(AND(statistics!$C$55<=ROW(A2736),ROW(A2736)<=statistics!$D$55)=TRUE,AH2736-AG2736+AA2735-INDEX(AA:AA,statistics!$C$55),\"\")","v":""},null,null,0,0,0,"",{"$f":"IF(statistics!$D$3<>0,IF(AJ2736=statistics!$D$3,AG2736,\"\"),IF(B2736<>\"\",AG2736,\"\"))","v":""},{"$f":"IF(statistics!$D$3<>0,IF(AJ2736=statistics!$D$3,IF(AH2736=0,\"\",AH2736),\"\"),IF(AH2736<>0,AH2736,\"\"))","v":""},{"$f":"IF(statistics!$D$3<>0,IF(AJ2736=statistics!$D$3,IF(A2736=0,\"\",1),\"\"),IF(A2736=0,\"\",1))","v":""},"","",null,"",{"$nulls":6},0,null,null,null,"",null,null,"",null,0,null,{"$error":"#NUM!"},{"$error":"#NUM!"},2735]
[{"$nulls":4},"","","","","",null,null,"",{"$nulls":6},2740,"",{"$f":"IF(A2742=0,IF(B2742=\"\",IF(B2741=0,\"\",SUM($AG$1:AG2741)-SUM($U$1:U2740)),\"\"),SUM($AG$1:AG2741)-SUM($U$1:U2740))","v":""},{"$nulls":5},0,{"$f":"IF(AJ2741=statistics!$D$3,AB2740+AH2741-AG2741,)","v":0},{"$f":"IF(AND(ROW(AC2741)>=statistics!$C$55,ROW(AC2741)<=statistics!$D$55),AC2740+AH2741-AG2741,)","v":0},{"$f":"IF(AND(statistics!$C$55<=ROW(A2741),ROW(A2741)<=statistics!$D$55)=TRUE,AH2741-AG2741+AA2740-INDEX(AA:AA,statistics!$C$55),\"\")","v":""},null,null,0,0,0,"",{"$f":"IF(statistics!$D$3<>0,IF(AJ2741=statistics!$D$3,AG2741,\"\"),IF(B2741<>\"\",AG2741,\"\"))","v":""},{"$f":"IF(statistics!$D$3<>0,IF(AJ2741=statistics!$D$3,IF(AH2741=0,\"\",AH2741),\"\"),IF(AH2741<>0,AH2741,\"\"))","v":""},{"$f":"IF(statistics!$D$3<>0,IF(AJ2741=statistics!$D$3,IF(A2741=0,\"\",1),\"\"),IF(A2741=0,\"\",1))","v":""},"","",null,"",{"$nulls":6},0,null,null,null,"",null,null,"",null,0,null,{"$error":"#NUM!"},{"$error":"#NUM!"},2740]
[{"$nulls":4},"","","","","",null,null,"",{"$nulls":6},2755,"",{"$f":"IF(A2757=0,IF(B2757=\"\",IF(B2756=0,\"\",SUM($AG$1:AG2756)-SUM($U$1:U2755)),\"\"),SUM($AG$1:AG2756)-SUM($U$1:U2755))","v":""},{"$nulls":5},0,{"$f":"IF(AJ2756=statistics!$D$3,AB2755+AH2756-AG2756,)","v":0},{"$f":"IF(AND(ROW(AC2756)>=statistics!$C$55,ROW(AC2756)<=statistics!$D$55),AC2755+AH2756-AG2756,)","v":0},{"$f":"IF(AND(statistics!$C$55<=ROW(A2756),ROW(A2756)<=statistics!$D$55)=TRUE,AH2756-AG2756+AA2755-INDEX(AA:AA,statistics!$C$55),\"\")","v":""},null,null,0,0,0,"",{"$f":"IF(statistics!$D$3<>0,IF(AJ2756=statistics!$D$3,AG2756,\"\"),IF(B2756<>\"\",AG2756,\"\"))","v":""},{"$f":"IF(statistics!$D$3<>0,IF(AJ2756=statistics!$D$3,IF(AH2756=0,\"\",AH2756),\"\"),IF(AH2756<>0,AH2756,\"\"))","v":""},{"$f":"IF(statistics!$D$3<>0,IF(AJ2756=statistics!$D$3,IF(A2756=0,\"\",1),\"\"),IF(A2756=0,\"\",1))","v":""},{"$f":"IF(AK2756<>\"\",IF(AK2755=0,ROW(AK2756),ROW(AK2756)),\"\")","v":""},{"$f":"IF(A2756<>0,IF(MONTH(A2756)=AJ2755,\"\",MONTH(A2756)),\"\")","v":""},null,"",{"$nulls":6},0,null,null,null,"",null,null,"",null,0,null,{"$error":"#NUM!"},{"$error":"#NUM!"},2755]
[{"$nulls":4},"","","","","",null,null,"",{"$nulls":6},2765,"",{"$f":"IF(A2767=0,IF(B2767=\"\",IF(B2766=0,\"\",SUM($AG$1:AG2766)-SUM($U$1:U2765)),\"\"),SUM($AG$1:AG2766)-SUM($U$1:U2765))","v":""},{"$nulls":5},0,{"$f":"IF(AJ2766=statistics!$D$3,AB2765+AH2766-AG2766,)","v":0},{"$f":"IF(AND(ROW(AC2766)>=statistics!$C$55,ROW(AC2766)<=statistics!$D$55),AC2765+AH2766-AG2766,)","v":0},{"$f":"IF(AND(statistics!$C$55<=ROW(A2766),ROW(A2766)<=statistics!$D$55)=TRUE,AH2766-AG2766+AA2765-INDEX(AA:AA,statistics!$C$55),\"\")","v":""},null,null,0,0,0,"",{"$f":"IF(statistics!$D$3<>0,IF(AJ2766=statistics!$D$3,AG2766,\"\"),IF(B2766<>\"\",AG2766,\"\"))","v":""},{"$f":"IF(statistics!$D$3<>0,IF(AJ2766=statistics!$D$3,IF(AH2766=0,\"\",AH2766),\"\"),IF(AH2766<>0,AH2766,\"\"))","v":""},{"$f":"IF(statistics!$D$3<>0,IF(AJ2766=statistics!$D$3,IF(A2766=0,\"\",1),\"\"),IF(A2766=0,\"\",1))","v":""},"","",null,"",{"$nulls":6},0,null,null,null,"",null,null,"",null,0,null,{"$error":"#NUM!"},{"$error":"#NUM!"},2765]
[{"$nulls":4},"","","","","",null,null,"",{"$nulls":6},2770,"",{"$f":"IF(A2772=0,IF(B2772=\"\",IF(B2771=0,\"\",SUM($AG$1:AG2771)-SUM($U$1:U2770)),\"\"),SUM($AG$1:AG2771)-SUM($U$1:U2770))","v":""},{"$nulls":5},0,{"$f":"IF(AJ2771=statistics!$D$3,AB2770+AH2771-AG2771,)","v":0},{"$f":"IF(AND(ROW(AC2771)>=statistics!$C$55,ROW(AC2771)<=statistics!$D$55),AC2770+AH2771-AG2771,)","v":0},{"$f":"IF(AND(statistics!$C$55<=ROW(A2771),ROW(A2771)<=statistics!$D$55)=TRUE,AH2771-AG2771+AA2770-INDEX(AA:AA,statistics!$C$55),\"\")","v":""},null,null,0,0,0,"",{"$f":"IF(statistics!$D$3<>0,IF(AJ2771=statistics!$D$3,AG2771,\"\"),IF(B2771<>\"\",AG2771,\"\"))","v":""},{"$f":"IF(statistics!$D$3<>0,IF(AJ2771=statistics!$D$3,IF(AH2771=0,\"\",AH2771),\"\"),IF(AH2771<>0,AH2771,\"\"))","v":""},{"$f":"IF(statistics!$D$3<>0,IF(AJ2771=statistics!$D$3,IF(A2771=0,\"\",1),\"\"),IF(A2771=0,\"\",1))","v":""},"","",null,"",{"$nulls":6},0,null,null,null,"",null,null,"",null,0,null,{"$error":"#NUM!"},{"$error":"#NUM!"},2770]
[{"$nulls":4},"","","","","",null,null,"",{"$nulls":6},2781,"",{"$f":"IF(A2783=0,IF(B2783=\"\",IF(B2782=0,\"\",SUM($AG$1:AG2782)-SUM($U$1:U2781)),\"\"),SUM($AG$1:AG2782)-SUM($U$1:U2781))","v":""},{"$nulls":5},0,{"$f":"IF(AJ2782=statistics!$D$3,AB2781+AH2782-AG2782,)","v":0},{"$f":"IF(AND(ROW(AC2782)>=statistics!$C$55,ROW(AC2782)<=statistics!$D$55),AC2781+AH2782-AG2782,)","v":0},{"$f":"IF(AND(statistics!$C$55<=ROW(A2782),ROW(A2782)<=statistics!$D$55)=TRUE,AH2782-AG2782+AA2781-INDEX(AA:AA,statistics!$C$55),\"\")","v":""},null,null,0,0,0,"",{"$f":"IF(statistics!$D$3<>0,IF(AJ2782=statistics!$D$3,AG2782,\"\"),IF(B2782<>\"\",AG2782,\"\"))","v":""},{"$f":"IF(statistics!$D$3<>0,IF(AJ2782=statistics!$D$3,IF(AH2782=0,\"\",AH2782),\"\"),IF(AH2782<>0,AH2782,\"\"))","v":""},{"$f":"IF(statistics!$D$3<>0,IF(AJ2782=statistics!$D$3,IF(A2782=0,\"\",1),\"\"),IF(A2782=0,\"\",1))","v":""},"","",null,"",{"$nulls":6},0,null,null,null,"",null,null,"",null,0,null,{"$error":"#NUM!"},{"$error":"#NUM!"},2781]
[{"$nulls":4},"","","","","",null,null,"",{"$nulls":6},2796,"",{"$f":"IF(A2798=0,IF(B2798=\"\",IF(B2797=0,\"\",SUM($AG$1:AG2797)-SUM($U$1:U2796)),\"\"),SUM($AG$1:AG2797)-SUM($U$1:U2796))","v":""},{"$nulls":5},0,{"$f":"IF(AJ2797=statistics!$D$3,AB2796+AH2797-AG2797,)","v":0},{"$f":"IF(AND(ROW(AC2797)>=statistics!$C$55,ROW(AC2797)<=statistics!$D$55),AC2796+AH2797-AG2797,)","v":0},{"$f":"IF(AND(statistics!$C$55<=ROW(A2797),ROW(A2797)<=statistics!$D$55)=TRUE,AH2797-AG2797+AA2796-INDEX(AA:AA,statistics!$C$55),\"\")","v":""},null,null,0,0,0,"",{"$f":"IF(statistics!$D$3<>0,IF(AJ2797=statistics!$D$3,AG2797,\"\"),IF(B2797<>\"\",AG2797,\"\"))","v":""},{"$f":"IF(statistics!$D$3<>0,IF(AJ2797=statistics!$D$3,IF(AH2797=0,\"\",AH2797),\"\"),IF(AH2797<>0,AH2797,\"\"))","v":""},{"$f":"IF(statistics!$D$3<>0,IF(AJ2797=statistics!$D$3,IF(A2797=0,\"\",1),\"\"),IF(A2797=0,\"\",1))","v":""},"","",null,"",{"$nulls":6},0,null,null,null,"",null,null,"",null,0,null,{"$error":"#NUM!"},{"$error":"#NUM!"},2796]
[{"$nulls":4},"","","","","",null,null,"",{"$nulls":6},2801,"",{"$f":"IF(A2803=0,IF(B2803=\"\",IF(B2802=0,\"\",SUM($AG$1:AG2802)-SUM($U$1:U2801)),\"\"),SUM($AG$1:AG2802)-SUM($U$1:U2801))","v":""},{"$nulls":5},0,{"$f":"IF(AJ2802=statistics!$D$3,AB2801+AH2802-AG2802,)","v":0},{"$f":"IF(AND(ROW(AC2802)>=statistics!$C$55,ROW(AC2802)<=statistics!$D$55),AC2801+AH2802-AG2802,)","v":0},{"$f":"IF(AND(statistics!$C$55<=ROW(A2802),ROW(A2802)<=statistics!$D$55)=TRUE,AH2802-AG2802+AA2801-INDEX(AA:AA,statistics!$C$55),\"\")","v":""},null,null,0,0,0,"",{"$f":"IF(statistics!$D$3<>0,IF(AJ2802=statistics!$D$3,AG2802,\"\"),IF(B2802<>\"\",AG2802,\"\"))","v":""},{"$f":"IF(statistics!$D$3<>0,IF(AJ2802=statistics!$D$3,IF(AH2802=0,\"\",AH2802),\"\"),IF(AH2802<>0,AH2802,\"\"))","v":""},{"$f":"IF(statistics!$D$3<>0,IF(AJ2802=statistics!$D$3,IF(A2802=0,\"\",1),\"\"),IF(A2802=0,\"\",1))","v":""},"","",null,"",{"$nulls":6},0,null,null,null,"",null,null,"",null,0,null,{"$error":"#NUM!"},{"$error":"#NUM!"},2801]
[{"$nulls":4},"","","","","",null,null,"",{"$nulls":6},2812,"",{"$f":"IF(A2814=0,IF(B2814=\"\",IF(B2813=0,\"\",SUM($AG$1:AG2813)-SUM($U$1:U2812)),\"\"),SUM($AG$1:AG2813)-SUM($U$1:U2812))","v":""},{"$nulls":5},0,{"$f":"IF(AJ2813=statistics!$D$3,AB2812+AH2813-AG2813,)","v":0},{"$f":"IF(AND(ROW(AC2813)>=statistics!$C$55,ROW(AC2813)<=statistics!$D$55),AC2812+AH2813-AG2813,)","v":0},{"$f":"IF(AND(statistics!$C$55<=ROW(A2813),ROW(A2813)<=statistics!$D$55)=TRUE,AH2813-AG2813+AA2812-INDEX(AA:AA,statistics!$C$55),\"\")","v":""},null,null,0,0,0,"",{"$f":"IF(statistics!$D$3<>0,IF(AJ2813=statistics!$D$3,AG2813,\"\"),IF(B2813<>\"\",AG2813,\"\"))","v":""},{"$f":"IF(statistics!$D$3<>0,IF(AJ2813=statistics!$D$3,IF(AH2813=0,\"\",AH2813),\"\"),IF(AH2813<>0,AH2813,\"\"))","v":""},{"$f":"IF(statistics!$D$3<>0,IF(AJ2813=statistics!$D$3,IF(A2813=0,\"\",1),\"\"),IF(A2813=0,\"\",1))","v":""},"","",null,"",{"$nulls":6},0,null,null,null,"",null,null,"",null,0,null,{"$error":"#NUM!"},{"$error":"#NUM!"},2812]
[{"$nulls":4},"","","",{"$f":"IF(A2819=0,IF(B2819=\"\",IF(B2818=0,\"\",U2818),\"\"),U2818)","v":""},{"$f":"IF(A2819=0,IF(B2819=\"\",IF(B2818=0,\"\",S2818),\"\"),S2818)","v":""},null,null,"",{"$nulls":6},{"$f":"IF(A2818=0,S2817+1,1)","v":2817},"",{"$f":"IF(A2819=0,IF(B2819=\"\",IF(B2818=0,\"\",SUM($AG$1:AG2818)-SUM($U$1:U2817)),\"\"),SUM($AG$1:AG2818)-SUM($U$1:U2817))","v":""},{"$nulls":5},0,{"$f":"IF(AJ2818=statistics!$D$3,AB2817+AH2818-AG2818,)","v":0},{"$f":"IF(AND(ROW(AC2818)>=statistics!$C$55,ROW(AC2818)<=statistics!$D$55),AC2817+AH2818-AG2818,)","v":0},{"$f":"IF(AND(statistics!$C$55<=ROW(A2818),ROW(A2818)<=statistics!$D$55)=TRUE,AH2818-AG2818+AA2817-INDEX(AA:AA,statistics!$C$55),\"\")","v":""},null,null,0,0,0,"",{"$f":"IF(statistics!$D$3<>0,IF(AJ2818=statistics!$D$3,AG2818,\"\"),IF(B2818<>\"\",AG2818,\"\"))","v":""},{"$f":"IF(statistics!$D$3<>0,IF(AJ2818=statistics!$D$3,IF(AH2818=0,\"\",AH2818),\"\"),IF(AH2818<>0,AH2818,\"\"))","v":""},{"$f":"IF(statistics!$D$3<>0,IF(AJ2818=statistics!$D$3,IF(A2818=0,\"\",1),\"\"),IF(A2818=0,\"\",1))","v":""},"","",null,"",{"$nulls":6},0,null,null,null,"",null,null,"",null,0,null,{"$error":"#NUM!"},{"$error":"#NUM!"},2817]
[{"$nulls":4},"","","","","",null,null,"",{"$nulls":6},2827,"",{"$f":"IF(A2829=0,IF(B2829=\"\",IF(B2828=0,\"\",SUM($AG$1:AG2828)-SUM($U$1:U2827)),\"\"),SUM($AG$1:AG2828)-SUM($U$1:U2827))","v":""},{"$nulls":5},0,{"$f":"IF(AJ2828=statistics!$D$3,AB2827+AH2828-AG2828,)","v":0},{"$f":"IF(AND(ROW(AC2828)>=statistics!$C$55,ROW(AC2828)<=statistics!$D$55),AC2827+AH2828-AG2828,)","v":0},{"$f":"IF(AND(statistics!$C$55<=ROW(A2828),ROW(A2828)<=statistics!$D$55)=TRUE,AH2828-AG2828+AA2827-INDEX(AA:AA,statistics!$C$55),\"\")","v":""},null,null,0,0,0,"",{"$f":"IF(statistics!$D$3<>0,IF(AJ2828=statistics!$D$3,AG2828,\"\"),IF(B2828<>\"\",AG2828,\"\"))","v":""},{"$f":"IF(statistics!$D$3<>0,IF(AJ2828=statistics!$D$3,IF(AH2828=0,\"\",AH2828),\"\"),IF(AH2828<>0,AH2828,\"\"))","v":""},{"$f":"IF(statistics!$D$3<>0,IF(AJ2828=statistics!$D$3,IF(A2828=0,\"\",1),\"\"),IF(A2828=0,\"\",1))","v":""},"","",null,"",{"$nulls":6},0,null,null,null,"",null,null,"",null,0,null,{"$error":"#NUM!"},{"$error":"#NUM!"},2827]
[{"$nulls":4},"","","","","",null,null,"",{"$nulls":6},2842,"",{"$f":"IF(A2844=0,IF(B2844=\"\",IF(B2843=0,\"\",SUM($AG$1:AG2843)-SUM($U$1:U2842)),\"\"),SUM($AG$1:AG2843)-SUM($U$1:U2842))","v":""},{"$nulls":5},0,{"$f":"IF(AJ2843=statistics!$D$3,AB2842+AH2843-AG2843,)","v":0},{"$f":"IF(AND(ROW(AC2843)>=statistics!$C$55,ROW(AC2843)<=statistics!$D$55),AC2842+AH2843-AG2843,)","v":0},{"$f":"IF(AND(statistics!$C$55<=ROW(A2843),ROW(A2843)<=statistics!$D$55)=TRUE,AH2843-AG2843+AA2842-INDEX(AA:AA,statistics!$C$55),\"\")","v":""},null,null,0,0,0,"",{"$f":"IF(statistics!$D$3<>0,IF(AJ2843=statistics!$D$3,AG2843,\"\"),IF(B2843<>\"\",AG2843,\"\"))","v":""},{"$f":"IF(statistics!$D$3<>0,IF(AJ2843=statistics!$D$3,IF(AH2843=0,\"\",AH2843),\"\"),IF(AH2843<>0,AH2843,\"\"))","v":""},{"$f":"IF(statistics!$D$3<>0,IF(AJ2843=statistics!$D$3,IF(A2843=0,\"\",1),\"\"),IF(A2843=0,\"\",1))","v":""},"","",null,"",{"$nulls":6},0,null,null,null,"",null,null,"",null,0,null,{"$error":"#NUM!"},{"$error":"#NUM!"},2842]
[{"$nulls":4},"","","","","",null,null,"",{"$nulls":6},2847,"",{"$f":"IF(A2849=0,IF(B2849=\"\",IF(B2848=0,\"\",SUM($AG$1:AG2848)-SUM($U$1:U2847)),\"\"),SUM($AG$1:AG2848)-SUM($U$1:U2847))","v":""},{"$nulls":5},0,{"$f":"IF(AJ2848=statistics!$D$3,AB2847+AH2848-AG2848,)","v":0},{"$f":"IF(AND(ROW(AC2848)>=statistics!$C$55,ROW(AC2848)<=statistics!$D$55),AC2847+AH2848-AG2848,)","v":0},{"$f":"IF(AND(statistics!$C$55<=ROW(A2848),ROW(A2848)<=statistics!$D$55)=TRUE,AH2848-AG2848+AA2847-INDEX(AA:AA,statistics!$C$55),\"\")","v":""},null,null,0,0,0,"",{"$f":"IF(statistics!$D$3<>0,IF(AJ2848=statistics!$D$3,AG2848,\"\"),IF(B2848<>\"\",AG2848,\"\"))","v":""},{"$f":"IF(statistics!$D$3<>0,IF(AJ2848=statistics!$D$3,IF(AH2848=0,\"\",AH2848),\"\"),IF(AH2848<>0,AH2848,\"\"))","v":""},{"$f":"IF(statistics!$D$3<>0,IF(AJ2848=statistics!$D$3,IF(A2848=0,\"\",1),\"\"),IF(A2848=0,\"\",1))","v":""},"","",null,"",{"$nulls":6},0,null,null,null,"",null,null,"",null,0,null,{"$error":"#NUM!"},{"$error":"#NUM!"},2847]
[{"$nulls":4},"","","","","",null,null,"",{"$nulls":6},2858,"",{"$f":"IF(A2860=0,IF(B2860=\"\",IF(B2859=0,\"\",SUM($AG$1:AG2859)-SUM($U$1:U2858)),\"\"),SUM($AG$1:AG2859)-SUM($U$1:U2858))","v":""},{"$nulls":5},0,{"$f":"IF(AJ2859=statistics!$D$3,AB2858+AH2859-AG2859,)","v":0},{"$f":"IF(AND(ROW(AC2859)>=statistics!$C$55,ROW(AC2859)<=statistics!$D$55),AC2858+AH2859-AG2859,)","v":0},{"$f":"IF(AND(statistics!$C$55<=ROW(A2859),ROW(A2859)<=statistics!$D$55)=TRUE,AH2859-AG2859+AA2858-INDEX(AA:AA,statistics!$C$55),\"\")","v":""},null,null,0,0,0,"",{"$f":"IF(statistics!$D$3<>0,IF(AJ2859=statistics!$D$3,AG2859,\"\"),IF(B2859<>\"\",AG2859,\"\"))","v":""},{"$f":"IF(statistics!$D$3<>0,IF(AJ2859=statistics!$D$3,IF(AH2859=0,\"\",AH2859),\"\"),IF(AH2859<>0,AH2859,\"\"))","v":""},{"$f":"IF(statistics!$D$3<>0,IF(AJ2859=statistics!$D$3,IF(A2859=0,\"\",1),\"\"),IF(A2859=0,\"\",1))","v":""},"","",null,"",{"$nulls":6},0,null,null,null,"",null,null,"",null,0,null,{"$error":"#NUM!"},{"$error":"#NUM!"},2858]
[{"$nulls":4},"","","","","",null,null,"",{"$nulls":6},2873,"",{"$f":"IF(A2875=0,IF(B2875=\"\",IF(B2874=0,\"\",SUM($AG$1:AG2874)-SUM($U$1:U2873)),\"\"),SUM($AG$1:AG2874)-SUM($U$1:U2873))","v":""},{"$nulls":5},0,{"$f":"IF(AJ2874=statistics!$D$3,AB2873+AH2874-AG2874,)","v":0},{"$f":"IF(AND(ROW(AC2874)>=statistics!$C$55,ROW(AC2874)<=statistics!$D$55),AC2873+AH2874-AG2874,)","v":0},{"$f":"IF(AND(statistics!$C$55<=ROW(A2874),ROW(A2874)<=statistics!$D$55)=TRUE,AH2874-AG2874+AA2873-INDEX(AA:AA,statistics!$C$55),\"\")","v":""},null,null,0,0,0,"",{"$f":"IF(statistics!$D$3<>0,IF(AJ2874=statistics!$D$3,AG2874,\"\"),IF(B2874<>\"\",AG2874,\"\"))","v":""},{"$f":"IF(statistics!$D$3<>0,IF(AJ2874=statistics!$D$3,IF(AH2874=0,\"\",AH2874),\"\"),IF(AH2874<>0,AH2874,\"\"))","v":""},{"$f":"IF(statistics!$D$3<>0,IF(AJ2874=statistics!$D$3,IF(A2874=0,\"\",1),\"\"),IF(A2874=0,\"\",1))","v":""},"","",null,"",{"$nulls":6},0,null,null,null,"",null,null,"",null,0,null,{"$error":"#NUM!"},{"$error":"#NUM!"},2873]
[{"$nulls":4},"","","","","",null,null,"",{"$nulls":6},2884,"",{"$f":"IF(A2886=0,IF(B2886=\"\",IF(B2885=0,\"\",SUM($AG$1:AG2885)-SUM($U$1:U2884)),\"\"),SUM($AG$1:AG2885)-SUM($U$1:U2884))","v":""},{"$nulls":5},0,{"$f":"IF(AJ2885=statistics!$D$3,AB2884+AH2885-AG2885,)","v":0},{"$f":"IF(AND(ROW(AC2885)>=statistics!$C$55,ROW(AC2885)<=statistics!$D$55),AC2884+AH2885-AG2885,)","v":0},{"$f":"IF(AND(statistics!$C$55<=ROW(A2885),ROW(A2885)<=statistics!$D$55)=TRUE,AH2885-AG2885+AA2884-INDEX(AA:AA,statistics!$C$55),\"\")","v":""},null,null,0,0,0,"",{"$f":"IF(statistics!$D$3<>0,IF(AJ2885=statistics!$D$3,AG2885,\"\"),IF(B2885<>\"\",AG2885,\"\"))","v":""},{"$f":"IF(statistics!$D$3<>0,IF(AJ2885=statistics!$D$3,IF(AH2885=0,\"\",AH2885),\"\"),IF(AH2885<>0,AH2885,\"\"))","v":""},{"$f":"IF(statistics!$D$3<>0,IF(AJ2885=statistics!$D$3,IF(A2885=0,\"\",1),\"\"),IF(A2885=0,\"\",1))","v":""},"","",null,"",{"$nulls":6},0,null,null,null,"",null,null,"",null,0,null,{"$error":"#NUM!"},{"$error":"#NUM!"},2884]
[{"$nulls":4},"","","","","",null,null,"",{"$nulls":6},2892,"",{"$f":"IF(A2894=0,IF(B2894=\"\",IF(B2893=0,\"\",SUM($AG$1:AG2893)-SUM($U$1:U2892)),\"\"),SUM($AG$1:AG2893)-SUM($U$1:U2892))","v":""},{"$nulls":5},0,{"$f":"IF(AJ2893=statistics!$D$3,AB2892+AH2893-AG2893,)","v":0},{"$f":"IF(AND(ROW(AC2893)>=statistics!$C$55,ROW(AC2893)<=statistics!$D$55),AC2892+AH2893-AG2893,)","v":0},{"$f":"IF(AND(statistics!$C$55<=ROW(A2893),ROW(A2893)<=statistics!$D$55)=TRUE,AH2893-AG2893+AA2892-INDEX(AA:AA,statistics!$C$55),\"\")","v":""},null,null,0,0,0,"",{"$f":"IF(statistics!$D$3<>0,IF(AJ2893=statistics!$D$3,AG2893,\"\"),IF(B2893<>\"\",AG2893,\"\"))","v":""},{"$f":"IF(statistics!$D$3<>0,IF(AJ2893=statistics!$D$3,IF(AH2893=0,\"\",AH2893),\"\"),IF(AH2893<>0,AH2893,\"\"))","v":""},{"$f":"IF(statistics!$D$3<>0,IF(AJ2893=statistics!$D$3,IF(A2893=0,\"\",1),\"\"),IF(A2893=0,\"\",1))","v":""},"","",null,"",{"$nulls":6},0,null,null,null,"",null,null,"",null,0,null,{"$error":"#NUM!"},{"$error":"#NUM!"},2892]
[{"$nulls":4},"","","","","",null,null,"",{"$nulls":6},2903,"",{"$f":"IF(A2905=0,IF(B2905=\"\",IF(B2904=0,\"\",SUM($AG$1:AG2904)-SUM($U$1:U2903)),\"\"),SUM($AG$1:AG2904)-SUM($U$1:U2903))","v":""},{"$nulls":5},0,{"$f":"IF(AJ2904=statistics!$D$3,AB2903+AH2904-AG2904,)","v":0},{"$f":"IF(AND(ROW(AC2904)>=statistics!$C$55,ROW(AC2904)<=statistics!$D$55),AC2903+AH2904-AG2904,)","v":0},{"$f":"IF(AND(statistics!$C$55<=ROW(A2904),ROW(A2904)<=statistics!$D$55)=TRUE,AH2904-AG2904+AA2903-INDEX(AA:AA,statistics!$C$55),\"\")","v":""},null,null,0,0,0,"",{"$f":"IF(statistics!$D$3<>0,IF(AJ2904=statistics!$D$3,AG2904,\"\"),IF(B2904<>\"\",AG2904,\"\"))","v":""},{"$f":"IF(statistics!$D$3<>0,IF(AJ2904=statistics!$D$3,IF(AH2904=0,\"\",AH2904),\"\"),IF(AH2904<>0,AH2904,\"\"))","v":""},{"$f":"IF(statistics!$D$3<>0,IF(AJ2904=statistics!$D$3,IF(A2904=0,\"\",1),\"\"),IF(A2904=0,\"\",1))","v":""},"","",null,"",{"$nulls":6},0,null,null,null,"",null,null,"",null,0,null,{"$error":"#NUM!"},{"$error":"#NUM!"},2903]
[{"$nulls":4},"","","","","",null,null,"",{"$nulls":6},2914,"",{"$f":"IF(A2916=0,IF(B2916=\"\",IF(B2915=0,\"\",SUM($AG$1:AG2915)-SUM($U$1:U2914)),\"\"),SUM($AG$1:AG2915)-SUM($U$1:U2914))","v":""},{"$nulls":5},0,{"$f":"IF(AJ2915=statistics!$D$3,AB2914+AH2915-AG2915,)","v":0},{"$f":"IF(AND(ROW(AC2915)>=statistics!$C$55,ROW(AC2915)<=statistics!$D$55),AC2914+AH2915-AG2915,)","v":0},{"$f":"IF(AND(statistics!$C$55<=ROW(A2915),ROW(A2915)<=statistics!$D$55)=TRUE,AH2915-AG2915+AA2914-INDEX(AA:AA,statistics!$C$55),\"\")","v":""},null,null,0,0,0,"",{"$f":"IF(statistics!$D$3<>0,IF(AJ2915=statistics!$D$3,AG2915,\"\"),IF(B2915<>\"\",AG2915,\"\"))","v":""},{"$f":"IF(statistics!$D$3<>0,IF(AJ2915=statistics!$D$3,IF(AH2915=0,\"\",AH2915),\"\"),IF(AH2915<>0,AH2915,\"\"))","v":""},{"$f":"IF(statistics!$D$3<>0,IF(AJ2915=statistics!$D$3,IF(A2915=0,\"\",1),\"\"),IF(A2915=0,\"\",1))","v":""},"","",null,"",{"$nulls":6},0,null,null,null,"",null,null,"",null,0,null,{"$error":"#NUM!"},{"$error":"#NUM!"},2914]
[{"$nulls":4},"","","","","",null,null,"",{"$nulls":6},2919,"",{"$f":"IF(A2921=0,IF(B2921=\"\",IF(B2920=0,\"\",SUM($AG$1:AG2920)-SUM($U$1:U2919)),\"\"),SUM($AG$1:AG2920)-SUM($U$1:U2919))","v":""},{"$nulls":5},0,{"$f":"IF(AJ2920=statistics!$D$3,AB2919+AH2920-AG2920,)","v":0},{"$f":"IF(AND(ROW(AC2920)>=statistics!$C$55,ROW(AC2920)<=statistics!$D$55),AC2919+AH2920-AG2920,)","v":0},{"$f":"IF(AND(statistics!$C$55<=ROW(A2920),ROW(A2920)<=statistics!$D$55)=TRUE,AH2920-AG2920+AA2919-INDEX(AA:AA,statistics!$C$55),\"\")","v":""},null,null,0,0,0,"",{"$f":"IF(statistics!$D$3<>0,IF(AJ2920=statistics!$D$3,AG2920,\"\"),IF(B2920<>\"\",AG2920,\"\"))","v":""},{"$f":"IF(statistics!$D$3<>0,IF(AJ2920=statistics!$D$3,IF(AH2920=0,\"\",AH2920),\"\"),IF(AH2920<>0,AH2920,\"\"))","v":""},{"$f":"IF(statistics!$D$3<>0,IF(AJ2920=statistics!$D$3,IF(A2920=0,\"\",1),\"\"),IF(A2920=0,\"\",1))","v":""},"","",null,"",{"$nulls":6},0,null,null,null,"",null,null,"",null,0,null,{"$error":"#NUM!"},{"$error":"#NUM!"},2919]
[{"$nulls":4},"","","","","",null,null,"",{"$nulls":6},2934,"",{"$f":"IF(A2936=0,IF(B2936=\"\",IF(B2935=0,\"\",SUM($AG$1:AG2935)-SUM($U$1:U2934)),\"\"),SUM($AG$1:AG2935)-SUM($U$1:U2934))","v":""},{"$nulls":5},0,{"$f":"IF(AJ2935=statistics!$D$3,AB2934+AH2935-AG2935,)","v":0},{"$f":"IF(AND(ROW(AC2935)>=statistics!$C$55,ROW(AC2935)<=statistics!$D$55),AC2934+AH2935-AG2935,)","v":0},{"$f":"IF(AND(statistics!$C$55<=ROW(A2935),ROW(A2935)<=statistics!$D$55)=TRUE,AH2935-AG2935+AA2934-INDEX(AA:AA,statistics!$C$55),\"\")","v":""},null,null,0,0,0,"",{"$f":"IF(statistics!$D$3<>0,IF(AJ2935=statistics!$D$3,AG2935,\"\"),IF(B2935<>\"\",AG2935,\"\"))","v":""},{"$f":"IF(statistics!$D$3<>0,IF(AJ2935=statistics!$D$3,IF(AH2935=0,\"\",AH2935),\"\"),IF(AH2935<>0,AH2935,\"\"))","v":""},{"$f":"IF(statistics!$D$3<>0,IF(AJ2935=statistics!$D$3,IF(A2935=0,\"\",1),\"\"),IF(A2935=0,\"\",1))","v":""},"","",null,"",{"$nulls":6},0,null,null,null,"",null,null,"",null,0,null,{"$error":"#NUM!"},{"$error":"#NUM!"},2934]
[{"$nulls":4},"","","","","",null,null,"",{"$nulls":6},2935,"",{"$f":"IF(A2937=0,IF(B2937=\"\",IF(B2936=0,\"\",SUM($AG$1:AG2936)-SUM($U$1:U2935)),\"\"),SUM($AG$1:AG2936)-SUM($U$1:U2935))","v":""},{"$nulls":5},0,{"$f":"IF(AJ2936=statistics!$D$3,AB2935+AH2936-AG2936,)","v":0},{"$f":"IF(AND(ROW(AC2936)>=statistics!$C$55,ROW(AC2936)<=statistics!$D$55),AC2935+AH2936-AG2936,)","v":0},{"$f":"IF(AND(statistics!$C$55<=ROW(A2936),ROW(A2936)<=statistics!$D$55)=TRUE,AH2936-AG2936+AA2935-INDEX(AA:AA,statistics!$C$55),\"\")","v":""},null,null,0,0,0,"",{"$f":"IF(statistics!$D$3<>0,IF(AJ2936=statistics!$D$3,AG2936,\"\"),IF(B2936<>\"\",AG2936,\"\"))","v":""},{"$f":"IF(statistics!$D$3<>0,IF(AJ2936=statistics!$D$3,IF(AH2936=0,\"\",AH2936),\"\"),IF(AH2936<>0,AH2936,\"\"))","v":""},{"$f":"IF(statistics!$D$3<>0,IF(AJ2936=statistics!$D$3,IF(A2936=0,\"\",1),\"\"),IF(A2936=0,\"\",1))","v":""},"","",null,"",{"$nulls":6},0,null,null,null,"",null,null,"",null,0,null,{"$error":"#NUM!"},{"$error":"#NUM!"},2935]
[{"$nulls":4},{"$f":"IF(A2951=0,\"\",IF(B2951<>\"\",SUM(AH2951:AH12949)-SUM(AG2951:AG12949)-SUM(E2952:E12949),\"\"))","v":""},"",{"$f":"IF(A2952=0,IF(B2952=\"\",IF(B2951=0,\"\",U2951/S2951),\"\"),U2951/S2951)","v":""},{"$f":"IF(A2952=0,IF(B2952=\"\",IF(B2951=0,\"\",U2951),\"\"),U2951)","v":""},{"$f":"IF(A2952=0,IF(B2952=\"\",IF(B2951=0,\"\",S2951),\"\"),S2951)","v":""},null,null,"",{"$nulls":6},2950,"",{"$f":"IF(A2952=0,IF(B2952=\"\",IF(B2951=0,\"\",SUM($AG$1:AG2951)-SUM($U$1:U2950)),\"\"),SUM($AG$1:AG2951)-SUM($U$1:U2950))","v":""},{"$nulls":5},0,{"$f":"IF(AJ2951=statistics!$D$3,AB2950+AH2951-AG2951,)","v":0},{"$f":"IF(AND(ROW(AC2951)>=statistics!$C$55,ROW(AC2951)<=statistics!$D$55),AC2950+AH2951-AG2951,)","v":0},{"$f":"IF(AND(statistics!$C$55<=ROW(A2951),ROW(A2951)<=statistics!$D$55)=TRUE,AH2951-AG2951+AA2950-INDEX(AA:AA,statistics!$C$55),\"\")","v":""},null,null,{"$f":"IF(J2951=0,B2951+C2951,(B2951+C2951)-(B2951+C2951)*J2951*K2951)","v":0},0,0,{"$f":"IF(A2951<>0,MONTH(A2951),IF(B2951=\"\",\"\",AJ2950))","v":""},{"$f":"IF(statistics!$D$3<>0,IF(AJ2951=statistics!$D$3,AG2951,\"\"),IF(B2951<>\"\",AG2951,\"\"))","v":""},{"$f":"IF(statistics!$D$3<>0,IF(AJ2951=statistics!$D$3,IF(AH2951=0,\"\",AH2951),\"\"),IF(AH2951<>0,AH2951,\"\"))","v":""},{"$f":"IF(statistics!$D$3<>0,IF(AJ2951=statistics!$D$3,IF(A2951=0,\"\",1),\"\"),IF(A2951=0,\"\",1))","v":""},"","",null,{"$f":"IF(B2951=0,\"\",IF(D2951=0,IF(D2950=0,AQ2950+1,1),\"\"))","v":""},{"$nulls":6},0,null,null,null,{"$f":"IF(B2951=$BA$2,ROW(),\"\")","v":""},null,null,{"$f":"IF(B2951=$BA$2,INDEX(D:D,SMALL(BB:BB,CELL(\"содержимое\",BG2951)))-INDEX(B:B,SMALL(BB:BB,CELL(\"содержимое\",BG2951)))-INDEX(C:C,SMALL(BB:BB,CELL(\"содержимое\",BG2951))),\"\")","v":""},null,{"$f":"IF($BA$2=B2951,BG2950+1,BG2950)","v":0},null,{"$error":"#NUM!"},{"$error":"#NUM!"},2950]
[{"$nulls":4},"","","","","",null,null,"",{"$nulls":6},2961,"",{"$f":"IF(A2963=0,IF(B2963=\"\",IF(B2962=0,\"\",SUM($AG$1:AG2962)-SUM($U$1:U2961)),\"\"),SUM($AG$1:AG2962)-SUM($U$1:U2961))","v":""},{"$nulls":5},0,{"$f":"IF(AJ2962=statistics!$D$3,AB2961+AH2962-AG2962,)","v":0},{"$f":"IF(AND(ROW(AC2962)>=statistics!$C$55,ROW(AC2962)<=statistics!$D$55),AC2961+AH2962-AG2962,)","v":0},{"$f":"IF(AND(statistics!$C$55<=ROW(A2962),ROW(A2962)<=statistics!$D$55)=TRUE,AH2962-AG2962+AA2961-INDEX(AA:AA,statistics!$C$55),\"\")","v":""},null,null,0,0,0,"",{"$f":"IF(statistics!$D$3<>0,IF(AJ2962=statistics!$D$3,AG2962,\"\"),IF(B2962<>\"\",AG2962,\"\"))","v":""},{"$f":"IF(statistics!$D$3<>0,IF(AJ2962=statistics!$D$3,IF(AH2962=0,\"\",AH2962),\"\"),IF(AH2962<>0,AH2962,\"\"))","v":""},{"$f":"IF(statistics!$D$3<>0,IF(AJ2962=statistics!$D$3,IF(A2962=0,\"\",1),\"\"),IF(A2962=0,\"\",1))","v":""},"","",null,"",{"$nulls":6},0,null,null,null,"",null,null,"",null,0,null,{"$error":"#NUM!"},{"$error":"#NUM!"},2961]
[{"$nulls":4},"","","","","",null,null,"",{"$nulls":6},2971,"",{"$f":"IF(A2973=0,IF(B2973=\"\",IF(B2972=0,\"\",SUM($AG$1:AG2972)-SUM($U$1:U2971)),\"\"),SUM($AG$1:AG2972)-SUM($U$1:U2971))","v":""},{"$nulls":5},0,{"$f":"IF(AJ2972=statistics!$D$3,AB2971+AH2972-AG2972,)","v":0},{"$f":"IF(AND(ROW(AC2972)>=statistics!$C$55,ROW(AC2972)<=statistics!$D$55),AC2971+AH2972-AG2972,)","v":0},{"$f":"IF(AND(statistics!$C$55<=ROW(A2972),ROW(A2972)<=statistics!$D$55)=TRUE,AH2972-AG2972+AA2971-INDEX(AA:AA,statistics!$C$55),\"\")","v":""},null,null,0,0,0,"",{"$f":"IF(statistics!$D$3<>0,IF(AJ2972=statistics!$D$3,AG2972,\"\"),IF(B2972<>\"\",AG2972,\"\"))","v":""},{"$f":"IF(statistics!$D$3<>0,IF(AJ2972=statistics!$D$3,IF(AH2972=0,\"\",AH2972),\"\"),IF(AH2972<>0,AH2972,\"\"))","v":""},{"$f":"IF(statistics!$D$3<>0,IF(AJ2972=statistics!$D$3,IF(A2972=0,\"\",1),\"\"),IF(A2972=0,\"\",1))","v":""},"","",null,"",{"$nulls":6},0,null,null,null,"",null,null,"",null,0,null,{"$error":"#NUM!"},{"$error":"#NUM!"},2971]
[{"$nulls":4},"","","","","",null,null,"",{"$nulls":6},2980,"",{"$f":"IF(A2982=0,IF(B2982=\"\",IF(B2981=0,\"\",SUM($AG$1:AG2981)-SUM($U$1:U2980)),\"\"),SUM($AG$1:AG2981)-SUM($U$1:U2980))","v":""},{"$nulls":5},0,{"$f":"IF(AJ2981=statistics!$D$3,AB2980+AH2981-AG2981,)","v":0},{"$f":"IF(AND(ROW(AC2981)>=statistics!$C$55,ROW(AC2981)<=statistics!$D$55),AC2980+AH2981-AG2981,)","v":0},{"$f":"IF(AND(statistics!$C$55<=ROW(A2981),ROW(A2981)<=statistics!$D$55)=TRUE,AH2981-AG2981+AA2980-INDEX(AA:AA,statistics!$C$55),\"\")","v":""},null,null,0,0,0,"",{"$f":"IF(statistics!$D$3<>0,IF(AJ2981=statistics!$D$3,AG2981,\"\"),IF(B2981<>\"\",AG2981,\"\"))","v":""},{"$f":"IF(statistics!$D$3<>0,IF(AJ2981=statistics!$D$3,IF(AH2981=0,\"\",AH2981),\"\"),IF(AH2981<>0,AH2981,\"\"))","v":""},{"$f":"IF(statistics!$D$3<>0,IF(AJ2981=statistics!$D$3,IF(A2981=0,\"\",1),\"\"),IF(A2981=0,\"\",1))","v":""},"","",null,"",{"$nulls":6},0,null,null,null,"",null,null,"",null,0,null,{"$error":"#NUM!"},{"$error":"#NUM!"},2980]
[{"$nulls":4},"","","","","",null,null,"",{"$nulls":6},2991,"",{"$f":"IF(A2993=0,IF(B2993=\"\",IF(B2992=0,\"\",SUM($AG$1:AG2992)-SUM($U$1:U2991)),\"\"),SUM($AG$1:AG2992)-SUM($U$1:U2991))","v":""},{"$nulls":5},0,{"$f":"IF(AJ2992=statistics!$D$3,AB2991+AH2992-AG2992,)","v":0},{"$f":"IF(AND(ROW(AC2992)>=statistics!$C$55,ROW(AC2992)<=statistics!$D$55),AC2991+AH2992-AG2992,)","v":0},{"$f":"IF(AND(statistics!$C$55<=ROW(A2992),ROW(A2992)<=statistics!$D$55)=TRUE,AH2992-AG2992+AA2991-INDEX(AA:AA,statistics!$C$55),\"\")","v":""},null,null,0,0,0,"",{"$f":"IF(statistics!$D$3<>0,IF(AJ2992=statistics!$D$3,AG2992,\"\"),IF(B2992<>\"\",AG2992,\"\"))","v":""},{"$f":"IF(statistics!$D$3<>0,IF(AJ2992=statistics!$D$3,IF(AH2992=0,\"\",AH2992),\"\"),IF(AH2992<>0,AH2992,\"\"))","v":""},{"$f":"IF(statistics!$D$3<>0,IF(AJ2992=statistics!$D$3,IF(A2992=0,\"\",1),\"\"),IF(A2992=0,\"\",1))","v":""},"","",null,"",{"$nulls":6},0,null,null,null,"",null,null,"",null,0,null,{"$error":"#NUM!"},{"$error":"#NUM!"},2991]
[{"$nulls":4},"","","","","",null,null,"",{"$nulls":6},2996,"",{"$f":"IF(A2998=0,IF(B2998=\"\",IF(B2997=0,\"\",SUM($AG$1:AG2997)-SUM($U$1:U2996)),\"\"),SUM($AG$1:AG2997)-SUM($U$1:U2996))","v":""},{"$nulls":5},0,{"$f":"IF(AJ2997=statistics!$D$3,AB2996+AH2997-AG2997,)","v":0},{"$f":"IF(AND(ROW(AC2997)>=statistics!$C$55,ROW(AC2997)<=statistics!$D$55),AC2996+AH2997-AG2997,)","v":0},{"$f":"IF(AND(statistics!$C$55<=ROW(A2997),ROW(A2997)<=statistics!$D$55)=TRUE,AH2997-AG2997+AA2996-INDEX(AA:AA,statistics!$C$55),\"\")","v":""},null,null,0,0,0,"",{"$f":"IF(statistics!$D$3<>0,IF(AJ2997=statistics!$D$3,AG2997,\"\"),IF(B2997<>\"\",AG2997,\"\"))","v":""},{"$f":"IF(statistics!$D$3<>0,IF(AJ2997=statistics!$D$3,IF(AH2997=0,\"\",AH2997),\"\"),IF(AH2997<>0,AH2997,\"\"))","v":""},{"$f":"IF(statistics!$D$3<>0,IF(AJ2997=statistics!$D$3,IF(A2997=0,\"\",1),\"\"),IF(A2997=0,\"\",1))","v":""},"","",null,"",{"$nulls":6},0,null,null,null,"",null,null,"",null,0,null,{"$error":"#NUM!"},{"$error":"#NUM!"},2996]
[{"$nulls":4},"","","","","",null,null,"",{"$nulls":6},3007,"",{"$f":"IF(A3009=0,IF(B3009=\"\",IF(B3008=0,\"\",SUM($AG$1:AG3008)-SUM($U$1:U3007)),\"\"),SUM($AG$1:AG3008)-SUM($U$1:U3007))","v":""},{"$nulls":5},0,{"$f":"IF(AJ3008=statistics!$D$3,AB3007+AH3008-AG3008,)","v":0},{"$f":"IF(AND(ROW(AC3008)>=statistics!$C$55,ROW(AC3008)<=statistics!$D$55),AC3007+AH3008-AG3008,)","v":0},{"$f":"IF(AND(statistics!$C$55<=ROW(A3008),ROW(A3008)<=statistics!$D$55)=TRUE,AH3008-AG3008+AA3007-INDEX(AA:AA,statistics!$C$55),\"\")","v":""},null,null,0,0,0,"",{"$f":"IF(statistics!$D$3<>0,IF(AJ3008=statistics!$D$3,AG3008,\"\"),IF(B3008<>\"\",AG3008,\"\"))","v":""},{"$f":"IF(statistics!$D$3<>0,IF(AJ3008=statistics!$D$3,IF(AH3008=0,\"\",AH3008),\"\"),IF(AH3008<>0,AH3008,\"\"))","v":""},{"$f":"IF(statistics!$D$3<>0,IF(AJ3008=statistics!$D$3,IF(A3008=0,\"\",1),\"\"),IF(A3008=0,\"\",1))","v":""},"","",null,"",{"$nulls":6},0,null,null,null,"",null,null,"",null,0,null,{"$error":"#NUM!"},{"$error":"#NUM!"},3007]
[{"$nulls":4},"","","","","",null,null,"",{"$nulls":6},3022,"",{"$f":"IF(A3024=0,IF(B3024=\"\",IF(B3023=0,\"\",SUM($AG$1:AG3023)-SUM($U$1:U3022)),\"\"),SUM($AG$1:AG3023)-SUM($U$1:U3022))","v":""},{"$nulls":5},0,{"$f":"IF(AJ3023=statistics!$D$3,AB3022+AH3023-AG3023,)","v":0},{"$f":"IF(AND(ROW(AC3023)>=statistics!$C$55,ROW(AC3023)<=statistics!$D$55),AC3022+AH3023-AG3023,)","v":0},{"$f":"IF(AND(statistics!$C$55<=ROW(A3023),ROW(A3023)<=statistics!$D$55)=TRUE,AH3023-AG3023+AA3022-INDEX(AA:AA,statistics!$C$55),\"\")","v":""},null,null,0,0,0,"",{"$f":"IF(statistics!$D$3<>0,IF(AJ3023=statistics!$D$3,AG3023,\"\"),IF(B3023<>\"\",AG3023,\"\"))","v":""},{"$f":"IF(statistics!$D$3<>0,IF(AJ3023=statistics!$D$3,IF(AH3023=0,\"\",AH3023),\"\"),IF(AH3023<>0,AH3023,\"\"))","v":""},{"$f":"IF(statistics!$D$3<>0,IF(AJ3023=statistics!$D$3,IF(A3023=0,\"\",1),\"\"),IF(A3023=0,\"\",1))","v":""},"","",null,"",{"$nulls":6},0,null,null,null,"",null,null,"",null,0,null,{"$error":"#NUM!"},{"$error":"#NUM!"},3022]
[{"$nulls":4},"","","","","",null,null,"",{"$nulls":6},3027,"",{"$f":"IF(A3029=0,IF(B3029=\"\",IF(B3028=0,\"\",SUM($AG$1:AG3028)-SUM($U$1:U3027)),\"\"),SUM($AG$1:AG3028)-SUM($U$1:U3027))","v":""},{"$nulls":5},0,{"$f":"IF(AJ3028=statistics!$D$3,AB3027+AH3028-AG3028,)","v":0},{"$f":"IF(AND(ROW(AC3028)>=statistics!$C$55,ROW(AC3028)<=statistics!$D$55),AC3027+AH3028-AG3028,)","v":0},{"$f":"IF(AND(statistics!$C$55<=ROW(A3028),ROW(A3028)<=statistics!$D$55)=TRUE,AH3028-AG3028+AA3027-INDEX(AA:AA,statistics!$C$55),\"\")","v":""},null,null,0,0,0,"",{"$f":"IF(statistics!$D$3<>0,IF(AJ3028=statistics!$D$3,AG3028,\"\"),IF(B3028<>\"\",AG3028,\"\"))","v":""},{"$f":"IF(statistics!$D$3<>0,IF(AJ3028=statistics!$D$3,IF(AH3028=0,\"\",AH3028),\"\"),IF(AH3028<>0,AH3028,\"\"))","v":""},{"$f":"IF(statistics!$D$3<>0,IF(AJ3028=statistics!$D$3,IF(A3028=0,\"\",1),\"\"),IF(A3028=0,\"\",1))","v":""},"","",null,"",{"$nulls":6},0,null,null,null,"",null,null,"",null,0,null,{"$error":"#NUM!"},{"$error":"#NUM!"},3027]
[{"$nulls":4},"","","","","",null,null,"",{"$nulls":6},3037,"",{"$f":"IF(A3039=0,IF(B3039=\"\",IF(B3038=0,\"\",SUM($AG$1:AG3038)-SUM($U$1:U3037)),\"\"),SUM($AG$1:AG3038)-SUM($U$1:U3037))","v":""},{"$nulls":5},0,{"$f":"IF(AJ3038=statistics!$D$3,AB3037+AH3038-AG3038,)","v":0},{"$f":"IF(AND(ROW(AC3038)>=statistics!$C$55,ROW(AC3038)<=statistics!$D$55),AC3037+AH3038-AG3038,)","v":0},{"$f":"IF(AND(statistics!$C$55<=ROW(A3038),ROW(A3038)<=statistics!$D$55)=TRUE,AH3038-AG3038+AA3037-INDEX(AA:AA,statistics!$C$55),\"\")","v":""},null,null,0,0,0,"",{"$f":"IF(statistics!$D$3<>0,IF(AJ3038=statistics!$D$3,AG3038,\"\"),IF(B3038<>\"\",AG3038,\"\"))","v":""},{"$f":"IF(statistics!$D$3<>0,IF(AJ3038=statistics!$D$3,IF(AH3038=0,\"\",AH3038),\"\"),IF(AH3038<>0,AH3038,\"\"))","v":""},{"$f":"IF(statistics!$D$3<>0,IF(AJ3038=statistics!$D$3,IF(A3038=0,\"\",1),\"\"),IF(A3038=0,\"\",1))","v":""},"","",null,"",{"$nulls":6},0,null,null,null,"",null,null,"",null,0,null,{"$error":"#NUM!"},{"$error":"#NUM!"},3037]
[{"$nulls":4},"","","","","",null,null,"",{"$nulls":6},3052,"",{"$f":"IF(A3054=0,IF(B3054=\"\",IF(B3053=0,\"\",SUM($AG$1:AG3053)-SUM($U$1:U3052)),\"\"),SUM($AG$1:AG3053)-SUM($U$1:U3052))","v":""},{"$nulls":5},0,{"$f":"IF(AJ3053=statistics!$D$3,AB3052+AH3053-AG3053,)","v":0},{"$f":"IF(AND(ROW(AC3053)>=statistics!$C$55,ROW(AC3053)<=statistics!$D$55),AC3052+AH3053-AG3053,)","v":0},{"$f":"IF(AND(statistics!$C$55<=ROW(A3053),ROW(A3053)<=statistics!$D$55)=TRUE,AH3053-AG3053+AA3052-INDEX(AA:AA,statistics!$C$55),\"\")","v":""},null,null,0,0,0,"",{"$f":"IF(statistics!$D$3<>0,IF(AJ3053=statistics!$D$3,AG3053,\"\"),IF(B3053<>\"\",AG3053,\"\"))","v":""},{"$f":"IF(statistics!$D$3<>0,IF(AJ3053=statistics!$D$3,IF(AH3053=0,\"\",AH3053),\"\"),IF(AH3053<>0,AH3053,\"\"))","v":""},{"$f":"IF(statistics!$D$3<>0,IF(AJ3053=statistics!$D$3,IF(A3053=0,\"\",1),\"\"),IF(A3053=0,\"\",1))","v":""},"","",null,"",{"$nulls":6},0,null,null,null,"",null,null,"",null,0,null,{"$error":"#NUM!"},{"$error":"#NUM!"},3052]
[{"$nulls":4},"","","","","",null,null,"",{"$nulls":6},3057,"",{"$f":"IF(A3059=0,IF(B3059=\"\",IF(B3058=0,\"\",SUM($AG$1:AG3058)-SUM($U$1:U3057)),\"\"),SUM($AG$1:AG3058)-SUM($U$1:U3057))","v":""},{"$nulls":5},0,{"$f":"IF(AJ3058=statistics!$D$3,AB3057+AH3058-AG3058,)","v":0},{"$f":"IF(AND(ROW(AC3058)>=statistics!$C$55,ROW(AC3058)<=statistics!$D$55),AC3057+AH3058-AG3058,)","v":0},{"$f":"IF(AND(statistics!$C$55<=ROW(A3058),ROW(A3058)<=statistics!$D$55)=TRUE,AH3058-AG3058+AA3057-INDEX(AA:AA,statistics!$C$55),\"\")","v":""},null,null,0,0,0,"",{"$f":"IF(statistics!$D$3<>0,IF(AJ3058=statistics!$D$3,AG3058,\"\"),IF(B3058<>\"\",AG3058,\"\"))","v":""},{"$f":"IF(statistics!$D$3<>0,IF(AJ3058=statistics!$D$3,IF(AH3058=0,\"\",AH3058),\"\"),IF(AH3058<>0,AH3058,\"\"))","v":""},{"$f":"IF(statistics!$D$3<>0,IF(AJ3058=statistics!$D$3,IF(A3058=0,\"\",1),\"\"),IF(A3058=0,\"\",1))","v":""},"","",null,"",{"$nulls":6},0,null,null,null,"",null,null,"",null,0,null,{"$error":"#NUM!"},{"$error":"#NUM!"},3057]
[{"$nulls":4},"","","","","",null,null,"",{"$nulls":6},3068,"",{"$f":"IF(A3070=0,IF(B3070=\"\",IF(B3069=0,\"\",SUM($AG$1:AG3069)-SUM($U$1:U3068)),\"\"),SUM($AG$1:AG3069)-SUM($U$1:U3068))","v":""},{"$nulls":5},0,{"$f":"IF(AJ3069=statistics!$D$3,AB3068+AH3069-AG3069,)","v":0},{"$f":"IF(AND(ROW(AC3069)>=statistics!$C$55,ROW(AC3069)<=statistics!$D$55),AC3068+AH3069-AG3069,)","v":0},{"$f":"IF(AND(statistics!$C$55<=ROW(A3069),ROW(A3069)<=statistics!$D$55)=TRUE,AH3069-AG3069+AA3068-INDEX(AA:AA,statistics!$C$55),\"\")","v":""},null,null,0,0,0,"",{"$f":"IF(statistics!$D$3<>0,IF(AJ3069=statistics!$D$3,AG3069,\"\"),IF(B3069<>\"\",AG3069,\"\"))","v":""},{"$f":"IF(statistics!$D$3<>0,IF(AJ3069=statistics!$D$3,IF(AH3069=0,\"\",AH3069),\"\"),IF(AH3069<>0,AH3069,\"\"))","v":""},{"$f":"IF(statistics!$D$3<>0,IF(AJ3069=statistics!$D$3,IF(A3069=0,\"\",1),\"\"),IF(A3069=0,\"\",1))","v":""},"","",null,"",{"$nulls":6},0,null,null,null,"",null,null,"",null,0,null,{"$error":"#NUM!"},{"$error":"#NUM!"},3068]
[{"$nulls":4},"","","",{"$f":"IF(A3075=0,IF(B3075=\"\",IF(B3074=0,\"\",U3074),\"\"),U3074)","v":""},{"$f":"IF(A3075=0,IF(B3075=\"\",IF(B3074=0,\"\",S3074),\"\"),S3074)","v":""},null,null,"",{"$nulls":6},{"$f":"IF(A3074=0,S3073+1,1)","v":3073},"",{"$f":"IF(A3075=0,IF(B3075=\"\",IF(B3074=0,\"\",SUM($AG$1:AG3074)-SUM($U$1:U3073)),\"\"),SUM($AG$1:AG3074)-SUM($U$1:U3073))","v":""},{"$nulls":5},0,{"$f":"IF(AJ3074=statistics!$D$3,AB3073+AH3074-AG3074,)","v":0},{"$f":"IF(AND(ROW(AC3074)>=statistics!$C$55,ROW(AC3074)<=statistics!$D$55),AC3073+AH3074-AG3074,)","v":0},{"$f":"IF(AND(statistics!$C$55<=ROW(A3074),ROW(A3074)<=statistics!$D$55)=TRUE,AH3074-AG3074+AA3073-INDEX(AA:AA,statistics!$C$55),\"\")","v":""},null,null,0,0,0,"",{"$f":"IF(statistics!$D$3<>0,IF(AJ3074=statistics!$D$3,AG3074,\"\"),IF(B3074<>\"\",AG3074,\"\"))","v":""},{"$f":"IF(statistics!$D$3<>0,IF(AJ3074=statistics!$D$3,IF(AH3074=0,\"\",AH3074),\"\"),IF(AH3074<>0,AH3074,\"\"))","v":""},{"$f":"IF(statistics!$D$3<>0,IF(AJ3074=statistics!$D$3,IF(A3074=0,\"\",1),\"\"),IF(A3074=0,\"\",1))","v":""},"","",null,"",{"$nulls":6},0,null,null,null,"",null,null,"",null,0,null,{"$error":"#NUM!"},{"$error":"#NUM!"},3073]
[{"$nulls":4},"","","","","",null,null,"",{"$nulls":6},3084,"",{"$f":"IF(A3086=0,IF(B3086=\"\",IF(B3085=0,\"\",SUM($AG$1:AG3085)-SUM($U$1:U3084)),\"\"),SUM($AG$1:AG3085)-SUM($U$1:U3084))","v":""},{"$nulls":5},0,{"$f":"IF(AJ3085=statistics!$D$3,AB3084+AH3085-AG3085,)","v":0},{"$f":"IF(AND(ROW(AC3085)>=statistics!$C$55,ROW(AC3085)<=statistics!$D$55),AC3084+AH3085-AG3085,)","v":0},{"$f":"IF(AND(statistics!$C$55<=ROW(A3085),ROW(A3085)<=statistics!$D$55)=TRUE,AH3085-AG3085+AA3084-INDEX(AA:AA,statistics!$C$55),\"\")","v":""},null,null,0,0,0,"",{"$f":"IF(statistics!$D$3<>0,IF(AJ3085=statistics!$D$3,AG3085,\"\"),IF(B3085<>\"\",AG3085,\"\"))","v":""},{"$f":"IF(statistics!$D$3<>0,IF(AJ3085=statistics!$D$3,IF(AH3085=0,\"\",AH3085),\"\"),IF(AH3085<>0,AH3085,\"\"))","v":""},{"$f":"IF(statistics!$D$3<>0,IF(AJ3085=statistics!$D$3,IF(A3085=0,\"\",1),\"\"),IF(A3085=0,\"\",1))","v":""},"","",null,"",{"$nulls":6},0,null,null,null,"",null,null,"",null,0,null,{"$error":"#NUM!"},{"$error":"#NUM!"},3084]
[{"$nulls":4},"","","","","",null,null,"",{"$nulls":6},3099,"",{"$f":"IF(A3101=0,IF(B3101=\"\",IF(B3100=0,\"\",SUM($AG$1:AG3100)-SUM($U$1:U3099)),\"\"),SUM($AG$1:AG3100)-SUM($U$1:U3099))","v":""},{"$nulls":5},0,{"$f":"IF(AJ3100=statistics!$D$3,AB3099+AH3100-AG3100,)","v":0},{"$f":"IF(AND(ROW(AC3100)>=statistics!$C$55,ROW(AC3100)<=statistics!$D$55),AC3099+AH3100-AG3100,)","v":0},{"$f":"IF(AND(statistics!$C$55<=ROW(A3100),ROW(A3100)<=statistics!$D$55)=TRUE,AH3100-AG3100+AA3099-INDEX(AA:AA,statistics!$C$55),\"\")","v":""},null,null,0,0,0,"",{"$f":"IF(statistics!$D$3<>0,IF(AJ3100=statistics!$D$3,AG3100,\"\"),IF(B3100<>\"\",AG3100,\"\"))","v":""},{"$f":"IF(statistics!$D$3<>0,IF(AJ3100=statistics!$D$3,IF(AH3100=0,\"\",AH3100),\"\"),IF(AH3100<>0,AH3100,\"\"))","v":""},{"$f":"IF(statistics!$D$3<>0,IF(AJ3100=statistics!$D$3,IF(A3100=0,\"\",1),\"\"),IF(A3100=0,\"\",1))","v":""},"","",null,"",{"$nulls":6},0,null,null,null,"",null,null,"",null,0,null,{"$error":"#NUM!"},{"$error":"#NUM!"},3099]
[{"$nulls":4},"","","","","",null,null,"",{"$nulls":6},3108,"",{"$f":"IF(A3110=0,IF(B3110=\"\",IF(B3109=0,\"\",SUM($AG$1:AG3109)-SUM($U$1:U3108)),\"\"),SUM($AG$1:AG3109)-SUM($U$1:U3108))","v":""},{"$nulls":5},0,{"$f":"IF(AJ3109=statistics!$D$3,AB3108+AH3109-AG3109,)","v":0},{"$f":"IF(AND(ROW(AC3109)>=statistics!$C$55,ROW(AC3109)<=statistics!$D$55),AC3108+AH3109-AG3109,)","v":0},{"$f":"IF(AND(statistics!$C$55<=ROW(A3109),ROW(A3109)<=statistics!$D$55)=TRUE,AH3109-AG3109+AA3108-INDEX(AA:AA,statistics!$C$55),\"\")","v":""},null,null,0,0,0,"",{"$f":"IF(statistics!$D$3<>0,IF(AJ3109=statistics!$D$3,AG3109,\"\"),IF(B3109<>\"\",AG3109,\"\"))","v":""},{"$f":"IF(statistics!$D$3<>0,IF(AJ3109=statistics!$D$3,IF(AH3109=0,\"\",AH3109),\"\"),IF(AH3109<>0,AH3109,\"\"))","v":""},{"$f":"IF(statistics!$D$3<>0,IF(AJ3109=statistics!$D$3,IF(A3109=0,\"\",1),\"\"),IF(A3109=0,\"\",1))","v":""},"","",null,"",{"$nulls":6},0,null,null,null,"",null,null,"",null,0,null,{"$error":"#NUM!"},{"$error":"#NUM!"},3108]
[{"$nulls":4},"","","","","",null,null,"",{"$nulls":6},3114,"",{"$f":"IF(A3116=0,IF(B3116=\"\",IF(B3115=0,\"\",SUM($AG$1:AG3115)-SUM($U$1:U3114)),\"\"),SUM($AG$1:AG3115)-SUM($U$1:U3114))","v":""},{"$nulls":5},0,{"$f":"IF(AJ3115=statistics!$D$3,AB3114+AH3115-AG3115,)","v":0},{"$f":"IF(AND(ROW(AC3115)>=statistics!$C$55,ROW(AC3115)<=statistics!$D$55),AC3114+AH3115-AG3115,)","v":0},{"$f":"IF(AND(statistics!$C$55<=ROW(A3115),ROW(A3115)<=statistics!$D$55)=TRUE,AH3115-AG3115+AA3114-INDEX(AA:AA,statistics!$C$55),\"\")","v":""},null,null,0,0,0,"",{"$f":"IF(statistics!$D$3<>0,IF(AJ3115=statistics!$D$3,AG3115,\"\"),IF(B3115<>\"\",AG3115,\"\"))","v":""},{"$f":"IF(statistics!$D$3<>0,IF(AJ3115=statistics!$D$3,IF(AH3115=0,\"\",AH3115),\"\"),IF(AH3115<>0,AH3115,\"\"))","v":""},{"$f":"IF(statistics!$D$3<>0,IF(AJ3115=statistics!$D$3,IF(A3115=0,\"\",1),\"\"),IF(A3115=0,\"\",1))","v":""},"","",null,"",{"$nulls":6},0,null,null,null,"",null,null,"",null,0,null,{"$error":"#NUM!"},{"$error":"#NUM!"},3114]
[{"$nulls":4},"","","","","",null,null,"",{"$nulls":6},3129,"",{"$f":"IF(A3131=0,IF(B3131=\"\",IF(B3130=0,\"\",SUM($AG$1:AG3130)-SUM($U$1:U3129)),\"\"),SUM($AG$1:AG3130)-SUM($U$1:U3129))","v":""},{"$nulls":5},0,{"$f":"IF(AJ3130=statistics!$D$3,AB3129+AH3130-AG3130,)","v":0},{"$f":"IF(AND(ROW(AC3130)>=statistics!$C$55,ROW(AC3130)<=statistics!$D$55),AC3129+AH3130-AG3130,)","v":0},{"$f":"IF(AND(statistics!$C$55<=ROW(A3130),ROW(A3130)<=statistics!$D$55)=TRUE,AH3130-AG3130+AA3129-INDEX(AA:AA,statistics!$C$55),\"\")","v":""},null,null,0,0,0,"",{"$f":"IF(statistics!$D$3<>0,IF(AJ3130=statistics!$D$3,AG3130,\"\"),IF(B3130<>\"\",AG3130,\"\"))","v":""},{"$f":"IF(statistics!$D$3<>0,IF(AJ3130=statistics!$D$3,IF(AH3130=0,\"\",AH3130),\"\"),IF(AH3130<>0,AH3130,\"\"))","v":""},{"$f":"IF(statistics!$D$3<>0,IF(AJ3130=statistics!$D$3,IF(A3130=0,\"\",1),\"\"),IF(A3130=0,\"\",1))","v":""},"","",null,"",{"$nulls":6},0,null,null,null,"",null,null,"",null,0,null,{"$error":"#NUM!"},{"$error":"#NUM!"},3129]
[{"$nulls":4},"","","","","",null,null,"",{"$nulls":6},3134,"",{"$f":"IF(A3136=0,IF(B3136=\"\",IF(B3135=0,\"\",SUM($AG$1:AG3135)-SUM($U$1:U3134)),\"\"),SUM($AG$1:AG3135)-SUM($U$1:U3134))","v":""},{"$nulls":5},0,{"$f":"IF(AJ3135=statistics!$D$3,AB3134+AH3135-AG3135,)","v":0},{"$f":"IF(AND(ROW(AC3135)>=statistics!$C$55,ROW(AC3135)<=statistics!$D$55),AC3134+AH3135-AG3135,)","v":0},{"$f":"IF(AND(statistics!$C$55<=ROW(A3135),ROW(A3135)<=statistics!$D$55)=TRUE,AH3135-AG3135+AA3134-INDEX(AA:AA,statistics!$C$55),\"\")","v":""},null,null,0,0,0,"",{"$f":"IF(statistics!$D$3<>0,IF(AJ3135=statistics!$D$3,AG3135,\"\"),IF(B3135<>\"\",AG3135,\"\"))","v":""},{"$f":"IF(statistics!$D$3<>0,IF(AJ3135=statistics!$D$3,IF(AH3135=0,\"\",AH3135),\"\"),IF(AH3135<>0,AH3135,\"\"))","v":""},{"$f":"IF(statistics!$D$3<>0,IF(AJ3135=statistics!$D$3,IF(A3135=0,\"\",1),\"\"),IF(A3135=0,\"\",1))","v":""},"","",null,"",{"$nulls":6},0,null,null,null,"",null,null,"",null,0,null,{"$error":"#NUM!"},{"$error":"#NUM!"},3134]
[{"$nulls":4},"","","","","",null,null,"",{"$nulls":6},3145,"",{"$f":"IF(A3147=0,IF(B3147=\"\",IF(B3146=0,\"\",SUM($AG$1:AG3146)-SUM($U$1:U3145)),\"\"),SUM($AG$1:AG3146)-SUM($U$1:U3145))","v":""},{"$nulls":5},0,{"$f":"IF(AJ3146=statistics!$D$3,AB3145+AH3146-AG3146,)","v":0},{"$f":"IF(AND(ROW(AC3146)>=statistics!$C$55,ROW(AC3146)<=statistics!$D$55),AC3145+AH3146-AG3146,)","v":0},{"$f":"IF(AND(statistics!$C$55<=ROW(A3146),ROW(A3146)<=statistics!$D$55)=TRUE,AH3146-AG3146+AA3145-INDEX(AA:AA,statistics!$C$55),\"\")","v":""},null,null,0,0,0,"",{"$f":"IF(statistics!$D$3<>0,IF(AJ3146=statistics!$D$3,AG3146,\"\"),IF(B3146<>\"\",AG3146,\"\"))","v":""},{"$f":"IF(statistics!$D$3<>0,IF(AJ3146=statistics!$D$3,IF(AH3146=0,\"\",AH3146),\"\"),IF(AH3146<>0,AH3146,\"\"))","v":""},{"$f":"IF(statistics!$D$3<>0,IF(AJ3146=statistics!$D$3,IF(A3146=0,\"\",1),\"\"),IF(A3146=0,\"\",1))","v":""},"","",null,"",{"$nulls":6},0,null,null,null,"",null,null,"",null,0,null,{"$error":"#NUM!"},{"$error":"#NUM!"},3145]
[{"$nulls":4},"","","","","",null,null,"",{"$nulls":6},3160,"",{"$f":"IF(A3162=0,IF(B3162=\"\",IF(B3161=0,\"\",SUM($AG$1:AG3161)-SUM($U$1:U3160)),\"\"),SUM($AG$1:AG3161)-SUM($U$1:U3160))","v":""},{"$nulls":5},0,{"$f":"IF(AJ3161=statistics!$D$3,AB3160+AH3161-AG3161,)","v":0},{"$f":"IF(AND(ROW(AC3161)>=statistics!$C$55,ROW(AC3161)<=statistics!$D$55),AC3160+AH3161-AG3161,)","v":0},{"$f":"IF(AND(statistics!$C$55<=ROW(A3161),ROW(A3161)<=statistics!$D$55)=TRUE,AH3161-AG3161+AA3160-INDEX(AA:AA,statistics!$C$55),\"\")","v":""},null,null,0,0,0,"",{"$f":"IF(statistics!$D$3<>0,IF(AJ3161=statistics!$D$3,AG3161,\"\"),IF(B3161<>\"\",AG3161,\"\"))","v":""},{"$f":"IF(statistics!$D$3<>0,IF(AJ3161=statistics!$D$3,IF(AH3161=0,\"\",AH3161),\"\"),IF(AH3161<>0,AH3161,\"\"))","v":""},{"$f":"IF(statistics!$D$3<>0,IF(AJ3161=statistics!$D$3,IF(A3161=0,\"\",1),\"\"),IF(A3161=0,\"\",1))","v":""},"","",null,"",{"$nulls":6},0,null,null,null,"",null,null,"",null,0,null,{"$error":"#NUM!"},{"$error":"#NUM!"},3160]
[{"$nulls":4},"","","","","",null,null,"",{"$nulls":6},3171,"",{"$f":"IF(A3173=0,IF(B3173=\"\",IF(B3172=0,\"\",SUM($AG$1:AG3172)-SUM($U$1:U3171)),\"\"),SUM($AG$1:AG3172)-SUM($U$1:U3171))","v":""},{"$nulls":5},0,{"$f":"IF(AJ3172=statistics!$D$3,AB3171+AH3172-AG3172,)","v":0},{"$f":"IF(AND(ROW(AC3172)>=statistics!$C$55,ROW(AC3172)<=statistics!$D$55),AC3171+AH3172-AG3172,)","v":0},{"$f":"IF(AND(statistics!$C$55<=ROW(A3172),ROW(A3172)<=statistics!$D$55)=TRUE,AH3172-AG3172+AA3171-INDEX(AA:AA,statistics!$C$55),\"\")","v":""},null,null,0,0,0,"",{"$f":"IF(statistics!$D$3<>0,IF(AJ3172=statistics!$D$3,AG3172,\"\"),IF(B3172<>\"\",AG3172,\"\"))","v":""},{"$f":"IF(statistics!$D$3<>0,IF(AJ3172=statistics!$D$3,IF(AH3172=0,\"\",AH3172),\"\"),IF(AH3172<>0,AH3172,\"\"))","v":""},{"$f":"IF(statistics!$D$3<>0,IF(AJ3172=statistics!$D$3,IF(A3172=0,\"\",1),\"\"),IF(A3172=0,\"\",1))","v":""},"","",null,"",{"$nulls":6},0,null,null,null,"",null,null,"",null,0,null,{"$error":"#NUM!"},{"$error":"#NUM!"},3171]
[{"$nulls":4},"","","","","",null,null,"",{"$nulls":6},3174,"",{"$f":"IF(A3176=0,IF(B3176=\"\",IF(B3175=0,\"\",SUM($AG$1:AG3175)-SUM($U$1:U3174)),\"\"),SUM($AG$1:AG3175)-SUM($U$1:U3174))","v":""},{"$nulls":5},0,{"$f":"IF(AJ3175=statistics!$D$3,AB3174+AH3175-AG3175,)","v":0},{"$f":"IF(AND(ROW(AC3175)>=statistics!$C$55,ROW(AC3175)<=statistics!$D$55),AC3174+AH3175-AG3175,)","v":0},{"$f":"IF(AND(statistics!$C$55<=ROW(A3175),ROW(A3175)<=statistics!$D$55)=TRUE,AH3175-AG3175+AA3174-INDEX(AA:AA,statistics!$C$55),\"\")","v":""},null,null,0,0,0,"",{"$f":"IF(statistics!$D$3<>0,IF(AJ3175=statistics!$D$3,AG3175,\"\"),IF(B3175<>\"\",AG3175,\"\"))","v":""},{"$f":"IF(statistics!$D$3<>0,IF(AJ3175=statistics!$D$3,IF(AH3175=0,\"\",AH3175),\"\"),IF(AH3175<>0,AH3175,\"\"))","v":""},{"$f":"IF(statistics!$D$3<>0,IF(AJ3175=statistics!$D$3,IF(A3175=0,\"\",1),\"\"),IF(A3175=0,\"\",1))","v":""},"","",null,"",{"$nulls":6},0,null,null,null,"",null,null,"",null,0,null,{"$error":"#NUM!"},{"$error":"#NUM!"},3174]
[{"$nulls":4},"","","","","",null,null,"",{"$nulls":6},3190,"",{"$f":"IF(A3192=0,IF(B3192=\"\",IF(B3191=0,\"\",SUM($AG$1:AG3191)-SUM($U$1:U3190)),\"\"),SUM($AG$1:AG3191)-SUM($U$1:U3190))","v":""},{"$nulls":5},0,{"$f":"IF(AJ3191=statistics!$D$3,AB3190+AH3191-AG3191,)","v":0},{"$f":"IF(AND(ROW(AC3191)>=statistics!$C$55,ROW(AC3191)<=statistics!$D$55),AC3190+AH3191-AG3191,)","v":0},{"$f":"IF(AND(statistics!$C$55<=ROW(A3191),ROW(A3191)<=statistics!$D$55)=TRUE,AH3191-AG3191+AA3190-INDEX(AA:AA,statistics!$C$55),\"\")","v":""},null,null,0,0,0,"",{"$f":"IF(statistics!$D$3<>0,IF(AJ3191=statistics!$D$3,AG3191,\"\"),IF(B3191<>\"\",AG3191,\"\"))","v":""},{"$f":"IF(statistics!$D$3<>0,IF(AJ3191=statistics!$D$3,IF(AH3191=0,\"\",AH3191),\"\"),IF(AH3191<>0,AH3191,\"\"))","v":""},{"$f":"IF(statistics!$D$3<>0,IF(AJ3191=statistics!$D$3,IF(A3191=0,\"\",1),\"\"),IF(A3191=0,\"\",1))","v":""},"","",null,"",{"$nulls":6},0,null,null,null,"",null,null,"",null,0,null,{"$error":"#NUM!"},{"$error":"#NUM!"},3190]
[{"$nulls":4},"","","","","",null,null,"",{"$nulls":6},3191,"",{"$f":"IF(A3193=0,IF(B3193=\"\",IF(B3192=0,\"\",SUM($AG$1:AG3192)-SUM($U$1:U3191)),\"\"),SUM($AG$1:AG3192)-SUM($U$1:U3191))","v":""},{"$nulls":5},0,{"$f":"IF(AJ3192=statistics!$D$3,AB3191+AH3192-AG3192,)","v":0},{"$f":"IF(AND(ROW(AC3192)>=statistics!$C$55,ROW(AC3192)<=statistics!$D$55),AC3191+AH3192-AG3192,)","v":0},{"$f":"IF(AND(statistics!$C$55<=ROW(A3192),ROW(A3192)<=statistics!$D$55)=TRUE,AH3192-AG3192+AA3191-INDEX(AA:AA,statistics!$C$55),\"\")","v":""},null,null,0,0,0,"",{"$f":"IF(statistics!$D$3<>0,IF(AJ3192=statistics!$D$3,AG3192,\"\"),IF(B3192<>\"\",AG3192,\"\"))","v":""},{"$f":"IF(statistics!$D$3<>0,IF(AJ3192=statistics!$D$3,IF(AH3192=0,\"\",AH3192),\"\"),IF(AH3192<>0,AH3192,\"\"))","v":""},{"$f":"IF(statistics!$D$3<>0,IF(AJ3192=statistics!$D$3,IF(A3192=0,\"\",1),\"\"),IF(A3192=0,\"\",1))","v":""},"","",null,"",{"$nulls":6},0,null,null,null,"",null,null,"",null,0,null,{"$error":"#NUM!"},{"$error":"#NUM!"},3191]
[{"$nulls":4},"","","","","",null,null,"",{"$nulls":6},3206,"",{"$f":"IF(A3208=0,IF(B3208=\"\",IF(B3207=0,\"\",SUM($AG$1:AG3207)-SUM($U$1:U3206)),\"\"),SUM($AG$1:AG3207)-SUM($U$1:U3206))","v":""},{"$nulls":5},0,{"$f":"IF(AJ3207=statistics!$D$3,AB3206+AH3207-AG3207,)","v":0},{"$f":"IF(AND(ROW(AC3207)>=statistics!$C$55,ROW(AC3207)<=statistics!$D$55),AC3206+AH3207-AG3207,)","v":0},{"$f":"IF(AND(statistics!$C$55<=ROW(A3207),ROW(A3207)<=statistics!$D$55)=TRUE,AH3207-AG3207+AA3206-INDEX(AA:AA,statistics!$C$55),\"\")","v":""},null,null,0,0,0,"",{"$f":"IF(statistics!$D$3<>0,IF(AJ3207=statistics!$D$3,AG3207,\"\"),IF(B3207<>\"\",AG3207,\"\"))","v":""},{"$f":"IF(statistics!$D$3<>0,IF(AJ3207=statistics!$D$3,IF(AH3207=0,\"\",AH3207),\"\"),IF(AH3207<>0,AH3207,\"\"))","v":""},{"$f":"IF(statistics!$D$3<>0,IF(AJ3207=statistics!$D$3,IF(A3207=0,\"\",1),\"\"),IF(A3207=0,\"\",1))","v":""},"","",null,"",{"$nulls":6},0,null,null,null,"",null,null,"",null,0,null,{"$error":"#NUM!"},{"$error":"#NUM!"},3206]
[{"$nulls":4},"","","","","",null,null,"",{"$nulls":6},3217,"",{"$f":"IF(A3219=0,IF(B3219=\"\",IF(B3218=0,\"\",SUM($AG$1:AG3218)-SUM($U$1:U3217)),\"\"),SUM($AG$1:AG3218)-SUM($U$1:U3217))","v":""},{"$nulls":5},0,{"$f":"IF(AJ3218=statistics!$D$3,AB3217+AH3218-AG3218,)","v":0},{"$f":"IF(AND(ROW(AC3218)>=statistics!$C$55,ROW(AC3218)<=statistics!$D$55),AC3217+AH3218-AG3218,)","v":0},{"$f":"IF(AND(statistics!$C$55<=ROW(A3218),ROW(A3218)<=statistics!$D$55)=TRUE,AH3218-AG3218+AA3217-INDEX(AA:AA,statistics!$C$55),\"\")","v":""},null,null,0,0,0,"",{"$f":"IF(statistics!$D$3<>0,IF(AJ3218=statistics!$D$3,AG3218,\"\"),IF(B3218<>\"\",AG3218,\"\"))","v":""},{"$f":"IF(statistics!$D$3<>0,IF(AJ3218=statistics!$D$3,IF(AH3218=0,\"\",AH3218),\"\"),IF(AH3218<>0,AH3218,\"\"))","v":""},{"$f":"IF(statistics!$D$3<>0,IF(AJ3218=statistics!$D$3,IF(A3218=0,\"\",1),\"\"),IF(A3218=0,\"\",1))","v":""},"","",null,"",{"$nulls":6},0,null,null,null,"",null,null,"",null,0,null,{"$error":"#NUM!"},{"$error":"#NUM!"},3217]
[{"$nulls":4},"","","","","",null,null,"",{"$nulls":6},3222,"",{"$f":"IF(A3224=0,IF(B3224=\"\",IF(B3223=0,\"\",SUM($AG$1:AG3223)-SUM($U$1:U3222)),\"\"),SUM($AG$1:AG3223)-SUM($U$1:U3222))","v":""},{"$nulls":5},0,{"$f":"IF(AJ3223=statistics!$D$3,AB3222+AH3223-AG3223,)","v":0},{"$f":"IF(AND(ROW(AC3223)>=statistics!$C$55,ROW(AC3223)<=statistics!$D$55),AC3222+AH3223-AG3223,)","v":0},{"$f":"IF(AND(statistics!$C$55<=ROW(A3223),ROW(A3223)<=statistics!$D$55)=TRUE,AH3223-AG3223+AA3222-INDEX(AA:AA,statistics!$C$55),\"\")","v":""},null,null,0,0,0,"",{"$f":"IF(statistics!$D$3<>0,IF(AJ3223=statistics!$D$3,AG3223,\"\"),IF(B3223<>\"\",AG3223,\"\"))","v":""},{"$f":"IF(statistics!$D$3<>0,IF(AJ3223=statistics!$D$3,IF(AH3223=0,\"\",AH3223),\"\"),IF(AH3223<>0,AH3223,\"\"))","v":""},{"$f":"IF(statistics!$D$3<>0,IF(AJ3223=statistics!$D$3,IF(A3223=0,\"\",1),\"\"),IF(A3223=0,\"\",1))","v":""},"","",null,"",{"$nulls":6},0,null,null,null,"",null,null,"",null,0,null,{"$error":"#NUM!"},{"$error":"#NUM!"},3222]
[{"$nulls":4},"","","","","",null,null,"",{"$nulls":6},3237,"",{"$f":"IF(A3239=0,IF(B3239=\"\",IF(B3238=0,\"\",SUM($AG$1:AG3238)-SUM($U$1:U3237)),\"\"),SUM($AG$1:AG3238)-SUM($U$1:U3237))","v":""},{"$nulls":5},0,{"$f":"IF(AJ3238=statistics!$D$3,AB3237+AH3238-AG3238,)","v":0},{"$f":"IF(AND(ROW(AC3238)>=statistics!$C$55,ROW(AC3238)<=statistics!$D$55),AC3237+AH3238-AG3238,)","v":0},{"$f":"IF(AND(statistics!$C$55<=ROW(A3238),ROW(A3238)<=statistics!$D$55)=TRUE,AH3238-AG3238+AA3237-INDEX(AA:AA,statistics!$C$55),\"\")","v":""},null,null,0,0,0,"",{"$f":"IF(statistics!$D$3<>0,IF(AJ3238=statistics!$D$3,AG3238,\"\"),IF(B3238<>\"\",AG3238,\"\"))","v":""},{"$f":"IF(statistics!$D$3<>0,IF(AJ3238=statistics!$D$3,IF(AH3238=0,\"\",AH3238),\"\"),IF(AH3238<>0,AH3238,\"\"))","v":""},{"$f":"IF(statistics!$D$3<>0,IF(AJ3238=statistics!$D$3,IF(A3238=0,\"\",1),\"\"),IF(A3238=0,\"\",1))","v":""},"","",null,"",{"$nulls":6},0,null,null,null,"",null,null,"",null,0,null,{"$error":"#NUM!"},{"$error":"#NUM!"},3237]
[{"$nulls":4},"","","","","",null,null,"",{"$nulls":6},3249,"",{"$f":"IF(A3251=0,IF(B3251=\"\",IF(B3250=0,\"\",SUM($AG$1:AG3250)-SUM($U$1:U3249)),\"\"),SUM($AG$1:AG3250)-SUM($U$1:U3249))","v":""},{"$nulls":5},0,{"$f":"IF(AJ3250=statistics!$D$3,AB3249+AH3250-AG3250,)","v":0},{"$f":"IF(AND(ROW(AC3250)>=statistics!$C$55,ROW(AC3250)<=statistics!$D$55),AC3249+AH3250-AG3250,)","v":0},{"$f":"IF(AND(statistics!$C$55<=ROW(A3250),ROW(A3250)<=statistics!$D$55)=TRUE,AH3250-AG3250+AA3249-INDEX(AA:AA,statistics!$C$55),\"\")","v":""},null,null,0,0,0,"",{"$f":"IF(statistics!$D$3<>0,IF(AJ3250=statistics!$D$3,AG3250,\"\"),IF(B3250<>\"\",AG3250,\"\"))","v":""},{"$f":"IF(statistics!$D$3<>0,IF(AJ3250=statistics!$D$3,IF(AH3250=0,\"\",AH3250),\"\"),IF(AH3250<>0,AH3250,\"\"))","v":""},{"$f":"IF(statistics!$D$3<>0,IF(AJ3250=statistics!$D$3,IF(A3250=0,\"\",1),\"\"),IF(A3250=0,\"\",1))","v":""},"","",null,"",{"$nulls":6},0,null,null,null,"",null,null,"",null,0,null,{"$error":"#NUM!"},{"$error":"#NUM!"},3249]
[{"$nulls":4},"","","","","",null,null,"",{"$nulls":6},3252,"",{"$f":"IF(A3254=0,IF(B3254=\"\",IF(B3253=0,\"\",SUM($AG$1:AG3253)-SUM($U$1:U3252)),\"\"),SUM($AG$1:AG3253)-SUM($U$1:U3252))","v":""},{"$nulls":5},0,{"$f":"IF(AJ3253=statistics!$D$3,AB3252+AH3253-AG3253,)","v":0},{"$f":"IF(AND(ROW(AC3253)>=statistics!$C$55,ROW(AC3253)<=statistics!$D$55),AC3252+AH3253-AG3253,)","v":0},{"$f":"IF(AND(statistics!$C$55<=ROW(A3253),ROW(A3253)<=statistics!$D$55)=TRUE,AH3253-AG3253+AA3252-INDEX(AA:AA,statistics!$C$55),\"\")","v":""},null,null,0,0,0,"",{"$f":"IF(statistics!$D$3<>0,IF(AJ3253=statistics!$D$3,AG3253,\"\"),IF(B3253<>\"\",AG3253,\"\"))","v":""},{"$f":"IF(statistics!$D$3<>0,IF(AJ3253=statistics!$D$3,IF(AH3253=0,\"\",AH3253),\"\"),IF(AH3253<>0,AH3253,\"\"))","v":""},{"$f":"IF(statistics!$D$3<>0,IF(AJ3253=statistics!$D$3,IF(A3253=0,\"\",1),\"\"),IF(A3253=0,\"\",1))","v":""},"","",null,"",{"$nulls":6},0,null,null,null,"",null,null,"",null,0,null,{"$error":"#NUM!"},{"$error":"#NUM!"},3252]
[{"$nulls":4},"","","","","",null,null,"",{"$nulls":6},3267,"",{"$f":"IF(A3269=0,IF(B3269=\"\",IF(B3268=0,\"\",SUM($AG$1:AG3268)-SUM($U$1:U3267)),\"\"),SUM($AG$1:AG3268)-SUM($U$1:U3267))","v":""},{"$nulls":5},0,{"$f":"IF(AJ3268=statistics!$D$3,AB3267+AH3268-AG3268,)","v":0},{"$f":"IF(AND(ROW(AC3268)>=statistics!$C$55,ROW(AC3268)<=statistics!$D$55),AC3267+AH3268-AG3268,)","v":0},{"$f":"IF(AND(statistics!$C$55<=ROW(A3268),ROW(A3268)<=statistics!$D$55)=TRUE,AH3268-AG3268+AA3267-INDEX(AA:AA,statistics!$C$55),\"\")","v":""},null,null,0,0,0,"",{"$f":"IF(statistics!$D$3<>0,IF(AJ3268=statistics!$D$3,AG3268,\"\"),IF(B3268<>\"\",AG3268,\"\"))","v":""},{"$f":"IF(statistics!$D$3<>0,IF(AJ3268=statistics!$D$3,IF(AH3268=0,\"\",AH3268),\"\"),IF(AH3268<>0,AH3268,\"\"))","v":""},{"$f":"IF(statistics!$D$3<>0,IF(AJ3268=statistics!$D$3,IF(A3268=0,\"\",1),\"\"),IF(A3268=0,\"\",1))","v":""},"",{"$f":"IF(A3268<>0,IF(MONTH(A3268)=AJ3267,\"\",MONTH(A3268)),\"\")","v":""},null,"",{"$nulls":6},0,null,null,null,"",null,null,"",null,0,null,{"$error":"#NUM!"},{"$error":"#NUM!"},3267]
[{"$nulls":4},"","","","","",null,null,"",{"$nulls":6},3278,"",{"$f":"IF(A3280=0,IF(B3280=\"\",IF(B3279=0,\"\",SUM($AG$1:AG3279)-SUM($U$1:U3278)),\"\"),SUM($AG$1:AG3279)-SUM($U$1:U3278))","v":""},{"$nulls":5},0,{"$f":"IF(AJ3279=statistics!$D$3,AB3278+AH3279-AG3279,)","v":0},{"$f":"IF(AND(ROW(AC3279)>=statistics!$C$55,ROW(AC3279)<=statistics!$D$55),AC3278+AH3279-AG3279,)","v":0},{"$f":"IF(AND(statistics!$C$55<=ROW(A3279),ROW(A3279)<=statistics!$D$55)=TRUE,AH3279-AG3279+AA3278-INDEX(AA:AA,statistics!$C$55),\"\")","v":""},null,null,0,0,0,"",{"$f":"IF(statistics!$D$3<>0,IF(AJ3279=statistics!$D$3,AG3279,\"\"),IF(B3279<>\"\",AG3279,\"\"))","v":""},{"$f":"IF(statistics!$D$3<>0,IF(AJ3279=statistics!$D$3,IF(AH3279=0,\"\",AH3279),\"\"),IF(AH3279<>0,AH3279,\"\"))","v":""},{"$f":"IF(statistics!$D$3<>0,IF(AJ3279=statistics!$D$3,IF(A3279=0,\"\",1),\"\"),IF(A3279=0,\"\",1))","v":""},"","",null,"",{"$nulls":6},0,null,null,null,"",null,null,"",null,0,null,{"$error":"#NUM!"},{"$error":"#NUM!"},3278]
[{"$nulls":4},"","","","","",null,null,"",{"$nulls":6},3283,"",{"$f":"IF(A3285=0,IF(B3285=\"\",IF(B3284=0,\"\",SUM($AG$1:AG3284)-SUM($U$1:U3283)),\"\"),SUM($AG$1:AG3284)-SUM($U$1:U3283))","v":""},{"$nulls":5},0,{"$f":"IF(AJ3284=statistics!$D$3,AB3283+AH3284-AG3284,)","v":0},{"$f":"IF(AND(ROW(AC3284)>=statistics!$C$55,ROW(AC3284)<=statistics!$D$55),AC3283+AH3284-AG3284,)","v":0},{"$f":"IF(AND(statistics!$C$55<=ROW(A3284),ROW(A3284)<=statistics!$D$55)=TRUE,AH3284-AG3284+AA3283-INDEX(AA:AA,statistics!$C$55),\"\")","v":""},null,null,0,0,0,"",{"$f":"IF(statistics!$D$3<>0,IF(AJ3284=statistics!$D$3,AG3284,\"\"),IF(B3284<>\"\",AG3284,\"\"))","v":""},{"$f":"IF(statistics!$D$3<>0,IF(AJ3284=statistics!$D$3,IF(AH3284=0,\"\",AH3284),\"\"),IF(AH3284<>0,AH3284,\"\"))","v":""},{"$f":"IF(statistics!$D$3<>0,IF(AJ3284=statistics!$D$3,IF(A3284=0,\"\",1),\"\"),IF(A3284=0,\"\",1))","v":""},"","",null,"",{"$nulls":6},0,null,null,null,"",null,null,"",null,0,null,{"$error":"#NUM!"},{"$error":"#NUM!"},3283]
[{"$nulls":4},"","","","","",null,null,"",{"$nulls":6},3294,"",{"$f":"IF(A3296=0,IF(B3296=\"\",IF(B3295=0,\"\",SUM($AG$1:AG3295)-SUM($U$1:U3294)),\"\"),SUM($AG$1:AG3295)-SUM($U$1:U3294))","v":""},{"$nulls":5},0,{"$f":"IF(AJ3295=statistics!$D$3,AB3294+AH3295-AG3295,)","v":0},{"$f":"IF(AND(ROW(AC3295)>=statistics!$C$55,ROW(AC3295)<=statistics!$D$55),AC3294+AH3295-AG3295,)","v":0},{"$f":"IF(AND(statistics!$C$55<=ROW(A3295),ROW(A3295)<=statistics!$D$55)=TRUE,AH3295-AG3295+AA3294-INDEX(AA:AA,statistics!$C$55),\"\")","v":""},null,null,0,0,0,"",{"$f":"IF(statistics!$D$3<>0,IF(AJ3295=statistics!$D$3,AG3295,\"\"),IF(B3295<>\"\",AG3295,\"\"))","v":""},{"$f":"IF(statistics!$D$3<>0,IF(AJ3295=statistics!$D$3,IF(AH3295=0,\"\",AH3295),\"\"),IF(AH3295<>0,AH3295,\"\"))","v":""},{"$f":"IF(statistics!$D$3<>0,IF(AJ3295=statistics!$D$3,IF(A3295=0,\"\",1),\"\"),IF(A3295=0,\"\",1))","v":""},"","",null,"",{"$nulls":6},0,null,null,null,"",null,null,"",null,0,null,{"$error":"#NUM!"},{"$error":"#NUM!"},3294]
[{"$nulls":4},"","","","","",null,null,"",{"$nulls":6},3309,"",{"$f":"IF(A3311=0,IF(B3311=\"\",IF(B3310=0,\"\",SUM($AG$1:AG3310)-SUM($U$1:U3309)),\"\"),SUM($AG$1:AG3310)-SUM($U$1:U3309))","v":""},{"$nulls":5},0,{"$f":"IF(AJ3310=statistics!$D$3,AB3309+AH3310-AG3310,)","v":0},{"$f":"IF(AND(ROW(AC3310)>=statistics!$C$55,ROW(AC3310)<=statistics!$D$55),AC3309+AH3310-AG3310,)","v":0},{"$f":"IF(AND(statistics!$C$55<=ROW(A3310),ROW(A3310)<=statistics!$D$55)=TRUE,AH3310-AG3310+AA3309-INDEX(AA:AA,statistics!$C$55),\"\")","v":""},null,null,0,0,0,"",{"$f":"IF(statistics!$D$3<>0,IF(AJ3310=statistics!$D$3,AG3310,\"\"),IF(B3310<>\"\",AG3310,\"\"))","v":""},{"$f":"IF(statistics!$D$3<>0,IF(AJ3310=statistics!$D$3,IF(AH3310=0,\"\",AH3310),\"\"),IF(AH3310<>0,AH3310,\"\"))","v":""},{"$f":"IF(statistics!$D$3<>0,IF(AJ3310=statistics!$D$3,IF(A3310=0,\"\",1),\"\"),IF(A3310=0,\"\",1))","v":""},"","",null,"",{"$nulls":6},0,null,null,null,"",null,null,"",null,0,null,{"$error":"#NUM!"},{"$error":"#NUM!"},3309]
[{"$nulls":4},"","","","","",null,null,"",{"$nulls":6},3311,"",{"$f":"IF(A3313=0,IF(B3313=\"\",IF(B3312=0,\"\",SUM($AG$1:AG3312)-SUM($U$1:U3311)),\"\"),SUM($AG$1:AG3312)-SUM($U$1:U3311))","v":""},{"$nulls":5},0,{"$f":"IF(AJ3312=statistics!$D$3,AB3311+AH3312-AG3312,)","v":0},{"$f":"IF(AND(ROW(AC3312)>=statistics!$C$55,ROW(AC3312)<=statistics!$D$55),AC3311+AH3312-AG3312,)","v":0},{"$f":"IF(AND(statistics!$C$55<=ROW(A3312),ROW(A3312)<=statistics!$D$55)=TRUE,AH3312-AG3312+AA3311-INDEX(AA:AA,statistics!$C$55),\"\")","v":""},null,null,0,0,0,"",{"$f":"IF(statistics!$D$3<>0,IF(AJ3312=statistics!$D$3,AG3312,\"\"),IF(B3312<>\"\",AG3312,\"\"))","v":""},{"$f":"IF(statistics!$D$3<>0,IF(AJ3312=statistics!$D$3,IF(AH3312=0,\"\",AH3312),\"\"),IF(AH3312<>0,AH3312,\"\"))","v":""},{"$f":"IF(statistics!$D$3<>0,IF(AJ3312=statistics!$D$3,IF(A3312=0,\"\",1),\"\"),IF(A3312=0,\"\",1))","v":""},"","",null,"",{"$nulls":6},0,null,null,null,"",null,null,"",null,0,null,{"$error":"#NUM!"},{"$error":"#NUM!"},3311]
[{"$nulls":4},"","","","","",null,null,"",{"$nulls":6},3324,"",{"$f":"IF(A3326=0,IF(B3326=\"\",IF(B3325=0,\"\",SUM($AG$1:AG3325)-SUM($U$1:U3324)),\"\"),SUM($AG$1:AG3325)-SUM($U$1:U3324))","v":""},{"$nulls":5},0,{"$f":"IF(AJ3325=statistics!$D$3,AB3324+AH3325-AG3325,)","v":0},{"$f":"IF(AND(ROW(AC3325)>=statistics!$C$55,ROW(AC3325)<=statistics!$D$55),AC3324+AH3325-AG3325,)","v":0},{"$f":"IF(AND(statistics!$C$55<=ROW(A3325),ROW(A3325)<=statistics!$D$55)=TRUE,AH3325-AG3325+AA3324-INDEX(AA:AA,statistics!$C$55),\"\")","v":""},null,null,0,0,0,"",{"$f":"IF(statistics!$D$3<>0,IF(AJ3325=statistics!$D$3,AG3325,\"\"),IF(B3325<>\"\",AG3325,\"\"))","v":""},{"$f":"IF(statistics!$D$3<>0,IF(AJ3325=statistics!$D$3,IF(AH3325=0,\"\",AH3325),\"\"),IF(AH3325<>0,AH3325,\"\"))","v":""},{"$f":"IF(statistics!$D$3<>0,IF(AJ3325=statistics!$D$3,IF(A3325=0,\"\",1),\"\"),IF(A3325=0,\"\",1))","v":""},"","",null,"",{"$nulls":6},0,null,null,null,"",null,null,"",null,0,null,{"$error":"#NUM!"},{"$error":"#NUM!"},3324]
[{"$nulls":4},"","","",{"$f":"IF(A3331=0,IF(B3331=\"\",IF(B3330=0,\"\",U3330),\"\"),U3330)","v":""},{"$f":"IF(A3331=0,IF(B3331=\"\",IF(B3330=0,\"\",S3330),\"\"),S3330)","v":""},null,null,"",{"$nulls":6},{"$f":"IF(A3330=0,S3329+1,1)","v":3329},"",{"$f":"IF(A3331=0,IF(B3331=\"\",IF(B3330=0,\"\",SUM($AG$1:AG3330)-SUM($U$1:U3329)),\"\"),SUM($AG$1:AG3330)-SUM($U$1:U3329))","v":""},{"$nulls":5},0,{"$f":"IF(AJ3330=statistics!$D$3,AB3329+AH3330-AG3330,)","v":0},{"$f":"IF(AND(ROW(AC3330)>=statistics!$C$55,ROW(AC3330)<=statistics!$D$55),AC3329+AH3330-AG3330,)","v":0},{"$f":"IF(AND(statistics!$C$55<=ROW(A3330),ROW(A3330)<=statistics!$D$55)=TRUE,AH3330-AG3330+AA3329-INDEX(AA:AA,statistics!$C$55),\"\")","v":""},null,null,0,0,0,"",{"$f":"IF(statistics!$D$3<>0,IF(AJ3330=statistics!$D$3,AG3330,\"\"),IF(B3330<>\"\",AG3330,\"\"))","v":""},{"$f":"IF(statistics!$D$3<>0,IF(AJ3330=statistics!$D$3,IF(AH3330=0,\"\",AH3330),\"\"),IF(AH3330<>0,AH3330,\"\"))","v":""},{"$f":"IF(statistics!$D$3<>0,IF(AJ3330=statistics!$D$3,IF(A3330=0,\"\",1),\"\"),IF(A3330=0,\"\",1))","v":""},"","",null,"",{"$nulls":6},0,null,null,null,"",null,null,"",null,0,null,{"$error":"#NUM!"},{"$error":"#NUM!"},3329]
[{"$nulls":4},"","","","","",null,null,"",{"$nulls":6},3340,"",{"$f":"IF(A3342=0,IF(B3342=\"\",IF(B3341=0,\"\",SUM($AG$1:AG3341)-SUM($U$1:U3340)),\"\"),SUM($AG$1:AG3341)-SUM($U$1:U3340))","v":""},{"$nulls":5},0,{"$f":"IF(AJ3341=statistics!$D$3,AB3340+AH3341-AG3341,)","v":0},{"$f":"IF(AND(ROW(AC3341)>=statistics!$C$55,ROW(AC3341)<=statistics!$D$55),AC3340+AH3341-AG3341,)","v":0},{"$f":"IF(AND(statistics!$C$55<=ROW(A3341),ROW(A3341)<=statistics!$D$55)=TRUE,AH3341-AG3341+AA3340-INDEX(AA:AA,statistics!$C$55),\"\")","v":""},null,null,0,0,0,"",{"$f":"IF(statistics!$D$3<>0,IF(AJ3341=statistics!$D$3,AG3341,\"\"),IF(B3341<>\"\",AG3341,\"\"))","v":""},{"$f":"IF(statistics!$D$3<>0,IF(AJ3341=statistics!$D$3,IF(AH3341=0,\"\",AH3341),\"\"),IF(AH3341<>0,AH3341,\"\"))","v":""},{"$f":"IF(statistics!$D$3<>0,IF(AJ3341=statistics!$D$3,IF(A3341=0,\"\",1),\"\"),IF(A3341=0,\"\",1))","v":""},"","",null,"",{"$nulls":6},0,null,null,null,"",null,null,"",null,0,null,{"$error":"#NUM!"},{"$error":"#NUM!"},3340]
[{"$nulls":4},"","","","","",null,null,"",{"$nulls":6},3355,"",{"$f":"IF(A3357=0,IF(B3357=\"\",IF(B3356=0,\"\",SUM($AG$1:AG3356)-SUM($U$1:U3355)),\"\"),SUM($AG$1:AG3356)-SUM($U$1:U3355))","v":""},{"$nulls":5},0,{"$f":"IF(AJ3356=statistics!$D$3,AB3355+AH3356-AG3356,)","v":0},{"$f":"IF(AND(ROW(AC3356)>=statistics!$C$55,ROW(AC3356)<=statistics!$D$55),AC3355+AH3356-AG3356,)","v":0},{"$f":"IF(AND(statistics!$C$55<=ROW(A3356),ROW(A3356)<=statistics!$D$55)=TRUE,AH3356-AG3356+AA3355-INDEX(AA:AA,statistics!$C$55),\"\")","v":""},null,null,0,0,0,"",{"$f":"IF(statistics!$D$3<>0,IF(AJ3356=statistics!$D$3,AG3356,\"\"),IF(B3356<>\"\",AG3356,\"\"))","v":""},{"$f":"IF(statistics!$D$3<>0,IF(AJ3356=statistics!$D$3,IF(AH3356=0,\"\",AH3356),\"\"),IF(AH3356<>0,AH3356,\"\"))","v":""},{"$f":"IF(statistics!$D$3<>0,IF(AJ3356=statistics!$D$3,IF(A3356=0,\"\",1),\"\"),IF(A3356=0,\"\",1))","v":""},"","",null,"",{"$nulls":6},0,null,null,null,"",null,null,"",null,0,null,{"$error":"#NUM!"},{"$error":"#NUM!"},3355]
[{"$nulls":4},"","","","","",null,null,"",{"$nulls":6},3360,"",{"$f":"IF(A3362=0,IF(B3362=\"\",IF(B3361=0,\"\",SUM($AG$1:AG3361)-SUM($U$1:U3360)),\"\"),SUM($AG$1:AG3361)-SUM($U$1:U3360))","v":""},{"$nulls":5},0,{"$f":"IF(AJ3361=statistics!$D$3,AB3360+AH3361-AG3361,)","v":0},{"$f":"IF(AND(ROW(AC3361)>=statistics!$C$55,ROW(AC3361)<=statistics!$D$55),AC3360+AH3361-AG3361,)","v":0},{"$f":"IF(AND(statistics!$C$55<=ROW(A3361),ROW(A3361)<=statistics!$D$55)=TRUE,AH3361-AG3361+AA3360-INDEX(AA:AA,statistics!$C$55),\"\")","v":""},null,null,0,0,0,"",{"$f":"IF(statistics!$D$3<>0,IF(AJ3361=statistics!$D$3,AG3361,\"\"),IF(B3361<>\"\",AG3361,\"\"))","v":""},{"$f":"IF(statistics!$D$3<>0,IF(AJ3361=statistics!$D$3,IF(AH3361=0,\"\",AH3361),\"\"),IF(AH3361<>0,AH3361,\"\"))","v":""},{"$f":"IF(statistics!$D$3<>0,IF(AJ3361=statistics!$D$3,IF(A3361=0,\"\",1),\"\"),IF(A3361=0,\"\",1))","v":""},"","",null,"",{"$nulls":6},0,null,null,null,"",null,null,"",null,0,null,{"$error":"#NUM!"},{"$error":"#NUM!"},3360]
[{"$nulls":4},"","","","","",null,null,"",{"$nulls":6},3371,"",{"$f":"IF(A3373=0,IF(B3373=\"\",IF(B3372=0,\"\",SUM($AG$1:AG3372)-SUM($U$1:U3371)),\"\"),SUM($AG$1:AG3372)-SUM($U$1:U3371))","v":""},{"$nulls":5},0,{"$f":"IF(AJ3372=statistics!$D$3,AB3371+AH3372-AG3372,)","v":0},{"$f":"IF(AND(ROW(AC3372)>=statistics!$C$55,ROW(AC3372)<=statistics!$D$55),AC3371+AH3372-AG3372,)","v":0},{"$f":"IF(AND(statistics!$C$55<=ROW(A3372),ROW(A3372)<=statistics!$D$55)=TRUE,AH3372-AG3372+AA3371-INDEX(AA:AA,statistics!$C$55),\"\")","v":""},null,null,0,0,0,"",{"$f":"IF(statistics!$D$3<>0,IF(AJ3372=statistics!$D$3,AG3372,\"\"),IF(B3372<>\"\",AG3372,\"\"))","v":""},{"$f":"IF(statistics!$D$3<>0,IF(AJ3372=statistics!$D$3,IF(AH3372=0,\"\",AH3372),\"\"),IF(AH3372<>0,AH3372,\"\"))","v":""},{"$f":"IF(statistics!$D$3<>0,IF(AJ3372=statistics!$D$3,IF(A3372=0,\"\",1),\"\"),IF(A3372=0,\"\",1))","v":""},"","",null,"",{"$nulls":6},0,null,null,null,"",null,null,"",null,0,null,{"$error":"#NUM!"},{"$error":"#NUM!"},3371]
[{"$nulls":4},"","","","","",null,null,"",{"$nulls":6},3386,"",{"$f":"IF(A3388=0,IF(B3388=\"\",IF(B3387=0,\"\",SUM($AG$1:AG3387)-SUM($U$1:U3386)),\"\"),SUM($AG$1:AG3387)-SUM($U$1:U3386))","v":""},{"$nulls":5},0,{"$f":"IF(AJ3387=statistics!$D$3,AB3386+AH3387-AG3387,)","v":0},{"$f":"IF(AND(ROW(AC3387)>=statistics!$C$55,ROW(AC3387)<=statistics!$D$55),AC3386+AH3387-AG3387,)","v":0},{"$f":"IF(AND(statistics!$C$55<=ROW(A3387),ROW(A3387)<=statistics!$D$55)=TRUE,AH3387-AG3387+AA3386-INDEX(AA:AA,statistics!$C$55),\"\")","v":""},null,null,0,0,0,"",{"$f":"IF(statistics!$D$3<>0,IF(AJ3387=statistics!$D$3,AG3387,\"\"),IF(B3387<>\"\",AG3387,\"\"))","v":""},{"$f":"IF(statistics!$D$3<>0,IF(AJ3387=statistics!$D$3,IF(AH3387=0,\"\",AH3387),\"\"),IF(AH3387<>0,AH3387,\"\"))","v":""},{"$f":"IF(statistics!$D$3<>0,IF(AJ3387=statistics!$D$3,IF(A3387=0,\"\",1),\"\"),IF(A3387=0,\"\",1))","v":""},"","",null,"",{"$nulls":6},0,null,null,null,"",null,null,"",null,0,null,{"$error":"#NUM!"},{"$error":"#NUM!"},3386]
[{"$nulls":4},"","","","","",null,null,"",{"$nulls":6},3390,"",{"$f":"IF(A3392=0,IF(B3392=\"\",IF(B3391=0,\"\",SUM($AG$1:AG3391)-SUM($U$1:U3390)),\"\"),SUM($AG$1:AG3391)-SUM($U$1:U3390))","v":""},{"$nulls":5},0,{"$f":"IF(AJ3391=statistics!$D$3,AB3390+AH3391-AG3391,)","v":0},{"$f":"IF(AND(ROW(AC3391)>=statistics!$C$55,ROW(AC3391)<=statistics!$D$55),AC3390+AH3391-AG3391,)","v":0},{"$f":"IF(AND(statistics!$C$55<=ROW(A3391),ROW(A3391)<=statistics!$D$55)=TRUE,AH3391-AG3391+AA3390-INDEX(AA:AA,statistics!$C$55),\"\")","v":""},null,null,0,0,0,"",{"$f":"IF(statistics!$D$3<>0,IF(AJ3391=statistics!$D$3,AG3391,\"\"),IF(B3391<>\"\",AG3391,\"\"))","v":""},{"$f":"IF(statistics!$D$3<>0,IF(AJ3391=statistics!$D$3,IF(AH3391=0,\"\",AH3391),\"\"),IF(AH3391<>0,AH3391,\"\"))","v":""},{"$f":"IF(statistics!$D$3<>0,IF(AJ3391=statistics!$D$3,IF(A3391=0,\"\",1),\"\"),IF(A3391=0,\"\",1))","v":""},"","",null,"",{"$nulls":6},0,null,null,null,"",null,null,"",null,0,null,{"$error":"#NUM!"},{"$error":"#NUM!"},3390]
[{"$nulls":4},"","","","","",null,null,"",{"$nulls":6},3401,"",{"$f":"IF(A3403=0,IF(B3403=\"\",IF(B3402=0,\"\",SUM($AG$1:AG3402)-SUM($U$1:U3401)),\"\"),SUM($AG$1:AG3402)-SUM($U$1:U3401))","v":""},{"$nulls":5},0,{"$f":"IF(AJ3402=statistics!$D$3,AB3401+AH3402-AG3402,)","v":0},{"$f":"IF(AND(ROW(AC3402)>=statistics!$C$55,ROW(AC3402)<=statistics!$D$55),AC3401+AH3402-AG3402,)","v":0},{"$f":"IF(AND(statistics!$C$55<=ROW(A3402),ROW(A3402)<=statistics!$D$55)=TRUE,AH3402-AG3402+AA3401-INDEX(AA:AA,statistics!$C$55),\"\")","v":""},null,null,0,0,0,"",{"$f":"IF(statistics!$D$3<>0,IF(AJ3402=statistics!$D$3,AG3402,\"\"),IF(B3402<>\"\",AG3402,\"\"))","v":""},{"$f":"IF(statistics!$D$3<>0,IF(AJ3402=statistics!$D$3,IF(AH3402=0,\"\",AH3402),\"\"),IF(AH3402<>0,AH3402,\"\"))","v":""},{"$f":"IF(statistics!$D$3<>0,IF(AJ3402=statistics!$D$3,IF(A3402=0,\"\",1),\"\"),IF(A3402=0,\"\",1))","v":""},"","",null,"",{"$nulls":6},0,null,null,null,"",null,null,"",null,0,null,{"$error":"#NUM!"},{"$error":"#NUM!"},3401]
[{"$nulls":4},"","","","","",null,null,"",{"$nulls":6},3416,"",{"$f":"IF(A3418=0,IF(B3418=\"\",IF(B3417=0,\"\",SUM($AG$1:AG3417)-SUM($U$1:U3416)),\"\"),SUM($AG$1:AG3417)-SUM($U$1:U3416))","v":""},{"$nulls":5},0,{"$f":"IF(AJ3417=statistics!$D$3,AB3416+AH3417-AG3417,)","v":0},{"$f":"IF(AND(ROW(AC3417)>=statistics!$C$55,ROW(AC3417)<=statistics!$D$55),AC3416+AH3417-AG3417,)","v":0},{"$f":"IF(AND(statistics!$C$55<=ROW(A3417),ROW(A3417)<=statistics!$D$55)=TRUE,AH3417-AG3417+AA3416-INDEX(AA:AA,statistics!$C$55),\"\")","v":""},null,null,0,0,0,"",{"$f":"IF(statistics!$D$3<>0,IF(AJ3417=statistics!$D$3,AG3417,\"\"),IF(B3417<>\"\",AG3417,\"\"))","v":""},{"$f":"IF(statistics!$D$3<>0,IF(AJ3417=statistics!$D$3,IF(AH3417=0,\"\",AH3417),\"\"),IF(AH3417<>0,AH3417,\"\"))","v":""},{"$f":"IF(statistics!$D$3<>0,IF(AJ3417=statistics!$D$3,IF(A3417=0,\"\",1),\"\"),IF(A3417=0,\"\",1))","v":""},"","",null,"",{"$nulls":6},0,null,null,null,"",null,null,"",null,0,null,{"$error":"#NUM!"},{"$error":"#NUM!"},3416]
[{"$nulls":4},"","","","","",null,null,"",{"$nulls":6},3427,"",{"$f":"IF(A3429=0,IF(B3429=\"\",IF(B3428=0,\"\",SUM($AG$1:AG3428)-SUM($U$1:U3427)),\"\"),SUM($AG$1:AG3428)-SUM($U$1:U3427))","v":""},{"$nulls":5},0,{"$f":"IF(AJ3428=statistics!$D$3,AB3427+AH3428-AG3428,)","v":0},{"$f":"IF(AND(ROW(AC3428)>=statistics!$C$55,ROW(AC3428)<=statistics!$D$55),AC3427+AH3428-AG3428,)","v":0},{"$f":"IF(AND(statistics!$C$55<=ROW(A3428),ROW(A3428)<=statistics!$D$55)=TRUE,AH3428-AG3428+AA3427-INDEX(AA:AA,statistics!$C$55),\"\")","v":""},null,null,0,0,0,"",{"$f":"IF(statistics!$D$3<>0,IF(AJ3428=statistics!$D$3,AG3428,\"\"),IF(B3428<>\"\",AG3428,\"\"))","v":""},{"$f":"IF(statistics!$D$3<>0,IF(AJ3428=statistics!$D$3,IF(AH3428=0,\"\",AH3428),\"\"),IF(AH3428<>0,AH3428,\"\"))","v":""},{"$f":"IF(statistics!$D$3<>0,IF(AJ3428=statistics!$D$3,IF(A3428=0,\"\",1),\"\"),IF(A3428=0,\"\",1))","v":""},"","",null,"",{"$nulls":6},0,null,null,null,"",null,null,"",null,0,null,{"$error":"#NUM!"},{"$error":"#NUM!"},3427]
[{"$nulls":4},"","","","","",null,null,"",{"$nulls":6},3432,"",{"$f":"IF(A3434=0,IF(B3434=\"\",IF(B3433=0,\"\",SUM($AG$1:AG3433)-SUM($U$1:U3432)),\"\"),SUM($AG$1:AG3433)-SUM($U$1:U3432))","v":""},{"$nulls":5},0,{"$f":"IF(AJ3433=statistics!$D$3,AB3432+AH3433-AG3433,)","v":0},{"$f":"IF(AND(ROW(AC3433)>=statistics!$C$55,ROW(AC3433)<=statistics!$D$55),AC3432+AH3433-AG3433,)","v":0},{"$f":"IF(AND(statistics!$C$55<=ROW(A3433),ROW(A3433)<=statistics!$D$55)=TRUE,AH3433-AG3433+AA3432-INDEX(AA:AA,statistics!$C$55),\"\")","v":""},null,null,0,0,0,"",{"$f":"IF(statistics!$D$3<>0,IF(AJ3433=statistics!$D$3,AG3433,\"\"),IF(B3433<>\"\",AG3433,\"\"))","v":""},{"$f":"IF(statistics!$D$3<>0,IF(AJ3433=statistics!$D$3,IF(AH3433=0,\"\",AH3433),\"\"),IF(AH3433<>0,AH3433,\"\"))","v":""},{"$f":"IF(statistics!$D$3<>0,IF(AJ3433=statistics!$D$3,IF(A3433=0,\"\",1),\"\"),IF(A3433=0,\"\",1))","v":""},"","",null,"",{"$nulls":10},"",null,null,"",null,0,null,{"$error":"#NUM!"},{"$error":"#NUM!"},3432]
[{"$nulls":4},"","","","","",null,null,"",{"$nulls":6},3447,"",{"$f":"IF(A3449=0,IF(B3449=\"\",IF(B3448=0,\"\",SUM($AG$1:AG3448)-SUM($U$1:U3447)),\"\"),SUM($AG$1:AG3448)-SUM($U$1:U3447))","v":""},{"$nulls":5},0,{"$f":"IF(AJ3448=statistics!$D$3,AB3447+AH3448-AG3448,)","v":0},{"$f":"IF(AND(ROW(AC3448)>=statistics!$C$55,ROW(AC3448)<=statistics!$D$55),AC3447+AH3448-AG3448,)","v":0},{"$f":"IF(AND(statistics!$C$55<=ROW(A3448),ROW(A3448)<=statistics!$D$55)=TRUE,AH3448-AG3448+AA3447-INDEX(AA:AA,statistics!$C$55),\"\")","v":""},null,null,0,0,0,"",{"$f":"IF(statistics!$D$3<>0,IF(AJ3448=statistics!$D$3,AG3448,\"\"),IF(B3448<>\"\",AG3448,\"\"))","v":""},{"$f":"IF(statistics!$D$3<>0,IF(AJ3448=statistics!$D$3,IF(AH3448=0,\"\",AH3448),\"\"),IF(AH3448<>0,AH3448,\"\"))","v":""},{"$f":"IF(statistics!$D$3<>0,IF(AJ3448=statistics!$D$3,IF(A3448=0,\"\",1),\"\"),IF(A3448=0,\"\",1))","v":""},"","",null,"",{"$nulls":10},"",null,null,"",null,0,null,{"$error":"#NUM!"},{"$error":"#NUM!"},3447]
[{"$nulls":4},"","","","","",null,null,"",{"$nulls":6},3448,"",{"$f":"IF(A3450=0,IF(B3450=\"\",IF(B3449=0,\"\",SUM($AG$1:AG3449)-SUM($U$1:U3448)),\"\"),SUM($AG$1:AG3449)-SUM($U$1:U3448))","v":""},{"$nulls":5},0,{"$f":"IF(AJ3449=statistics!$D$3,AB3448+AH3449-AG3449,)","v":0},{"$f":"IF(AND(ROW(AC3449)>=statistics!$C$55,ROW(AC3449)<=statistics!$D$55),AC3448+AH3449-AG3449,)","v":0},{"$f":"IF(AND(statistics!$C$55<=ROW(A3449),ROW(A3449)<=statistics!$D$55)=TRUE,AH3449-AG3449+AA3448-INDEX(AA:AA,statistics!$C$55),\"\")","v":""},null,null,0,0,0,"",{"$f":"IF(statistics!$D$3<>0,IF(AJ3449=statistics!$D$3,AG3449,\"\"),IF(B3449<>\"\",AG3449,\"\"))","v":""},{"$f":"IF(statistics!$D$3<>0,IF(AJ3449=statistics!$D$3,IF(AH3449=0,\"\",AH3449),\"\"),IF(AH3449<>0,AH3449,\"\"))","v":""},{"$f":"IF(statistics!$D$3<>0,IF(AJ3449=statistics!$D$3,IF(A3449=0,\"\",1),\"\"),IF(A3449=0,\"\",1))","v":""},"","",null,"",{"$nulls":10},"",null,null,"",null,0,null,{"$error":"#NUM!"},{"$error":"#NUM!"},3448]
[{"$nulls":4},"","","","","",null,null,"",{"$nulls":6},3465,"",{"$f":"IF(A3467=0,IF(B3467=\"\",IF(B3466=0,\"\",SUM($AG$1:AG3466)-SUM($U$1:U3465)),\"\"),SUM($AG$1:AG3466)-SUM($U$1:U3465))","v":""},{"$nulls":5},0,{"$f":"IF(AJ3466=statistics!$D$3,AB3465+AH3466-AG3466,)","v":0},{"$f":"IF(AND(ROW(AC3466)>=statistics!$C$55,ROW(AC3466)<=statistics!$D$55),AC3465+AH3466-AG3466,)","v":0},{"$f":"IF(AND(statistics!$C$55<=ROW(A3466),ROW(A3466)<=statistics!$D$55)=TRUE,AH3466-AG3466+AA3465-INDEX(AA:AA,statistics!$C$55),\"\")","v":""},null,null,0,0,0,"",{"$f":"IF(statistics!$D$3<>0,IF(AJ3466=statistics!$D$3,AG3466,\"\"),IF(B3466<>\"\",AG3466,\"\"))","v":""},{"$f":"IF(statistics!$D$3<>0,IF(AJ3466=statistics!$D$3,IF(AH3466=0,\"\",AH3466),\"\"),IF(AH3466<>0,AH3466,\"\"))","v":""},{"$f":"IF(statistics!$D$3<>0,IF(AJ3466=statistics!$D$3,IF(A3466=0,\"\",1),\"\"),IF(A3466=0,\"\",1))","v":""},"","",null,"",{"$nulls":10},"",null,null,"",null,0,null,{"$error":"#NUM!"},{"$error":"#NUM!"},3465]
[{"$nulls":4},{"$f":"IF(A3468=0,\"\",SUM(AH3468:AH13466)-SUM(AG3468:AG13466)-SUM(E3469:E13466))","v":""},"","","","",null,null,"",{"$nulls":6},3467,"",{"$f":"IF(A3469=0,IF(B3469=\"\",IF(B3468=0,\"\",SUM($AG$1:AG3468)-SUM($U$1:U3467)),\"\"),SUM($AG$1:AG3468)-SUM($U$1:U3467))","v":""},{"$nulls":5},0,{"$f":"IF(AJ3468=statistics!$D$3,AB3467+AH3468-AG3468,)","v":0},{"$f":"IF(AND(ROW(AC3468)>=statistics!$C$55,ROW(AC3468)<=statistics!$D$55),AC3467+AH3468-AG3468,)","v":0},{"$f":"IF(AND(statistics!$C$55<=ROW(A3468),ROW(A3468)<=statistics!$D$55)=TRUE,AH3468-AG3468+AA3467-INDEX(AA:AA,statistics!$C$55),\"\")","v":""},null,null,0,0,0,"",{"$f":"IF(statistics!$D$3<>0,IF(AJ3468=statistics!$D$3,AG3468,\"\"),IF(B3468<>\"\",AG3468,\"\"))","v":""},{"$f":"IF(statistics!$D$3<>0,IF(AJ3468=statistics!$D$3,IF(AH3468=0,\"\",AH3468),\"\"),IF(AH3468<>0,AH3468,\"\"))","v":""},{"$f":"IF(statistics!$D$3<>0,IF(AJ3468=statistics!$D$3,IF(A3468=0,\"\",1),\"\"),IF(A3468=0,\"\",1))","v":""},"","",null,"",{"$nulls":10},"",null,null,"",null,0,null,{"$error":"#NUM!"},{"$error":"#NUM!"},3467]
[{"$nulls":4},"","","","","",null,null,"",{"$nulls":6},3478,"",{"$f":"IF(A3480=0,IF(B3480=\"\",IF(B3479=0,\"\",SUM($AG$1:AG3479)-SUM($U$1:U3478)),\"\"),SUM($AG$1:AG3479)-SUM($U$1:U3478))","v":""},{"$nulls":5},0,{"$f":"IF(AJ3479=statistics!$D$3,AB3478+AH3479-AG3479,)","v":0},{"$f":"IF(AND(ROW(AC3479)>=statistics!$C$55,ROW(AC3479)<=statistics!$D$55),AC3478+AH3479-AG3479,)","v":0},{"$f":"IF(AND(statistics!$C$55<=ROW(A3479),ROW(A3479)<=statistics!$D$55)=TRUE,AH3479-AG3479+AA3478-INDEX(AA:AA,statistics!$C$55),\"\")","v":""},null,null,0,0,0,"",{"$f":"IF(statistics!$D$3<>0,IF(AJ3479=statistics!$D$3,AG3479,\"\"),IF(B3479<>\"\",AG3479,\"\"))","v":""},{"$f":"IF(statistics!$D$3<>0,IF(AJ3479=statistics!$D$3,IF(AH3479=0,\"\",AH3479),\"\"),IF(AH3479<>0,AH3479,\"\"))","v":""},{"$f":"IF(statistics!$D$3<>0,IF(AJ3479=statistics!$D$3,IF(A3479=0,\"\",1),\"\"),IF(A3479=0,\"\",1))","v":""},"","",null,"",{"$nulls":10},"",null,null,"",null,0,null,{"$error":"#NUM!"},{"$error":"#NUM!"},3478]
[{"$nulls":4},"","","","","",null,null,"",{"$nulls":6},3493,"",{"$f":"IF(A3495=0,IF(B3495=\"\",IF(B3494=0,\"\",SUM($AG$1:AG3494)-SUM($U$1:U3493)),\"\"),SUM($AG$1:AG3494)-SUM($U$1:U3493))","v":""},{"$nulls":5},0,{"$f":"IF(AJ3494=statistics!$D$3,AB3493+AH3494-AG3494,)","v":0},{"$f":"IF(AND(ROW(AC3494)>=statistics!$C$55,ROW(AC3494)<=statistics!$D$55),AC3493+AH3494-AG3494,)","v":0},{"$f":"IF(AND(statistics!$C$55<=ROW(A3494),ROW(A3494)<=statistics!$D$55)=TRUE,AH3494-AG3494+AA3493-INDEX(AA:AA,statistics!$C$55),\"\")","v":""},null,null,0,0,0,"",{"$f":"IF(statistics!$D$3<>0,IF(AJ3494=statistics!$D$3,AG3494,\"\"),IF(B3494<>\"\",AG3494,\"\"))","v":""},{"$f":"IF(statistics!$D$3<>0,IF(AJ3494=statistics!$D$3,IF(AH3494=0,\"\",AH3494),\"\"),IF(AH3494<>0,AH3494,\"\"))","v":""},{"$f":"IF(statistics!$D$3<>0,IF(AJ3494=statistics!$D$3,IF(A3494=0,\"\",1),\"\"),IF(A3494=0,\"\",1))","v":""},"","",null,"",{"$nulls":10},"",null,null,"",null,0,null,{"$error":"#NUM!"},{"$error":"#NUM!"},3493]
[{"$nulls":4},"","","","","",null,null,"",{"$nulls":6},3504,"",{"$f":"IF(A3506=0,IF(B3506=\"\",IF(B3505=0,\"\",SUM($AG$1:AG3505)-SUM($U$1:U3504)),\"\"),SUM($AG$1:AG3505)-SUM($U$1:U3504))","v":""},{"$nulls":5},0,{"$f":"IF(AJ3505=statistics!$D$3,AB3504+AH3505-AG3505,)","v":0},{"$f":"IF(AND(ROW(AC3505)>=statistics!$C$55,ROW(AC3505)<=statistics!$D$55),AC3504+AH3505-AG3505,)","v":0},{"$f":"IF(AND(statistics!$C$55<=ROW(A3505),ROW(A3505)<=statistics!$D$55)=TRUE,AH3505-AG3505+AA3504-INDEX(AA:AA,statistics!$C$55),\"\")","v":""},null,null,0,0,0,"",{"$f":"IF(statistics!$D$3<>0,IF(AJ3505=statistics!$D$3,AG3505,\"\"),IF(B3505<>\"\",AG3505,\"\"))","v":""},{"$f":"IF(statistics!$D$3<>0,IF(AJ3505=statistics!$D$3,IF(AH3505=0,\"\",AH3505),\"\"),IF(AH3505<>0,AH3505,\"\"))","v":""},{"$f":"IF(statistics!$D$3<>0,IF(AJ3505=statistics!$D$3,IF(A3505=0,\"\",1),\"\"),IF(A3505=0,\"\",1))","v":""},"","",null,"",{"$nulls":10},"",null,null,"",null,0,null,{"$error":"#NUM!"},{"$error":"#NUM!"},3504]
[{"$nulls":4},"","","","","",null,null,"",{"$nulls":6},3509,"",{"$f":"IF(A3511=0,IF(B3511=\"\",IF(B3510=0,\"\",SUM($AG$1:AG3510)-SUM($U$1:U3509)),\"\"),SUM($AG$1:AG3510)-SUM($U$1:U3509))","v":""},{"$nulls":5},0,{"$f":"IF(AJ3510=statistics!$D$3,AB3509+AH3510-AG3510,)","v":0},{"$f":"IF(AND(ROW(AC3510)>=statistics!$C$55,ROW(AC3510)<=statistics!$D$55),AC3509+AH3510-AG3510,)","v":0},{"$f":"IF(AND(statistics!$C$55<=ROW(A3510),ROW(A3510)<=statistics!$D$55)=TRUE,AH3510-AG3510+AA3509-INDEX(AA:AA,statistics!$C$55),\"\")","v":""},null,null,0,0,0,"",{"$f":"IF(statistics!$D$3<>0,IF(AJ3510=statistics!$D$3,AG3510,\"\"),IF(B3510<>\"\",AG3510,\"\"))","v":""},{"$f":"IF(statistics!$D$3<>0,IF(AJ3510=statistics!$D$3,IF(AH3510=0,\"\",AH3510),\"\"),IF(AH3510<>0,AH3510,\"\"))","v":""},{"$f":"IF(statistics!$D$3<>0,IF(AJ3510=statistics!$D$3,IF(A3510=0,\"\",1),\"\"),IF(A3510=0,\"\",1))","v":""},"","",null,"",{"$nulls":10},"",null,null,"",null,0,null,{"$error":"#NUM!"},{"$error":"#NUM!"},3509]
[{"$nulls":4},"","","","","",null,null,"",{"$nulls":6},3524,"",{"$f":"IF(A3526=0,IF(B3526=\"\",IF(B3525=0,\"\",SUM($AG$1:AG3525)-SUM($U$1:U3524)),\"\"),SUM($AG$1:AG3525)-SUM($U$1:U3524))","v":""},{"$nulls":5},0,{"$f":"IF(AJ3525=statistics!$D$3,AB3524+AH3525-AG3525,)","v":0},{"$f":"IF(AND(ROW(AC3525)>=statistics!$C$55,ROW(AC3525)<=statistics!$D$55),AC3524+AH3525-AG3525,)","v":0},{"$f":"IF(AND(statistics!$C$55<=ROW(A3525),ROW(A3525)<=statistics!$D$55)=TRUE,AH3525-AG3525+AA3524-INDEX(AA:AA,statistics!$C$55),\"\")","v":""},null,null,0,0,0,"",{"$f":"IF(statistics!$D$3<>0,IF(AJ3525=statistics!$D$3,AG3525,\"\"),IF(B3525<>\"\",AG3525,\"\"))","v":""},{"$f":"IF(statistics!$D$3<>0,IF(AJ3525=statistics!$D$3,IF(AH3525=0,\"\",AH3525),\"\"),IF(AH3525<>0,AH3525,\"\"))","v":""},{"$f":"IF(statistics!$D$3<>0,IF(AJ3525=statistics!$D$3,IF(A3525=0,\"\",1),\"\"),IF(A3525=0,\"\",1))","v":""},"","",null,"",{"$nulls":10},"",null,null,"",null,0,null,{"$error":"#NUM!"},{"$error":"#NUM!"},3524]
[{"$nulls":4},{"$f":"IF(A3532=0,\"\",SUM(AH3532:AH13530)-SUM(AG3532:AG13530)-SUM(E3533:E13530))","v":""},"","","","",null,null,"",{"$nulls":6},3531,"",{"$f":"IF(A3533=0,IF(B3533=\"\",IF(B3532=0,\"\",SUM($AG$1:AG3532)-SUM($U$1:U3531)),\"\"),SUM($AG$1:AG3532)-SUM($U$1:U3531))","v":""},{"$nulls":5},0,{"$f":"IF(AJ3532=statistics!$D$3,AB3531+AH3532-AG3532,)","v":0},{"$f":"IF(AND(ROW(AC3532)>=statistics!$C$55,ROW(AC3532)<=statistics!$D$55),AC3531+AH3532-AG3532,)","v":0},{"$f":"IF(AND(statistics!$C$55<=ROW(A3532),ROW(A3532)<=statistics!$D$55)=TRUE,AH3532-AG3532+AA3531-INDEX(AA:AA,statistics!$C$55),\"\")","v":""},null,null,0,0,0,"",{"$f":"IF(statistics!$D$3<>0,IF(AJ3532=statistics!$D$3,AG3532,\"\"),IF(B3532<>\"\",AG3532,\"\"))","v":""},{"$f":"IF(statistics!$D$3<>0,IF(AJ3532=statistics!$D$3,IF(AH3532=0,\"\",AH3532),\"\"),IF(AH3532<>0,AH3532,\"\"))","v":""},{"$f":"IF(statistics!$D$3<>0,IF(AJ3532=statistics!$D$3,IF(A3532=0,\"\",1),\"\"),IF(A3532=0,\"\",1))","v":""},"","",null,"",{"$nulls":10},"",null,null,"",null,0,null,{"$error":"#NUM!"},{"$error":"#NUM!"},3531]
[{"$nulls":4},"","","","","",null,null,"",{"$nulls":6},3539,"",{"$f":"IF(A3541=0,IF(B3541=\"\",IF(B3540=0,\"\",SUM($AG$1:AG3540)-SUM($U$1:U3539)),\"\"),SUM($AG$1:AG3540)-SUM($U$1:U3539))","v":""},{"$nulls":5},0,{"$f":"IF(AJ3540=statistics!$D$3,AB3539+AH3540-AG3540,)","v":0},{"$f":"IF(AND(ROW(AC3540)>=statistics!$C$55,ROW(AC3540)<=statistics!$D$55),AC3539+AH3540-AG3540,)","v":0},{"$f":"IF(AND(statistics!$C$55<=ROW(A3540),ROW(A3540)<=statistics!$D$55)=TRUE,AH3540-AG3540+AA3539-INDEX(AA:AA,statistics!$C$55),\"\")","v":""},null,null,0,0,0,"",{"$f":"IF(statistics!$D$3<>0,IF(AJ3540=statistics!$D$3,AG3540,\"\"),IF(B3540<>\"\",AG3540,\"\"))","v":""},{"$f":"IF(statistics!$D$3<>0,IF(AJ3540=statistics!$D$3,IF(AH3540=0,\"\",AH3540),\"\"),IF(AH3540<>0,AH3540,\"\"))","v":""},{"$f":"IF(statistics!$D$3<>0,IF(AJ3540=statistics!$D$3,IF(A3540=0,\"\",1),\"\"),IF(A3540=0,\"\",1))","v":""},"","",null,"",{"$nulls":10},"",null,null,"",null,0,null,{"$error":"#NUM!"},{"$error":"#NUM!"},3539]
[{"$nulls":4},"","","","","",null,null,"",{"$nulls":6},3550,"",{"$f":"IF(A3552=0,IF(B3552=\"\",IF(B3551=0,\"\",SUM($AG$1:AG3551)-SUM($U$1:U3550)),\"\"),SUM($AG$1:AG3551)-SUM($U$1:U3550))","v":""},{"$nulls":5},0,{"$f":"IF(AJ3551=statistics!$D$3,AB3550+AH3551-AG3551,)","v":0},{"$f":"IF(AND(ROW(AC3551)>=statistics!$C$55,ROW(AC3551)<=statistics!$D$55),AC3550+AH3551-AG3551,)","v":0},{"$f":"IF(AND(statistics!$C$55<=ROW(A3551),ROW(A3551)<=statistics!$D$55)=TRUE,AH3551-AG3551+AA3550-INDEX(AA:AA,statistics!$C$55),\"\")","v":""},null,null,0,0,0,"",{"$f":"IF(statistics!$D$3<>0,IF(AJ3551=statistics!$D$3,AG3551,\"\"),IF(B3551<>\"\",AG3551,\"\"))","v":""},{"$f":"IF(statistics!$D$3<>0,IF(AJ3551=statistics!$D$3,IF(AH3551=0,\"\",AH3551),\"\"),IF(AH3551<>0,AH3551,\"\"))","v":""},{"$f":"IF(statistics!$D$3<>0,IF(AJ3551=statistics!$D$3,IF(A3551=0,\"\",1),\"\"),IF(A3551=0,\"\",1))","v":""},"","",null,"",{"$nulls":10},"",null,null,"",null,0,null,{"$error":"#NUM!"},{"$error":"#NUM!"},3550]
[{"$nulls":4},"","","","","",null,null,"",{"$nulls":6},3565,"",{"$f":"IF(A3567=0,IF(B3567=\"\",IF(B3566=0,\"\",SUM($AG$1:AG3566)-SUM($U$1:U3565)),\"\"),SUM($AG$1:AG3566)-SUM($U$1:U3565))","v":""},{"$nulls":5},0,{"$f":"IF(AJ3566=statistics!$D$3,AB3565+AH3566-AG3566,)","v":0},{"$f":"IF(AND(ROW(AC3566)>=statistics!$C$55,ROW(AC3566)<=statistics!$D$55),AC3565+AH3566-AG3566,)","v":0},{"$f":"IF(AND(statistics!$C$55<=ROW(A3566),ROW(A3566)<=statistics!$D$55)=TRUE,AH3566-AG3566+AA3565-INDEX(AA:AA,statistics!$C$55),\"\")","v":""},null,null,0,0,0,"",{"$f":"IF(statistics!$D$3<>0,IF(AJ3566=statistics!$D$3,AG3566,\"\"),IF(B3566<>\"\",AG3566,\"\"))","v":""},{"$f":"IF(statistics!$D$3<>0,IF(AJ3566=statistics!$D$3,IF(AH3566=0,\"\",AH3566),\"\"),IF(AH3566<>0,AH3566,\"\"))","v":""},{"$f":"IF(statistics!$D$3<>0,IF(AJ3566=statistics!$D$3,IF(A3566=0,\"\",1),\"\"),IF(A3566=0,\"\",1))","v":""},"","",null,"",{"$nulls":10},"",null,null,"",null,0,null,{"$error":"#NUM!"},{"$error":"#NUM!"},3565]
[{"$nulls":4},"","","","","",null,null,"",{"$nulls":6},3570,"",{"$f":"IF(A3572=0,IF(B3572=\"\",IF(B3571=0,\"\",SUM($AG$1:AG3571)-SUM($U$1:U3570)),\"\"),SUM($AG$1:AG3571)-SUM($U$1:U3570))","v":""},{"$nulls":5},0,{"$f":"IF(AJ3571=statistics!$D$3,AB3570+AH3571-AG3571,)","v":0},{"$f":"IF(AND(ROW(AC3571)>=statistics!$C$55,ROW(AC3571)<=statistics!$D$55),AC3570+AH3571-AG3571,)","v":0},{"$f":"IF(AND(statistics!$C$55<=ROW(A3571),ROW(A3571)<=statistics!$D$55)=TRUE,AH3571-AG3571+AA3570-INDEX(AA:AA,statistics!$C$55),\"\")","v":""},null,null,0,0,0,"",{"$f":"IF(statistics!$D$3<>0,IF(AJ3571=statistics!$D$3,AG3571,\"\"),IF(B3571<>\"\",AG3571,\"\"))","v":""},{"$f":"IF(statistics!$D$3<>0,IF(AJ3571=statistics!$D$3,IF(AH3571=0,\"\",AH3571),\"\"),IF(AH3571<>0,AH3571,\"\"))","v":""},{"$f":"IF(statistics!$D$3<>0,IF(AJ3571=statistics!$D$3,IF(A3571=0,\"\",1),\"\"),IF(A3571=0,\"\",1))","v":""},"","",null,"",{"$nulls":10},"",null,null,"",null,0,null,{"$error":"#NUM!"},{"$error":"#NUM!"},3570]
[{"$nulls":4},"","","","","",null,null,"",{"$nulls":6},3581,"",{"$f":"IF(A3583=0,IF(B3583=\"\",IF(B3582=0,\"\",SUM($AG$1:AG3582)-SUM($U$1:U3581)),\"\"),SUM($AG$1:AG3582)-SUM($U$1:U3581))","v":""},{"$nulls":5},0,{"$f":"IF(AJ3582=statistics!$D$3,AB3581+AH3582-AG3582,)","v":0},{"$f":"IF(AND(ROW(AC3582)>=statistics!$C$55,ROW(AC3582)<=statistics!$D$55),AC3581+AH3582-AG3582,)","v":0},{"$f":"IF(AND(statistics!$C$55<=ROW(A3582),ROW(A3582)<=statistics!$D$55)=TRUE,AH3582-AG3582+AA3581-INDEX(AA:AA,statistics!$C$55),\"\")","v":""},null,null,0,0,0,"",{"$f":"IF(statistics!$D$3<>0,IF(AJ3582=statistics!$D$3,AG3582,\"\"),IF(B3582<>\"\",AG3582,\"\"))","v":""},{"$f":"IF(statistics!$D$3<>0,IF(AJ3582=statistics!$D$3,IF(AH3582=0,\"\",AH3582),\"\"),IF(AH3582<>0,AH3582,\"\"))","v":""},{"$f":"IF(statistics!$D$3<>0,IF(AJ3582=statistics!$D$3,IF(A3582=0,\"\",1),\"\"),IF(A3582=0,\"\",1))","v":""},"","",null,"",{"$nulls":10},"",null,null,"",null,0,null,{"$error":"#NUM!"},{"$error":"#NUM!"},3581]
[{"$nulls":4},"","","","","",null,null,{"$f":"IF(A3587=0,\"\",SUM(AI3587:AI13585)-SUM(L3588:L13585))","v":""},{"$nulls":6},3586,{"$f":"IF(A3587=0,\"\",SUM(AG3587:AG13585)-SUM(T3588:T13585))","v":""},{"$f":"IF(A3588=0,IF(B3588=\"\",IF(B3587=0,\"\",SUM($AG$1:AG3587)-SUM($U$1:U3586)),\"\"),SUM($AG$1:AG3587)-SUM($U$1:U3586))","v":""},{"$nulls":5},{"$f":"AA3586+AH3587-AG3587","v":0},{"$f":"IF(AJ3587=statistics!$D$3,AB3586+AH3587-AG3587,)","v":0},{"$f":"IF(AND(ROW(AC3587)>=statistics!$C$55,ROW(AC3587)<=statistics!$D$55),AC3586+AH3587-AG3587,)","v":0},{"$f":"IF(AND(statistics!$C$55<=ROW(A3587),ROW(A3587)<=statistics!$D$55)=TRUE,AH3587-AG3587+AA3586-INDEX(AA:AA,statistics!$C$55),\"\")","v":""},null,null,0,0,0,"",{"$f":"IF(statistics!$D$3<>0,IF(AJ3587=statistics!$D$3,AG3587,\"\"),IF(B3587<>\"\",AG3587,\"\"))","v":""},{"$f":"IF(statistics!$D$3<>0,IF(AJ3587=statistics!$D$3,IF(AH3587=0,\"\",AH3587),\"\"),IF(AH3587<>0,AH3587,\"\"))","v":""},{"$f":"IF(statistics!$D$3<>0,IF(AJ3587=statistics!$D$3,IF(A3587=0,\"\",1),\"\"),IF(A3587=0,\"\",1))","v":""},"","",null,"",{"$nulls":10},"",null,null,"",null,0,null,{"$error":"#NUM!"},{"$error":"#NUM!"},3586]
[{"$nulls":4},"","","","","",null,null,"",{"$nulls":6},3602,"",{"$f":"IF(A3604=0,IF(B3604=\"\",IF(B3603=0,\"\",SUM($AG$1:AG3603)-SUM($U$1:U3602)),\"\"),SUM($AG$1:AG3603)-SUM($U$1:U3602))","v":""},{"$nulls":5},0,{"$f":"IF(AJ3603=statistics!$D$3,AB3602+AH3603-AG3603,)","v":0},{"$f":"IF(AND(ROW(AC3603)>=statistics!$C$55,ROW(AC3603)<=statistics!$D$55),AC3602+AH3603-AG3603,)","v":0},{"$f":"IF(AND(statistics!$C$55<=ROW(A3603),ROW(A3603)<=statistics!$D$55)=TRUE,AH3603-AG3603+AA3602-INDEX(AA:AA,statistics!$C$55),\"\")","v":""},null,null,0,0,0,"",{"$f":"IF(statistics!$D$3<>0,IF(AJ3603=statistics!$D$3,AG3603,\"\"),IF(B3603<>\"\",AG3603,\"\"))","v":""},{"$f":"IF(statistics!$D$3<>0,IF(AJ3603=statistics!$D$3,IF(AH3603=0,\"\",AH3603),\"\"),IF(AH3603<>0,AH3603,\"\"))","v":""},{"$f":"IF(statistics!$D$3<>0,IF(AJ3603=statistics!$D$3,IF(A3603=0,\"\",1),\"\"),IF(A3603=0,\"\",1))","v":""},"","",null,"",{"$nulls":10},"",null,null,"",null,0,null,{"$error":"#NUM!"},{"$error":"#NUM!"},3602]
[{"$nulls":4},"","","","","",null,null,"",{"$nulls":6},3611,"",{"$f":"IF(A3613=0,IF(B3613=\"\",IF(B3612=0,\"\",SUM($AG$1:AG3612)-SUM($U$1:U3611)),\"\"),SUM($AG$1:AG3612)-SUM($U$1:U3611))","v":""},{"$nulls":5},0,{"$f":"IF(AJ3612=statistics!$D$3,AB3611+AH3612-AG3612,)","v":0},{"$f":"IF(AND(ROW(AC3612)>=statistics!$C$55,ROW(AC3612)<=statistics!$D$55),AC3611+AH3612-AG3612,)","v":0},{"$f":"IF(AND(statistics!$C$55<=ROW(A3612),ROW(A3612)<=statistics!$D$55)=TRUE,AH3612-AG3612+AA3611-INDEX(AA:AA,statistics!$C$55),\"\")","v":""},null,null,0,0,0,"",{"$f":"IF(statistics!$D$3<>0,IF(AJ3612=statistics!$D$3,AG3612,\"\"),IF(B3612<>\"\",AG3612,\"\"))","v":""},{"$f":"IF(statistics!$D$3<>0,IF(AJ3612=statistics!$D$3,IF(AH3612=0,\"\",AH3612),\"\"),IF(AH3612<>0,AH3612,\"\"))","v":""},{"$f":"IF(statistics!$D$3<>0,IF(AJ3612=statistics!$D$3,IF(A3612=0,\"\",1),\"\"),IF(A3612=0,\"\",1))","v":""},"","",null,"",{"$nulls":10},"",null,null,"",null,0,null,{"$error":"#NUM!"},{"$error":"#NUM!"},3611]
[{"$nulls":4},"","","","","",null,null,"",{"$nulls":6},3616,"",{"$f":"IF(A3618=0,IF(B3618=\"\",IF(B3617=0,\"\",SUM($AG$1:AG3617)-SUM($U$1:U3616)),\"\"),SUM($AG$1:AG3617)-SUM($U$1:U3616))","v":""},{"$nulls":5},0,{"$f":"IF(AJ3617=statistics!$D$3,AB3616+AH3617-AG3617,)","v":0},{"$f":"IF(AND(ROW(AC3617)>=statistics!$C$55,ROW(AC3617)<=statistics!$D$55),AC3616+AH3617-AG3617,)","v":0},{"$f":"IF(AND(statistics!$C$55<=ROW(A3617),ROW(A3617)<=statistics!$D$55)=TRUE,AH3617-AG3617+AA3616-INDEX(AA:AA,statistics!$C$55),\"\")","v":""},null,null,0,0,0,"",{"$f":"IF(statistics!$D$3<>0,IF(AJ3617=statistics!$D$3,AG3617,\"\"),IF(B3617<>\"\",AG3617,\"\"))","v":""},{"$f":"IF(statistics!$D$3<>0,IF(AJ3617=statistics!$D$3,IF(AH3617=0,\"\",AH3617),\"\"),IF(AH3617<>0,AH3617,\"\"))","v":""},{"$f":"IF(statistics!$D$3<>0,IF(AJ3617=statistics!$D$3,IF(A3617=0,\"\",1),\"\"),IF(A3617=0,\"\",1))","v":""},"","",null,"",{"$nulls":10},"",null,null,"",null,0,null,{"$error":"#NUM!"},{"$error":"#NUM!"},3616]
[{"$nulls":4},"","","","","",null,null,"",{"$nulls":6},3627,"",{"$f":"IF(A3629=0,IF(B3629=\"\",IF(B3628=0,\"\",SUM($AG$1:AG3628)-SUM($U$1:U3627)),\"\"),SUM($AG$1:AG3628)-SUM($U$1:U3627))","v":""},{"$nulls":5},0,{"$f":"IF(AJ3628=statistics!$D$3,AB3627+AH3628-AG3628,)","v":0},{"$f":"IF(AND(ROW(AC3628)>=statistics!$C$55,ROW(AC3628)<=statistics!$D$55),AC3627+AH3628-AG3628,)","v":0},{"$f":"IF(AND(statistics!$C$55<=ROW(A3628),ROW(A3628)<=statistics!$D$55)=TRUE,AH3628-AG3628+AA3627-INDEX(AA:AA,statistics!$C$55),\"\")","v":""},null,null,0,0,0,"",{"$f":"IF(statistics!$D$3<>0,IF(AJ3628=statistics!$D$3,AG3628,\"\"),IF(B3628<>\"\",AG3628,\"\"))","v":""},{"$f":"IF(statistics!$D$3<>0,IF(AJ3628=statistics!$D$3,IF(AH3628=0,\"\",AH3628),\"\"),IF(AH3628<>0,AH3628,\"\"))","v":""},{"$f":"IF(statistics!$D$3<>0,IF(AJ3628=statistics!$D$3,IF(A3628=0,\"\",1),\"\"),IF(A3628=0,\"\",1))","v":""},"","",null,"",{"$nulls":10},"",null,null,"",null,0,null,{"$error":"#NUM!"},{"$error":"#NUM!"},3627]
[{"$nulls":4},"","","","","",null,null,"",{"$nulls":6},3642,"",{"$f":"IF(A3644=0,IF(B3644=\"\",IF(B3643=0,\"\",SUM($AG$1:AG3643)-SUM($U$1:U3642)),\"\"),SUM($AG$1:AG3643)-SUM($U$1:U3642))","v":""},{"$nulls":5},0,{"$f":"IF(AJ3643=statistics!$D$3,AB3642+AH3643-AG3643,)","v":0},{"$f":"IF(AND(ROW(AC3643)>=statistics!$C$55,ROW(AC3643)<=statistics!$D$55),AC3642+AH3643-AG3643,)","v":0},{"$f":"IF(AND(statistics!$C$55<=ROW(A3643),ROW(A3643)<=statistics!$D$55)=TRUE,AH3643-AG3643+AA3642-INDEX(AA:AA,statistics!$C$55),\"\")","v":""},null,null,0,0,0,"",{"$f":"IF(statistics!$D$3<>0,IF(AJ3643=statistics!$D$3,AG3643,\"\"),IF(B3643<>\"\",AG3643,\"\"))","v":""},{"$f":"IF(statistics!$D$3<>0,IF(AJ3643=statistics!$D$3,IF(AH3643=0,\"\",AH3643),\"\"),IF(AH3643<>0,AH3643,\"\"))","v":""},{"$f":"IF(statistics!$D$3<>0,IF(AJ3643=statistics!$D$3,IF(A3643=0,\"\",1),\"\"),IF(A3643=0,\"\",1))","v":""},"","",null,"",{"$nulls":10},"",null,null,"",null,0,null,{"$error":"#NUM!"},{"$error":"#NUM!"},3642]
[{"$nulls":4},"","","","","",null,null,"",{"$nulls":6},3647,"",{"$f":"IF(A3649=0,IF(B3649=\"\",IF(B3648=0,\"\",SUM($AG$1:AG3648)-SUM($U$1:U3647)),\"\"),SUM($AG$1:AG3648)-SUM($U$1:U3647))","v":""},{"$nulls":5},0,{"$f":"IF(AJ3648=statistics!$D$3,AB3647+AH3648-AG3648,)","v":0},{"$f":"IF(AND(ROW(AC3648)>=statistics!$C$55,ROW(AC3648)<=statistics!$D$55),AC3647+AH3648-AG3648,)","v":0},{"$f":"IF(AND(statistics!$C$55<=ROW(A3648),ROW(A3648)<=statistics!$D$55)=TRUE,AH3648-AG3648+AA3647-INDEX(AA:AA,statistics!$C$55),\"\")","v":""},null,null,0,0,0,"",{"$f":"IF(statistics!$D$3<>0,IF(AJ3648=statistics!$D$3,AG3648,\"\"),IF(B3648<>\"\",AG3648,\"\"))","v":""},{"$f":"IF(statistics!$D$3<>0,IF(AJ3648=statistics!$D$3,IF(AH3648=0,\"\",AH3648),\"\"),IF(AH3648<>0,AH3648,\"\"))","v":""},{"$f":"IF(statistics!$D$3<>0,IF(AJ3648=statistics!$D$3,IF(A3648=0,\"\",1),\"\"),IF(A3648=0,\"\",1))","v":""},"","",null,"",{"$nulls":10},"",null,null,"",null,0,null,{"$error":"#NUM!"},{"$error":"#NUM!"},3647]
[{"$nulls":4},"","","","","",null,null,"",{"$nulls":6},3658,"",{"$f":"IF(A3660=0,IF(B3660=\"\",IF(B3659=0,\"\",SUM($AG$1:AG3659)-SUM($U$1:U3658)),\"\"),SUM($AG$1:AG3659)-SUM($U$1:U3658))","v":""},{"$nulls":5},0,{"$f":"IF(AJ3659=statistics!$D$3,AB3658+AH3659-AG3659,)","v":0},{"$f":"IF(AND(ROW(AC3659)>=statistics!$C$55,ROW(AC3659)<=statistics!$D$55),AC3658+AH3659-AG3659,)","v":0},{"$f":"IF(AND(statistics!$C$55<=ROW(A3659),ROW(A3659)<=statistics!$D$55)=TRUE,AH3659-AG3659+AA3658-INDEX(AA:AA,statistics!$C$55),\"\")","v":""},null,null,0,0,0,"",{"$f":"IF(statistics!$D$3<>0,IF(AJ3659=statistics!$D$3,AG3659,\"\"),IF(B3659<>\"\",AG3659,\"\"))","v":""},{"$f":"IF(statistics!$D$3<>0,IF(AJ3659=statistics!$D$3,IF(AH3659=0,\"\",AH3659),\"\"),IF(AH3659<>0,AH3659,\"\"))","v":""},{"$f":"IF(statistics!$D$3<>0,IF(AJ3659=statistics!$D$3,IF(A3659=0,\"\",1),\"\"),IF(A3659=0,\"\",1))","v":""},"","",null,"",{"$nulls":10},"",null,null,"",null,0,null,{"$error":"#NUM!"},{"$error":"#NUM!"},3658]
[{"$nulls":4},"","","","","",null,null,"",{"$nulls":6},3668,"",{"$f":"IF(A3670=0,IF(B3670=\"\",IF(B3669=0,\"\",SUM($AG$1:AG3669)-SUM($U$1:U3668)),\"\"),SUM($AG$1:AG3669)-SUM($U$1:U3668))","v":""},{"$nulls":5},0,{"$f":"IF(AJ3669=statistics!$D$3,AB3668+AH3669-AG3669,)","v":0},{"$f":"IF(AND(ROW(AC3669)>=statistics!$C$55,ROW(AC3669)<=statistics!$D$55),AC3668+AH3669-AG3669,)","v":0},{"$f":"IF(AND(statistics!$C$55<=ROW(A3669),ROW(A3669)<=statistics!$D$55)=TRUE,AH3669-AG3669+AA3668-INDEX(AA:AA,statistics!$C$55),\"\")","v":""},null,null,0,0,0,"",{"$f":"IF(statistics!$D$3<>0,IF(AJ3669=statistics!$D$3,AG3669,\"\"),IF(B3669<>\"\",AG3669,\"\"))","v":""},{"$f":"IF(statistics!$D$3<>0,IF(AJ3669=statistics!$D$3,IF(AH3669=0,\"\",AH3669),\"\"),IF(AH3669<>0,AH3669,\"\"))","v":""},{"$f":"IF(statistics!$D$3<>0,IF(AJ3669=statistics!$D$3,IF(A3669=0,\"\",1),\"\"),IF(A3669=0,\"\",1))","v":""},"","",null,"",{"$nulls":10},"",null,null,"",null,0,null,{"$error":"#NUM!"},{"$error":"#NUM!"},3668]
[{"$nulls":4},"","","","","",null,null,"",{"$nulls":6},3677,"",{"$f":"IF(A3679=0,IF(B3679=\"\",IF(B3678=0,\"\",SUM($AG$1:AG3678)-SUM($U$1:U3677)),\"\"),SUM($AG$1:AG3678)-SUM($U$1:U3677))","v":""},{"$nulls":5},0,{"$f":"IF(AJ3678=statistics!$D$3,AB3677+AH3678-AG3678,)","v":0},{"$f":"IF(AND(ROW(AC3678)>=statistics!$C$55,ROW(AC3678)<=statistics!$D$55),AC3677+AH3678-AG3678,)","v":0},{"$f":"IF(AND(statistics!$C$55<=ROW(A3678),ROW(A3678)<=statistics!$D$55)=TRUE,AH3678-AG3678+AA3677-INDEX(AA:AA,statistics!$C$55),\"\")","v":""},null,null,0,0,0,"",{"$f":"IF(statistics!$D$3<>0,IF(AJ3678=statistics!$D$3,AG3678,\"\"),IF(B3678<>\"\",AG3678,\"\"))","v":""},{"$f":"IF(statistics!$D$3<>0,IF(AJ3678=statistics!$D$3,IF(AH3678=0,\"\",AH3678),\"\"),IF(AH3678<>0,AH3678,\"\"))","v":""},{"$f":"IF(statistics!$D$3<>0,IF(AJ3678=statistics!$D$3,IF(A3678=0,\"\",1),\"\"),IF(A3678=0,\"\",1))","v":""},"","",null,"",{"$nulls":10},"",null,null,"",null,0,null,{"$error":"#NUM!"},{"$error":"#NUM!"},3677]
[{"$nulls":4},"","","","","",null,null,"",{"$nulls":6},3688,"",{"$f":"IF(A3690=0,IF(B3690=\"\",IF(B3689=0,\"\",SUM($AG$1:AG3689)-SUM($U$1:U3688)),\"\"),SUM($AG$1:AG3689)-SUM($U$1:U3688))","v":""},{"$nulls":5},0,{"$f":"IF(AJ3689=statistics!$D$3,AB3688+AH3689-AG3689,)","v":0},{"$f":"IF(AND(ROW(AC3689)>=statistics!$C$55,ROW(AC3689)<=statistics!$D$55),AC3688+AH3689-AG3689,)","v":0},{"$f":"IF(AND(statistics!$C$55<=ROW(A3689),ROW(A3689)<=statistics!$D$55)=TRUE,AH3689-AG3689+AA3688-INDEX(AA:AA,statistics!$C$55),\"\")","v":""},null,null,0,0,0,"",{"$f":"IF(statistics!$D$3<>0,IF(AJ3689=statistics!$D$3,AG3689,\"\"),IF(B3689<>\"\",AG3689,\"\"))","v":""},{"$f":"IF(statistics!$D$3<>0,IF(AJ3689=statistics!$D$3,IF(AH3689=0,\"\",AH3689),\"\"),IF(AH3689<>0,AH3689,\"\"))","v":""},{"$f":"IF(statistics!$D$3<>0,IF(AJ3689=statistics!$D$3,IF(A3689=0,\"\",1),\"\"),IF(A3689=0,\"\",1))","v":""},"","",null,"",{"$nulls":10},"",null,null,"",null,0,null,{"$error":"#NUM!"},{"$error":"#NUM!"},3688]
[{"$nulls":4},"","","","","",null,null,"",{"$nulls":6},3703,"",{"$f":"IF(A3705=0,IF(B3705=\"\",IF(B3704=0,\"\",SUM($AG$1:AG3704)-SUM($U$1:U3703)),\"\"),SUM($AG$1:AG3704)-SUM($U$1:U3703))","v":""},{"$nulls":5},0,{"$f":"IF(AJ3704=statistics!$D$3,AB3703+AH3704-AG3704,)","v":0},{"$f":"IF(AND(ROW(AC3704)>=statistics!$C$55,ROW(AC3704)<=statistics!$D$55),AC3703+AH3704-AG3704,)","v":0},{"$f":"IF(AND(statistics!$C$55<=ROW(A3704),ROW(A3704)<=statistics!$D$55)=TRUE,AH3704-AG3704+AA3703-INDEX(AA:AA,statistics!$C$55),\"\")","v":""},null,null,0,0,0,"",{"$f":"IF(statistics!$D$3<>0,IF(AJ3704=statistics!$D$3,AG3704,\"\"),IF(B3704<>\"\",AG3704,\"\"))","v":""},{"$f":"IF(statistics!$D$3<>0,IF(AJ3704=statistics!$D$3,IF(AH3704=0,\"\",AH3704),\"\"),IF(AH3704<>0,AH3704,\"\"))","v":""},{"$f":"IF(statistics!$D$3<>0,IF(AJ3704=statistics!$D$3,IF(A3704=0,\"\",1),\"\"),IF(A3704=0,\"\",1))","v":""},"","",null,"",{"$nulls":10},"",null,null,"",null,0,null,{"$error":"#NUM!"},{"$error":"#NUM!"},3703]
[{"$nulls":4},"","","","","",null,null,"",{"$nulls":6},3704,"",{"$f":"IF(A3706=0,IF(B3706=\"\",IF(B3705=0,\"\",SUM($AG$1:AG3705)-SUM($U$1:U3704)),\"\"),SUM($AG$1:AG3705)-SUM($U$1:U3704))","v":""},{"$nulls":5},0,{"$f":"IF(AJ3705=statistics!$D$3,AB3704+AH3705-AG3705,)","v":0},{"$f":"IF(AND(ROW(AC3705)>=statistics!$C$55,ROW(AC3705)<=statistics!$D$55),AC3704+AH3705-AG3705,)","v":0},{"$f":"IF(AND(statistics!$C$55<=ROW(A3705),ROW(A3705)<=statistics!$D$55)=TRUE,AH3705-AG3705+AA3704-INDEX(AA:AA,statistics!$C$55),\"\")","v":""},null,null,0,0,0,"",{"$f":"IF(statistics!$D$3<>0,IF(AJ3705=statistics!$D$3,AG3705,\"\"),IF(B3705<>\"\",AG3705,\"\"))","v":""},{"$f":"IF(statistics!$D$3<>0,IF(AJ3705=statistics!$D$3,IF(AH3705=0,\"\",AH3705),\"\"),IF(AH3705<>0,AH3705,\"\"))","v":""},{"$f":"IF(statistics!$D$3<>0,IF(AJ3705=statistics!$D$3,IF(A3705=0,\"\",1),\"\"),IF(A3705=0,\"\",1))","v":""},"","",null,"",{"$nulls":10},"",null,null,"",null,0,null,{"$error":"#NUM!"},{"$error":"#NUM!"},3704]
[{"$nulls":4},"","","","","",null,null,"",{"$nulls":6},3719,"",{"$f":"IF(A3721=0,IF(B3721=\"\",IF(B3720=0,\"\",SUM($AG$1:AG3720)-SUM($U$1:U3719)),\"\"),SUM($AG$1:AG3720)-SUM($U$1:U3719))","v":""},{"$nulls":5},0,{"$f":"IF(AJ3720=statistics!$D$3,AB3719+AH3720-AG3720,)","v":0},{"$f":"IF(AND(ROW(AC3720)>=statistics!$C$55,ROW(AC3720)<=statistics!$D$55),AC3719+AH3720-AG3720,)","v":0},{"$f":"IF(AND(statistics!$C$55<=ROW(A3720),ROW(A3720)<=statistics!$D$55)=TRUE,AH3720-AG3720+AA3719-INDEX(AA:AA,statistics!$C$55),\"\")","v":""},null,null,0,0,0,"",{"$f":"IF(statistics!$D$3<>0,IF(AJ3720=statistics!$D$3,AG3720,\"\"),IF(B3720<>\"\",AG3720,\"\"))","v":""},{"$f":"IF(statistics!$D$3<>0,IF(AJ3720=statistics!$D$3,IF(AH3720=0,\"\",AH3720),\"\"),IF(AH3720<>0,AH3720,\"\"))","v":""},{"$f":"IF(statistics!$D$3<>0,IF(AJ3720=statistics!$D$3,IF(A3720=0,\"\",1),\"\"),IF(A3720=0,\"\",1))","v":""},"","",null,"",{"$nulls":10},"",null,null,"",null,0,null,{"$error":"#NUM!"},{"$error":"#NUM!"},3719]
[{"$nulls":4},"","","","","",null,null,"",{"$nulls":6},3724,"",{"$f":"IF(A3726=0,IF(B3726=\"\",IF(B3725=0,\"\",SUM($AG$1:AG3725)-SUM($U$1:U3724)),\"\"),SUM($AG$1:AG3725)-SUM($U$1:U3724))","v":""},{"$nulls":5},0,{"$f":"IF(AJ3725=statistics!$D$3,AB3724+AH3725-AG3725,)","v":0},{"$f":"IF(AND(ROW(AC3725)>=statistics!$C$55,ROW(AC3725)<=statistics!$D$55),AC3724+AH3725-AG3725,)","v":0},{"$f":"IF(AND(statistics!$C$55<=ROW(A3725),ROW(A3725)<=statistics!$D$55)=TRUE,AH3725-AG3725+AA3724-INDEX(AA:AA,statistics!$C$55),\"\")","v":""},null,null,0,0,0,"",{"$f":"IF(statistics!$D$3<>0,IF(AJ3725=statistics!$D$3,AG3725,\"\"),IF(B3725<>\"\",AG3725,\"\"))","v":""},{"$f":"IF(statistics!$D$3<>0,IF(AJ3725=statistics!$D$3,IF(AH3725=0,\"\",AH3725),\"\"),IF(AH3725<>0,AH3725,\"\"))","v":""},{"$f":"IF(statistics!$D$3<>0,IF(AJ3725=statistics!$D$3,IF(A3725=0,\"\",1),\"\"),IF(A3725=0,\"\",1))","v":""},"","",null,"",{"$nulls":10},"",null,null,"",null,0,null,{"$error":"#NUM!"},{"$error":"#NUM!"},3724]
[{"$nulls":4},"","","","","",null,null,"",{"$nulls":6},3734,"",{"$f":"IF(A3736=0,IF(B3736=\"\",IF(B3735=0,\"\",SUM($AG$1:AG3735)-SUM($U$1:U3734)),\"\"),SUM($AG$1:AG3735)-SUM($U$1:U3734))","v":""},{"$nulls":5},0,{"$f":"IF(AJ3735=statistics!$D$3,AB3734+AH3735-AG3735,)","v":0},{"$f":"IF(AND(ROW(AC3735)>=statistics!$C$55,ROW(AC3735)<=statistics!$D$55),AC3734+AH3735-AG3735,)","v":0},{"$f":"IF(AND(statistics!$C$55<=ROW(A3735),ROW(A3735)<=statistics!$D$55)=TRUE,AH3735-AG3735+AA3734-INDEX(AA:AA,statistics!$C$55),\"\")","v":""},null,null,0,0,0,"",{"$f":"IF(statistics!$D$3<>0,IF(AJ3735=statistics!$D$3,AG3735,\"\"),IF(B3735<>\"\",AG3735,\"\"))","v":""},{"$f":"IF(statistics!$D$3<>0,IF(AJ3735=statistics!$D$3,IF(AH3735=0,\"\",AH3735),\"\"),IF(AH3735<>0,AH3735,\"\"))","v":""},{"$f":"IF(statistics!$D$3<>0,IF(AJ3735=statistics!$D$3,IF(A3735=0,\"\",1),\"\"),IF(A3735=0,\"\",1))","v":""},"","",null,"",{"$nulls":10},"",null,null,"",null,0,null,{"$error":"#NUM!"},{"$error":"#NUM!"},3734]
[{"$nulls":4},"","","","","",null,null,"",{"$nulls":6},3749,"",{"$f":"IF(A3751=0,IF(B3751=\"\",IF(B3750=0,\"\",SUM($AG$1:AG3750)-SUM($U$1:U3749)),\"\"),SUM($AG$1:AG3750)-SUM($U$1:U3749))","v":""},{"$nulls":5},0,{"$f":"IF(AJ3750=statistics!$D$3,AB3749+AH3750-AG3750,)","v":0},{"$f":"IF(AND(ROW(AC3750)>=statistics!$C$55,ROW(AC3750)<=statistics!$D$55),AC3749+AH3750-AG3750,)","v":0},{"$f":"IF(AND(statistics!$C$55<=ROW(A3750),ROW(A3750)<=statistics!$D$55)=TRUE,AH3750-AG3750+AA3749-INDEX(AA:AA,statistics!$C$55),\"\")","v":""},null,null,0,0,0,"",{"$f":"IF(statistics!$D$3<>0,IF(AJ3750=statistics!$D$3,AG3750,\"\"),IF(B3750<>\"\",AG3750,\"\"))","v":""},{"$f":"IF(statistics!$D$3<>0,IF(AJ3750=statistics!$D$3,IF(AH3750=0,\"\",AH3750),\"\"),IF(AH3750<>0,AH3750,\"\"))","v":""},{"$f":"IF(statistics!$D$3<>0,IF(AJ3750=statistics!$D$3,IF(A3750=0,\"\",1),\"\"),IF(A3750=0,\"\",1))","v":""},"","",null,"",{"$nulls":10},"",null,null,"",null,0,null,{"$error":"#NUM!"},{"$error":"#NUM!"},3749]
[{"$nulls":4},"","","","","",null,null,"",{"$nulls":6},3760,"",{"$f":"IF(A3762=0,IF(B3762=\"\",IF(B3761=0,\"\",SUM($AG$1:AG3761)-SUM($U$1:U3760)),\"\"),SUM($AG$1:AG3761)-SUM($U$1:U3760))","v":""},{"$nulls":5},0,{"$f":"IF(AJ3761=statistics!$D$3,AB3760+AH3761-AG3761,)","v":0},{"$f":"IF(AND(ROW(AC3761)>=statistics!$C$55,ROW(AC3761)<=statistics!$D$55),AC3760+AH3761-AG3761,)","v":0},{"$f":"IF(AND(statistics!$C$55<=ROW(A3761),ROW(A3761)<=statistics!$D$55)=TRUE,AH3761-AG3761+AA3760-INDEX(AA:AA,statistics!$C$55),\"\")","v":""},null,null,0,0,0,"",{"$f":"IF(statistics!$D$3<>0,IF(AJ3761=statistics!$D$3,AG3761,\"\"),IF(B3761<>\"\",AG3761,\"\"))","v":""},{"$f":"IF(statistics!$D$3<>0,IF(AJ3761=statistics!$D$3,IF(AH3761=0,\"\",AH3761),\"\"),IF(AH3761<>0,AH3761,\"\"))","v":""},{"$f":"IF(statistics!$D$3<>0,IF(AJ3761=statistics!$D$3,IF(A3761=0,\"\",1),\"\"),IF(A3761=0,\"\",1))","v":""},"","",null,"",{"$nulls":10},"",null,null,"",null,0,null,{"$error":"#NUM!"},{"$error":"#NUM!"},3760]
[{"$nulls":4},"","","","","",null,null,"",{"$nulls":6},3765,"",{"$f":"IF(A3767=0,IF(B3767=\"\",IF(B3766=0,\"\",SUM($AG$1:AG3766)-SUM($U$1:U3765)),\"\"),SUM($AG$1:AG3766)-SUM($U$1:U3765))","v":""},{"$nulls":5},0,{"$f":"IF(AJ3766=statistics!$D$3,AB3765+AH3766-AG3766,)","v":0},{"$f":"IF(AND(ROW(AC3766)>=statistics!$C$55,ROW(AC3766)<=statistics!$D$55),AC3765+AH3766-AG3766,)","v":0},{"$f":"IF(AND(statistics!$C$55<=ROW(A3766),ROW(A3766)<=statistics!$D$55)=TRUE,AH3766-AG3766+AA3765-INDEX(AA:AA,statistics!$C$55),\"\")","v":""},null,null,0,0,0,"",{"$f":"IF(statistics!$D$3<>0,IF(AJ3766=statistics!$D$3,AG3766,\"\"),IF(B3766<>\"\",AG3766,\"\"))","v":""},{"$f":"IF(statistics!$D$3<>0,IF(AJ3766=statistics!$D$3,IF(AH3766=0,\"\",AH3766),\"\"),IF(AH3766<>0,AH3766,\"\"))","v":""},{"$f":"IF(statistics!$D$3<>0,IF(AJ3766=statistics!$D$3,IF(A3766=0,\"\",1),\"\"),IF(A3766=0,\"\",1))","v":""},"","",null,"",{"$nulls":10},"",null,null,"",null,0,null,{"$error":"#NUM!"},{"$error":"#NUM!"},3765]
[{"$nulls":4},"","","","","",null,null,"",{"$nulls":6},3780,"",{"$f":"IF(A3782=0,IF(B3782=\"\",IF(B3781=0,\"\",SUM($AG$1:AG3781)-SUM($U$1:U3780)),\"\"),SUM($AG$1:AG3781)-SUM($U$1:U3780))","v":""},{"$nulls":5},0,{"$f":"IF(AJ3781=statistics!$D$3,AB3780+AH3781-AG3781,)","v":0},{"$f":"IF(AND(ROW(AC3781)>=statistics!$C$55,ROW(AC3781)<=statistics!$D$55),AC3780+AH3781-AG3781,)","v":0},{"$f":"IF(AND(statistics!$C$55<=ROW(A3781),ROW(A3781)<=statistics!$D$55)=TRUE,AH3781-AG3781+AA3780-INDEX(AA:AA,statistics!$C$55),\"\")","v":""},null,null,0,0,0,"",{"$f":"IF(statistics!$D$3<>0,IF(AJ3781=statistics!$D$3,AG3781,\"\"),IF(B3781<>\"\",AG3781,\"\"))","v":""},{"$f":"IF(statistics!$D$3<>0,IF(AJ3781=statistics!$D$3,IF(AH3781=0,\"\",AH3781),\"\"),IF(AH3781<>0,AH3781,\"\"))","v":""},{"$f":"IF(statistics!$D$3<>0,IF(AJ3781=statistics!$D$3,IF(A3781=0,\"\",1),\"\"),IF(A3781=0,\"\",1))","v":""},"","",null,"",{"$nulls":10},"",null,null,"",null,0,null,{"$error":"#NUM!"},{"$error":"#NUM!"},3780]
[{"$nulls":4},"","","","","",null,null,"",{"$nulls":6},3791,"",{"$f":"IF(A3793=0,IF(B3793=\"\",IF(B3792=0,\"\",SUM($AG$1:AG3792)-SUM($U$1:U3791)),\"\"),SUM($AG$1:AG3792)-SUM($U$1:U3791))","v":""},{"$nulls":5},0,{"$f":"IF(AJ3792=statistics!$D$3,AB3791+AH3792-AG3792,)","v":0},{"$f":"IF(AND(ROW(AC3792)>=statistics!$C$55,ROW(AC3792)<=statistics!$D$55),AC3791+AH3792-AG3792,)","v":0},{"$f":"IF(AND(statistics!$C$55<=ROW(A3792),ROW(A3792)<=statistics!$D$55)=TRUE,AH3792-AG3792+AA3791-INDEX(AA:AA,statistics!$C$55),\"\")","v":""},null,null,0,0,0,"",{"$f":"IF(statistics!$D$3<>0,IF(AJ3792=statistics!$D$3,AG3792,\"\"),IF(B3792<>\"\",AG3792,\"\"))","v":""},{"$f":"IF(statistics!$D$3<>0,IF(AJ3792=statistics!$D$3,IF(AH3792=0,\"\",AH3792),\"\"),IF(AH3792<>0,AH3792,\"\"))","v":""},{"$f":"IF(statistics!$D$3<>0,IF(AJ3792=statistics!$D$3,IF(A3792=0,\"\",1),\"\"),IF(A3792=0,\"\",1))","v":""},"","",null,"",{"$nulls":10},"",null,null,"",null,0,null,{"$error":"#NUM!"},{"$error":"#NUM!"},3791]
[{"$nulls":4},"","","","","",null,null,"",{"$nulls":6},3796,"",{"$f":"IF(A3798=0,IF(B3798=\"\",IF(B3797=0,\"\",SUM($AG$1:AG3797)-SUM($U$1:U3796)),\"\"),SUM($AG$1:AG3797)-SUM($U$1:U3796))","v":""},{"$nulls":5},0,{"$f":"IF(AJ3797=statistics!$D$3,AB3796+AH3797-AG3797,)","v":0},{"$f":"IF(AND(ROW(AC3797)>=statistics!$C$55,ROW(AC3797)<=statistics!$D$55),AC3796+AH3797-AG3797,)","v":0},{"$f":"IF(AND(statistics!$C$55<=ROW(A3797),ROW(A3797)<=statistics!$D$55)=TRUE,AH3797-AG3797+AA3796-INDEX(AA:AA,statistics!$C$55),\"\")","v":""},null,null,0,0,0,"",{"$f":"IF(statistics!$D$3<>0,IF(AJ3797=statistics!$D$3,AG3797,\"\"),IF(B3797<>\"\",AG3797,\"\"))","v":""},{"$f":"IF(statistics!$D$3<>0,IF(AJ3797=statistics!$D$3,IF(AH3797=0,\"\",AH3797),\"\"),IF(AH3797<>0,AH3797,\"\"))","v":""},{"$f":"IF(statistics!$D$3<>0,IF(AJ3797=statistics!$D$3,IF(A3797=0,\"\",1),\"\"),IF(A3797=0,\"\",1))","v":""},"","",null,"",{"$nulls":10},"",null,null,"",null,0,null,{"$error":"#NUM!"},{"$error":"#NUM!"},3796]
[{"$nulls":4},"","","","","",null,null,"",{"$nulls":6},3805,"",{"$f":"IF(A3807=0,IF(B3807=\"\",IF(B3806=0,\"\",SUM($AG$1:AG3806)-SUM($U$1:U3805)),\"\"),SUM($AG$1:AG3806)-SUM($U$1:U3805))","v":""},{"$nulls":5},0,{"$f":"IF(AJ3806=statistics!$D$3,AB3805+AH3806-AG3806,)","v":0},{"$f":"IF(AND(ROW(AC3806)>=statistics!$C$55,ROW(AC3806)<=statistics!$D$55),AC3805+AH3806-AG3806,)","v":0},{"$f":"IF(AND(statistics!$C$55<=ROW(A3806),ROW(A3806)<=statistics!$D$55)=TRUE,AH3806-AG3806+AA3805-INDEX(AA:AA,statistics!$C$55),\"\")","v":""},null,null,0,0,0,"",{"$f":"IF(statistics!$D$3<>0,IF(AJ3806=statistics!$D$3,AG3806,\"\"),IF(B3806<>\"\",AG3806,\"\"))","v":""},{"$f":"IF(statistics!$D$3<>0,IF(AJ3806=statistics!$D$3,IF(AH3806=0,\"\",AH3806),\"\"),IF(AH3806<>0,AH3806,\"\"))","v":""},{"$f":"IF(statistics!$D$3<>0,IF(AJ3806=statistics!$D$3,IF(A3806=0,\"\",1),\"\"),IF(A3806=0,\"\",1))","v":""},"","",null,"",{"$nulls":10},"",null,null,"",null,0,null,{"$error":"#NUM!"},{"$error":"#NUM!"},3805]
[{"$nulls":4},"","","","","",null,null,"",{"$nulls":6},3821,"",{"$f":"IF(A3823=0,IF(B3823=\"\",IF(B3822=0,\"\",SUM($AG$1:AG3822)-SUM($U$1:U3821)),\"\"),SUM($AG$1:AG3822)-SUM($U$1:U3821))","v":""},{"$nulls":5},0,{"$f":"IF(AJ3822=statistics!$D$3,AB3821+AH3822-AG3822,)","v":0},{"$f":"IF(AND(ROW(AC3822)>=statistics!$C$55,ROW(AC3822)<=statistics!$D$55),AC3821+AH3822-AG3822,)","v":0},{"$f":"IF(AND(statistics!$C$55<=ROW(A3822),ROW(A3822)<=statistics!$D$55)=TRUE,AH3822-AG3822+AA3821-INDEX(AA:AA,statistics!$C$55),\"\")","v":""},null,null,0,0,0,"",{"$f":"IF(statistics!$D$3<>0,IF(AJ3822=statistics!$D$3,AG3822,\"\"),IF(B3822<>\"\",AG3822,\"\"))","v":""},{"$f":"IF(statistics!$D$3<>0,IF(AJ3822=statistics!$D$3,IF(AH3822=0,\"\",AH3822),\"\"),IF(AH3822<>0,AH3822,\"\"))","v":""},{"$f":"IF(statistics!$D$3<>0,IF(AJ3822=statistics!$D$3,IF(A3822=0,\"\",1),\"\"),IF(A3822=0,\"\",1))","v":""},"","",null,"",{"$nulls":10},"",null,null,"",null,0,null,{"$error":"#NUM!"},{"$error":"#NUM!"},3821]
[{"$nulls":4},"","","","","",null,null,"",{"$nulls":6},3826,"",{"$f":"IF(A3828=0,IF(B3828=\"\",IF(B3827=0,\"\",SUM($AG$1:AG3827)-SUM($U$1:U3826)),\"\"),SUM($AG$1:AG3827)-SUM($U$1:U3826))","v":""},{"$nulls":5},0,{"$f":"IF(AJ3827=statistics!$D$3,AB3826+AH3827-AG3827,)","v":0},{"$f":"IF(AND(ROW(AC3827)>=statistics!$C$55,ROW(AC3827)<=statistics!$D$55),AC3826+AH3827-AG3827,)","v":0},{"$f":"IF(AND(statistics!$C$55<=ROW(A3827),ROW(A3827)<=statistics!$D$55)=TRUE,AH3827-AG3827+AA3826-INDEX(AA:AA,statistics!$C$55),\"\")","v":""},null,null,0,0,0,"",{"$f":"IF(statistics!$D$3<>0,IF(AJ3827=statistics!$D$3,AG3827,\"\"),IF(B3827<>\"\",AG3827,\"\"))","v":""},{"$f":"IF(statistics!$D$3<>0,IF(AJ3827=statistics!$D$3,IF(AH3827=0,\"\",AH3827),\"\"),IF(AH3827<>0,AH3827,\"\"))","v":""},{"$f":"IF(statistics!$D$3<>0,IF(AJ3827=statistics!$D$3,IF(A3827=0,\"\",1),\"\"),IF(A3827=0,\"\",1))","v":""},"","",null,"",{"$nulls":10},"",null,null,"",null,0,null,{"$error":"#NUM!"},{"$error":"#NUM!"},3826]
[{"$nulls":4},"","","","","",null,null,"",{"$nulls":6},3837,"",{"$f":"IF(A3839=0,IF(B3839=\"\",IF(B3838=0,\"\",SUM($AG$1:AG3838)-SUM($U$1:U3837)),\"\"),SUM($AG$1:AG3838)-SUM($U$1:U3837))","v":""},{"$nulls":5},0,{"$f":"IF(AJ3838=statistics!$D$3,AB3837+AH3838-AG3838,)","v":0},{"$f":"IF(AND(ROW(AC3838)>=statistics!$C$55,ROW(AC3838)<=statistics!$D$55),AC3837+AH3838-AG3838,)","v":0},{"$f":"IF(AND(statistics!$C$55<=ROW(A3838),ROW(A3838)<=statistics!$D$55)=TRUE,AH3838-AG3838+AA3837-INDEX(AA:AA,statistics!$C$55),\"\")","v":""},null,null,0,0,0,"",{"$f":"IF(statistics!$D$3<>0,IF(AJ3838=statistics!$D$3,AG3838,\"\"),IF(B3838<>\"\",AG3838,\"\"))","v":""},{"$f":"IF(statistics!$D$3<>0,IF(AJ3838=statistics!$D$3,IF(AH3838=0,\"\",AH3838),\"\"),IF(AH3838<>0,AH3838,\"\"))","v":""},{"$f":"IF(statistics!$D$3<>0,IF(AJ3838=statistics!$D$3,IF(A3838=0,\"\",1),\"\"),IF(A3838=0,\"\",1))","v":""},"","",null,"",{"$nulls":10},"",null,null,"",null,0,null,{"$error":"#NUM!"},{"$error":"#NUM!"},3837]
[{"$nulls":4},"","","","","",null,null,{"$f":"IF(A3843=0,\"\",SUM(AI3843:AI13841)-SUM(L3844:L13841))","v":""},{"$nulls":6},3842,{"$f":"IF(A3843=0,\"\",SUM(AG3843:AG13841)-SUM(T3844:T13841))","v":""},{"$f":"IF(A3844=0,IF(B3844=\"\",IF(B3843=0,\"\",SUM($AG$1:AG3843)-SUM($U$1:U3842)),\"\"),SUM($AG$1:AG3843)-SUM($U$1:U3842))","v":""},{"$nulls":5},{"$f":"AA3842+AH3843-AG3843","v":0},{"$f":"IF(AJ3843=statistics!$D$3,AB3842+AH3843-AG3843,)","v":0},{"$f":"IF(AND(ROW(AC3843)>=statistics!$C$55,ROW(AC3843)<=statistics!$D$55),AC3842+AH3843-AG3843,)","v":0},{"$f":"IF(AND(statistics!$C$55<=ROW(A3843),ROW(A3843)<=statistics!$D$55)=TRUE,AH3843-AG3843+AA3842-INDEX(AA:AA,statistics!$C$55),\"\")","v":""},null,null,0,0,0,"",{"$f":"IF(statistics!$D$3<>0,IF(AJ3843=statistics!$D$3,AG3843,\"\"),IF(B3843<>\"\",AG3843,\"\"))","v":""},{"$f":"IF(statistics!$D$3<>0,IF(AJ3843=statistics!$D$3,IF(AH3843=0,\"\",AH3843),\"\"),IF(AH3843<>0,AH3843,\"\"))","v":""},{"$f":"IF(statistics!$D$3<>0,IF(AJ3843=statistics!$D$3,IF(A3843=0,\"\",1),\"\"),IF(A3843=0,\"\",1))","v":""},"","",null,"",{"$nulls":10},"",null,null,"",null,0,null,{"$error":"#NUM!"},{"$error":"#NUM!"},3842]
[{"$nulls":4},"","","","","",null,null,"",{"$nulls":6},3857,"",{"$f":"IF(A3859=0,IF(B3859=\"\",IF(B3858=0,\"\",SUM($AG$1:AG3858)-SUM($U$1:U3857)),\"\"),SUM($AG$1:AG3858)-SUM($U$1:U3857))","v":""},{"$nulls":5},0,{"$f":"IF(AJ3858=statistics!$D$3,AB3857+AH3858-AG3858,)","v":0},{"$f":"IF(AND(ROW(AC3858)>=statistics!$C$55,ROW(AC3858)<=statistics!$D$55),AC3857+AH3858-AG3858,)","v":0},{"$f":"IF(AND(statistics!$C$55<=ROW(A3858),ROW(A3858)<=statistics!$D$55)=TRUE,AH3858-AG3858+AA3857-INDEX(AA:AA,statistics!$C$55),\"\")","v":""},null,null,0,0,0,"",{"$f":"IF(statistics!$D$3<>0,IF(AJ3858=statistics!$D$3,AG3858,\"\"),IF(B3858<>\"\",AG3858,\"\"))","v":""},{"$f":"IF(statistics!$D$3<>0,IF(AJ3858=statistics!$D$3,IF(AH3858=0,\"\",AH3858),\"\"),IF(AH3858<>0,AH3858,\"\"))","v":""},{"$f":"IF(statistics!$D$3<>0,IF(AJ3858=statistics!$D$3,IF(A3858=0,\"\",1),\"\"),IF(A3858=0,\"\",1))","v":""},"","",null,"",{"$nulls":10},"",null,null,"",null,0,null,{"$error":"#NUM!"},{"$error":"#NUM!"},3857]
[{"$nulls":4},"","","","","",null,null,"",{"$nulls":6},3868,"",{"$f":"IF(A3870=0,IF(B3870=\"\",IF(B3869=0,\"\",SUM($AG$1:AG3869)-SUM($U$1:U3868)),\"\"),SUM($AG$1:AG3869)-SUM($U$1:U3868))","v":""},{"$nulls":5},0,{"$f":"IF(AJ3869=statistics!$D$3,AB3868+AH3869-AG3869,)","v":0},{"$f":"IF(AND(ROW(AC3869)>=statistics!$C$55,ROW(AC3869)<=statistics!$D$55),AC3868+AH3869-AG3869,)","v":0},{"$f":"IF(AND(statistics!$C$55<=ROW(A3869),ROW(A3869)<=statistics!$D$55)=TRUE,AH3869-AG3869+AA3868-INDEX(AA:AA,statistics!$C$55),\"\")","v":""},null,null,0,0,0,"",{"$f":"IF(statistics!$D$3<>0,IF(AJ3869=statistics!$D$3,AG3869,\"\"),IF(B3869<>\"\",AG3869,\"\"))","v":""},{"$f":"IF(statistics!$D$3<>0,IF(AJ3869=statistics!$D$3,IF(AH3869=0,\"\",AH3869),\"\"),IF(AH3869<>0,AH3869,\"\"))","v":""},{"$f":"IF(statistics!$D$3<>0,IF(AJ3869=statistics!$D$3,IF(A3869=0,\"\",1),\"\"),IF(A3869=0,\"\",1))","v":""},"","",null,"",{"$nulls":10},"",null,null,"",null,0,null,{"$error":"#NUM!"},{"$error":"#NUM!"},3868]
[{"$nulls":4},"","","","","",null,null,"",{"$nulls":6},3880,"",{"$f":"IF(A3882=0,IF(B3882=\"\",IF(B3881=0,\"\",SUM($AG$1:AG3881)-SUM($U$1:U3880)),\"\"),SUM($AG$1:AG3881)-SUM($U$1:U3880))","v":""},{"$nulls":5},0,{"$f":"IF(AJ3881=statistics!$D$3,AB3880+AH3881-AG3881,)","v":0},{"$f":"IF(AND(ROW(AC3881)>=statistics!$C$55,ROW(AC3881)<=statistics!$D$55),AC3880+AH3881-AG3881,)","v":0},{"$f":"IF(AND(statistics!$C$55<=ROW(A3881),ROW(A3881)<=statistics!$D$55)=TRUE,AH3881-AG3881+AA3880-INDEX(AA:AA,statistics!$C$55),\"\")","v":""},null,null,0,0,0,"",{"$f":"IF(statistics!$D$3<>0,IF(AJ3881=statistics!$D$3,AG3881,\"\"),IF(B3881<>\"\",AG3881,\"\"))","v":""},{"$f":"IF(statistics!$D$3<>0,IF(AJ3881=statistics!$D$3,IF(AH3881=0,\"\",AH3881),\"\"),IF(AH3881<>0,AH3881,\"\"))","v":""},{"$f":"IF(statistics!$D$3<>0,IF(AJ3881=statistics!$D$3,IF(A3881=0,\"\",1),\"\"),IF(A3881=0,\"\",1))","v":""},"","",null,"",{"$nulls":10},"",null,null,"",null,0,null,{"$error":"#NUM!"},{"$error":"#NUM!"},3880]
[{"$nulls":4},"","","","","",null,null,"",{"$nulls":6},3883,"",{"$f":"IF(A3885=0,IF(B3885=\"\",IF(B3884=0,\"\",SUM($AG$1:AG3884)-SUM($U$1:U3883)),\"\"),SUM($AG$1:AG3884)-SUM($U$1:U3883))","v":""},{"$nulls":5},0,{"$f":"IF(AJ3884=statistics!$D$3,AB3883+AH3884-AG3884,)","v":0},{"$f":"IF(AND(ROW(AC3884)>=statistics!$C$55,ROW(AC3884)<=statistics!$D$55),AC3883+AH3884-AG3884,)","v":0},{"$f":"IF(AND(statistics!$C$55<=ROW(A3884),ROW(A3884)<=statistics!$D$55)=TRUE,AH3884-AG3884+AA3883-INDEX(AA:AA,statistics!$C$55),\"\")","v":""},null,null,0,0,0,"",{"$f":"IF(statistics!$D$3<>0,IF(AJ3884=statistics!$D$3,AG3884,\"\"),IF(B3884<>\"\",AG3884,\"\"))","v":""},{"$f":"IF(statistics!$D$3<>0,IF(AJ3884=statistics!$D$3,IF(AH3884=0,\"\",AH3884),\"\"),IF(AH3884<>0,AH3884,\"\"))","v":""},{"$f":"IF(statistics!$D$3<>0,IF(AJ3884=statistics!$D$3,IF(A3884=0,\"\",1),\"\"),IF(A3884=0,\"\",1))","v":""},"","",null,"",{"$nulls":10},"",null,null,"",null,0,null,{"$error":"#NUM!"},{"$error":"#NUM!"},3883]
[{"$nulls":4},"","","","","",null,null,"",{"$nulls":6},3898,"",{"$f":"IF(A3900=0,IF(B3900=\"\",IF(B3899=0,\"\",SUM($AG$1:AG3899)-SUM($U$1:U3898)),\"\"),SUM($AG$1:AG3899)-SUM($U$1:U3898))","v":""},{"$nulls":5},0,{"$f":"IF(AJ3899=statistics!$D$3,AB3898+AH3899-AG3899,)","v":0},{"$f":"IF(AND(ROW(AC3899)>=statistics!$C$55,ROW(AC3899)<=statistics!$D$55),AC3898+AH3899-AG3899,)","v":0},{"$f":"IF(AND(statistics!$C$55<=ROW(A3899),ROW(A3899)<=statistics!$D$55)=TRUE,AH3899-AG3899+AA3898-INDEX(AA:AA,statistics!$C$55),\"\")","v":""},null,null,0,0,0,"",{"$f":"IF(statistics!$D$3<>0,IF(AJ3899=statistics!$D$3,AG3899,\"\"),IF(B3899<>\"\",AG3899,\"\"))","v":""},{"$f":"IF(statistics!$D$3<>0,IF(AJ3899=statistics!$D$3,IF(AH3899=0,\"\",AH3899),\"\"),IF(AH3899<>0,AH3899,\"\"))","v":""},{"$f":"IF(statistics!$D$3<>0,IF(AJ3899=statistics!$D$3,IF(A3899=0,\"\",1),\"\"),IF(A3899=0,\"\",1))","v":""},"","",null,"",{"$nulls":10},"",null,null,"",null,0,null,{"$error":"#NUM!"},{"$error":"#NUM!"},3898]
[{"$nulls":4},"","","","","",null,null,"",{"$nulls":6},3903,"",{"$f":"IF(A3905=0,IF(B3905=\"\",IF(B3904=0,\"\",SUM($AG$1:AG3904)-SUM($U$1:U3903)),\"\"),SUM($AG$1:AG3904)-SUM($U$1:U3903))","v":""},{"$nulls":5},0,{"$f":"IF(AJ3904=statistics!$D$3,AB3903+AH3904-AG3904,)","v":0},{"$f":"IF(AND(ROW(AC3904)>=statistics!$C$55,ROW(AC3904)<=statistics!$D$55),AC3903+AH3904-AG3904,)","v":0},{"$f":"IF(AND(statistics!$C$55<=ROW(A3904),ROW(A3904)<=statistics!$D$55)=TRUE,AH3904-AG3904+AA3903-INDEX(AA:AA,statistics!$C$55),\"\")","v":""},null,null,0,0,0,"",{"$f":"IF(statistics!$D$3<>0,IF(AJ3904=statistics!$D$3,AG3904,\"\"),IF(B3904<>\"\",AG3904,\"\"))","v":""},{"$f":"IF(statistics!$D$3<>0,IF(AJ3904=statistics!$D$3,IF(AH3904=0,\"\",AH3904),\"\"),IF(AH3904<>0,AH3904,\"\"))","v":""},{"$f":"IF(statistics!$D$3<>0,IF(AJ3904=statistics!$D$3,IF(A3904=0,\"\",1),\"\"),IF(A3904=0,\"\",1))","v":""},"","",null,"",{"$nulls":10},"",null,null,"",null,0,null,{"$error":"#NUM!"},{"$error":"#NUM!"},3903]
[{"$nulls":4},"","","","","",null,null,"",{"$nulls":6},3914,"",{"$f":"IF(A3916=0,IF(B3916=\"\",IF(B3915=0,\"\",SUM($AG$1:AG3915)-SUM($U$1:U3914)),\"\"),SUM($AG$1:AG3915)-SUM($U$1:U3914))","v":""},{"$nulls":5},0,{"$f":"IF(AJ3915=statistics!$D$3,AB3914+AH3915-AG3915,)","v":0},{"$f":"IF(AND(ROW(AC3915)>=statistics!$C$55,ROW(AC3915)<=statistics!$D$55),AC3914+AH3915-AG3915,)","v":0},{"$f":"IF(AND(statistics!$C$55<=ROW(A3915),ROW(A3915)<=statistics!$D$55)=TRUE,AH3915-AG3915+AA3914-INDEX(AA:AA,statistics!$C$55),\"\")","v":""},null,null,0,0,0,"",{"$f":"IF(statistics!$D$3<>0,IF(AJ3915=statistics!$D$3,AG3915,\"\"),IF(B3915<>\"\",AG3915,\"\"))","v":""},{"$f":"IF(statistics!$D$3<>0,IF(AJ3915=statistics!$D$3,IF(AH3915=0,\"\",AH3915),\"\"),IF(AH3915<>0,AH3915,\"\"))","v":""},{"$f":"IF(statistics!$D$3<>0,IF(AJ3915=statistics!$D$3,IF(A3915=0,\"\",1),\"\"),IF(A3915=0,\"\",1))","v":""},"","",null,"",{"$nulls":10},"",null,null,"",null,0,null,{"$error":"#NUM!"},{"$error":"#NUM!"},3914]
[{"$nulls":4},"","","","","",null,null,"",{"$nulls":6},3929,"",{"$f":"IF(A3931=0,IF(B3931=\"\",IF(B3930=0,\"\",SUM($AG$1:AG3930)-SUM($U$1:U3929)),\"\"),SUM($AG$1:AG3930)-SUM($U$1:U3929))","v":""},{"$nulls":5},0,{"$f":"IF(AJ3930=statistics!$D$3,AB3929+AH3930-AG3930,)","v":0},{"$f":"IF(AND(ROW(AC3930)>=statistics!$C$55,ROW(AC3930)<=statistics!$D$55),AC3929+AH3930-AG3930,)","v":0},{"$f":"IF(AND(statistics!$C$55<=ROW(A3930),ROW(A3930)<=statistics!$D$55)=TRUE,AH3930-AG3930+AA3929-INDEX(AA:AA,statistics!$C$55),\"\")","v":""},null,null,0,0,0,"",{"$f":"IF(statistics!$D$3<>0,IF(AJ3930=statistics!$D$3,AG3930,\"\"),IF(B3930<>\"\",AG3930,\"\"))","v":""},{"$f":"IF(statistics!$D$3<>0,IF(AJ3930=statistics!$D$3,IF(AH3930=0,\"\",AH3930),\"\"),IF(AH3930<>0,AH3930,\"\"))","v":""},{"$f":"IF(statistics!$D$3<>0,IF(AJ3930=statistics!$D$3,IF(A3930=0,\"\",1),\"\"),IF(A3930=0,\"\",1))","v":""},"","",null,"",{"$nulls":10},"",null,null,"",null,0,null,{"$error":"#NUM!"},{"$error":"#NUM!"},3929]
[{"$nulls":4},"","","","","",null,null,"",{"$nulls":6},3934,"",{"$f":"IF(A3936=0,IF(B3936=\"\",IF(B3935=0,\"\",SUM($AG$1:AG3935)-SUM($U$1:U3934)),\"\"),SUM($AG$1:AG3935)-SUM($U$1:U3934))","v":""},{"$nulls":5},0,{"$f":"IF(AJ3935=statistics!$D$3,AB3934+AH3935-AG3935,)","v":0},{"$f":"IF(AND(ROW(AC3935)>=statistics!$C$55,ROW(AC3935)<=statistics!$D$55),AC3934+AH3935-AG3935,)","v":0},{"$f":"IF(AND(statistics!$C$55<=ROW(A3935),ROW(A3935)<=statistics!$D$55)=TRUE,AH3935-AG3935+AA3934-INDEX(AA:AA,statistics!$C$55),\"\")","v":""},null,null,0,0,0,"",{"$f":"IF(statistics!$D$3<>0,IF(AJ3935=statistics!$D$3,AG3935,\"\"),IF(B3935<>\"\",AG3935,\"\"))","v":""},{"$f":"IF(statistics!$D$3<>0,IF(AJ3935=statistics!$D$3,IF(AH3935=0,\"\",AH3935),\"\"),IF(AH3935<>0,AH3935,\"\"))","v":""},{"$f":"IF(statistics!$D$3<>0,IF(AJ3935=statistics!$D$3,IF(A3935=0,\"\",1),\"\"),IF(A3935=0,\"\",1))","v":""},"","",null,"",{"$nulls":10},"",null,null,"",null,0,null,{"$error":"#NUM!"},{"$error":"#NUM!"},3934]
[{"$nulls":4},"","","","","",null,null,"",{"$nulls":6},3945,"",{"$f":"IF(A3947=0,IF(B3947=\"\",IF(B3946=0,\"\",SUM($AG$1:AG3946)-SUM($U$1:U3945)),\"\"),SUM($AG$1:AG3946)-SUM($U$1:U3945))","v":""},{"$nulls":5},0,{"$f":"IF(AJ3946=statistics!$D$3,AB3945+AH3946-AG3946,)","v":0},{"$f":"IF(AND(ROW(AC3946)>=statistics!$C$55,ROW(AC3946)<=statistics!$D$55),AC3945+AH3946-AG3946,)","v":0},{"$f":"IF(AND(statistics!$C$55<=ROW(A3946),ROW(A3946)<=statistics!$D$55)=TRUE,AH3946-AG3946+AA3945-INDEX(AA:AA,statistics!$C$55),\"\")","v":""},null,null,0,0,0,"",{"$f":"IF(statistics!$D$3<>0,IF(AJ3946=statistics!$D$3,AG3946,\"\"),IF(B3946<>\"\",AG3946,\"\"))","v":""},{"$f":"IF(statistics!$D$3<>0,IF(AJ3946=statistics!$D$3,IF(AH3946=0,\"\",AH3946),\"\"),IF(AH3946<>0,AH3946,\"\"))","v":""},{"$f":"IF(statistics!$D$3<>0,IF(AJ3946=statistics!$D$3,IF(A3946=0,\"\",1),\"\"),IF(A3946=0,\"\",1))","v":""},"","",null,"",{"$nulls":10},"",null,null,"",null,0,null,{"$error":"#NUM!"},{"$error":"#NUM!"},3945]
[{"$nulls":4},"","","","","",null,null,"",{"$nulls":6},3959,"",{"$f":"IF(A3961=0,IF(B3961=\"\",IF(B3960=0,\"\",SUM($AG$1:AG3960)-SUM($U$1:U3959)),\"\"),SUM($AG$1:AG3960)-SUM($U$1:U3959))","v":""},{"$nulls":5},0,{"$f":"IF(AJ3960=statistics!$D$3,AB3959+AH3960-AG3960,)","v":0},{"$f":"IF(AND(ROW(AC3960)>=statistics!$C$55,ROW(AC3960)<=statistics!$D$55),AC3959+AH3960-AG3960,)","v":0},{"$f":"IF(AND(statistics!$C$55<=ROW(A3960),ROW(A3960)<=statistics!$D$55)=TRUE,AH3960-AG3960+AA3959-INDEX(AA:AA,statistics!$C$55),\"\")","v":""},null,null,0,0,0,"",{"$f":"IF(statistics!$D$3<>0,IF(AJ3960=statistics!$D$3,AG3960,\"\"),IF(B3960<>\"\",AG3960,\"\"))","v":""},{"$f":"IF(statistics!$D$3<>0,IF(AJ3960=statistics!$D$3,IF(AH3960=0,\"\",AH3960),\"\"),IF(AH3960<>0,AH3960,\"\"))","v":""},{"$f":"IF(statistics!$D$3<>0,IF(AJ3960=statistics!$D$3,IF(A3960=0,\"\",1),\"\"),IF(A3960=0,\"\",1))","v":""},"","",null,"",{"$nulls":10},"",null,null,"",null,0,null,{"$error":"#NUM!"},{"$error":"#NUM!"},3959]
[{"$nulls":4},"","","","","",null,null,"",{"$nulls":6},3960,"",{"$f":"IF(A3962=0,IF(B3962=\"\",IF(B3961=0,\"\",SUM($AG$1:AG3961)-SUM($U$1:U3960)),\"\"),SUM($AG$1:AG3961)-SUM($U$1:U3960))","v":""},{"$nulls":5},0,{"$f":"IF(AJ3961=statistics!$D$3,AB3960+AH3961-AG3961,)","v":0},{"$f":"IF(AND(ROW(AC3961)>=statistics!$C$55,ROW(AC3961)<=statistics!$D$55),AC3960+AH3961-AG3961,)","v":0},{"$f":"IF(AND(statistics!$C$55<=ROW(A3961),ROW(A3961)<=statistics!$D$55)=TRUE,AH3961-AG3961+AA3960-INDEX(AA:AA,statistics!$C$55),\"\")","v":""},null,null,0,0,0,"",{"$f":"IF(statistics!$D$3<>0,IF(AJ3961=statistics!$D$3,AG3961,\"\"),IF(B3961<>\"\",AG3961,\"\"))","v":""},{"$f":"IF(statistics!$D$3<>0,IF(AJ3961=statistics!$D$3,IF(AH3961=0,\"\",AH3961),\"\"),IF(AH3961<>0,AH3961,\"\"))","v":""},{"$f":"IF(statistics!$D$3<>0,IF(AJ3961=statistics!$D$3,IF(A3961=0,\"\",1),\"\"),IF(A3961=0,\"\",1))","v":""},"","",null,"",{"$nulls":10},"",null,null,"",null,0,null,{"$error":"#NUM!"},{"$error":"#NUM!"},3960]
[{"$nulls":4},"","","","","",null,null,"",{"$nulls":6},3975,"",{"$f":"IF(A3977=0,IF(B3977=\"\",IF(B3976=0,\"\",SUM($AG$1:AG3976)-SUM($U$1:U3975)),\"\"),SUM($AG$1:AG3976)-SUM($U$1:U3975))","v":""},{"$nulls":5},0,{"$f":"IF(AJ3976=statistics!$D$3,AB3975+AH3976-AG3976,)","v":0},{"$f":"IF(AND(ROW(AC3976)>=statistics!$C$55,ROW(AC3976)<=statistics!$D$55),AC3975+AH3976-AG3976,)","v":0},{"$f":"IF(AND(statistics!$C$55<=ROW(A3976),ROW(A3976)<=statistics!$D$55)=TRUE,AH3976-AG3976+AA3975-INDEX(AA:AA,statistics!$C$55),\"\")","v":""},null,null,0,0,0,"",{"$f":"IF(statistics!$D$3<>0,IF(AJ3976=statistics!$D$3,AG3976,\"\"),IF(B3976<>\"\",AG3976,\"\"))","v":""},{"$f":"IF(statistics!$D$3<>0,IF(AJ3976=statistics!$D$3,IF(AH3976=0,\"\",AH3976),\"\"),IF(AH3976<>0,AH3976,\"\"))","v":""},{"$f":"IF(statistics!$D$3<>0,IF(AJ3976=statistics!$D$3,IF(A3976=0,\"\",1),\"\"),IF(A3976=0,\"\",1))","v":""},"","",null,"",{"$nulls":10},"",null,null,"",null,0,null,{"$error":"#NUM!"},{"$error":"#NUM!"},3975]
[{"$nulls":4},"","","","","",null,null,"",{"$nulls":6},3980,"",{"$f":"IF(A3982=0,IF(B3982=\"\",IF(B3981=0,\"\",SUM($AG$1:AG3981)-SUM($U$1:U3980)),\"\"),SUM($AG$1:AG3981)-SUM($U$1:U3980))","v":""},{"$nulls":5},0,{"$f":"IF(AJ3981=statistics!$D$3,AB3980+AH3981-AG3981,)","v":0},{"$f":"IF(AND(ROW(AC3981)>=statistics!$C$55,ROW(AC3981)<=statistics!$D$55),AC3980+AH3981-AG3981,)","v":0},{"$f":"IF(AND(statistics!$C$55<=ROW(A3981),ROW(A3981)<=statistics!$D$55)=TRUE,AH3981-AG3981+AA3980-INDEX(AA:AA,statistics!$C$55),\"\")","v":""},null,null,0,0,0,"",{"$f":"IF(statistics!$D$3<>0,IF(AJ3981=statistics!$D$3,AG3981,\"\"),IF(B3981<>\"\",AG3981,\"\"))","v":""},{"$f":"IF(statistics!$D$3<>0,IF(AJ3981=statistics!$D$3,IF(AH3981=0,\"\",AH3981),\"\"),IF(AH3981<>0,AH3981,\"\"))","v":""},{"$f":"IF(statistics!$D$3<>0,IF(AJ3981=statistics!$D$3,IF(A3981=0,\"\",1),\"\"),IF(A3981=0,\"\",1))","v":""},"","",null,"",{"$nulls":10},"",null,null,"",null,0,null,{"$error":"#NUM!"},{"$error":"#NUM!"},3980]
[{"$nulls":4},"","","","","",null,null,"",{"$nulls":6},3991,"",{"$f":"IF(A3993=0,IF(B3993=\"\",IF(B3992=0,\"\",SUM($AG$1:AG3992)-SUM($U$1:U3991)),\"\"),SUM($AG$1:AG3992)-SUM($U$1:U3991))","v":""},{"$nulls":5},0,{"$f":"IF(AJ3992=statistics!$D$3,AB3991+AH3992-AG3992,)","v":0},{"$f":"IF(AND(ROW(AC3992)>=statistics!$C$55,ROW(AC3992)<=statistics!$D$55),AC3991+AH3992-AG3992,)","v":0},{"$f":"IF(AND(statistics!$C$55<=ROW(A3992),ROW(A3992)<=statistics!$D$55)=TRUE,AH3992-AG3992+AA3991-INDEX(AA:AA,statistics!$C$55),\"\")","v":""},null,null,0,0,0,"",{"$f":"IF(statistics!$D$3<>0,IF(AJ3992=statistics!$D$3,AG3992,\"\"),IF(B3992<>\"\",AG3992,\"\"))","v":""},{"$f":"IF(statistics!$D$3<>0,IF(AJ3992=statistics!$D$3,IF(AH3992=0,\"\",AH3992),\"\"),IF(AH3992<>0,AH3992,\"\"))","v":""},{"$f":"IF(statistics!$D$3<>0,IF(AJ3992=statistics!$D$3,IF(A3992=0,\"\",1),\"\"),IF(A3992=0,\"\",1))","v":""},"","",null,"",{"$nulls":10},"",null,null,"",null,0,null,{"$error":"#NUM!"},{"$error":"#NUM!"},3991]
[{"$nulls":4},"","","","","",null,null,"",{"$nulls":6},4006,"",{"$f":"IF(A4008=0,IF(B4008=\"\",IF(B4007=0,\"\",SUM($AG$1:AG4007)-SUM($U$1:U4006)),\"\"),SUM($AG$1:AG4007)-SUM($U$1:U4006))","v":""},{"$nulls":5},0,{"$f":"IF(AJ4007=statistics!$D$3,AB4006+AH4007-AG4007,)","v":0},{"$f":"IF(AND(ROW(AC4007)>=statistics!$C$55,ROW(AC4007)<=statistics!$D$55),AC4006+AH4007-AG4007,)","v":0},{"$f":"IF(AND(statistics!$C$55<=ROW(A4007),ROW(A4007)<=statistics!$D$55)=TRUE,AH4007-AG4007+AA4006-INDEX(AA:AA,statistics!$C$55),\"\")","v":""},null,null,0,0,0,"",{"$f":"IF(statistics!$D$3<>0,IF(AJ4007=statistics!$D$3,AG4007,\"\"),IF(B4007<>\"\",AG4007,\"\"))","v":""},{"$f":"IF(statistics!$D$3<>0,IF(AJ4007=statistics!$D$3,IF(AH4007=0,\"\",AH4007),\"\"),IF(AH4007<>0,AH4007,\"\"))","v":""},{"$f":"IF(statistics!$D$3<>0,IF(AJ4007=statistics!$D$3,IF(A4007=0,\"\",1),\"\"),IF(A4007=0,\"\",1))","v":""},"","",null,"",{"$nulls":10},"",null,null,"",null,0,null,{"$error":"#NUM!"},{"$error":"#NUM!"},4006]
[{"$nulls":4},"","","","","",null,null,"",{"$nulls":6},4011,"",{"$f":"IF(A4013=0,IF(B4013=\"\",IF(B4012=0,\"\",SUM($AG$1:AG4012)-SUM($U$1:U4011)),\"\"),SUM($AG$1:AG4012)-SUM($U$1:U4011))","v":""},{"$nulls":5},0,{"$f":"IF(AJ4012=statistics!$D$3,AB4011+AH4012-AG4012,)","v":0},{"$f":"IF(AND(ROW(AC4012)>=statistics!$C$55,ROW(AC4012)<=statistics!$D$55),AC4011+AH4012-AG4012,)","v":0},{"$f":"IF(AND(statistics!$C$55<=ROW(A4012),ROW(A4012)<=statistics!$D$55)=TRUE,AH4012-AG4012+AA4011-INDEX(AA:AA,statistics!$C$55),\"\")","v":""},null,null,0,0,0,"",{"$f":"IF(statistics!$D$3<>0,IF(AJ4012=statistics!$D$3,AG4012,\"\"),IF(B4012<>\"\",AG4012,\"\"))","v":""},{"$f":"IF(statistics!$D$3<>0,IF(AJ4012=statistics!$D$3,IF(AH4012=0,\"\",AH4012),\"\"),IF(AH4012<>0,AH4012,\"\"))","v":""},{"$f":"IF(statistics!$D$3<>0,IF(AJ4012=statistics!$D$3,IF(A4012=0,\"\",1),\"\"),IF(A4012=0,\"\",1))","v":""},"","",null,"",{"$nulls":10},"",null,null,"",null,0,null,{"$error":"#NUM!"},{"$error":"#NUM!"},4011]
[{"$nulls":4},"","","","","",null,null,"",{"$nulls":6},4025,"",{"$f":"IF(A4027=0,IF(B4027=\"\",IF(B4026=0,\"\",SUM($AG$1:AG4026)-SUM($U$1:U4025)),\"\"),SUM($AG$1:AG4026)-SUM($U$1:U4025))","v":""},{"$nulls":5},0,{"$f":"IF(AJ4026=statistics!$D$3,AB4025+AH4026-AG4026,)","v":0},{"$f":"IF(AND(ROW(AC4026)>=statistics!$C$55,ROW(AC4026)<=statistics!$D$55),AC4025+AH4026-AG4026,)","v":0},{"$f":"IF(AND(statistics!$C$55<=ROW(A4026),ROW(A4026)<=statistics!$D$55)=TRUE,AH4026-AG4026+AA4025-INDEX(AA:AA,statistics!$C$55),\"\")","v":""},null,null,0,0,0,"",{"$f":"IF(statistics!$D$3<>0,IF(AJ4026=statistics!$D$3,AG4026,\"\"),IF(B4026<>\"\",AG4026,\"\"))","v":""},{"$f":"IF(statistics!$D$3<>0,IF(AJ4026=statistics!$D$3,IF(AH4026=0,\"\",AH4026),\"\"),IF(AH4026<>0,AH4026,\"\"))","v":""},{"$f":"IF(statistics!$D$3<>0,IF(AJ4026=statistics!$D$3,IF(A4026=0,\"\",1),\"\"),IF(A4026=0,\"\",1))","v":""},"","",null,"",{"$nulls":10},"",null,null,"",null,0,null,{"$error":"#NUM!"},{"$error":"#NUM!"},4025]
[{"$nulls":4},"","","","","",null,null,"",{"$nulls":6},4036,"",{"$f":"IF(A4038=0,IF(B4038=\"\",IF(B4037=0,\"\",SUM($AG$1:AG4037)-SUM($U$1:U4036)),\"\"),SUM($AG$1:AG4037)-SUM($U$1:U4036))","v":""},{"$nulls":5},0,{"$f":"IF(AJ4037=statistics!$D$3,AB4036+AH4037-AG4037,)","v":0},{"$f":"IF(AND(ROW(AC4037)>=statistics!$C$55,ROW(AC4037)<=statistics!$D$55),AC4036+AH4037-AG4037,)","v":0},{"$f":"IF(AND(statistics!$C$55<=ROW(A4037),ROW(A4037)<=statistics!$D$55)=TRUE,AH4037-AG4037+AA4036-INDEX(AA:AA,statistics!$C$55),\"\")","v":""},null,null,0,0,0,"",{"$f":"IF(statistics!$D$3<>0,IF(AJ4037=statistics!$D$3,AG4037,\"\"),IF(B4037<>\"\",AG4037,\"\"))","v":""},{"$f":"IF(statistics!$D$3<>0,IF(AJ4037=statistics!$D$3,IF(AH4037=0,\"\",AH4037),\"\"),IF(AH4037<>0,AH4037,\"\"))","v":""},{"$f":"IF(statistics!$D$3<>0,IF(AJ4037=statistics!$D$3,IF(A4037=0,\"\",1),\"\"),IF(A4037=0,\"\",1))","v":""},"","",null,"",{"$nulls":10},"",null,null,"",null,0,null,{"$error":"#NUM!"},{"$error":"#NUM!"},4036]
[{"$nulls":4},"","","","","",null,null,"",{"$nulls":6},4047,"",{"$f":"IF(A4049=0,IF(B4049=\"\",IF(B4048=0,\"\",SUM($AG$1:AG4048)-SUM($U$1:U4047)),\"\"),SUM($AG$1:AG4048)-SUM($U$1:U4047))","v":""},{"$nulls":5},0,{"$f":"IF(AJ4048=statistics!$D$3,AB4047+AH4048-AG4048,)","v":0},{"$f":"IF(AND(ROW(AC4048)>=statistics!$C$55,ROW(AC4048)<=statistics!$D$55),AC4047+AH4048-AG4048,)","v":0},{"$f":"IF(AND(statistics!$C$55<=ROW(A4048),ROW(A4048)<=statistics!$D$55)=TRUE,AH4048-AG4048+AA4047-INDEX(AA:AA,statistics!$C$55),\"\")","v":""},null,null,0,0,0,"",{"$f":"IF(statistics!$D$3<>0,IF(AJ4048=statistics!$D$3,AG4048,\"\"),IF(B4048<>\"\",AG4048,\"\"))","v":""},{"$f":"IF(statistics!$D$3<>0,IF(AJ4048=statistics!$D$3,IF(AH4048=0,\"\",AH4048),\"\"),IF(AH4048<>0,AH4048,\"\"))","v":""},{"$f":"IF(statistics!$D$3<>0,IF(AJ4048=statistics!$D$3,IF(A4048=0,\"\",1),\"\"),IF(A4048=0,\"\",1))","v":""},"","",null,"",{"$nulls":10},"",null,null,"",null,0,null,{"$error":"#NUM!"},{"$error":"#NUM!"},4047]
[{"$nulls":4},"","","","","",null,null,"",{"$nulls":6},4052,"",{"$f":"IF(A4054=0,IF(B4054=\"\",IF(B4053=0,\"\",SUM($AG$1:AG4053)-SUM($U$1:U4052)),\"\"),SUM($AG$1:AG4053)-SUM($U$1:U4052))","v":""},{"$nulls":5},0,{"$f":"IF(AJ4053=statistics!$D$3,AB4052+AH4053-AG4053,)","v":0},{"$f":"IF(AND(ROW(AC4053)>=statistics!$C$55,ROW(AC4053)<=statistics!$D$55),AC4052+AH4053-AG4053,)","v":0},{"$f":"IF(AND(statistics!$C$55<=ROW(A4053),ROW(A4053)<=statistics!$D$55)=TRUE,AH4053-AG4053+AA4052-INDEX(AA:AA,statistics!$C$55),\"\")","v":""},null,null,0,0,0,"",{"$f":"IF(statistics!$D$3<>0,IF(AJ4053=statistics!$D$3,AG4053,\"\"),IF(B4053<>\"\",AG4053,\"\"))","v":""},{"$f":"IF(statistics!$D$3<>0,IF(AJ4053=statistics!$D$3,IF(AH4053=0,\"\",AH4053),\"\"),IF(AH4053<>0,AH4053,\"\"))","v":""},{"$f":"IF(statistics!$D$3<>0,IF(AJ4053=statistics!$D$3,IF(A4053=0,\"\",1),\"\"),IF(A4053=0,\"\",1))","v":""},"","",null,"",{"$nulls":10},"",null,null,"",null,0,null,{"$error":"#NUM!"},{"$error":"#NUM!"},4052]
[{"$nulls":4},"","","","","",null,null,"",{"$nulls":6},4067,"",{"$f":"IF(A4069=0,IF(B4069=\"\",IF(B4068=0,\"\",SUM($AG$1:AG4068)-SUM($U$1:U4067)),\"\"),SUM($AG$1:AG4068)-SUM($U$1:U4067))","v":""},{"$nulls":5},0,{"$f":"IF(AJ4068=statistics!$D$3,AB4067+AH4068-AG4068,)","v":0},{"$f":"IF(AND(ROW(AC4068)>=statistics!$C$55,ROW(AC4068)<=statistics!$D$55),AC4067+AH4068-AG4068,)","v":0},{"$f":"IF(AND(statistics!$C$55<=ROW(A4068),ROW(A4068)<=statistics!$D$55)=TRUE,AH4068-AG4068+AA4067-INDEX(AA:AA,statistics!$C$55),\"\")","v":""},null,null,0,0,0,"",{"$f":"IF(statistics!$D$3<>0,IF(AJ4068=statistics!$D$3,AG4068,\"\"),IF(B4068<>\"\",AG4068,\"\"))","v":""},{"$f":"IF(statistics!$D$3<>0,IF(AJ4068=statistics!$D$3,IF(AH4068=0,\"\",AH4068),\"\"),IF(AH4068<>0,AH4068,\"\"))","v":""},{"$f":"IF(statistics!$D$3<>0,IF(AJ4068=statistics!$D$3,IF(A4068=0,\"\",1),\"\"),IF(A4068=0,\"\",1))","v":""},"","",null,"",{"$nulls":10},"",null,null,"",null,0,null,{"$error":"#NUM!"},{"$error":"#NUM!"},4067]
[{"$nulls":4},"","","","","",null,null,"",{"$nulls":6},4078,"",{"$f":"IF(A4080=0,IF(B4080=\"\",IF(B4079=0,\"\",SUM($AG$1:AG4079)-SUM($U$1:U4078)),\"\"),SUM($AG$1:AG4079)-SUM($U$1:U4078))","v":""},{"$nulls":5},0,{"$f":"IF(AJ4079=statistics!$D$3,AB4078+AH4079-AG4079,)","v":0},{"$f":"IF(AND(ROW(AC4079)>=statistics!$C$55,ROW(AC4079)<=statistics!$D$55),AC4078+AH4079-AG4079,)","v":0},{"$f":"IF(AND(statistics!$C$55<=ROW(A4079),ROW(A4079)<=statistics!$D$55)=TRUE,AH4079-AG4079+AA4078-INDEX(AA:AA,statistics!$C$55),\"\")","v":""},null,null,0,0,0,"",{"$f":"IF(statistics!$D$3<>0,IF(AJ4079=statistics!$D$3,AG4079,\"\"),IF(B4079<>\"\",AG4079,\"\"))","v":""},{"$f":"IF(statistics!$D$3<>0,IF(AJ4079=statistics!$D$3,IF(AH4079=0,\"\",AH4079),\"\"),IF(AH4079<>0,AH4079,\"\"))","v":""},{"$f":"IF(statistics!$D$3<>0,IF(AJ4079=statistics!$D$3,IF(A4079=0,\"\",1),\"\"),IF(A4079=0,\"\",1))","v":""},"","",null,"",{"$nulls":10},"",null,null,"",null,0,null,{"$error":"#NUM!"},{"$error":"#NUM!"},4078]
[{"$nulls":4},"","","","","",null,null,"",{"$nulls":6},4083,"",{"$f":"IF(A4085=0,IF(B4085=\"\",IF(B4084=0,\"\",SUM($AG$1:AG4084)-SUM($U$1:U4083)),\"\"),SUM($AG$1:AG4084)-SUM($U$1:U4083))","v":""},{"$nulls":5},0,{"$f":"IF(AJ4084=statistics!$D$3,AB4083+AH4084-AG4084,)","v":0},{"$f":"IF(AND(ROW(AC4084)>=statistics!$C$55,ROW(AC4084)<=statistics!$D$55),AC4083+AH4084-AG4084,)","v":0},{"$f":"IF(AND(statistics!$C$55<=ROW(A4084),ROW(A4084)<=statistics!$D$55)=TRUE,AH4084-AG4084+AA4083-INDEX(AA:AA,statistics!$C$55),\"\")","v":""},null,null,0,0,0,"",{"$f":"IF(statistics!$D$3<>0,IF(AJ4084=statistics!$D$3,AG4084,\"\"),IF(B4084<>\"\",AG4084,\"\"))","v":""},{"$f":"IF(statistics!$D$3<>0,IF(AJ4084=statistics!$D$3,IF(AH4084=0,\"\",AH4084),\"\"),IF(AH4084<>0,AH4084,\"\"))","v":""},{"$f":"IF(statistics!$D$3<>0,IF(AJ4084=statistics!$D$3,IF(A4084=0,\"\",1),\"\"),IF(A4084=0,\"\",1))","v":""},"","",null,"",{"$nulls":10},"",null,null,"",null,0,null,{"$error":"#NUM!"},{"$error":"#NUM!"},4083]
[{"$nulls":4},"","","","","",null,null,"",{"$nulls":6},4091,"",{"$f":"IF(A4093=0,IF(B4093=\"\",IF(B4092=0,\"\",SUM($AG$1:AG4092)-SUM($U$1:U4091)),\"\"),SUM($AG$1:AG4092)-SUM($U$1:U4091))","v":""},{"$nulls":5},0,{"$f":"IF(AJ4092=statistics!$D$3,AB4091+AH4092-AG4092,)","v":0},{"$f":"IF(AND(ROW(AC4092)>=statistics!$C$55,ROW(AC4092)<=statistics!$D$55),AC4091+AH4092-AG4092,)","v":0},{"$f":"IF(AND(statistics!$C$55<=ROW(A4092),ROW(A4092)<=statistics!$D$55)=TRUE,AH4092-AG4092+AA4091-INDEX(AA:AA,statistics!$C$55),\"\")","v":""},null,null,0,0,0,"",{"$f":"IF(statistics!$D$3<>0,IF(AJ4092=statistics!$D$3,AG4092,\"\"),IF(B4092<>\"\",AG4092,\"\"))","v":""},{"$f":"IF(statistics!$D$3<>0,IF(AJ4092=statistics!$D$3,IF(AH4092=0,\"\",AH4092),\"\"),IF(AH4092<>0,AH4092,\"\"))","v":""},{"$f":"IF(statistics!$D$3<>0,IF(AJ4092=statistics!$D$3,IF(A4092=0,\"\",1),\"\"),IF(A4092=0,\"\",1))","v":""},"","",null,"",{"$nulls":10},"",null,null,"",null,0,null,{"$error":"#NUM!"},{"$error":"#NUM!"},4091]
[{"$nulls":4},"","","","","",null,null,{"$f":"IF(A4099=0,\"\",SUM(AI4099:AI14097)-SUM(L4100:L14097))","v":""},{"$nulls":6},4098,{"$f":"IF(A4099=0,\"\",SUM(AG4099:AG14097)-SUM(T4100:T14097))","v":""},{"$f":"IF(A4100=0,IF(B4100=\"\",IF(B4099=0,\"\",SUM($AG$1:AG4099)-SUM($U$1:U4098)),\"\"),SUM($AG$1:AG4099)-SUM($U$1:U4098))","v":""},{"$nulls":5},{"$f":"AA4098+AH4099-AG4099","v":0},{"$f":"IF(AJ4099=statistics!$D$3,AB4098+AH4099-AG4099,)","v":0},{"$f":"IF(AND(ROW(AC4099)>=statistics!$C$55,ROW(AC4099)<=statistics!$D$55),AC4098+AH4099-AG4099,)","v":0},{"$f":"IF(AND(statistics!$C$55<=ROW(A4099),ROW(A4099)<=statistics!$D$55)=TRUE,AH4099-AG4099+AA4098-INDEX(AA:AA,statistics!$C$55),\"\")","v":""},null,null,0,0,0,"",{"$f":"IF(statistics!$D$3<>0,IF(AJ4099=statistics!$D$3,AG4099,\"\"),IF(B4099<>\"\",AG4099,\"\"))","v":""},{"$f":"IF(statistics!$D$3<>0,IF(AJ4099=statistics!$D$3,IF(AH4099=0,\"\",AH4099),\"\"),IF(AH4099<>0,AH4099,\"\"))","v":""},{"$f":"IF(statistics!$D$3<>0,IF(AJ4099=statistics!$D$3,IF(A4099=0,\"\",1),\"\"),IF(A4099=0,\"\",1))","v":""},"","",null,"",{"$nulls":10},"",null,null,"",null,0,null,{"$error":"#NUM!"},{"$error":"#NUM!"},4098]
[{"$nulls":4},"","","","","",null,null,"",{"$nulls":6},4113,"",{"$f":"IF(A4115=0,IF(B4115=\"\",IF(B4114=0,\"\",SUM($AG$1:AG4114)-SUM($U$1:U4113)),\"\"),SUM($AG$1:AG4114)-SUM($U$1:U4113))","v":""},{"$nulls":5},0,{"$f":"IF(AJ4114=statistics!$D$3,AB4113+AH4114-AG4114,)","v":0},{"$f":"IF(AND(ROW(AC4114)>=statistics!$C$55,ROW(AC4114)<=statistics!$D$55),AC4113+AH4114-AG4114,)","v":0},{"$f":"IF(AND(statistics!$C$55<=ROW(A4114),ROW(A4114)<=statistics!$D$55)=TRUE,AH4114-AG4114+AA4113-INDEX(AA:AA,statistics!$C$55),\"\")","v":""},null,null,0,0,0,"",{"$f":"IF(statistics!$D$3<>0,IF(AJ4114=statistics!$D$3,AG4114,\"\"),IF(B4114<>\"\",AG4114,\"\"))","v":""},{"$f":"IF(statistics!$D$3<>0,IF(AJ4114=statistics!$D$3,IF(AH4114=0,\"\",AH4114),\"\"),IF(AH4114<>0,AH4114,\"\"))","v":""},{"$f":"IF(statistics!$D$3<>0,IF(AJ4114=statistics!$D$3,IF(A4114=0,\"\",1),\"\"),IF(A4114=0,\"\",1))","v":""},"","",null,"",{"$nulls":10},"",null,null,"",null,0,null,{"$error":"#NUM!"},{"$error":"#NUM!"},4113]
[{"$nulls":4},"","","","","",null,null,"",{"$nulls":6},4124,"",{"$f":"IF(A4126=0,IF(B4126=\"\",IF(B4125=0,\"\",SUM($AG$1:AG4125)-SUM($U$1:U4124)),\"\"),SUM($AG$1:AG4125)-SUM($U$1:U4124))","v":""},{"$nulls":5},0,{"$f":"IF(AJ4125=statistics!$D$3,AB4124+AH4125-AG4125,)","v":0},{"$f":"IF(AND(ROW(AC4125)>=statistics!$C$55,ROW(AC4125)<=statistics!$D$55),AC4124+AH4125-AG4125,)","v":0},{"$f":"IF(AND(statistics!$C$55<=ROW(A4125),ROW(A4125)<=statistics!$D$55)=TRUE,AH4125-AG4125+AA4124-INDEX(AA:AA,statistics!$C$55),\"\")","v":""},null,null,0,0,0,"",{"$f":"IF(statistics!$D$3<>0,IF(AJ4125=statistics!$D$3,AG4125,\"\"),IF(B4125<>\"\",AG4125,\"\"))","v":""},{"$f":"IF(statistics!$D$3<>0,IF(AJ4125=statistics!$D$3,IF(AH4125=0,\"\",AH4125),\"\"),IF(AH4125<>0,AH4125,\"\"))","v":""},{"$f":"IF(statistics!$D$3<>0,IF(AJ4125=statistics!$D$3,IF(A4125=0,\"\",1),\"\"),IF(A4125=0,\"\",1))","v":""},"","",null,"",{"$nulls":10},"",null,null,"",null,0,null,{"$error":"#NUM!"},{"$error":"#NUM!"},4124]
[{"$nulls":4},"","","","","",null,null,"",{"$nulls":6},4129,"",{"$f":"IF(A4131=0,IF(B4131=\"\",IF(B4130=0,\"\",SUM($AG$1:AG4130)-SUM($U$1:U4129)),\"\"),SUM($AG$1:AG4130)-SUM($U$1:U4129))","v":""},{"$nulls":5},0,{"$f":"IF(AJ4130=statistics!$D$3,AB4129+AH4130-AG4130,)","v":0},{"$f":"IF(AND(ROW(AC4130)>=statistics!$C$55,ROW(AC4130)<=statistics!$D$55),AC4129+AH4130-AG4130,)","v":0},{"$f":"IF(AND(statistics!$C$55<=ROW(A4130),ROW(A4130)<=statistics!$D$55)=TRUE,AH4130-AG4130+AA4129-INDEX(AA:AA,statistics!$C$55),\"\")","v":""},null,null,0,0,0,"",{"$f":"IF(statistics!$D$3<>0,IF(AJ4130=statistics!$D$3,AG4130,\"\"),IF(B4130<>\"\",AG4130,\"\"))","v":""},{"$f":"IF(statistics!$D$3<>0,IF(AJ4130=statistics!$D$3,IF(AH4130=0,\"\",AH4130),\"\"),IF(AH4130<>0,AH4130,\"\"))","v":""},{"$f":"IF(statistics!$D$3<>0,IF(AJ4130=statistics!$D$3,IF(A4130=0,\"\",1),\"\"),IF(A4130=0,\"\",1))","v":""},"","",null,"",{"$nulls":10},"",null,null,"",null,0,null,{"$error":"#NUM!"},{"$error":"#NUM!"},4129]
[{"$nulls":4},"","","","","",null,null,"",{"$nulls":6},4144,"",{"$f":"IF(A4146=0,IF(B4146=\"\",IF(B4145=0,\"\",SUM($AG$1:AG4145)-SUM($U$1:U4144)),\"\"),SUM($AG$1:AG4145)-SUM($U$1:U4144))","v":""},{"$nulls":5},0,{"$f":"IF(AJ4145=statistics!$D$3,AB4144+AH4145-AG4145,)","v":0},{"$f":"IF(AND(ROW(AC4145)>=statistics!$C$55,ROW(AC4145)<=statistics!$D$55),AC4144+AH4145-AG4145,)","v":0},{"$f":"IF(AND(statistics!$C$55<=ROW(A4145),ROW(A4145)<=statistics!$D$55)=TRUE,AH4145-AG4145+AA4144-INDEX(AA:AA,statistics!$C$55),\"\")","v":""},null,null,0,0,0,"",{"$f":"IF(statistics!$D$3<>0,IF(AJ4145=statistics!$D$3,AG4145,\"\"),IF(B4145<>\"\",AG4145,\"\"))","v":""},{"$f":"IF(statistics!$D$3<>0,IF(AJ4145=statistics!$D$3,IF(AH4145=0,\"\",AH4145),\"\"),IF(AH4145<>0,AH4145,\"\"))","v":""},{"$f":"IF(statistics!$D$3<>0,IF(AJ4145=statistics!$D$3,IF(A4145=0,\"\",1),\"\"),IF(A4145=0,\"\",1))","v":""},"","",null,"",{"$nulls":10},"",null,null,"",null,0,null,{"$error":"#NUM!"},{"$error":"#NUM!"},4144]
[{"$nulls":4},"","","","","",null,null,"",{"$nulls":6},4155,"",{"$f":"IF(A4157=0,IF(B4157=\"\",IF(B4156=0,\"\",SUM($AG$1:AG4156)-SUM($U$1:U4155)),\"\"),SUM($AG$1:AG4156)-SUM($U$1:U4155))","v":""},{"$nulls":5},0,{"$f":"IF(AJ4156=statistics!$D$3,AB4155+AH4156-AG4156,)","v":0},{"$f":"IF(AND(ROW(AC4156)>=statistics!$C$55,ROW(AC4156)<=statistics!$D$55),AC4155+AH4156-AG4156,)","v":0},{"$f":"IF(AND(statistics!$C$55<=ROW(A4156),ROW(A4156)<=statistics!$D$55)=TRUE,AH4156-AG4156+AA4155-INDEX(AA:AA,statistics!$C$55),\"\")","v":""},null,null,0,0,0,"",{"$f":"IF(statistics!$D$3<>0,IF(AJ4156=statistics!$D$3,AG4156,\"\"),IF(B4156<>\"\",AG4156,\"\"))","v":""},{"$f":"IF(statistics!$D$3<>0,IF(AJ4156=statistics!$D$3,IF(AH4156=0,\"\",AH4156),\"\"),IF(AH4156<>0,AH4156,\"\"))","v":""},{"$f":"IF(statistics!$D$3<>0,IF(AJ4156=statistics!$D$3,IF(A4156=0,\"\",1),\"\"),IF(A4156=0,\"\",1))","v":""},"","",null,"",{"$nulls":10},"",null,null,"",null,0,null,{"$error":"#NUM!"},{"$error":"#NUM!"},4155]
[{"$nulls":4},"","","","","",null,null,{"$f":"IF(A4163=0,\"\",SUM(AI4163:AI14161)-SUM(L4164:L14161))","v":""},{"$nulls":6},4162,{"$f":"IF(A4163=0,\"\",SUM(AG4163:AG14161)-SUM(T4164:T14161))","v":""},{"$f":"IF(A4164=0,IF(B4164=\"\",IF(B4163=0,\"\",SUM($AG$1:AG4163)-SUM($U$1:U4162)),\"\"),SUM($AG$1:AG4163)-SUM($U$1:U4162))","v":""},{"$nulls":5},{"$f":"AA4162+AH4163-AG4163","v":0},{"$f":"IF(AJ4163=statistics!$D$3,AB4162+AH4163-AG4163,)","v":0},{"$f":"IF(AND(ROW(AC4163)>=statistics!$C$55,ROW(AC4163)<=statistics!$D$55),AC4162+AH4163-AG4163,)","v":0},{"$f":"IF(AND(statistics!$C$55<=ROW(A4163),ROW(A4163)<=statistics!$D$55)=TRUE,AH4163-AG4163+AA4162-INDEX(AA:AA,statistics!$C$55),\"\")","v":""},null,null,0,0,0,"",{"$f":"IF(statistics!$D$3<>0,IF(AJ4163=statistics!$D$3,AG4163,\"\"),IF(B4163<>\"\",AG4163,\"\"))","v":""},{"$f":"IF(statistics!$D$3<>0,IF(AJ4163=statistics!$D$3,IF(AH4163=0,\"\",AH4163),\"\"),IF(AH4163<>0,AH4163,\"\"))","v":""},{"$f":"IF(statistics!$D$3<>0,IF(AJ4163=statistics!$D$3,IF(A4163=0,\"\",1),\"\"),IF(A4163=0,\"\",1))","v":""},"","",null,"",{"$nulls":10},"",null,null,"",null,0,null,{"$error":"#NUM!"},{"$error":"#NUM!"},4162]
[{"$nulls":4},"","","","","",null,null,"",{"$nulls":6},4170,"",{"$f":"IF(A4172=0,IF(B4172=\"\",IF(B4171=0,\"\",SUM($AG$1:AG4171)-SUM($U$1:U4170)),\"\"),SUM($AG$1:AG4171)-SUM($U$1:U4170))","v":""},{"$nulls":5},0,{"$f":"IF(AJ4171=statistics!$D$3,AB4170+AH4171-AG4171,)","v":0},{"$f":"IF(AND(ROW(AC4171)>=statistics!$C$55,ROW(AC4171)<=statistics!$D$55),AC4170+AH4171-AG4171,)","v":0},{"$f":"IF(AND(statistics!$C$55<=ROW(A4171),ROW(A4171)<=statistics!$D$55)=TRUE,AH4171-AG4171+AA4170-INDEX(AA:AA,statistics!$C$55),\"\")","v":""},null,null,0,0,0,"",{"$f":"IF(statistics!$D$3<>0,IF(AJ4171=statistics!$D$3,AG4171,\"\"),IF(B4171<>\"\",AG4171,\"\"))","v":""},{"$f":"IF(statistics!$D$3<>0,IF(AJ4171=statistics!$D$3,IF(AH4171=0,\"\",AH4171),\"\"),IF(AH4171<>0,AH4171,\"\"))","v":""},{"$f":"IF(statistics!$D$3<>0,IF(AJ4171=statistics!$D$3,IF(A4171=0,\"\",1),\"\"),IF(A4171=0,\"\",1))","v":""},"","",null,"",{"$nulls":10},"",null,null,"",null,0,null,{"$error":"#NUM!"},{"$error":"#NUM!"},4170]
[{"$nulls":4},"","","","","",null,null,"",{"$nulls":6},4185,"",{"$f":"IF(A4187=0,IF(B4187=\"\",IF(B4186=0,\"\",SUM($AG$1:AG4186)-SUM($U$1:U4185)),\"\"),SUM($AG$1:AG4186)-SUM($U$1:U4185))","v":""},{"$nulls":5},0,{"$f":"IF(AJ4186=statistics!$D$3,AB4185+AH4186-AG4186,)","v":0},{"$f":"IF(AND(ROW(AC4186)>=statistics!$C$55,ROW(AC4186)<=statistics!$D$55),AC4185+AH4186-AG4186,)","v":0},{"$f":"IF(AND(statistics!$C$55<=ROW(A4186),ROW(A4186)<=statistics!$D$55)=TRUE,AH4186-AG4186+AA4185-INDEX(AA:AA,statistics!$C$55),\"\")","v":""},null,null,0,0,0,"",{"$f":"IF(statistics!$D$3<>0,IF(AJ4186=statistics!$D$3,AG4186,\"\"),IF(B4186<>\"\",AG4186,\"\"))","v":""},{"$f":"IF(statistics!$D$3<>0,IF(AJ4186=statistics!$D$3,IF(AH4186=0,\"\",AH4186),\"\"),IF(AH4186<>0,AH4186,\"\"))","v":""},{"$f":"IF(statistics!$D$3<>0,IF(AJ4186=statistics!$D$3,IF(A4186=0,\"\",1),\"\"),IF(A4186=0,\"\",1))","v":""},"","",null,"",{"$nulls":10},"",null,null,"",null,0,null,{"$error":"#NUM!"},{"$error":"#NUM!"},4185]
[{"$nulls":4},"","","","","",null,null,"",{"$nulls":6},4190,"",{"$f":"IF(A4192=0,IF(B4192=\"\",IF(B4191=0,\"\",SUM($AG$1:AG4191)-SUM($U$1:U4190)),\"\"),SUM($AG$1:AG4191)-SUM($U$1:U4190))","v":""},{"$nulls":5},0,{"$f":"IF(AJ4191=statistics!$D$3,AB4190+AH4191-AG4191,)","v":0},{"$f":"IF(AND(ROW(AC4191)>=statistics!$C$55,ROW(AC4191)<=statistics!$D$55),AC4190+AH4191-AG4191,)","v":0},{"$f":"IF(AND(statistics!$C$55<=ROW(A4191),ROW(A4191)<=statistics!$D$55)=TRUE,AH4191-AG4191+AA4190-INDEX(AA:AA,statistics!$C$55),\"\")","v":""},null,null,0,0,0,"",{"$f":"IF(statistics!$D$3<>0,IF(AJ4191=statistics!$D$3,AG4191,\"\"),IF(B4191<>\"\",AG4191,\"\"))","v":""},{"$f":"IF(statistics!$D$3<>0,IF(AJ4191=statistics!$D$3,IF(AH4191=0,\"\",AH4191),\"\"),IF(AH4191<>0,AH4191,\"\"))","v":""},{"$f":"IF(statistics!$D$3<>0,IF(AJ4191=statistics!$D$3,IF(A4191=0,\"\",1),\"\"),IF(A4191=0,\"\",1))","v":""},"","",null,"",{"$nulls":10},"",null,null,"",null,0,null,{"$error":"#NUM!"},{"$error":"#NUM!"},4190]
[{"$nulls":4},"","","","","",null,null,"",{"$nulls":6},4201,"",{"$f":"IF(A4203=0,IF(B4203=\"\",IF(B4202=0,\"\",SUM($AG$1:AG4202)-SUM($U$1:U4201)),\"\"),SUM($AG$1:AG4202)-SUM($U$1:U4201))","v":""},{"$nulls":5},0,{"$f":"IF(AJ4202=statistics!$D$3,AB4201+AH4202-AG4202,)","v":0},{"$f":"IF(AND(ROW(AC4202)>=statistics!$C$55,ROW(AC4202)<=statistics!$D$55),AC4201+AH4202-AG4202,)","v":0},{"$f":"IF(AND(statistics!$C$55<=ROW(A4202),ROW(A4202)<=statistics!$D$55)=TRUE,AH4202-AG4202+AA4201-INDEX(AA:AA,statistics!$C$55),\"\")","v":""},null,null,0,0,0,"",{"$f":"IF(statistics!$D$3<>0,IF(AJ4202=statistics!$D$3,AG4202,\"\"),IF(B4202<>\"\",AG4202,\"\"))","v":""},{"$f":"IF(statistics!$D$3<>0,IF(AJ4202=statistics!$D$3,IF(AH4202=0,\"\",AH4202),\"\"),IF(AH4202<>0,AH4202,\"\"))","v":""},{"$f":"IF(statistics!$D$3<>0,IF(AJ4202=statistics!$D$3,IF(A4202=0,\"\",1),\"\"),IF(A4202=0,\"\",1))","v":""},"","",null,"",{"$nulls":10},"",null,null,"",null,0,null,{"$error":"#NUM!"},{"$error":"#NUM!"},4201]
[{"$nulls":4},"","","","","",null,null,"",{"$nulls":6},4216,"",{"$f":"IF(A4218=0,IF(B4218=\"\",IF(B4217=0,\"\",SUM($AG$1:AG4217)-SUM($U$1:U4216)),\"\"),SUM($AG$1:AG4217)-SUM($U$1:U4216))","v":""},{"$nulls":5},0,{"$f":"IF(AJ4217=statistics!$D$3,AB4216+AH4217-AG4217,)","v":0},{"$f":"IF(AND(ROW(AC4217)>=statistics!$C$55,ROW(AC4217)<=statistics!$D$55),AC4216+AH4217-AG4217,)","v":0},{"$f":"IF(AND(statistics!$C$55<=ROW(A4217),ROW(A4217)<=statistics!$D$55)=TRUE,AH4217-AG4217+AA4216-INDEX(AA:AA,statistics!$C$55),\"\")","v":""},null,null,0,0,0,"",{"$f":"IF(statistics!$D$3<>0,IF(AJ4217=statistics!$D$3,AG4217,\"\"),IF(B4217<>\"\",AG4217,\"\"))","v":""},{"$f":"IF(statistics!$D$3<>0,IF(AJ4217=statistics!$D$3,IF(AH4217=0,\"\",AH4217),\"\"),IF(AH4217<>0,AH4217,\"\"))","v":""},{"$f":"IF(statistics!$D$3<>0,IF(AJ4217=statistics!$D$3,IF(A4217=0,\"\",1),\"\"),IF(A4217=0,\"\",1))","v":""},"","",null,"",{"$nulls":10},"",null,null,"",null,0,null,{"$error":"#NUM!"},{"$error":"#NUM!"},4216]
[{"$nulls":4},"","","","","",null,null,"",{"$nulls":6},4217,"",{"$f":"IF(A4219=0,IF(B4219=\"\",IF(B4218=0,\"\",SUM($AG$1:AG4218)-SUM($U$1:U4217)),\"\"),SUM($AG$1:AG4218)-SUM($U$1:U4217))","v":""},{"$nulls":5},0,{"$f":"IF(AJ4218=statistics!$D$3,AB4217+AH4218-AG4218,)","v":0},{"$f":"IF(AND(ROW(AC4218)>=statistics!$C$55,ROW(AC4218)<=statistics!$D$55),AC4217+AH4218-AG4218,)","v":0},{"$f":"IF(AND(statistics!$C$55<=ROW(A4218),ROW(A4218)<=statistics!$D$55)=TRUE,AH4218-AG4218+AA4217-INDEX(AA:AA,statistics!$C$55),\"\")","v":""},null,null,0,0,0,"",{"$f":"IF(statistics!$D$3<>0,IF(AJ4218=statistics!$D$3,AG4218,\"\"),IF(B4218<>\"\",AG4218,\"\"))","v":""},{"$f":"IF(statistics!$D$3<>0,IF(AJ4218=statistics!$D$3,IF(AH4218=0,\"\",AH4218),\"\"),IF(AH4218<>0,AH4218,\"\"))","v":""},{"$f":"IF(statistics!$D$3<>0,IF(AJ4218=statistics!$D$3,IF(A4218=0,\"\",1),\"\"),IF(A4218=0,\"\",1))","v":""},"","",null,"",{"$nulls":10},"",null,null,"",null,0,null,{"$error":"#NUM!"},{"$error":"#NUM!"},4217]
[{"$nulls":4},"","","","","",null,null,"",{"$nulls":6},4228,"",{"$f":"IF(A4230=0,IF(B4230=\"\",IF(B4229=0,\"\",SUM($AG$1:AG4229)-SUM($U$1:U4228)),\"\"),SUM($AG$1:AG4229)-SUM($U$1:U4228))","v":""},{"$nulls":5},0,{"$f":"IF(AJ4229=statistics!$D$3,AB4228+AH4229-AG4229,)","v":0},{"$f":"IF(AND(ROW(AC4229)>=statistics!$C$55,ROW(AC4229)<=statistics!$D$55),AC4228+AH4229-AG4229,)","v":0},{"$f":"IF(AND(statistics!$C$55<=ROW(A4229),ROW(A4229)<=statistics!$D$55)=TRUE,AH4229-AG4229+AA4228-INDEX(AA:AA,statistics!$C$55),\"\")","v":""},null,null,0,0,0,"",{"$f":"IF(statistics!$D$3<>0,IF(AJ4229=statistics!$D$3,AG4229,\"\"),IF(B4229<>\"\",AG4229,\"\"))","v":""},{"$f":"IF(statistics!$D$3<>0,IF(AJ4229=statistics!$D$3,IF(AH4229=0,\"\",AH4229),\"\"),IF(AH4229<>0,AH4229,\"\"))","v":""},{"$f":"IF(statistics!$D$3<>0,IF(AJ4229=statistics!$D$3,IF(A4229=0,\"\",1),\"\"),IF(A4229=0,\"\",1))","v":""},"","",null,"",{"$nulls":10},"",null,null,"",null,0,null,{"$error":"#NUM!"},{"$error":"#NUM!"},4228]
[{"$nulls":4},"","","","","",null,null,"",{"$nulls":6},4236,"",{"$f":"IF(A4238=0,IF(B4238=\"\",IF(B4237=0,\"\",SUM($AG$1:AG4237)-SUM($U$1:U4236)),\"\"),SUM($AG$1:AG4237)-SUM($U$1:U4236))","v":""},{"$nulls":5},0,{"$f":"IF(AJ4237=statistics!$D$3,AB4236+AH4237-AG4237,)","v":0},{"$f":"IF(AND(ROW(AC4237)>=statistics!$C$55,ROW(AC4237)<=statistics!$D$55),AC4236+AH4237-AG4237,)","v":0},{"$f":"IF(AND(statistics!$C$55<=ROW(A4237),ROW(A4237)<=statistics!$D$55)=TRUE,AH4237-AG4237+AA4236-INDEX(AA:AA,statistics!$C$55),\"\")","v":""},null,null,0,0,0,"",{"$f":"IF(statistics!$D$3<>0,IF(AJ4237=statistics!$D$3,AG4237,\"\"),IF(B4237<>\"\",AG4237,\"\"))","v":""},{"$f":"IF(statistics!$D$3<>0,IF(AJ4237=statistics!$D$3,IF(AH4237=0,\"\",AH4237),\"\"),IF(AH4237<>0,AH4237,\"\"))","v":""},{"$f":"IF(statistics!$D$3<>0,IF(AJ4237=statistics!$D$3,IF(A4237=0,\"\",1),\"\"),IF(A4237=0,\"\",1))","v":""},"","",null,"",{"$nulls":10},"",null,null,"",null,0,null,{"$error":"#NUM!"},{"$error":"#NUM!"},4236]
[{"$nulls":4},"","","","","",null,null,"",{"$nulls":6},4247,"",{"$f":"IF(A4249=0,IF(B4249=\"\",IF(B4248=0,\"\",SUM($AG$1:AG4248)-SUM($U$1:U4247)),\"\"),SUM($AG$1:AG4248)-SUM($U$1:U4247))","v":""},{"$nulls":5},0,{"$f":"IF(AJ4248=statistics!$D$3,AB4247+AH4248-AG4248,)","v":0},{"$f":"IF(AND(ROW(AC4248)>=statistics!$C$55,ROW(AC4248)<=statistics!$D$55),AC4247+AH4248-AG4248,)","v":0},{"$f":"IF(AND(statistics!$C$55<=ROW(A4248),ROW(A4248)<=statistics!$D$55)=TRUE,AH4248-AG4248+AA4247-INDEX(AA:AA,statistics!$C$55),\"\")","v":""},null,null,0,0,0,"",{"$f":"IF(statistics!$D$3<>0,IF(AJ4248=statistics!$D$3,AG4248,\"\"),IF(B4248<>\"\",AG4248,\"\"))","v":""},{"$f":"IF(statistics!$D$3<>0,IF(AJ4248=statistics!$D$3,IF(AH4248=0,\"\",AH4248),\"\"),IF(AH4248<>0,AH4248,\"\"))","v":""},{"$f":"IF(statistics!$D$3<>0,IF(AJ4248=statistics!$D$3,IF(A4248=0,\"\",1),\"\"),IF(A4248=0,\"\",1))","v":""},"","",null,"",{"$nulls":10},"",null,null,"",null,0,null,{"$error":"#NUM!"},{"$error":"#NUM!"},4247]
[{"$nulls":4},"","","","","",null,null,"",{"$nulls":6},4262,"",{"$f":"IF(A4264=0,IF(B4264=\"\",IF(B4263=0,\"\",SUM($AG$1:AG4263)-SUM($U$1:U4262)),\"\"),SUM($AG$1:AG4263)-SUM($U$1:U4262))","v":""},{"$nulls":5},0,{"$f":"IF(AJ4263=statistics!$D$3,AB4262+AH4263-AG4263,)","v":0},{"$f":"IF(AND(ROW(AC4263)>=statistics!$C$55,ROW(AC4263)<=statistics!$D$55),AC4262+AH4263-AG4263,)","v":0},{"$f":"IF(AND(statistics!$C$55<=ROW(A4263),ROW(A4263)<=statistics!$D$55)=TRUE,AH4263-AG4263+AA4262-INDEX(AA:AA,statistics!$C$55),\"\")","v":""},null,null,0,0,0,"",{"$f":"IF(statistics!$D$3<>0,IF(AJ4263=statistics!$D$3,AG4263,\"\"),IF(B4263<>\"\",AG4263,\"\"))","v":""},{"$f":"IF(statistics!$D$3<>0,IF(AJ4263=statistics!$D$3,IF(AH4263=0,\"\",AH4263),\"\"),IF(AH4263<>0,AH4263,\"\"))","v":""},{"$f":"IF(statistics!$D$3<>0,IF(AJ4263=statistics!$D$3,IF(A4263=0,\"\",1),\"\"),IF(A4263=0,\"\",1))","v":""},"","",null,"",{"$nulls":10},"",null,null,"",null,0,null,{"$error":"#NUM!"},{"$error":"#NUM!"},4262]
[{"$nulls":4},"","","","","",null,null,"",{"$nulls":6},4267,"",{"$f":"IF(A4269=0,IF(B4269=\"\",IF(B4268=0,\"\",SUM($AG$1:AG4268)-SUM($U$1:U4267)),\"\"),SUM($AG$1:AG4268)-SUM($U$1:U4267))","v":""},{"$nulls":5},0,{"$f":"IF(AJ4268=statistics!$D$3,AB4267+AH4268-AG4268,)","v":0},{"$f":"IF(AND(ROW(AC4268)>=statistics!$C$55,ROW(AC4268)<=statistics!$D$55),AC4267+AH4268-AG4268,)","v":0},{"$f":"IF(AND(statistics!$C$55<=ROW(A4268),ROW(A4268)<=statistics!$D$55)=TRUE,AH4268-AG4268+AA4267-INDEX(AA:AA,statistics!$C$55),\"\")","v":""},null,null,0,0,0,"",{"$f":"IF(statistics!$D$3<>0,IF(AJ4268=statistics!$D$3,AG4268,\"\"),IF(B4268<>\"\",AG4268,\"\"))","v":""},{"$f":"IF(statistics!$D$3<>0,IF(AJ4268=statistics!$D$3,IF(AH4268=0,\"\",AH4268),\"\"),IF(AH4268<>0,AH4268,\"\"))","v":""},{"$f":"IF(statistics!$D$3<>0,IF(AJ4268=statistics!$D$3,IF(A4268=0,\"\",1),\"\"),IF(A4268=0,\"\",1))","v":""},"","",null,"",{"$nulls":10},"",null,null,"",null,0,null,{"$error":"#NUM!"},{"$error":"#NUM!"},4267]
[{"$nulls":4},"","","","","",null,null,"",{"$nulls":6},4278,"",{"$f":"IF(A4280=0,IF(B4280=\"\",IF(B4279=0,\"\",SUM($AG$1:AG4279)-SUM($U$1:U4278)),\"\"),SUM($AG$1:AG4279)-SUM($U$1:U4278))","v":""},{"$nulls":5},0,{"$f":"IF(AJ4279=statistics!$D$3,AB4278+AH4279-AG4279,)","v":0},{"$f":"IF(AND(ROW(AC4279)>=statistics!$C$55,ROW(AC4279)<=statistics!$D$55),AC4278+AH4279-AG4279,)","v":0},{"$f":"IF(AND(statistics!$C$55<=ROW(A4279),ROW(A4279)<=statistics!$D$55)=TRUE,AH4279-AG4279+AA4278-INDEX(AA:AA,statistics!$C$55),\"\")","v":""},null,null,0,0,0,"",{"$f":"IF(statistics!$D$3<>0,IF(AJ4279=statistics!$D$3,AG4279,\"\"),IF(B4279<>\"\",AG4279,\"\"))","v":""},{"$f":"IF(statistics!$D$3<>0,IF(AJ4279=statistics!$D$3,IF(AH4279=0,\"\",AH4279),\"\"),IF(AH4279<>0,AH4279,\"\"))","v":""},{"$f":"IF(statistics!$D$3<>0,IF(AJ4279=statistics!$D$3,IF(A4279=0,\"\",1),\"\"),IF(A4279=0,\"\",1))","v":""},"","",null,"",{"$nulls":10},"",null,null,"",null,0,null,{"$error":"#NUM!"},{"$error":"#NUM!"},4278]
[{"$nulls":4},"","","","","",null,null,"",{"$nulls":6},4293,"",{"$f":"IF(A4295=0,IF(B4295=\"\",IF(B4294=0,\"\",SUM($AG$1:AG4294)-SUM($U$1:U4293)),\"\"),SUM($AG$1:AG4294)-SUM($U$1:U4293))","v":""},{"$nulls":5},0,{"$f":"IF(AJ4294=statistics!$D$3,AB4293+AH4294-AG4294,)","v":0},{"$f":"IF(AND(ROW(AC4294)>=statistics!$C$55,ROW(AC4294)<=statistics!$D$55),AC4293+AH4294-AG4294,)","v":0},{"$f":"IF(AND(statistics!$C$55<=ROW(A4294),ROW(A4294)<=statistics!$D$55)=TRUE,AH4294-AG4294+AA4293-INDEX(AA:AA,statistics!$C$55),\"\")","v":""},null,null,{"$f":"IF(J4294=0,B4294+C4294,(B4294+C4294)-(B4294+C4294)*J4294*K4294)","v":0},{"$f":"IF(J4294=0,D4294,D4294*(1-J4294))","v":0},{"$f":"IF(J4294=0,,D4294*J4294)","v":0},{"$f":"IF(A4294<>0,MONTH(A4294),IF(B4294=\"\",\"\",AJ4293))","v":""},{"$f":"IF(statistics!$D$3<>0,IF(AJ4294=statistics!$D$3,AG4294,\"\"),IF(B4294<>\"\",AG4294,\"\"))","v":""},{"$f":"IF(statistics!$D$3<>0,IF(AJ4294=statistics!$D$3,IF(AH4294=0,\"\",AH4294),\"\"),IF(AH4294<>0,AH4294,\"\"))","v":""},{"$f":"IF(statistics!$D$3<>0,IF(AJ4294=statistics!$D$3,IF(A4294=0,\"\",1),\"\"),IF(A4294=0,\"\",1))","v":""},{"$f":"IF(AK4294<>\"\",IF(AK4293=0,ROW(AK4294),ROW(AK4294)),\"\")","v":""},"",null,{"$f":"IF(B4294=0,\"\",IF(D4294=0,IF(D4293=0,AQ4293+1,1),\"\"))","v":""},{"$nulls":10},{"$f":"IF(B4294=$BA$2,ROW(),\"\")","v":""},null,null,{"$f":"IF(B4294=$BA$2,INDEX(D:D,SMALL(BB:BB,CELL(\"содержимое\",BG4294)))-INDEX(B:B,SMALL(BB:BB,CELL(\"содержимое\",BG4294)))-INDEX(C:C,SMALL(BB:BB,CELL(\"содержимое\",BG4294))),\"\")","v":""},null,{"$f":"IF($BA$2=B4294,BG4293+1,BG4293)","v":0},null,{"$f":"INDEX(BE:BE,SMALL(BB:BB,CELL(\"содержимое\",BK4294)))","v":{"$error":"#NUM!"}},{"$f":"BJ4293+BI4294","v":{"$error":"#NUM!"}},{"$f":"BK4293+1","v":4293}]
[{"$nulls":4},"","","","","",null,null,"",{"$nulls":6},4303,"",{"$f":"IF(A4305=0,IF(B4305=\"\",IF(B4304=0,\"\",SUM($AG$1:AG4304)-SUM($U$1:U4303)),\"\"),SUM($AG$1:AG4304)-SUM($U$1:U4303))","v":""},{"$nulls":5},0,{"$f":"IF(AJ4304=statistics!$D$3,AB4303+AH4304-AG4304,)","v":0},{"$f":"IF(AND(ROW(AC4304)>=statistics!$C$55,ROW(AC4304)<=statistics!$D$55),AC4303+AH4304-AG4304,)","v":0},{"$f":"IF(AND(statistics!$C$55<=ROW(A4304),ROW(A4304)<=statistics!$D$55)=TRUE,AH4304-AG4304+AA4303-INDEX(AA:AA,statistics!$C$55),\"\")","v":""},null,null,0,0,0,"",{"$f":"IF(statistics!$D$3<>0,IF(AJ4304=statistics!$D$3,AG4304,\"\"),IF(B4304<>\"\",AG4304,\"\"))","v":""},{"$f":"IF(statistics!$D$3<>0,IF(AJ4304=statistics!$D$3,IF(AH4304=0,\"\",AH4304),\"\"),IF(AH4304<>0,AH4304,\"\"))","v":""},{"$f":"IF(statistics!$D$3<>0,IF(AJ4304=statistics!$D$3,IF(A4304=0,\"\",1),\"\"),IF(A4304=0,\"\",1))","v":""},"","",null,"",{"$nulls":10},"",null,null,"",null,0,null,{"$error":"#NUM!"},{"$error":"#NUM!"},4303]
[{"$nulls":4},"","","","","",null,null,"",{"$nulls":6},4308,"",{"$f":"IF(A4310=0,IF(B4310=\"\",IF(B4309=0,\"\",SUM($AG$1:AG4309)-SUM($U$1:U4308)),\"\"),SUM($AG$1:AG4309)-SUM($U$1:U4308))","v":""},{"$nulls":5},0,{"$f":"IF(AJ4309=statistics!$D$3,AB4308+AH4309-AG4309,)","v":0},{"$f":"IF(AND(ROW(AC4309)>=statistics!$C$55,ROW(AC4309)<=statistics!$D$55),AC4308+AH4309-AG4309,)","v":0},{"$f":"IF(AND(statistics!$C$55<=ROW(A4309),ROW(A4309)<=statistics!$D$55)=TRUE,AH4309-AG4309+AA4308-INDEX(AA:AA,statistics!$C$55),\"\")","v":""},null,null,0,0,0,"",{"$f":"IF(statistics!$D$3<>0,IF(AJ4309=statistics!$D$3,AG4309,\"\"),IF(B4309<>\"\",AG4309,\"\"))","v":""},{"$f":"IF(statistics!$D$3<>0,IF(AJ4309=statistics!$D$3,IF(AH4309=0,\"\",AH4309),\"\"),IF(AH4309<>0,AH4309,\"\"))","v":""},{"$f":"IF(statistics!$D$3<>0,IF(AJ4309=statistics!$D$3,IF(A4309=0,\"\",1),\"\"),IF(A4309=0,\"\",1))","v":""},"","",null,"",{"$nulls":10},"",null,null,"",null,0,null,{"$error":"#NUM!"},{"$error":"#NUM!"},4308]
[{"$nulls":4},"","","","","",null,null,"",{"$nulls":6},4323,"",{"$f":"IF(A4325=0,IF(B4325=\"\",IF(B4324=0,\"\",SUM($AG$1:AG4324)-SUM($U$1:U4323)),\"\"),SUM($AG$1:AG4324)-SUM($U$1:U4323))","v":""},{"$nulls":5},0,{"$f":"IF(AJ4324=statistics!$D$3,AB4323+AH4324-AG4324,)","v":0},{"$f":"IF(AND(ROW(AC4324)>=statistics!$C$55,ROW(AC4324)<=statistics!$D$55),AC4323+AH4324-AG4324,)","v":0},{"$f":"IF(AND(statistics!$C$55<=ROW(A4324),ROW(A4324)<=statistics!$D$55)=TRUE,AH4324-AG4324+AA4323-INDEX(AA:AA,statistics!$C$55),\"\")","v":""},null,null,0,0,0,"",{"$f":"IF(statistics!$D$3<>0,IF(AJ4324=statistics!$D$3,AG4324,\"\"),IF(B4324<>\"\",AG4324,\"\"))","v":""},{"$f":"IF(statistics!$D$3<>0,IF(AJ4324=statistics!$D$3,IF(AH4324=0,\"\",AH4324),\"\"),IF(AH4324<>0,AH4324,\"\"))","v":""},{"$f":"IF(statistics!$D$3<>0,IF(AJ4324=statistics!$D$3,IF(A4324=0,\"\",1),\"\"),IF(A4324=0,\"\",1))","v":""},"","",null,"",{"$nulls":10},"",null,null,"",null,0,null,{"$error":"#NUM!"},{"$error":"#NUM!"},4323]
[{"$nulls":4},"","","","","",null,null,"",{"$nulls":6},4334,"",{"$f":"IF(A4336=0,IF(B4336=\"\",IF(B4335=0,\"\",SUM($AG$1:AG4335)-SUM($U$1:U4334)),\"\"),SUM($AG$1:AG4335)-SUM($U$1:U4334))","v":""},{"$nulls":5},0,{"$f":"IF(AJ4335=statistics!$D$3,AB4334+AH4335-AG4335,)","v":0},{"$f":"IF(AND(ROW(AC4335)>=statistics!$C$55,ROW(AC4335)<=statistics!$D$55),AC4334+AH4335-AG4335,)","v":0},{"$f":"IF(AND(statistics!$C$55<=ROW(A4335),ROW(A4335)<=statistics!$D$55)=TRUE,AH4335-AG4335+AA4334-INDEX(AA:AA,statistics!$C$55),\"\")","v":""},null,null,0,0,0,"",{"$f":"IF(statistics!$D$3<>0,IF(AJ4335=statistics!$D$3,AG4335,\"\"),IF(B4335<>\"\",AG4335,\"\"))","v":""},{"$f":"IF(statistics!$D$3<>0,IF(AJ4335=statistics!$D$3,IF(AH4335=0,\"\",AH4335),\"\"),IF(AH4335<>0,AH4335,\"\"))","v":""},{"$f":"IF(statistics!$D$3<>0,IF(AJ4335=statistics!$D$3,IF(A4335=0,\"\",1),\"\"),IF(A4335=0,\"\",1))","v":""},"","",null,"",{"$nulls":10},"",null,null,"",null,0,null,{"$error":"#NUM!"},{"$error":"#NUM!"},4334]
[{"$nulls":4},"","","","","",null,null,"",{"$nulls":6},4339,"",{"$f":"IF(A4341=0,IF(B4341=\"\",IF(B4340=0,\"\",SUM($AG$1:AG4340)-SUM($U$1:U4339)),\"\"),SUM($AG$1:AG4340)-SUM($U$1:U4339))","v":""},{"$nulls":5},0,{"$f":"IF(AJ4340=statistics!$D$3,AB4339+AH4340-AG4340,)","v":0},{"$f":"IF(AND(ROW(AC4340)>=statistics!$C$55,ROW(AC4340)<=statistics!$D$55),AC4339+AH4340-AG4340,)","v":0},{"$f":"IF(AND(statistics!$C$55<=ROW(A4340),ROW(A4340)<=statistics!$D$55)=TRUE,AH4340-AG4340+AA4339-INDEX(AA:AA,statistics!$C$55),\"\")","v":""},null,null,0,0,0,"",{"$f":"IF(statistics!$D$3<>0,IF(AJ4340=statistics!$D$3,AG4340,\"\"),IF(B4340<>\"\",AG4340,\"\"))","v":""},{"$f":"IF(statistics!$D$3<>0,IF(AJ4340=statistics!$D$3,IF(AH4340=0,\"\",AH4340),\"\"),IF(AH4340<>0,AH4340,\"\"))","v":""},{"$f":"IF(statistics!$D$3<>0,IF(AJ4340=statistics!$D$3,IF(A4340=0,\"\",1),\"\"),IF(A4340=0,\"\",1))","v":""},"","",null,"",{"$nulls":10},"",null,null,"",null,0,null,{"$error":"#NUM!"},{"$error":"#NUM!"},4339]
[{"$nulls":4},"","","","","",null,null,{"$f":"IF(A4355=0,\"\",SUM(AI4355:AI14353)-SUM(L4356:L14353))","v":""},{"$nulls":6},4354,{"$f":"IF(A4355=0,\"\",SUM(AG4355:AG14353)-SUM(T4356:T14353))","v":""},{"$f":"IF(A4356=0,IF(B4356=\"\",IF(B4355=0,\"\",SUM($AG$1:AG4355)-SUM($U$1:U4354)),\"\"),SUM($AG$1:AG4355)-SUM($U$1:U4354))","v":""},{"$nulls":5},{"$f":"AA4354+AH4355-AG4355","v":0},{"$f":"IF(AJ4355=statistics!$D$3,AB4354+AH4355-AG4355,)","v":0},{"$f":"IF(AND(ROW(AC4355)>=statistics!$C$55,ROW(AC4355)<=statistics!$D$55),AC4354+AH4355-AG4355,)","v":0},{"$f":"IF(AND(statistics!$C$55<=ROW(A4355),ROW(A4355)<=statistics!$D$55)=TRUE,AH4355-AG4355+AA4354-INDEX(AA:AA,statistics!$C$55),\"\")","v":""},null,null,0,0,0,"",{"$f":"IF(statistics!$D$3<>0,IF(AJ4355=statistics!$D$3,AG4355,\"\"),IF(B4355<>\"\",AG4355,\"\"))","v":""},{"$f":"IF(statistics!$D$3<>0,IF(AJ4355=statistics!$D$3,IF(AH4355=0,\"\",AH4355),\"\"),IF(AH4355<>0,AH4355,\"\"))","v":""},{"$f":"IF(statistics!$D$3<>0,IF(AJ4355=statistics!$D$3,IF(A4355=0,\"\",1),\"\"),IF(A4355=0,\"\",1))","v":""},"","",null,"",{"$nulls":10},"",null,null,"",null,0,null,{"$error":"#NUM!"},{"$error":"#NUM!"},4354]
[{"$nulls":4},"","","","","",null,null,"",{"$nulls":6},4355,"",{"$f":"IF(A4357=0,IF(B4357=\"\",IF(B4356=0,\"\",SUM($AG$1:AG4356)-SUM($U$1:U4355)),\"\"),SUM($AG$1:AG4356)-SUM($U$1:U4355))","v":""},{"$nulls":5},0,{"$f":"IF(AJ4356=statistics!$D$3,AB4355+AH4356-AG4356,)","v":0},{"$f":"IF(AND(ROW(AC4356)>=statistics!$C$55,ROW(AC4356)<=statistics!$D$55),AC4355+AH4356-AG4356,)","v":0},{"$f":"IF(AND(statistics!$C$55<=ROW(A4356),ROW(A4356)<=statistics!$D$55)=TRUE,AH4356-AG4356+AA4355-INDEX(AA:AA,statistics!$C$55),\"\")","v":""},null,null,0,0,0,"",{"$f":"IF(statistics!$D$3<>0,IF(AJ4356=statistics!$D$3,AG4356,\"\"),IF(B4356<>\"\",AG4356,\"\"))","v":""},{"$f":"IF(statistics!$D$3<>0,IF(AJ4356=statistics!$D$3,IF(AH4356=0,\"\",AH4356),\"\"),IF(AH4356<>0,AH4356,\"\"))","v":""},{"$f":"IF(statistics!$D$3<>0,IF(AJ4356=statistics!$D$3,IF(A4356=0,\"\",1),\"\"),IF(A4356=0,\"\",1))","v":""},"",{"$f":"IF(A4356<>0,IF(MONTH(A4356)=AJ4355,\"\",MONTH(A4356)),\"\")","v":""},null,"",{"$nulls":10},"",null,null,"",null,0,null,{"$error":"#NUM!"},{"$error":"#NUM!"},4355]
[{"$nulls":4},"","","","","",null,null,"",{"$nulls":6},4365,"",{"$f":"IF(A4367=0,IF(B4367=\"\",IF(B4366=0,\"\",SUM($AG$1:AG4366)-SUM($U$1:U4365)),\"\"),SUM($AG$1:AG4366)-SUM($U$1:U4365))","v":""},{"$nulls":5},0,{"$f":"IF(AJ4366=statistics!$D$3,AB4365+AH4366-AG4366,)","v":0},{"$f":"IF(AND(ROW(AC4366)>=statistics!$C$55,ROW(AC4366)<=statistics!$D$55),AC4365+AH4366-AG4366,)","v":0},{"$f":"IF(AND(statistics!$C$55<=ROW(A4366),ROW(A4366)<=statistics!$D$55)=TRUE,AH4366-AG4366+AA4365-INDEX(AA:AA,statistics!$C$55),\"\")","v":""},null,null,0,0,0,"",{"$f":"IF(statistics!$D$3<>0,IF(AJ4366=statistics!$D$3,AG4366,\"\"),IF(B4366<>\"\",AG4366,\"\"))","v":""},{"$f":"IF(statistics!$D$3<>0,IF(AJ4366=statistics!$D$3,IF(AH4366=0,\"\",AH4366),\"\"),IF(AH4366<>0,AH4366,\"\"))","v":""},{"$f":"IF(statistics!$D$3<>0,IF(AJ4366=statistics!$D$3,IF(A4366=0,\"\",1),\"\"),IF(A4366=0,\"\",1))","v":""},"","",null,"",{"$nulls":10},"",null,null,"",null,0,null,{"$error":"#NUM!"},{"$error":"#NUM!"},4365]
[{"$nulls":4},"","","","","",null,null,"",{"$nulls":6},4380,"",{"$f":"IF(A4382=0,IF(B4382=\"\",IF(B4381=0,\"\",SUM($AG$1:AG4381)-SUM($U$1:U4380)),\"\"),SUM($AG$1:AG4381)-SUM($U$1:U4380))","v":""},{"$nulls":5},0,{"$f":"IF(AJ4381=statistics!$D$3,AB4380+AH4381-AG4381,)","v":0},{"$f":"IF(AND(ROW(AC4381)>=statistics!$C$55,ROW(AC4381)<=statistics!$D$55),AC4380+AH4381-AG4381,)","v":0},{"$f":"IF(AND(statistics!$C$55<=ROW(A4381),ROW(A4381)<=statistics!$D$55)=TRUE,AH4381-AG4381+AA4380-INDEX(AA:AA,statistics!$C$55),\"\")","v":""},null,null,0,0,0,"",{"$f":"IF(statistics!$D$3<>0,IF(AJ4381=statistics!$D$3,AG4381,\"\"),IF(B4381<>\"\",AG4381,\"\"))","v":""},{"$f":"IF(statistics!$D$3<>0,IF(AJ4381=statistics!$D$3,IF(AH4381=0,\"\",AH4381),\"\"),IF(AH4381<>0,AH4381,\"\"))","v":""},{"$f":"IF(statistics!$D$3<>0,IF(AJ4381=statistics!$D$3,IF(A4381=0,\"\",1),\"\"),IF(A4381=0,\"\",1))","v":""},"","",null,"",{"$nulls":10},"",null,null,"",null,0,null,{"$error":"#NUM!"},{"$error":"#NUM!"},4380]
[{"$nulls":4},"","","","","",null,null,"",{"$nulls":6},4385,"",{"$f":"IF(A4387=0,IF(B4387=\"\",IF(B4386=0,\"\",SUM($AG$1:AG4386)-SUM($U$1:U4385)),\"\"),SUM($AG$1:AG4386)-SUM($U$1:U4385))","v":""},{"$nulls":5},0,{"$f":"IF(AJ4386=statistics!$D$3,AB4385+AH4386-AG4386,)","v":0},{"$f":"IF(AND(ROW(AC4386)>=statistics!$C$55,ROW(AC4386)<=statistics!$D$55),AC4385+AH4386-AG4386,)","v":0},{"$f":"IF(AND(statistics!$C$55<=ROW(A4386),ROW(A4386)<=statistics!$D$55)=TRUE,AH4386-AG4386+AA4385-INDEX(AA:AA,statistics!$C$55),\"\")","v":""},null,null,0,0,0,"",{"$f":"IF(statistics!$D$3<>0,IF(AJ4386=statistics!$D$3,AG4386,\"\"),IF(B4386<>\"\",AG4386,\"\"))","v":""},{"$f":"IF(statistics!$D$3<>0,IF(AJ4386=statistics!$D$3,IF(AH4386=0,\"\",AH4386),\"\"),IF(AH4386<>0,AH4386,\"\"))","v":""},{"$f":"IF(statistics!$D$3<>0,IF(AJ4386=statistics!$D$3,IF(A4386=0,\"\",1),\"\"),IF(A4386=0,\"\",1))","v":""},"","",null,"",{"$nulls":10},"",null,null,"",null,0,null,{"$error":"#NUM!"},{"$error":"#NUM!"},4385]
[{"$nulls":4},"","","","","",null,null,"",{"$nulls":6},4400,"",{"$f":"IF(A4402=0,IF(B4402=\"\",IF(B4401=0,\"\",SUM($AG$1:AG4401)-SUM($U$1:U4400)),\"\"),SUM($AG$1:AG4401)-SUM($U$1:U4400))","v":""},{"$nulls":5},0,{"$f":"IF(AJ4401=statistics!$D$3,AB4400+AH4401-AG4401,)","v":0},{"$f":"IF(AND(ROW(AC4401)>=statistics!$C$55,ROW(AC4401)<=statistics!$D$55),AC4400+AH4401-AG4401,)","v":0},{"$f":"IF(AND(statistics!$C$55<=ROW(A4401),ROW(A4401)<=statistics!$D$55)=TRUE,AH4401-AG4401+AA4400-INDEX(AA:AA,statistics!$C$55),\"\")","v":""},null,null,0,0,0,"",{"$f":"IF(statistics!$D$3<>0,IF(AJ4401=statistics!$D$3,AG4401,\"\"),IF(B4401<>\"\",AG4401,\"\"))","v":""},{"$f":"IF(statistics!$D$3<>0,IF(AJ4401=statistics!$D$3,IF(AH4401=0,\"\",AH4401),\"\"),IF(AH4401<>0,AH4401,\"\"))","v":""},{"$f":"IF(statistics!$D$3<>0,IF(AJ4401=statistics!$D$3,IF(A4401=0,\"\",1),\"\"),IF(A4401=0,\"\",1))","v":""},"","",null,"",{"$nulls":10},"",null,null,"",null,0,null,{"$error":"#NUM!"},{"$error":"#NUM!"},4400]
[{"$nulls":4},"","","","","",null,null,"",{"$nulls":6},4411,"",{"$f":"IF(A4413=0,IF(B4413=\"\",IF(B4412=0,\"\",SUM($AG$1:AG4412)-SUM($U$1:U4411)),\"\"),SUM($AG$1:AG4412)-SUM($U$1:U4411))","v":""},{"$nulls":5},0,{"$f":"IF(AJ4412=statistics!$D$3,AB4411+AH4412-AG4412,)","v":0},{"$f":"IF(AND(ROW(AC4412)>=statistics!$C$55,ROW(AC4412)<=statistics!$D$55),AC4411+AH4412-AG4412,)","v":0},{"$f":"IF(AND(statistics!$C$55<=ROW(A4412),ROW(A4412)<=statistics!$D$55)=TRUE,AH4412-AG4412+AA4411-INDEX(AA:AA,statistics!$C$55),\"\")","v":""},null,null,0,0,0,"",{"$f":"IF(statistics!$D$3<>0,IF(AJ4412=statistics!$D$3,AG4412,\"\"),IF(B4412<>\"\",AG4412,\"\"))","v":""},{"$f":"IF(statistics!$D$3<>0,IF(AJ4412=statistics!$D$3,IF(AH4412=0,\"\",AH4412),\"\"),IF(AH4412<>0,AH4412,\"\"))","v":""},{"$f":"IF(statistics!$D$3<>0,IF(AJ4412=statistics!$D$3,IF(A4412=0,\"\",1),\"\"),IF(A4412=0,\"\",1))","v":""},"","",null,"",{"$nulls":10},"",null,null,"",null,0,null,{"$error":"#NUM!"},{"$error":"#NUM!"},4411]
[{"$nulls":4},"",{"$f":"IF(A4417=0,\"\",IF(T4417=0,\"\",E4417/T4417))","v":""},"","","",null,null,"",{"$nulls":6},4416,"",{"$f":"IF(A4418=0,IF(B4418=\"\",IF(B4417=0,\"\",SUM($AG$1:AG4417)-SUM($U$1:U4416)),\"\"),SUM($AG$1:AG4417)-SUM($U$1:U4416))","v":""},{"$nulls":5},0,{"$f":"IF(AJ4417=statistics!$D$3,AB4416+AH4417-AG4417,)","v":0},{"$f":"IF(AND(ROW(AC4417)>=statistics!$C$55,ROW(AC4417)<=statistics!$D$55),AC4416+AH4417-AG4417,)","v":0},{"$f":"IF(AND(statistics!$C$55<=ROW(A4417),ROW(A4417)<=statistics!$D$55)=TRUE,AH4417-AG4417+AA4416-INDEX(AA:AA,statistics!$C$55),\"\")","v":""},null,null,0,0,0,"",{"$f":"IF(statistics!$D$3<>0,IF(AJ4417=statistics!$D$3,AG4417,\"\"),IF(B4417<>\"\",AG4417,\"\"))","v":""},{"$f":"IF(statistics!$D$3<>0,IF(AJ4417=statistics!$D$3,IF(AH4417=0,\"\",AH4417),\"\"),IF(AH4417<>0,AH4417,\"\"))","v":""},{"$f":"IF(statistics!$D$3<>0,IF(AJ4417=statistics!$D$3,IF(A4417=0,\"\",1),\"\"),IF(A4417=0,\"\",1))","v":""},"","",null,"",{"$nulls":10},"",null,null,"",null,0,null,{"$error":"#NUM!"},{"$error":"#NUM!"},4416]
[{"$nulls":4},{"$f":"IF(A4428=0,\"\",SUM(AH4428:AH14426)-SUM(AG4428:AG14426)-SUM(E4429:E14426))","v":""},"","","","",null,null,"",{"$nulls":6},4427,"",{"$f":"IF(A4429=0,IF(B4429=\"\",IF(B4428=0,\"\",SUM($AG$1:AG4428)-SUM($U$1:U4427)),\"\"),SUM($AG$1:AG4428)-SUM($U$1:U4427))","v":""},{"$nulls":5},0,{"$f":"IF(AJ4428=statistics!$D$3,AB4427+AH4428-AG4428,)","v":0},{"$f":"IF(AND(ROW(AC4428)>=statistics!$C$55,ROW(AC4428)<=statistics!$D$55),AC4427+AH4428-AG4428,)","v":0},{"$f":"IF(AND(statistics!$C$55<=ROW(A4428),ROW(A4428)<=statistics!$D$55)=TRUE,AH4428-AG4428+AA4427-INDEX(AA:AA,statistics!$C$55),\"\")","v":""},null,null,0,0,0,"",{"$f":"IF(statistics!$D$3<>0,IF(AJ4428=statistics!$D$3,AG4428,\"\"),IF(B4428<>\"\",AG4428,\"\"))","v":""},{"$f":"IF(statistics!$D$3<>0,IF(AJ4428=statistics!$D$3,IF(AH4428=0,\"\",AH4428),\"\"),IF(AH4428<>0,AH4428,\"\"))","v":""},{"$f":"IF(statistics!$D$3<>0,IF(AJ4428=statistics!$D$3,IF(A4428=0,\"\",1),\"\"),IF(A4428=0,\"\",1))","v":""},"","",null,"",{"$nulls":10},"",null,null,"",null,0,null,{"$error":"#NUM!"},{"$error":"#NUM!"},4427]
[{"$nulls":4},"","","","","",null,null,"",{"$nulls":6},4442,"",{"$f":"IF(A4444=0,IF(B4444=\"\",IF(B4443=0,\"\",SUM($AG$1:AG4443)-SUM($U$1:U4442)),\"\"),SUM($AG$1:AG4443)-SUM($U$1:U4442))","v":""},{"$nulls":5},0,{"$f":"IF(AJ4443=statistics!$D$3,AB4442+AH4443-AG4443,)","v":0},{"$f":"IF(AND(ROW(AC4443)>=statistics!$C$55,ROW(AC4443)<=statistics!$D$55),AC4442+AH4443-AG4443,)","v":0},{"$f":"IF(AND(statistics!$C$55<=ROW(A4443),ROW(A4443)<=statistics!$D$55)=TRUE,AH4443-AG4443+AA4442-INDEX(AA:AA,statistics!$C$55),\"\")","v":""},null,null,0,0,0,"",{"$f":"IF(statistics!$D$3<>0,IF(AJ4443=statistics!$D$3,AG4443,\"\"),IF(B4443<>\"\",AG4443,\"\"))","v":""},{"$f":"IF(statistics!$D$3<>0,IF(AJ4443=statistics!$D$3,IF(AH4443=0,\"\",AH4443),\"\"),IF(AH4443<>0,AH4443,\"\"))","v":""},{"$f":"IF(statistics!$D$3<>0,IF(AJ4443=statistics!$D$3,IF(A4443=0,\"\",1),\"\"),IF(A4443=0,\"\",1))","v":""},"","",null,"",{"$nulls":10},"",null,null,"",null,0,null,{"$error":"#NUM!"},{"$error":"#NUM!"},4442]
[{"$nulls":4},"","","","","",null,null,"",{"$nulls":6},4444,"",{"$f":"IF(A4446=0,IF(B4446=\"\",IF(B4445=0,\"\",SUM($AG$1:AG4445)-SUM($U$1:U4444)),\"\"),SUM($AG$1:AG4445)-SUM($U$1:U4444))","v":""},{"$nulls":5},0,{"$f":"IF(AJ4445=statistics!$D$3,AB4444+AH4445-AG4445,)","v":0},{"$f":"IF(AND(ROW(AC4445)>=statistics!$C$55,ROW(AC4445)<=statistics!$D$55),AC4444+AH4445-AG4445,)","v":0},{"$f":"IF(AND(statistics!$C$55<=ROW(A4445),ROW(A4445)<=statistics!$D$55)=TRUE,AH4445-AG4445+AA4444-INDEX(AA:AA,statistics!$C$55),\"\")","v":""},null,null,0,0,0,"",{"$f":"IF(statistics!$D$3<>0,IF(AJ4445=statistics!$D$3,AG4445,\"\"),IF(B4445<>\"\",AG4445,\"\"))","v":""},{"$f":"IF(statistics!$D$3<>0,IF(AJ4445=statistics!$D$3,IF(AH4445=0,\"\",AH4445),\"\"),IF(AH4445<>0,AH4445,\"\"))","v":""},{"$f":"IF(statistics!$D$3<>0,IF(AJ4445=statistics!$D$3,IF(A4445=0,\"\",1),\"\"),IF(A4445=0,\"\",1))","v":""},"","",null,"",{"$nulls":10},"",null,null,"",null,0,null,{"$error":"#NUM!"},{"$error":"#NUM!"},4444]
[{"$nulls":4},"","","","","",null,null,"",{"$nulls":6},4457,"",{"$f":"IF(A4459=0,IF(B4459=\"\",IF(B4458=0,\"\",SUM($AG$1:AG4458)-SUM($U$1:U4457)),\"\"),SUM($AG$1:AG4458)-SUM($U$1:U4457))","v":""},{"$nulls":5},0,{"$f":"IF(AJ4458=statistics!$D$3,AB4457+AH4458-AG4458,)","v":0},{"$f":"IF(AND(ROW(AC4458)>=statistics!$C$55,ROW(AC4458)<=statistics!$D$55),AC4457+AH4458-AG4458,)","v":0},{"$f":"IF(AND(statistics!$C$55<=ROW(A4458),ROW(A4458)<=statistics!$D$55)=TRUE,AH4458-AG4458+AA4457-INDEX(AA:AA,statistics!$C$55),\"\")","v":""},null,null,0,0,0,"",{"$f":"IF(statistics!$D$3<>0,IF(AJ4458=statistics!$D$3,AG4458,\"\"),IF(B4458<>\"\",AG4458,\"\"))","v":""},{"$f":"IF(statistics!$D$3<>0,IF(AJ4458=statistics!$D$3,IF(AH4458=0,\"\",AH4458),\"\"),IF(AH4458<>0,AH4458,\"\"))","v":""},{"$f":"IF(statistics!$D$3<>0,IF(AJ4458=statistics!$D$3,IF(A4458=0,\"\",1),\"\"),IF(A4458=0,\"\",1))","v":""},"","",null,"",{"$nulls":10},"",null,null,"",null,0,null,{"$error":"#NUM!"},{"$error":"#NUM!"},4457]
[{"$nulls":4},"","","","","",null,null,"",{"$nulls":6},4472,"",{"$f":"IF(A4474=0,IF(B4474=\"\",IF(B4473=0,\"\",SUM($AG$1:AG4473)-SUM($U$1:U4472)),\"\"),SUM($AG$1:AG4473)-SUM($U$1:U4472))","v":""},{"$nulls":5},0,{"$f":"IF(AJ4473=statistics!$D$3,AB4472+AH4473-AG4473,)","v":0},{"$f":"IF(AND(ROW(AC4473)>=statistics!$C$55,ROW(AC4473)<=statistics!$D$55),AC4472+AH4473-AG4473,)","v":0},{"$f":"IF(AND(statistics!$C$55<=ROW(A4473),ROW(A4473)<=statistics!$D$55)=TRUE,AH4473-AG4473+AA4472-INDEX(AA:AA,statistics!$C$55),\"\")","v":""},null,null,0,0,0,"",{"$f":"IF(statistics!$D$3<>0,IF(AJ4473=statistics!$D$3,AG4473,\"\"),IF(B4473<>\"\",AG4473,\"\"))","v":""},{"$f":"IF(statistics!$D$3<>0,IF(AJ4473=statistics!$D$3,IF(AH4473=0,\"\",AH4473),\"\"),IF(AH4473<>0,AH4473,\"\"))","v":""},{"$f":"IF(statistics!$D$3<>0,IF(AJ4473=statistics!$D$3,IF(A4473=0,\"\",1),\"\"),IF(A4473=0,\"\",1))","v":""},"","",null,"",{"$nulls":10},"",null,null,"",null,0,null,{"$error":"#NUM!"},{"$error":"#NUM!"},4472]
[{"$nulls":4},"","","","","",null,null,"",{"$nulls":6},4477,"",{"$f":"IF(A4479=0,IF(B4479=\"\",IF(B4478=0,\"\",SUM($AG$1:AG4478)-SUM($U$1:U4477)),\"\"),SUM($AG$1:AG4478)-SUM($U$1:U4477))","v":""},{"$nulls":5},0,{"$f":"IF(AJ4478=statistics!$D$3,AB4477+AH4478-AG4478,)","v":0},{"$f":"IF(AND(ROW(AC4478)>=statistics!$C$55,ROW(AC4478)<=statistics!$D$55),AC4477+AH4478-AG4478,)","v":0},{"$f":"IF(AND(statistics!$C$55<=ROW(A4478),ROW(A4478)<=statistics!$D$55)=TRUE,AH4478-AG4478+AA4477-INDEX(AA:AA,statistics!$C$55),\"\")","v":""},null,null,0,0,0,"",{"$f":"IF(statistics!$D$3<>0,IF(AJ4478=statistics!$D$3,AG4478,\"\"),IF(B4478<>\"\",AG4478,\"\"))","v":""},{"$f":"IF(statistics!$D$3<>0,IF(AJ4478=statistics!$D$3,IF(AH4478=0,\"\",AH4478),\"\"),IF(AH4478<>0,AH4478,\"\"))","v":""},{"$f":"IF(statistics!$D$3<>0,IF(AJ4478=statistics!$D$3,IF(A4478=0,\"\",1),\"\"),IF(A4478=0,\"\",1))","v":""},"","",null,"",{"$nulls":10},"",null,null,"",null,0,null,{"$error":"#NUM!"},{"$error":"#NUM!"},4477]
[{"$nulls":4},"","","","","",null,null,"",{"$nulls":6},4488,"",{"$f":"IF(A4490=0,IF(B4490=\"\",IF(B4489=0,\"\",SUM($AG$1:AG4489)-SUM($U$1:U4488)),\"\"),SUM($AG$1:AG4489)-SUM($U$1:U4488))","v":""},{"$nulls":5},0,{"$f":"IF(AJ4489=statistics!$D$3,AB4488+AH4489-AG4489,)","v":0},{"$f":"IF(AND(ROW(AC4489)>=statistics!$C$55,ROW(AC4489)<=statistics!$D$55),AC4488+AH4489-AG4489,)","v":0},{"$f":"IF(AND(statistics!$C$55<=ROW(A4489),ROW(A4489)<=statistics!$D$55)=TRUE,AH4489-AG4489+AA4488-INDEX(AA:AA,statistics!$C$55),\"\")","v":""},null,null,0,0,0,"",{"$f":"IF(statistics!$D$3<>0,IF(AJ4489=statistics!$D$3,AG4489,\"\"),IF(B4489<>\"\",AG4489,\"\"))","v":""},{"$f":"IF(statistics!$D$3<>0,IF(AJ4489=statistics!$D$3,IF(AH4489=0,\"\",AH4489),\"\"),IF(AH4489<>0,AH4489,\"\"))","v":""},{"$f":"IF(statistics!$D$3<>0,IF(AJ4489=statistics!$D$3,IF(A4489=0,\"\",1),\"\"),IF(A4489=0,\"\",1))","v":""},"","",null,"",{"$nulls":10},"",null,null,"",null,0,null,{"$error":"#NUM!"},{"$error":"#NUM!"},4488]
[{"$nulls":4},"","","","","",null,null,"",{"$nulls":6},4493,"",{"$f":"IF(A4495=0,IF(B4495=\"\",IF(B4494=0,\"\",SUM($AG$1:AG4494)-SUM($U$1:U4493)),\"\"),SUM($AG$1:AG4494)-SUM($U$1:U4493))","v":""},{"$nulls":5},0,{"$f":"IF(AJ4494=statistics!$D$3,AB4493+AH4494-AG4494,)","v":0},{"$f":"IF(AND(ROW(AC4494)>=statistics!$C$55,ROW(AC4494)<=statistics!$D$55),AC4493+AH4494-AG4494,)","v":0},{"$f":"IF(AND(statistics!$C$55<=ROW(A4494),ROW(A4494)<=statistics!$D$55)=TRUE,AH4494-AG4494+AA4493-INDEX(AA:AA,statistics!$C$55),\"\")","v":""},null,null,0,0,0,"",{"$f":"IF(statistics!$D$3<>0,IF(AJ4494=statistics!$D$3,AG4494,\"\"),IF(B4494<>\"\",AG4494,\"\"))","v":""},{"$f":"IF(statistics!$D$3<>0,IF(AJ4494=statistics!$D$3,IF(AH4494=0,\"\",AH4494),\"\"),IF(AH4494<>0,AH4494,\"\"))","v":""},{"$f":"IF(statistics!$D$3<>0,IF(AJ4494=statistics!$D$3,IF(A4494=0,\"\",1),\"\"),IF(A4494=0,\"\",1))","v":""},"","",null,"",{"$nulls":10},"",null,null,"",null,0,null,{"$error":"#NUM!"},{"$error":"#NUM!"},4493]
[{"$nulls":4},"","","","","",null,null,"",{"$nulls":6},4504,"",{"$f":"IF(A4506=0,IF(B4506=\"\",IF(B4505=0,\"\",SUM($AG$1:AG4505)-SUM($U$1:U4504)),\"\"),SUM($AG$1:AG4505)-SUM($U$1:U4504))","v":""},{"$nulls":5},0,{"$f":"IF(AJ4505=statistics!$D$3,AB4504+AH4505-AG4505,)","v":0},{"$f":"IF(AND(ROW(AC4505)>=statistics!$C$55,ROW(AC4505)<=statistics!$D$55),AC4504+AH4505-AG4505,)","v":0},{"$f":"IF(AND(statistics!$C$55<=ROW(A4505),ROW(A4505)<=statistics!$D$55)=TRUE,AH4505-AG4505+AA4504-INDEX(AA:AA,statistics!$C$55),\"\")","v":""},null,null,0,0,0,"",{"$f":"IF(statistics!$D$3<>0,IF(AJ4505=statistics!$D$3,AG4505,\"\"),IF(B4505<>\"\",AG4505,\"\"))","v":""},{"$f":"IF(statistics!$D$3<>0,IF(AJ4505=statistics!$D$3,IF(AH4505=0,\"\",AH4505),\"\"),IF(AH4505<>0,AH4505,\"\"))","v":""},{"$f":"IF(statistics!$D$3<>0,IF(AJ4505=statistics!$D$3,IF(A4505=0,\"\",1),\"\"),IF(A4505=0,\"\",1))","v":""},"","",null,"",{"$nulls":10},"",null,null,"",null,0,null,{"$error":"#NUM!"},{"$error":"#NUM!"},4504]
[{"$nulls":4},"","","","","",null,null,"",{"$nulls":6},4519,"",{"$f":"IF(A4521=0,IF(B4521=\"\",IF(B4520=0,\"\",SUM($AG$1:AG4520)-SUM($U$1:U4519)),\"\"),SUM($AG$1:AG4520)-SUM($U$1:U4519))","v":""},{"$nulls":5},0,{"$f":"IF(AJ4520=statistics!$D$3,AB4519+AH4520-AG4520,)","v":0},{"$f":"IF(AND(ROW(AC4520)>=statistics!$C$55,ROW(AC4520)<=statistics!$D$55),AC4519+AH4520-AG4520,)","v":0},{"$f":"IF(AND(statistics!$C$55<=ROW(A4520),ROW(A4520)<=statistics!$D$55)=TRUE,AH4520-AG4520+AA4519-INDEX(AA:AA,statistics!$C$55),\"\")","v":""},null,null,0,0,0,"",{"$f":"IF(statistics!$D$3<>0,IF(AJ4520=statistics!$D$3,AG4520,\"\"),IF(B4520<>\"\",AG4520,\"\"))","v":""},{"$f":"IF(statistics!$D$3<>0,IF(AJ4520=statistics!$D$3,IF(AH4520=0,\"\",AH4520),\"\"),IF(AH4520<>0,AH4520,\"\"))","v":""},{"$f":"IF(statistics!$D$3<>0,IF(AJ4520=statistics!$D$3,IF(A4520=0,\"\",1),\"\"),IF(A4520=0,\"\",1))","v":""},"","",null,"",{"$nulls":10},"",null,null,"",null,0,null,{"$error":"#NUM!"},{"$error":"#NUM!"},4519]
[{"$nulls":4},"","","","","",null,null,"",{"$nulls":6},4523,"",{"$f":"IF(A4525=0,IF(B4525=\"\",IF(B4524=0,\"\",SUM($AG$1:AG4524)-SUM($U$1:U4523)),\"\"),SUM($AG$1:AG4524)-SUM($U$1:U4523))","v":""},{"$nulls":5},0,{"$f":"IF(AJ4524=statistics!$D$3,AB4523+AH4524-AG4524,)","v":0},{"$f":"IF(AND(ROW(AC4524)>=statistics!$C$55,ROW(AC4524)<=statistics!$D$55),AC4523+AH4524-AG4524,)","v":0},{"$f":"IF(AND(statistics!$C$55<=ROW(A4524),ROW(A4524)<=statistics!$D$55)=TRUE,AH4524-AG4524+AA4523-INDEX(AA:AA,statistics!$C$55),\"\")","v":""},null,null,0,0,0,"",{"$f":"IF(statistics!$D$3<>0,IF(AJ4524=statistics!$D$3,AG4524,\"\"),IF(B4524<>\"\",AG4524,\"\"))","v":""},{"$f":"IF(statistics!$D$3<>0,IF(AJ4524=statistics!$D$3,IF(AH4524=0,\"\",AH4524),\"\"),IF(AH4524<>0,AH4524,\"\"))","v":""},{"$f":"IF(statistics!$D$3<>0,IF(AJ4524=statistics!$D$3,IF(A4524=0,\"\",1),\"\"),IF(A4524=0,\"\",1))","v":""},"","",null,"",{"$nulls":10},"",null,null,"",null,0,null,{"$error":"#NUM!"},{"$error":"#NUM!"},4523]
[{"$nulls":4},"","","","","",null,null,"",{"$nulls":6},4534,"",{"$f":"IF(A4536=0,IF(B4536=\"\",IF(B4535=0,\"\",SUM($AG$1:AG4535)-SUM($U$1:U4534)),\"\"),SUM($AG$1:AG4535)-SUM($U$1:U4534))","v":""},{"$nulls":5},0,{"$f":"IF(AJ4535=statistics!$D$3,AB4534+AH4535-AG4535,)","v":0},{"$f":"IF(AND(ROW(AC4535)>=statistics!$C$55,ROW(AC4535)<=statistics!$D$55),AC4534+AH4535-AG4535,)","v":0},{"$f":"IF(AND(statistics!$C$55<=ROW(A4535),ROW(A4535)<=statistics!$D$55)=TRUE,AH4535-AG4535+AA4534-INDEX(AA:AA,statistics!$C$55),\"\")","v":""},null,null,0,0,0,"",{"$f":"IF(statistics!$D$3<>0,IF(AJ4535=statistics!$D$3,AG4535,\"\"),IF(B4535<>\"\",AG4535,\"\"))","v":""},{"$f":"IF(statistics!$D$3<>0,IF(AJ4535=statistics!$D$3,IF(AH4535=0,\"\",AH4535),\"\"),IF(AH4535<>0,AH4535,\"\"))","v":""},{"$f":"IF(statistics!$D$3<>0,IF(AJ4535=statistics!$D$3,IF(A4535=0,\"\",1),\"\"),IF(A4535=0,\"\",1))","v":""},"","",null,"",{"$nulls":10},"",null,null,"",null,0,null,{"$error":"#NUM!"},{"$error":"#NUM!"},4534]
[{"$nulls":4},"","","","","",null,null,"",{"$nulls":6},4549,"",{"$f":"IF(A4551=0,IF(B4551=\"\",IF(B4550=0,\"\",SUM($AG$1:AG4550)-SUM($U$1:U4549)),\"\"),SUM($AG$1:AG4550)-SUM($U$1:U4549))","v":""},{"$nulls":5},0,{"$f":"IF(AJ4550=statistics!$D$3,AB4549+AH4550-AG4550,)","v":0},{"$f":"IF(AND(ROW(AC4550)>=statistics!$C$55,ROW(AC4550)<=statistics!$D$55),AC4549+AH4550-AG4550,)","v":0},{"$f":"IF(AND(statistics!$C$55<=ROW(A4550),ROW(A4550)<=statistics!$D$55)=TRUE,AH4550-AG4550+AA4549-INDEX(AA:AA,statistics!$C$55),\"\")","v":""},null,null,{"$f":"IF(J4550=0,B4550+C4550,(B4550+C4550)-(B4550+C4550)*J4550*K4550)","v":0},{"$f":"IF(J4550=0,D4550,D4550*(1-J4550))","v":0},{"$f":"IF(J4550=0,,D4550*J4550)","v":0},{"$f":"IF(A4550<>0,MONTH(A4550),IF(B4550=\"\",\"\",AJ4549))","v":""},{"$f":"IF(statistics!$D$3<>0,IF(AJ4550=statistics!$D$3,AG4550,\"\"),IF(B4550<>\"\",AG4550,\"\"))","v":""},{"$f":"IF(statistics!$D$3<>0,IF(AJ4550=statistics!$D$3,IF(AH4550=0,\"\",AH4550),\"\"),IF(AH4550<>0,AH4550,\"\"))","v":""},{"$f":"IF(statistics!$D$3<>0,IF(AJ4550=statistics!$D$3,IF(A4550=0,\"\",1),\"\"),IF(A4550=0,\"\",1))","v":""},{"$f":"IF(AK4550<>\"\",IF(AK4549=0,ROW(AK4550),ROW(AK4550)),\"\")","v":""},"",null,{"$f":"IF(B4550=0,\"\",IF(D4550=0,IF(D4549=0,AQ4549+1,1),\"\"))","v":""},{"$nulls":10},{"$f":"IF(B4550=$BA$2,ROW(),\"\")","v":""},null,null,{"$f":"IF(B4550=$BA$2,INDEX(D:D,SMALL(BB:BB,CELL(\"содержимое\",BG4550)))-INDEX(B:B,SMALL(BB:BB,CELL(\"содержимое\",BG4550)))-INDEX(C:C,SMALL(BB:BB,CELL(\"содержимое\",BG4550))),\"\")","v":""},null,{"$f":"IF($BA$2=B4550,BG4549+1,BG4549)","v":0},null,{"$f":"INDEX(BE:BE,SMALL(BB:BB,CELL(\"содержимое\",BK4550)))","v":{"$error":"#NUM!"}},{"$f":"BJ4549+BI4550","v":{"$error":"#NUM!"}},{"$f":"BK4549+1","v":4549}]
[{"$nulls":4},"","","","","",null,null,"",{"$nulls":6},4554,"",{"$f":"IF(A4556=0,IF(B4556=\"\",IF(B4555=0,\"\",SUM($AG$1:AG4555)-SUM($U$1:U4554)),\"\"),SUM($AG$1:AG4555)-SUM($U$1:U4554))","v":""},{"$nulls":5},0,{"$f":"IF(AJ4555=statistics!$D$3,AB4554+AH4555-AG4555,)","v":0},{"$f":"IF(AND(ROW(AC4555)>=statistics!$C$55,ROW(AC4555)<=statistics!$D$55),AC4554+AH4555-AG4555,)","v":0},{"$f":"IF(AND(statistics!$C$55<=ROW(A4555),ROW(A4555)<=statistics!$D$55)=TRUE,AH4555-AG4555+AA4554-INDEX(AA:AA,statistics!$C$55),\"\")","v":""},null,null,0,0,0,"",{"$f":"IF(statistics!$D$3<>0,IF(AJ4555=statistics!$D$3,AG4555,\"\"),IF(B4555<>\"\",AG4555,\"\"))","v":""},{"$f":"IF(statistics!$D$3<>0,IF(AJ4555=statistics!$D$3,IF(AH4555=0,\"\",AH4555),\"\"),IF(AH4555<>0,AH4555,\"\"))","v":""},{"$f":"IF(statistics!$D$3<>0,IF(AJ4555=statistics!$D$3,IF(A4555=0,\"\",1),\"\"),IF(A4555=0,\"\",1))","v":""},"","",null,"",{"$nulls":10},"",null,null,"",null,0,null,{"$error":"#NUM!"},{"$error":"#NUM!"},4554]
[{"$nulls":4},"","","","","",null,null,"",{"$nulls":6},4565,"",{"$f":"IF(A4567=0,IF(B4567=\"\",IF(B4566=0,\"\",SUM($AG$1:AG4566)-SUM($U$1:U4565)),\"\"),SUM($AG$1:AG4566)-SUM($U$1:U4565))","v":""},{"$nulls":5},0,{"$f":"IF(AJ4566=statistics!$D$3,AB4565+AH4566-AG4566,)","v":0},{"$f":"IF(AND(ROW(AC4566)>=statistics!$C$55,ROW(AC4566)<=statistics!$D$55),AC4565+AH4566-AG4566,)","v":0},{"$f":"IF(AND(statistics!$C$55<=ROW(A4566),ROW(A4566)<=statistics!$D$55)=TRUE,AH4566-AG4566+AA4565-INDEX(AA:AA,statistics!$C$55),\"\")","v":""},null,null,0,0,0,"",{"$f":"IF(statistics!$D$3<>0,IF(AJ4566=statistics!$D$3,AG4566,\"\"),IF(B4566<>\"\",AG4566,\"\"))","v":""},{"$f":"IF(statistics!$D$3<>0,IF(AJ4566=statistics!$D$3,IF(AH4566=0,\"\",AH4566),\"\"),IF(AH4566<>0,AH4566,\"\"))","v":""},{"$f":"IF(statistics!$D$3<>0,IF(AJ4566=statistics!$D$3,IF(A4566=0,\"\",1),\"\"),IF(A4566=0,\"\",1))","v":""},"","",null,"",{"$nulls":10},"",null,null,"",null,0,null,{"$error":"#NUM!"},{"$error":"#NUM!"},4565]
[{"$nulls":4},"","","","","",null,null,"",{"$nulls":6},4580,"",{"$f":"IF(A4582=0,IF(B4582=\"\",IF(B4581=0,\"\",SUM($AG$1:AG4581)-SUM($U$1:U4580)),\"\"),SUM($AG$1:AG4581)-SUM($U$1:U4580))","v":""},{"$nulls":5},0,{"$f":"IF(AJ4581=statistics!$D$3,AB4580+AH4581-AG4581,)","v":0},{"$f":"IF(AND(ROW(AC4581)>=statistics!$C$55,ROW(AC4581)<=statistics!$D$55),AC4580+AH4581-AG4581,)","v":0},{"$f":"IF(AND(statistics!$C$55<=ROW(A4581),ROW(A4581)<=statistics!$D$55)=TRUE,AH4581-AG4581+AA4580-INDEX(AA:AA,statistics!$C$55),\"\")","v":""},null,null,0,0,0,"",{"$f":"IF(statistics!$D$3<>0,IF(AJ4581=statistics!$D$3,AG4581,\"\"),IF(B4581<>\"\",AG4581,\"\"))","v":""},{"$f":"IF(statistics!$D$3<>0,IF(AJ4581=statistics!$D$3,IF(AH4581=0,\"\",AH4581),\"\"),IF(AH4581<>0,AH4581,\"\"))","v":""},{"$f":"IF(statistics!$D$3<>0,IF(AJ4581=statistics!$D$3,IF(A4581=0,\"\",1),\"\"),IF(A4581=0,\"\",1))","v":""},"","",null,"",{"$nulls":10},"",null,null,"",null,0,null,{"$error":"#NUM!"},{"$error":"#NUM!"},4580]
[{"$nulls":4},"","","","","",null,null,"",{"$nulls":6},4585,"",{"$f":"IF(A4587=0,IF(B4587=\"\",IF(B4586=0,\"\",SUM($AG$1:AG4586)-SUM($U$1:U4585)),\"\"),SUM($AG$1:AG4586)-SUM($U$1:U4585))","v":""},{"$nulls":5},0,{"$f":"IF(AJ4586=statistics!$D$3,AB4585+AH4586-AG4586,)","v":0},{"$f":"IF(AND(ROW(AC4586)>=statistics!$C$55,ROW(AC4586)<=statistics!$D$55),AC4585+AH4586-AG4586,)","v":0},{"$f":"IF(AND(statistics!$C$55<=ROW(A4586),ROW(A4586)<=statistics!$D$55)=TRUE,AH4586-AG4586+AA4585-INDEX(AA:AA,statistics!$C$55),\"\")","v":""},null,null,0,0,0,"",{"$f":"IF(statistics!$D$3<>0,IF(AJ4586=statistics!$D$3,AG4586,\"\"),IF(B4586<>\"\",AG4586,\"\"))","v":""},{"$f":"IF(statistics!$D$3<>0,IF(AJ4586=statistics!$D$3,IF(AH4586=0,\"\",AH4586),\"\"),IF(AH4586<>0,AH4586,\"\"))","v":""},{"$f":"IF(statistics!$D$3<>0,IF(AJ4586=statistics!$D$3,IF(A4586=0,\"\",1),\"\"),IF(A4586=0,\"\",1))","v":""},"","",null,"",{"$nulls":10},"",null,null,"",null,0,null,{"$error":"#NUM!"},{"$error":"#NUM!"},4585]
[{"$nulls":4},"","","","","",null,null,"",{"$nulls":6},4595,"",{"$f":"IF(A4597=0,IF(B4597=\"\",IF(B4596=0,\"\",SUM($AG$1:AG4596)-SUM($U$1:U4595)),\"\"),SUM($AG$1:AG4596)-SUM($U$1:U4595))","v":""},{"$nulls":5},0,{"$f":"IF(AJ4596=statistics!$D$3,AB4595+AH4596-AG4596,)","v":0},{"$f":"IF(AND(ROW(AC4596)>=statistics!$C$55,ROW(AC4596)<=statistics!$D$55),AC4595+AH4596-AG4596,)","v":0},{"$f":"IF(AND(statistics!$C$55<=ROW(A4596),ROW(A4596)<=statistics!$D$55)=TRUE,AH4596-AG4596+AA4595-INDEX(AA:AA,statistics!$C$55),\"\")","v":""},null,null,0,0,0,"",{"$f":"IF(statistics!$D$3<>0,IF(AJ4596=statistics!$D$3,AG4596,\"\"),IF(B4596<>\"\",AG4596,\"\"))","v":""},{"$f":"IF(statistics!$D$3<>0,IF(AJ4596=statistics!$D$3,IF(AH4596=0,\"\",AH4596),\"\"),IF(AH4596<>0,AH4596,\"\"))","v":""},{"$f":"IF(statistics!$D$3<>0,IF(AJ4596=statistics!$D$3,IF(A4596=0,\"\",1),\"\"),IF(A4596=0,\"\",1))","v":""},"","",null,"",{"$nulls":10},"",null,null,"",null,0,null,{"$error":"#NUM!"},{"$error":"#NUM!"},4595]
[{"$nulls":4},"","","","","",null,null,{"$f":"IF(A4611=0,\"\",SUM(AI4611:AI14609)-SUM(L4612:L14609))","v":""},{"$nulls":6},4610,{"$f":"IF(A4611=0,\"\",SUM(AG4611:AG14609)-SUM(T4612:T14609))","v":""},{"$f":"IF(A4612=0,IF(B4612=\"\",IF(B4611=0,\"\",SUM($AG$1:AG4611)-SUM($U$1:U4610)),\"\"),SUM($AG$1:AG4611)-SUM($U$1:U4610))","v":""},{"$nulls":5},{"$f":"AA4610+AH4611-AG4611","v":0},{"$f":"IF(AJ4611=statistics!$D$3,AB4610+AH4611-AG4611,)","v":0},{"$f":"IF(AND(ROW(AC4611)>=statistics!$C$55,ROW(AC4611)<=statistics!$D$55),AC4610+AH4611-AG4611,)","v":0},{"$f":"IF(AND(statistics!$C$55<=ROW(A4611),ROW(A4611)<=statistics!$D$55)=TRUE,AH4611-AG4611+AA4610-INDEX(AA:AA,statistics!$C$55),\"\")","v":""},null,null,0,0,0,"",{"$f":"IF(statistics!$D$3<>0,IF(AJ4611=statistics!$D$3,AG4611,\"\"),IF(B4611<>\"\",AG4611,\"\"))","v":""},{"$f":"IF(statistics!$D$3<>0,IF(AJ4611=statistics!$D$3,IF(AH4611=0,\"\",AH4611),\"\"),IF(AH4611<>0,AH4611,\"\"))","v":""},{"$f":"IF(statistics!$D$3<>0,IF(AJ4611=statistics!$D$3,IF(A4611=0,\"\",1),\"\"),IF(A4611=0,\"\",1))","v":""},"","",null,"",{"$nulls":10},"",null,null,"",null,0,null,{"$error":"#NUM!"},{"$error":"#NUM!"},4610]
[{"$nulls":4},"","","","","",null,null,"",{"$nulls":6},4611,"",{"$f":"IF(A4613=0,IF(B4613=\"\",IF(B4612=0,\"\",SUM($AG$1:AG4612)-SUM($U$1:U4611)),\"\"),SUM($AG$1:AG4612)-SUM($U$1:U4611))","v":""},{"$nulls":5},0,{"$f":"IF(AJ4612=statistics!$D$3,AB4611+AH4612-AG4612,)","v":0},{"$f":"IF(AND(ROW(AC4612)>=statistics!$C$55,ROW(AC4612)<=statistics!$D$55),AC4611+AH4612-AG4612,)","v":0},{"$f":"IF(AND(statistics!$C$55<=ROW(A4612),ROW(A4612)<=statistics!$D$55)=TRUE,AH4612-AG4612+AA4611-INDEX(AA:AA,statistics!$C$55),\"\")","v":""},null,null,0,0,0,"",{"$f":"IF(statistics!$D$3<>0,IF(AJ4612=statistics!$D$3,AG4612,\"\"),IF(B4612<>\"\",AG4612,\"\"))","v":""},{"$f":"IF(statistics!$D$3<>0,IF(AJ4612=statistics!$D$3,IF(AH4612=0,\"\",AH4612),\"\"),IF(AH4612<>0,AH4612,\"\"))","v":""},{"$f":"IF(statistics!$D$3<>0,IF(AJ4612=statistics!$D$3,IF(A4612=0,\"\",1),\"\"),IF(A4612=0,\"\",1))","v":""},"",{"$f":"IF(A4612<>0,IF(MONTH(A4612)=AJ4611,\"\",MONTH(A4612)),\"\")","v":""},null,"",{"$nulls":10},"",null,null,"",null,0,null,{"$error":"#NUM!"},{"$error":"#NUM!"},4611]
[{"$nulls":4},"","","","","",null,null,"",{"$nulls":6},4626,"",{"$f":"IF(A4628=0,IF(B4628=\"\",IF(B4627=0,\"\",SUM($AG$1:AG4627)-SUM($U$1:U4626)),\"\"),SUM($AG$1:AG4627)-SUM($U$1:U4626))","v":""},{"$nulls":5},0,{"$f":"IF(AJ4627=statistics!$D$3,AB4626+AH4627-AG4627,)","v":0},{"$f":"IF(AND(ROW(AC4627)>=statistics!$C$55,ROW(AC4627)<=statistics!$D$55),AC4626+AH4627-AG4627,)","v":0},{"$f":"IF(AND(statistics!$C$55<=ROW(A4627),ROW(A4627)<=statistics!$D$55)=TRUE,AH4627-AG4627+AA4626-INDEX(AA:AA,statistics!$C$55),\"\")","v":""},null,null,0,0,0,"",{"$f":"IF(statistics!$D$3<>0,IF(AJ4627=statistics!$D$3,AG4627,\"\"),IF(B4627<>\"\",AG4627,\"\"))","v":""},{"$f":"IF(statistics!$D$3<>0,IF(AJ4627=statistics!$D$3,IF(AH4627=0,\"\",AH4627),\"\"),IF(AH4627<>0,AH4627,\"\"))","v":""},{"$f":"IF(statistics!$D$3<>0,IF(AJ4627=statistics!$D$3,IF(A4627=0,\"\",1),\"\"),IF(A4627=0,\"\",1))","v":""},"","",null,"",{"$nulls":10},"",null,null,"",null,0,null,{"$error":"#NUM!"},{"$error":"#NUM!"},4626]
[{"$nulls":4},"","","","","",null,null,"",{"$nulls":6},4637,"",{"$f":"IF(A4639=0,IF(B4639=\"\",IF(B4638=0,\"\",SUM($AG$1:AG4638)-SUM($U$1:U4637)),\"\"),SUM($AG$1:AG4638)-SUM($U$1:U4637))","v":""},{"$nulls":5},0,{"$f":"IF(AJ4638=statistics!$D$3,AB4637+AH4638-AG4638,)","v":0},{"$f":"IF(AND(ROW(AC4638)>=statistics!$C$55,ROW(AC4638)<=statistics!$D$55),AC4637+AH4638-AG4638,)","v":0},{"$f":"IF(AND(statistics!$C$55<=ROW(A4638),ROW(A4638)<=statistics!$D$55)=TRUE,AH4638-AG4638+AA4637-INDEX(AA:AA,statistics!$C$55),\"\")","v":""},null,null,0,0,0,"",{"$f":"IF(statistics!$D$3<>0,IF(AJ4638=statistics!$D$3,AG4638,\"\"),IF(B4638<>\"\",AG4638,\"\"))","v":""},{"$f":"IF(statistics!$D$3<>0,IF(AJ4638=statistics!$D$3,IF(AH4638=0,\"\",AH4638),\"\"),IF(AH4638<>0,AH4638,\"\"))","v":""},{"$f":"IF(statistics!$D$3<>0,IF(AJ4638=statistics!$D$3,IF(A4638=0,\"\",1),\"\"),IF(A4638=0,\"\",1))","v":""},"","",null,"",{"$nulls":10},"",null,null,"",null,0,null,{"$error":"#NUM!"},{"$error":"#NUM!"},4637]
[{"$nulls":4},"","","","","",null,null,"",{"$nulls":6},4642,"",{"$f":"IF(A4644=0,IF(B4644=\"\",IF(B4643=0,\"\",SUM($AG$1:AG4643)-SUM($U$1:U4642)),\"\"),SUM($AG$1:AG4643)-SUM($U$1:U4642))","v":""},{"$nulls":5},0,{"$f":"IF(AJ4643=statistics!$D$3,AB4642+AH4643-AG4643,)","v":0},{"$f":"IF(AND(ROW(AC4643)>=statistics!$C$55,ROW(AC4643)<=statistics!$D$55),AC4642+AH4643-AG4643,)","v":0},{"$f":"IF(AND(statistics!$C$55<=ROW(A4643),ROW(A4643)<=statistics!$D$55)=TRUE,AH4643-AG4643+AA4642-INDEX(AA:AA,statistics!$C$55),\"\")","v":""},null,null,0,0,0,"",{"$f":"IF(statistics!$D$3<>0,IF(AJ4643=statistics!$D$3,AG4643,\"\"),IF(B4643<>\"\",AG4643,\"\"))","v":""},{"$f":"IF(statistics!$D$3<>0,IF(AJ4643=statistics!$D$3,IF(AH4643=0,\"\",AH4643),\"\"),IF(AH4643<>0,AH4643,\"\"))","v":""},{"$f":"IF(statistics!$D$3<>0,IF(AJ4643=statistics!$D$3,IF(A4643=0,\"\",1),\"\"),IF(A4643=0,\"\",1))","v":""},"","",null,"",{"$nulls":10},"",null,null,"",null,0,null,{"$error":"#NUM!"},{"$error":"#NUM!"},4642]
[{"$nulls":4},"","","","","",null,null,"",{"$nulls":6},4656,"",{"$f":"IF(A4658=0,IF(B4658=\"\",IF(B4657=0,\"\",SUM($AG$1:AG4657)-SUM($U$1:U4656)),\"\"),SUM($AG$1:AG4657)-SUM($U$1:U4656))","v":""},{"$nulls":5},0,{"$f":"IF(AJ4657=statistics!$D$3,AB4656+AH4657-AG4657,)","v":0},{"$f":"IF(AND(ROW(AC4657)>=statistics!$C$55,ROW(AC4657)<=statistics!$D$55),AC4656+AH4657-AG4657,)","v":0},{"$f":"IF(AND(statistics!$C$55<=ROW(A4657),ROW(A4657)<=statistics!$D$55)=TRUE,AH4657-AG4657+AA4656-INDEX(AA:AA,statistics!$C$55),\"\")","v":""},null,null,0,0,0,"",{"$f":"IF(statistics!$D$3<>0,IF(AJ4657=statistics!$D$3,AG4657,\"\"),IF(B4657<>\"\",AG4657,\"\"))","v":""},{"$f":"IF(statistics!$D$3<>0,IF(AJ4657=statistics!$D$3,IF(AH4657=0,\"\",AH4657),\"\"),IF(AH4657<>0,AH4657,\"\"))","v":""},{"$f":"IF(statistics!$D$3<>0,IF(AJ4657=statistics!$D$3,IF(A4657=0,\"\",1),\"\"),IF(A4657=0,\"\",1))","v":""},"","",null,"",{"$nulls":10},"",null,null,"",null,0,null,{"$error":"#NUM!"},{"$error":"#NUM!"},4656]
[{"$nulls":4},"","","","","",null,null,"",{"$nulls":6},4667,"",{"$f":"IF(A4669=0,IF(B4669=\"\",IF(B4668=0,\"\",SUM($AG$1:AG4668)-SUM($U$1:U4667)),\"\"),SUM($AG$1:AG4668)-SUM($U$1:U4667))","v":""},{"$nulls":5},0,{"$f":"IF(AJ4668=statistics!$D$3,AB4667+AH4668-AG4668,)","v":0},{"$f":"IF(AND(ROW(AC4668)>=statistics!$C$55,ROW(AC4668)<=statistics!$D$55),AC4667+AH4668-AG4668,)","v":0},{"$f":"IF(AND(statistics!$C$55<=ROW(A4668),ROW(A4668)<=statistics!$D$55)=TRUE,AH4668-AG4668+AA4667-INDEX(AA:AA,statistics!$C$55),\"\")","v":""},null,null,0,0,0,"",{"$f":"IF(statistics!$D$3<>0,IF(AJ4668=statistics!$D$3,AG4668,\"\"),IF(B4668<>\"\",AG4668,\"\"))","v":""},{"$f":"IF(statistics!$D$3<>0,IF(AJ4668=statistics!$D$3,IF(AH4668=0,\"\",AH4668),\"\"),IF(AH4668<>0,AH4668,\"\"))","v":""},{"$f":"IF(statistics!$D$3<>0,IF(AJ4668=statistics!$D$3,IF(A4668=0,\"\",1),\"\"),IF(A4668=0,\"\",1))","v":""},"","",null,"",{"$nulls":10},"",null,null,"",null,0,null,{"$error":"#NUM!"},{"$error":"#NUM!"},4667]
[{"$nulls":4},"",{"$f":"IF(A4673=0,\"\",IF(T4673=0,\"\",E4673/T4673))","v":""},"","","",null,null,"",{"$nulls":6},4672,"",{"$f":"IF(A4674=0,IF(B4674=\"\",IF(B4673=0,\"\",SUM($AG$1:AG4673)-SUM($U$1:U4672)),\"\"),SUM($AG$1:AG4673)-SUM($U$1:U4672))","v":""},{"$nulls":5},0,{"$f":"IF(AJ4673=statistics!$D$3,AB4672+AH4673-AG4673,)","v":0},{"$f":"IF(AND(ROW(AC4673)>=statistics!$C$55,ROW(AC4673)<=statistics!$D$55),AC4672+AH4673-AG4673,)","v":0},{"$f":"IF(AND(statistics!$C$55<=ROW(A4673),ROW(A4673)<=statistics!$D$55)=TRUE,AH4673-AG4673+AA4672-INDEX(AA:AA,statistics!$C$55),\"\")","v":""},null,null,0,0,0,"",{"$f":"IF(statistics!$D$3<>0,IF(AJ4673=statistics!$D$3,AG4673,\"\"),IF(B4673<>\"\",AG4673,\"\"))","v":""},{"$f":"IF(statistics!$D$3<>0,IF(AJ4673=statistics!$D$3,IF(AH4673=0,\"\",AH4673),\"\"),IF(AH4673<>0,AH4673,\"\"))","v":""},{"$f":"IF(statistics!$D$3<>0,IF(AJ4673=statistics!$D$3,IF(A4673=0,\"\",1),\"\"),IF(A4673=0,\"\",1))","v":""},"","",null,"",{"$nulls":10},"",null,null,"",null,0,null,{"$error":"#NUM!"},{"$error":"#NUM!"},4672]
[{"$nulls":4},"","","","","",null,null,"",{"$nulls":6},4687,"",{"$f":"IF(A4689=0,IF(B4689=\"\",IF(B4688=0,\"\",SUM($AG$1:AG4688)-SUM($U$1:U4687)),\"\"),SUM($AG$1:AG4688)-SUM($U$1:U4687))","v":""},{"$nulls":5},0,{"$f":"IF(AJ4688=statistics!$D$3,AB4687+AH4688-AG4688,)","v":0},{"$f":"IF(AND(ROW(AC4688)>=statistics!$C$55,ROW(AC4688)<=statistics!$D$55),AC4687+AH4688-AG4688,)","v":0},{"$f":"IF(AND(statistics!$C$55<=ROW(A4688),ROW(A4688)<=statistics!$D$55)=TRUE,AH4688-AG4688+AA4687-INDEX(AA:AA,statistics!$C$55),\"\")","v":""},null,null,0,0,0,"",{"$f":"IF(statistics!$D$3<>0,IF(AJ4688=statistics!$D$3,AG4688,\"\"),IF(B4688<>\"\",AG4688,\"\"))","v":""},{"$f":"IF(statistics!$D$3<>0,IF(AJ4688=statistics!$D$3,IF(AH4688=0,\"\",AH4688),\"\"),IF(AH4688<>0,AH4688,\"\"))","v":""},{"$f":"IF(statistics!$D$3<>0,IF(AJ4688=statistics!$D$3,IF(A4688=0,\"\",1),\"\"),IF(A4688=0,\"\",1))","v":""},"","",null,"",{"$nulls":10},"",null,null,"",null,0,null,{"$error":"#NUM!"},{"$error":"#NUM!"},4687]
[{"$nulls":4},"","","","","",null,null,"",{"$nulls":6},4698,"",{"$f":"IF(A4700=0,IF(B4700=\"\",IF(B4699=0,\"\",SUM($AG$1:AG4699)-SUM($U$1:U4698)),\"\"),SUM($AG$1:AG4699)-SUM($U$1:U4698))","v":""},{"$nulls":5},0,{"$f":"IF(AJ4699=statistics!$D$3,AB4698+AH4699-AG4699,)","v":0},{"$f":"IF(AND(ROW(AC4699)>=statistics!$C$55,ROW(AC4699)<=statistics!$D$55),AC4698+AH4699-AG4699,)","v":0},{"$f":"IF(AND(statistics!$C$55<=ROW(A4699),ROW(A4699)<=statistics!$D$55)=TRUE,AH4699-AG4699+AA4698-INDEX(AA:AA,statistics!$C$55),\"\")","v":""},null,null,0,0,0,"",{"$f":"IF(statistics!$D$3<>0,IF(AJ4699=statistics!$D$3,AG4699,\"\"),IF(B4699<>\"\",AG4699,\"\"))","v":""},{"$f":"IF(statistics!$D$3<>0,IF(AJ4699=statistics!$D$3,IF(AH4699=0,\"\",AH4699),\"\"),IF(AH4699<>0,AH4699,\"\"))","v":""},{"$f":"IF(statistics!$D$3<>0,IF(AJ4699=statistics!$D$3,IF(A4699=0,\"\",1),\"\"),IF(A4699=0,\"\",1))","v":""},"","",null,"",{"$nulls":10},"",null,null,"",null,0,null,{"$error":"#NUM!"},{"$error":"#NUM!"},4698]
[{"$nulls":4},"","","","","",null,null,"",{"$nulls":6},4703,"",{"$f":"IF(A4705=0,IF(B4705=\"\",IF(B4704=0,\"\",SUM($AG$1:AG4704)-SUM($U$1:U4703)),\"\"),SUM($AG$1:AG4704)-SUM($U$1:U4703))","v":""},{"$nulls":5},0,{"$f":"IF(AJ4704=statistics!$D$3,AB4703+AH4704-AG4704,)","v":0},{"$f":"IF(AND(ROW(AC4704)>=statistics!$C$55,ROW(AC4704)<=statistics!$D$55),AC4703+AH4704-AG4704,)","v":0},{"$f":"IF(AND(statistics!$C$55<=ROW(A4704),ROW(A4704)<=statistics!$D$55)=TRUE,AH4704-AG4704+AA4703-INDEX(AA:AA,statistics!$C$55),\"\")","v":""},null,null,0,0,0,"",{"$f":"IF(statistics!$D$3<>0,IF(AJ4704=statistics!$D$3,AG4704,\"\"),IF(B4704<>\"\",AG4704,\"\"))","v":""},{"$f":"IF(statistics!$D$3<>0,IF(AJ4704=statistics!$D$3,IF(AH4704=0,\"\",AH4704),\"\"),IF(AH4704<>0,AH4704,\"\"))","v":""},{"$f":"IF(statistics!$D$3<>0,IF(AJ4704=statistics!$D$3,IF(A4704=0,\"\",1),\"\"),IF(A4704=0,\"\",1))","v":""},"","",null,"",{"$nulls":10},"",null,null,"",null,0,null,{"$error":"#NUM!"},{"$error":"#NUM!"},4703]
[{"$nulls":4},"","","","","",null,null,"",{"$nulls":6},4714,"",{"$f":"IF(A4716=0,IF(B4716=\"\",IF(B4715=0,\"\",SUM($AG$1:AG4715)-SUM($U$1:U4714)),\"\"),SUM($AG$1:AG4715)-SUM($U$1:U4714))","v":""},{"$nulls":5},0,{"$f":"IF(AJ4715=statistics!$D$3,AB4714+AH4715-AG4715,)","v":0},{"$f":"IF(AND(ROW(AC4715)>=statistics!$C$55,ROW(AC4715)<=statistics!$D$55),AC4714+AH4715-AG4715,)","v":0},{"$f":"IF(AND(statistics!$C$55<=ROW(A4715),ROW(A4715)<=statistics!$D$55)=TRUE,AH4715-AG4715+AA4714-INDEX(AA:AA,statistics!$C$55),\"\")","v":""},null,null,0,0,0,"",{"$f":"IF(statistics!$D$3<>0,IF(AJ4715=statistics!$D$3,AG4715,\"\"),IF(B4715<>\"\",AG4715,\"\"))","v":""},{"$f":"IF(statistics!$D$3<>0,IF(AJ4715=statistics!$D$3,IF(AH4715=0,\"\",AH4715),\"\"),IF(AH4715<>0,AH4715,\"\"))","v":""},{"$f":"IF(statistics!$D$3<>0,IF(AJ4715=statistics!$D$3,IF(A4715=0,\"\",1),\"\"),IF(A4715=0,\"\",1))","v":""},"","",null,"",{"$nulls":10},"",null,null,"",null,0,null,{"$error":"#NUM!"},{"$error":"#NUM!"},4714]
[{"$nulls":4},"","","","","",null,null,"",{"$nulls":6},4722,"",{"$f":"IF(A4724=0,IF(B4724=\"\",IF(B4723=0,\"\",SUM($AG$1:AG4723)-SUM($U$1:U4722)),\"\"),SUM($AG$1:AG4723)-SUM($U$1:U4722))","v":""},{"$nulls":5},0,{"$f":"IF(AJ4723=statistics!$D$3,AB4722+AH4723-AG4723,)","v":0},{"$f":"IF(AND(ROW(AC4723)>=statistics!$C$55,ROW(AC4723)<=statistics!$D$55),AC4722+AH4723-AG4723,)","v":0},{"$f":"IF(AND(statistics!$C$55<=ROW(A4723),ROW(A4723)<=statistics!$D$55)=TRUE,AH4723-AG4723+AA4722-INDEX(AA:AA,statistics!$C$55),\"\")","v":""},null,null,0,0,0,"",{"$f":"IF(statistics!$D$3<>0,IF(AJ4723=statistics!$D$3,AG4723,\"\"),IF(B4723<>\"\",AG4723,\"\"))","v":""},{"$f":"IF(statistics!$D$3<>0,IF(AJ4723=statistics!$D$3,IF(AH4723=0,\"\",AH4723),\"\"),IF(AH4723<>0,AH4723,\"\"))","v":""},{"$f":"IF(statistics!$D$3<>0,IF(AJ4723=statistics!$D$3,IF(A4723=0,\"\",1),\"\"),IF(A4723=0,\"\",1))","v":""},"","",null,"",{"$nulls":10},"",null,null,"",null,0,null,{"$error":"#NUM!"},{"$error":"#NUM!"},4722]
[{"$nulls":4},"","","","","",null,null,"",{"$nulls":6},4733,"",{"$f":"IF(A4735=0,IF(B4735=\"\",IF(B4734=0,\"\",SUM($AG$1:AG4734)-SUM($U$1:U4733)),\"\"),SUM($AG$1:AG4734)-SUM($U$1:U4733))","v":""},{"$nulls":5},0,{"$f":"IF(AJ4734=statistics!$D$3,AB4733+AH4734-AG4734,)","v":0},{"$f":"IF(AND(ROW(AC4734)>=statistics!$C$55,ROW(AC4734)<=statistics!$D$55),AC4733+AH4734-AG4734,)","v":0},{"$f":"IF(AND(statistics!$C$55<=ROW(A4734),ROW(A4734)<=statistics!$D$55)=TRUE,AH4734-AG4734+AA4733-INDEX(AA:AA,statistics!$C$55),\"\")","v":""},null,null,0,0,0,"",{"$f":"IF(statistics!$D$3<>0,IF(AJ4734=statistics!$D$3,AG4734,\"\"),IF(B4734<>\"\",AG4734,\"\"))","v":""},{"$f":"IF(statistics!$D$3<>0,IF(AJ4734=statistics!$D$3,IF(AH4734=0,\"\",AH4734),\"\"),IF(AH4734<>0,AH4734,\"\"))","v":""},{"$f":"IF(statistics!$D$3<>0,IF(AJ4734=statistics!$D$3,IF(A4734=0,\"\",1),\"\"),IF(A4734=0,\"\",1))","v":""},"","",null,"",{"$nulls":10},"",null,null,"",null,0,null,{"$error":"#NUM!"},{"$error":"#NUM!"},4733]
[{"$nulls":4},"","","","","",null,null,"",{"$nulls":6},4744,"",{"$f":"IF(A4746=0,IF(B4746=\"\",IF(B4745=0,\"\",SUM($AG$1:AG4745)-SUM($U$1:U4744)),\"\"),SUM($AG$1:AG4745)-SUM($U$1:U4744))","v":""},{"$nulls":5},0,{"$f":"IF(AJ4745=statistics!$D$3,AB4744+AH4745-AG4745,)","v":0},{"$f":"IF(AND(ROW(AC4745)>=statistics!$C$55,ROW(AC4745)<=statistics!$D$55),AC4744+AH4745-AG4745,)","v":0},{"$f":"IF(AND(statistics!$C$55<=ROW(A4745),ROW(A4745)<=statistics!$D$55)=TRUE,AH4745-AG4745+AA4744-INDEX(AA:AA,statistics!$C$55),\"\")","v":""},null,null,0,0,0,"",{"$f":"IF(statistics!$D$3<>0,IF(AJ4745=statistics!$D$3,AG4745,\"\"),IF(B4745<>\"\",AG4745,\"\"))","v":""},{"$f":"IF(statistics!$D$3<>0,IF(AJ4745=statistics!$D$3,IF(AH4745=0,\"\",AH4745),\"\"),IF(AH4745<>0,AH4745,\"\"))","v":""},{"$f":"IF(statistics!$D$3<>0,IF(AJ4745=statistics!$D$3,IF(A4745=0,\"\",1),\"\"),IF(A4745=0,\"\",1))","v":""},"","",null,"",{"$nulls":10},"",null,null,"",null,0,null,{"$error":"#NUM!"},{"$error":"#NUM!"},4744]
[{"$nulls":4},"","","","","",null,null,"",{"$nulls":6},4749,"",{"$f":"IF(A4751=0,IF(B4751=\"\",IF(B4750=0,\"\",SUM($AG$1:AG4750)-SUM($U$1:U4749)),\"\"),SUM($AG$1:AG4750)-SUM($U$1:U4749))","v":""},{"$nulls":5},0,{"$f":"IF(AJ4750=statistics!$D$3,AB4749+AH4750-AG4750,)","v":0},{"$f":"IF(AND(ROW(AC4750)>=statistics!$C$55,ROW(AC4750)<=statistics!$D$55),AC4749+AH4750-AG4750,)","v":0},{"$f":"IF(AND(statistics!$C$55<=ROW(A4750),ROW(A4750)<=statistics!$D$55)=TRUE,AH4750-AG4750+AA4749-INDEX(AA:AA,statistics!$C$55),\"\")","v":""},null,null,0,0,0,"",{"$f":"IF(statistics!$D$3<>0,IF(AJ4750=statistics!$D$3,AG4750,\"\"),IF(B4750<>\"\",AG4750,\"\"))","v":""},{"$f":"IF(statistics!$D$3<>0,IF(AJ4750=statistics!$D$3,IF(AH4750=0,\"\",AH4750),\"\"),IF(AH4750<>0,AH4750,\"\"))","v":""},{"$f":"IF(statistics!$D$3<>0,IF(AJ4750=statistics!$D$3,IF(A4750=0,\"\",1),\"\"),IF(A4750=0,\"\",1))","v":""},"","",null,"",{"$nulls":10},"",null,null,"",null,0,null,{"$error":"#NUM!"},{"$error":"#NUM!"},4749]
[{"$nulls":4},"","","","","",null,null,"",{"$nulls":6},4760,"",{"$f":"IF(A4762=0,IF(B4762=\"\",IF(B4761=0,\"\",SUM($AG$1:AG4761)-SUM($U$1:U4760)),\"\"),SUM($AG$1:AG4761)-SUM($U$1:U4760))","v":""},{"$nulls":5},0,{"$f":"IF(AJ4761=statistics!$D$3,AB4760+AH4761-AG4761,)","v":0},{"$f":"IF(AND(ROW(AC4761)>=statistics!$C$55,ROW(AC4761)<=statistics!$D$55),AC4760+AH4761-AG4761,)","v":0},{"$f":"IF(AND(statistics!$C$55<=ROW(A4761),ROW(A4761)<=statistics!$D$55)=TRUE,AH4761-AG4761+AA4760-INDEX(AA:AA,statistics!$C$55),\"\")","v":""},null,null,0,0,0,"",{"$f":"IF(statistics!$D$3<>0,IF(AJ4761=statistics!$D$3,AG4761,\"\"),IF(B4761<>\"\",AG4761,\"\"))","v":""},{"$f":"IF(statistics!$D$3<>0,IF(AJ4761=statistics!$D$3,IF(AH4761=0,\"\",AH4761),\"\"),IF(AH4761<>0,AH4761,\"\"))","v":""},{"$f":"IF(statistics!$D$3<>0,IF(AJ4761=statistics!$D$3,IF(A4761=0,\"\",1),\"\"),IF(A4761=0,\"\",1))","v":""},"","",null,"",{"$nulls":10},"",null,null,"",null,0,null,{"$error":"#NUM!"},{"$error":"#NUM!"},4760]
[{"$nulls":4},"","","","","",null,null,"",{"$nulls":6},4775,"",{"$f":"IF(A4777=0,IF(B4777=\"\",IF(B4776=0,\"\",SUM($AG$1:AG4776)-SUM($U$1:U4775)),\"\"),SUM($AG$1:AG4776)-SUM($U$1:U4775))","v":""},{"$nulls":5},0,{"$f":"IF(AJ4776=statistics!$D$3,AB4775+AH4776-AG4776,)","v":0},{"$f":"IF(AND(ROW(AC4776)>=statistics!$C$55,ROW(AC4776)<=statistics!$D$55),AC4775+AH4776-AG4776,)","v":0},{"$f":"IF(AND(statistics!$C$55<=ROW(A4776),ROW(A4776)<=statistics!$D$55)=TRUE,AH4776-AG4776+AA4775-INDEX(AA:AA,statistics!$C$55),\"\")","v":""},null,null,0,0,0,"",{"$f":"IF(statistics!$D$3<>0,IF(AJ4776=statistics!$D$3,AG4776,\"\"),IF(B4776<>\"\",AG4776,\"\"))","v":""},{"$f":"IF(statistics!$D$3<>0,IF(AJ4776=statistics!$D$3,IF(AH4776=0,\"\",AH4776),\"\"),IF(AH4776<>0,AH4776,\"\"))","v":""},{"$f":"IF(statistics!$D$3<>0,IF(AJ4776=statistics!$D$3,IF(A4776=0,\"\",1),\"\"),IF(A4776=0,\"\",1))","v":""},"","",null,"",{"$nulls":10},"",null,null,"",null,0,null,{"$error":"#NUM!"},{"$error":"#NUM!"},4775]
[{"$nulls":4},"","","","","",null,null,"",{"$nulls":6},4780,"",{"$f":"IF(A4782=0,IF(B4782=\"\",IF(B4781=0,\"\",SUM($AG$1:AG4781)-SUM($U$1:U4780)),\"\"),SUM($AG$1:AG4781)-SUM($U$1:U4780))","v":""},{"$nulls":5},0,{"$f":"IF(AJ4781=statistics!$D$3,AB4780+AH4781-AG4781,)","v":0},{"$f":"IF(AND(ROW(AC4781)>=statistics!$C$55,ROW(AC4781)<=statistics!$D$55),AC4780+AH4781-AG4781,)","v":0},{"$f":"IF(AND(statistics!$C$55<=ROW(A4781),ROW(A4781)<=statistics!$D$55)=TRUE,AH4781-AG4781+AA4780-INDEX(AA:AA,statistics!$C$55),\"\")","v":""},null,null,0,0,0,"",{"$f":"IF(statistics!$D$3<>0,IF(AJ4781=statistics!$D$3,AG4781,\"\"),IF(B4781<>\"\",AG4781,\"\"))","v":""},{"$f":"IF(statistics!$D$3<>0,IF(AJ4781=statistics!$D$3,IF(AH4781=0,\"\",AH4781),\"\"),IF(AH4781<>0,AH4781,\"\"))","v":""},{"$f":"IF(statistics!$D$3<>0,IF(AJ4781=statistics!$D$3,IF(A4781=0,\"\",1),\"\"),IF(A4781=0,\"\",1))","v":""},"","",null,"",{"$nulls":10},"",null,null,"",null,0,null,{"$error":"#NUM!"},{"$error":"#NUM!"},4780]
[{"$nulls":4},"","","","","",null,null,"",{"$nulls":6},4797,"",{"$f":"IF(A4799=0,IF(B4799=\"\",IF(B4798=0,\"\",SUM($AG$1:AG4798)-SUM($U$1:U4797)),\"\"),SUM($AG$1:AG4798)-SUM($U$1:U4797))","v":""},{"$nulls":5},0,{"$f":"IF(AJ4798=statistics!$D$3,AB4797+AH4798-AG4798,)","v":0},{"$f":"IF(AND(ROW(AC4798)>=statistics!$C$55,ROW(AC4798)<=statistics!$D$55),AC4797+AH4798-AG4798,)","v":0},{"$f":"IF(AND(statistics!$C$55<=ROW(A4798),ROW(A4798)<=statistics!$D$55)=TRUE,AH4798-AG4798+AA4797-INDEX(AA:AA,statistics!$C$55),\"\")","v":""},null,null,0,0,0,"",{"$f":"IF(statistics!$D$3<>0,IF(AJ4798=statistics!$D$3,AG4798,\"\"),IF(B4798<>\"\",AG4798,\"\"))","v":""},{"$f":"IF(statistics!$D$3<>0,IF(AJ4798=statistics!$D$3,IF(AH4798=0,\"\",AH4798),\"\"),IF(AH4798<>0,AH4798,\"\"))","v":""},{"$f":"IF(statistics!$D$3<>0,IF(AJ4798=statistics!$D$3,IF(A4798=0,\"\",1),\"\"),IF(A4798=0,\"\",1))","v":""},"","",null,"",{"$nulls":10},"",null,null,"",null,0,null,{"$error":"#NUM!"},{"$error":"#NUM!"},4797]
[{"$nulls":4},"","","","","",null,null,"",{"$nulls":6},4805,"",{"$f":"IF(A4807=0,IF(B4807=\"\",IF(B4806=0,\"\",SUM($AG$1:AG4806)-SUM($U$1:U4805)),\"\"),SUM($AG$1:AG4806)-SUM($U$1:U4805))","v":""},{"$nulls":5},0,{"$f":"IF(AJ4806=statistics!$D$3,AB4805+AH4806-AG4806,)","v":0},{"$f":"IF(AND(ROW(AC4806)>=statistics!$C$55,ROW(AC4806)<=statistics!$D$55),AC4805+AH4806-AG4806,)","v":0},{"$f":"IF(AND(statistics!$C$55<=ROW(A4806),ROW(A4806)<=statistics!$D$55)=TRUE,AH4806-AG4806+AA4805-INDEX(AA:AA,statistics!$C$55),\"\")","v":""},null,null,{"$f":"IF(J4806=0,B4806+C4806,(B4806+C4806)-(B4806+C4806)*J4806*K4806)","v":0},{"$f":"IF(J4806=0,D4806,D4806*(1-J4806))","v":0},{"$f":"IF(J4806=0,,D4806*J4806)","v":0},{"$f":"IF(A4806<>0,MONTH(A4806),IF(B4806=\"\",\"\",AJ4805))","v":""},{"$f":"IF(statistics!$D$3<>0,IF(AJ4806=statistics!$D$3,AG4806,\"\"),IF(B4806<>\"\",AG4806,\"\"))","v":""},{"$f":"IF(statistics!$D$3<>0,IF(AJ4806=statistics!$D$3,IF(AH4806=0,\"\",AH4806),\"\"),IF(AH4806<>0,AH4806,\"\"))","v":""},{"$f":"IF(statistics!$D$3<>0,IF(AJ4806=statistics!$D$3,IF(A4806=0,\"\",1),\"\"),IF(A4806=0,\"\",1))","v":""},{"$f":"IF(AK4806<>\"\",IF(AK4805=0,ROW(AK4806),ROW(AK4806)),\"\")","v":""},"",null,{"$f":"IF(B4806=0,\"\",IF(D4806=0,IF(D4805=0,AQ4805+1,1),\"\"))","v":""},{"$nulls":10},{"$f":"IF(B4806=$BA$2,ROW(),\"\")","v":""},null,null,{"$f":"IF(B4806=$BA$2,INDEX(D:D,SMALL(BB:BB,CELL(\"содержимое\",BG4806)))-INDEX(B:B,SMALL(BB:BB,CELL(\"содержимое\",BG4806)))-INDEX(C:C,SMALL(BB:BB,CELL(\"содержимое\",BG4806))),\"\")","v":""},null,{"$f":"IF($BA$2=B4806,BG4805+1,BG4805)","v":0},null,{"$f":"INDEX(BE:BE,SMALL(BB:BB,CELL(\"содержимое\",BK4806)))","v":{"$error":"#NUM!"}},{"$f":"BJ4805+BI4806","v":{"$error":"#NUM!"}},{"$f":"BK4805+1","v":4805}]
[{"$nulls":4},"","","","","",null,null,"",{"$nulls":6},4810,"",{"$f":"IF(A4812=0,IF(B4812=\"\",IF(B4811=0,\"\",SUM($AG$1:AG4811)-SUM($U$1:U4810)),\"\"),SUM($AG$1:AG4811)-SUM($U$1:U4810))","v":""},{"$nulls":5},0,{"$f":"IF(AJ4811=statistics!$D$3,AB4810+AH4811-AG4811,)","v":0},{"$f":"IF(AND(ROW(AC4811)>=statistics!$C$55,ROW(AC4811)<=statistics!$D$55),AC4810+AH4811-AG4811,)","v":0},{"$f":"IF(AND(statistics!$C$55<=ROW(A4811),ROW(A4811)<=statistics!$D$55)=TRUE,AH4811-AG4811+AA4810-INDEX(AA:AA,statistics!$C$55),\"\")","v":""},null,null,0,0,0,"",{"$f":"IF(statistics!$D$3<>0,IF(AJ4811=statistics!$D$3,AG4811,\"\"),IF(B4811<>\"\",AG4811,\"\"))","v":""},{"$f":"IF(statistics!$D$3<>0,IF(AJ4811=statistics!$D$3,IF(AH4811=0,\"\",AH4811),\"\"),IF(AH4811<>0,AH4811,\"\"))","v":""},{"$f":"IF(statistics!$D$3<>0,IF(AJ4811=statistics!$D$3,IF(A4811=0,\"\",1),\"\"),IF(A4811=0,\"\",1))","v":""},"","",null,"",{"$nulls":10},"",null,null,"",null,0,null,{"$error":"#NUM!"},{"$error":"#NUM!"},4810]
[{"$nulls":4},"","","","","",null,null,"",{"$nulls":6},4821,"",{"$f":"IF(A4823=0,IF(B4823=\"\",IF(B4822=0,\"\",SUM($AG$1:AG4822)-SUM($U$1:U4821)),\"\"),SUM($AG$1:AG4822)-SUM($U$1:U4821))","v":""},{"$nulls":5},0,{"$f":"IF(AJ4822=statistics!$D$3,AB4821+AH4822-AG4822,)","v":0},{"$f":"IF(AND(ROW(AC4822)>=statistics!$C$55,ROW(AC4822)<=statistics!$D$55),AC4821+AH4822-AG4822,)","v":0},{"$f":"IF(AND(statistics!$C$55<=ROW(A4822),ROW(A4822)<=statistics!$D$55)=TRUE,AH4822-AG4822+AA4821-INDEX(AA:AA,statistics!$C$55),\"\")","v":""},null,null,0,0,0,"",{"$f":"IF(statistics!$D$3<>0,IF(AJ4822=statistics!$D$3,AG4822,\"\"),IF(B4822<>\"\",AG4822,\"\"))","v":""},{"$f":"IF(statistics!$D$3<>0,IF(AJ4822=statistics!$D$3,IF(AH4822=0,\"\",AH4822),\"\"),IF(AH4822<>0,AH4822,\"\"))","v":""},{"$f":"IF(statistics!$D$3<>0,IF(AJ4822=statistics!$D$3,IF(A4822=0,\"\",1),\"\"),IF(A4822=0,\"\",1))","v":""},"","",null,"",{"$nulls":10},"",null,null,"",null,0,null,{"$error":"#NUM!"},{"$error":"#NUM!"},4821]
[{"$nulls":4},"","","","","",null,null,"",{"$nulls":6},4836,"",{"$f":"IF(A4838=0,IF(B4838=\"\",IF(B4837=0,\"\",SUM($AG$1:AG4837)-SUM($U$1:U4836)),\"\"),SUM($AG$1:AG4837)-SUM($U$1:U4836))","v":""},{"$nulls":5},0,{"$f":"IF(AJ4837=statistics!$D$3,AB4836+AH4837-AG4837,)","v":0},{"$f":"IF(AND(ROW(AC4837)>=statistics!$C$55,ROW(AC4837)<=statistics!$D$55),AC4836+AH4837-AG4837,)","v":0},{"$f":"IF(AND(statistics!$C$55<=ROW(A4837),ROW(A4837)<=statistics!$D$55)=TRUE,AH4837-AG4837+AA4836-INDEX(AA:AA,statistics!$C$55),\"\")","v":""},null,null,0,0,0,"",{"$f":"IF(statistics!$D$3<>0,IF(AJ4837=statistics!$D$3,AG4837,\"\"),IF(B4837<>\"\",AG4837,\"\"))","v":""},{"$f":"IF(statistics!$D$3<>0,IF(AJ4837=statistics!$D$3,IF(AH4837=0,\"\",AH4837),\"\"),IF(AH4837<>0,AH4837,\"\"))","v":""},{"$f":"IF(statistics!$D$3<>0,IF(AJ4837=statistics!$D$3,IF(A4837=0,\"\",1),\"\"),IF(A4837=0,\"\",1))","v":""},"","",null,"",{"$nulls":10},"",null,null,"",null,0,null,{"$error":"#NUM!"},{"$error":"#NUM!"},4836]
[{"$nulls":4},"","","","","",null,null,"",{"$nulls":6},4847,"",{"$f":"IF(A4849=0,IF(B4849=\"\",IF(B4848=0,\"\",SUM($AG$1:AG4848)-SUM($U$1:U4847)),\"\"),SUM($AG$1:AG4848)-SUM($U$1:U4847))","v":""},{"$nulls":5},0,{"$f":"IF(AJ4848=statistics!$D$3,AB4847+AH4848-AG4848,)","v":0},{"$f":"IF(AND(ROW(AC4848)>=statistics!$C$55,ROW(AC4848)<=statistics!$D$55),AC4847+AH4848-AG4848,)","v":0},{"$f":"IF(AND(statistics!$C$55<=ROW(A4848),ROW(A4848)<=statistics!$D$55)=TRUE,AH4848-AG4848+AA4847-INDEX(AA:AA,statistics!$C$55),\"\")","v":""},null,null,0,0,0,"",{"$f":"IF(statistics!$D$3<>0,IF(AJ4848=statistics!$D$3,AG4848,\"\"),IF(B4848<>\"\",AG4848,\"\"))","v":""},{"$f":"IF(statistics!$D$3<>0,IF(AJ4848=statistics!$D$3,IF(AH4848=0,\"\",AH4848),\"\"),IF(AH4848<>0,AH4848,\"\"))","v":""},{"$f":"IF(statistics!$D$3<>0,IF(AJ4848=statistics!$D$3,IF(A4848=0,\"\",1),\"\"),IF(A4848=0,\"\",1))","v":""},"","",null,"",{"$nulls":10},"",null,null,"",null,0,null,{"$error":"#NUM!"},{"$error":"#NUM!"},4847]
[{"$nulls":4},"","","","","",null,null,"",{"$nulls":6},4852,"",{"$f":"IF(A4854=0,IF(B4854=\"\",IF(B4853=0,\"\",SUM($AG$1:AG4853)-SUM($U$1:U4852)),\"\"),SUM($AG$1:AG4853)-SUM($U$1:U4852))","v":""},{"$nulls":5},0,{"$f":"IF(AJ4853=statistics!$D$3,AB4852+AH4853-AG4853,)","v":0},{"$f":"IF(AND(ROW(AC4853)>=statistics!$C$55,ROW(AC4853)<=statistics!$D$55),AC4852+AH4853-AG4853,)","v":0},{"$f":"IF(AND(statistics!$C$55<=ROW(A4853),ROW(A4853)<=statistics!$D$55)=TRUE,AH4853-AG4853+AA4852-INDEX(AA:AA,statistics!$C$55),\"\")","v":""},null,null,0,0,0,"",{"$f":"IF(statistics!$D$3<>0,IF(AJ4853=statistics!$D$3,AG4853,\"\"),IF(B4853<>\"\",AG4853,\"\"))","v":""},{"$f":"IF(statistics!$D$3<>0,IF(AJ4853=statistics!$D$3,IF(AH4853=0,\"\",AH4853),\"\"),IF(AH4853<>0,AH4853,\"\"))","v":""},{"$f":"IF(statistics!$D$3<>0,IF(AJ4853=statistics!$D$3,IF(A4853=0,\"\",1),\"\"),IF(A4853=0,\"\",1))","v":""},"","",null,"",{"$nulls":10},"",null,null,"",null,0,null,{"$error":"#NUM!"},{"$error":"#NUM!"},4852]
[{"$nulls":4},"","","","","",null,null,"",{"$nulls":6},4859,"",{"$f":"IF(A4861=0,IF(B4861=\"\",IF(B4860=0,\"\",SUM($AG$1:AG4860)-SUM($U$1:U4859)),\"\"),SUM($AG$1:AG4860)-SUM($U$1:U4859))","v":""},{"$nulls":5},0,{"$f":"IF(AJ4860=statistics!$D$3,AB4859+AH4860-AG4860,)","v":0},{"$f":"IF(AND(ROW(AC4860)>=statistics!$C$55,ROW(AC4860)<=statistics!$D$55),AC4859+AH4860-AG4860,)","v":0},{"$f":"IF(AND(statistics!$C$55<=ROW(A4860),ROW(A4860)<=statistics!$D$55)=TRUE,AH4860-AG4860+AA4859-INDEX(AA:AA,statistics!$C$55),\"\")","v":""},null,null,0,0,0,"",{"$f":"IF(statistics!$D$3<>0,IF(AJ4860=statistics!$D$3,AG4860,\"\"),IF(B4860<>\"\",AG4860,\"\"))","v":""},{"$f":"IF(statistics!$D$3<>0,IF(AJ4860=statistics!$D$3,IF(AH4860=0,\"\",AH4860),\"\"),IF(AH4860<>0,AH4860,\"\"))","v":""},{"$f":"IF(statistics!$D$3<>0,IF(AJ4860=statistics!$D$3,IF(A4860=0,\"\",1),\"\"),IF(A4860=0,\"\",1))","v":""},"","",null,"",{"$nulls":10},"",null,null,"",null,0,null,{"$error":"#NUM!"},{"$error":"#NUM!"},4859]
[{"$nulls":4},"","","","","",null,null,"",{"$nulls":6},4867,"",{"$f":"IF(A4869=0,IF(B4869=\"\",IF(B4868=0,\"\",SUM($AG$1:AG4868)-SUM($U$1:U4867)),\"\"),SUM($AG$1:AG4868)-SUM($U$1:U4867))","v":""},{"$nulls":5},0,{"$f":"IF(AJ4868=statistics!$D$3,AB4867+AH4868-AG4868,)","v":0},{"$f":"IF(AND(ROW(AC4868)>=statistics!$C$55,ROW(AC4868)<=statistics!$D$55),AC4867+AH4868-AG4868,)","v":0},{"$f":"IF(AND(statistics!$C$55<=ROW(A4868),ROW(A4868)<=statistics!$D$55)=TRUE,AH4868-AG4868+AA4867-INDEX(AA:AA,statistics!$C$55),\"\")","v":""},null,null,0,0,0,"",{"$f":"IF(statistics!$D$3<>0,IF(AJ4868=statistics!$D$3,AG4868,\"\"),IF(B4868<>\"\",AG4868,\"\"))","v":""},{"$f":"IF(statistics!$D$3<>0,IF(AJ4868=statistics!$D$3,IF(AH4868=0,\"\",AH4868),\"\"),IF(AH4868<>0,AH4868,\"\"))","v":""},{"$f":"IF(statistics!$D$3<>0,IF(AJ4868=statistics!$D$3,IF(A4868=0,\"\",1),\"\"),IF(A4868=0,\"\",1))","v":""},"",{"$f":"IF(A4868<>0,IF(MONTH(A4868)=AJ4867,\"\",MONTH(A4868)),\"\")","v":""},null,"",{"$nulls":10},"",null,null,"",null,0,null,{"$error":"#NUM!"},{"$error":"#NUM!"},4867]
[{"$nulls":4},"","","","","",null,null,"",{"$nulls":6},4882,"",{"$f":"IF(A4884=0,IF(B4884=\"\",IF(B4883=0,\"\",SUM($AG$1:AG4883)-SUM($U$1:U4882)),\"\"),SUM($AG$1:AG4883)-SUM($U$1:U4882))","v":""},{"$nulls":5},0,{"$f":"IF(AJ4883=statistics!$D$3,AB4882+AH4883-AG4883,)","v":0},{"$f":"IF(AND(ROW(AC4883)>=statistics!$C$55,ROW(AC4883)<=statistics!$D$55),AC4882+AH4883-AG4883,)","v":0},{"$f":"IF(AND(statistics!$C$55<=ROW(A4883),ROW(A4883)<=statistics!$D$55)=TRUE,AH4883-AG4883+AA4882-INDEX(AA:AA,statistics!$C$55),\"\")","v":""},null,null,0,0,0,"",{"$f":"IF(statistics!$D$3<>0,IF(AJ4883=statistics!$D$3,AG4883,\"\"),IF(B4883<>\"\",AG4883,\"\"))","v":""},{"$f":"IF(statistics!$D$3<>0,IF(AJ4883=statistics!$D$3,IF(AH4883=0,\"\",AH4883),\"\"),IF(AH4883<>0,AH4883,\"\"))","v":""},{"$f":"IF(statistics!$D$3<>0,IF(AJ4883=statistics!$D$3,IF(A4883=0,\"\",1),\"\"),IF(A4883=0,\"\",1))","v":""},"","",null,"",{"$nulls":10},"",null,null,"",null,0,null,{"$error":"#NUM!"},{"$error":"#NUM!"},4882]
[{"$nulls":4},"","","","","",null,null,"",{"$nulls":6},4887,"",{"$f":"IF(A4889=0,IF(B4889=\"\",IF(B4888=0,\"\",SUM($AG$1:AG4888)-SUM($U$1:U4887)),\"\"),SUM($AG$1:AG4888)-SUM($U$1:U4887))","v":""},{"$nulls":5},0,{"$f":"IF(AJ4888=statistics!$D$3,AB4887+AH4888-AG4888,)","v":0},{"$f":"IF(AND(ROW(AC4888)>=statistics!$C$55,ROW(AC4888)<=statistics!$D$55),AC4887+AH4888-AG4888,)","v":0},{"$f":"IF(AND(statistics!$C$55<=ROW(A4888),ROW(A4888)<=statistics!$D$55)=TRUE,AH4888-AG4888+AA4887-INDEX(AA:AA,statistics!$C$55),\"\")","v":""},null,null,0,0,0,"",{"$f":"IF(statistics!$D$3<>0,IF(AJ4888=statistics!$D$3,AG4888,\"\"),IF(B4888<>\"\",AG4888,\"\"))","v":""},{"$f":"IF(statistics!$D$3<>0,IF(AJ4888=statistics!$D$3,IF(AH4888=0,\"\",AH4888),\"\"),IF(AH4888<>0,AH4888,\"\"))","v":""},{"$f":"IF(statistics!$D$3<>0,IF(AJ4888=statistics!$D$3,IF(A4888=0,\"\",1),\"\"),IF(A4888=0,\"\",1))","v":""},"","",null,"",{"$nulls":10},"",null,null,"",null,0,null,{"$error":"#NUM!"},{"$error":"#NUM!"},4887]
[{"$nulls":4},"","","","","",null,null,"",{"$nulls":6},4898,"",{"$f":"IF(A4900=0,IF(B4900=\"\",IF(B4899=0,\"\",SUM($AG$1:AG4899)-SUM($U$1:U4898)),\"\"),SUM($AG$1:AG4899)-SUM($U$1:U4898))","v":""},{"$nulls":5},0,{"$f":"IF(AJ4899=statistics!$D$3,AB4898+AH4899-AG4899,)","v":0},{"$f":"IF(AND(ROW(AC4899)>=statistics!$C$55,ROW(AC4899)<=statistics!$D$55),AC4898+AH4899-AG4899,)","v":0},{"$f":"IF(AND(statistics!$C$55<=ROW(A4899),ROW(A4899)<=statistics!$D$55)=TRUE,AH4899-AG4899+AA4898-INDEX(AA:AA,statistics!$C$55),\"\")","v":""},null,null,0,0,0,"",{"$f":"IF(statistics!$D$3<>0,IF(AJ4899=statistics!$D$3,AG4899,\"\"),IF(B4899<>\"\",AG4899,\"\"))","v":""},{"$f":"IF(statistics!$D$3<>0,IF(AJ4899=statistics!$D$3,IF(AH4899=0,\"\",AH4899),\"\"),IF(AH4899<>0,AH4899,\"\"))","v":""},{"$f":"IF(statistics!$D$3<>0,IF(AJ4899=statistics!$D$3,IF(A4899=0,\"\",1),\"\"),IF(A4899=0,\"\",1))","v":""},"","",null,"",{"$nulls":10},"",null,null,"",null,0,null,{"$error":"#NUM!"},{"$error":"#NUM!"},4898]
[{"$nulls":4},"","","","","",null,null,"",{"$nulls":6},4913,"",{"$f":"IF(A4915=0,IF(B4915=\"\",IF(B4914=0,\"\",SUM($AG$1:AG4914)-SUM($U$1:U4913)),\"\"),SUM($AG$1:AG4914)-SUM($U$1:U4913))","v":""},{"$nulls":5},0,{"$f":"IF(AJ4914=statistics!$D$3,AB4913+AH4914-AG4914,)","v":0},{"$f":"IF(AND(ROW(AC4914)>=statistics!$C$55,ROW(AC4914)<=statistics!$D$55),AC4913+AH4914-AG4914,)","v":0},{"$f":"IF(AND(statistics!$C$55<=ROW(A4914),ROW(A4914)<=statistics!$D$55)=TRUE,AH4914-AG4914+AA4913-INDEX(AA:AA,statistics!$C$55),\"\")","v":""},null,null,0,0,0,"",{"$f":"IF(statistics!$D$3<>0,IF(AJ4914=statistics!$D$3,AG4914,\"\"),IF(B4914<>\"\",AG4914,\"\"))","v":""},{"$f":"IF(statistics!$D$3<>0,IF(AJ4914=statistics!$D$3,IF(AH4914=0,\"\",AH4914),\"\"),IF(AH4914<>0,AH4914,\"\"))","v":""},{"$f":"IF(statistics!$D$3<>0,IF(AJ4914=statistics!$D$3,IF(A4914=0,\"\",1),\"\"),IF(A4914=0,\"\",1))","v":""},"","",null,"",{"$nulls":10},"",null,null,"",null,0,null,{"$error":"#NUM!"},{"$error":"#NUM!"},4913]
[{"$nulls":4},"","","","","",null,null,"",{"$nulls":6},4924,"",{"$f":"IF(A4926=0,IF(B4926=\"\",IF(B4925=0,\"\",SUM($AG$1:AG4925)-SUM($U$1:U4924)),\"\"),SUM($AG$1:AG4925)-SUM($U$1:U4924))","v":""},{"$nulls":5},0,{"$f":"IF(AJ4925=statistics!$D$3,AB4924+AH4925-AG4925,)","v":0},{"$f":"IF(AND(ROW(AC4925)>=statistics!$C$55,ROW(AC4925)<=statistics!$D$55),AC4924+AH4925-AG4925,)","v":0},{"$f":"IF(AND(statistics!$C$55<=ROW(A4925),ROW(A4925)<=statistics!$D$55)=TRUE,AH4925-AG4925+AA4924-INDEX(AA:AA,statistics!$C$55),\"\")","v":""},null,null,0,0,0,"",{"$f":"IF(statistics!$D$3<>0,IF(AJ4925=statistics!$D$3,AG4925,\"\"),IF(B4925<>\"\",AG4925,\"\"))","v":""},{"$f":"IF(statistics!$D$3<>0,IF(AJ4925=statistics!$D$3,IF(AH4925=0,\"\",AH4925),\"\"),IF(AH4925<>0,AH4925,\"\"))","v":""},{"$f":"IF(statistics!$D$3<>0,IF(AJ4925=statistics!$D$3,IF(A4925=0,\"\",1),\"\"),IF(A4925=0,\"\",1))","v":""},"","",null,"",{"$nulls":10},"",null,null,"",null,0,null,{"$error":"#NUM!"},{"$error":"#NUM!"},4924]
[{"$nulls":4},"","","",{"$f":"IF(A4931=0,IF(B4931=\"\",IF(B4930=0,\"\",U4930),\"\"),U4930)","v":""},{"$f":"IF(A4931=0,IF(B4931=\"\",IF(B4930=0,\"\",S4930),\"\"),S4930)","v":""},null,null,"",{"$nulls":6},{"$f":"IF(A4930=0,S4929+1,1)","v":4929},"",{"$f":"IF(A4931=0,IF(B4931=\"\",IF(B4930=0,\"\",SUM($AG$1:AG4930)-SUM($U$1:U4929)),\"\"),SUM($AG$1:AG4930)-SUM($U$1:U4929))","v":""},{"$nulls":5},0,{"$f":"IF(AJ4930=statistics!$D$3,AB4929+AH4930-AG4930,)","v":0},{"$f":"IF(AND(ROW(AC4930)>=statistics!$C$55,ROW(AC4930)<=statistics!$D$55),AC4929+AH4930-AG4930,)","v":0},{"$f":"IF(AND(statistics!$C$55<=ROW(A4930),ROW(A4930)<=statistics!$D$55)=TRUE,AH4930-AG4930+AA4929-INDEX(AA:AA,statistics!$C$55),\"\")","v":""},null,null,0,0,0,"",{"$f":"IF(statistics!$D$3<>0,IF(AJ4930=statistics!$D$3,AG4930,\"\"),IF(B4930<>\"\",AG4930,\"\"))","v":""},{"$f":"IF(statistics!$D$3<>0,IF(AJ4930=statistics!$D$3,IF(AH4930=0,\"\",AH4930),\"\"),IF(AH4930<>0,AH4930,\"\"))","v":""},{"$f":"IF(statistics!$D$3<>0,IF(AJ4930=statistics!$D$3,IF(A4930=0,\"\",1),\"\"),IF(A4930=0,\"\",1))","v":""},"","",null,"",{"$nulls":10},"",null,null,"",null,0,null,{"$error":"#NUM!"},{"$error":"#NUM!"},4929]
[{"$nulls":4},"","","","","",null,null,"",{"$nulls":6},4938,"",{"$f":"IF(A4940=0,IF(B4940=\"\",IF(B4939=0,\"\",SUM($AG$1:AG4939)-SUM($U$1:U4938)),\"\"),SUM($AG$1:AG4939)-SUM($U$1:U4938))","v":""},{"$nulls":5},0,{"$f":"IF(AJ4939=statistics!$D$3,AB4938+AH4939-AG4939,)","v":0},{"$f":"IF(AND(ROW(AC4939)>=statistics!$C$55,ROW(AC4939)<=statistics!$D$55),AC4938+AH4939-AG4939,)","v":0},{"$f":"IF(AND(statistics!$C$55<=ROW(A4939),ROW(A4939)<=statistics!$D$55)=TRUE,AH4939-AG4939+AA4938-INDEX(AA:AA,statistics!$C$55),\"\")","v":""},null,null,0,0,0,"",{"$f":"IF(statistics!$D$3<>0,IF(AJ4939=statistics!$D$3,AG4939,\"\"),IF(B4939<>\"\",AG4939,\"\"))","v":""},{"$f":"IF(statistics!$D$3<>0,IF(AJ4939=statistics!$D$3,IF(AH4939=0,\"\",AH4939),\"\"),IF(AH4939<>0,AH4939,\"\"))","v":""},{"$f":"IF(statistics!$D$3<>0,IF(AJ4939=statistics!$D$3,IF(A4939=0,\"\",1),\"\"),IF(A4939=0,\"\",1))","v":""},"","",null,"",{"$nulls":10},"",null,null,"",null,0,null,{"$error":"#NUM!"},{"$error":"#NUM!"},4938]
[{"$nulls":4},"","","","","",null,null,"",{"$nulls":6},4954,"",{"$f":"IF(A4956=0,IF(B4956=\"\",IF(B4955=0,\"\",SUM($AG$1:AG4955)-SUM($U$1:U4954)),\"\"),SUM($AG$1:AG4955)-SUM($U$1:U4954))","v":""},{"$nulls":5},0,{"$f":"IF(AJ4955=statistics!$D$3,AB4954+AH4955-AG4955,)","v":0},{"$f":"IF(AND(ROW(AC4955)>=statistics!$C$55,ROW(AC4955)<=statistics!$D$55),AC4954+AH4955-AG4955,)","v":0},{"$f":"IF(AND(statistics!$C$55<=ROW(A4955),ROW(A4955)<=statistics!$D$55)=TRUE,AH4955-AG4955+AA4954-INDEX(AA:AA,statistics!$C$55),\"\")","v":""},null,null,0,0,0,"",{"$f":"IF(statistics!$D$3<>0,IF(AJ4955=statistics!$D$3,AG4955,\"\"),IF(B4955<>\"\",AG4955,\"\"))","v":""},{"$f":"IF(statistics!$D$3<>0,IF(AJ4955=statistics!$D$3,IF(AH4955=0,\"\",AH4955),\"\"),IF(AH4955<>0,AH4955,\"\"))","v":""},{"$f":"IF(statistics!$D$3<>0,IF(AJ4955=statistics!$D$3,IF(A4955=0,\"\",1),\"\"),IF(A4955=0,\"\",1))","v":""},"","",null,"",{"$nulls":10},"",null,null,"",null,0,null,{"$error":"#NUM!"},{"$error":"#NUM!"},4954]
[{"$nulls":4},"","","","","",null,null,"",{"$nulls":6},4959,"",{"$f":"IF(A4961=0,IF(B4961=\"\",IF(B4960=0,\"\",SUM($AG$1:AG4960)-SUM($U$1:U4959)),\"\"),SUM($AG$1:AG4960)-SUM($U$1:U4959))","v":""},{"$nulls":5},0,{"$f":"IF(AJ4960=statistics!$D$3,AB4959+AH4960-AG4960,)","v":0},{"$f":"IF(AND(ROW(AC4960)>=statistics!$C$55,ROW(AC4960)<=statistics!$D$55),AC4959+AH4960-AG4960,)","v":0},{"$f":"IF(AND(statistics!$C$55<=ROW(A4960),ROW(A4960)<=statistics!$D$55)=TRUE,AH4960-AG4960+AA4959-INDEX(AA:AA,statistics!$C$55),\"\")","v":""},null,null,0,0,0,"",{"$f":"IF(statistics!$D$3<>0,IF(AJ4960=statistics!$D$3,AG4960,\"\"),IF(B4960<>\"\",AG4960,\"\"))","v":""},{"$f":"IF(statistics!$D$3<>0,IF(AJ4960=statistics!$D$3,IF(AH4960=0,\"\",AH4960),\"\"),IF(AH4960<>0,AH4960,\"\"))","v":""},{"$f":"IF(statistics!$D$3<>0,IF(AJ4960=statistics!$D$3,IF(A4960=0,\"\",1),\"\"),IF(A4960=0,\"\",1))","v":""},"","",null,"",{"$nulls":10},"",null,null,"",null,0,null,{"$error":"#NUM!"},{"$error":"#NUM!"},4959]
[{"$nulls":4},"","","","","",null,null,"",{"$nulls":6},4970,"",{"$f":"IF(A4972=0,IF(B4972=\"\",IF(B4971=0,\"\",SUM($AG$1:AG4971)-SUM($U$1:U4970)),\"\"),SUM($AG$1:AG4971)-SUM($U$1:U4970))","v":""},{"$nulls":5},0,{"$f":"IF(AJ4971=statistics!$D$3,AB4970+AH4971-AG4971,)","v":0},{"$f":"IF(AND(ROW(AC4971)>=statistics!$C$55,ROW(AC4971)<=statistics!$D$55),AC4970+AH4971-AG4971,)","v":0},{"$f":"IF(AND(statistics!$C$55<=ROW(A4971),ROW(A4971)<=statistics!$D$55)=TRUE,AH4971-AG4971+AA4970-INDEX(AA:AA,statistics!$C$55),\"\")","v":""},null,null,0,0,0,"",{"$f":"IF(statistics!$D$3<>0,IF(AJ4971=statistics!$D$3,AG4971,\"\"),IF(B4971<>\"\",AG4971,\"\"))","v":""},{"$f":"IF(statistics!$D$3<>0,IF(AJ4971=statistics!$D$3,IF(AH4971=0,\"\",AH4971),\"\"),IF(AH4971<>0,AH4971,\"\"))","v":""},{"$f":"IF(statistics!$D$3<>0,IF(AJ4971=statistics!$D$3,IF(A4971=0,\"\",1),\"\"),IF(A4971=0,\"\",1))","v":""},"","",null,"",{"$nulls":10},"",null,null,"",null,0,null,{"$error":"#NUM!"},{"$error":"#NUM!"},4970]
[{"$nulls":4},"","","","","",null,null,"",{"$nulls":6},4985,"",{"$f":"IF(A4987=0,IF(B4987=\"\",IF(B4986=0,\"\",SUM($AG$1:AG4986)-SUM($U$1:U4985)),\"\"),SUM($AG$1:AG4986)-SUM($U$1:U4985))","v":""},{"$nulls":5},0,{"$f":"IF(AJ4986=statistics!$D$3,AB4985+AH4986-AG4986,)","v":0},{"$f":"IF(AND(ROW(AC4986)>=statistics!$C$55,ROW(AC4986)<=statistics!$D$55),AC4985+AH4986-AG4986,)","v":0},{"$f":"IF(AND(statistics!$C$55<=ROW(A4986),ROW(A4986)<=statistics!$D$55)=TRUE,AH4986-AG4986+AA4985-INDEX(AA:AA,statistics!$C$55),\"\")","v":""},null,null,0,0,0,"",{"$f":"IF(statistics!$D$3<>0,IF(AJ4986=statistics!$D$3,AG4986,\"\"),IF(B4986<>\"\",AG4986,\"\"))","v":""},{"$f":"IF(statistics!$D$3<>0,IF(AJ4986=statistics!$D$3,IF(AH4986=0,\"\",AH4986),\"\"),IF(AH4986<>0,AH4986,\"\"))","v":""},{"$f":"IF(statistics!$D$3<>0,IF(AJ4986=statistics!$D$3,IF(A4986=0,\"\",1),\"\"),IF(A4986=0,\"\",1))","v":""},"","",null,"",{"$nulls":10},"",null,null,"",null,0,null,{"$error":"#NUM!"},{"$error":"#NUM!"},4985]
[{"$nulls":4},"","","","","",null,null,"",{"$nulls":6},4990,"",{"$f":"IF(A4992=0,IF(B4992=\"\",IF(B4991=0,\"\",SUM($AG$1:AG4991)-SUM($U$1:U4990)),\"\"),SUM($AG$1:AG4991)-SUM($U$1:U4990))","v":""},{"$nulls":5},0,{"$f":"IF(AJ4991=statistics!$D$3,AB4990+AH4991-AG4991,)","v":0},{"$f":"IF(AND(ROW(AC4991)>=statistics!$C$55,ROW(AC4991)<=statistics!$D$55),AC4990+AH4991-AG4991,)","v":0},{"$f":"IF(AND(statistics!$C$55<=ROW(A4991),ROW(A4991)<=statistics!$D$55)=TRUE,AH4991-AG4991+AA4990-INDEX(AA:AA,statistics!$C$55),\"\")","v":""},null,null,0,0,0,"",{"$f":"IF(statistics!$D$3<>0,IF(AJ4991=statistics!$D$3,AG4991,\"\"),IF(B4991<>\"\",AG4991,\"\"))","v":""},{"$f":"IF(statistics!$D$3<>0,IF(AJ4991=statistics!$D$3,IF(AH4991=0,\"\",AH4991),\"\"),IF(AH4991<>0,AH4991,\"\"))","v":""},{"$f":"IF(statistics!$D$3<>0,IF(AJ4991=statistics!$D$3,IF(A4991=0,\"\",1),\"\"),IF(A4991=0,\"\",1))","v":""},"","",null,"",{"$nulls":10},"",null,null,"",null,0,null,{"$error":"#NUM!"},{"$error":"#NUM!"},4990]
[{"$nulls":4},"","","","","",null,null,"",{"$nulls":6},5001,"",{"$f":"IF(A5003=0,IF(B5003=\"\",IF(B5002=0,\"\",SUM($AG$1:AG5002)-SUM($U$1:U5001)),\"\"),SUM($AG$1:AG5002)-SUM($U$1:U5001))","v":""},{"$nulls":5},0,{"$f":"IF(AJ5002=statistics!$D$3,AB5001+AH5002-AG5002,)","v":0},{"$f":"IF(AND(ROW(AC5002)>=statistics!$C$55,ROW(AC5002)<=statistics!$D$55),AC5001+AH5002-AG5002,)","v":0},{"$f":"IF(AND(statistics!$C$55<=ROW(A5002),ROW(A5002)<=statistics!$D$55)=TRUE,AH5002-AG5002+AA5001-INDEX(AA:AA,statistics!$C$55),\"\")","v":""},null,null,0,0,0,"",{"$f":"IF(statistics!$D$3<>0,IF(AJ5002=statistics!$D$3,AG5002,\"\"),IF(B5002<>\"\",AG5002,\"\"))","v":""},{"$f":"IF(statistics!$D$3<>0,IF(AJ5002=statistics!$D$3,IF(AH5002=0,\"\",AH5002),\"\"),IF(AH5002<>0,AH5002,\"\"))","v":""},{"$f":"IF(statistics!$D$3<>0,IF(AJ5002=statistics!$D$3,IF(A5002=0,\"\",1),\"\"),IF(A5002=0,\"\",1))","v":""},"","",null,"",{"$nulls":10},"",null,null,"",null,0,null,{"$error":"#NUM!"},{"$error":"#NUM!"},5001]
[{"$nulls":4},"","","","","",null,null,"",{"$nulls":6},5013,"",{"$f":"IF(A5015=0,IF(B5015=\"\",IF(B5014=0,\"\",SUM($AG$1:AG5014)-SUM($U$1:U5013)),\"\"),SUM($AG$1:AG5014)-SUM($U$1:U5013))","v":""},{"$nulls":5},0,{"$f":"IF(AJ5014=statistics!$D$3,AB5013+AH5014-AG5014,)","v":0},{"$f":"IF(AND(ROW(AC5014)>=statistics!$C$55,ROW(AC5014)<=statistics!$D$55),AC5013+AH5014-AG5014,)","v":0},{"$f":"IF(AND(statistics!$C$55<=ROW(A5014),ROW(A5014)<=statistics!$D$55)=TRUE,AH5014-AG5014+AA5013-INDEX(AA:AA,statistics!$C$55),\"\")","v":""},null,null,0,0,0,"",{"$f":"IF(statistics!$D$3<>0,IF(AJ5014=statistics!$D$3,AG5014,\"\"),IF(B5014<>\"\",AG5014,\"\"))","v":""},{"$f":"IF(statistics!$D$3<>0,IF(AJ5014=statistics!$D$3,IF(AH5014=0,\"\",AH5014),\"\"),IF(AH5014<>0,AH5014,\"\"))","v":""},{"$f":"IF(statistics!$D$3<>0,IF(AJ5014=statistics!$D$3,IF(A5014=0,\"\",1),\"\"),IF(A5014=0,\"\",1))","v":""},"","",null,"",{"$nulls":10},"",null,null,"",null,0,null,{"$error":"#NUM!"},{"$error":"#NUM!"},5013]
[{"$nulls":4},"","","","","",null,null,"",{"$nulls":6},5020,"",{"$f":"IF(A5022=0,IF(B5022=\"\",IF(B5021=0,\"\",SUM($AG$1:AG5021)-SUM($U$1:U5020)),\"\"),SUM($AG$1:AG5021)-SUM($U$1:U5020))","v":""},{"$nulls":5},0,{"$f":"IF(AJ5021=statistics!$D$3,AB5020+AH5021-AG5021,)","v":0},{"$f":"IF(AND(ROW(AC5021)>=statistics!$C$55,ROW(AC5021)<=statistics!$D$55),AC5020+AH5021-AG5021,)","v":0},{"$f":"IF(AND(statistics!$C$55<=ROW(A5021),ROW(A5021)<=statistics!$D$55)=TRUE,AH5021-AG5021+AA5020-INDEX(AA:AA,statistics!$C$55),\"\")","v":""},null,null,0,0,0,"",{"$f":"IF(statistics!$D$3<>0,IF(AJ5021=statistics!$D$3,AG5021,\"\"),IF(B5021<>\"\",AG5021,\"\"))","v":""},{"$f":"IF(statistics!$D$3<>0,IF(AJ5021=statistics!$D$3,IF(AH5021=0,\"\",AH5021),\"\"),IF(AH5021<>0,AH5021,\"\"))","v":""},{"$f":"IF(statistics!$D$3<>0,IF(AJ5021=statistics!$D$3,IF(A5021=0,\"\",1),\"\"),IF(A5021=0,\"\",1))","v":""},"","",null,"",{"$nulls":10},"",null,null,"",null,0,null,{"$error":"#NUM!"},{"$error":"#NUM!"},5020]
[{"$nulls":4},"","","","","",null,null,"",{"$nulls":6},5031,"",{"$f":"IF(A5033=0,IF(B5033=\"\",IF(B5032=0,\"\",SUM($AG$1:AG5032)-SUM($U$1:U5031)),\"\"),SUM($AG$1:AG5032)-SUM($U$1:U5031))","v":""},{"$nulls":5},0,{"$f":"IF(AJ5032=statistics!$D$3,AB5031+AH5032-AG5032,)","v":0},{"$f":"IF(AND(ROW(AC5032)>=statistics!$C$55,ROW(AC5032)<=statistics!$D$55),AC5031+AH5032-AG5032,)","v":0},{"$f":"IF(AND(statistics!$C$55<=ROW(A5032),ROW(A5032)<=statistics!$D$55)=TRUE,AH5032-AG5032+AA5031-INDEX(AA:AA,statistics!$C$55),\"\")","v":""},null,null,0,0,0,"",{"$f":"IF(statistics!$D$3<>0,IF(AJ5032=statistics!$D$3,AG5032,\"\"),IF(B5032<>\"\",AG5032,\"\"))","v":""},{"$f":"IF(statistics!$D$3<>0,IF(AJ5032=statistics!$D$3,IF(AH5032=0,\"\",AH5032),\"\"),IF(AH5032<>0,AH5032,\"\"))","v":""},{"$f":"IF(statistics!$D$3<>0,IF(AJ5032=statistics!$D$3,IF(A5032=0,\"\",1),\"\"),IF(A5032=0,\"\",1))","v":""},"","",null,"",{"$nulls":10},"",null,null,"",null,0,null,{"$error":"#NUM!"},{"$error":"#NUM!"},5031]
[{"$nulls":4},"","","","","",null,null,"",{"$nulls":6},5036,"",{"$f":"IF(A5038=0,IF(B5038=\"\",IF(B5037=0,\"\",SUM($AG$1:AG5037)-SUM($U$1:U5036)),\"\"),SUM($AG$1:AG5037)-SUM($U$1:U5036))","v":""},{"$nulls":5},0,{"$f":"IF(AJ5037=statistics!$D$3,AB5036+AH5037-AG5037,)","v":0},{"$f":"IF(AND(ROW(AC5037)>=statistics!$C$55,ROW(AC5037)<=statistics!$D$55),AC5036+AH5037-AG5037,)","v":0},{"$f":"IF(AND(statistics!$C$55<=ROW(A5037),ROW(A5037)<=statistics!$D$55)=TRUE,AH5037-AG5037+AA5036-INDEX(AA:AA,statistics!$C$55),\"\")","v":""},null,null,0,0,0,"",{"$f":"IF(statistics!$D$3<>0,IF(AJ5037=statistics!$D$3,AG5037,\"\"),IF(B5037<>\"\",AG5037,\"\"))","v":""},{"$f":"IF(statistics!$D$3<>0,IF(AJ5037=statistics!$D$3,IF(AH5037=0,\"\",AH5037),\"\"),IF(AH5037<>0,AH5037,\"\"))","v":""},{"$f":"IF(statistics!$D$3<>0,IF(AJ5037=statistics!$D$3,IF(A5037=0,\"\",1),\"\"),IF(A5037=0,\"\",1))","v":""},"","",null,"",{"$nulls":10},"",null,null,"",null,0,null,{"$error":"#NUM!"},{"$error":"#NUM!"},5036]
[{"$nulls":4},"","","","","",null,null,"",{"$nulls":6},5047,"",{"$f":"IF(A5049=0,IF(B5049=\"\",IF(B5048=0,\"\",SUM($AG$1:AG5048)-SUM($U$1:U5047)),\"\"),SUM($AG$1:AG5048)-SUM($U$1:U5047))","v":""},{"$nulls":5},0,{"$f":"IF(AJ5048=statistics!$D$3,AB5047+AH5048-AG5048,)","v":0},{"$f":"IF(AND(ROW(AC5048)>=statistics!$C$55,ROW(AC5048)<=statistics!$D$55),AC5047+AH5048-AG5048,)","v":0},{"$f":"IF(AND(statistics!$C$55<=ROW(A5048),ROW(A5048)<=statistics!$D$55)=TRUE,AH5048-AG5048+AA5047-INDEX(AA:AA,statistics!$C$55),\"\")","v":""},null,null,0,0,0,"",{"$f":"IF(statistics!$D$3<>0,IF(AJ5048=statistics!$D$3,AG5048,\"\"),IF(B5048<>\"\",AG5048,\"\"))","v":""},{"$f":"IF(statistics!$D$3<>0,IF(AJ5048=statistics!$D$3,IF(AH5048=0,\"\",AH5048),\"\"),IF(AH5048<>0,AH5048,\"\"))","v":""},{"$f":"IF(statistics!$D$3<>0,IF(AJ5048=statistics!$D$3,IF(A5048=0,\"\",1),\"\"),IF(A5048=0,\"\",1))","v":""},"","",null,"",{"$nulls":10},"",null,null,"",null,0,null,{"$error":"#NUM!"},{"$error":"#NUM!"},5047]
[{"$nulls":4},"","","","","",null,null,"",{"$nulls":6},5062,"",{"$f":"IF(A5064=0,IF(B5064=\"\",IF(B5063=0,\"\",SUM($AG$1:AG5063)-SUM($U$1:U5062)),\"\"),SUM($AG$1:AG5063)-SUM($U$1:U5062))","v":""},{"$nulls":5},0,{"$f":"IF(AJ5063=statistics!$D$3,AB5062+AH5063-AG5063,)","v":0},{"$f":"IF(AND(ROW(AC5063)>=statistics!$C$55,ROW(AC5063)<=statistics!$D$55),AC5062+AH5063-AG5063,)","v":0},{"$f":"IF(AND(statistics!$C$55<=ROW(A5063),ROW(A5063)<=statistics!$D$55)=TRUE,AH5063-AG5063+AA5062-INDEX(AA:AA,statistics!$C$55),\"\")","v":""},null,null,0,0,0,"",{"$f":"IF(statistics!$D$3<>0,IF(AJ5063=statistics!$D$3,AG5063,\"\"),IF(B5063<>\"\",AG5063,\"\"))","v":""},{"$f":"IF(statistics!$D$3<>0,IF(AJ5063=statistics!$D$3,IF(AH5063=0,\"\",AH5063),\"\"),IF(AH5063<>0,AH5063,\"\"))","v":""},{"$f":"IF(statistics!$D$3<>0,IF(AJ5063=statistics!$D$3,IF(A5063=0,\"\",1),\"\"),IF(A5063=0,\"\",1))","v":""},"","",null,"",{"$nulls":10},"",null,null,"",null,0,null,{"$error":"#NUM!"},{"$error":"#NUM!"},5062]
[{"$nulls":4},{"$f":"IF(A5068=0,\"\",SUM(AH5068:AH15066)-SUM(AG5068:AG15066)-SUM(E5069:E15066))","v":""},"","","","",null,null,"",{"$nulls":6},5067,"",{"$f":"IF(A5069=0,IF(B5069=\"\",IF(B5068=0,\"\",SUM($AG$1:AG5068)-SUM($U$1:U5067)),\"\"),SUM($AG$1:AG5068)-SUM($U$1:U5067))","v":""},{"$nulls":5},0,{"$f":"IF(AJ5068=statistics!$D$3,AB5067+AH5068-AG5068,)","v":0},{"$f":"IF(AND(ROW(AC5068)>=statistics!$C$55,ROW(AC5068)<=statistics!$D$55),AC5067+AH5068-AG5068,)","v":0},{"$f":"IF(AND(statistics!$C$55<=ROW(A5068),ROW(A5068)<=statistics!$D$55)=TRUE,AH5068-AG5068+AA5067-INDEX(AA:AA,statistics!$C$55),\"\")","v":""},null,null,0,0,0,"",{"$f":"IF(statistics!$D$3<>0,IF(AJ5068=statistics!$D$3,AG5068,\"\"),IF(B5068<>\"\",AG5068,\"\"))","v":""},{"$f":"IF(statistics!$D$3<>0,IF(AJ5068=statistics!$D$3,IF(AH5068=0,\"\",AH5068),\"\"),IF(AH5068<>0,AH5068,\"\"))","v":""},{"$f":"IF(statistics!$D$3<>0,IF(AJ5068=statistics!$D$3,IF(A5068=0,\"\",1),\"\"),IF(A5068=0,\"\",1))","v":""},"","",null,"",{"$nulls":10},"",null,null,"",null,0,null,{"$error":"#NUM!"},{"$error":"#NUM!"},5067]
[{"$nulls":4},"","","","","",null,null,"",{"$nulls":6},5079,"",{"$f":"IF(A5081=0,IF(B5081=\"\",IF(B5080=0,\"\",SUM($AG$1:AG5080)-SUM($U$1:U5079)),\"\"),SUM($AG$1:AG5080)-SUM($U$1:U5079))","v":""},{"$nulls":5},0,{"$f":"IF(AJ5080=statistics!$D$3,AB5079+AH5080-AG5080,)","v":0},{"$f":"IF(AND(ROW(AC5080)>=statistics!$C$55,ROW(AC5080)<=statistics!$D$55),AC5079+AH5080-AG5080,)","v":0},{"$f":"IF(AND(statistics!$C$55<=ROW(A5080),ROW(A5080)<=statistics!$D$55)=TRUE,AH5080-AG5080+AA5079-INDEX(AA:AA,statistics!$C$55),\"\")","v":""},null,null,0,0,0,"",{"$f":"IF(statistics!$D$3<>0,IF(AJ5080=statistics!$D$3,AG5080,\"\"),IF(B5080<>\"\",AG5080,\"\"))","v":""},{"$f":"IF(statistics!$D$3<>0,IF(AJ5080=statistics!$D$3,IF(AH5080=0,\"\",AH5080),\"\"),IF(AH5080<>0,AH5080,\"\"))","v":""},{"$f":"IF(statistics!$D$3<>0,IF(AJ5080=statistics!$D$3,IF(A5080=0,\"\",1),\"\"),IF(A5080=0,\"\",1))","v":""},"","",null,"",{"$nulls":10},"",null,null,"",null,0,null,{"$error":"#NUM!"},{"$error":"#NUM!"},5079]
[{"$nulls":4},"","","","","",null,null,"",{"$nulls":6},5092,"",{"$f":"IF(A5094=0,IF(B5094=\"\",IF(B5093=0,\"\",SUM($AG$1:AG5093)-SUM($U$1:U5092)),\"\"),SUM($AG$1:AG5093)-SUM($U$1:U5092))","v":""},{"$nulls":5},0,{"$f":"IF(AJ5093=statistics!$D$3,AB5092+AH5093-AG5093,)","v":0},{"$f":"IF(AND(ROW(AC5093)>=statistics!$C$55,ROW(AC5093)<=statistics!$D$55),AC5092+AH5093-AG5093,)","v":0},{"$f":"IF(AND(statistics!$C$55<=ROW(A5093),ROW(A5093)<=statistics!$D$55)=TRUE,AH5093-AG5093+AA5092-INDEX(AA:AA,statistics!$C$55),\"\")","v":""},null,null,0,0,0,"",{"$f":"IF(statistics!$D$3<>0,IF(AJ5093=statistics!$D$3,AG5093,\"\"),IF(B5093<>\"\",AG5093,\"\"))","v":""},{"$f":"IF(statistics!$D$3<>0,IF(AJ5093=statistics!$D$3,IF(AH5093=0,\"\",AH5093),\"\"),IF(AH5093<>0,AH5093,\"\"))","v":""},{"$f":"IF(statistics!$D$3<>0,IF(AJ5093=statistics!$D$3,IF(A5093=0,\"\",1),\"\"),IF(A5093=0,\"\",1))","v":""},"","",null,"",{"$nulls":10},"",null,null,"",null,0,null,{"$error":"#NUM!"},{"$error":"#NUM!"},5092]
[{"$nulls":4},"","","","","",null,null,"",{"$nulls":6},5097,"",{"$f":"IF(A5099=0,IF(B5099=\"\",IF(B5098=0,\"\",SUM($AG$1:AG5098)-SUM($U$1:U5097)),\"\"),SUM($AG$1:AG5098)-SUM($U$1:U5097))","v":""},{"$nulls":5},0,{"$f":"IF(AJ5098=statistics!$D$3,AB5097+AH5098-AG5098,)","v":0},{"$f":"IF(AND(ROW(AC5098)>=statistics!$C$55,ROW(AC5098)<=statistics!$D$55),AC5097+AH5098-AG5098,)","v":0},{"$f":"IF(AND(statistics!$C$55<=ROW(A5098),ROW(A5098)<=statistics!$D$55)=TRUE,AH5098-AG5098+AA5097-INDEX(AA:AA,statistics!$C$55),\"\")","v":""},null,null,0,0,0,"",{"$f":"IF(statistics!$D$3<>0,IF(AJ5098=statistics!$D$3,AG5098,\"\"),IF(B5098<>\"\",AG5098,\"\"))","v":""},{"$f":"IF(statistics!$D$3<>0,IF(AJ5098=statistics!$D$3,IF(AH5098=0,\"\",AH5098),\"\"),IF(AH5098<>0,AH5098,\"\"))","v":""},{"$f":"IF(statistics!$D$3<>0,IF(AJ5098=statistics!$D$3,IF(A5098=0,\"\",1),\"\"),IF(A5098=0,\"\",1))","v":""},"","",null,"",{"$nulls":10},"",null,null,"",null,0,null,{"$error":"#NUM!"},{"$error":"#NUM!"},5097]
[{"$nulls":4},"","","","","",null,null,"",{"$nulls":6},5108,"",{"$f":"IF(A5110=0,IF(B5110=\"\",IF(B5109=0,\"\",SUM($AG$1:AG5109)-SUM($U$1:U5108)),\"\"),SUM($AG$1:AG5109)-SUM($U$1:U5108))","v":""},{"$nulls":5},0,{"$f":"IF(AJ5109=statistics!$D$3,AB5108+AH5109-AG5109,)","v":0},{"$f":"IF(AND(ROW(AC5109)>=statistics!$C$55,ROW(AC5109)<=statistics!$D$55),AC5108+AH5109-AG5109,)","v":0},{"$f":"IF(AND(statistics!$C$55<=ROW(A5109),ROW(A5109)<=statistics!$D$55)=TRUE,AH5109-AG5109+AA5108-INDEX(AA:AA,statistics!$C$55),\"\")","v":""},null,null,0,0,0,"",{"$f":"IF(statistics!$D$3<>0,IF(AJ5109=statistics!$D$3,AG5109,\"\"),IF(B5109<>\"\",AG5109,\"\"))","v":""},{"$f":"IF(statistics!$D$3<>0,IF(AJ5109=statistics!$D$3,IF(AH5109=0,\"\",AH5109),\"\"),IF(AH5109<>0,AH5109,\"\"))","v":""},{"$f":"IF(statistics!$D$3<>0,IF(AJ5109=statistics!$D$3,IF(A5109=0,\"\",1),\"\"),IF(A5109=0,\"\",1))","v":""},"","",null,"",{"$nulls":10},"",null,null,"",null,0,null,{"$error":"#NUM!"},{"$error":"#NUM!"},5108]
[{"$nulls":4},"","","","","",null,null,"",{"$nulls":6},5123,"",{"$f":"IF(A5125=0,IF(B5125=\"\",IF(B5124=0,\"\",SUM($AG$1:AG5124)-SUM($U$1:U5123)),\"\"),SUM($AG$1:AG5124)-SUM($U$1:U5123))","v":""},{"$nulls":5},0,{"$f":"IF(AJ5124=statistics!$D$3,AB5123+AH5124-AG5124,)","v":0},{"$f":"IF(AND(ROW(AC5124)>=statistics!$C$55,ROW(AC5124)<=statistics!$D$55),AC5123+AH5124-AG5124,)","v":0},{"$f":"IF(AND(statistics!$C$55<=ROW(A5124),ROW(A5124)<=statistics!$D$55)=TRUE,AH5124-AG5124+AA5123-INDEX(AA:AA,statistics!$C$55),\"\")","v":""},null,null,0,0,0,"",{"$f":"IF(statistics!$D$3<>0,IF(AJ5124=statistics!$D$3,AG5124,\"\"),IF(B5124<>\"\",AG5124,\"\"))","v":""},{"$f":"IF(statistics!$D$3<>0,IF(AJ5124=statistics!$D$3,IF(AH5124=0,\"\",AH5124),\"\"),IF(AH5124<>0,AH5124,\"\"))","v":""},{"$f":"IF(statistics!$D$3<>0,IF(AJ5124=statistics!$D$3,IF(A5124=0,\"\",1),\"\"),IF(A5124=0,\"\",1))","v":""},"",{"$f":"IF(A5124<>0,IF(MONTH(A5124)=AJ5123,\"\",MONTH(A5124)),\"\")","v":""},null,"",{"$nulls":10},"",null,null,"",null,0,null,{"$error":"#NUM!"},{"$error":"#NUM!"},5123]
[{"$nulls":4},"","","","","",null,null,"",{"$nulls":6},5124,"",{"$f":"IF(A5126=0,IF(B5126=\"\",IF(B5125=0,\"\",SUM($AG$1:AG5125)-SUM($U$1:U5124)),\"\"),SUM($AG$1:AG5125)-SUM($U$1:U5124))","v":""},{"$nulls":5},0,{"$f":"IF(AJ5125=statistics!$D$3,AB5124+AH5125-AG5125,)","v":0},{"$f":"IF(AND(ROW(AC5125)>=statistics!$C$55,ROW(AC5125)<=statistics!$D$55),AC5124+AH5125-AG5125,)","v":0},{"$f":"IF(AND(statistics!$C$55<=ROW(A5125),ROW(A5125)<=statistics!$D$55)=TRUE,AH5125-AG5125+AA5124-INDEX(AA:AA,statistics!$C$55),\"\")","v":""},null,null,0,0,0,"",{"$f":"IF(statistics!$D$3<>0,IF(AJ5125=statistics!$D$3,AG5125,\"\"),IF(B5125<>\"\",AG5125,\"\"))","v":""},{"$f":"IF(statistics!$D$3<>0,IF(AJ5125=statistics!$D$3,IF(AH5125=0,\"\",AH5125),\"\"),IF(AH5125<>0,AH5125,\"\"))","v":""},{"$f":"IF(statistics!$D$3<>0,IF(AJ5125=statistics!$D$3,IF(A5125=0,\"\",1),\"\"),IF(A5125=0,\"\",1))","v":""},"","",null,"",{"$nulls":10},"",null,null,"",null,0,null,{"$error":"#NUM!"},{"$error":"#NUM!"},5124]
[{"$nulls":4},"","","","","",null,null,"",{"$nulls":6},5139,"",{"$f":"IF(A5141=0,IF(B5141=\"\",IF(B5140=0,\"\",SUM($AG$1:AG5140)-SUM($U$1:U5139)),\"\"),SUM($AG$1:AG5140)-SUM($U$1:U5139))","v":""},{"$nulls":5},0,{"$f":"IF(AJ5140=statistics!$D$3,AB5139+AH5140-AG5140,)","v":0},{"$f":"IF(AND(ROW(AC5140)>=statistics!$C$55,ROW(AC5140)<=statistics!$D$55),AC5139+AH5140-AG5140,)","v":0},{"$f":"IF(AND(statistics!$C$55<=ROW(A5140),ROW(A5140)<=statistics!$D$55)=TRUE,AH5140-AG5140+AA5139-INDEX(AA:AA,statistics!$C$55),\"\")","v":""},null,null,0,0,0,"",{"$f":"IF(statistics!$D$3<>0,IF(AJ5140=statistics!$D$3,AG5140,\"\"),IF(B5140<>\"\",AG5140,\"\"))","v":""},{"$f":"IF(statistics!$D$3<>0,IF(AJ5140=statistics!$D$3,IF(AH5140=0,\"\",AH5140),\"\"),IF(AH5140<>0,AH5140,\"\"))","v":""},{"$f":"IF(statistics!$D$3<>0,IF(AJ5140=statistics!$D$3,IF(A5140=0,\"\",1),\"\"),IF(A5140=0,\"\",1))","v":""},"","",null,"",{"$nulls":10},"",null,null,"",null,0,null,{"$error":"#NUM!"},{"$error":"#NUM!"},5139]
[{"$nulls":4},"","","","","",null,null,"",{"$nulls":6},5150,"",{"$f":"IF(A5152=0,IF(B5152=\"\",IF(B5151=0,\"\",SUM($AG$1:AG5151)-SUM($U$1:U5150)),\"\"),SUM($AG$1:AG5151)-SUM($U$1:U5150))","v":""},{"$nulls":5},0,{"$f":"IF(AJ5151=statistics!$D$3,AB5150+AH5151-AG5151,)","v":0},{"$f":"IF(AND(ROW(AC5151)>=statistics!$C$55,ROW(AC5151)<=statistics!$D$55),AC5150+AH5151-AG5151,)","v":0},{"$f":"IF(AND(statistics!$C$55<=ROW(A5151),ROW(A5151)<=statistics!$D$55)=TRUE,AH5151-AG5151+AA5150-INDEX(AA:AA,statistics!$C$55),\"\")","v":""},null,null,0,0,0,"",{"$f":"IF(statistics!$D$3<>0,IF(AJ5151=statistics!$D$3,AG5151,\"\"),IF(B5151<>\"\",AG5151,\"\"))","v":""},{"$f":"IF(statistics!$D$3<>0,IF(AJ5151=statistics!$D$3,IF(AH5151=0,\"\",AH5151),\"\"),IF(AH5151<>0,AH5151,\"\"))","v":""},{"$f":"IF(statistics!$D$3<>0,IF(AJ5151=statistics!$D$3,IF(A5151=0,\"\",1),\"\"),IF(A5151=0,\"\",1))","v":""},"","",null,"",{"$nulls":10},"",null,null,"",null,0,null,{"$error":"#NUM!"},{"$error":"#NUM!"},5150]
[{"$nulls":4},"","","","","",null,null,"",{"$nulls":6},5154,"",{"$f":"IF(A5156=0,IF(B5156=\"\",IF(B5155=0,\"\",SUM($AG$1:AG5155)-SUM($U$1:U5154)),\"\"),SUM($AG$1:AG5155)-SUM($U$1:U5154))","v":""},{"$nulls":5},0,{"$f":"IF(AJ5155=statistics!$D$3,AB5154+AH5155-AG5155,)","v":0},{"$f":"IF(AND(ROW(AC5155)>=statistics!$C$55,ROW(AC5155)<=statistics!$D$55),AC5154+AH5155-AG5155,)","v":0},{"$f":"IF(AND(statistics!$C$55<=ROW(A5155),ROW(A5155)<=statistics!$D$55)=TRUE,AH5155-AG5155+AA5154-INDEX(AA:AA,statistics!$C$55),\"\")","v":""},null,null,0,0,0,"",{"$f":"IF(statistics!$D$3<>0,IF(AJ5155=statistics!$D$3,AG5155,\"\"),IF(B5155<>\"\",AG5155,\"\"))","v":""},{"$f":"IF(statistics!$D$3<>0,IF(AJ5155=statistics!$D$3,IF(AH5155=0,\"\",AH5155),\"\"),IF(AH5155<>0,AH5155,\"\"))","v":""},{"$f":"IF(statistics!$D$3<>0,IF(AJ5155=statistics!$D$3,IF(A5155=0,\"\",1),\"\"),IF(A5155=0,\"\",1))","v":""},"","",null,"",{"$nulls":10},"",null,null,"",null,0,null,{"$error":"#NUM!"},{"$error":"#NUM!"},5154]
[{"$nulls":4},"","","","","",null,null,"",{"$nulls":6},5169,"",{"$f":"IF(A5171=0,IF(B5171=\"\",IF(B5170=0,\"\",SUM($AG$1:AG5170)-SUM($U$1:U5169)),\"\"),SUM($AG$1:AG5170)-SUM($U$1:U5169))","v":""},{"$nulls":5},0,{"$f":"IF(AJ5170=statistics!$D$3,AB5169+AH5170-AG5170,)","v":0},{"$f":"IF(AND(ROW(AC5170)>=statistics!$C$55,ROW(AC5170)<=statistics!$D$55),AC5169+AH5170-AG5170,)","v":0},{"$f":"IF(AND(statistics!$C$55<=ROW(A5170),ROW(A5170)<=statistics!$D$55)=TRUE,AH5170-AG5170+AA5169-INDEX(AA:AA,statistics!$C$55),\"\")","v":""},null,null,0,0,0,"",{"$f":"IF(statistics!$D$3<>0,IF(AJ5170=statistics!$D$3,AG5170,\"\"),IF(B5170<>\"\",AG5170,\"\"))","v":""},{"$f":"IF(statistics!$D$3<>0,IF(AJ5170=statistics!$D$3,IF(AH5170=0,\"\",AH5170),\"\"),IF(AH5170<>0,AH5170,\"\"))","v":""},{"$f":"IF(statistics!$D$3<>0,IF(AJ5170=statistics!$D$3,IF(A5170=0,\"\",1),\"\"),IF(A5170=0,\"\",1))","v":""},"","",null,"",{"$nulls":10},"",null,null,"",null,0,null,{"$error":"#NUM!"},{"$error":"#NUM!"},5169]
[{"$nulls":4},"","","","","",null,null,"",{"$nulls":6},5180,"",{"$f":"IF(A5182=0,IF(B5182=\"\",IF(B5181=0,\"\",SUM($AG$1:AG5181)-SUM($U$1:U5180)),\"\"),SUM($AG$1:AG5181)-SUM($U$1:U5180))","v":""},{"$nulls":5},0,{"$f":"IF(AJ5181=statistics!$D$3,AB5180+AH5181-AG5181,)","v":0},{"$f":"IF(AND(ROW(AC5181)>=statistics!$C$55,ROW(AC5181)<=statistics!$D$55),AC5180+AH5181-AG5181,)","v":0},{"$f":"IF(AND(statistics!$C$55<=ROW(A5181),ROW(A5181)<=statistics!$D$55)=TRUE,AH5181-AG5181+AA5180-INDEX(AA:AA,statistics!$C$55),\"\")","v":""},null,null,0,0,0,"",{"$f":"IF(statistics!$D$3<>0,IF(AJ5181=statistics!$D$3,AG5181,\"\"),IF(B5181<>\"\",AG5181,\"\"))","v":""},{"$f":"IF(statistics!$D$3<>0,IF(AJ5181=statistics!$D$3,IF(AH5181=0,\"\",AH5181),\"\"),IF(AH5181<>0,AH5181,\"\"))","v":""},{"$f":"IF(statistics!$D$3<>0,IF(AJ5181=statistics!$D$3,IF(A5181=0,\"\",1),\"\"),IF(A5181=0,\"\",1))","v":""},"","",null,"",{"$nulls":10},"",null,null,"",null,0,null,{"$error":"#NUM!"},{"$error":"#NUM!"},5180]
[{"$nulls":4},"","","",{"$f":"IF(A5187=0,IF(B5187=\"\",IF(B5186=0,\"\",U5186),\"\"),U5186)","v":""},{"$f":"IF(A5187=0,IF(B5187=\"\",IF(B5186=0,\"\",S5186),\"\"),S5186)","v":""},null,null,"",{"$nulls":6},{"$f":"IF(A5186=0,S5185+1,1)","v":5185},"",{"$f":"IF(A5187=0,IF(B5187=\"\",IF(B5186=0,\"\",SUM($AG$1:AG5186)-SUM($U$1:U5185)),\"\"),SUM($AG$1:AG5186)-SUM($U$1:U5185))","v":""},{"$nulls":5},0,{"$f":"IF(AJ5186=statistics!$D$3,AB5185+AH5186-AG5186,)","v":0},{"$f":"IF(AND(ROW(AC5186)>=statistics!$C$55,ROW(AC5186)<=statistics!$D$55),AC5185+AH5186-AG5186,)","v":0},{"$f":"IF(AND(statistics!$C$55<=ROW(A5186),ROW(A5186)<=statistics!$D$55)=TRUE,AH5186-AG5186+AA5185-INDEX(AA:AA,statistics!$C$55),\"\")","v":""},null,null,0,0,0,"",{"$f":"IF(statistics!$D$3<>0,IF(AJ5186=statistics!$D$3,AG5186,\"\"),IF(B5186<>\"\",AG5186,\"\"))","v":""},{"$f":"IF(statistics!$D$3<>0,IF(AJ5186=statistics!$D$3,IF(AH5186=0,\"\",AH5186),\"\"),IF(AH5186<>0,AH5186,\"\"))","v":""},{"$f":"IF(statistics!$D$3<>0,IF(AJ5186=statistics!$D$3,IF(A5186=0,\"\",1),\"\"),IF(A5186=0,\"\",1))","v":""},"","",null,"",{"$nulls":10},"",null,null,"",null,0,null,{"$error":"#NUM!"},{"$error":"#NUM!"},5185]
[{"$nulls":4},"","",{"$f":"IF(A5202=0,IF(B5202=\"\",IF(B5201=0,\"\",U5201/S5201),\"\"),U5201/S5201)","v":""},"","",null,null,"",{"$nulls":6},5200,"",{"$f":"IF(A5202=0,IF(B5202=\"\",IF(B5201=0,\"\",SUM($AG$1:AG5201)-SUM($U$1:U5200)),\"\"),SUM($AG$1:AG5201)-SUM($U$1:U5200))","v":""},{"$nulls":5},0,{"$f":"IF(AJ5201=statistics!$D$3,AB5200+AH5201-AG5201,)","v":0},{"$f":"IF(AND(ROW(AC5201)>=statistics!$C$55,ROW(AC5201)<=statistics!$D$55),AC5200+AH5201-AG5201,)","v":0},{"$f":"IF(AND(statistics!$C$55<=ROW(A5201),ROW(A5201)<=statistics!$D$55)=TRUE,AH5201-AG5201+AA5200-INDEX(AA:AA,statistics!$C$55),\"\")","v":""},null,null,0,0,0,"",{"$f":"IF(statistics!$D$3<>0,IF(AJ5201=statistics!$D$3,AG5201,\"\"),IF(B5201<>\"\",AG5201,\"\"))","v":""},{"$f":"IF(statistics!$D$3<>0,IF(AJ5201=statistics!$D$3,IF(AH5201=0,\"\",AH5201),\"\"),IF(AH5201<>0,AH5201,\"\"))","v":""},{"$f":"IF(statistics!$D$3<>0,IF(AJ5201=statistics!$D$3,IF(A5201=0,\"\",1),\"\"),IF(A5201=0,\"\",1))","v":""},"","",null,"",{"$nulls":10},"",null,null,"",null,0,null,{"$error":"#NUM!"},{"$error":"#NUM!"},5200]
[{"$nulls":4},"","","","","",null,null,"",{"$nulls":6},5211,"",{"$f":"IF(A5213=0,IF(B5213=\"\",IF(B5212=0,\"\",SUM($AG$1:AG5212)-SUM($U$1:U5211)),\"\"),SUM($AG$1:AG5212)-SUM($U$1:U5211))","v":""},{"$nulls":5},0,{"$f":"IF(AJ5212=statistics!$D$3,AB5211+AH5212-AG5212,)","v":0},{"$f":"IF(AND(ROW(AC5212)>=statistics!$C$55,ROW(AC5212)<=statistics!$D$55),AC5211+AH5212-AG5212,)","v":0},{"$f":"IF(AND(statistics!$C$55<=ROW(A5212),ROW(A5212)<=statistics!$D$55)=TRUE,AH5212-AG5212+AA5211-INDEX(AA:AA,statistics!$C$55),\"\")","v":""},null,null,0,0,0,"",{"$f":"IF(statistics!$D$3<>0,IF(AJ5212=statistics!$D$3,AG5212,\"\"),IF(B5212<>\"\",AG5212,\"\"))","v":""},{"$f":"IF(statistics!$D$3<>0,IF(AJ5212=statistics!$D$3,IF(AH5212=0,\"\",AH5212),\"\"),IF(AH5212<>0,AH5212,\"\"))","v":""},{"$f":"IF(statistics!$D$3<>0,IF(AJ5212=statistics!$D$3,IF(A5212=0,\"\",1),\"\"),IF(A5212=0,\"\",1))","v":""},"","",null,"",{"$nulls":10},"",null,null,"",null,0,null,{"$error":"#NUM!"},{"$error":"#NUM!"},5211]
[{"$nulls":4},"","","","","",null,null,"",{"$nulls":6},5216,"",{"$f":"IF(A5218=0,IF(B5218=\"\",IF(B5217=0,\"\",SUM($AG$1:AG5217)-SUM($U$1:U5216)),\"\"),SUM($AG$1:AG5217)-SUM($U$1:U5216))","v":""},{"$nulls":5},0,{"$f":"IF(AJ5217=statistics!$D$3,AB5216+AH5217-AG5217,)","v":0},{"$f":"IF(AND(ROW(AC5217)>=statistics!$C$55,ROW(AC5217)<=statistics!$D$55),AC5216+AH5217-AG5217,)","v":0},{"$f":"IF(AND(statistics!$C$55<=ROW(A5217),ROW(A5217)<=statistics!$D$55)=TRUE,AH5217-AG5217+AA5216-INDEX(AA:AA,statistics!$C$55),\"\")","v":""},null,null,0,0,0,"",{"$f":"IF(statistics!$D$3<>0,IF(AJ5217=statistics!$D$3,AG5217,\"\"),IF(B5217<>\"\",AG5217,\"\"))","v":""},{"$f":"IF(statistics!$D$3<>0,IF(AJ5217=statistics!$D$3,IF(AH5217=0,\"\",AH5217),\"\"),IF(AH5217<>0,AH5217,\"\"))","v":""},{"$f":"IF(statistics!$D$3<>0,IF(AJ5217=statistics!$D$3,IF(A5217=0,\"\",1),\"\"),IF(A5217=0,\"\",1))","v":""},"","",null,"",{"$nulls":10},"",null,null,"",null,0,null,{"$error":"#NUM!"},{"$error":"#NUM!"},5216]
[{"$nulls":4},"","","","","",null,null,"",{"$nulls":6},5230,"",{"$f":"IF(A5232=0,IF(B5232=\"\",IF(B5231=0,\"\",SUM($AG$1:AG5231)-SUM($U$1:U5230)),\"\"),SUM($AG$1:AG5231)-SUM($U$1:U5230))","v":""},{"$nulls":5},0,{"$f":"IF(AJ5231=statistics!$D$3,AB5230+AH5231-AG5231,)","v":0},{"$f":"IF(AND(ROW(AC5231)>=statistics!$C$55,ROW(AC5231)<=statistics!$D$55),AC5230+AH5231-AG5231,)","v":0},{"$f":"IF(AND(statistics!$C$55<=ROW(A5231),ROW(A5231)<=statistics!$D$55)=TRUE,AH5231-AG5231+AA5230-INDEX(AA:AA,statistics!$C$55),\"\")","v":""},null,null,0,0,0,"",{"$f":"IF(statistics!$D$3<>0,IF(AJ5231=statistics!$D$3,AG5231,\"\"),IF(B5231<>\"\",AG5231,\"\"))","v":""},{"$f":"IF(statistics!$D$3<>0,IF(AJ5231=statistics!$D$3,IF(AH5231=0,\"\",AH5231),\"\"),IF(AH5231<>0,AH5231,\"\"))","v":""},{"$f":"IF(statistics!$D$3<>0,IF(AJ5231=statistics!$D$3,IF(A5231=0,\"\",1),\"\"),IF(A5231=0,\"\",1))","v":""},"","",null,"",{"$nulls":10},"",null,null,"",null,0,null,{"$error":"#NUM!"},{"$error":"#NUM!"},5230]
[{"$nulls":4},"","","","","",null,null,"",{"$nulls":6},5241,"",{"$f":"IF(A5243=0,IF(B5243=\"\",IF(B5242=0,\"\",SUM($AG$1:AG5242)-SUM($U$1:U5241)),\"\"),SUM($AG$1:AG5242)-SUM($U$1:U5241))","v":""},{"$nulls":5},0,{"$f":"IF(AJ5242=statistics!$D$3,AB5241+AH5242-AG5242,)","v":0},{"$f":"IF(AND(ROW(AC5242)>=statistics!$C$55,ROW(AC5242)<=statistics!$D$55),AC5241+AH5242-AG5242,)","v":0},{"$f":"IF(AND(statistics!$C$55<=ROW(A5242),ROW(A5242)<=statistics!$D$55)=TRUE,AH5242-AG5242+AA5241-INDEX(AA:AA,statistics!$C$55),\"\")","v":""},null,null,0,0,0,"",{"$f":"IF(statistics!$D$3<>0,IF(AJ5242=statistics!$D$3,AG5242,\"\"),IF(B5242<>\"\",AG5242,\"\"))","v":""},{"$f":"IF(statistics!$D$3<>0,IF(AJ5242=statistics!$D$3,IF(AH5242=0,\"\",AH5242),\"\"),IF(AH5242<>0,AH5242,\"\"))","v":""},{"$f":"IF(statistics!$D$3<>0,IF(AJ5242=statistics!$D$3,IF(A5242=0,\"\",1),\"\"),IF(A5242=0,\"\",1))","v":""},"","",null,"",{"$nulls":10},"",null,null,"",null,0,null,{"$error":"#NUM!"},{"$error":"#NUM!"},5241]
[{"$nulls":4},"","","","","",null,null,"",{"$nulls":6},5246,"",{"$f":"IF(A5248=0,IF(B5248=\"\",IF(B5247=0,\"\",SUM($AG$1:AG5247)-SUM($U$1:U5246)),\"\"),SUM($AG$1:AG5247)-SUM($U$1:U5246))","v":""},{"$nulls":5},0,{"$f":"IF(AJ5247=statistics!$D$3,AB5246+AH5247-AG5247,)","v":0},{"$f":"IF(AND(ROW(AC5247)>=statistics!$C$55,ROW(AC5247)<=statistics!$D$55),AC5246+AH5247-AG5247,)","v":0},{"$f":"IF(AND(statistics!$C$55<=ROW(A5247),ROW(A5247)<=statistics!$D$55)=TRUE,AH5247-AG5247+AA5246-INDEX(AA:AA,statistics!$C$55),\"\")","v":""},null,null,0,0,0,"",{"$f":"IF(statistics!$D$3<>0,IF(AJ5247=statistics!$D$3,AG5247,\"\"),IF(B5247<>\"\",AG5247,\"\"))","v":""},{"$f":"IF(statistics!$D$3<>0,IF(AJ5247=statistics!$D$3,IF(AH5247=0,\"\",AH5247),\"\"),IF(AH5247<>0,AH5247,\"\"))","v":""},{"$f":"IF(statistics!$D$3<>0,IF(AJ5247=statistics!$D$3,IF(A5247=0,\"\",1),\"\"),IF(A5247=0,\"\",1))","v":""},"","",null,"",{"$nulls":10},"",null,null,"",null,0,null,{"$error":"#NUM!"},{"$error":"#NUM!"},5246]
[{"$nulls":4},"","","","","",null,null,"",{"$nulls":6},5257,"",{"$f":"IF(A5259=0,IF(B5259=\"\",IF(B5258=0,\"\",SUM($AG$1:AG5258)-SUM($U$1:U5257)),\"\"),SUM($AG$1:AG5258)-SUM($U$1:U5257))","v":""},{"$nulls":5},0,{"$f":"IF(AJ5258=statistics!$D$3,AB5257+AH5258-AG5258,)","v":0},{"$f":"IF(AND(ROW(AC5258)>=statistics!$C$55,ROW(AC5258)<=statistics!$D$55),AC5257+AH5258-AG5258,)","v":0},{"$f":"IF(AND(statistics!$C$55<=ROW(A5258),ROW(A5258)<=statistics!$D$55)=TRUE,AH5258-AG5258+AA5257-INDEX(AA:AA,statistics!$C$55),\"\")","v":""},null,null,0,0,0,"",{"$f":"IF(statistics!$D$3<>0,IF(AJ5258=statistics!$D$3,AG5258,\"\"),IF(B5258<>\"\",AG5258,\"\"))","v":""},{"$f":"IF(statistics!$D$3<>0,IF(AJ5258=statistics!$D$3,IF(AH5258=0,\"\",AH5258),\"\"),IF(AH5258<>0,AH5258,\"\"))","v":""},{"$f":"IF(statistics!$D$3<>0,IF(AJ5258=statistics!$D$3,IF(A5258=0,\"\",1),\"\"),IF(A5258=0,\"\",1))","v":""},"","",null,"",{"$nulls":10},"",null,null,"",null,0,null,{"$error":"#NUM!"},{"$error":"#NUM!"},5257]
[{"$nulls":4},"","","","","",null,null,"",{"$nulls":6},5262,"",{"$f":"IF(A5264=0,IF(B5264=\"\",IF(B5263=0,\"\",SUM($AG$1:AG5263)-SUM($U$1:U5262)),\"\"),SUM($AG$1:AG5263)-SUM($U$1:U5262))","v":""},{"$nulls":5},0,{"$f":"IF(AJ5263=statistics!$D$3,AB5262+AH5263-AG5263,)","v":0},{"$f":"IF(AND(ROW(AC5263)>=statistics!$C$55,ROW(AC5263)<=statistics!$D$55),AC5262+AH5263-AG5263,)","v":0},{"$f":"IF(AND(statistics!$C$55<=ROW(A5263),ROW(A5263)<=statistics!$D$55)=TRUE,AH5263-AG5263+AA5262-INDEX(AA:AA,statistics!$C$55),\"\")","v":""},null,null,0,0,0,"",{"$f":"IF(statistics!$D$3<>0,IF(AJ5263=statistics!$D$3,AG5263,\"\"),IF(B5263<>\"\",AG5263,\"\"))","v":""},{"$f":"IF(statistics!$D$3<>0,IF(AJ5263=statistics!$D$3,IF(AH5263=0,\"\",AH5263),\"\"),IF(AH5263<>0,AH5263,\"\"))","v":""},{"$f":"IF(statistics!$D$3<>0,IF(AJ5263=statistics!$D$3,IF(A5263=0,\"\",1),\"\"),IF(A5263=0,\"\",1))","v":""},"","",null,"",{"$nulls":10},"",null,null,"",null,0,null,{"$error":"#NUM!"},{"$error":"#NUM!"},5262]
[{"$nulls":4},"","","","","",null,null,"",{"$nulls":6},5277,"",{"$f":"IF(A5279=0,IF(B5279=\"\",IF(B5278=0,\"\",SUM($AG$1:AG5278)-SUM($U$1:U5277)),\"\"),SUM($AG$1:AG5278)-SUM($U$1:U5277))","v":""},{"$nulls":5},0,{"$f":"IF(AJ5278=statistics!$D$3,AB5277+AH5278-AG5278,)","v":0},{"$f":"IF(AND(ROW(AC5278)>=statistics!$C$55,ROW(AC5278)<=statistics!$D$55),AC5277+AH5278-AG5278,)","v":0},{"$f":"IF(AND(statistics!$C$55<=ROW(A5278),ROW(A5278)<=statistics!$D$55)=TRUE,AH5278-AG5278+AA5277-INDEX(AA:AA,statistics!$C$55),\"\")","v":""},null,null,0,0,0,"",{"$f":"IF(statistics!$D$3<>0,IF(AJ5278=statistics!$D$3,AG5278,\"\"),IF(B5278<>\"\",AG5278,\"\"))","v":""},{"$f":"IF(statistics!$D$3<>0,IF(AJ5278=statistics!$D$3,IF(AH5278=0,\"\",AH5278),\"\"),IF(AH5278<>0,AH5278,\"\"))","v":""},{"$f":"IF(statistics!$D$3<>0,IF(AJ5278=statistics!$D$3,IF(A5278=0,\"\",1),\"\"),IF(A5278=0,\"\",1))","v":""},"","",null,"",{"$nulls":10},"",null,null,"",null,0,null,{"$error":"#NUM!"},{"$error":"#NUM!"},5277]
[{"$nulls":4},"","","","","",null,null,"",{"$nulls":6},5282,"",{"$f":"IF(A5284=0,IF(B5284=\"\",IF(B5283=0,\"\",SUM($AG$1:AG5283)-SUM($U$1:U5282)),\"\"),SUM($AG$1:AG5283)-SUM($U$1:U5282))","v":""},{"$nulls":5},0,{"$f":"IF(AJ5283=statistics!$D$3,AB5282+AH5283-AG5283,)","v":0},{"$f":"IF(AND(ROW(AC5283)>=statistics!$C$55,ROW(AC5283)<=statistics!$D$55),AC5282+AH5283-AG5283,)","v":0},{"$f":"IF(AND(statistics!$C$55<=ROW(A5283),ROW(A5283)<=statistics!$D$55)=TRUE,AH5283-AG5283+AA5282-INDEX(AA:AA,statistics!$C$55),\"\")","v":""},null,null,0,0,0,"",{"$f":"IF(statistics!$D$3<>0,IF(AJ5283=statistics!$D$3,AG5283,\"\"),IF(B5283<>\"\",AG5283,\"\"))","v":""},{"$f":"IF(statistics!$D$3<>0,IF(AJ5283=statistics!$D$3,IF(AH5283=0,\"\",AH5283),\"\"),IF(AH5283<>0,AH5283,\"\"))","v":""},{"$f":"IF(statistics!$D$3<>0,IF(AJ5283=statistics!$D$3,IF(A5283=0,\"\",1),\"\"),IF(A5283=0,\"\",1))","v":""},"","",null,"",{"$nulls":10},"",null,null,"",null,0,null,{"$error":"#NUM!"},{"$error":"#NUM!"},5282]
[{"$nulls":4},"","","","","",null,null,"",{"$nulls":6},5292,"",{"$f":"IF(A5294=0,IF(B5294=\"\",IF(B5293=0,\"\",SUM($AG$1:AG5293)-SUM($U$1:U5292)),\"\"),SUM($AG$1:AG5293)-SUM($U$1:U5292))","v":""},{"$nulls":5},0,{"$f":"IF(AJ5293=statistics!$D$3,AB5292+AH5293-AG5293,)","v":0},{"$f":"IF(AND(ROW(AC5293)>=statistics!$C$55,ROW(AC5293)<=statistics!$D$55),AC5292+AH5293-AG5293,)","v":0},{"$f":"IF(AND(statistics!$C$55<=ROW(A5293),ROW(A5293)<=statistics!$D$55)=TRUE,AH5293-AG5293+AA5292-INDEX(AA:AA,statistics!$C$55),\"\")","v":""},null,null,0,0,0,"",{"$f":"IF(statistics!$D$3<>0,IF(AJ5293=statistics!$D$3,AG5293,\"\"),IF(B5293<>\"\",AG5293,\"\"))","v":""},{"$f":"IF(statistics!$D$3<>0,IF(AJ5293=statistics!$D$3,IF(AH5293=0,\"\",AH5293),\"\"),IF(AH5293<>0,AH5293,\"\"))","v":""},{"$f":"IF(statistics!$D$3<>0,IF(AJ5293=statistics!$D$3,IF(A5293=0,\"\",1),\"\"),IF(A5293=0,\"\",1))","v":""},"","",null,"",{"$nulls":10},"",null,null,"",null,0,null,{"$error":"#NUM!"},{"$error":"#NUM!"},5292]
[{"$nulls":4},"","","","","",null,null,"",{"$nulls":6},5303,"",{"$f":"IF(A5305=0,IF(B5305=\"\",IF(B5304=0,\"\",SUM($AG$1:AG5304)-SUM($U$1:U5303)),\"\"),SUM($AG$1:AG5304)-SUM($U$1:U5303))","v":""},{"$nulls":5},0,{"$f":"IF(AJ5304=statistics!$D$3,AB5303+AH5304-AG5304,)","v":0},{"$f":"IF(AND(ROW(AC5304)>=statistics!$C$55,ROW(AC5304)<=statistics!$D$55),AC5303+AH5304-AG5304,)","v":0},{"$f":"IF(AND(statistics!$C$55<=ROW(A5304),ROW(A5304)<=statistics!$D$55)=TRUE,AH5304-AG5304+AA5303-INDEX(AA:AA,statistics!$C$55),\"\")","v":""},null,null,0,0,0,"",{"$f":"IF(statistics!$D$3<>0,IF(AJ5304=statistics!$D$3,AG5304,\"\"),IF(B5304<>\"\",AG5304,\"\"))","v":""},{"$f":"IF(statistics!$D$3<>0,IF(AJ5304=statistics!$D$3,IF(AH5304=0,\"\",AH5304),\"\"),IF(AH5304<>0,AH5304,\"\"))","v":""},{"$f":"IF(statistics!$D$3<>0,IF(AJ5304=statistics!$D$3,IF(A5304=0,\"\",1),\"\"),IF(A5304=0,\"\",1))","v":""},"","",null,"",{"$nulls":10},"",null,null,"",null,0,null,{"$error":"#NUM!"},{"$error":"#NUM!"},5303]
[{"$nulls":4},"","","","","",null,null,"",{"$nulls":6},5318,"",{"$f":"IF(A5320=0,IF(B5320=\"\",IF(B5319=0,\"\",SUM($AG$1:AG5319)-SUM($U$1:U5318)),\"\"),SUM($AG$1:AG5319)-SUM($U$1:U5318))","v":""},{"$nulls":5},0,{"$f":"IF(AJ5319=statistics!$D$3,AB5318+AH5319-AG5319,)","v":0},{"$f":"IF(AND(ROW(AC5319)>=statistics!$C$55,ROW(AC5319)<=statistics!$D$55),AC5318+AH5319-AG5319,)","v":0},{"$f":"IF(AND(statistics!$C$55<=ROW(A5319),ROW(A5319)<=statistics!$D$55)=TRUE,AH5319-AG5319+AA5318-INDEX(AA:AA,statistics!$C$55),\"\")","v":""},null,null,0,0,0,"",{"$f":"IF(statistics!$D$3<>0,IF(AJ5319=statistics!$D$3,AG5319,\"\"),IF(B5319<>\"\",AG5319,\"\"))","v":""},{"$f":"IF(statistics!$D$3<>0,IF(AJ5319=statistics!$D$3,IF(AH5319=0,\"\",AH5319),\"\"),IF(AH5319<>0,AH5319,\"\"))","v":""},{"$f":"IF(statistics!$D$3<>0,IF(AJ5319=statistics!$D$3,IF(A5319=0,\"\",1),\"\"),IF(A5319=0,\"\",1))","v":""},"","",null,"",{"$nulls":10},"",null,null,"",null,0,null,{"$error":"#NUM!"},{"$error":"#NUM!"},5318]
[{"$nulls":4},{"$f":"IF(A5324=0,\"\",SUM(AH5324:AH15322)-SUM(AG5324:AG15322)-SUM(E5325:E15322))","v":""},"","","","",null,null,"",{"$nulls":6},5323,"",{"$f":"IF(A5325=0,IF(B5325=\"\",IF(B5324=0,\"\",SUM($AG$1:AG5324)-SUM($U$1:U5323)),\"\"),SUM($AG$1:AG5324)-SUM($U$1:U5323))","v":""},{"$nulls":5},0,{"$f":"IF(AJ5324=statistics!$D$3,AB5323+AH5324-AG5324,)","v":0},{"$f":"IF(AND(ROW(AC5324)>=statistics!$C$55,ROW(AC5324)<=statistics!$D$55),AC5323+AH5324-AG5324,)","v":0},{"$f":"IF(AND(statistics!$C$55<=ROW(A5324),ROW(A5324)<=statistics!$D$55)=TRUE,AH5324-AG5324+AA5323-INDEX(AA:AA,statistics!$C$55),\"\")","v":""},null,null,0,0,0,"",{"$f":"IF(statistics!$D$3<>0,IF(AJ5324=statistics!$D$3,AG5324,\"\"),IF(B5324<>\"\",AG5324,\"\"))","v":""},{"$f":"IF(statistics!$D$3<>0,IF(AJ5324=statistics!$D$3,IF(AH5324=0,\"\",AH5324),\"\"),IF(AH5324<>0,AH5324,\"\"))","v":""},{"$f":"IF(statistics!$D$3<>0,IF(AJ5324=statistics!$D$3,IF(A5324=0,\"\",1),\"\"),IF(A5324=0,\"\",1))","v":""},"","",null,"",{"$nulls":10},"",null,null,"",null,0,null,{"$error":"#NUM!"},{"$error":"#NUM!"},5323]
[{"$nulls":4},"","","","","",null,null,"",{"$nulls":6},5334,"",{"$f":"IF(A5336=0,IF(B5336=\"\",IF(B5335=0,\"\",SUM($AG$1:AG5335)-SUM($U$1:U5334)),\"\"),SUM($AG$1:AG5335)-SUM($U$1:U5334))","v":""},{"$nulls":5},0,{"$f":"IF(AJ5335=statistics!$D$3,AB5334+AH5335-AG5335,)","v":0},{"$f":"IF(AND(ROW(AC5335)>=statistics!$C$55,ROW(AC5335)<=statistics!$D$55),AC5334+AH5335-AG5335,)","v":0},{"$f":"IF(AND(statistics!$C$55<=ROW(A5335),ROW(A5335)<=statistics!$D$55)=TRUE,AH5335-AG5335+AA5334-INDEX(AA:AA,statistics!$C$55),\"\")","v":""},null,null,0,0,0,"",{"$f":"IF(statistics!$D$3<>0,IF(AJ5335=statistics!$D$3,AG5335,\"\"),IF(B5335<>\"\",AG5335,\"\"))","v":""},{"$f":"IF(statistics!$D$3<>0,IF(AJ5335=statistics!$D$3,IF(AH5335=0,\"\",AH5335),\"\"),IF(AH5335<>0,AH5335,\"\"))","v":""},{"$f":"IF(statistics!$D$3<>0,IF(AJ5335=statistics!$D$3,IF(A5335=0,\"\",1),\"\"),IF(A5335=0,\"\",1))","v":""},"","",null,"",{"$nulls":10},"",null,null,"",null,0,null,{"$error":"#NUM!"},{"$error":"#NUM!"},5334]
[{"$nulls":4},"","","","","",null,null,"",{"$nulls":6},5349,"",{"$f":"IF(A5351=0,IF(B5351=\"\",IF(B5350=0,\"\",SUM($AG$1:AG5350)-SUM($U$1:U5349)),\"\"),SUM($AG$1:AG5350)-SUM($U$1:U5349))","v":""},{"$nulls":5},0,{"$f":"IF(AJ5350=statistics!$D$3,AB5349+AH5350-AG5350,)","v":0},{"$f":"IF(AND(ROW(AC5350)>=statistics!$C$55,ROW(AC5350)<=statistics!$D$55),AC5349+AH5350-AG5350,)","v":0},{"$f":"IF(AND(statistics!$C$55<=ROW(A5350),ROW(A5350)<=statistics!$D$55)=TRUE,AH5350-AG5350+AA5349-INDEX(AA:AA,statistics!$C$55),\"\")","v":""},null,null,0,0,0,"",{"$f":"IF(statistics!$D$3<>0,IF(AJ5350=statistics!$D$3,AG5350,\"\"),IF(B5350<>\"\",AG5350,\"\"))","v":""},{"$f":"IF(statistics!$D$3<>0,IF(AJ5350=statistics!$D$3,IF(AH5350=0,\"\",AH5350),\"\"),IF(AH5350<>0,AH5350,\"\"))","v":""},{"$f":"IF(statistics!$D$3<>0,IF(AJ5350=statistics!$D$3,IF(A5350=0,\"\",1),\"\"),IF(A5350=0,\"\",1))","v":""},"","",null,"",{"$nulls":10},"",null,null,"",null,0,null,{"$error":"#NUM!"},{"$error":"#NUM!"},5349]
[{"$nulls":4},"","","","","",null,null,"",{"$nulls":6},5353,"",{"$f":"IF(A5355=0,IF(B5355=\"\",IF(B5354=0,\"\",SUM($AG$1:AG5354)-SUM($U$1:U5353)),\"\"),SUM($AG$1:AG5354)-SUM($U$1:U5353))","v":""},{"$nulls":5},0,{"$f":"IF(AJ5354=statistics!$D$3,AB5353+AH5354-AG5354,)","v":0},{"$f":"IF(AND(ROW(AC5354)>=statistics!$C$55,ROW(AC5354)<=statistics!$D$55),AC5353+AH5354-AG5354,)","v":0},{"$f":"IF(AND(statistics!$C$55<=ROW(A5354),ROW(A5354)<=statistics!$D$55)=TRUE,AH5354-AG5354+AA5353-INDEX(AA:AA,statistics!$C$55),\"\")","v":""},null,null,0,0,0,"",{"$f":"IF(statistics!$D$3<>0,IF(AJ5354=statistics!$D$3,AG5354,\"\"),IF(B5354<>\"\",AG5354,\"\"))","v":""},{"$f":"IF(statistics!$D$3<>0,IF(AJ5354=statistics!$D$3,IF(AH5354=0,\"\",AH5354),\"\"),IF(AH5354<>0,AH5354,\"\"))","v":""},{"$f":"IF(statistics!$D$3<>0,IF(AJ5354=statistics!$D$3,IF(A5354=0,\"\",1),\"\"),IF(A5354=0,\"\",1))","v":""},"","",null,"",{"$nulls":10},"",null,null,"",null,0,null,{"$error":"#NUM!"},{"$error":"#NUM!"},5353]
[{"$nulls":4},"","","","","",null,null,"",{"$nulls":6},5364,"",{"$f":"IF(A5366=0,IF(B5366=\"\",IF(B5365=0,\"\",SUM($AG$1:AG5365)-SUM($U$1:U5364)),\"\"),SUM($AG$1:AG5365)-SUM($U$1:U5364))","v":""},{"$nulls":5},0,{"$f":"IF(AJ5365=statistics!$D$3,AB5364+AH5365-AG5365,)","v":0},{"$f":"IF(AND(ROW(AC5365)>=statistics!$C$55,ROW(AC5365)<=statistics!$D$55),AC5364+AH5365-AG5365,)","v":0},{"$f":"IF(AND(statistics!$C$55<=ROW(A5365),ROW(A5365)<=statistics!$D$55)=TRUE,AH5365-AG5365+AA5364-INDEX(AA:AA,statistics!$C$55),\"\")","v":""},null,null,0,0,0,"",{"$f":"IF(statistics!$D$3<>0,IF(AJ5365=statistics!$D$3,AG5365,\"\"),IF(B5365<>\"\",AG5365,\"\"))","v":""},{"$f":"IF(statistics!$D$3<>0,IF(AJ5365=statistics!$D$3,IF(AH5365=0,\"\",AH5365),\"\"),IF(AH5365<>0,AH5365,\"\"))","v":""},{"$f":"IF(statistics!$D$3<>0,IF(AJ5365=statistics!$D$3,IF(A5365=0,\"\",1),\"\"),IF(A5365=0,\"\",1))","v":""},"","",null,"",{"$nulls":10},"",null,null,"",null,0,null,{"$error":"#NUM!"},{"$error":"#NUM!"},5364]
[{"$nulls":4},"","","","","",null,null,"",{"$nulls":6},5379,"",{"$f":"IF(A5381=0,IF(B5381=\"\",IF(B5380=0,\"\",SUM($AG$1:AG5380)-SUM($U$1:U5379)),\"\"),SUM($AG$1:AG5380)-SUM($U$1:U5379))","v":""},{"$nulls":5},0,{"$f":"IF(AJ5380=statistics!$D$3,AB5379+AH5380-AG5380,)","v":0},{"$f":"IF(AND(ROW(AC5380)>=statistics!$C$55,ROW(AC5380)<=statistics!$D$55),AC5379+AH5380-AG5380,)","v":0},{"$f":"IF(AND(statistics!$C$55<=ROW(A5380),ROW(A5380)<=statistics!$D$55)=TRUE,AH5380-AG5380+AA5379-INDEX(AA:AA,statistics!$C$55),\"\")","v":""},null,null,0,0,0,"",{"$f":"IF(statistics!$D$3<>0,IF(AJ5380=statistics!$D$3,AG5380,\"\"),IF(B5380<>\"\",AG5380,\"\"))","v":""},{"$f":"IF(statistics!$D$3<>0,IF(AJ5380=statistics!$D$3,IF(AH5380=0,\"\",AH5380),\"\"),IF(AH5380<>0,AH5380,\"\"))","v":""},{"$f":"IF(statistics!$D$3<>0,IF(AJ5380=statistics!$D$3,IF(A5380=0,\"\",1),\"\"),IF(A5380=0,\"\",1))","v":""},"",{"$f":"IF(A5380<>0,IF(MONTH(A5380)=AJ5379,\"\",MONTH(A5380)),\"\")","v":""},null,"",{"$nulls":10},"",null,null,"",null,0,null,{"$error":"#NUM!"},{"$error":"#NUM!"},5379]
[{"$nulls":4},"","","","","",null,null,"",{"$nulls":6},5380,"",{"$f":"IF(A5382=0,IF(B5382=\"\",IF(B5381=0,\"\",SUM($AG$1:AG5381)-SUM($U$1:U5380)),\"\"),SUM($AG$1:AG5381)-SUM($U$1:U5380))","v":""},{"$nulls":5},0,{"$f":"IF(AJ5381=statistics!$D$3,AB5380+AH5381-AG5381,)","v":0},{"$f":"IF(AND(ROW(AC5381)>=statistics!$C$55,ROW(AC5381)<=statistics!$D$55),AC5380+AH5381-AG5381,)","v":0},{"$f":"IF(AND(statistics!$C$55<=ROW(A5381),ROW(A5381)<=statistics!$D$55)=TRUE,AH5381-AG5381+AA5380-INDEX(AA:AA,statistics!$C$55),\"\")","v":""},null,null,0,0,0,"",{"$f":"IF(statistics!$D$3<>0,IF(AJ5381=statistics!$D$3,AG5381,\"\"),IF(B5381<>\"\",AG5381,\"\"))","v":""},{"$f":"IF(statistics!$D$3<>0,IF(AJ5381=statistics!$D$3,IF(AH5381=0,\"\",AH5381),\"\"),IF(AH5381<>0,AH5381,\"\"))","v":""},{"$f":"IF(statistics!$D$3<>0,IF(AJ5381=statistics!$D$3,IF(A5381=0,\"\",1),\"\"),IF(A5381=0,\"\",1))","v":""},"","",null,"",{"$nulls":10},"",null,null,"",null,0,null,{"$error":"#NUM!"},{"$error":"#NUM!"},5380]
[{"$nulls":4},"","","","","",null,null,"",{"$nulls":6},5395,"",{"$f":"IF(A5397=0,IF(B5397=\"\",IF(B5396=0,\"\",SUM($AG$1:AG5396)-SUM($U$1:U5395)),\"\"),SUM($AG$1:AG5396)-SUM($U$1:U5395))","v":""},{"$nulls":5},0,{"$f":"IF(AJ5396=statistics!$D$3,AB5395+AH5396-AG5396,)","v":0},{"$f":"IF(AND(ROW(AC5396)>=statistics!$C$55,ROW(AC5396)<=statistics!$D$55),AC5395+AH5396-AG5396,)","v":0},{"$f":"IF(AND(statistics!$C$55<=ROW(A5396),ROW(A5396)<=statistics!$D$55)=TRUE,AH5396-AG5396+AA5395-INDEX(AA:AA,statistics!$C$55),\"\")","v":""},null,null,0,0,0,"",{"$f":"IF(statistics!$D$3<>0,IF(AJ5396=statistics!$D$3,AG5396,\"\"),IF(B5396<>\"\",AG5396,\"\"))","v":""},{"$f":"IF(statistics!$D$3<>0,IF(AJ5396=statistics!$D$3,IF(AH5396=0,\"\",AH5396),\"\"),IF(AH5396<>0,AH5396,\"\"))","v":""},{"$f":"IF(statistics!$D$3<>0,IF(AJ5396=statistics!$D$3,IF(A5396=0,\"\",1),\"\"),IF(A5396=0,\"\",1))","v":""},"","",null,"",{"$nulls":10},"",null,null,"",null,0,null,{"$error":"#NUM!"},{"$error":"#NUM!"},5395]
[{"$nulls":4},"","","","","",null,null,"",{"$nulls":6},5400,"",{"$f":"IF(A5402=0,IF(B5402=\"\",IF(B5401=0,\"\",SUM($AG$1:AG5401)-SUM($U$1:U5400)),\"\"),SUM($AG$1:AG5401)-SUM($U$1:U5400))","v":""},{"$nulls":5},0,{"$f":"IF(AJ5401=statistics!$D$3,AB5400+AH5401-AG5401,)","v":0},{"$f":"IF(AND(ROW(AC5401)>=statistics!$C$55,ROW(AC5401)<=statistics!$D$55),AC5400+AH5401-AG5401,)","v":0},{"$f":"IF(AND(statistics!$C$55<=ROW(A5401),ROW(A5401)<=statistics!$D$55)=TRUE,AH5401-AG5401+AA5400-INDEX(AA:AA,statistics!$C$55),\"\")","v":""},null,null,0,0,0,"",{"$f":"IF(statistics!$D$3<>0,IF(AJ5401=statistics!$D$3,AG5401,\"\"),IF(B5401<>\"\",AG5401,\"\"))","v":""},{"$f":"IF(statistics!$D$3<>0,IF(AJ5401=statistics!$D$3,IF(AH5401=0,\"\",AH5401),\"\"),IF(AH5401<>0,AH5401,\"\"))","v":""},{"$f":"IF(statistics!$D$3<>0,IF(AJ5401=statistics!$D$3,IF(A5401=0,\"\",1),\"\"),IF(A5401=0,\"\",1))","v":""},"","",null,"",{"$nulls":10},"",null,null,"",null,0,null,{"$error":"#NUM!"},{"$error":"#NUM!"},5400]
[{"$nulls":4},"","","","","",null,null,"",{"$nulls":6},5411,"",{"$f":"IF(A5413=0,IF(B5413=\"\",IF(B5412=0,\"\",SUM($AG$1:AG5412)-SUM($U$1:U5411)),\"\"),SUM($AG$1:AG5412)-SUM($U$1:U5411))","v":""},{"$nulls":5},0,{"$f":"IF(AJ5412=statistics!$D$3,AB5411+AH5412-AG5412,)","v":0},{"$f":"IF(AND(ROW(AC5412)>=statistics!$C$55,ROW(AC5412)<=statistics!$D$55),AC5411+AH5412-AG5412,)","v":0},{"$f":"IF(AND(statistics!$C$55<=ROW(A5412),ROW(A5412)<=statistics!$D$55)=TRUE,AH5412-AG5412+AA5411-INDEX(AA:AA,statistics!$C$55),\"\")","v":""},null,null,0,0,0,"",{"$f":"IF(statistics!$D$3<>0,IF(AJ5412=statistics!$D$3,AG5412,\"\"),IF(B5412<>\"\",AG5412,\"\"))","v":""},{"$f":"IF(statistics!$D$3<>0,IF(AJ5412=statistics!$D$3,IF(AH5412=0,\"\",AH5412),\"\"),IF(AH5412<>0,AH5412,\"\"))","v":""},{"$f":"IF(statistics!$D$3<>0,IF(AJ5412=statistics!$D$3,IF(A5412=0,\"\",1),\"\"),IF(A5412=0,\"\",1))","v":""},"","",null,"",{"$nulls":10},"",null,null,"",null,0,null,{"$error":"#NUM!"},{"$error":"#NUM!"},5411]
[{"$nulls":4},"","","","","",null,null,"",{"$nulls":6},5426,"",{"$f":"IF(A5428=0,IF(B5428=\"\",IF(B5427=0,\"\",SUM($AG$1:AG5427)-SUM($U$1:U5426)),\"\"),SUM($AG$1:AG5427)-SUM($U$1:U5426))","v":""},{"$nulls":5},0,{"$f":"IF(AJ5427=statistics!$D$3,AB5426+AH5427-AG5427,)","v":0},{"$f":"IF(AND(ROW(AC5427)>=statistics!$C$55,ROW(AC5427)<=statistics!$D$55),AC5426+AH5427-AG5427,)","v":0},{"$f":"IF(AND(statistics!$C$55<=ROW(A5427),ROW(A5427)<=statistics!$D$55)=TRUE,AH5427-AG5427+AA5426-INDEX(AA:AA,statistics!$C$55),\"\")","v":""},null,null,0,0,0,"",{"$f":"IF(statistics!$D$3<>0,IF(AJ5427=statistics!$D$3,AG5427,\"\"),IF(B5427<>\"\",AG5427,\"\"))","v":""},{"$f":"IF(statistics!$D$3<>0,IF(AJ5427=statistics!$D$3,IF(AH5427=0,\"\",AH5427),\"\"),IF(AH5427<>0,AH5427,\"\"))","v":""},{"$f":"IF(statistics!$D$3<>0,IF(AJ5427=statistics!$D$3,IF(A5427=0,\"\",1),\"\"),IF(A5427=0,\"\",1))","v":""},"","",null,"",{"$nulls":10},"",null,null,"",null,0,null,{"$error":"#NUM!"},{"$error":"#NUM!"},5426]
[{"$nulls":4},"","","","","",null,null,"",{"$nulls":6},5430,"",{"$f":"IF(A5432=0,IF(B5432=\"\",IF(B5431=0,\"\",SUM($AG$1:AG5431)-SUM($U$1:U5430)),\"\"),SUM($AG$1:AG5431)-SUM($U$1:U5430))","v":""},{"$nulls":5},0,{"$f":"IF(AJ5431=statistics!$D$3,AB5430+AH5431-AG5431,)","v":0},{"$f":"IF(AND(ROW(AC5431)>=statistics!$C$55,ROW(AC5431)<=statistics!$D$55),AC5430+AH5431-AG5431,)","v":0},{"$f":"IF(AND(statistics!$C$55<=ROW(A5431),ROW(A5431)<=statistics!$D$55)=TRUE,AH5431-AG5431+AA5430-INDEX(AA:AA,statistics!$C$55),\"\")","v":""},null,null,0,0,0,"",{"$f":"IF(statistics!$D$3<>0,IF(AJ5431=statistics!$D$3,AG5431,\"\"),IF(B5431<>\"\",AG5431,\"\"))","v":""},{"$f":"IF(statistics!$D$3<>0,IF(AJ5431=statistics!$D$3,IF(AH5431=0,\"\",AH5431),\"\"),IF(AH5431<>0,AH5431,\"\"))","v":""},{"$f":"IF(statistics!$D$3<>0,IF(AJ5431=statistics!$D$3,IF(A5431=0,\"\",1),\"\"),IF(A5431=0,\"\",1))","v":""},"","",null,"",{"$nulls":10},"",null,null,"",null,0,null,{"$error":"#NUM!"},{"$error":"#NUM!"},5430]
[{"$nulls":4},"","","","","",null,null,"",{"$nulls":6},5431,"",{"$f":"IF(A5433=0,IF(B5433=\"\",IF(B5432=0,\"\",SUM($AG$1:AG5432)-SUM($U$1:U5431)),\"\"),SUM($AG$1:AG5432)-SUM($U$1:U5431))","v":""},{"$nulls":5},0,{"$f":"IF(AJ5432=statistics!$D$3,AB5431+AH5432-AG5432,)","v":0},{"$f":"IF(AND(ROW(AC5432)>=statistics!$C$55,ROW(AC5432)<=statistics!$D$55),AC5431+AH5432-AG5432,)","v":0},{"$f":"IF(AND(statistics!$C$55<=ROW(A5432),ROW(A5432)<=statistics!$D$55)=TRUE,AH5432-AG5432+AA5431-INDEX(AA:AA,statistics!$C$55),\"\")","v":""},null,null,0,0,0,"",{"$f":"IF(statistics!$D$3<>0,IF(AJ5432=statistics!$D$3,AG5432,\"\"),IF(B5432<>\"\",AG5432,\"\"))","v":""},{"$f":"IF(statistics!$D$3<>0,IF(AJ5432=statistics!$D$3,IF(AH5432=0,\"\",AH5432),\"\"),IF(AH5432<>0,AH5432,\"\"))","v":""},{"$f":"IF(statistics!$D$3<>0,IF(AJ5432=statistics!$D$3,IF(A5432=0,\"\",1),\"\"),IF(A5432=0,\"\",1))","v":""},"","",null,"",{"$nulls":10},"",null,null,"",null,0,null,{"$error":"#NUM!"},{"$error":"#NUM!"},5431]
[{"$nulls":4},"","","","","",null,null,"",{"$nulls":6},5432,"",{"$f":"IF(A5434=0,IF(B5434=\"\",IF(B5433=0,\"\",SUM($AG$1:AG5433)-SUM($U$1:U5432)),\"\"),SUM($AG$1:AG5433)-SUM($U$1:U5432))","v":""},{"$nulls":5},0,{"$f":"IF(AJ5433=statistics!$D$3,AB5432+AH5433-AG5433,)","v":0},{"$f":"IF(AND(ROW(AC5433)>=statistics!$C$55,ROW(AC5433)<=statistics!$D$55),AC5432+AH5433-AG5433,)","v":0},{"$f":"IF(AND(statistics!$C$55<=ROW(A5433),ROW(A5433)<=statistics!$D$55)=TRUE,AH5433-AG5433+AA5432-INDEX(AA:AA,statistics!$C$55),\"\")","v":""},null,null,0,0,0,"",{"$f":"IF(statistics!$D$3<>0,IF(AJ5433=statistics!$D$3,AG5433,\"\"),IF(B5433<>\"\",AG5433,\"\"))","v":""},{"$f":"IF(statistics!$D$3<>0,IF(AJ5433=statistics!$D$3,IF(AH5433=0,\"\",AH5433),\"\"),IF(AH5433<>0,AH5433,\"\"))","v":""},{"$f":"IF(statistics!$D$3<>0,IF(AJ5433=statistics!$D$3,IF(A5433=0,\"\",1),\"\"),IF(A5433=0,\"\",1))","v":""},"","",null,"",{"$nulls":10},"",null,null,"",null,0,null,{"$error":"#NUM!"},{"$error":"#NUM!"},5432]
[{"$nulls":4},"","","","","",null,null,"",{"$nulls":6},5433,"",{"$f":"IF(A5435=0,IF(B5435=\"\",IF(B5434=0,\"\",SUM($AG$1:AG5434)-SUM($U$1:U5433)),\"\"),SUM($AG$1:AG5434)-SUM($U$1:U5433))","v":""},{"$nulls":5},0,{"$f":"IF(AJ5434=statistics!$D$3,AB5433+AH5434-AG5434,)","v":0},{"$f":"IF(AND(ROW(AC5434)>=statistics!$C$55,ROW(AC5434)<=statistics!$D$55),AC5433+AH5434-AG5434,)","v":0},{"$f":"IF(AND(statistics!$C$55<=ROW(A5434),ROW(A5434)<=statistics!$D$55)=TRUE,AH5434-AG5434+AA5433-INDEX(AA:AA,statistics!$C$55),\"\")","v":""},null,null,0,0,0,"",{"$f":"IF(statistics!$D$3<>0,IF(AJ5434=statistics!$D$3,AG5434,\"\"),IF(B5434<>\"\",AG5434,\"\"))","v":""},{"$f":"IF(statistics!$D$3<>0,IF(AJ5434=statistics!$D$3,IF(AH5434=0,\"\",AH5434),\"\"),IF(AH5434<>0,AH5434,\"\"))","v":""},{"$f":"IF(statistics!$D$3<>0,IF(AJ5434=statistics!$D$3,IF(A5434=0,\"\",1),\"\"),IF(A5434=0,\"\",1))","v":""},"","",null,"",{"$nulls":10},"",null,null,"",null,0,null,{"$error":"#NUM!"},{"$error":"#NUM!"},5433]
[{"$nulls":4},"","","","","",null,null,"",{"$nulls":6},5434,"",{"$f":"IF(A5436=0,IF(B5436=\"\",IF(B5435=0,\"\",SUM($AG$1:AG5435)-SUM($U$1:U5434)),\"\"),SUM($AG$1:AG5435)-SUM($U$1:U5434))","v":""},{"$nulls":5},0,{"$f":"IF(AJ5435=statistics!$D$3,AB5434+AH5435-AG5435,)","v":0},{"$f":"IF(AND(ROW(AC5435)>=statistics!$C$55,ROW(AC5435)<=statistics!$D$55),AC5434+AH5435-AG5435,)","v":0},{"$f":"IF(AND(statistics!$C$55<=ROW(A5435),ROW(A5435)<=statistics!$D$55)=TRUE,AH5435-AG5435+AA5434-INDEX(AA:AA,statistics!$C$55),\"\")","v":""},null,null,0,0,0,"",{"$f":"IF(statistics!$D$3<>0,IF(AJ5435=statistics!$D$3,AG5435,\"\"),IF(B5435<>\"\",AG5435,\"\"))","v":""},{"$f":"IF(statistics!$D$3<>0,IF(AJ5435=statistics!$D$3,IF(AH5435=0,\"\",AH5435),\"\"),IF(AH5435<>0,AH5435,\"\"))","v":""},{"$f":"IF(statistics!$D$3<>0,IF(AJ5435=statistics!$D$3,IF(A5435=0,\"\",1),\"\"),IF(A5435=0,\"\",1))","v":""},"","",null,"",{"$nulls":10},"",null,null,"",null,0,null,{"$error":"#NUM!"},{"$error":"#NUM!"},5434]
[{"$nulls":4},"","","","","",null,null,"",{"$nulls":6},5435,"",{"$f":"IF(A5437=0,IF(B5437=\"\",IF(B5436=0,\"\",SUM($AG$1:AG5436)-SUM($U$1:U5435)),\"\"),SUM($AG$1:AG5436)-SUM($U$1:U5435))","v":""},{"$nulls":5},0,{"$f":"IF(AJ5436=statistics!$D$3,AB5435+AH5436-AG5436,)","v":0},{"$f":"IF(AND(ROW(AC5436)>=statistics!$C$55,ROW(AC5436)<=statistics!$D$55),AC5435+AH5436-AG5436,)","v":0},{"$f":"IF(AND(statistics!$C$55<=ROW(A5436),ROW(A5436)<=statistics!$D$55)=TRUE,AH5436-AG5436+AA5435-INDEX(AA:AA,statistics!$C$55),\"\")","v":""},null,null,0,0,0,"",{"$f":"IF(statistics!$D$3<>0,IF(AJ5436=statistics!$D$3,AG5436,\"\"),IF(B5436<>\"\",AG5436,\"\"))","v":""},{"$f":"IF(statistics!$D$3<>0,IF(AJ5436=statistics!$D$3,IF(AH5436=0,\"\",AH5436),\"\"),IF(AH5436<>0,AH5436,\"\"))","v":""},{"$f":"IF(statistics!$D$3<>0,IF(AJ5436=statistics!$D$3,IF(A5436=0,\"\",1),\"\"),IF(A5436=0,\"\",1))","v":""},"","",null,"",{"$nulls":10},"",null,null,"",null,0,null,{"$error":"#NUM!"},{"$error":"#NUM!"},5435]
[{"$nulls":4},"","","","","",null,null,"",{"$nulls":6},5436,"",{"$f":"IF(A5438=0,IF(B5438=\"\",IF(B5437=0,\"\",SUM($AG$1:AG5437)-SUM($U$1:U5436)),\"\"),SUM($AG$1:AG5437)-SUM($U$1:U5436))","v":""},{"$nulls":5},0,{"$f":"IF(AJ5437=statistics!$D$3,AB5436+AH5437-AG5437,)","v":0},{"$f":"IF(AND(ROW(AC5437)>=statistics!$C$55,ROW(AC5437)<=statistics!$D$55),AC5436+AH5437-AG5437,)","v":0},{"$f":"IF(AND(statistics!$C$55<=ROW(A5437),ROW(A5437)<=statistics!$D$55)=TRUE,AH5437-AG5437+AA5436-INDEX(AA:AA,statistics!$C$55),\"\")","v":""},null,null,0,0,0,"",{"$f":"IF(statistics!$D$3<>0,IF(AJ5437=statistics!$D$3,AG5437,\"\"),IF(B5437<>\"\",AG5437,\"\"))","v":""},{"$f":"IF(statistics!$D$3<>0,IF(AJ5437=statistics!$D$3,IF(AH5437=0,\"\",AH5437),\"\"),IF(AH5437<>0,AH5437,\"\"))","v":""},{"$f":"IF(statistics!$D$3<>0,IF(AJ5437=statistics!$D$3,IF(A5437=0,\"\",1),\"\"),IF(A5437=0,\"\",1))","v":""},"","",null,"",{"$nulls":10},"",null,null,"",null,0,null,{"$error":"#NUM!"},{"$error":"#NUM!"},5436]
[{"$nulls":4},"","","","","",null,null,"",{"$nulls":6},5437,"",{"$f":"IF(A5439=0,IF(B5439=\"\",IF(B5438=0,\"\",SUM($AG$1:AG5438)-SUM($U$1:U5437)),\"\"),SUM($AG$1:AG5438)-SUM($U$1:U5437))","v":""},{"$nulls":5},0,{"$f":"IF(AJ5438=statistics!$D$3,AB5437+AH5438-AG5438,)","v":0},{"$f":"IF(AND(ROW(AC5438)>=statistics!$C$55,ROW(AC5438)<=statistics!$D$55),AC5437+AH5438-AG5438,)","v":0},{"$f":"IF(AND(statistics!$C$55<=ROW(A5438),ROW(A5438)<=statistics!$D$55)=TRUE,AH5438-AG5438+AA5437-INDEX(AA:AA,statistics!$C$55),\"\")","v":""},null,null,0,0,0,"",{"$f":"IF(statistics!$D$3<>0,IF(AJ5438=statistics!$D$3,AG5438,\"\"),IF(B5438<>\"\",AG5438,\"\"))","v":""},{"$f":"IF(statistics!$D$3<>0,IF(AJ5438=statistics!$D$3,IF(AH5438=0,\"\",AH5438),\"\"),IF(AH5438<>0,AH5438,\"\"))","v":""},{"$f":"IF(statistics!$D$3<>0,IF(AJ5438=statistics!$D$3,IF(A5438=0,\"\",1),\"\"),IF(A5438=0,\"\",1))","v":""},"","",null,"",{"$nulls":10},"",null,null,"",null,0,null,{"$error":"#NUM!"},{"$error":"#NUM!"},5437]
[{"$nulls":4},"","","","","",null,null,"",{"$nulls":6},5438,"",{"$f":"IF(A5440=0,IF(B5440=\"\",IF(B5439=0,\"\",SUM($AG$1:AG5439)-SUM($U$1:U5438)),\"\"),SUM($AG$1:AG5439)-SUM($U$1:U5438))","v":""},{"$nulls":5},0,{"$f":"IF(AJ5439=statistics!$D$3,AB5438+AH5439-AG5439,)","v":0},{"$f":"IF(AND(ROW(AC5439)>=statistics!$C$55,ROW(AC5439)<=statistics!$D$55),AC5438+AH5439-AG5439,)","v":0},{"$f":"IF(AND(statistics!$C$55<=ROW(A5439),ROW(A5439)<=statistics!$D$55)=TRUE,AH5439-AG5439+AA5438-INDEX(AA:AA,statistics!$C$55),\"\")","v":""},null,null,0,0,0,"",{"$f":"IF(statistics!$D$3<>0,IF(AJ5439=statistics!$D$3,AG5439,\"\"),IF(B5439<>\"\",AG5439,\"\"))","v":""},{"$f":"IF(statistics!$D$3<>0,IF(AJ5439=statistics!$D$3,IF(AH5439=0,\"\",AH5439),\"\"),IF(AH5439<>0,AH5439,\"\"))","v":""},{"$f":"IF(statistics!$D$3<>0,IF(AJ5439=statistics!$D$3,IF(A5439=0,\"\",1),\"\"),IF(A5439=0,\"\",1))","v":""},"","",null,"",{"$nulls":10},"",null,null,"",null,0,null,{"$error":"#NUM!"},{"$error":"#NUM!"},5438]
[{"$nulls":4},"","","","","",null,null,"",{"$nulls":6},5439,"",{"$f":"IF(A5441=0,IF(B5441=\"\",IF(B5440=0,\"\",SUM($AG$1:AG5440)-SUM($U$1:U5439)),\"\"),SUM($AG$1:AG5440)-SUM($U$1:U5439))","v":""},{"$nulls":5},0,{"$f":"IF(AJ5440=statistics!$D$3,AB5439+AH5440-AG5440,)","v":0},{"$f":"IF(AND(ROW(AC5440)>=statistics!$C$55,ROW(AC5440)<=statistics!$D$55),AC5439+AH5440-AG5440,)","v":0},{"$f":"IF(AND(statistics!$C$55<=ROW(A5440),ROW(A5440)<=statistics!$D$55)=TRUE,AH5440-AG5440+AA5439-INDEX(AA:AA,statistics!$C$55),\"\")","v":""},null,null,0,0,0,"",{"$f":"IF(statistics!$D$3<>0,IF(AJ5440=statistics!$D$3,AG5440,\"\"),IF(B5440<>\"\",AG5440,\"\"))","v":""},{"$f":"IF(statistics!$D$3<>0,IF(AJ5440=statistics!$D$3,IF(AH5440=0,\"\",AH5440),\"\"),IF(AH5440<>0,AH5440,\"\"))","v":""},{"$f":"IF(statistics!$D$3<>0,IF(AJ5440=statistics!$D$3,IF(A5440=0,\"\",1),\"\"),IF(A5440=0,\"\",1))","v":""},"","",null,"",{"$nulls":10},"",null,null,"",null,0,null,{"$error":"#NUM!"},{"$error":"#NUM!"},5439]
[{"$nulls":4},"",{"$f":"IF(A5441=0,\"\",IF(T5441=0,\"\",E5441/T5441))","v":""},"","","",null,null,"",{"$nulls":6},5440,"",{"$f":"IF(A5442=0,IF(B5442=\"\",IF(B5441=0,\"\",SUM($AG$1:AG5441)-SUM($U$1:U5440)),\"\"),SUM($AG$1:AG5441)-SUM($U$1:U5440))","v":""},{"$nulls":5},0,{"$f":"IF(AJ5441=statistics!$D$3,AB5440+AH5441-AG5441,)","v":0},{"$f":"IF(AND(ROW(AC5441)>=statistics!$C$55,ROW(AC5441)<=statistics!$D$55),AC5440+AH5441-AG5441,)","v":0},{"$f":"IF(AND(statistics!$C$55<=ROW(A5441),ROW(A5441)<=statistics!$D$55)=TRUE,AH5441-AG5441+AA5440-INDEX(AA:AA,statistics!$C$55),\"\")","v":""},null,null,0,0,0,"",{"$f":"IF(statistics!$D$3<>0,IF(AJ5441=statistics!$D$3,AG5441,\"\"),IF(B5441<>\"\",AG5441,\"\"))","v":""},{"$f":"IF(statistics!$D$3<>0,IF(AJ5441=statistics!$D$3,IF(AH5441=0,\"\",AH5441),\"\"),IF(AH5441<>0,AH5441,\"\"))","v":""},{"$f":"IF(statistics!$D$3<>0,IF(AJ5441=statistics!$D$3,IF(A5441=0,\"\",1),\"\"),IF(A5441=0,\"\",1))","v":""},"","",null,"",{"$nulls":10},"",null,null,"",null,0,null,{"$error":"#NUM!"},{"$error":"#NUM!"},5440]
[{"$nulls":4},"","","",{"$f":"IF(A5443=0,IF(B5443=\"\",IF(B5442=0,\"\",U5442),\"\"),U5442)","v":""},{"$f":"IF(A5443=0,IF(B5443=\"\",IF(B5442=0,\"\",S5442),\"\"),S5442)","v":""},null,null,"",{"$nulls":6},{"$f":"IF(A5442=0,S5441+1,1)","v":5441},"",{"$f":"IF(A5443=0,IF(B5443=\"\",IF(B5442=0,\"\",SUM($AG$1:AG5442)-SUM($U$1:U5441)),\"\"),SUM($AG$1:AG5442)-SUM($U$1:U5441))","v":""},{"$nulls":5},0,{"$f":"IF(AJ5442=statistics!$D$3,AB5441+AH5442-AG5442,)","v":0},{"$f":"IF(AND(ROW(AC5442)>=statistics!$C$55,ROW(AC5442)<=statistics!$D$55),AC5441+AH5442-AG5442,)","v":0},{"$f":"IF(AND(statistics!$C$55<=ROW(A5442),ROW(A5442)<=statistics!$D$55)=TRUE,AH5442-AG5442+AA5441-INDEX(AA:AA,statistics!$C$55),\"\")","v":""},null,null,0,0,0,"",{"$f":"IF(statistics!$D$3<>0,IF(AJ5442=statistics!$D$3,AG5442,\"\"),IF(B5442<>\"\",AG5442,\"\"))","v":""},{"$f":"IF(statistics!$D$3<>0,IF(AJ5442=statistics!$D$3,IF(AH5442=0,\"\",AH5442),\"\"),IF(AH5442<>0,AH5442,\"\"))","v":""},{"$f":"IF(statistics!$D$3<>0,IF(AJ5442=statistics!$D$3,IF(A5442=0,\"\",1),\"\"),IF(A5442=0,\"\",1))","v":""},"","",null,"",{"$nulls":10},"",null,null,"",null,0,null,{"$error":"#NUM!"},{"$error":"#NUM!"},5441]
[{"$nulls":4},"","","","","",null,null,{"$f":"IF(A5443=0,\"\",SUM(AI5443:AI15441)-SUM(L5444:L15441))","v":""},{"$nulls":6},5442,{"$f":"IF(A5443=0,\"\",SUM(AG5443:AG15441)-SUM(T5444:T15441))","v":""},{"$f":"IF(A5444=0,IF(B5444=\"\",IF(B5443=0,\"\",SUM($AG$1:AG5443)-SUM($U$1:U5442)),\"\"),SUM($AG$1:AG5443)-SUM($U$1:U5442))","v":""},{"$nulls":5},{"$f":"AA5442+AH5443-AG5443","v":0},{"$f":"IF(AJ5443=statistics!$D$3,AB5442+AH5443-AG5443,)","v":0},{"$f":"IF(AND(ROW(AC5443)>=statistics!$C$55,ROW(AC5443)<=statistics!$D$55),AC5442+AH5443-AG5443,)","v":0},{"$f":"IF(AND(statistics!$C$55<=ROW(A5443),ROW(A5443)<=statistics!$D$55)=TRUE,AH5443-AG5443+AA5442-INDEX(AA:AA,statistics!$C$55),\"\")","v":""},null,null,0,0,0,"",{"$f":"IF(statistics!$D$3<>0,IF(AJ5443=statistics!$D$3,AG5443,\"\"),IF(B5443<>\"\",AG5443,\"\"))","v":""},{"$f":"IF(statistics!$D$3<>0,IF(AJ5443=statistics!$D$3,IF(AH5443=0,\"\",AH5443),\"\"),IF(AH5443<>0,AH5443,\"\"))","v":""},{"$f":"IF(statistics!$D$3<>0,IF(AJ5443=statistics!$D$3,IF(A5443=0,\"\",1),\"\"),IF(A5443=0,\"\",1))","v":""},"","",null,"",{"$nulls":10},"",null,null,"",null,0,null,{"$error":"#NUM!"},{"$error":"#NUM!"},5442]
[{"$nulls":4},"","","","","",null,null,"",{"$nulls":6},5443,"",{"$f":"IF(A5445=0,IF(B5445=\"\",IF(B5444=0,\"\",SUM($AG$1:AG5444)-SUM($U$1:U5443)),\"\"),SUM($AG$1:AG5444)-SUM($U$1:U5443))","v":""},{"$nulls":5},0,{"$f":"IF(AJ5444=statistics!$D$3,AB5443+AH5444-AG5444,)","v":0},{"$f":"IF(AND(ROW(AC5444)>=statistics!$C$55,ROW(AC5444)<=statistics!$D$55),AC5443+AH5444-AG5444,)","v":0},{"$f":"IF(AND(statistics!$C$55<=ROW(A5444),ROW(A5444)<=statistics!$D$55)=TRUE,AH5444-AG5444+AA5443-INDEX(AA:AA,statistics!$C$55),\"\")","v":""},null,null,0,0,0,"",{"$f":"IF(statistics!$D$3<>0,IF(AJ5444=statistics!$D$3,AG5444,\"\"),IF(B5444<>\"\",AG5444,\"\"))","v":""},{"$f":"IF(statistics!$D$3<>0,IF(AJ5444=statistics!$D$3,IF(AH5444=0,\"\",AH5444),\"\"),IF(AH5444<>0,AH5444,\"\"))","v":""},{"$f":"IF(statistics!$D$3<>0,IF(AJ5444=statistics!$D$3,IF(A5444=0,\"\",1),\"\"),IF(A5444=0,\"\",1))","v":""},"",{"$f":"IF(A5444<>0,IF(MONTH(A5444)=AJ5443,\"\",MONTH(A5444)),\"\")","v":""},null,"",{"$nulls":10},"",null,null,"",null,0,null,{"$error":"#NUM!"},{"$error":"#NUM!"},5443]
[{"$nulls":4},"","","","","",null,null,"",{"$nulls":6},5444,"",{"$f":"IF(A5446=0,IF(B5446=\"\",IF(B5445=0,\"\",SUM($AG$1:AG5445)-SUM($U$1:U5444)),\"\"),SUM($AG$1:AG5445)-SUM($U$1:U5444))","v":""},{"$nulls":5},0,{"$f":"IF(AJ5445=statistics!$D$3,AB5444+AH5445-AG5445,)","v":0},{"$f":"IF(AND(ROW(AC5445)>=statistics!$C$55,ROW(AC5445)<=statistics!$D$55),AC5444+AH5445-AG5445,)","v":0},{"$f":"IF(AND(statistics!$C$55<=ROW(A5445),ROW(A5445)<=statistics!$D$55)=TRUE,AH5445-AG5445+AA5444-INDEX(AA:AA,statistics!$C$55),\"\")","v":""},null,null,0,0,0,"",{"$f":"IF(statistics!$D$3<>0,IF(AJ5445=statistics!$D$3,AG5445,\"\"),IF(B5445<>\"\",AG5445,\"\"))","v":""},{"$f":"IF(statistics!$D$3<>0,IF(AJ5445=statistics!$D$3,IF(AH5445=0,\"\",AH5445),\"\"),IF(AH5445<>0,AH5445,\"\"))","v":""},{"$f":"IF(statistics!$D$3<>0,IF(AJ5445=statistics!$D$3,IF(A5445=0,\"\",1),\"\"),IF(A5445=0,\"\",1))","v":""},"","",null,"",{"$nulls":10},"",null,null,"",null,0,null,{"$error":"#NUM!"},{"$error":"#NUM!"},5444]
[{"$nulls":4},"","","","","",null,null,"",{"$nulls":6},5445,"",{"$f":"IF(A5447=0,IF(B5447=\"\",IF(B5446=0,\"\",SUM($AG$1:AG5446)-SUM($U$1:U5445)),\"\"),SUM($AG$1:AG5446)-SUM($U$1:U5445))","v":""},{"$nulls":5},0,{"$f":"IF(AJ5446=statistics!$D$3,AB5445+AH5446-AG5446,)","v":0},{"$f":"IF(AND(ROW(AC5446)>=statistics!$C$55,ROW(AC5446)<=statistics!$D$55),AC5445+AH5446-AG5446,)","v":0},{"$f":"IF(AND(statistics!$C$55<=ROW(A5446),ROW(A5446)<=statistics!$D$55)=TRUE,AH5446-AG5446+AA5445-INDEX(AA:AA,statistics!$C$55),\"\")","v":""},null,null,{"$f":"IF(J5446=0,B5446+C5446,(B5446+C5446)-(B5446+C5446)*J5446*K5446)","v":0},{"$f":"IF(J5446=0,D5446,D5446*(1-J5446))","v":0},{"$f":"IF(J5446=0,,D5446*J5446)","v":0},{"$f":"IF(A5446<>0,MONTH(A5446),IF(B5446=\"\",\"\",AJ5445))","v":""},{"$f":"IF(statistics!$D$3<>0,IF(AJ5446=statistics!$D$3,AG5446,\"\"),IF(B5446<>\"\",AG5446,\"\"))","v":""},{"$f":"IF(statistics!$D$3<>0,IF(AJ5446=statistics!$D$3,IF(AH5446=0,\"\",AH5446),\"\"),IF(AH5446<>0,AH5446,\"\"))","v":""},{"$f":"IF(statistics!$D$3<>0,IF(AJ5446=statistics!$D$3,IF(A5446=0,\"\",1),\"\"),IF(A5446=0,\"\",1))","v":""},{"$f":"IF(AK5446<>\"\",IF(AK5445=0,ROW(AK5446),ROW(AK5446)),\"\")","v":""},"",null,{"$f":"IF(B5446=0,\"\",IF(D5446=0,IF(D5445=0,AQ5445+1,1),\"\"))","v":""},{"$nulls":10},{"$f":"IF(B5446=$BA$2,ROW(),\"\")","v":""},null,null,{"$f":"IF(B5446=$BA$2,INDEX(D:D,SMALL(BB:BB,CELL(\"содержимое\",BG5446)))-INDEX(B:B,SMALL(BB:BB,CELL(\"содержимое\",BG5446)))-INDEX(C:C,SMALL(BB:BB,CELL(\"содержимое\",BG5446))),\"\")","v":""},null,{"$f":"IF($BA$2=B5446,BG5445+1,BG5445)","v":0},null,{"$f":"INDEX(BE:BE,SMALL(BB:BB,CELL(\"содержимое\",BK5446)))","v":{"$error":"#NUM!"}},{"$f":"BJ5445+BI5446","v":{"$error":"#NUM!"}},{"$f":"BK5445+1","v":5445}]
[{"$nulls":4},"","","","","",null,null,"",{"$nulls":6},5446,"",{"$f":"IF(A5448=0,IF(B5448=\"\",IF(B5447=0,\"\",SUM($AG$1:AG5447)-SUM($U$1:U5446)),\"\"),SUM($AG$1:AG5447)-SUM($U$1:U5446))","v":""},{"$nulls":5},0,{"$f":"IF(AJ5447=statistics!$D$3,AB5446+AH5447-AG5447,)","v":0},{"$f":"IF(AND(ROW(AC5447)>=statistics!$C$55,ROW(AC5447)<=statistics!$D$55),AC5446+AH5447-AG5447,)","v":0},{"$f":"IF(AND(statistics!$C$55<=ROW(A5447),ROW(A5447)<=statistics!$D$55)=TRUE,AH5447-AG5447+AA5446-INDEX(AA:AA,statistics!$C$55),\"\")","v":""},null,null,0,0,0,"",{"$f":"IF(statistics!$D$3<>0,IF(AJ5447=statistics!$D$3,AG5447,\"\"),IF(B5447<>\"\",AG5447,\"\"))","v":""},{"$f":"IF(statistics!$D$3<>0,IF(AJ5447=statistics!$D$3,IF(AH5447=0,\"\",AH5447),\"\"),IF(AH5447<>0,AH5447,\"\"))","v":""},{"$f":"IF(statistics!$D$3<>0,IF(AJ5447=statistics!$D$3,IF(A5447=0,\"\",1),\"\"),IF(A5447=0,\"\",1))","v":""},"","",null,"",{"$nulls":10},"",null,null,"",null,0,null,{"$error":"#NUM!"},{"$error":"#NUM!"},5446]
[{"$nulls":4},"","","","","",null,null,"",{"$nulls":6},5447,"",{"$f":"IF(A5449=0,IF(B5449=\"\",IF(B5448=0,\"\",SUM($AG$1:AG5448)-SUM($U$1:U5447)),\"\"),SUM($AG$1:AG5448)-SUM($U$1:U5447))","v":""},{"$nulls":5},0,{"$f":"IF(AJ5448=statistics!$D$3,AB5447+AH5448-AG5448,)","v":0},{"$f":"IF(AND(ROW(AC5448)>=statistics!$C$55,ROW(AC5448)<=statistics!$D$55),AC5447+AH5448-AG5448,)","v":0},{"$f":"IF(AND(statistics!$C$55<=ROW(A5448),ROW(A5448)<=statistics!$D$55)=TRUE,AH5448-AG5448+AA5447-INDEX(AA:AA,statistics!$C$55),\"\")","v":""},null,null,0,0,0,"",{"$f":"IF(statistics!$D$3<>0,IF(AJ5448=statistics!$D$3,AG5448,\"\"),IF(B5448<>\"\",AG5448,\"\"))","v":""},{"$f":"IF(statistics!$D$3<>0,IF(AJ5448=statistics!$D$3,IF(AH5448=0,\"\",AH5448),\"\"),IF(AH5448<>0,AH5448,\"\"))","v":""},{"$f":"IF(statistics!$D$3<>0,IF(AJ5448=statistics!$D$3,IF(A5448=0,\"\",1),\"\"),IF(A5448=0,\"\",1))","v":""},"","",null,"",{"$nulls":10},"",null,null,"",null,0,null,{"$error":"#NUM!"},{"$error":"#NUM!"},5447]
[{"$nulls":4},"","","","","",null,null,"",{"$nulls":6},5448,"",{"$f":"IF(A5450=0,IF(B5450=\"\",IF(B5449=0,\"\",SUM($AG$1:AG5449)-SUM($U$1:U5448)),\"\"),SUM($AG$1:AG5449)-SUM($U$1:U5448))","v":""},{"$nulls":5},0,{"$f":"IF(AJ5449=statistics!$D$3,AB5448+AH5449-AG5449,)","v":0},{"$f":"IF(AND(ROW(AC5449)>=statistics!$C$55,ROW(AC5449)<=statistics!$D$55),AC5448+AH5449-AG5449,)","v":0},{"$f":"IF(AND(statistics!$C$55<=ROW(A5449),ROW(A5449)<=statistics!$D$55)=TRUE,AH5449-AG5449+AA5448-INDEX(AA:AA,statistics!$C$55),\"\")","v":""},null,null,0,0,0,"",{"$f":"IF(statistics!$D$3<>0,IF(AJ5449=statistics!$D$3,AG5449,\"\"),IF(B5449<>\"\",AG5449,\"\"))","v":""},{"$f":"IF(statistics!$D$3<>0,IF(AJ5449=statistics!$D$3,IF(AH5449=0,\"\",AH5449),\"\"),IF(AH5449<>0,AH5449,\"\"))","v":""},{"$f":"IF(statistics!$D$3<>0,IF(AJ5449=statistics!$D$3,IF(A5449=0,\"\",1),\"\"),IF(A5449=0,\"\",1))","v":""},"","",null,"",{"$nulls":10},"",null,null,"",null,0,null,{"$error":"#NUM!"},{"$error":"#NUM!"},5448]
[{"$nulls":4},"","","","","",null,null,"",{"$nulls":6},5449,"",{"$f":"IF(A5451=0,IF(B5451=\"\",IF(B5450=0,\"\",SUM($AG$1:AG5450)-SUM($U$1:U5449)),\"\"),SUM($AG$1:AG5450)-SUM($U$1:U5449))","v":""},{"$nulls":5},0,{"$f":"IF(AJ5450=statistics!$D$3,AB5449+AH5450-AG5450,)","v":0},{"$f":"IF(AND(ROW(AC5450)>=statistics!$C$55,ROW(AC5450)<=statistics!$D$55),AC5449+AH5450-AG5450,)","v":0},{"$f":"IF(AND(statistics!$C$55<=ROW(A5450),ROW(A5450)<=statistics!$D$55)=TRUE,AH5450-AG5450+AA5449-INDEX(AA:AA,statistics!$C$55),\"\")","v":""},null,null,0,0,0,"",{"$f":"IF(statistics!$D$3<>0,IF(AJ5450=statistics!$D$3,AG5450,\"\"),IF(B5450<>\"\",AG5450,\"\"))","v":""},{"$f":"IF(statistics!$D$3<>0,IF(AJ5450=statistics!$D$3,IF(AH5450=0,\"\",AH5450),\"\"),IF(AH5450<>0,AH5450,\"\"))","v":""},{"$f":"IF(statistics!$D$3<>0,IF(AJ5450=statistics!$D$3,IF(A5450=0,\"\",1),\"\"),IF(A5450=0,\"\",1))","v":""},"","",null,"",{"$nulls":10},"",null,null,"",null,0,null,{"$error":"#NUM!"},{"$error":"#NUM!"},5449]
[{"$nulls":4},"","","","","",null,null,"",{"$nulls":6},5450,"",{"$f":"IF(A5452=0,IF(B5452=\"\",IF(B5451=0,\"\",SUM($AG$1:AG5451)-SUM($U$1:U5450)),\"\"),SUM($AG$1:AG5451)-SUM($U$1:U5450))","v":""},{"$nulls":5},0,{"$f":"IF(AJ5451=statistics!$D$3,AB5450+AH5451-AG5451,)","v":0},{"$f":"IF(AND(ROW(AC5451)>=statistics!$C$55,ROW(AC5451)<=statistics!$D$55),AC5450+AH5451-AG5451,)","v":0},{"$f":"IF(AND(statistics!$C$55<=ROW(A5451),ROW(A5451)<=statistics!$D$55)=TRUE,AH5451-AG5451+AA5450-INDEX(AA:AA,statistics!$C$55),\"\")","v":""},null,null,0,0,0,"",{"$f":"IF(statistics!$D$3<>0,IF(AJ5451=statistics!$D$3,AG5451,\"\"),IF(B5451<>\"\",AG5451,\"\"))","v":""},{"$f":"IF(statistics!$D$3<>0,IF(AJ5451=statistics!$D$3,IF(AH5451=0,\"\",AH5451),\"\"),IF(AH5451<>0,AH5451,\"\"))","v":""},{"$f":"IF(statistics!$D$3<>0,IF(AJ5451=statistics!$D$3,IF(A5451=0,\"\",1),\"\"),IF(A5451=0,\"\",1))","v":""},"","",null,"",{"$nulls":10},"",null,null,"",null,0,null,{"$error":"#NUM!"},{"$error":"#NUM!"},5450]
[{"$nulls":4},{"$f":"IF(A5452=0,\"\",SUM(AH5452:AH15450)-SUM(AG5452:AG15450)-SUM(E5453:E15450))","v":""},"","","","",null,null,"",{"$nulls":6},5451,"",{"$f":"IF(A5453=0,IF(B5453=\"\",IF(B5452=0,\"\",SUM($AG$1:AG5452)-SUM($U$1:U5451)),\"\"),SUM($AG$1:AG5452)-SUM($U$1:U5451))","v":""},{"$nulls":5},0,{"$f":"IF(AJ5452=statistics!$D$3,AB5451+AH5452-AG5452,)","v":0},{"$f":"IF(AND(ROW(AC5452)>=statistics!$C$55,ROW(AC5452)<=statistics!$D$55),AC5451+AH5452-AG5452,)","v":0},{"$f":"IF(AND(statistics!$C$55<=ROW(A5452),ROW(A5452)<=statistics!$D$55)=TRUE,AH5452-AG5452+AA5451-INDEX(AA:AA,statistics!$C$55),\"\")","v":""},null,null,0,0,0,"",{"$f":"IF(statistics!$D$3<>0,IF(AJ5452=statistics!$D$3,AG5452,\"\"),IF(B5452<>\"\",AG5452,\"\"))","v":""},{"$f":"IF(statistics!$D$3<>0,IF(AJ5452=statistics!$D$3,IF(AH5452=0,\"\",AH5452),\"\"),IF(AH5452<>0,AH5452,\"\"))","v":""},{"$f":"IF(statistics!$D$3<>0,IF(AJ5452=statistics!$D$3,IF(A5452=0,\"\",1),\"\"),IF(A5452=0,\"\",1))","v":""},"","",null,"",{"$nulls":10},"",null,null,"",null,0,null,{"$error":"#NUM!"},{"$error":"#NUM!"},5451]
[{"$nulls":4},"","","","","",null,null,"",{"$nulls":6},5452,"",{"$f":"IF(A5454=0,IF(B5454=\"\",IF(B5453=0,\"\",SUM($AG$1:AG5453)-SUM($U$1:U5452)),\"\"),SUM($AG$1:AG5453)-SUM($U$1:U5452))","v":""},{"$nulls":5},0,{"$f":"IF(AJ5453=statistics!$D$3,AB5452+AH5453-AG5453,)","v":0},{"$f":"IF(AND(ROW(AC5453)>=statistics!$C$55,ROW(AC5453)<=statistics!$D$55),AC5452+AH5453-AG5453,)","v":0},{"$f":"IF(AND(statistics!$C$55<=ROW(A5453),ROW(A5453)<=statistics!$D$55)=TRUE,AH5453-AG5453+AA5452-INDEX(AA:AA,statistics!$C$55),\"\")","v":""},null,null,0,0,0,"",{"$f":"IF(statistics!$D$3<>0,IF(AJ5453=statistics!$D$3,AG5453,\"\"),IF(B5453<>\"\",AG5453,\"\"))","v":""},{"$f":"IF(statistics!$D$3<>0,IF(AJ5453=statistics!$D$3,IF(AH5453=0,\"\",AH5453),\"\"),IF(AH5453<>0,AH5453,\"\"))","v":""},{"$f":"IF(statistics!$D$3<>0,IF(AJ5453=statistics!$D$3,IF(A5453=0,\"\",1),\"\"),IF(A5453=0,\"\",1))","v":""},"","",null,"",{"$nulls":10},"",null,null,"",null,0,null,{"$error":"#NUM!"},{"$error":"#NUM!"},5452]
[{"$nulls":4},"","","","","",null,null,"",{"$nulls":6},5453,"",{"$f":"IF(A5455=0,IF(B5455=\"\",IF(B5454=0,\"\",SUM($AG$1:AG5454)-SUM($U$1:U5453)),\"\"),SUM($AG$1:AG5454)-SUM($U$1:U5453))","v":""},{"$nulls":5},0,{"$f":"IF(AJ5454=statistics!$D$3,AB5453+AH5454-AG5454,)","v":0},{"$f":"IF(AND(ROW(AC5454)>=statistics!$C$55,ROW(AC5454)<=statistics!$D$55),AC5453+AH5454-AG5454,)","v":0},{"$f":"IF(AND(statistics!$C$55<=ROW(A5454),ROW(A5454)<=statistics!$D$55)=TRUE,AH5454-AG5454+AA5453-INDEX(AA:AA,statistics!$C$55),\"\")","v":""},null,null,0,0,0,"",{"$f":"IF(statistics!$D$3<>0,IF(AJ5454=statistics!$D$3,AG5454,\"\"),IF(B5454<>\"\",AG5454,\"\"))","v":""},{"$f":"IF(statistics!$D$3<>0,IF(AJ5454=statistics!$D$3,IF(AH5454=0,\"\",AH5454),\"\"),IF(AH5454<>0,AH5454,\"\"))","v":""},{"$f":"IF(statistics!$D$3<>0,IF(AJ5454=statistics!$D$3,IF(A5454=0,\"\",1),\"\"),IF(A5454=0,\"\",1))","v":""},"","",null,"",{"$nulls":10},"",null,null,"",null,0,null,{"$error":"#NUM!"},{"$error":"#NUM!"},5453]
[{"$nulls":4},"","","","","",null,null,"",{"$nulls":6},5454,"",{"$f":"IF(A5456=0,IF(B5456=\"\",IF(B5455=0,\"\",SUM($AG$1:AG5455)-SUM($U$1:U5454)),\"\"),SUM($AG$1:AG5455)-SUM($U$1:U5454))","v":""},{"$nulls":5},0,{"$f":"IF(AJ5455=statistics!$D$3,AB5454+AH5455-AG5455,)","v":0},{"$f":"IF(AND(ROW(AC5455)>=statistics!$C$55,ROW(AC5455)<=statistics!$D$55),AC5454+AH5455-AG5455,)","v":0},{"$f":"IF(AND(statistics!$C$55<=ROW(A5455),ROW(A5455)<=statistics!$D$55)=TRUE,AH5455-AG5455+AA5454-INDEX(AA:AA,statistics!$C$55),\"\")","v":""},null,null,0,0,0,"",{"$f":"IF(statistics!$D$3<>0,IF(AJ5455=statistics!$D$3,AG5455,\"\"),IF(B5455<>\"\",AG5455,\"\"))","v":""},{"$f":"IF(statistics!$D$3<>0,IF(AJ5455=statistics!$D$3,IF(AH5455=0,\"\",AH5455),\"\"),IF(AH5455<>0,AH5455,\"\"))","v":""},{"$f":"IF(statistics!$D$3<>0,IF(AJ5455=statistics!$D$3,IF(A5455=0,\"\",1),\"\"),IF(A5455=0,\"\",1))","v":""},"","",null,"",{"$nulls":10},"",null,null,"",null,0,null,{"$error":"#NUM!"},{"$error":"#NUM!"},5454]
[{"$nulls":4},"","","","","",null,null,"",{"$nulls":6},5455,"",{"$f":"IF(A5457=0,IF(B5457=\"\",IF(B5456=0,\"\",SUM($AG$1:AG5456)-SUM($U$1:U5455)),\"\"),SUM($AG$1:AG5456)-SUM($U$1:U5455))","v":""},{"$nulls":5},0,{"$f":"IF(AJ5456=statistics!$D$3,AB5455+AH5456-AG5456,)","v":0},{"$f":"IF(AND(ROW(AC5456)>=statistics!$C$55,ROW(AC5456)<=statistics!$D$55),AC5455+AH5456-AG5456,)","v":0},{"$f":"IF(AND(statistics!$C$55<=ROW(A5456),ROW(A5456)<=statistics!$D$55)=TRUE,AH5456-AG5456+AA5455-INDEX(AA:AA,statistics!$C$55),\"\")","v":""},null,null,0,0,0,"",{"$f":"IF(statistics!$D$3<>0,IF(AJ5456=statistics!$D$3,AG5456,\"\"),IF(B5456<>\"\",AG5456,\"\"))","v":""},{"$f":"IF(statistics!$D$3<>0,IF(AJ5456=statistics!$D$3,IF(AH5456=0,\"\",AH5456),\"\"),IF(AH5456<>0,AH5456,\"\"))","v":""},{"$f":"IF(statistics!$D$3<>0,IF(AJ5456=statistics!$D$3,IF(A5456=0,\"\",1),\"\"),IF(A5456=0,\"\",1))","v":""},"","",null,"",{"$nulls":10},"",null,null,"",null,0,null,{"$error":"#NUM!"},{"$error":"#NUM!"},5455]
[{"$nulls":4},"","",{"$f":"IF(A5458=0,IF(B5458=\"\",IF(B5457=0,\"\",U5457/S5457),\"\"),U5457/S5457)","v":""},"","",null,null,"",{"$nulls":6},5456,"",{"$f":"IF(A5458=0,IF(B5458=\"\",IF(B5457=0,\"\",SUM($AG$1:AG5457)-SUM($U$1:U5456)),\"\"),SUM($AG$1:AG5457)-SUM($U$1:U5456))","v":""},{"$nulls":5},0,{"$f":"IF(AJ5457=statistics!$D$3,AB5456+AH5457-AG5457,)","v":0},{"$f":"IF(AND(ROW(AC5457)>=statistics!$C$55,ROW(AC5457)<=statistics!$D$55),AC5456+AH5457-AG5457,)","v":0},{"$f":"IF(AND(statistics!$C$55<=ROW(A5457),ROW(A5457)<=statistics!$D$55)=TRUE,AH5457-AG5457+AA5456-INDEX(AA:AA,statistics!$C$55),\"\")","v":""},null,null,0,0,0,"",{"$f":"IF(statistics!$D$3<>0,IF(AJ5457=statistics!$D$3,AG5457,\"\"),IF(B5457<>\"\",AG5457,\"\"))","v":""},{"$f":"IF(statistics!$D$3<>0,IF(AJ5457=statistics!$D$3,IF(AH5457=0,\"\",AH5457),\"\"),IF(AH5457<>0,AH5457,\"\"))","v":""},{"$f":"IF(statistics!$D$3<>0,IF(AJ5457=statistics!$D$3,IF(A5457=0,\"\",1),\"\"),IF(A5457=0,\"\",1))","v":""},"","",null,"",{"$nulls":10},"",null,null,"",null,0,null,{"$error":"#NUM!"},{"$error":"#NUM!"},5456]
[{"$nulls":4},"","","","","",null,null,"",{"$nulls":6},5457,"",{"$f":"IF(A5459=0,IF(B5459=\"\",IF(B5458=0,\"\",SUM($AG$1:AG5458)-SUM($U$1:U5457)),\"\"),SUM($AG$1:AG5458)-SUM($U$1:U5457))","v":""},{"$nulls":5},0,{"$f":"IF(AJ5458=statistics!$D$3,AB5457+AH5458-AG5458,)","v":0},{"$f":"IF(AND(ROW(AC5458)>=statistics!$C$55,ROW(AC5458)<=statistics!$D$55),AC5457+AH5458-AG5458,)","v":0},{"$f":"IF(AND(statistics!$C$55<=ROW(A5458),ROW(A5458)<=statistics!$D$55)=TRUE,AH5458-AG5458+AA5457-INDEX(AA:AA,statistics!$C$55),\"\")","v":""},null,null,0,0,0,"",{"$f":"IF(statistics!$D$3<>0,IF(AJ5458=statistics!$D$3,AG5458,\"\"),IF(B5458<>\"\",AG5458,\"\"))","v":""},{"$f":"IF(statistics!$D$3<>0,IF(AJ5458=statistics!$D$3,IF(AH5458=0,\"\",AH5458),\"\"),IF(AH5458<>0,AH5458,\"\"))","v":""},{"$f":"IF(statistics!$D$3<>0,IF(AJ5458=statistics!$D$3,IF(A5458=0,\"\",1),\"\"),IF(A5458=0,\"\",1))","v":""},"","",null,"",{"$nulls":10},"",null,null,"",null,0,null,{"$error":"#NUM!"},{"$error":"#NUM!"},5457]
[{"$nulls":4},"","","","","",null,null,"",{"$nulls":6},5458,"",{"$f":"IF(A5460=0,IF(B5460=\"\",IF(B5459=0,\"\",SUM($AG$1:AG5459)-SUM($U$1:U5458)),\"\"),SUM($AG$1:AG5459)-SUM($U$1:U5458))","v":""},{"$nulls":5},0,{"$f":"IF(AJ5459=statistics!$D$3,AB5458+AH5459-AG5459,)","v":0},{"$f":"IF(AND(ROW(AC5459)>=statistics!$C$55,ROW(AC5459)<=statistics!$D$55),AC5458+AH5459-AG5459,)","v":0},{"$f":"IF(AND(statistics!$C$55<=ROW(A5459),ROW(A5459)<=statistics!$D$55)=TRUE,AH5459-AG5459+AA5458-INDEX(AA:AA,statistics!$C$55),\"\")","v":""},null,null,0,0,0,"",{"$f":"IF(statistics!$D$3<>0,IF(AJ5459=statistics!$D$3,AG5459,\"\"),IF(B5459<>\"\",AG5459,\"\"))","v":""},{"$f":"IF(statistics!$D$3<>0,IF(AJ5459=statistics!$D$3,IF(AH5459=0,\"\",AH5459),\"\"),IF(AH5459<>0,AH5459,\"\"))","v":""},{"$f":"IF(statistics!$D$3<>0,IF(AJ5459=statistics!$D$3,IF(A5459=0,\"\",1),\"\"),IF(A5459=0,\"\",1))","v":""},"","",null,"",{"$nulls":10},"",null,null,"",null,0,null,{"$error":"#NUM!"},{"$error":"#NUM!"},5458]
[{"$nulls":4},"","","","","",null,null,"",{"$nulls":6},5459,"",{"$f":"IF(A5461=0,IF(B5461=\"\",IF(B5460=0,\"\",SUM($AG$1:AG5460)-SUM($U$1:U5459)),\"\"),SUM($AG$1:AG5460)-SUM($U$1:U5459))","v":""},{"$nulls":5},0,{"$f":"IF(AJ5460=statistics!$D$3,AB5459+AH5460-AG5460,)","v":0},{"$f":"IF(AND(ROW(AC5460)>=statistics!$C$55,ROW(AC5460)<=statistics!$D$55),AC5459+AH5460-AG5460,)","v":0},{"$f":"IF(AND(statistics!$C$55<=ROW(A5460),ROW(A5460)<=statistics!$D$55)=TRUE,AH5460-AG5460+AA5459-INDEX(AA:AA,statistics!$C$55),\"\")","v":""},null,null,0,0,0,"",{"$f":"IF(statistics!$D$3<>0,IF(AJ5460=statistics!$D$3,AG5460,\"\"),IF(B5460<>\"\",AG5460,\"\"))","v":""},{"$f":"IF(statistics!$D$3<>0,IF(AJ5460=statistics!$D$3,IF(AH5460=0,\"\",AH5460),\"\"),IF(AH5460<>0,AH5460,\"\"))","v":""},{"$f":"IF(statistics!$D$3<>0,IF(AJ5460=statistics!$D$3,IF(A5460=0,\"\",1),\"\"),IF(A5460=0,\"\",1))","v":""},"","",null,"",{"$nulls":10},"",null,null,"",null,0,null,{"$error":"#NUM!"},{"$error":"#NUM!"},5459]
[{"$nulls":4},"","","","","",null,null,"",{"$nulls":6},5460,"",{"$f":"IF(A5462=0,IF(B5462=\"\",IF(B5461=0,\"\",SUM($AG$1:AG5461)-SUM($U$1:U5460)),\"\"),SUM($AG$1:AG5461)-SUM($U$1:U5460))","v":""},{"$nulls":5},0,{"$f":"IF(AJ5461=statistics!$D$3,AB5460+AH5461-AG5461,)","v":0},{"$f":"IF(AND(ROW(AC5461)>=statistics!$C$55,ROW(AC5461)<=statistics!$D$55),AC5460+AH5461-AG5461,)","v":0},{"$f":"IF(AND(statistics!$C$55<=ROW(A5461),ROW(A5461)<=statistics!$D$55)=TRUE,AH5461-AG5461+AA5460-INDEX(AA:AA,statistics!$C$55),\"\")","v":""},null,null,0,0,0,"",{"$f":"IF(statistics!$D$3<>0,IF(AJ5461=statistics!$D$3,AG5461,\"\"),IF(B5461<>\"\",AG5461,\"\"))","v":""},{"$f":"IF(statistics!$D$3<>0,IF(AJ5461=statistics!$D$3,IF(AH5461=0,\"\",AH5461),\"\"),IF(AH5461<>0,AH5461,\"\"))","v":""},{"$f":"IF(statistics!$D$3<>0,IF(AJ5461=statistics!$D$3,IF(A5461=0,\"\",1),\"\"),IF(A5461=0,\"\",1))","v":""},"","",null,"",{"$nulls":10},"",null,null,"",null,0,null,{"$error":"#NUM!"},{"$error":"#NUM!"},5460]
[{"$nulls":4},"","","","","",null,null,"",{"$nulls":6},5461,"",{"$f":"IF(A5463=0,IF(B5463=\"\",IF(B5462=0,\"\",SUM($AG$1:AG5462)-SUM($U$1:U5461)),\"\"),SUM($AG$1:AG5462)-SUM($U$1:U5461))","v":""},{"$nulls":5},0,{"$f":"IF(AJ5462=statistics!$D$3,AB5461+AH5462-AG5462,)","v":0},{"$f":"IF(AND(ROW(AC5462)>=statistics!$C$55,ROW(AC5462)<=statistics!$D$55),AC5461+AH5462-AG5462,)","v":0},{"$f":"IF(AND(statistics!$C$55<=ROW(A5462),ROW(A5462)<=statistics!$D$55)=TRUE,AH5462-AG5462+AA5461-INDEX(AA:AA,statistics!$C$55),\"\")","v":""},null,null,0,0,0,"",{"$f":"IF(statistics!$D$3<>0,IF(AJ5462=statistics!$D$3,AG5462,\"\"),IF(B5462<>\"\",AG5462,\"\"))","v":""},{"$f":"IF(statistics!$D$3<>0,IF(AJ5462=statistics!$D$3,IF(AH5462=0,\"\",AH5462),\"\"),IF(AH5462<>0,AH5462,\"\"))","v":""},{"$f":"IF(statistics!$D$3<>0,IF(AJ5462=statistics!$D$3,IF(A5462=0,\"\",1),\"\"),IF(A5462=0,\"\",1))","v":""},"","",null,"",{"$nulls":10},"",null,null,"",null,0,null,{"$error":"#NUM!"},{"$error":"#NUM!"},5461]
[{"$nulls":4},"","","","","",null,null,"",{"$nulls":6},5462,"",{"$f":"IF(A5464=0,IF(B5464=\"\",IF(B5463=0,\"\",SUM($AG$1:AG5463)-SUM($U$1:U5462)),\"\"),SUM($AG$1:AG5463)-SUM($U$1:U5462))","v":""},{"$nulls":5},0,{"$f":"IF(AJ5463=statistics!$D$3,AB5462+AH5463-AG5463,)","v":0},{"$f":"IF(AND(ROW(AC5463)>=statistics!$C$55,ROW(AC5463)<=statistics!$D$55),AC5462+AH5463-AG5463,)","v":0},{"$f":"IF(AND(statistics!$C$55<=ROW(A5463),ROW(A5463)<=statistics!$D$55)=TRUE,AH5463-AG5463+AA5462-INDEX(AA:AA,statistics!$C$55),\"\")","v":""},null,null,0,0,0,"",{"$f":"IF(statistics!$D$3<>0,IF(AJ5463=statistics!$D$3,AG5463,\"\"),IF(B5463<>\"\",AG5463,\"\"))","v":""},{"$f":"IF(statistics!$D$3<>0,IF(AJ5463=statistics!$D$3,IF(AH5463=0,\"\",AH5463),\"\"),IF(AH5463<>0,AH5463,\"\"))","v":""},{"$f":"IF(statistics!$D$3<>0,IF(AJ5463=statistics!$D$3,IF(A5463=0,\"\",1),\"\"),IF(A5463=0,\"\",1))","v":""},"","",null,"",{"$nulls":10},"",null,null,"",null,0,null,{"$error":"#NUM!"},{"$error":"#NUM!"},5462]
[{"$nulls":4},"","","","","",null,null,"",{"$nulls":6},5463,"",{"$f":"IF(A5465=0,IF(B5465=\"\",IF(B5464=0,\"\",SUM($AG$1:AG5464)-SUM($U$1:U5463)),\"\"),SUM($AG$1:AG5464)-SUM($U$1:U5463))","v":""},{"$nulls":5},0,{"$f":"IF(AJ5464=statistics!$D$3,AB5463+AH5464-AG5464,)","v":0},{"$f":"IF(AND(ROW(AC5464)>=statistics!$C$55,ROW(AC5464)<=statistics!$D$55),AC5463+AH5464-AG5464,)","v":0},{"$f":"IF(AND(statistics!$C$55<=ROW(A5464),ROW(A5464)<=statistics!$D$55)=TRUE,AH5464-AG5464+AA5463-INDEX(AA:AA,statistics!$C$55),\"\")","v":""},null,null,0,0,0,"",{"$f":"IF(statistics!$D$3<>0,IF(AJ5464=statistics!$D$3,AG5464,\"\"),IF(B5464<>\"\",AG5464,\"\"))","v":""},{"$f":"IF(statistics!$D$3<>0,IF(AJ5464=statistics!$D$3,IF(AH5464=0,\"\",AH5464),\"\"),IF(AH5464<>0,AH5464,\"\"))","v":""},{"$f":"IF(statistics!$D$3<>0,IF(AJ5464=statistics!$D$3,IF(A5464=0,\"\",1),\"\"),IF(A5464=0,\"\",1))","v":""},"","",null,"",{"$nulls":10},"",null,null,"",null,0,null,{"$error":"#NUM!"},{"$error":"#NUM!"},5463]
[{"$nulls":4},"","","","","",null,null,"",{"$nulls":6},5464,"",{"$f":"IF(A5466=0,IF(B5466=\"\",IF(B5465=0,\"\",SUM($AG$1:AG5465)-SUM($U$1:U5464)),\"\"),SUM($AG$1:AG5465)-SUM($U$1:U5464))","v":""},{"$nulls":5},0,{"$f":"IF(AJ5465=statistics!$D$3,AB5464+AH5465-AG5465,)","v":0},{"$f":"IF(AND(ROW(AC5465)>=statistics!$C$55,ROW(AC5465)<=statistics!$D$55),AC5464+AH5465-AG5465,)","v":0},{"$f":"IF(AND(statistics!$C$55<=ROW(A5465),ROW(A5465)<=statistics!$D$55)=TRUE,AH5465-AG5465+AA5464-INDEX(AA:AA,statistics!$C$55),\"\")","v":""},null,null,0,0,0,"",{"$f":"IF(statistics!$D$3<>0,IF(AJ5465=statistics!$D$3,AG5465,\"\"),IF(B5465<>\"\",AG5465,\"\"))","v":""},{"$f":"IF(statistics!$D$3<>0,IF(AJ5465=statistics!$D$3,IF(AH5465=0,\"\",AH5465),\"\"),IF(AH5465<>0,AH5465,\"\"))","v":""},{"$f":"IF(statistics!$D$3<>0,IF(AJ5465=statistics!$D$3,IF(A5465=0,\"\",1),\"\"),IF(A5465=0,\"\",1))","v":""},"","",null,"",{"$nulls":10},"",null,null,"",null,0,null,{"$error":"#NUM!"},{"$error":"#NUM!"},5464]
[{"$nulls":4},"","","","","",null,null,"",{"$nulls":6},5465,"",{"$f":"IF(A5467=0,IF(B5467=\"\",IF(B5466=0,\"\",SUM($AG$1:AG5466)-SUM($U$1:U5465)),\"\"),SUM($AG$1:AG5466)-SUM($U$1:U5465))","v":""},{"$nulls":5},0,{"$f":"IF(AJ5466=statistics!$D$3,AB5465+AH5466-AG5466,)","v":0},{"$f":"IF(AND(ROW(AC5466)>=statistics!$C$55,ROW(AC5466)<=statistics!$D$55),AC5465+AH5466-AG5466,)","v":0},{"$f":"IF(AND(statistics!$C$55<=ROW(A5466),ROW(A5466)<=statistics!$D$55)=TRUE,AH5466-AG5466+AA5465-INDEX(AA:AA,statistics!$C$55),\"\")","v":""},null,null,0,0,0,"",{"$f":"IF(statistics!$D$3<>0,IF(AJ5466=statistics!$D$3,AG5466,\"\"),IF(B5466<>\"\",AG5466,\"\"))","v":""},{"$f":"IF(statistics!$D$3<>0,IF(AJ5466=statistics!$D$3,IF(AH5466=0,\"\",AH5466),\"\"),IF(AH5466<>0,AH5466,\"\"))","v":""},{"$f":"IF(statistics!$D$3<>0,IF(AJ5466=statistics!$D$3,IF(A5466=0,\"\",1),\"\"),IF(A5466=0,\"\",1))","v":""},"","",null,"",{"$nulls":10},"",null,null,"",null,0,null,{"$error":"#NUM!"},{"$error":"#NUM!"},5465]
[{"$nulls":4},"","","","","",null,null,"",{"$nulls":6},5466,"",{"$f":"IF(A5468=0,IF(B5468=\"\",IF(B5467=0,\"\",SUM($AG$1:AG5467)-SUM($U$1:U5466)),\"\"),SUM($AG$1:AG5467)-SUM($U$1:U5466))","v":""},{"$nulls":5},0,{"$f":"IF(AJ5467=statistics!$D$3,AB5466+AH5467-AG5467,)","v":0},{"$f":"IF(AND(ROW(AC5467)>=statistics!$C$55,ROW(AC5467)<=statistics!$D$55),AC5466+AH5467-AG5467,)","v":0},{"$f":"IF(AND(statistics!$C$55<=ROW(A5467),ROW(A5467)<=statistics!$D$55)=TRUE,AH5467-AG5467+AA5466-INDEX(AA:AA,statistics!$C$55),\"\")","v":""},null,null,0,0,0,"",{"$f":"IF(statistics!$D$3<>0,IF(AJ5467=statistics!$D$3,AG5467,\"\"),IF(B5467<>\"\",AG5467,\"\"))","v":""},{"$f":"IF(statistics!$D$3<>0,IF(AJ5467=statistics!$D$3,IF(AH5467=0,\"\",AH5467),\"\"),IF(AH5467<>0,AH5467,\"\"))","v":""},{"$f":"IF(statistics!$D$3<>0,IF(AJ5467=statistics!$D$3,IF(A5467=0,\"\",1),\"\"),IF(A5467=0,\"\",1))","v":""},"","",null,"",{"$nulls":10},"",null,null,"",null,0,null,{"$error":"#NUM!"},{"$error":"#NUM!"},5466]
[{"$nulls":4},"","","","","",null,null,"",{"$nulls":6},5467,"",{"$f":"IF(A5469=0,IF(B5469=\"\",IF(B5468=0,\"\",SUM($AG$1:AG5468)-SUM($U$1:U5467)),\"\"),SUM($AG$1:AG5468)-SUM($U$1:U5467))","v":""},{"$nulls":5},0,{"$f":"IF(AJ5468=statistics!$D$3,AB5467+AH5468-AG5468,)","v":0},{"$f":"IF(AND(ROW(AC5468)>=statistics!$C$55,ROW(AC5468)<=statistics!$D$55),AC5467+AH5468-AG5468,)","v":0},{"$f":"IF(AND(statistics!$C$55<=ROW(A5468),ROW(A5468)<=statistics!$D$55)=TRUE,AH5468-AG5468+AA5467-INDEX(AA:AA,statistics!$C$55),\"\")","v":""},null,null,0,0,0,"",{"$f":"IF(statistics!$D$3<>0,IF(AJ5468=statistics!$D$3,AG5468,\"\"),IF(B5468<>\"\",AG5468,\"\"))","v":""},{"$f":"IF(statistics!$D$3<>0,IF(AJ5468=statistics!$D$3,IF(AH5468=0,\"\",AH5468),\"\"),IF(AH5468<>0,AH5468,\"\"))","v":""},{"$f":"IF(statistics!$D$3<>0,IF(AJ5468=statistics!$D$3,IF(A5468=0,\"\",1),\"\"),IF(A5468=0,\"\",1))","v":""},"","",null,"",{"$nulls":10},"",null,null,"",null,0,null,{"$error":"#NUM!"},{"$error":"#NUM!"},5467]
[{"$nulls":4},"","","","","",null,null,"",{"$nulls":6},5468,"",{"$f":"IF(A5470=0,IF(B5470=\"\",IF(B5469=0,\"\",SUM($AG$1:AG5469)-SUM($U$1:U5468)),\"\"),SUM($AG$1:AG5469)-SUM($U$1:U5468))","v":""},{"$nulls":5},0,{"$f":"IF(AJ5469=statistics!$D$3,AB5468+AH5469-AG5469,)","v":0},{"$f":"IF(AND(ROW(AC5469)>=statistics!$C$55,ROW(AC5469)<=statistics!$D$55),AC5468+AH5469-AG5469,)","v":0},{"$f":"IF(AND(statistics!$C$55<=ROW(A5469),ROW(A5469)<=statistics!$D$55)=TRUE,AH5469-AG5469+AA5468-INDEX(AA:AA,statistics!$C$55),\"\")","v":""},null,null,0,0,0,"",{"$f":"IF(statistics!$D$3<>0,IF(AJ5469=statistics!$D$3,AG5469,\"\"),IF(B5469<>\"\",AG5469,\"\"))","v":""},{"$f":"IF(statistics!$D$3<>0,IF(AJ5469=statistics!$D$3,IF(AH5469=0,\"\",AH5469),\"\"),IF(AH5469<>0,AH5469,\"\"))","v":""},{"$f":"IF(statistics!$D$3<>0,IF(AJ5469=statistics!$D$3,IF(A5469=0,\"\",1),\"\"),IF(A5469=0,\"\",1))","v":""},"","",null,"",{"$nulls":10},"",null,null,"",null,0,null,{"$error":"#NUM!"},{"$error":"#NUM!"},5468]
[{"$nulls":4},"","","","","",null,null,"",{"$nulls":6},5469,"",{"$f":"IF(A5471=0,IF(B5471=\"\",IF(B5470=0,\"\",SUM($AG$1:AG5470)-SUM($U$1:U5469)),\"\"),SUM($AG$1:AG5470)-SUM($U$1:U5469))","v":""},{"$nulls":5},0,{"$f":"IF(AJ5470=statistics!$D$3,AB5469+AH5470-AG5470,)","v":0},{"$f":"IF(AND(ROW(AC5470)>=statistics!$C$55,ROW(AC5470)<=statistics!$D$55),AC5469+AH5470-AG5470,)","v":0},{"$f":"IF(AND(statistics!$C$55<=ROW(A5470),ROW(A5470)<=statistics!$D$55)=TRUE,AH5470-AG5470+AA5469-INDEX(AA:AA,statistics!$C$55),\"\")","v":""},null,null,0,0,0,"",{"$f":"IF(statistics!$D$3<>0,IF(AJ5470=statistics!$D$3,AG5470,\"\"),IF(B5470<>\"\",AG5470,\"\"))","v":""},{"$f":"IF(statistics!$D$3<>0,IF(AJ5470=statistics!$D$3,IF(AH5470=0,\"\",AH5470),\"\"),IF(AH5470<>0,AH5470,\"\"))","v":""},{"$f":"IF(statistics!$D$3<>0,IF(AJ5470=statistics!$D$3,IF(A5470=0,\"\",1),\"\"),IF(A5470=0,\"\",1))","v":""},"","",null,"",{"$nulls":10},"",null,null,"",null,0,null,{"$error":"#NUM!"},{"$error":"#NUM!"},5469]
[{"$nulls":4},"","","","","",null,null,"",{"$nulls":6},5470,"",{"$f":"IF(A5472=0,IF(B5472=\"\",IF(B5471=0,\"\",SUM($AG$1:AG5471)-SUM($U$1:U5470)),\"\"),SUM($AG$1:AG5471)-SUM($U$1:U5470))","v":""},{"$nulls":5},0,{"$f":"IF(AJ5471=statistics!$D$3,AB5470+AH5471-AG5471,)","v":0},{"$f":"IF(AND(ROW(AC5471)>=statistics!$C$55,ROW(AC5471)<=statistics!$D$55),AC5470+AH5471-AG5471,)","v":0},{"$f":"IF(AND(statistics!$C$55<=ROW(A5471),ROW(A5471)<=statistics!$D$55)=TRUE,AH5471-AG5471+AA5470-INDEX(AA:AA,statistics!$C$55),\"\")","v":""},null,null,0,0,0,"",{"$f":"IF(statistics!$D$3<>0,IF(AJ5471=statistics!$D$3,AG5471,\"\"),IF(B5471<>\"\",AG5471,\"\"))","v":""},{"$f":"IF(statistics!$D$3<>0,IF(AJ5471=statistics!$D$3,IF(AH5471=0,\"\",AH5471),\"\"),IF(AH5471<>0,AH5471,\"\"))","v":""},{"$f":"IF(statistics!$D$3<>0,IF(AJ5471=statistics!$D$3,IF(A5471=0,\"\",1),\"\"),IF(A5471=0,\"\",1))","v":""},"","",null,"",{"$nulls":10},"",null,null,"",null,0,null,{"$error":"#NUM!"},{"$error":"#NUM!"},5470]
[{"$nulls":4},"","","","","",null,null,"",{"$nulls":6},5471,"",{"$f":"IF(A5473=0,IF(B5473=\"\",IF(B5472=0,\"\",SUM($AG$1:AG5472)-SUM($U$1:U5471)),\"\"),SUM($AG$1:AG5472)-SUM($U$1:U5471))","v":""},{"$nulls":5},0,{"$f":"IF(AJ5472=statistics!$D$3,AB5471+AH5472-AG5472,)","v":0},{"$f":"IF(AND(ROW(AC5472)>=statistics!$C$55,ROW(AC5472)<=statistics!$D$55),AC5471+AH5472-AG5472,)","v":0},{"$f":"IF(AND(statistics!$C$55<=ROW(A5472),ROW(A5472)<=statistics!$D$55)=TRUE,AH5472-AG5472+AA5471-INDEX(AA:AA,statistics!$C$55),\"\")","v":""},null,null,0,0,0,"",{"$f":"IF(statistics!$D$3<>0,IF(AJ5472=statistics!$D$3,AG5472,\"\"),IF(B5472<>\"\",AG5472,\"\"))","v":""},{"$f":"IF(statistics!$D$3<>0,IF(AJ5472=statistics!$D$3,IF(AH5472=0,\"\",AH5472),\"\"),IF(AH5472<>0,AH5472,\"\"))","v":""},{"$f":"IF(statistics!$D$3<>0,IF(AJ5472=statistics!$D$3,IF(A5472=0,\"\",1),\"\"),IF(A5472=0,\"\",1))","v":""},"","",null,"",{"$nulls":10},"",null,null,"",null,0,null,{"$error":"#NUM!"},{"$error":"#NUM!"},5471]
[{"$nulls":4},"","","","","",null,null,"",{"$nulls":6},5472,"",{"$f":"IF(A5474=0,IF(B5474=\"\",IF(B5473=0,\"\",SUM($AG$1:AG5473)-SUM($U$1:U5472)),\"\"),SUM($AG$1:AG5473)-SUM($U$1:U5472))","v":""},{"$nulls":5},0,{"$f":"IF(AJ5473=statistics!$D$3,AB5472+AH5473-AG5473,)","v":0},{"$f":"IF(AND(ROW(AC5473)>=statistics!$C$55,ROW(AC5473)<=statistics!$D$55),AC5472+AH5473-AG5473,)","v":0},{"$f":"IF(AND(statistics!$C$55<=ROW(A5473),ROW(A5473)<=statistics!$D$55)=TRUE,AH5473-AG5473+AA5472-INDEX(AA:AA,statistics!$C$55),\"\")","v":""},null,null,0,0,0,"",{"$f":"IF(statistics!$D$3<>0,IF(AJ5473=statistics!$D$3,AG5473,\"\"),IF(B5473<>\"\",AG5473,\"\"))","v":""},{"$f":"IF(statistics!$D$3<>0,IF(AJ5473=statistics!$D$3,IF(AH5473=0,\"\",AH5473),\"\"),IF(AH5473<>0,AH5473,\"\"))","v":""},{"$f":"IF(statistics!$D$3<>0,IF(AJ5473=statistics!$D$3,IF(A5473=0,\"\",1),\"\"),IF(A5473=0,\"\",1))","v":""},"","",null,"",{"$nulls":10},"",null,null,"",null,0,null,{"$error":"#NUM!"},{"$error":"#NUM!"},5472]
[{"$nulls":4},"","","","","",null,null,"",{"$nulls":6},5473,"",{"$f":"IF(A5475=0,IF(B5475=\"\",IF(B5474=0,\"\",SUM($AG$1:AG5474)-SUM($U$1:U5473)),\"\"),SUM($AG$1:AG5474)-SUM($U$1:U5473))","v":""},{"$nulls":5},0,{"$f":"IF(AJ5474=statistics!$D$3,AB5473+AH5474-AG5474,)","v":0},{"$f":"IF(AND(ROW(AC5474)>=statistics!$C$55,ROW(AC5474)<=statistics!$D$55),AC5473+AH5474-AG5474,)","v":0},{"$f":"IF(AND(statistics!$C$55<=ROW(A5474),ROW(A5474)<=statistics!$D$55)=TRUE,AH5474-AG5474+AA5473-INDEX(AA:AA,statistics!$C$55),\"\")","v":""},null,null,0,0,0,"",{"$f":"IF(statistics!$D$3<>0,IF(AJ5474=statistics!$D$3,AG5474,\"\"),IF(B5474<>\"\",AG5474,\"\"))","v":""},{"$f":"IF(statistics!$D$3<>0,IF(AJ5474=statistics!$D$3,IF(AH5474=0,\"\",AH5474),\"\"),IF(AH5474<>0,AH5474,\"\"))","v":""},{"$f":"IF(statistics!$D$3<>0,IF(AJ5474=statistics!$D$3,IF(A5474=0,\"\",1),\"\"),IF(A5474=0,\"\",1))","v":""},"","",null,"",{"$nulls":10},"",null,null,"",null,0,null,{"$error":"#NUM!"},{"$error":"#NUM!"},5473]
[{"$nulls":4},"","","","","",null,null,"",{"$nulls":6},5474,"",{"$f":"IF(A5476=0,IF(B5476=\"\",IF(B5475=0,\"\",SUM($AG$1:AG5475)-SUM($U$1:U5474)),\"\"),SUM($AG$1:AG5475)-SUM($U$1:U5474))","v":""},{"$nulls":5},0,{"$f":"IF(AJ5475=statistics!$D$3,AB5474+AH5475-AG5475,)","v":0},{"$f":"IF(AND(ROW(AC5475)>=statistics!$C$55,ROW(AC5475)<=statistics!$D$55),AC5474+AH5475-AG5475,)","v":0},{"$f":"IF(AND(statistics!$C$55<=ROW(A5475),ROW(A5475)<=statistics!$D$55)=TRUE,AH5475-AG5475+AA5474-INDEX(AA:AA,statistics!$C$55),\"\")","v":""},null,null,0,0,0,"",{"$f":"IF(statistics!$D$3<>0,IF(AJ5475=statistics!$D$3,AG5475,\"\"),IF(B5475<>\"\",AG5475,\"\"))","v":""},{"$f":"IF(statistics!$D$3<>0,IF(AJ5475=statistics!$D$3,IF(AH5475=0,\"\",AH5475),\"\"),IF(AH5475<>0,AH5475,\"\"))","v":""},{"$f":"IF(statistics!$D$3<>0,IF(AJ5475=statistics!$D$3,IF(A5475=0,\"\",1),\"\"),IF(A5475=0,\"\",1))","v":""},"","",null,"",{"$nulls":10},"",null,null,"",null,0,null,{"$error":"#NUM!"},{"$error":"#NUM!"},5474]
[{"$nulls":4},"","","","","",null,null,"",{"$nulls":6},5475,"",{"$f":"IF(A5477=0,IF(B5477=\"\",IF(B5476=0,\"\",SUM($AG$1:AG5476)-SUM($U$1:U5475)),\"\"),SUM($AG$1:AG5476)-SUM($U$1:U5475))","v":""},{"$nulls":5},0,{"$f":"IF(AJ5476=statistics!$D$3,AB5475+AH5476-AG5476,)","v":0},{"$f":"IF(AND(ROW(AC5476)>=statistics!$C$55,ROW(AC5476)<=statistics!$D$55),AC5475+AH5476-AG5476,)","v":0},{"$f":"IF(AND(statistics!$C$55<=ROW(A5476),ROW(A5476)<=statistics!$D$55)=TRUE,AH5476-AG5476+AA5475-INDEX(AA:AA,statistics!$C$55),\"\")","v":""},null,null,0,0,0,"",{"$f":"IF(statistics!$D$3<>0,IF(AJ5476=statistics!$D$3,AG5476,\"\"),IF(B5476<>\"\",AG5476,\"\"))","v":""},{"$f":"IF(statistics!$D$3<>0,IF(AJ5476=statistics!$D$3,IF(AH5476=0,\"\",AH5476),\"\"),IF(AH5476<>0,AH5476,\"\"))","v":""},{"$f":"IF(statistics!$D$3<>0,IF(AJ5476=statistics!$D$3,IF(A5476=0,\"\",1),\"\"),IF(A5476=0,\"\",1))","v":""},"","",null,"",{"$nulls":10},"",null,null,"",null,0,null,{"$error":"#NUM!"},{"$error":"#NUM!"},5475]
[{"$nulls":4},"","","","","",null,null,"",{"$nulls":6},5476,"",{"$f":"IF(A5478=0,IF(B5478=\"\",IF(B5477=0,\"\",SUM($AG$1:AG5477)-SUM($U$1:U5476)),\"\"),SUM($AG$1:AG5477)-SUM($U$1:U5476))","v":""},{"$nulls":5},0,{"$f":"IF(AJ5477=statistics!$D$3,AB5476+AH5477-AG5477,)","v":0},{"$f":"IF(AND(ROW(AC5477)>=statistics!$C$55,ROW(AC5477)<=statistics!$D$55),AC5476+AH5477-AG5477,)","v":0},{"$f":"IF(AND(statistics!$C$55<=ROW(A5477),ROW(A5477)<=statistics!$D$55)=TRUE,AH5477-AG5477+AA5476-INDEX(AA:AA,statistics!$C$55),\"\")","v":""},null,null,0,0,0,"",{"$f":"IF(statistics!$D$3<>0,IF(AJ5477=statistics!$D$3,AG5477,\"\"),IF(B5477<>\"\",AG5477,\"\"))","v":""},{"$f":"IF(statistics!$D$3<>0,IF(AJ5477=statistics!$D$3,IF(AH5477=0,\"\",AH5477),\"\"),IF(AH5477<>0,AH5477,\"\"))","v":""},{"$f":"IF(statistics!$D$3<>0,IF(AJ5477=statistics!$D$3,IF(A5477=0,\"\",1),\"\"),IF(A5477=0,\"\",1))","v":""},"","",null,"",{"$nulls":10},"",null,null,"",null,0,null,{"$error":"#NUM!"},{"$error":"#NUM!"},5476]
[{"$nulls":4},"","","","","",null,null,"",{"$nulls":6},5477,"",{"$f":"IF(A5479=0,IF(B5479=\"\",IF(B5478=0,\"\",SUM($AG$1:AG5478)-SUM($U$1:U5477)),\"\"),SUM($AG$1:AG5478)-SUM($U$1:U5477))","v":""},{"$nulls":5},0,{"$f":"IF(AJ5478=statistics!$D$3,AB5477+AH5478-AG5478,)","v":0},{"$f":"IF(AND(ROW(AC5478)>=statistics!$C$55,ROW(AC5478)<=statistics!$D$55),AC5477+AH5478-AG5478,)","v":0},{"$f":"IF(AND(statistics!$C$55<=ROW(A5478),ROW(A5478)<=statistics!$D$55)=TRUE,AH5478-AG5478+AA5477-INDEX(AA:AA,statistics!$C$55),\"\")","v":""},null,null,0,0,0,"",{"$f":"IF(statistics!$D$3<>0,IF(AJ5478=statistics!$D$3,AG5478,\"\"),IF(B5478<>\"\",AG5478,\"\"))","v":""},{"$f":"IF(statistics!$D$3<>0,IF(AJ5478=statistics!$D$3,IF(AH5478=0,\"\",AH5478),\"\"),IF(AH5478<>0,AH5478,\"\"))","v":""},{"$f":"IF(statistics!$D$3<>0,IF(AJ5478=statistics!$D$3,IF(A5478=0,\"\",1),\"\"),IF(A5478=0,\"\",1))","v":""},"","",null,"",{"$nulls":10},"",null,null,"",null,0,null,{"$error":"#NUM!"},{"$error":"#NUM!"},5477]
[{"$nulls":4},"","","","","",null,null,"",{"$nulls":6},5478,"",{"$f":"IF(A5480=0,IF(B5480=\"\",IF(B5479=0,\"\",SUM($AG$1:AG5479)-SUM($U$1:U5478)),\"\"),SUM($AG$1:AG5479)-SUM($U$1:U5478))","v":""},{"$nulls":5},0,{"$f":"IF(AJ5479=statistics!$D$3,AB5478+AH5479-AG5479,)","v":0},{"$f":"IF(AND(ROW(AC5479)>=statistics!$C$55,ROW(AC5479)<=statistics!$D$55),AC5478+AH5479-AG5479,)","v":0},{"$f":"IF(AND(statistics!$C$55<=ROW(A5479),ROW(A5479)<=statistics!$D$55)=TRUE,AH5479-AG5479+AA5478-INDEX(AA:AA,statistics!$C$55),\"\")","v":""},null,null,0,0,0,"",{"$f":"IF(statistics!$D$3<>0,IF(AJ5479=statistics!$D$3,AG5479,\"\"),IF(B5479<>\"\",AG5479,\"\"))","v":""},{"$f":"IF(statistics!$D$3<>0,IF(AJ5479=statistics!$D$3,IF(AH5479=0,\"\",AH5479),\"\"),IF(AH5479<>0,AH5479,\"\"))","v":""},{"$f":"IF(statistics!$D$3<>0,IF(AJ5479=statistics!$D$3,IF(A5479=0,\"\",1),\"\"),IF(A5479=0,\"\",1))","v":""},"","",null,"",{"$nulls":10},"",null,null,"",null,0,null,{"$error":"#NUM!"},{"$error":"#NUM!"},5478]
[{"$nulls":4},"","","","","",null,null,"",{"$nulls":6},5479,"",{"$f":"IF(A5481=0,IF(B5481=\"\",IF(B5480=0,\"\",SUM($AG$1:AG5480)-SUM($U$1:U5479)),\"\"),SUM($AG$1:AG5480)-SUM($U$1:U5479))","v":""},{"$nulls":5},0,{"$f":"IF(AJ5480=statistics!$D$3,AB5479+AH5480-AG5480,)","v":0},{"$f":"IF(AND(ROW(AC5480)>=statistics!$C$55,ROW(AC5480)<=statistics!$D$55),AC5479+AH5480-AG5480,)","v":0},{"$f":"IF(AND(statistics!$C$55<=ROW(A5480),ROW(A5480)<=statistics!$D$55)=TRUE,AH5480-AG5480+AA5479-INDEX(AA:AA,statistics!$C$55),\"\")","v":""},null,null,0,0,0,"",{"$f":"IF(statistics!$D$3<>0,IF(AJ5480=statistics!$D$3,AG5480,\"\"),IF(B5480<>\"\",AG5480,\"\"))","v":""},{"$f":"IF(statistics!$D$3<>0,IF(AJ5480=statistics!$D$3,IF(AH5480=0,\"\",AH5480),\"\"),IF(AH5480<>0,AH5480,\"\"))","v":""},{"$f":"IF(statistics!$D$3<>0,IF(AJ5480=statistics!$D$3,IF(A5480=0,\"\",1),\"\"),IF(A5480=0,\"\",1))","v":""},"","",null,"",{"$nulls":10},"",null,null,"",null,0,null,{"$error":"#NUM!"},{"$error":"#NUM!"},5479]
[{"$nulls":4},"","","","","",null,null,"",{"$nulls":6},5480,"",{"$f":"IF(A5482=0,IF(B5482=\"\",IF(B5481=0,\"\",SUM($AG$1:AG5481)-SUM($U$1:U5480)),\"\"),SUM($AG$1:AG5481)-SUM($U$1:U5480))","v":""},{"$nulls":5},0,{"$f":"IF(AJ5481=statistics!$D$3,AB5480+AH5481-AG5481,)","v":0},{"$f":"IF(AND(ROW(AC5481)>=statistics!$C$55,ROW(AC5481)<=statistics!$D$55),AC5480+AH5481-AG5481,)","v":0},{"$f":"IF(AND(statistics!$C$55<=ROW(A5481),ROW(A5481)<=statistics!$D$55)=TRUE,AH5481-AG5481+AA5480-INDEX(AA:AA,statistics!$C$55),\"\")","v":""},null,null,0,0,0,"",{"$f":"IF(statistics!$D$3<>0,IF(AJ5481=statistics!$D$3,AG5481,\"\"),IF(B5481<>\"\",AG5481,\"\"))","v":""},{"$f":"IF(statistics!$D$3<>0,IF(AJ5481=statistics!$D$3,IF(AH5481=0,\"\",AH5481),\"\"),IF(AH5481<>0,AH5481,\"\"))","v":""},{"$f":"IF(statistics!$D$3<>0,IF(AJ5481=statistics!$D$3,IF(A5481=0,\"\",1),\"\"),IF(A5481=0,\"\",1))","v":""},"","",null,"",{"$nulls":10},"",null,null,"",null,0,null,{"$error":"#NUM!"},{"$error":"#NUM!"},5480]
[{"$nulls":4},"","","","","",null,null,"",{"$nulls":6},5481,"",{"$f":"IF(A5483=0,IF(B5483=\"\",IF(B5482=0,\"\",SUM($AG$1:AG5482)-SUM($U$1:U5481)),\"\"),SUM($AG$1:AG5482)-SUM($U$1:U5481))","v":""},{"$nulls":5},0,{"$f":"IF(AJ5482=statistics!$D$3,AB5481+AH5482-AG5482,)","v":0},{"$f":"IF(AND(ROW(AC5482)>=statistics!$C$55,ROW(AC5482)<=statistics!$D$55),AC5481+AH5482-AG5482,)","v":0},{"$f":"IF(AND(statistics!$C$55<=ROW(A5482),ROW(A5482)<=statistics!$D$55)=TRUE,AH5482-AG5482+AA5481-INDEX(AA:AA,statistics!$C$55),\"\")","v":""},null,null,0,0,0,"",{"$f":"IF(statistics!$D$3<>0,IF(AJ5482=statistics!$D$3,AG5482,\"\"),IF(B5482<>\"\",AG5482,\"\"))","v":""},{"$f":"IF(statistics!$D$3<>0,IF(AJ5482=statistics!$D$3,IF(AH5482=0,\"\",AH5482),\"\"),IF(AH5482<>0,AH5482,\"\"))","v":""},{"$f":"IF(statistics!$D$3<>0,IF(AJ5482=statistics!$D$3,IF(A5482=0,\"\",1),\"\"),IF(A5482=0,\"\",1))","v":""},"","",null,"",{"$nulls":10},"",null,null,"",null,0,null,{"$error":"#NUM!"},{"$error":"#NUM!"},5481]
[{"$nulls":4},"","","","","",null,null,"",{"$nulls":6},5482,"",{"$f":"IF(A5484=0,IF(B5484=\"\",IF(B5483=0,\"\",SUM($AG$1:AG5483)-SUM($U$1:U5482)),\"\"),SUM($AG$1:AG5483)-SUM($U$1:U5482))","v":""},{"$nulls":5},0,{"$f":"IF(AJ5483=statistics!$D$3,AB5482+AH5483-AG5483,)","v":0},{"$f":"IF(AND(ROW(AC5483)>=statistics!$C$55,ROW(AC5483)<=statistics!$D$55),AC5482+AH5483-AG5483,)","v":0},{"$f":"IF(AND(statistics!$C$55<=ROW(A5483),ROW(A5483)<=statistics!$D$55)=TRUE,AH5483-AG5483+AA5482-INDEX(AA:AA,statistics!$C$55),\"\")","v":""},null,null,0,0,0,"",{"$f":"IF(statistics!$D$3<>0,IF(AJ5483=statistics!$D$3,AG5483,\"\"),IF(B5483<>\"\",AG5483,\"\"))","v":""},{"$f":"IF(statistics!$D$3<>0,IF(AJ5483=statistics!$D$3,IF(AH5483=0,\"\",AH5483),\"\"),IF(AH5483<>0,AH5483,\"\"))","v":""},{"$f":"IF(statistics!$D$3<>0,IF(AJ5483=statistics!$D$3,IF(A5483=0,\"\",1),\"\"),IF(A5483=0,\"\",1))","v":""},"","",null,"",{"$nulls":10},"",null,null,"",null,0,null,{"$error":"#NUM!"},{"$error":"#NUM!"},5482]
[{"$nulls":4},"","","","","",null,null,"",{"$nulls":6},5483,"",{"$f":"IF(A5485=0,IF(B5485=\"\",IF(B5484=0,\"\",SUM($AG$1:AG5484)-SUM($U$1:U5483)),\"\"),SUM($AG$1:AG5484)-SUM($U$1:U5483))","v":""},{"$nulls":5},0,{"$f":"IF(AJ5484=statistics!$D$3,AB5483+AH5484-AG5484,)","v":0},{"$f":"IF(AND(ROW(AC5484)>=statistics!$C$55,ROW(AC5484)<=statistics!$D$55),AC5483+AH5484-AG5484,)","v":0},{"$f":"IF(AND(statistics!$C$55<=ROW(A5484),ROW(A5484)<=statistics!$D$55)=TRUE,AH5484-AG5484+AA5483-INDEX(AA:AA,statistics!$C$55),\"\")","v":""},null,null,0,0,0,"",{"$f":"IF(statistics!$D$3<>0,IF(AJ5484=statistics!$D$3,AG5484,\"\"),IF(B5484<>\"\",AG5484,\"\"))","v":""},{"$f":"IF(statistics!$D$3<>0,IF(AJ5484=statistics!$D$3,IF(AH5484=0,\"\",AH5484),\"\"),IF(AH5484<>0,AH5484,\"\"))","v":""},{"$f":"IF(statistics!$D$3<>0,IF(AJ5484=statistics!$D$3,IF(A5484=0,\"\",1),\"\"),IF(A5484=0,\"\",1))","v":""},"","",null,"",{"$nulls":10},"",null,null,"",null,0,null,{"$error":"#NUM!"},{"$error":"#NUM!"},5483]
[{"$nulls":4},"","","","","",null,null,"",{"$nulls":6},5484,"",{"$f":"IF(A5486=0,IF(B5486=\"\",IF(B5485=0,\"\",SUM($AG$1:AG5485)-SUM($U$1:U5484)),\"\"),SUM($AG$1:AG5485)-SUM($U$1:U5484))","v":""},{"$nulls":5},0,{"$f":"IF(AJ5485=statistics!$D$3,AB5484+AH5485-AG5485,)","v":0},{"$f":"IF(AND(ROW(AC5485)>=statistics!$C$55,ROW(AC5485)<=statistics!$D$55),AC5484+AH5485-AG5485,)","v":0},{"$f":"IF(AND(statistics!$C$55<=ROW(A5485),ROW(A5485)<=statistics!$D$55)=TRUE,AH5485-AG5485+AA5484-INDEX(AA:AA,statistics!$C$55),\"\")","v":""},null,null,0,0,0,"",{"$f":"IF(statistics!$D$3<>0,IF(AJ5485=statistics!$D$3,AG5485,\"\"),IF(B5485<>\"\",AG5485,\"\"))","v":""},{"$f":"IF(statistics!$D$3<>0,IF(AJ5485=statistics!$D$3,IF(AH5485=0,\"\",AH5485),\"\"),IF(AH5485<>0,AH5485,\"\"))","v":""},{"$f":"IF(statistics!$D$3<>0,IF(AJ5485=statistics!$D$3,IF(A5485=0,\"\",1),\"\"),IF(A5485=0,\"\",1))","v":""},"","",null,"",{"$nulls":10},"",null,null,"",null,0,null,{"$error":"#NUM!"},{"$error":"#NUM!"},5484]
[{"$nulls":4},"","","","","",null,null,"",{"$nulls":6},5485,"",{"$f":"IF(A5487=0,IF(B5487=\"\",IF(B5486=0,\"\",SUM($AG$1:AG5486)-SUM($U$1:U5485)),\"\"),SUM($AG$1:AG5486)-SUM($U$1:U5485))","v":""},{"$nulls":5},0,{"$f":"IF(AJ5486=statistics!$D$3,AB5485+AH5486-AG5486,)","v":0},{"$f":"IF(AND(ROW(AC5486)>=statistics!$C$55,ROW(AC5486)<=statistics!$D$55),AC5485+AH5486-AG5486,)","v":0},{"$f":"IF(AND(statistics!$C$55<=ROW(A5486),ROW(A5486)<=statistics!$D$55)=TRUE,AH5486-AG5486+AA5485-INDEX(AA:AA,statistics!$C$55),\"\")","v":""},null,null,0,0,0,"",{"$f":"IF(statistics!$D$3<>0,IF(AJ5486=statistics!$D$3,AG5486,\"\"),IF(B5486<>\"\",AG5486,\"\"))","v":""},{"$f":"IF(statistics!$D$3<>0,IF(AJ5486=statistics!$D$3,IF(AH5486=0,\"\",AH5486),\"\"),IF(AH5486<>0,AH5486,\"\"))","v":""},{"$f":"IF(statistics!$D$3<>0,IF(AJ5486=statistics!$D$3,IF(A5486=0,\"\",1),\"\"),IF(A5486=0,\"\",1))","v":""},"","",null,"",{"$nulls":10},"",null,null,"",null,0,null,{"$error":"#NUM!"},{"$error":"#NUM!"},5485]
[{"$nulls":4},"","","","","",null,null,"",{"$nulls":6},5486,"",{"$f":"IF(A5488=0,IF(B5488=\"\",IF(B5487=0,\"\",SUM($AG$1:AG5487)-SUM($U$1:U5486)),\"\"),SUM($AG$1:AG5487)-SUM($U$1:U5486))","v":""},{"$nulls":5},0,{"$f":"IF(AJ5487=statistics!$D$3,AB5486+AH5487-AG5487,)","v":0},{"$f":"IF(AND(ROW(AC5487)>=statistics!$C$55,ROW(AC5487)<=statistics!$D$55),AC5486+AH5487-AG5487,)","v":0},{"$f":"IF(AND(statistics!$C$55<=ROW(A5487),ROW(A5487)<=statistics!$D$55)=TRUE,AH5487-AG5487+AA5486-INDEX(AA:AA,statistics!$C$55),\"\")","v":""},null,null,0,0,0,"",{"$f":"IF(statistics!$D$3<>0,IF(AJ5487=statistics!$D$3,AG5487,\"\"),IF(B5487<>\"\",AG5487,\"\"))","v":""},{"$f":"IF(statistics!$D$3<>0,IF(AJ5487=statistics!$D$3,IF(AH5487=0,\"\",AH5487),\"\"),IF(AH5487<>0,AH5487,\"\"))","v":""},{"$f":"IF(statistics!$D$3<>0,IF(AJ5487=statistics!$D$3,IF(A5487=0,\"\",1),\"\"),IF(A5487=0,\"\",1))","v":""},"","",null,"",{"$nulls":10},"",null,null,"",null,0,null,{"$error":"#NUM!"},{"$error":"#NUM!"},5486]
[{"$nulls":4},"","","","","",null,null,"",{"$nulls":6},5487,"",{"$f":"IF(A5489=0,IF(B5489=\"\",IF(B5488=0,\"\",SUM($AG$1:AG5488)-SUM($U$1:U5487)),\"\"),SUM($AG$1:AG5488)-SUM($U$1:U5487))","v":""},{"$nulls":5},0,{"$f":"IF(AJ5488=statistics!$D$3,AB5487+AH5488-AG5488,)","v":0},{"$f":"IF(AND(ROW(AC5488)>=statistics!$C$55,ROW(AC5488)<=statistics!$D$55),AC5487+AH5488-AG5488,)","v":0},{"$f":"IF(AND(statistics!$C$55<=ROW(A5488),ROW(A5488)<=statistics!$D$55)=TRUE,AH5488-AG5488+AA5487-INDEX(AA:AA,statistics!$C$55),\"\")","v":""},null,null,0,0,0,"",{"$f":"IF(statistics!$D$3<>0,IF(AJ5488=statistics!$D$3,AG5488,\"\"),IF(B5488<>\"\",AG5488,\"\"))","v":""},{"$f":"IF(statistics!$D$3<>0,IF(AJ5488=statistics!$D$3,IF(AH5488=0,\"\",AH5488),\"\"),IF(AH5488<>0,AH5488,\"\"))","v":""},{"$f":"IF(statistics!$D$3<>0,IF(AJ5488=statistics!$D$3,IF(A5488=0,\"\",1),\"\"),IF(A5488=0,\"\",1))","v":""},"","",null,"",{"$nulls":10},"",null,null,"",null,0,null,{"$error":"#NUM!"},{"$error":"#NUM!"},5487]
[{"$nulls":4},"","","","","",null,null,"",{"$nulls":6},5488,"",{"$f":"IF(A5490=0,IF(B5490=\"\",IF(B5489=0,\"\",SUM($AG$1:AG5489)-SUM($U$1:U5488)),\"\"),SUM($AG$1:AG5489)-SUM($U$1:U5488))","v":""},{"$nulls":5},0,{"$f":"IF(AJ5489=statistics!$D$3,AB5488+AH5489-AG5489,)","v":0},{"$f":"IF(AND(ROW(AC5489)>=statistics!$C$55,ROW(AC5489)<=statistics!$D$55),AC5488+AH5489-AG5489,)","v":0},{"$f":"IF(AND(statistics!$C$55<=ROW(A5489),ROW(A5489)<=statistics!$D$55)=TRUE,AH5489-AG5489+AA5488-INDEX(AA:AA,statistics!$C$55),\"\")","v":""},null,null,0,0,0,"",{"$f":"IF(statistics!$D$3<>0,IF(AJ5489=statistics!$D$3,AG5489,\"\"),IF(B5489<>\"\",AG5489,\"\"))","v":""},{"$f":"IF(statistics!$D$3<>0,IF(AJ5489=statistics!$D$3,IF(AH5489=0,\"\",AH5489),\"\"),IF(AH5489<>0,AH5489,\"\"))","v":""},{"$f":"IF(statistics!$D$3<>0,IF(AJ5489=statistics!$D$3,IF(A5489=0,\"\",1),\"\"),IF(A5489=0,\"\",1))","v":""},"","",null,"",{"$nulls":10},"",null,null,"",null,0,null,{"$error":"#NUM!"},{"$error":"#NUM!"},5488]
[{"$nulls":4},"","","","","",null,null,"",{"$nulls":6},5489,"",{"$f":"IF(A5491=0,IF(B5491=\"\",IF(B5490=0,\"\",SUM($AG$1:AG5490)-SUM($U$1:U5489)),\"\"),SUM($AG$1:AG5490)-SUM($U$1:U5489))","v":""},{"$nulls":5},0,{"$f":"IF(AJ5490=statistics!$D$3,AB5489+AH5490-AG5490,)","v":0},{"$f":"IF(AND(ROW(AC5490)>=statistics!$C$55,ROW(AC5490)<=statistics!$D$55),AC5489+AH5490-AG5490,)","v":0},{"$f":"IF(AND(statistics!$C$55<=ROW(A5490),ROW(A5490)<=statistics!$D$55)=TRUE,AH5490-AG5490+AA5489-INDEX(AA:AA,statistics!$C$55),\"\")","v":""},null,null,0,0,0,"",{"$f":"IF(statistics!$D$3<>0,IF(AJ5490=statistics!$D$3,AG5490,\"\"),IF(B5490<>\"\",AG5490,\"\"))","v":""},{"$f":"IF(statistics!$D$3<>0,IF(AJ5490=statistics!$D$3,IF(AH5490=0,\"\",AH5490),\"\"),IF(AH5490<>0,AH5490,\"\"))","v":""},{"$f":"IF(statistics!$D$3<>0,IF(AJ5490=statistics!$D$3,IF(A5490=0,\"\",1),\"\"),IF(A5490=0,\"\",1))","v":""},"","",null,"",{"$nulls":10},"",null,null,"",null,0,null,{"$error":"#NUM!"},{"$error":"#NUM!"},5489]
[{"$nulls":4},"","","","","",null,null,"",{"$nulls":6},5490,"",{"$f":"IF(A5492=0,IF(B5492=\"\",IF(B5491=0,\"\",SUM($AG$1:AG5491)-SUM($U$1:U5490)),\"\"),SUM($AG$1:AG5491)-SUM($U$1:U5490))","v":""},{"$nulls":5},0,{"$f":"IF(AJ5491=statistics!$D$3,AB5490+AH5491-AG5491,)","v":0},{"$f":"IF(AND(ROW(AC5491)>=statistics!$C$55,ROW(AC5491)<=statistics!$D$55),AC5490+AH5491-AG5491,)","v":0},{"$f":"IF(AND(statistics!$C$55<=ROW(A5491),ROW(A5491)<=statistics!$D$55)=TRUE,AH5491-AG5491+AA5490-INDEX(AA:AA,statistics!$C$55),\"\")","v":""},null,null,0,0,0,"",{"$f":"IF(statistics!$D$3<>0,IF(AJ5491=statistics!$D$3,AG5491,\"\"),IF(B5491<>\"\",AG5491,\"\"))","v":""},{"$f":"IF(statistics!$D$3<>0,IF(AJ5491=statistics!$D$3,IF(AH5491=0,\"\",AH5491),\"\"),IF(AH5491<>0,AH5491,\"\"))","v":""},{"$f":"IF(statistics!$D$3<>0,IF(AJ5491=statistics!$D$3,IF(A5491=0,\"\",1),\"\"),IF(A5491=0,\"\",1))","v":""},"","",null,"",{"$nulls":10},"",null,null,"",null,0,null,{"$error":"#NUM!"},{"$error":"#NUM!"},5490]
[{"$nulls":4},"","","","","",null,null,"",{"$nulls":6},5491,"",{"$f":"IF(A5493=0,IF(B5493=\"\",IF(B5492=0,\"\",SUM($AG$1:AG5492)-SUM($U$1:U5491)),\"\"),SUM($AG$1:AG5492)-SUM($U$1:U5491))","v":""},{"$nulls":5},0,{"$f":"IF(AJ5492=statistics!$D$3,AB5491+AH5492-AG5492,)","v":0},{"$f":"IF(AND(ROW(AC5492)>=statistics!$C$55,ROW(AC5492)<=statistics!$D$55),AC5491+AH5492-AG5492,)","v":0},{"$f":"IF(AND(statistics!$C$55<=ROW(A5492),ROW(A5492)<=statistics!$D$55)=TRUE,AH5492-AG5492+AA5491-INDEX(AA:AA,statistics!$C$55),\"\")","v":""},null,null,0,0,0,"",{"$f":"IF(statistics!$D$3<>0,IF(AJ5492=statistics!$D$3,AG5492,\"\"),IF(B5492<>\"\",AG5492,\"\"))","v":""},{"$f":"IF(statistics!$D$3<>0,IF(AJ5492=statistics!$D$3,IF(AH5492=0,\"\",AH5492),\"\"),IF(AH5492<>0,AH5492,\"\"))","v":""},{"$f":"IF(statistics!$D$3<>0,IF(AJ5492=statistics!$D$3,IF(A5492=0,\"\",1),\"\"),IF(A5492=0,\"\",1))","v":""},"","",null,"",{"$nulls":10},"",null,null,"",null,0,null,{"$error":"#NUM!"},{"$error":"#NUM!"},5491]
[{"$nulls":4},"","","","","",null,null,"",{"$nulls":6},5492,"",{"$f":"IF(A5494=0,IF(B5494=\"\",IF(B5493=0,\"\",SUM($AG$1:AG5493)-SUM($U$1:U5492)),\"\"),SUM($AG$1:AG5493)-SUM($U$1:U5492))","v":""},{"$nulls":5},0,{"$f":"IF(AJ5493=statistics!$D$3,AB5492+AH5493-AG5493,)","v":0},{"$f":"IF(AND(ROW(AC5493)>=statistics!$C$55,ROW(AC5493)<=statistics!$D$55),AC5492+AH5493-AG5493,)","v":0},{"$f":"IF(AND(statistics!$C$55<=ROW(A5493),ROW(A5493)<=statistics!$D$55)=TRUE,AH5493-AG5493+AA5492-INDEX(AA:AA,statistics!$C$55),\"\")","v":""},null,null,0,0,0,"",{"$f":"IF(statistics!$D$3<>0,IF(AJ5493=statistics!$D$3,AG5493,\"\"),IF(B5493<>\"\",AG5493,\"\"))","v":""},{"$f":"IF(statistics!$D$3<>0,IF(AJ5493=statistics!$D$3,IF(AH5493=0,\"\",AH5493),\"\"),IF(AH5493<>0,AH5493,\"\"))","v":""},{"$f":"IF(statistics!$D$3<>0,IF(AJ5493=statistics!$D$3,IF(A5493=0,\"\",1),\"\"),IF(A5493=0,\"\",1))","v":""},"","",null,"",{"$nulls":10},"",null,null,"",null,0,null,{"$error":"#NUM!"},{"$error":"#NUM!"},5492]
[{"$nulls":4},"","","","","",null,null,"",{"$nulls":6},5493,"",{"$f":"IF(A5495=0,IF(B5495=\"\",IF(B5494=0,\"\",SUM($AG$1:AG5494)-SUM($U$1:U5493)),\"\"),SUM($AG$1:AG5494)-SUM($U$1:U5493))","v":""},{"$nulls":5},0,{"$f":"IF(AJ5494=statistics!$D$3,AB5493+AH5494-AG5494,)","v":0},{"$f":"IF(AND(ROW(AC5494)>=statistics!$C$55,ROW(AC5494)<=statistics!$D$55),AC5493+AH5494-AG5494,)","v":0},{"$f":"IF(AND(statistics!$C$55<=ROW(A5494),ROW(A5494)<=statistics!$D$55)=TRUE,AH5494-AG5494+AA5493-INDEX(AA:AA,statistics!$C$55),\"\")","v":""},null,null,0,0,0,"",{"$f":"IF(statistics!$D$3<>0,IF(AJ5494=statistics!$D$3,AG5494,\"\"),IF(B5494<>\"\",AG5494,\"\"))","v":""},{"$f":"IF(statistics!$D$3<>0,IF(AJ5494=statistics!$D$3,IF(AH5494=0,\"\",AH5494),\"\"),IF(AH5494<>0,AH5494,\"\"))","v":""},{"$f":"IF(statistics!$D$3<>0,IF(AJ5494=statistics!$D$3,IF(A5494=0,\"\",1),\"\"),IF(A5494=0,\"\",1))","v":""},"","",null,"",{"$nulls":10},"",null,null,"",null,0,null,{"$error":"#NUM!"},{"$error":"#NUM!"},5493]
[{"$nulls":4},"","","","","",null,null,"",{"$nulls":6},5494,"",{"$f":"IF(A5496=0,IF(B5496=\"\",IF(B5495=0,\"\",SUM($AG$1:AG5495)-SUM($U$1:U5494)),\"\"),SUM($AG$1:AG5495)-SUM($U$1:U5494))","v":""},{"$nulls":5},0,{"$f":"IF(AJ5495=statistics!$D$3,AB5494+AH5495-AG5495,)","v":0},{"$f":"IF(AND(ROW(AC5495)>=statistics!$C$55,ROW(AC5495)<=statistics!$D$55),AC5494+AH5495-AG5495,)","v":0},{"$f":"IF(AND(statistics!$C$55<=ROW(A5495),ROW(A5495)<=statistics!$D$55)=TRUE,AH5495-AG5495+AA5494-INDEX(AA:AA,statistics!$C$55),\"\")","v":""},null,null,0,0,0,"",{"$f":"IF(statistics!$D$3<>0,IF(AJ5495=statistics!$D$3,AG5495,\"\"),IF(B5495<>\"\",AG5495,\"\"))","v":""},{"$f":"IF(statistics!$D$3<>0,IF(AJ5495=statistics!$D$3,IF(AH5495=0,\"\",AH5495),\"\"),IF(AH5495<>0,AH5495,\"\"))","v":""},{"$f":"IF(statistics!$D$3<>0,IF(AJ5495=statistics!$D$3,IF(A5495=0,\"\",1),\"\"),IF(A5495=0,\"\",1))","v":""},"","",null,"",{"$nulls":10},"",null,null,"",null,0,null,{"$error":"#NUM!"},{"$error":"#NUM!"},5494]
[{"$nulls":4},"","","","","",null,null,"",{"$nulls":6},5495,"",{"$f":"IF(A5497=0,IF(B5497=\"\",IF(B5496=0,\"\",SUM($AG$1:AG5496)-SUM($U$1:U5495)),\"\"),SUM($AG$1:AG5496)-SUM($U$1:U5495))","v":""},{"$nulls":5},0,{"$f":"IF(AJ5496=statistics!$D$3,AB5495+AH5496-AG5496,)","v":0},{"$f":"IF(AND(ROW(AC5496)>=statistics!$C$55,ROW(AC5496)<=statistics!$D$55),AC5495+AH5496-AG5496,)","v":0},{"$f":"IF(AND(statistics!$C$55<=ROW(A5496),ROW(A5496)<=statistics!$D$55)=TRUE,AH5496-AG5496+AA5495-INDEX(AA:AA,statistics!$C$55),\"\")","v":""},null,null,0,0,0,"",{"$f":"IF(statistics!$D$3<>0,IF(AJ5496=statistics!$D$3,AG5496,\"\"),IF(B5496<>\"\",AG5496,\"\"))","v":""},{"$f":"IF(statistics!$D$3<>0,IF(AJ5496=statistics!$D$3,IF(AH5496=0,\"\",AH5496),\"\"),IF(AH5496<>0,AH5496,\"\"))","v":""},{"$f":"IF(statistics!$D$3<>0,IF(AJ5496=statistics!$D$3,IF(A5496=0,\"\",1),\"\"),IF(A5496=0,\"\",1))","v":""},"","",null,"",{"$nulls":10},"",null,null,"",null,0,null,{"$error":"#NUM!"},{"$error":"#NUM!"},5495]
[{"$nulls":4},"","","","","",null,null,"",{"$nulls":6},5496,"",{"$f":"IF(A5498=0,IF(B5498=\"\",IF(B5497=0,\"\",SUM($AG$1:AG5497)-SUM($U$1:U5496)),\"\"),SUM($AG$1:AG5497)-SUM($U$1:U5496))","v":""},{"$nulls":5},0,{"$f":"IF(AJ5497=statistics!$D$3,AB5496+AH5497-AG5497,)","v":0},{"$f":"IF(AND(ROW(AC5497)>=statistics!$C$55,ROW(AC5497)<=statistics!$D$55),AC5496+AH5497-AG5497,)","v":0},{"$f":"IF(AND(statistics!$C$55<=ROW(A5497),ROW(A5497)<=statistics!$D$55)=TRUE,AH5497-AG5497+AA5496-INDEX(AA:AA,statistics!$C$55),\"\")","v":""},null,null,0,0,0,"",{"$f":"IF(statistics!$D$3<>0,IF(AJ5497=statistics!$D$3,AG5497,\"\"),IF(B5497<>\"\",AG5497,\"\"))","v":""},{"$f":"IF(statistics!$D$3<>0,IF(AJ5497=statistics!$D$3,IF(AH5497=0,\"\",AH5497),\"\"),IF(AH5497<>0,AH5497,\"\"))","v":""},{"$f":"IF(statistics!$D$3<>0,IF(AJ5497=statistics!$D$3,IF(A5497=0,\"\",1),\"\"),IF(A5497=0,\"\",1))","v":""},"","",null,"",{"$nulls":10},"",null,null,"",null,0,null,{"$error":"#NUM!"},{"$error":"#NUM!"},5496]
[{"$nulls":4},"","","","","",null,null,"",{"$nulls":6},5497,"",{"$f":"IF(A5499=0,IF(B5499=\"\",IF(B5498=0,\"\",SUM($AG$1:AG5498)-SUM($U$1:U5497)),\"\"),SUM($AG$1:AG5498)-SUM($U$1:U5497))","v":""},{"$nulls":5},0,{"$f":"IF(AJ5498=statistics!$D$3,AB5497+AH5498-AG5498,)","v":0},{"$f":"IF(AND(ROW(AC5498)>=statistics!$C$55,ROW(AC5498)<=statistics!$D$55),AC5497+AH5498-AG5498,)","v":0},{"$f":"IF(AND(statistics!$C$55<=ROW(A5498),ROW(A5498)<=statistics!$D$55)=TRUE,AH5498-AG5498+AA5497-INDEX(AA:AA,statistics!$C$55),\"\")","v":""},null,null,0,0,0,"",{"$f":"IF(statistics!$D$3<>0,IF(AJ5498=statistics!$D$3,AG5498,\"\"),IF(B5498<>\"\",AG5498,\"\"))","v":""},{"$f":"IF(statistics!$D$3<>0,IF(AJ5498=statistics!$D$3,IF(AH5498=0,\"\",AH5498),\"\"),IF(AH5498<>0,AH5498,\"\"))","v":""},{"$f":"IF(statistics!$D$3<>0,IF(AJ5498=statistics!$D$3,IF(A5498=0,\"\",1),\"\"),IF(A5498=0,\"\",1))","v":""},"","",null,"",{"$nulls":10},"",null,null,"",null,0,null,{"$error":"#NUM!"},{"$error":"#NUM!"},5497]
[{"$nulls":4},"","","","","",null,null,"",{"$nulls":6},5498,"",{"$f":"IF(A5500=0,IF(B5500=\"\",IF(B5499=0,\"\",SUM($AG$1:AG5499)-SUM($U$1:U5498)),\"\"),SUM($AG$1:AG5499)-SUM($U$1:U5498))","v":""},{"$nulls":5},0,{"$f":"IF(AJ5499=statistics!$D$3,AB5498+AH5499-AG5499,)","v":0},{"$f":"IF(AND(ROW(AC5499)>=statistics!$C$55,ROW(AC5499)<=statistics!$D$55),AC5498+AH5499-AG5499,)","v":0},{"$f":"IF(AND(statistics!$C$55<=ROW(A5499),ROW(A5499)<=statistics!$D$55)=TRUE,AH5499-AG5499+AA5498-INDEX(AA:AA,statistics!$C$55),\"\")","v":""},null,null,0,0,0,"",{"$f":"IF(statistics!$D$3<>0,IF(AJ5499=statistics!$D$3,AG5499,\"\"),IF(B5499<>\"\",AG5499,\"\"))","v":""},{"$f":"IF(statistics!$D$3<>0,IF(AJ5499=statistics!$D$3,IF(AH5499=0,\"\",AH5499),\"\"),IF(AH5499<>0,AH5499,\"\"))","v":""},{"$f":"IF(statistics!$D$3<>0,IF(AJ5499=statistics!$D$3,IF(A5499=0,\"\",1),\"\"),IF(A5499=0,\"\",1))","v":""},"","",null,"",{"$nulls":10},"",null,null,"",null,0,null,{"$error":"#NUM!"},{"$error":"#NUM!"},5498]
[{"$nulls":4},"","","","","",null,null,"",{"$nulls":6},5499,"",{"$f":"IF(A5501=0,IF(B5501=\"\",IF(B5500=0,\"\",SUM($AG$1:AG5500)-SUM($U$1:U5499)),\"\"),SUM($AG$1:AG5500)-SUM($U$1:U5499))","v":""},{"$nulls":5},0,{"$f":"IF(AJ5500=statistics!$D$3,AB5499+AH5500-AG5500,)","v":0},{"$f":"IF(AND(ROW(AC5500)>=statistics!$C$55,ROW(AC5500)<=statistics!$D$55),AC5499+AH5500-AG5500,)","v":0},{"$f":"IF(AND(statistics!$C$55<=ROW(A5500),ROW(A5500)<=statistics!$D$55)=TRUE,AH5500-AG5500+AA5499-INDEX(AA:AA,statistics!$C$55),\"\")","v":""},null,null,0,0,0,"",{"$f":"IF(statistics!$D$3<>0,IF(AJ5500=statistics!$D$3,AG5500,\"\"),IF(B5500<>\"\",AG5500,\"\"))","v":""},{"$f":"IF(statistics!$D$3<>0,IF(AJ5500=statistics!$D$3,IF(AH5500=0,\"\",AH5500),\"\"),IF(AH5500<>0,AH5500,\"\"))","v":""},{"$f":"IF(statistics!$D$3<>0,IF(AJ5500=statistics!$D$3,IF(A5500=0,\"\",1),\"\"),IF(A5500=0,\"\",1))","v":""},"","",null,"",{"$nulls":10},"",null,null,"",null,0,null,{"$error":"#NUM!"},{"$error":"#NUM!"},5499]
[{"$nulls":4},"","","","","",null,null,"",{"$nulls":6},5500,"",{"$f":"IF(A5502=0,IF(B5502=\"\",IF(B5501=0,\"\",SUM($AG$1:AG5501)-SUM($U$1:U5500)),\"\"),SUM($AG$1:AG5501)-SUM($U$1:U5500))","v":""},{"$nulls":5},0,{"$f":"IF(AJ5501=statistics!$D$3,AB5500+AH5501-AG5501,)","v":0},{"$f":"IF(AND(ROW(AC5501)>=statistics!$C$55,ROW(AC5501)<=statistics!$D$55),AC5500+AH5501-AG5501,)","v":0},{"$f":"IF(AND(statistics!$C$55<=ROW(A5501),ROW(A5501)<=statistics!$D$55)=TRUE,AH5501-AG5501+AA5500-INDEX(AA:AA,statistics!$C$55),\"\")","v":""},null,null,0,0,0,"",{"$f":"IF(statistics!$D$3<>0,IF(AJ5501=statistics!$D$3,AG5501,\"\"),IF(B5501<>\"\",AG5501,\"\"))","v":""},{"$f":"IF(statistics!$D$3<>0,IF(AJ5501=statistics!$D$3,IF(AH5501=0,\"\",AH5501),\"\"),IF(AH5501<>0,AH5501,\"\"))","v":""},{"$f":"IF(statistics!$D$3<>0,IF(AJ5501=statistics!$D$3,IF(A5501=0,\"\",1),\"\"),IF(A5501=0,\"\",1))","v":""},"","",null,"",{"$nulls":10},"",null,null,"",null,0,null,{"$error":"#NUM!"},{"$error":"#NUM!"},5500]
[{"$nulls":4},"","","","","",null,null,"",{"$nulls":6},5501,"",{"$f":"IF(A5503=0,IF(B5503=\"\",IF(B5502=0,\"\",SUM($AG$1:AG5502)-SUM($U$1:U5501)),\"\"),SUM($AG$1:AG5502)-SUM($U$1:U5501))","v":""},{"$nulls":5},0,{"$f":"IF(AJ5502=statistics!$D$3,AB5501+AH5502-AG5502,)","v":0},{"$f":"IF(AND(ROW(AC5502)>=statistics!$C$55,ROW(AC5502)<=statistics!$D$55),AC5501+AH5502-AG5502,)","v":0},{"$f":"IF(AND(statistics!$C$55<=ROW(A5502),ROW(A5502)<=statistics!$D$55)=TRUE,AH5502-AG5502+AA5501-INDEX(AA:AA,statistics!$C$55),\"\")","v":""},null,null,0,0,0,"",{"$f":"IF(statistics!$D$3<>0,IF(AJ5502=statistics!$D$3,AG5502,\"\"),IF(B5502<>\"\",AG5502,\"\"))","v":""},{"$f":"IF(statistics!$D$3<>0,IF(AJ5502=statistics!$D$3,IF(AH5502=0,\"\",AH5502),\"\"),IF(AH5502<>0,AH5502,\"\"))","v":""},{"$f":"IF(statistics!$D$3<>0,IF(AJ5502=statistics!$D$3,IF(A5502=0,\"\",1),\"\"),IF(A5502=0,\"\",1))","v":""},"","",null,"",{"$nulls":10},"",null,null,"",null,0,null,{"$error":"#NUM!"},{"$error":"#NUM!"},5501]
[{"$nulls":4},"","","","","",null,null,"",{"$nulls":6},5502,"",{"$f":"IF(A5504=0,IF(B5504=\"\",IF(B5503=0,\"\",SUM($AG$1:AG5503)-SUM($U$1:U5502)),\"\"),SUM($AG$1:AG5503)-SUM($U$1:U5502))","v":""},{"$nulls":5},0,{"$f":"IF(AJ5503=statistics!$D$3,AB5502+AH5503-AG5503,)","v":0},{"$f":"IF(AND(ROW(AC5503)>=statistics!$C$55,ROW(AC5503)<=statistics!$D$55),AC5502+AH5503-AG5503,)","v":0},{"$f":"IF(AND(statistics!$C$55<=ROW(A5503),ROW(A5503)<=statistics!$D$55)=TRUE,AH5503-AG5503+AA5502-INDEX(AA:AA,statistics!$C$55),\"\")","v":""},null,null,0,0,0,"",{"$f":"IF(statistics!$D$3<>0,IF(AJ5503=statistics!$D$3,AG5503,\"\"),IF(B5503<>\"\",AG5503,\"\"))","v":""},{"$f":"IF(statistics!$D$3<>0,IF(AJ5503=statistics!$D$3,IF(AH5503=0,\"\",AH5503),\"\"),IF(AH5503<>0,AH5503,\"\"))","v":""},{"$f":"IF(statistics!$D$3<>0,IF(AJ5503=statistics!$D$3,IF(A5503=0,\"\",1),\"\"),IF(A5503=0,\"\",1))","v":""},"","",null,"",{"$nulls":10},"",null,null,"",null,0,null,{"$error":"#NUM!"},{"$error":"#NUM!"},5502]
[{"$nulls":4},"","","","","",null,null,"",{"$nulls":6},5503,"",{"$f":"IF(A5505=0,IF(B5505=\"\",IF(B5504=0,\"\",SUM($AG$1:AG5504)-SUM($U$1:U5503)),\"\"),SUM($AG$1:AG5504)-SUM($U$1:U5503))","v":""},{"$nulls":5},0,{"$f":"IF(AJ5504=statistics!$D$3,AB5503+AH5504-AG5504,)","v":0},{"$f":"IF(AND(ROW(AC5504)>=statistics!$C$55,ROW(AC5504)<=statistics!$D$55),AC5503+AH5504-AG5504,)","v":0},{"$f":"IF(AND(statistics!$C$55<=ROW(A5504),ROW(A5504)<=statistics!$D$55)=TRUE,AH5504-AG5504+AA5503-INDEX(AA:AA,statistics!$C$55),\"\")","v":""},null,null,0,0,0,"",{"$f":"IF(statistics!$D$3<>0,IF(AJ5504=statistics!$D$3,AG5504,\"\"),IF(B5504<>\"\",AG5504,\"\"))","v":""},{"$f":"IF(statistics!$D$3<>0,IF(AJ5504=statistics!$D$3,IF(AH5504=0,\"\",AH5504),\"\"),IF(AH5504<>0,AH5504,\"\"))","v":""},{"$f":"IF(statistics!$D$3<>0,IF(AJ5504=statistics!$D$3,IF(A5504=0,\"\",1),\"\"),IF(A5504=0,\"\",1))","v":""},"","",null,"",{"$nulls":10},"",null,null,"",null,0,null,{"$error":"#NUM!"},{"$error":"#NUM!"},5503]
[{"$nulls":4},"",{"$f":"IF(A5505=0,\"\",IF(T5505=0,\"\",E5505/T5505))","v":""},"","","",null,null,"",{"$nulls":6},5504,"",{"$f":"IF(A5506=0,IF(B5506=\"\",IF(B5505=0,\"\",SUM($AG$1:AG5505)-SUM($U$1:U5504)),\"\"),SUM($AG$1:AG5505)-SUM($U$1:U5504))","v":""},{"$nulls":5},0,{"$f":"IF(AJ5505=statistics!$D$3,AB5504+AH5505-AG5505,)","v":0},{"$f":"IF(AND(ROW(AC5505)>=statistics!$C$55,ROW(AC5505)<=statistics!$D$55),AC5504+AH5505-AG5505,)","v":0},{"$f":"IF(AND(statistics!$C$55<=ROW(A5505),ROW(A5505)<=statistics!$D$55)=TRUE,AH5505-AG5505+AA5504-INDEX(AA:AA,statistics!$C$55),\"\")","v":""},null,null,0,0,0,"",{"$f":"IF(statistics!$D$3<>0,IF(AJ5505=statistics!$D$3,AG5505,\"\"),IF(B5505<>\"\",AG5505,\"\"))","v":""},{"$f":"IF(statistics!$D$3<>0,IF(AJ5505=statistics!$D$3,IF(AH5505=0,\"\",AH5505),\"\"),IF(AH5505<>0,AH5505,\"\"))","v":""},{"$f":"IF(statistics!$D$3<>0,IF(AJ5505=statistics!$D$3,IF(A5505=0,\"\",1),\"\"),IF(A5505=0,\"\",1))","v":""},"","",null,"",{"$nulls":10},"",null,null,"",null,0,null,{"$error":"#NUM!"},{"$error":"#NUM!"},5504]
[{"$nulls":4},"","","",{"$f":"IF(A5507=0,IF(B5507=\"\",IF(B5506=0,\"\",U5506),\"\"),U5506)","v":""},{"$f":"IF(A5507=0,IF(B5507=\"\",IF(B5506=0,\"\",S5506),\"\"),S5506)","v":""},null,null,"",{"$nulls":6},{"$f":"IF(A5506=0,S5505+1,1)","v":5505},"",{"$f":"IF(A5507=0,IF(B5507=\"\",IF(B5506=0,\"\",SUM($AG$1:AG5506)-SUM($U$1:U5505)),\"\"),SUM($AG$1:AG5506)-SUM($U$1:U5505))","v":""},{"$nulls":5},0,{"$f":"IF(AJ5506=statistics!$D$3,AB5505+AH5506-AG5506,)","v":0},{"$f":"IF(AND(ROW(AC5506)>=statistics!$C$55,ROW(AC5506)<=statistics!$D$55),AC5505+AH5506-AG5506,)","v":0},{"$f":"IF(AND(statistics!$C$55<=ROW(A5506),ROW(A5506)<=statistics!$D$55)=TRUE,AH5506-AG5506+AA5505-INDEX(AA:AA,statistics!$C$55),\"\")","v":""},null,null,0,0,0,"",{"$f":"IF(statistics!$D$3<>0,IF(AJ5506=statistics!$D$3,AG5506,\"\"),IF(B5506<>\"\",AG5506,\"\"))","v":""},{"$f":"IF(statistics!$D$3<>0,IF(AJ5506=statistics!$D$3,IF(AH5506=0,\"\",AH5506),\"\"),IF(AH5506<>0,AH5506,\"\"))","v":""},{"$f":"IF(statistics!$D$3<>0,IF(AJ5506=statistics!$D$3,IF(A5506=0,\"\",1),\"\"),IF(A5506=0,\"\",1))","v":""},"","",null,"",{"$nulls":10},"",null,null,"",null,0,null,{"$error":"#NUM!"},{"$error":"#NUM!"},5505]
[{"$nulls":4},"","","","","",null,null,{"$f":"IF(A5507=0,\"\",SUM(AI5507:AI15505)-SUM(L5508:L15505))","v":""},{"$nulls":6},5506,{"$f":"IF(A5507=0,\"\",SUM(AG5507:AG15505)-SUM(T5508:T15505))","v":""},{"$f":"IF(A5508=0,IF(B5508=\"\",IF(B5507=0,\"\",SUM($AG$1:AG5507)-SUM($U$1:U5506)),\"\"),SUM($AG$1:AG5507)-SUM($U$1:U5506))","v":""},{"$nulls":5},{"$f":"AA5506+AH5507-AG5507","v":0},{"$f":"IF(AJ5507=statistics!$D$3,AB5506+AH5507-AG5507,)","v":0},{"$f":"IF(AND(ROW(AC5507)>=statistics!$C$55,ROW(AC5507)<=statistics!$D$55),AC5506+AH5507-AG5507,)","v":0},{"$f":"IF(AND(statistics!$C$55<=ROW(A5507),ROW(A5507)<=statistics!$D$55)=TRUE,AH5507-AG5507+AA5506-INDEX(AA:AA,statistics!$C$55),\"\")","v":""},null,null,0,0,0,"",{"$f":"IF(statistics!$D$3<>0,IF(AJ5507=statistics!$D$3,AG5507,\"\"),IF(B5507<>\"\",AG5507,\"\"))","v":""},{"$f":"IF(statistics!$D$3<>0,IF(AJ5507=statistics!$D$3,IF(AH5507=0,\"\",AH5507),\"\"),IF(AH5507<>0,AH5507,\"\"))","v":""},{"$f":"IF(statistics!$D$3<>0,IF(AJ5507=statistics!$D$3,IF(A5507=0,\"\",1),\"\"),IF(A5507=0,\"\",1))","v":""},"","",null,"",{"$nulls":10},"",null,null,"",null,0,null,{"$error":"#NUM!"},{"$error":"#NUM!"},5506]
[{"$nulls":4},"","","","","",null,null,"",{"$nulls":6},5507,"",{"$f":"IF(A5509=0,IF(B5509=\"\",IF(B5508=0,\"\",SUM($AG$1:AG5508)-SUM($U$1:U5507)),\"\"),SUM($AG$1:AG5508)-SUM($U$1:U5507))","v":""},{"$nulls":5},0,{"$f":"IF(AJ5508=statistics!$D$3,AB5507+AH5508-AG5508,)","v":0},{"$f":"IF(AND(ROW(AC5508)>=statistics!$C$55,ROW(AC5508)<=statistics!$D$55),AC5507+AH5508-AG5508,)","v":0},{"$f":"IF(AND(statistics!$C$55<=ROW(A5508),ROW(A5508)<=statistics!$D$55)=TRUE,AH5508-AG5508+AA5507-INDEX(AA:AA,statistics!$C$55),\"\")","v":""},null,null,0,0,0,"",{"$f":"IF(statistics!$D$3<>0,IF(AJ5508=statistics!$D$3,AG5508,\"\"),IF(B5508<>\"\",AG5508,\"\"))","v":""},{"$f":"IF(statistics!$D$3<>0,IF(AJ5508=statistics!$D$3,IF(AH5508=0,\"\",AH5508),\"\"),IF(AH5508<>0,AH5508,\"\"))","v":""},{"$f":"IF(statistics!$D$3<>0,IF(AJ5508=statistics!$D$3,IF(A5508=0,\"\",1),\"\"),IF(A5508=0,\"\",1))","v":""},"",{"$f":"IF(A5508<>0,IF(MONTH(A5508)=AJ5507,\"\",MONTH(A5508)),\"\")","v":""},null,"",{"$nulls":10},"",null,null,"",null,0,null,{"$error":"#NUM!"},{"$error":"#NUM!"},5507]
[{"$nulls":4},"","","","","",null,null,"",{"$nulls":6},5508,"",{"$f":"IF(A5510=0,IF(B5510=\"\",IF(B5509=0,\"\",SUM($AG$1:AG5509)-SUM($U$1:U5508)),\"\"),SUM($AG$1:AG5509)-SUM($U$1:U5508))","v":""},{"$nulls":5},0,{"$f":"IF(AJ5509=statistics!$D$3,AB5508+AH5509-AG5509,)","v":0},{"$f":"IF(AND(ROW(AC5509)>=statistics!$C$55,ROW(AC5509)<=statistics!$D$55),AC5508+AH5509-AG5509,)","v":0},{"$f":"IF(AND(statistics!$C$55<=ROW(A5509),ROW(A5509)<=statistics!$D$55)=TRUE,AH5509-AG5509+AA5508-INDEX(AA:AA,statistics!$C$55),\"\")","v":""},null,null,0,0,0,"",{"$f":"IF(statistics!$D$3<>0,IF(AJ5509=statistics!$D$3,AG5509,\"\"),IF(B5509<>\"\",AG5509,\"\"))","v":""},{"$f":"IF(statistics!$D$3<>0,IF(AJ5509=statistics!$D$3,IF(AH5509=0,\"\",AH5509),\"\"),IF(AH5509<>0,AH5509,\"\"))","v":""},{"$f":"IF(statistics!$D$3<>0,IF(AJ5509=statistics!$D$3,IF(A5509=0,\"\",1),\"\"),IF(A5509=0,\"\",1))","v":""},"","",null,"",{"$nulls":10},"",null,null,"",null,0,null,{"$error":"#NUM!"},{"$error":"#NUM!"},5508]
[{"$nulls":4},"","","","","",null,null,"",{"$nulls":6},5509,"",{"$f":"IF(A5511=0,IF(B5511=\"\",IF(B5510=0,\"\",SUM($AG$1:AG5510)-SUM($U$1:U5509)),\"\"),SUM($AG$1:AG5510)-SUM($U$1:U5509))","v":""},{"$nulls":5},0,{"$f":"IF(AJ5510=statistics!$D$3,AB5509+AH5510-AG5510,)","v":0},{"$f":"IF(AND(ROW(AC5510)>=statistics!$C$55,ROW(AC5510)<=statistics!$D$55),AC5509+AH5510-AG5510,)","v":0},{"$f":"IF(AND(statistics!$C$55<=ROW(A5510),ROW(A5510)<=statistics!$D$55)=TRUE,AH5510-AG5510+AA5509-INDEX(AA:AA,statistics!$C$55),\"\")","v":""},null,null,{"$f":"IF(J5510=0,B5510+C5510,(B5510+C5510)-(B5510+C5510)*J5510*K5510)","v":0},{"$f":"IF(J5510=0,D5510,D5510*(1-J5510))","v":0},{"$f":"IF(J5510=0,,D5510*J5510)","v":0},{"$f":"IF(A5510<>0,MONTH(A5510),IF(B5510=\"\",\"\",AJ5509))","v":""},{"$f":"IF(statistics!$D$3<>0,IF(AJ5510=statistics!$D$3,AG5510,\"\"),IF(B5510<>\"\",AG5510,\"\"))","v":""},{"$f":"IF(statistics!$D$3<>0,IF(AJ5510=statistics!$D$3,IF(AH5510=0,\"\",AH5510),\"\"),IF(AH5510<>0,AH5510,\"\"))","v":""},{"$f":"IF(statistics!$D$3<>0,IF(AJ5510=statistics!$D$3,IF(A5510=0,\"\",1),\"\"),IF(A5510=0,\"\",1))","v":""},{"$f":"IF(AK5510<>\"\",IF(AK5509=0,ROW(AK5510),ROW(AK5510)),\"\")","v":""},"",null,{"$f":"IF(B5510=0,\"\",IF(D5510=0,IF(D5509=0,AQ5509+1,1),\"\"))","v":""},{"$nulls":10},{"$f":"IF(B5510=$BA$2,ROW(),\"\")","v":""},null,null,{"$f":"IF(B5510=$BA$2,INDEX(D:D,SMALL(BB:BB,CELL(\"содержимое\",BG5510)))-INDEX(B:B,SMALL(BB:BB,CELL(\"содержимое\",BG5510)))-INDEX(C:C,SMALL(BB:BB,CELL(\"содержимое\",BG5510))),\"\")","v":""},null,{"$f":"IF($BA$2=B5510,BG5509+1,BG5509)","v":0},null,{"$f":"INDEX(BE:BE,SMALL(BB:BB,CELL(\"содержимое\",BK5510)))","v":{"$error":"#NUM!"}},{"$f":"BJ5509+BI5510","v":{"$error":"#NUM!"}},{"$f":"BK5509+1","v":5509}]
[{"$nulls":4},"","","","","",null,null,"",{"$nulls":6},5510,"",{"$f":"IF(A5512=0,IF(B5512=\"\",IF(B5511=0,\"\",SUM($AG$1:AG5511)-SUM($U$1:U5510)),\"\"),SUM($AG$1:AG5511)-SUM($U$1:U5510))","v":""},{"$nulls":5},0,{"$f":"IF(AJ5511=statistics!$D$3,AB5510+AH5511-AG5511,)","v":0},{"$f":"IF(AND(ROW(AC5511)>=statistics!$C$55,ROW(AC5511)<=statistics!$D$55),AC5510+AH5511-AG5511,)","v":0},{"$f":"IF(AND(statistics!$C$55<=ROW(A5511),ROW(A5511)<=statistics!$D$55)=TRUE,AH5511-AG5511+AA5510-INDEX(AA:AA,statistics!$C$55),\"\")","v":""},null,null,0,0,0,"",{"$f":"IF(statistics!$D$3<>0,IF(AJ5511=statistics!$D$3,AG5511,\"\"),IF(B5511<>\"\",AG5511,\"\"))","v":""},{"$f":"IF(statistics!$D$3<>0,IF(AJ5511=statistics!$D$3,IF(AH5511=0,\"\",AH5511),\"\"),IF(AH5511<>0,AH5511,\"\"))","v":""},{"$f":"IF(statistics!$D$3<>0,IF(AJ5511=statistics!$D$3,IF(A5511=0,\"\",1),\"\"),IF(A5511=0,\"\",1))","v":""},"","",null,"",{"$nulls":10},"",null,null,"",null,0,null,{"$error":"#NUM!"},{"$error":"#NUM!"},5510]
[{"$nulls":4},"","","","","",null,null,"",{"$nulls":6},5511,"",{"$f":"IF(A5513=0,IF(B5513=\"\",IF(B5512=0,\"\",SUM($AG$1:AG5512)-SUM($U$1:U5511)),\"\"),SUM($AG$1:AG5512)-SUM($U$1:U5511))","v":""},{"$nulls":5},0,{"$f":"IF(AJ5512=statistics!$D$3,AB5511+AH5512-AG5512,)","v":0},{"$f":"IF(AND(ROW(AC5512)>=statistics!$C$55,ROW(AC5512)<=statistics!$D$55),AC5511+AH5512-AG5512,)","v":0},{"$f":"IF(AND(statistics!$C$55<=ROW(A5512),ROW(A5512)<=statistics!$D$55)=TRUE,AH5512-AG5512+AA5511-INDEX(AA:AA,statistics!$C$55),\"\")","v":""},null,null,0,0,0,"",{"$f":"IF(statistics!$D$3<>0,IF(AJ5512=statistics!$D$3,AG5512,\"\"),IF(B5512<>\"\",AG5512,\"\"))","v":""},{"$f":"IF(statistics!$D$3<>0,IF(AJ5512=statistics!$D$3,IF(AH5512=0,\"\",AH5512),\"\"),IF(AH5512<>0,AH5512,\"\"))","v":""},{"$f":"IF(statistics!$D$3<>0,IF(AJ5512=statistics!$D$3,IF(A5512=0,\"\",1),\"\"),IF(A5512=0,\"\",1))","v":""},"","",null,"",{"$nulls":10},"",null,null,"",null,0,null,{"$error":"#NUM!"},{"$error":"#NUM!"},5511]
[{"$nulls":4},"","","","","",null,null,"",{"$nulls":6},5512,"",{"$f":"IF(A5514=0,IF(B5514=\"\",IF(B5513=0,\"\",SUM($AG$1:AG5513)-SUM($U$1:U5512)),\"\"),SUM($AG$1:AG5513)-SUM($U$1:U5512))","v":""},{"$nulls":5},0,{"$f":"IF(AJ5513=statistics!$D$3,AB5512+AH5513-AG5513,)","v":0},{"$f":"IF(AND(ROW(AC5513)>=statistics!$C$55,ROW(AC5513)<=statistics!$D$55),AC5512+AH5513-AG5513,)","v":0},{"$f":"IF(AND(statistics!$C$55<=ROW(A5513),ROW(A5513)<=statistics!$D$55)=TRUE,AH5513-AG5513+AA5512-INDEX(AA:AA,statistics!$C$55),\"\")","v":""},null,null,0,0,0,"",{"$f":"IF(statistics!$D$3<>0,IF(AJ5513=statistics!$D$3,AG5513,\"\"),IF(B5513<>\"\",AG5513,\"\"))","v":""},{"$f":"IF(statistics!$D$3<>0,IF(AJ5513=statistics!$D$3,IF(AH5513=0,\"\",AH5513),\"\"),IF(AH5513<>0,AH5513,\"\"))","v":""},{"$f":"IF(statistics!$D$3<>0,IF(AJ5513=statistics!$D$3,IF(A5513=0,\"\",1),\"\"),IF(A5513=0,\"\",1))","v":""},"","",null,"",{"$nulls":10},"",null,null,"",null,0,null,{"$error":"#NUM!"},{"$error":"#NUM!"},5512]
[{"$nulls":4},"","","","","",null,null,"",{"$nulls":6},5513,"",{"$f":"IF(A5515=0,IF(B5515=\"\",IF(B5514=0,\"\",SUM($AG$1:AG5514)-SUM($U$1:U5513)),\"\"),SUM($AG$1:AG5514)-SUM($U$1:U5513))","v":""},{"$nulls":5},0,{"$f":"IF(AJ5514=statistics!$D$3,AB5513+AH5514-AG5514,)","v":0},{"$f":"IF(AND(ROW(AC5514)>=statistics!$C$55,ROW(AC5514)<=statistics!$D$55),AC5513+AH5514-AG5514,)","v":0},{"$f":"IF(AND(statistics!$C$55<=ROW(A5514),ROW(A5514)<=statistics!$D$55)=TRUE,AH5514-AG5514+AA5513-INDEX(AA:AA,statistics!$C$55),\"\")","v":""},null,null,0,0,0,"",{"$f":"IF(statistics!$D$3<>0,IF(AJ5514=statistics!$D$3,AG5514,\"\"),IF(B5514<>\"\",AG5514,\"\"))","v":""},{"$f":"IF(statistics!$D$3<>0,IF(AJ5514=statistics!$D$3,IF(AH5514=0,\"\",AH5514),\"\"),IF(AH5514<>0,AH5514,\"\"))","v":""},{"$f":"IF(statistics!$D$3<>0,IF(AJ5514=statistics!$D$3,IF(A5514=0,\"\",1),\"\"),IF(A5514=0,\"\",1))","v":""},"","",null,"",{"$nulls":10},"",null,null,"",null,0,null,{"$error":"#NUM!"},{"$error":"#NUM!"},5513]
[{"$nulls":4},"","","","","",null,null,"",{"$nulls":6},5514,"",{"$f":"IF(A5516=0,IF(B5516=\"\",IF(B5515=0,\"\",SUM($AG$1:AG5515)-SUM($U$1:U5514)),\"\"),SUM($AG$1:AG5515)-SUM($U$1:U5514))","v":""},{"$nulls":5},0,{"$f":"IF(AJ5515=statistics!$D$3,AB5514+AH5515-AG5515,)","v":0},{"$f":"IF(AND(ROW(AC5515)>=statistics!$C$55,ROW(AC5515)<=statistics!$D$55),AC5514+AH5515-AG5515,)","v":0},{"$f":"IF(AND(statistics!$C$55<=ROW(A5515),ROW(A5515)<=statistics!$D$55)=TRUE,AH5515-AG5515+AA5514-INDEX(AA:AA,statistics!$C$55),\"\")","v":""},null,null,0,0,0,"",{"$f":"IF(statistics!$D$3<>0,IF(AJ5515=statistics!$D$3,AG5515,\"\"),IF(B5515<>\"\",AG5515,\"\"))","v":""},{"$f":"IF(statistics!$D$3<>0,IF(AJ5515=statistics!$D$3,IF(AH5515=0,\"\",AH5515),\"\"),IF(AH5515<>0,AH5515,\"\"))","v":""},{"$f":"IF(statistics!$D$3<>0,IF(AJ5515=statistics!$D$3,IF(A5515=0,\"\",1),\"\"),IF(A5515=0,\"\",1))","v":""},"","",null,"",{"$nulls":10},"",null,null,"",null,0,null,{"$error":"#NUM!"},{"$error":"#NUM!"},5514]
[{"$nulls":4},{"$f":"IF(A5516=0,\"\",SUM(AH5516:AH15514)-SUM(AG5516:AG15514)-SUM(E5517:E15514))","v":""},"","","","",null,null,"",{"$nulls":6},5515,"",{"$f":"IF(A5517=0,IF(B5517=\"\",IF(B5516=0,\"\",SUM($AG$1:AG5516)-SUM($U$1:U5515)),\"\"),SUM($AG$1:AG5516)-SUM($U$1:U5515))","v":""},{"$nulls":5},0,{"$f":"IF(AJ5516=statistics!$D$3,AB5515+AH5516-AG5516,)","v":0},{"$f":"IF(AND(ROW(AC5516)>=statistics!$C$55,ROW(AC5516)<=statistics!$D$55),AC5515+AH5516-AG5516,)","v":0},{"$f":"IF(AND(statistics!$C$55<=ROW(A5516),ROW(A5516)<=statistics!$D$55)=TRUE,AH5516-AG5516+AA5515-INDEX(AA:AA,statistics!$C$55),\"\")","v":""},null,null,0,0,0,"",{"$f":"IF(statistics!$D$3<>0,IF(AJ5516=statistics!$D$3,AG5516,\"\"),IF(B5516<>\"\",AG5516,\"\"))","v":""},{"$f":"IF(statistics!$D$3<>0,IF(AJ5516=statistics!$D$3,IF(AH5516=0,\"\",AH5516),\"\"),IF(AH5516<>0,AH5516,\"\"))","v":""},{"$f":"IF(statistics!$D$3<>0,IF(AJ5516=statistics!$D$3,IF(A5516=0,\"\",1),\"\"),IF(A5516=0,\"\",1))","v":""},"","",null,"",{"$nulls":10},"",null,null,"",null,0,null,{"$error":"#NUM!"},{"$error":"#NUM!"},5515]
[{"$nulls":4},"","","","","",null,null,"",{"$nulls":6},5516,"",{"$f":"IF(A5518=0,IF(B5518=\"\",IF(B5517=0,\"\",SUM($AG$1:AG5517)-SUM($U$1:U5516)),\"\"),SUM($AG$1:AG5517)-SUM($U$1:U5516))","v":""},{"$nulls":5},0,{"$f":"IF(AJ5517=statistics!$D$3,AB5516+AH5517-AG5517,)","v":0},{"$f":"IF(AND(ROW(AC5517)>=statistics!$C$55,ROW(AC5517)<=statistics!$D$55),AC5516+AH5517-AG5517,)","v":0},{"$f":"IF(AND(statistics!$C$55<=ROW(A5517),ROW(A5517)<=statistics!$D$55)=TRUE,AH5517-AG5517+AA5516-INDEX(AA:AA,statistics!$C$55),\"\")","v":""},null,null,0,0,0,"",{"$f":"IF(statistics!$D$3<>0,IF(AJ5517=statistics!$D$3,AG5517,\"\"),IF(B5517<>\"\",AG5517,\"\"))","v":""},{"$f":"IF(statistics!$D$3<>0,IF(AJ5517=statistics!$D$3,IF(AH5517=0,\"\",AH5517),\"\"),IF(AH5517<>0,AH5517,\"\"))","v":""},{"$f":"IF(statistics!$D$3<>0,IF(AJ5517=statistics!$D$3,IF(A5517=0,\"\",1),\"\"),IF(A5517=0,\"\",1))","v":""},"","",null,"",{"$nulls":10},"",null,null,"",null,0,null,{"$error":"#NUM!"},{"$error":"#NUM!"},5516]
[{"$nulls":4},"","","","","",null,null,"",{"$nulls":6},5517,"",{"$f":"IF(A5519=0,IF(B5519=\"\",IF(B5518=0,\"\",SUM($AG$1:AG5518)-SUM($U$1:U5517)),\"\"),SUM($AG$1:AG5518)-SUM($U$1:U5517))","v":""},{"$nulls":5},0,{"$f":"IF(AJ5518=statistics!$D$3,AB5517+AH5518-AG5518,)","v":0},{"$f":"IF(AND(ROW(AC5518)>=statistics!$C$55,ROW(AC5518)<=statistics!$D$55),AC5517+AH5518-AG5518,)","v":0},{"$f":"IF(AND(statistics!$C$55<=ROW(A5518),ROW(A5518)<=statistics!$D$55)=TRUE,AH5518-AG5518+AA5517-INDEX(AA:AA,statistics!$C$55),\"\")","v":""},null,null,0,0,0,"",{"$f":"IF(statistics!$D$3<>0,IF(AJ5518=statistics!$D$3,AG5518,\"\"),IF(B5518<>\"\",AG5518,\"\"))","v":""},{"$f":"IF(statistics!$D$3<>0,IF(AJ5518=statistics!$D$3,IF(AH5518=0,\"\",AH5518),\"\"),IF(AH5518<>0,AH5518,\"\"))","v":""},{"$f":"IF(statistics!$D$3<>0,IF(AJ5518=statistics!$D$3,IF(A5518=0,\"\",1),\"\"),IF(A5518=0,\"\",1))","v":""},"","",null,"",{"$nulls":10},"",null,null,"",null,0,null,{"$error":"#NUM!"},{"$error":"#NUM!"},5517]
[{"$nulls":4},"","","","","",null,null,"",{"$nulls":6},5518,"",{"$f":"IF(A5520=0,IF(B5520=\"\",IF(B5519=0,\"\",SUM($AG$1:AG5519)-SUM($U$1:U5518)),\"\"),SUM($AG$1:AG5519)-SUM($U$1:U5518))","v":""},{"$nulls":5},0,{"$f":"IF(AJ5519=statistics!$D$3,AB5518+AH5519-AG5519,)","v":0},{"$f":"IF(AND(ROW(AC5519)>=statistics!$C$55,ROW(AC5519)<=statistics!$D$55),AC5518+AH5519-AG5519,)","v":0},{"$f":"IF(AND(statistics!$C$55<=ROW(A5519),ROW(A5519)<=statistics!$D$55)=TRUE,AH5519-AG5519+AA5518-INDEX(AA:AA,statistics!$C$55),\"\")","v":""},null,null,0,0,0,"",{"$f":"IF(statistics!$D$3<>0,IF(AJ5519=statistics!$D$3,AG5519,\"\"),IF(B5519<>\"\",AG5519,\"\"))","v":""},{"$f":"IF(statistics!$D$3<>0,IF(AJ5519=statistics!$D$3,IF(AH5519=0,\"\",AH5519),\"\"),IF(AH5519<>0,AH5519,\"\"))","v":""},{"$f":"IF(statistics!$D$3<>0,IF(AJ5519=statistics!$D$3,IF(A5519=0,\"\",1),\"\"),IF(A5519=0,\"\",1))","v":""},"","",null,"",{"$nulls":10},"",null,null,"",null,0,null,{"$error":"#NUM!"},{"$error":"#NUM!"},5518]
[{"$nulls":4},"","","","","",null,null,"",{"$nulls":6},5519,"",{"$f":"IF(A5521=0,IF(B5521=\"\",IF(B5520=0,\"\",SUM($AG$1:AG5520)-SUM($U$1:U5519)),\"\"),SUM($AG$1:AG5520)-SUM($U$1:U5519))","v":""},{"$nulls":5},0,{"$f":"IF(AJ5520=statistics!$D$3,AB5519+AH5520-AG5520,)","v":0},{"$f":"IF(AND(ROW(AC5520)>=statistics!$C$55,ROW(AC5520)<=statistics!$D$55),AC5519+AH5520-AG5520,)","v":0},{"$f":"IF(AND(statistics!$C$55<=ROW(A5520),ROW(A5520)<=statistics!$D$55)=TRUE,AH5520-AG5520+AA5519-INDEX(AA:AA,statistics!$C$55),\"\")","v":""},null,null,0,0,0,"",{"$f":"IF(statistics!$D$3<>0,IF(AJ5520=statistics!$D$3,AG5520,\"\"),IF(B5520<>\"\",AG5520,\"\"))","v":""},{"$f":"IF(statistics!$D$3<>0,IF(AJ5520=statistics!$D$3,IF(AH5520=0,\"\",AH5520),\"\"),IF(AH5520<>0,AH5520,\"\"))","v":""},{"$f":"IF(statistics!$D$3<>0,IF(AJ5520=statistics!$D$3,IF(A5520=0,\"\",1),\"\"),IF(A5520=0,\"\",1))","v":""},"","",null,"",{"$nulls":10},"",null,null,"",null,0,null,{"$error":"#NUM!"},{"$error":"#NUM!"},5519]
[{"$nulls":4},"","",{"$f":"IF(A5522=0,IF(B5522=\"\",IF(B5521=0,\"\",U5521/S5521),\"\"),U5521/S5521)","v":""},"","",null,null,"",{"$nulls":6},5520,"",{"$f":"IF(A5522=0,IF(B5522=\"\",IF(B5521=0,\"\",SUM($AG$1:AG5521)-SUM($U$1:U5520)),\"\"),SUM($AG$1:AG5521)-SUM($U$1:U5520))","v":""},{"$nulls":5},0,{"$f":"IF(AJ5521=statistics!$D$3,AB5520+AH5521-AG5521,)","v":0},{"$f":"IF(AND(ROW(AC5521)>=statistics!$C$55,ROW(AC5521)<=statistics!$D$55),AC5520+AH5521-AG5521,)","v":0},{"$f":"IF(AND(statistics!$C$55<=ROW(A5521),ROW(A5521)<=statistics!$D$55)=TRUE,AH5521-AG5521+AA5520-INDEX(AA:AA,statistics!$C$55),\"\")","v":""},null,null,0,0,0,"",{"$f":"IF(statistics!$D$3<>0,IF(AJ5521=statistics!$D$3,AG5521,\"\"),IF(B5521<>\"\",AG5521,\"\"))","v":""},{"$f":"IF(statistics!$D$3<>0,IF(AJ5521=statistics!$D$3,IF(AH5521=0,\"\",AH5521),\"\"),IF(AH5521<>0,AH5521,\"\"))","v":""},{"$f":"IF(statistics!$D$3<>0,IF(AJ5521=statistics!$D$3,IF(A5521=0,\"\",1),\"\"),IF(A5521=0,\"\",1))","v":""},"","",null,"",{"$nulls":10},"",null,null,"",null,0,null,{"$error":"#NUM!"},{"$error":"#NUM!"},5520]
[{"$nulls":4},"","","","","",null,null,"",{"$nulls":6},5521,"",{"$f":"IF(A5523=0,IF(B5523=\"\",IF(B5522=0,\"\",SUM($AG$1:AG5522)-SUM($U$1:U5521)),\"\"),SUM($AG$1:AG5522)-SUM($U$1:U5521))","v":""},{"$nulls":5},0,{"$f":"IF(AJ5522=statistics!$D$3,AB5521+AH5522-AG5522,)","v":0},{"$f":"IF(AND(ROW(AC5522)>=statistics!$C$55,ROW(AC5522)<=statistics!$D$55),AC5521+AH5522-AG5522,)","v":0},{"$f":"IF(AND(statistics!$C$55<=ROW(A5522),ROW(A5522)<=statistics!$D$55)=TRUE,AH5522-AG5522+AA5521-INDEX(AA:AA,statistics!$C$55),\"\")","v":""},null,null,0,0,0,"",{"$f":"IF(statistics!$D$3<>0,IF(AJ5522=statistics!$D$3,AG5522,\"\"),IF(B5522<>\"\",AG5522,\"\"))","v":""},{"$f":"IF(statistics!$D$3<>0,IF(AJ5522=statistics!$D$3,IF(AH5522=0,\"\",AH5522),\"\"),IF(AH5522<>0,AH5522,\"\"))","v":""},{"$f":"IF(statistics!$D$3<>0,IF(AJ5522=statistics!$D$3,IF(A5522=0,\"\",1),\"\"),IF(A5522=0,\"\",1))","v":""},"","",null,"",{"$nulls":10},"",null,null,"",null,0,null,{"$error":"#NUM!"},{"$error":"#NUM!"},5521]
[{"$nulls":4},"","","","","",null,null,"",{"$nulls":6},5522,"",{"$f":"IF(A5524=0,IF(B5524=\"\",IF(B5523=0,\"\",SUM($AG$1:AG5523)-SUM($U$1:U5522)),\"\"),SUM($AG$1:AG5523)-SUM($U$1:U5522))","v":""},{"$nulls":5},0,{"$f":"IF(AJ5523=statistics!$D$3,AB5522+AH5523-AG5523,)","v":0},{"$f":"IF(AND(ROW(AC5523)>=statistics!$C$55,ROW(AC5523)<=statistics!$D$55),AC5522+AH5523-AG5523,)","v":0},{"$f":"IF(AND(statistics!$C$55<=ROW(A5523),ROW(A5523)<=statistics!$D$55)=TRUE,AH5523-AG5523+AA5522-INDEX(AA:AA,statistics!$C$55),\"\")","v":""},null,null,0,0,0,"",{"$f":"IF(statistics!$D$3<>0,IF(AJ5523=statistics!$D$3,AG5523,\"\"),IF(B5523<>\"\",AG5523,\"\"))","v":""},{"$f":"IF(statistics!$D$3<>0,IF(AJ5523=statistics!$D$3,IF(AH5523=0,\"\",AH5523),\"\"),IF(AH5523<>0,AH5523,\"\"))","v":""},{"$f":"IF(statistics!$D$3<>0,IF(AJ5523=statistics!$D$3,IF(A5523=0,\"\",1),\"\"),IF(A5523=0,\"\",1))","v":""},"","",null,"",{"$nulls":10},"",null,null,"",null,0,null,{"$error":"#NUM!"},{"$error":"#NUM!"},5522]
[{"$nulls":4},"","","","","",null,null,"",{"$nulls":6},5523,"",{"$f":"IF(A5525=0,IF(B5525=\"\",IF(B5524=0,\"\",SUM($AG$1:AG5524)-SUM($U$1:U5523)),\"\"),SUM($AG$1:AG5524)-SUM($U$1:U5523))","v":""},{"$nulls":5},0,{"$f":"IF(AJ5524=statistics!$D$3,AB5523+AH5524-AG5524,)","v":0},{"$f":"IF(AND(ROW(AC5524)>=statistics!$C$55,ROW(AC5524)<=statistics!$D$55),AC5523+AH5524-AG5524,)","v":0},{"$f":"IF(AND(statistics!$C$55<=ROW(A5524),ROW(A5524)<=statistics!$D$55)=TRUE,AH5524-AG5524+AA5523-INDEX(AA:AA,statistics!$C$55),\"\")","v":""},null,null,0,0,0,"",{"$f":"IF(statistics!$D$3<>0,IF(AJ5524=statistics!$D$3,AG5524,\"\"),IF(B5524<>\"\",AG5524,\"\"))","v":""},{"$f":"IF(statistics!$D$3<>0,IF(AJ5524=statistics!$D$3,IF(AH5524=0,\"\",AH5524),\"\"),IF(AH5524<>0,AH5524,\"\"))","v":""},{"$f":"IF(statistics!$D$3<>0,IF(AJ5524=statistics!$D$3,IF(A5524=0,\"\",1),\"\"),IF(A5524=0,\"\",1))","v":""},"","",null,"",{"$nulls":10},"",null,null,"",null,0,null,{"$error":"#NUM!"},{"$error":"#NUM!"},5523]
[{"$nulls":4},"","","","","",null,null,"",{"$nulls":6},5524,"",{"$f":"IF(A5526=0,IF(B5526=\"\",IF(B5525=0,\"\",SUM($AG$1:AG5525)-SUM($U$1:U5524)),\"\"),SUM($AG$1:AG5525)-SUM($U$1:U5524))","v":""},{"$nulls":5},0,{"$f":"IF(AJ5525=statistics!$D$3,AB5524+AH5525-AG5525,)","v":0},{"$f":"IF(AND(ROW(AC5525)>=statistics!$C$55,ROW(AC5525)<=statistics!$D$55),AC5524+AH5525-AG5525,)","v":0},{"$f":"IF(AND(statistics!$C$55<=ROW(A5525),ROW(A5525)<=statistics!$D$55)=TRUE,AH5525-AG5525+AA5524-INDEX(AA:AA,statistics!$C$55),\"\")","v":""},null,null,0,0,0,"",{"$f":"IF(statistics!$D$3<>0,IF(AJ5525=statistics!$D$3,AG5525,\"\"),IF(B5525<>\"\",AG5525,\"\"))","v":""},{"$f":"IF(statistics!$D$3<>0,IF(AJ5525=statistics!$D$3,IF(AH5525=0,\"\",AH5525),\"\"),IF(AH5525<>0,AH5525,\"\"))","v":""},{"$f":"IF(statistics!$D$3<>0,IF(AJ5525=statistics!$D$3,IF(A5525=0,\"\",1),\"\"),IF(A5525=0,\"\",1))","v":""},"","",null,"",{"$nulls":10},"",null,null,"",null,0,null,{"$error":"#NUM!"},{"$error":"#NUM!"},5524]
[{"$nulls":4},"","","","","",null,null,"",{"$nulls":6},5525,"",{"$f":"IF(A5527=0,IF(B5527=\"\",IF(B5526=0,\"\",SUM($AG$1:AG5526)-SUM($U$1:U5525)),\"\"),SUM($AG$1:AG5526)-SUM($U$1:U5525))","v":""},{"$nulls":5},0,{"$f":"IF(AJ5526=statistics!$D$3,AB5525+AH5526-AG5526,)","v":0},{"$f":"IF(AND(ROW(AC5526)>=statistics!$C$55,ROW(AC5526)<=statistics!$D$55),AC5525+AH5526-AG5526,)","v":0},{"$f":"IF(AND(statistics!$C$55<=ROW(A5526),ROW(A5526)<=statistics!$D$55)=TRUE,AH5526-AG5526+AA5525-INDEX(AA:AA,statistics!$C$55),\"\")","v":""},null,null,0,0,0,"",{"$f":"IF(statistics!$D$3<>0,IF(AJ5526=statistics!$D$3,AG5526,\"\"),IF(B5526<>\"\",AG5526,\"\"))","v":""},{"$f":"IF(statistics!$D$3<>0,IF(AJ5526=statistics!$D$3,IF(AH5526=0,\"\",AH5526),\"\"),IF(AH5526<>0,AH5526,\"\"))","v":""},{"$f":"IF(statistics!$D$3<>0,IF(AJ5526=statistics!$D$3,IF(A5526=0,\"\",1),\"\"),IF(A5526=0,\"\",1))","v":""},"","",null,"",{"$nulls":10},"",null,null,"",null,0,null,{"$error":"#NUM!"},{"$error":"#NUM!"},5525]
[{"$nulls":4},"","","","","",null,null,"",{"$nulls":6},5526,"",{"$f":"IF(A5528=0,IF(B5528=\"\",IF(B5527=0,\"\",SUM($AG$1:AG5527)-SUM($U$1:U5526)),\"\"),SUM($AG$1:AG5527)-SUM($U$1:U5526))","v":""},{"$nulls":5},0,{"$f":"IF(AJ5527=statistics!$D$3,AB5526+AH5527-AG5527,)","v":0},{"$f":"IF(AND(ROW(AC5527)>=statistics!$C$55,ROW(AC5527)<=statistics!$D$55),AC5526+AH5527-AG5527,)","v":0},{"$f":"IF(AND(statistics!$C$55<=ROW(A5527),ROW(A5527)<=statistics!$D$55)=TRUE,AH5527-AG5527+AA5526-INDEX(AA:AA,statistics!$C$55),\"\")","v":""},null,null,0,0,0,"",{"$f":"IF(statistics!$D$3<>0,IF(AJ5527=statistics!$D$3,AG5527,\"\"),IF(B5527<>\"\",AG5527,\"\"))","v":""},{"$f":"IF(statistics!$D$3<>0,IF(AJ5527=statistics!$D$3,IF(AH5527=0,\"\",AH5527),\"\"),IF(AH5527<>0,AH5527,\"\"))","v":""},{"$f":"IF(statistics!$D$3<>0,IF(AJ5527=statistics!$D$3,IF(A5527=0,\"\",1),\"\"),IF(A5527=0,\"\",1))","v":""},"","",null,"",{"$nulls":10},"",null,null,"",null,0,null,{"$error":"#NUM!"},{"$error":"#NUM!"},5526]
[{"$nulls":4},"","","","","",null,null,"",{"$nulls":6},5527,"",{"$f":"IF(A5529=0,IF(B5529=\"\",IF(B5528=0,\"\",SUM($AG$1:AG5528)-SUM($U$1:U5527)),\"\"),SUM($AG$1:AG5528)-SUM($U$1:U5527))","v":""},{"$nulls":5},0,{"$f":"IF(AJ5528=statistics!$D$3,AB5527+AH5528-AG5528,)","v":0},{"$f":"IF(AND(ROW(AC5528)>=statistics!$C$55,ROW(AC5528)<=statistics!$D$55),AC5527+AH5528-AG5528,)","v":0},{"$f":"IF(AND(statistics!$C$55<=ROW(A5528),ROW(A5528)<=statistics!$D$55)=TRUE,AH5528-AG5528+AA5527-INDEX(AA:AA,statistics!$C$55),\"\")","v":""},null,null,0,0,0,"",{"$f":"IF(statistics!$D$3<>0,IF(AJ5528=statistics!$D$3,AG5528,\"\"),IF(B5528<>\"\",AG5528,\"\"))","v":""},{"$f":"IF(statistics!$D$3<>0,IF(AJ5528=statistics!$D$3,IF(AH5528=0,\"\",AH5528),\"\"),IF(AH5528<>0,AH5528,\"\"))","v":""},{"$f":"IF(statistics!$D$3<>0,IF(AJ5528=statistics!$D$3,IF(A5528=0,\"\",1),\"\"),IF(A5528=0,\"\",1))","v":""},"","",null,"",{"$nulls":10},"",null,null,"",null,0,null,{"$error":"#NUM!"},{"$error":"#NUM!"},5527]
[{"$nulls":4},"","","","","",null,null,"",{"$nulls":6},5528,"",{"$f":"IF(A5530=0,IF(B5530=\"\",IF(B5529=0,\"\",SUM($AG$1:AG5529)-SUM($U$1:U5528)),\"\"),SUM($AG$1:AG5529)-SUM($U$1:U5528))","v":""},{"$nulls":5},0,{"$f":"IF(AJ5529=statistics!$D$3,AB5528+AH5529-AG5529,)","v":0},{"$f":"IF(AND(ROW(AC5529)>=statistics!$C$55,ROW(AC5529)<=statistics!$D$55),AC5528+AH5529-AG5529,)","v":0},{"$f":"IF(AND(statistics!$C$55<=ROW(A5529),ROW(A5529)<=statistics!$D$55)=TRUE,AH5529-AG5529+AA5528-INDEX(AA:AA,statistics!$C$55),\"\")","v":""},null,null,0,0,0,"",{"$f":"IF(statistics!$D$3<>0,IF(AJ5529=statistics!$D$3,AG5529,\"\"),IF(B5529<>\"\",AG5529,\"\"))","v":""},{"$f":"IF(statistics!$D$3<>0,IF(AJ5529=statistics!$D$3,IF(AH5529=0,\"\",AH5529),\"\"),IF(AH5529<>0,AH5529,\"\"))","v":""},{"$f":"IF(statistics!$D$3<>0,IF(AJ5529=statistics!$D$3,IF(A5529=0,\"\",1),\"\"),IF(A5529=0,\"\",1))","v":""},"","",null,"",{"$nulls":10},"",null,null,"",null,0,null,{"$error":"#NUM!"},{"$error":"#NUM!"},5528]
[{"$nulls":4},"","","","","",null,null,"",{"$nulls":6},5529,"",{"$f":"IF(A5531=0,IF(B5531=\"\",IF(B5530=0,\"\",SUM($AG$1:AG5530)-SUM($U$1:U5529)),\"\"),SUM($AG$1:AG5530)-SUM($U$1:U5529))","v":""},{"$nulls":5},0,{"$f":"IF(AJ5530=statistics!$D$3,AB5529+AH5530-AG5530,)","v":0},{"$f":"IF(AND(ROW(AC5530)>=statistics!$C$55,ROW(AC5530)<=statistics!$D$55),AC5529+AH5530-AG5530,)","v":0},{"$f":"IF(AND(statistics!$C$55<=ROW(A5530),ROW(A5530)<=statistics!$D$55)=TRUE,AH5530-AG5530+AA5529-INDEX(AA:AA,statistics!$C$55),\"\")","v":""},null,null,0,0,0,"",{"$f":"IF(statistics!$D$3<>0,IF(AJ5530=statistics!$D$3,AG5530,\"\"),IF(B5530<>\"\",AG5530,\"\"))","v":""},{"$f":"IF(statistics!$D$3<>0,IF(AJ5530=statistics!$D$3,IF(AH5530=0,\"\",AH5530),\"\"),IF(AH5530<>0,AH5530,\"\"))","v":""},{"$f":"IF(statistics!$D$3<>0,IF(AJ5530=statistics!$D$3,IF(A5530=0,\"\",1),\"\"),IF(A5530=0,\"\",1))","v":""},"","",null,"",{"$nulls":10},"",null,null,"",null,0,null,{"$error":"#NUM!"},{"$error":"#NUM!"},5529]
[{"$nulls":4},"","","","","",null,null,"",{"$nulls":6},5530,"",{"$f":"IF(A5532=0,IF(B5532=\"\",IF(B5531=0,\"\",SUM($AG$1:AG5531)-SUM($U$1:U5530)),\"\"),SUM($AG$1:AG5531)-SUM($U$1:U5530))","v":""},{"$nulls":5},0,{"$f":"IF(AJ5531=statistics!$D$3,AB5530+AH5531-AG5531,)","v":0},{"$f":"IF(AND(ROW(AC5531)>=statistics!$C$55,ROW(AC5531)<=statistics!$D$55),AC5530+AH5531-AG5531,)","v":0},{"$f":"IF(AND(statistics!$C$55<=ROW(A5531),ROW(A5531)<=statistics!$D$55)=TRUE,AH5531-AG5531+AA5530-INDEX(AA:AA,statistics!$C$55),\"\")","v":""},null,null,0,0,0,"",{"$f":"IF(statistics!$D$3<>0,IF(AJ5531=statistics!$D$3,AG5531,\"\"),IF(B5531<>\"\",AG5531,\"\"))","v":""},{"$f":"IF(statistics!$D$3<>0,IF(AJ5531=statistics!$D$3,IF(AH5531=0,\"\",AH5531),\"\"),IF(AH5531<>0,AH5531,\"\"))","v":""},{"$f":"IF(statistics!$D$3<>0,IF(AJ5531=statistics!$D$3,IF(A5531=0,\"\",1),\"\"),IF(A5531=0,\"\",1))","v":""},"","",null,"",{"$nulls":10},"",null,null,"",null,0,null,{"$error":"#NUM!"},{"$error":"#NUM!"},5530]
[{"$nulls":4},"","","","","",null,null,"",{"$nulls":6},5531,"",{"$f":"IF(A5533=0,IF(B5533=\"\",IF(B5532=0,\"\",SUM($AG$1:AG5532)-SUM($U$1:U5531)),\"\"),SUM($AG$1:AG5532)-SUM($U$1:U5531))","v":""},{"$nulls":5},0,{"$f":"IF(AJ5532=statistics!$D$3,AB5531+AH5532-AG5532,)","v":0},{"$f":"IF(AND(ROW(AC5532)>=statistics!$C$55,ROW(AC5532)<=statistics!$D$55),AC5531+AH5532-AG5532,)","v":0},{"$f":"IF(AND(statistics!$C$55<=ROW(A5532),ROW(A5532)<=statistics!$D$55)=TRUE,AH5532-AG5532+AA5531-INDEX(AA:AA,statistics!$C$55),\"\")","v":""},null,null,0,0,0,"",{"$f":"IF(statistics!$D$3<>0,IF(AJ5532=statistics!$D$3,AG5532,\"\"),IF(B5532<>\"\",AG5532,\"\"))","v":""},{"$f":"IF(statistics!$D$3<>0,IF(AJ5532=statistics!$D$3,IF(AH5532=0,\"\",AH5532),\"\"),IF(AH5532<>0,AH5532,\"\"))","v":""},{"$f":"IF(statistics!$D$3<>0,IF(AJ5532=statistics!$D$3,IF(A5532=0,\"\",1),\"\"),IF(A5532=0,\"\",1))","v":""},"","",null,"",{"$nulls":10},"",null,null,"",null,0,null,{"$error":"#NUM!"},{"$error":"#NUM!"},5531]
[{"$nulls":4},"","","","","",null,null,"",{"$nulls":6},5532,"",{"$f":"IF(A5534=0,IF(B5534=\"\",IF(B5533=0,\"\",SUM($AG$1:AG5533)-SUM($U$1:U5532)),\"\"),SUM($AG$1:AG5533)-SUM($U$1:U5532))","v":""},{"$nulls":5},0,{"$f":"IF(AJ5533=statistics!$D$3,AB5532+AH5533-AG5533,)","v":0},{"$f":"IF(AND(ROW(AC5533)>=statistics!$C$55,ROW(AC5533)<=statistics!$D$55),AC5532+AH5533-AG5533,)","v":0},{"$f":"IF(AND(statistics!$C$55<=ROW(A5533),ROW(A5533)<=statistics!$D$55)=TRUE,AH5533-AG5533+AA5532-INDEX(AA:AA,statistics!$C$55),\"\")","v":""},null,null,0,0,0,"",{"$f":"IF(statistics!$D$3<>0,IF(AJ5533=statistics!$D$3,AG5533,\"\"),IF(B5533<>\"\",AG5533,\"\"))","v":""},{"$f":"IF(statistics!$D$3<>0,IF(AJ5533=statistics!$D$3,IF(AH5533=0,\"\",AH5533),\"\"),IF(AH5533<>0,AH5533,\"\"))","v":""},{"$f":"IF(statistics!$D$3<>0,IF(AJ5533=statistics!$D$3,IF(A5533=0,\"\",1),\"\"),IF(A5533=0,\"\",1))","v":""},"","",null,"",{"$nulls":10},"",null,null,"",null,0,null,{"$error":"#NUM!"},{"$error":"#NUM!"},5532]
[{"$nulls":4},"","","","","",null,null,"",{"$nulls":6},5533,"",{"$f":"IF(A5535=0,IF(B5535=\"\",IF(B5534=0,\"\",SUM($AG$1:AG5534)-SUM($U$1:U5533)),\"\"),SUM($AG$1:AG5534)-SUM($U$1:U5533))","v":""},{"$nulls":5},0,{"$f":"IF(AJ5534=statistics!$D$3,AB5533+AH5534-AG5534,)","v":0},{"$f":"IF(AND(ROW(AC5534)>=statistics!$C$55,ROW(AC5534)<=statistics!$D$55),AC5533+AH5534-AG5534,)","v":0},{"$f":"IF(AND(statistics!$C$55<=ROW(A5534),ROW(A5534)<=statistics!$D$55)=TRUE,AH5534-AG5534+AA5533-INDEX(AA:AA,statistics!$C$55),\"\")","v":""},null,null,0,0,0,"",{"$f":"IF(statistics!$D$3<>0,IF(AJ5534=statistics!$D$3,AG5534,\"\"),IF(B5534<>\"\",AG5534,\"\"))","v":""},{"$f":"IF(statistics!$D$3<>0,IF(AJ5534=statistics!$D$3,IF(AH5534=0,\"\",AH5534),\"\"),IF(AH5534<>0,AH5534,\"\"))","v":""},{"$f":"IF(statistics!$D$3<>0,IF(AJ5534=statistics!$D$3,IF(A5534=0,\"\",1),\"\"),IF(A5534=0,\"\",1))","v":""},"","",null,"",{"$nulls":10},"",null,null,"",null,0,null,{"$error":"#NUM!"},{"$error":"#NUM!"},5533]
[{"$nulls":4},"","","","","",null,null,"",{"$nulls":6},5534,"",{"$f":"IF(A5536=0,IF(B5536=\"\",IF(B5535=0,\"\",SUM($AG$1:AG5535)-SUM($U$1:U5534)),\"\"),SUM($AG$1:AG5535)-SUM($U$1:U5534))","v":""},{"$nulls":5},0,{"$f":"IF(AJ5535=statistics!$D$3,AB5534+AH5535-AG5535,)","v":0},{"$f":"IF(AND(ROW(AC5535)>=statistics!$C$55,ROW(AC5535)<=statistics!$D$55),AC5534+AH5535-AG5535,)","v":0},{"$f":"IF(AND(statistics!$C$55<=ROW(A5535),ROW(A5535)<=statistics!$D$55)=TRUE,AH5535-AG5535+AA5534-INDEX(AA:AA,statistics!$C$55),\"\")","v":""},null,null,0,0,0,"",{"$f":"IF(statistics!$D$3<>0,IF(AJ5535=statistics!$D$3,AG5535,\"\"),IF(B5535<>\"\",AG5535,\"\"))","v":""},{"$f":"IF(statistics!$D$3<>0,IF(AJ5535=statistics!$D$3,IF(AH5535=0,\"\",AH5535),\"\"),IF(AH5535<>0,AH5535,\"\"))","v":""},{"$f":"IF(statistics!$D$3<>0,IF(AJ5535=statistics!$D$3,IF(A5535=0,\"\",1),\"\"),IF(A5535=0,\"\",1))","v":""},"","",null,"",{"$nulls":10},"",null,null,"",null,0,null,{"$error":"#NUM!"},{"$error":"#NUM!"},5534]
[{"$nulls":4},"","","","","",null,null,"",{"$nulls":6},5535,"",{"$f":"IF(A5537=0,IF(B5537=\"\",IF(B5536=0,\"\",SUM($AG$1:AG5536)-SUM($U$1:U5535)),\"\"),SUM($AG$1:AG5536)-SUM($U$1:U5535))","v":""},{"$nulls":5},0,{"$f":"IF(AJ5536=statistics!$D$3,AB5535+AH5536-AG5536,)","v":0},{"$f":"IF(AND(ROW(AC5536)>=statistics!$C$55,ROW(AC5536)<=statistics!$D$55),AC5535+AH5536-AG5536,)","v":0},{"$f":"IF(AND(statistics!$C$55<=ROW(A5536),ROW(A5536)<=statistics!$D$55)=TRUE,AH5536-AG5536+AA5535-INDEX(AA:AA,statistics!$C$55),\"\")","v":""},null,null,0,0,0,"",{"$f":"IF(statistics!$D$3<>0,IF(AJ5536=statistics!$D$3,AG5536,\"\"),IF(B5536<>\"\",AG5536,\"\"))","v":""},{"$f":"IF(statistics!$D$3<>0,IF(AJ5536=statistics!$D$3,IF(AH5536=0,\"\",AH5536),\"\"),IF(AH5536<>0,AH5536,\"\"))","v":""},{"$f":"IF(statistics!$D$3<>0,IF(AJ5536=statistics!$D$3,IF(A5536=0,\"\",1),\"\"),IF(A5536=0,\"\",1))","v":""},"","",null,"",{"$nulls":10},"",null,null,"",null,0,null,{"$error":"#NUM!"},{"$error":"#NUM!"},5535]
[{"$nulls":4},"","","","","",null,null,"",{"$nulls":6},5536,"",{"$f":"IF(A5538=0,IF(B5538=\"\",IF(B5537=0,\"\",SUM($AG$1:AG5537)-SUM($U$1:U5536)),\"\"),SUM($AG$1:AG5537)-SUM($U$1:U5536))","v":""},{"$nulls":5},0,{"$f":"IF(AJ5537=statistics!$D$3,AB5536+AH5537-AG5537,)","v":0},{"$f":"IF(AND(ROW(AC5537)>=statistics!$C$55,ROW(AC5537)<=statistics!$D$55),AC5536+AH5537-AG5537,)","v":0},{"$f":"IF(AND(statistics!$C$55<=ROW(A5537),ROW(A5537)<=statistics!$D$55)=TRUE,AH5537-AG5537+AA5536-INDEX(AA:AA,statistics!$C$55),\"\")","v":""},null,null,0,0,0,"",{"$f":"IF(statistics!$D$3<>0,IF(AJ5537=statistics!$D$3,AG5537,\"\"),IF(B5537<>\"\",AG5537,\"\"))","v":""},{"$f":"IF(statistics!$D$3<>0,IF(AJ5537=statistics!$D$3,IF(AH5537=0,\"\",AH5537),\"\"),IF(AH5537<>0,AH5537,\"\"))","v":""},{"$f":"IF(statistics!$D$3<>0,IF(AJ5537=statistics!$D$3,IF(A5537=0,\"\",1),\"\"),IF(A5537=0,\"\",1))","v":""},"","",null,"",{"$nulls":10},"",null,null,"",null,0,null,{"$error":"#NUM!"},{"$error":"#NUM!"},5536]
[{"$nulls":4},"","","","","",null,null,"",{"$nulls":6},5537,"",{"$f":"IF(A5539=0,IF(B5539=\"\",IF(B5538=0,\"\",SUM($AG$1:AG5538)-SUM($U$1:U5537)),\"\"),SUM($AG$1:AG5538)-SUM($U$1:U5537))","v":""},{"$nulls":5},0,{"$f":"IF(AJ5538=statistics!$D$3,AB5537+AH5538-AG5538,)","v":0},{"$f":"IF(AND(ROW(AC5538)>=statistics!$C$55,ROW(AC5538)<=statistics!$D$55),AC5537+AH5538-AG5538,)","v":0},{"$f":"IF(AND(statistics!$C$55<=ROW(A5538),ROW(A5538)<=statistics!$D$55)=TRUE,AH5538-AG5538+AA5537-INDEX(AA:AA,statistics!$C$55),\"\")","v":""},null,null,0,0,0,"",{"$f":"IF(statistics!$D$3<>0,IF(AJ5538=statistics!$D$3,AG5538,\"\"),IF(B5538<>\"\",AG5538,\"\"))","v":""},{"$f":"IF(statistics!$D$3<>0,IF(AJ5538=statistics!$D$3,IF(AH5538=0,\"\",AH5538),\"\"),IF(AH5538<>0,AH5538,\"\"))","v":""},{"$f":"IF(statistics!$D$3<>0,IF(AJ5538=statistics!$D$3,IF(A5538=0,\"\",1),\"\"),IF(A5538=0,\"\",1))","v":""},"","",null,"",{"$nulls":10},"",null,null,"",null,0,null,{"$error":"#NUM!"},{"$error":"#NUM!"},5537]
[{"$nulls":4},"","","","","",null,null,"",{"$nulls":6},5538,"",{"$f":"IF(A5540=0,IF(B5540=\"\",IF(B5539=0,\"\",SUM($AG$1:AG5539)-SUM($U$1:U5538)),\"\"),SUM($AG$1:AG5539)-SUM($U$1:U5538))","v":""},{"$nulls":5},0,{"$f":"IF(AJ5539=statistics!$D$3,AB5538+AH5539-AG5539,)","v":0},{"$f":"IF(AND(ROW(AC5539)>=statistics!$C$55,ROW(AC5539)<=statistics!$D$55),AC5538+AH5539-AG5539,)","v":0},{"$f":"IF(AND(statistics!$C$55<=ROW(A5539),ROW(A5539)<=statistics!$D$55)=TRUE,AH5539-AG5539+AA5538-INDEX(AA:AA,statistics!$C$55),\"\")","v":""},null,null,0,0,0,"",{"$f":"IF(statistics!$D$3<>0,IF(AJ5539=statistics!$D$3,AG5539,\"\"),IF(B5539<>\"\",AG5539,\"\"))","v":""},{"$f":"IF(statistics!$D$3<>0,IF(AJ5539=statistics!$D$3,IF(AH5539=0,\"\",AH5539),\"\"),IF(AH5539<>0,AH5539,\"\"))","v":""},{"$f":"IF(statistics!$D$3<>0,IF(AJ5539=statistics!$D$3,IF(A5539=0,\"\",1),\"\"),IF(A5539=0,\"\",1))","v":""},"","",null,"",{"$nulls":10},"",null,null,"",null,0,null,{"$error":"#NUM!"},{"$error":"#NUM!"},5538]
[{"$nulls":4},"","","","","",null,null,"",{"$nulls":6},5539,"",{"$f":"IF(A5541=0,IF(B5541=\"\",IF(B5540=0,\"\",SUM($AG$1:AG5540)-SUM($U$1:U5539)),\"\"),SUM($AG$1:AG5540)-SUM($U$1:U5539))","v":""},{"$nulls":5},0,{"$f":"IF(AJ5540=statistics!$D$3,AB5539+AH5540-AG5540,)","v":0},{"$f":"IF(AND(ROW(AC5540)>=statistics!$C$55,ROW(AC5540)<=statistics!$D$55),AC5539+AH5540-AG5540,)","v":0},{"$f":"IF(AND(statistics!$C$55<=ROW(A5540),ROW(A5540)<=statistics!$D$55)=TRUE,AH5540-AG5540+AA5539-INDEX(AA:AA,statistics!$C$55),\"\")","v":""},null,null,0,0,0,"",{"$f":"IF(statistics!$D$3<>0,IF(AJ5540=statistics!$D$3,AG5540,\"\"),IF(B5540<>\"\",AG5540,\"\"))","v":""},{"$f":"IF(statistics!$D$3<>0,IF(AJ5540=statistics!$D$3,IF(AH5540=0,\"\",AH5540),\"\"),IF(AH5540<>0,AH5540,\"\"))","v":""},{"$f":"IF(statistics!$D$3<>0,IF(AJ5540=statistics!$D$3,IF(A5540=0,\"\",1),\"\"),IF(A5540=0,\"\",1))","v":""},"","",null,"",{"$nulls":10},"",null,null,"",null,0,null,{"$error":"#NUM!"},{"$error":"#NUM!"},5539]
[{"$nulls":4},"","","","","",null,null,"",{"$nulls":6},5540,"",{"$f":"IF(A5542=0,IF(B5542=\"\",IF(B5541=0,\"\",SUM($AG$1:AG5541)-SUM($U$1:U5540)),\"\"),SUM($AG$1:AG5541)-SUM($U$1:U5540))","v":""},{"$nulls":5},0,{"$f":"IF(AJ5541=statistics!$D$3,AB5540+AH5541-AG5541,)","v":0},{"$f":"IF(AND(ROW(AC5541)>=statistics!$C$55,ROW(AC5541)<=statistics!$D$55),AC5540+AH5541-AG5541,)","v":0},{"$f":"IF(AND(statistics!$C$55<=ROW(A5541),ROW(A5541)<=statistics!$D$55)=TRUE,AH5541-AG5541+AA5540-INDEX(AA:AA,statistics!$C$55),\"\")","v":""},null,null,0,0,0,"",{"$f":"IF(statistics!$D$3<>0,IF(AJ5541=statistics!$D$3,AG5541,\"\"),IF(B5541<>\"\",AG5541,\"\"))","v":""},{"$f":"IF(statistics!$D$3<>0,IF(AJ5541=statistics!$D$3,IF(AH5541=0,\"\",AH5541),\"\"),IF(AH5541<>0,AH5541,\"\"))","v":""},{"$f":"IF(statistics!$D$3<>0,IF(AJ5541=statistics!$D$3,IF(A5541=0,\"\",1),\"\"),IF(A5541=0,\"\",1))","v":""},"","",null,"",{"$nulls":10},"",null,null,"",null,0,null,{"$error":"#NUM!"},{"$error":"#NUM!"},5540]
[{"$nulls":4},"","","","","",null,null,"",{"$nulls":6},5541,"",{"$f":"IF(A5543=0,IF(B5543=\"\",IF(B5542=0,\"\",SUM($AG$1:AG5542)-SUM($U$1:U5541)),\"\"),SUM($AG$1:AG5542)-SUM($U$1:U5541))","v":""},{"$nulls":5},0,{"$f":"IF(AJ5542=statistics!$D$3,AB5541+AH5542-AG5542,)","v":0},{"$f":"IF(AND(ROW(AC5542)>=statistics!$C$55,ROW(AC5542)<=statistics!$D$55),AC5541+AH5542-AG5542,)","v":0},{"$f":"IF(AND(statistics!$C$55<=ROW(A5542),ROW(A5542)<=statistics!$D$55)=TRUE,AH5542-AG5542+AA5541-INDEX(AA:AA,statistics!$C$55),\"\")","v":""},null,null,0,0,0,"",{"$f":"IF(statistics!$D$3<>0,IF(AJ5542=statistics!$D$3,AG5542,\"\"),IF(B5542<>\"\",AG5542,\"\"))","v":""},{"$f":"IF(statistics!$D$3<>0,IF(AJ5542=statistics!$D$3,IF(AH5542=0,\"\",AH5542),\"\"),IF(AH5542<>0,AH5542,\"\"))","v":""},{"$f":"IF(statistics!$D$3<>0,IF(AJ5542=statistics!$D$3,IF(A5542=0,\"\",1),\"\"),IF(A5542=0,\"\",1))","v":""},"","",null,"",{"$nulls":10},"",null,null,"",null,0,null,{"$error":"#NUM!"},{"$error":"#NUM!"},5541]
[{"$nulls":4},"","","","","",null,null,"",{"$nulls":6},5542,"",{"$f":"IF(A5544=0,IF(B5544=\"\",IF(B5543=0,\"\",SUM($AG$1:AG5543)-SUM($U$1:U5542)),\"\"),SUM($AG$1:AG5543)-SUM($U$1:U5542))","v":""},{"$nulls":5},0,{"$f":"IF(AJ5543=statistics!$D$3,AB5542+AH5543-AG5543,)","v":0},{"$f":"IF(AND(ROW(AC5543)>=statistics!$C$55,ROW(AC5543)<=statistics!$D$55),AC5542+AH5543-AG5543,)","v":0},{"$f":"IF(AND(statistics!$C$55<=ROW(A5543),ROW(A5543)<=statistics!$D$55)=TRUE,AH5543-AG5543+AA5542-INDEX(AA:AA,statistics!$C$55),\"\")","v":""},null,null,0,0,0,"",{"$f":"IF(statistics!$D$3<>0,IF(AJ5543=statistics!$D$3,AG5543,\"\"),IF(B5543<>\"\",AG5543,\"\"))","v":""},{"$f":"IF(statistics!$D$3<>0,IF(AJ5543=statistics!$D$3,IF(AH5543=0,\"\",AH5543),\"\"),IF(AH5543<>0,AH5543,\"\"))","v":""},{"$f":"IF(statistics!$D$3<>0,IF(AJ5543=statistics!$D$3,IF(A5543=0,\"\",1),\"\"),IF(A5543=0,\"\",1))","v":""},"","",null,"",{"$nulls":10},"",null,null,"",null,0,null,{"$error":"#NUM!"},{"$error":"#NUM!"},5542]
[{"$nulls":4},"","","","","",null,null,"",{"$nulls":6},5543,"",{"$f":"IF(A5545=0,IF(B5545=\"\",IF(B5544=0,\"\",SUM($AG$1:AG5544)-SUM($U$1:U5543)),\"\"),SUM($AG$1:AG5544)-SUM($U$1:U5543))","v":""},{"$nulls":5},0,{"$f":"IF(AJ5544=statistics!$D$3,AB5543+AH5544-AG5544,)","v":0},{"$f":"IF(AND(ROW(AC5544)>=statistics!$C$55,ROW(AC5544)<=statistics!$D$55),AC5543+AH5544-AG5544,)","v":0},{"$f":"IF(AND(statistics!$C$55<=ROW(A5544),ROW(A5544)<=statistics!$D$55)=TRUE,AH5544-AG5544+AA5543-INDEX(AA:AA,statistics!$C$55),\"\")","v":""},null,null,0,0,0,"",{"$f":"IF(statistics!$D$3<>0,IF(AJ5544=statistics!$D$3,AG5544,\"\"),IF(B5544<>\"\",AG5544,\"\"))","v":""},{"$f":"IF(statistics!$D$3<>0,IF(AJ5544=statistics!$D$3,IF(AH5544=0,\"\",AH5544),\"\"),IF(AH5544<>0,AH5544,\"\"))","v":""},{"$f":"IF(statistics!$D$3<>0,IF(AJ5544=statistics!$D$3,IF(A5544=0,\"\",1),\"\"),IF(A5544=0,\"\",1))","v":""},"","",null,"",{"$nulls":10},"",null,null,"",null,0,null,{"$error":"#NUM!"},{"$error":"#NUM!"},5543]
[{"$nulls":4},"","","","","",null,null,"",{"$nulls":6},5544,"",{"$f":"IF(A5546=0,IF(B5546=\"\",IF(B5545=0,\"\",SUM($AG$1:AG5545)-SUM($U$1:U5544)),\"\"),SUM($AG$1:AG5545)-SUM($U$1:U5544))","v":""},{"$nulls":5},0,{"$f":"IF(AJ5545=statistics!$D$3,AB5544+AH5545-AG5545,)","v":0},{"$f":"IF(AND(ROW(AC5545)>=statistics!$C$55,ROW(AC5545)<=statistics!$D$55),AC5544+AH5545-AG5545,)","v":0},{"$f":"IF(AND(statistics!$C$55<=ROW(A5545),ROW(A5545)<=statistics!$D$55)=TRUE,AH5545-AG5545+AA5544-INDEX(AA:AA,statistics!$C$55),\"\")","v":""},null,null,0,0,0,"",{"$f":"IF(statistics!$D$3<>0,IF(AJ5545=statistics!$D$3,AG5545,\"\"),IF(B5545<>\"\",AG5545,\"\"))","v":""},{"$f":"IF(statistics!$D$3<>0,IF(AJ5545=statistics!$D$3,IF(AH5545=0,\"\",AH5545),\"\"),IF(AH5545<>0,AH5545,\"\"))","v":""},{"$f":"IF(statistics!$D$3<>0,IF(AJ5545=statistics!$D$3,IF(A5545=0,\"\",1),\"\"),IF(A5545=0,\"\",1))","v":""},"","",null,"",{"$nulls":10},"",null,null,"",null,0,null,{"$error":"#NUM!"},{"$error":"#NUM!"},5544]
[{"$nulls":4},"","","","","",null,null,"",{"$nulls":6},5545,"",{"$f":"IF(A5547=0,IF(B5547=\"\",IF(B5546=0,\"\",SUM($AG$1:AG5546)-SUM($U$1:U5545)),\"\"),SUM($AG$1:AG5546)-SUM($U$1:U5545))","v":""},{"$nulls":5},0,{"$f":"IF(AJ5546=statistics!$D$3,AB5545+AH5546-AG5546,)","v":0},{"$f":"IF(AND(ROW(AC5546)>=statistics!$C$55,ROW(AC5546)<=statistics!$D$55),AC5545+AH5546-AG5546,)","v":0},{"$f":"IF(AND(statistics!$C$55<=ROW(A5546),ROW(A5546)<=statistics!$D$55)=TRUE,AH5546-AG5546+AA5545-INDEX(AA:AA,statistics!$C$55),\"\")","v":""},null,null,0,0,0,"",{"$f":"IF(statistics!$D$3<>0,IF(AJ5546=statistics!$D$3,AG5546,\"\"),IF(B5546<>\"\",AG5546,\"\"))","v":""},{"$f":"IF(statistics!$D$3<>0,IF(AJ5546=statistics!$D$3,IF(AH5546=0,\"\",AH5546),\"\"),IF(AH5546<>0,AH5546,\"\"))","v":""},{"$f":"IF(statistics!$D$3<>0,IF(AJ5546=statistics!$D$3,IF(A5546=0,\"\",1),\"\"),IF(A5546=0,\"\",1))","v":""},"","",null,"",{"$nulls":10},"",null,null,"",null,0,null,{"$error":"#NUM!"},{"$error":"#NUM!"},5545]
[{"$nulls":4},"","","","","",null,null,"",{"$nulls":6},5546,"",{"$f":"IF(A5548=0,IF(B5548=\"\",IF(B5547=0,\"\",SUM($AG$1:AG5547)-SUM($U$1:U5546)),\"\"),SUM($AG$1:AG5547)-SUM($U$1:U5546))","v":""},{"$nulls":5},0,{"$f":"IF(AJ5547=statistics!$D$3,AB5546+AH5547-AG5547,)","v":0},{"$f":"IF(AND(ROW(AC5547)>=statistics!$C$55,ROW(AC5547)<=statistics!$D$55),AC5546+AH5547-AG5547,)","v":0},{"$f":"IF(AND(statistics!$C$55<=ROW(A5547),ROW(A5547)<=statistics!$D$55)=TRUE,AH5547-AG5547+AA5546-INDEX(AA:AA,statistics!$C$55),\"\")","v":""},null,null,0,0,0,"",{"$f":"IF(statistics!$D$3<>0,IF(AJ5547=statistics!$D$3,AG5547,\"\"),IF(B5547<>\"\",AG5547,\"\"))","v":""},{"$f":"IF(statistics!$D$3<>0,IF(AJ5547=statistics!$D$3,IF(AH5547=0,\"\",AH5547),\"\"),IF(AH5547<>0,AH5547,\"\"))","v":""},{"$f":"IF(statistics!$D$3<>0,IF(AJ5547=statistics!$D$3,IF(A5547=0,\"\",1),\"\"),IF(A5547=0,\"\",1))","v":""},"","",null,"",{"$nulls":10},"",null,null,"",null,0,null,{"$error":"#NUM!"},{"$error":"#NUM!"},5546]
[{"$nulls":4},"","","","","",null,null,"",{"$nulls":6},5547,"",{"$f":"IF(A5549=0,IF(B5549=\"\",IF(B5548=0,\"\",SUM($AG$1:AG5548)-SUM($U$1:U5547)),\"\"),SUM($AG$1:AG5548)-SUM($U$1:U5547))","v":""},{"$nulls":5},0,{"$f":"IF(AJ5548=statistics!$D$3,AB5547+AH5548-AG5548,)","v":0},{"$f":"IF(AND(ROW(AC5548)>=statistics!$C$55,ROW(AC5548)<=statistics!$D$55),AC5547+AH5548-AG5548,)","v":0},{"$f":"IF(AND(statistics!$C$55<=ROW(A5548),ROW(A5548)<=statistics!$D$55)=TRUE,AH5548-AG5548+AA5547-INDEX(AA:AA,statistics!$C$55),\"\")","v":""},null,null,0,0,0,"",{"$f":"IF(statistics!$D$3<>0,IF(AJ5548=statistics!$D$3,AG5548,\"\"),IF(B5548<>\"\",AG5548,\"\"))","v":""},{"$f":"IF(statistics!$D$3<>0,IF(AJ5548=statistics!$D$3,IF(AH5548=0,\"\",AH5548),\"\"),IF(AH5548<>0,AH5548,\"\"))","v":""},{"$f":"IF(statistics!$D$3<>0,IF(AJ5548=statistics!$D$3,IF(A5548=0,\"\",1),\"\"),IF(A5548=0,\"\",1))","v":""},"","",null,"",{"$nulls":10},"",null,null,"",null,0,null,{"$error":"#NUM!"},{"$error":"#NUM!"},5547]
[{"$nulls":4},"","","","","",null,null,"",{"$nulls":6},5548,"",{"$f":"IF(A5550=0,IF(B5550=\"\",IF(B5549=0,\"\",SUM($AG$1:AG5549)-SUM($U$1:U5548)),\"\"),SUM($AG$1:AG5549)-SUM($U$1:U5548))","v":""},{"$nulls":5},0,{"$f":"IF(AJ5549=statistics!$D$3,AB5548+AH5549-AG5549,)","v":0},{"$f":"IF(AND(ROW(AC5549)>=statistics!$C$55,ROW(AC5549)<=statistics!$D$55),AC5548+AH5549-AG5549,)","v":0},{"$f":"IF(AND(statistics!$C$55<=ROW(A5549),ROW(A5549)<=statistics!$D$55)=TRUE,AH5549-AG5549+AA5548-INDEX(AA:AA,statistics!$C$55),\"\")","v":""},null,null,0,0,0,"",{"$f":"IF(statistics!$D$3<>0,IF(AJ5549=statistics!$D$3,AG5549,\"\"),IF(B5549<>\"\",AG5549,\"\"))","v":""},{"$f":"IF(statistics!$D$3<>0,IF(AJ5549=statistics!$D$3,IF(AH5549=0,\"\",AH5549),\"\"),IF(AH5549<>0,AH5549,\"\"))","v":""},{"$f":"IF(statistics!$D$3<>0,IF(AJ5549=statistics!$D$3,IF(A5549=0,\"\",1),\"\"),IF(A5549=0,\"\",1))","v":""},"","",null,"",{"$nulls":10},"",null,null,"",null,0,null,{"$error":"#NUM!"},{"$error":"#NUM!"},5548]
[{"$nulls":4},"","","","","",null,null,"",{"$nulls":6},5549,"",{"$f":"IF(A5551=0,IF(B5551=\"\",IF(B5550=0,\"\",SUM($AG$1:AG5550)-SUM($U$1:U5549)),\"\"),SUM($AG$1:AG5550)-SUM($U$1:U5549))","v":""},{"$nulls":5},0,{"$f":"IF(AJ5550=statistics!$D$3,AB5549+AH5550-AG5550,)","v":0},{"$f":"IF(AND(ROW(AC5550)>=statistics!$C$55,ROW(AC5550)<=statistics!$D$55),AC5549+AH5550-AG5550,)","v":0},{"$f":"IF(AND(statistics!$C$55<=ROW(A5550),ROW(A5550)<=statistics!$D$55)=TRUE,AH5550-AG5550+AA5549-INDEX(AA:AA,statistics!$C$55),\"\")","v":""},null,null,0,0,0,"",{"$f":"IF(statistics!$D$3<>0,IF(AJ5550=statistics!$D$3,AG5550,\"\"),IF(B5550<>\"\",AG5550,\"\"))","v":""},{"$f":"IF(statistics!$D$3<>0,IF(AJ5550=statistics!$D$3,IF(AH5550=0,\"\",AH5550),\"\"),IF(AH5550<>0,AH5550,\"\"))","v":""},{"$f":"IF(statistics!$D$3<>0,IF(AJ5550=statistics!$D$3,IF(A5550=0,\"\",1),\"\"),IF(A5550=0,\"\",1))","v":""},"","",null,"",{"$nulls":10},"",null,null,"",null,0,null,{"$error":"#NUM!"},{"$error":"#NUM!"},5549]
[{"$nulls":4},"","","","","",null,null,"",{"$nulls":6},5550,"",{"$f":"IF(A5552=0,IF(B5552=\"\",IF(B5551=0,\"\",SUM($AG$1:AG5551)-SUM($U$1:U5550)),\"\"),SUM($AG$1:AG5551)-SUM($U$1:U5550))","v":""},{"$nulls":5},0,{"$f":"IF(AJ5551=statistics!$D$3,AB5550+AH5551-AG5551,)","v":0},{"$f":"IF(AND(ROW(AC5551)>=statistics!$C$55,ROW(AC5551)<=statistics!$D$55),AC5550+AH5551-AG5551,)","v":0},{"$f":"IF(AND(statistics!$C$55<=ROW(A5551),ROW(A5551)<=statistics!$D$55)=TRUE,AH5551-AG5551+AA5550-INDEX(AA:AA,statistics!$C$55),\"\")","v":""},null,null,0,0,0,"",{"$f":"IF(statistics!$D$3<>0,IF(AJ5551=statistics!$D$3,AG5551,\"\"),IF(B5551<>\"\",AG5551,\"\"))","v":""},{"$f":"IF(statistics!$D$3<>0,IF(AJ5551=statistics!$D$3,IF(AH5551=0,\"\",AH5551),\"\"),IF(AH5551<>0,AH5551,\"\"))","v":""},{"$f":"IF(statistics!$D$3<>0,IF(AJ5551=statistics!$D$3,IF(A5551=0,\"\",1),\"\"),IF(A5551=0,\"\",1))","v":""},"","",null,"",{"$nulls":10},"",null,null,"",null,0,null,{"$error":"#NUM!"},{"$error":"#NUM!"},5550]
[{"$nulls":4},"","","","","",null,null,"",{"$nulls":6},5551,"",{"$f":"IF(A5553=0,IF(B5553=\"\",IF(B5552=0,\"\",SUM($AG$1:AG5552)-SUM($U$1:U5551)),\"\"),SUM($AG$1:AG5552)-SUM($U$1:U5551))","v":""},{"$nulls":5},0,{"$f":"IF(AJ5552=statistics!$D$3,AB5551+AH5552-AG5552,)","v":0},{"$f":"IF(AND(ROW(AC5552)>=statistics!$C$55,ROW(AC5552)<=statistics!$D$55),AC5551+AH5552-AG5552,)","v":0},{"$f":"IF(AND(statistics!$C$55<=ROW(A5552),ROW(A5552)<=statistics!$D$55)=TRUE,AH5552-AG5552+AA5551-INDEX(AA:AA,statistics!$C$55),\"\")","v":""},null,null,0,0,0,"",{"$f":"IF(statistics!$D$3<>0,IF(AJ5552=statistics!$D$3,AG5552,\"\"),IF(B5552<>\"\",AG5552,\"\"))","v":""},{"$f":"IF(statistics!$D$3<>0,IF(AJ5552=statistics!$D$3,IF(AH5552=0,\"\",AH5552),\"\"),IF(AH5552<>0,AH5552,\"\"))","v":""},{"$f":"IF(statistics!$D$3<>0,IF(AJ5552=statistics!$D$3,IF(A5552=0,\"\",1),\"\"),IF(A5552=0,\"\",1))","v":""},"","",null,"",{"$nulls":10},"",null,null,"",null,0,null,{"$error":"#NUM!"},{"$error":"#NUM!"},5551]
[{"$nulls":4},"","","","","",null,null,"",{"$nulls":6},5552,"",{"$f":"IF(A5554=0,IF(B5554=\"\",IF(B5553=0,\"\",SUM($AG$1:AG5553)-SUM($U$1:U5552)),\"\"),SUM($AG$1:AG5553)-SUM($U$1:U5552))","v":""},{"$nulls":5},0,{"$f":"IF(AJ5553=statistics!$D$3,AB5552+AH5553-AG5553,)","v":0},{"$f":"IF(AND(ROW(AC5553)>=statistics!$C$55,ROW(AC5553)<=statistics!$D$55),AC5552+AH5553-AG5553,)","v":0},{"$f":"IF(AND(statistics!$C$55<=ROW(A5553),ROW(A5553)<=statistics!$D$55)=TRUE,AH5553-AG5553+AA5552-INDEX(AA:AA,statistics!$C$55),\"\")","v":""},null,null,0,0,0,"",{"$f":"IF(statistics!$D$3<>0,IF(AJ5553=statistics!$D$3,AG5553,\"\"),IF(B5553<>\"\",AG5553,\"\"))","v":""},{"$f":"IF(statistics!$D$3<>0,IF(AJ5553=statistics!$D$3,IF(AH5553=0,\"\",AH5553),\"\"),IF(AH5553<>0,AH5553,\"\"))","v":""},{"$f":"IF(statistics!$D$3<>0,IF(AJ5553=statistics!$D$3,IF(A5553=0,\"\",1),\"\"),IF(A5553=0,\"\",1))","v":""},"","",null,"",{"$nulls":10},"",null,null,"",null,0,null,{"$error":"#NUM!"},{"$error":"#NUM!"},5552]
[{"$nulls":4},"","","","","",null,null,"",{"$nulls":6},5553,"",{"$f":"IF(A5555=0,IF(B5555=\"\",IF(B5554=0,\"\",SUM($AG$1:AG5554)-SUM($U$1:U5553)),\"\"),SUM($AG$1:AG5554)-SUM($U$1:U5553))","v":""},{"$nulls":5},0,{"$f":"IF(AJ5554=statistics!$D$3,AB5553+AH5554-AG5554,)","v":0},{"$f":"IF(AND(ROW(AC5554)>=statistics!$C$55,ROW(AC5554)<=statistics!$D$55),AC5553+AH5554-AG5554,)","v":0},{"$f":"IF(AND(statistics!$C$55<=ROW(A5554),ROW(A5554)<=statistics!$D$55)=TRUE,AH5554-AG5554+AA5553-INDEX(AA:AA,statistics!$C$55),\"\")","v":""},null,null,0,0,0,"",{"$f":"IF(statistics!$D$3<>0,IF(AJ5554=statistics!$D$3,AG5554,\"\"),IF(B5554<>\"\",AG5554,\"\"))","v":""},{"$f":"IF(statistics!$D$3<>0,IF(AJ5554=statistics!$D$3,IF(AH5554=0,\"\",AH5554),\"\"),IF(AH5554<>0,AH5554,\"\"))","v":""},{"$f":"IF(statistics!$D$3<>0,IF(AJ5554=statistics!$D$3,IF(A5554=0,\"\",1),\"\"),IF(A5554=0,\"\",1))","v":""},"","",null,"",{"$nulls":10},"",null,null,"",null,0,null,{"$error":"#NUM!"},{"$error":"#NUM!"},5553]
[{"$nulls":4},"","","","","",null,null,"",{"$nulls":6},5554,"",{"$f":"IF(A5556=0,IF(B5556=\"\",IF(B5555=0,\"\",SUM($AG$1:AG5555)-SUM($U$1:U5554)),\"\"),SUM($AG$1:AG5555)-SUM($U$1:U5554))","v":""},{"$nulls":5},0,{"$f":"IF(AJ5555=statistics!$D$3,AB5554+AH5555-AG5555,)","v":0},{"$f":"IF(AND(ROW(AC5555)>=statistics!$C$55,ROW(AC5555)<=statistics!$D$55),AC5554+AH5555-AG5555,)","v":0},{"$f":"IF(AND(statistics!$C$55<=ROW(A5555),ROW(A5555)<=statistics!$D$55)=TRUE,AH5555-AG5555+AA5554-INDEX(AA:AA,statistics!$C$55),\"\")","v":""},null,null,0,0,0,"",{"$f":"IF(statistics!$D$3<>0,IF(AJ5555=statistics!$D$3,AG5555,\"\"),IF(B5555<>\"\",AG5555,\"\"))","v":""},{"$f":"IF(statistics!$D$3<>0,IF(AJ5555=statistics!$D$3,IF(AH5555=0,\"\",AH5555),\"\"),IF(AH5555<>0,AH5555,\"\"))","v":""},{"$f":"IF(statistics!$D$3<>0,IF(AJ5555=statistics!$D$3,IF(A5555=0,\"\",1),\"\"),IF(A5555=0,\"\",1))","v":""},"","",null,"",{"$nulls":10},"",null,null,"",null,0,null,{"$error":"#NUM!"},{"$error":"#NUM!"},5554]

{"sheet":"statistics","index":1,"n_rows":2209,"n_cols":23,"rows_kept":2209,"cut":false,"hidden":false,"merged":[]}
[]
[null,"month",null,"№ of month","#mtt","total bi","won","profit","%roi","%itm","abi","#days",null,null,null,"buy-in","#mtt","total bi","won","profit","%roi",null,{"$f":"IF(data!A2=\"\",\"\",IF(data!E2=SMALL(data!E2:'data'!E10000,1),data!A2,\"\"))","v":""}]
[null,null,null,3,{"$f":"COUNT(data!AK:AK)","v":0},{"$f":"SUM(data!AK:AK)","v":0},{"$f":"SUM(data!AL:AL)","v":0},{"$f":"G3-F3","v":0},{"$f":"IF(E3>0,H3/F3,)","v":0},{"$f":"IF(E3>0,COUNT(data!AL:AL)/E3,\"\")","v":""},{"$f":"IF(E3<>0,F3/E3,)","v":0},{"$f":"SUM(data!AM:AM)","v":0},null,null,"all",11,{"$f":"COUNTIF(data!B:B,P3)","v":0},{"$f":"SUMIF(data!B:B,P3,data!B:B)+SUMIF(data!B:B,P3,data!C:C)","v":0},{"$f":"SUMIF(data!B:B,P3,data!D:D)","v":0},{"$f":"S3-R3","v":0},{"$f":"IF(Q3<>0,T3/R3,)","v":0},null,{"$f":"IF(data!A3=\"\",\"\",IF(data!E3=SMALL(data!E3:'data'!E10001,1),data!A3,\"\"))","v":""}]
[null,null,"first",{"$nulls":9},"last",{"$nulls":9},{"$f":"IF(data!A4=\"\",\"\",IF(data!E4=SMALL(data!E4:'data'!E10002,1),data!A4,\"\"))","v":""}]
[null,null,{"$f":"SMALL(data!AN:AN,1)","v":{"$error":"#NUM!"}},{"$nulls":9},{"$f":"LARGE(data!AN:AN,1)","v":{"$error":"#NUM!"}},{"$nulls":9},{"$f":"IF(data!A5=\"\",\"\",IF(data!E5=SMALL(data!E5:'data'!E10003,1),data!A5,\"\"))","v":""}]
[{"$nulls":22},{"$f":"IF(data!A6=\"\",\"\",IF(data!E6=SMALL(data!E6:'data'!E10004,1),data!A6,\"\"))","v":""}]
[{"$nulls":22},{"$f":"IF(data!A7=\"\",\"\",IF(data!E7=SMALL(data!E7:'data'!E10005,1),data!A7,\"\"))","v":""}]
[{"$nulls":22},{"$f":"IF(data!A8=\"\",\"\",IF(data!E8=SMALL(data!E8:'data'!E10006,1),data!A8,\"\"))","v":""}]
[{"$nulls":22},{"$f":"IF(data!A9=\"\",\"\",IF(data!E9=SMALL(data!E9:'data'!E10007,1),data!A9,\"\"))","v":""}]
[{"$nulls":22},{"$f":"IF(data!A10=\"\",\"\",IF(data!E10=SMALL(data!E10:'data'!E10008,1),data!A10,\"\"))","v":""}]
[{"$nulls":22},{"$f":"IF(data!A11=\"\",\"\",IF(data!E11=SMALL(data!E11:'data'!E10009,1),data!A11,\"\"))","v":""}]
[{"$nulls":22},{"$f":"IF(data!A12=\"\",\"\",IF(data!E12=SMALL(data!E12:'data'!E10010,1),data!A12,\"\"))","v":""}]
[{"$nulls":22},{"$f":"IF(data!A13=\"\",\"\",IF(data!E13=SMALL(data!E13:'data'!E10011,1),data!A13,\"\"))","v":""}]
[{"$nulls":22},{"$f":"IF(data!A14=\"\",\"\",IF(data!E14=SMALL(data!E14:'data'!E10012,1),data!A14,\"\"))","v":""}]
[{"$nulls":22},{"$f":"IF(data!A15=\"\",\"\",IF(data!E15=SMALL(data!E15:'data'!E10013,1),data!A15,\"\"))","v":""}]
[{"$nulls":22},{"$f":"IF(data!A16=\"\",\"\",IF(data!E16=SMALL(data!E16:'data'!E10014,1),data!A16,\"\"))","v":""}]
[{"$nulls":22},{"$f":"IF(data!A17=\"\",\"\",IF(data!E17=SMALL(data!E17:'data'!E10015,1),data!A17,\"\"))","v":""}]
[{"$nulls":22},{"$f":"IF(data!A18=\"\",\"\",IF(data!E18=SMALL(data!E18:'data'!E10016,1),data!A18,\"\"))","v":""}]
[{"$nulls":22},{"$f":"IF(data!A19=\"\",\"\",IF(data!E19=SMALL(data!E19:'data'!E10017,1),data!A19,\"\"))","v":""}]
[{"$nulls":22},{"$f":"IF(data!A20=\"\",\"\",IF(data!E20=SMALL(data!E20:'data'!E10018,1),data!A20,\"\"))","v":""}]
[{"$nulls":22},{"$f":"IF(data!A21=\"\",\"\",IF(data!E21=SMALL(data!E21:'data'!E10019,1),data!A21,\"\"))","v":""}]
[{"$nulls":22},{"$f":"IF(data!A22=\"\",\"\",IF(data!E22=SMALL(data!E22:'data'!E10020,1),data!A22,\"\"))","v":""}]
[{"$nulls":22},{"$f":"IF(data!A23=\"\",\"\",IF(data!E23=SMALL(data!E23:'data'!E10021,1),data!A23,\"\"))","v":""}]
[{"$nulls":6},{"$f":"SUM(data!C2:'data'!C3333)","v":0},{"$nulls":15},{"$f":"IF(data!A24=\"\",\"\",IF(data!E24=SMALL(data!E24:'data'!E10022,1),data!A24,\"\"))","v":""}]
[{"$nulls":22},{"$f":"IF(data!A25=\"\",\"\",IF(data!E25=SMALL(data!E25:'data'!E10023,1),data!A25,\"\"))","v":""}]
[{"$nulls":22},{"$f":"IF(data!A26=\"\",\"\",IF(data!E26=SMALL(data!E26:'data'!E10024,1),data!A26,\"\"))","v":""}]
[{"$nulls":22},{"$f":"IF(data!A27=\"\",\"\",IF(data!E27=SMALL(data!E27:'data'!E10025,1),data!A27,\"\"))","v":""}]
[null,"total",{"$nulls":20},{"$f":"IF(data!A28=\"\",\"\",IF(data!E28=SMALL(data!E28:'data'!E10026,1),data!A28,\"\"))","v":""}]
[null,null,"#months","#days","#mtt","total bi","won","profit","%roi","%itm","abi","worst day","longest /w itm",null,null,"buy-in","#mtt","total bi","won","profit","%roi",null,{"$f":"IF(data!A29=\"\",\"\",IF(data!E29=SMALL(data!E29:'data'!E10027,1),data!A29,\"\"))","v":""}]
[null,null,{"$f":"COUNT(data!AO:AO)","v":0},{"$f":"COUNT(data!A:A)","v":0},{"$f":"COUNT(data!B:B)","v":0},{"$f":"SUM(data!AG:AG)","v":0},{"$f":"SUM(data!AH:AH)","v":0},{"$f":"G30-F30","v":0},{"$f":"IF(E30>0,H30/F30,)","v":0},{"$f":"IF(E30>0,COUNTIF(data!D:D,\">0\")/E30,)","v":0},{"$f":"IF(E30<>0,F30/E30,)","v":0},{"$f":"SMALL(W:W,1)","v":{"$error":"#NUM!"}},{"$f":"LARGE(data!AQ:AQ,1)","v":{"$error":"#NUM!"}},null,"r+ only",5.5,{"$f":"COUNTIFS(data!B:B,P30,data!C:C,\">0\")","v":0},{"$f":"SUMIFS(data!B:B,data!B:B,P30,data!C:C,\">0\")+SUMIFS(data!C:C,data!B:B,P30,data!C:C,\">0\")","v":0},{"$f":"SUMIFS(data!D:D,data!B:B,P30,data!C:C,\">0\")","v":0},{"$f":"S30-R30","v":0},{"$f":"IF(Q30<>0,T30/R30,)","v":0},null,{"$f":"IF(data!A30=\"\",\"\",IF(data!E30=SMALL(data!E30:'data'!E10028,1),data!A30,\"\"))","v":""}]
[{"$nulls":22},{"$f":"IF(data!A31=\"\",\"\",IF(data!E31=SMALL(data!E31:'data'!E10029,1),data!A31,\"\"))","v":""}]
[{"$nulls":22},{"$f":"IF(data!A32=\"\",\"\",IF(data!E32=SMALL(data!E32:'data'!E10030,1),data!A32,\"\"))","v":""}]
[null,"first day",{"$nulls":10},"last day",{"$nulls":9},{"$f":"IF(data!A33=\"\",\"\",IF(data!E33=SMALL(data!E33:'data'!E10031,1),data!A33,\"\"))","v":""}]
[null,{"$f":"SMALL(data!A:A,1)","v":{"$error":"#NUM!"}},{"$nulls":10},{"$f":"LARGE(data!A:A,1)","v":{"$error":"#NUM!"}},{"$nulls":9},{"$f":"IF(data!A34=\"\",\"\",IF(data!E34=SMALL(data!E34:'data'!E10032,1),data!A34,\"\"))","v":""}]
[{"$nulls":22},{"$f":"IF(data!A35=\"\",\"\",IF(data!E35=SMALL(data!E35:'data'!E10033,1),data!A35,\"\"))","v":""}]
[{"$nulls":22},{"$f":"IF(data!A36=\"\",\"\",IF(data!E36=SMALL(data!E36:'data'!E10034,1),data!A36,\"\"))","v":""}]
[{"$nulls":22},{"$f":"IF(data!A37=\"\",\"\",IF(data!E37=SMALL(data!E37:'data'!E10035,1),data!A37,\"\"))","v":""}]
[{"$nulls":22},{"$f":"IF(data!A38=\"\",\"\",IF(data!E38=SMALL(data!E38:'data'!E10036,1),data!A38,\"\"))","v":""}]
[{"$nulls":22},{"$f":"IF(data!A39=\"\",\"\",IF(data!E39=SMALL(data!E39:'data'!E10037,1),data!A39,\"\"))","v":""}]
[{"$nulls":22},{"$f":"IF(data!A40=\"\",\"\",IF(data!E40=SMALL(data!E40:'data'!E10038,1),data!A40,\"\"))","v":""}]
[{"$nulls":22},{"$f":"IF(data!A41=\"\",\"\",IF(data!E41=SMALL(data!E41:'data'!E10039,1),data!A41,\"\"))","v":""}]
[{"$nulls":22},{"$f":"IF(data!A42=\"\",\"\",IF(data!E42=SMALL(data!E42:'data'!E10040,1),data!A42,\"\"))","v":""}]
[{"$nulls":22},{"$f":"IF(data!A43=\"\",\"\",IF(data!E43=SMALL(data!E43:'data'!E10041,1),data!A43,\"\"))","v":""}]
[{"$nulls":22},{"$f":"IF(data!A44=\"\",\"\",IF(data!E44=SMALL(data!E44:'data'!E10042,1),data!A44,\"\"))","v":""}]
[{"$nulls":22},{"$f":"IF(data!A45=\"\",\"\",IF(data!E45=SMALL(data!E45:'data'!E10043,1),data!A45,\"\"))","v":""}]
[{"$nulls":22},{"$f":"IF(data!A46=\"\",\"\",IF(data!E46=SMALL(data!E46:'data'!E10044,1),data!A46,\"\"))","v":""}]
[{"$nulls":22},{"$f":"IF(data!A47=\"\",\"\",IF(data!E47=SMALL(data!E47:'data'!E10045,1),data!A47,\"\"))","v":""}]
[{"$nulls":22},{"$f":"IF(data!A48=\"\",\"\",IF(data!E48=SMALL(data!E48:'data'!E10046,1),data!A48,\"\"))","v":""}]
[{"$nulls":22},{"$f":"IF(data!A49=\"\",\"\",IF(data!E49=SMALL(data!E49:'data'!E10047,1),data!A49,\"\"))","v":""}]
[{"$nulls":22},{"$f":"IF(data!A50=\"\",\"\",IF(data!E50=SMALL(data!E50:'data'!E10048,1),data!A50,\"\"))","v":""}]
[{"$nulls":22},{"$f":"IF(data!A51=\"\",\"\",IF(data!E51=SMALL(data!E51:'data'!E10049,1),data!A51,\"\"))","v":""}]
[null,"period",{"$nulls":20},{"$f":"IF(data!A52=\"\",\"\",IF(data!E52=SMALL(data!E52:'data'!E10050,1),data!A52,\"\"))","v":""}]
[{"$nulls":22},{"$f":"IF(data!A53=\"\",\"\",IF(data!E53=SMALL(data!E53:'data'!E10051,1),data!A53,\"\"))","v":""}]
[null,null,"from #","to #","#mtt","total bi","won","profit","%roi","%itm","abi","#days",{"$nulls":10},{"$f":"IF(data!A54=\"\",\"\",IF(data!E54=SMALL(data!E54:'data'!E10052,1),data!A54,\"\"))","v":""}]
[null,null,25,50,{"$f":"COUNT(INDEX(data!B:B,C55):INDEX(data!B:B,D55))","v":0},{"$f":"SUM(INDEX(data!AG:AG,$C$55):INDEX(data!AG:AG,$D$55))","v":0},{"$f":"SUM(INDEX(data!AH:AH,$C$55):INDEX(data!AH:AH,$D$55))","v":0},{"$f":"G55-F55","v":0},{"$f":"IF(E55>0,H55/F55,)","v":0},{"$f":"IF(E55>0,COUNTIF(INDEX(data!D:D,C55):INDEX(data!D:D,D55),\">0\")/E55,)","v":0},{"$f":"IF(E55<>0,F55/E55,)","v":0},{"$f":"COUNT(INDEX(data!A:A,C55):INDEX(data!A:A,D55))","v":0},{"$nulls":10},{"$f":"IF(data!A55=\"\",\"\",IF(data!E55=SMALL(data!E55:'data'!E10053,1),data!A55,\"\"))","v":""}]
[{"$nulls":22},{"$f":"IF(data!A56=\"\",\"\",IF(data!E56=SMALL(data!E56:'data'!E10054,1),data!A56,\"\"))","v":""}]
[{"$nulls":22},{"$f":"IF(data!A57=\"\",\"\",IF(data!E57=SMALL(data!E57:'data'!E10055,1),data!A57,\"\"))","v":""}]
[null,"first day",{"$nulls":10},"last day",{"$nulls":9},{"$f":"IF(data!A58=\"\",\"\",IF(data!E58=SMALL(data!E58:'data'!E10056,1),data!A58,\"\"))","v":""}]
[null,{"$f":"INDEX(data!A:A,C55)","v":"00:00:00"},{"$nulls":10},{"$f":"LARGE(data!A:A,1)","v":{"$error":"#NUM!"}},{"$nulls":9},{"$f":"IF(data!A59=\"\",\"\",IF(data!E59=SMALL(data!E59:'data'!E10057,1),data!A59,\"\"))","v":""}]
[{"$nulls":22},{"$f":"IF(data!A60=\"\",\"\",IF(data!E60=SMALL(data!E60:'data'!E10058,1),data!A60,\"\"))","v":""}]
[{"$nulls":22},{"$f":"IF(data!A61=\"\",\"\",IF(data!E61=SMALL(data!E61:'data'!E10059,1),data!A61,\"\"))","v":""}]
[{"$nulls":22},{"$f":"IF(data!A62=\"\",\"\",IF(data!E62=SMALL(data!E62:'data'!E10060,1),data!A62,\"\"))","v":""}]
[{"$nulls":22},{"$f":"IF(data!A63=\"\",\"\",IF(data!E63=SMALL(data!E63:'data'!E10061,1),data!A63,\"\"))","v":""}]
[{"$nulls":22},{"$f":"IF(data!A64=\"\",\"\",IF(data!E64=SMALL(data!E64:'data'!E10062,1),data!A64,\"\"))","v":""}]
[{"$nulls":22},{"$f":"IF(data!A65=\"\",\"\",IF(data!E65=SMALL(data!E65:'data'!E10063,1),data!A65,\"\"))","v":""}]
[{"$nulls":22},{"$f":"IF(data!A66=\"\",\"\",IF(data!E66=SMALL(data!E66:'data'!E10064,1),data!A66,\"\"))","v":""}]
[{"$nulls":22},{"$f":"IF(data!A67=\"\",\"\",IF(data!E67=SMALL(data!E67:'data'!E10065,1),data!A67,\"\"))","v":""}]
[{"$nulls":22},{"$f":"IF(data!A68=\"\",\"\",IF(data!E68=SMALL(data!E68:'data'!E10066,1),data!A68,\"\"))","v":""}]
[{"$nulls":22},{"$f":"IF(data!A69=\"\",\"\",IF(data!E69=SMALL(data!E69:'data'!E10067,1),data!A69,\"\"))","v":""}]
[{"$nulls":22},{"$f":"IF(data!A70=\"\",\"\",IF(data!E70=SMALL(data!E70:'data'!E10068,1),data!A70,\"\"))","v":""}]
[{"$nulls":22},{"$f":"IF(data!A71=\"\",\"\",IF(data!E71=SMALL(data!E71:'data'!E10069,1),data!A71,\"\"))","v":""}]
[{"$nulls":22},{"$f":"IF(data!A72=\"\",\"\",IF(data!E72=SMALL(data!E72:'data'!E10070,1),data!A72,\"\"))","v":""}]
[{"$nulls":22},{"$f":"IF(data!A73=\"\",\"\",IF(data!E73=SMALL(data!E73:'data'!E10071,1),data!A73,\"\"))","v":""}]
[{"$nulls":22},{"$f":"IF(data!A74=\"\",\"\",IF(data!E74=SMALL(data!E74:'data'!E10072,1),data!A74,\"\"))","v":""}]
[{"$nulls":22},{"$f":"IF(data!A75=\"\",\"\",IF(data!E75=SMALL(data!E75:'data'!E10073,1),data!A75,\"\"))","v":""}]
[{"$nulls":22},{"$f":"IF(data!A76=\"\",\"\",IF(data!E76=SMALL(data!E76:'data'!E10074,1),data!A76,\"\"))","v":""}]
[{"$nulls":22},{"$f":"IF(data!A77=\"\",\"\",IF(data!E77=SMALL(data!E77:'data'!E10075,1),data!A77,\"\"))","v":""}]
[{"$nulls":22},{"$f":"IF(data!A78=\"\",\"\",IF(data!E78=SMALL(data!E78:'data'!E10076,1),data!A78,\"\"))","v":""}]
[{"$nulls":22},{"$f":"IF(data!A79=\"\",\"\",IF(data!E79=SMALL(data!E79:'data'!E10077,1),data!A79,\"\"))","v":""}]
[{"$nulls":22},{"$f":"IF(data!A80=\"\",\"\",IF(data!E80=SMALL(data!E80:'data'!E10078,1),data!A80,\"\"))","v":""}]
[{"$nulls":22},{"$f":"IF(data!A81=\"\",\"\",IF(data!E81=SMALL(data!E81:'data'!E10079,1),data!A81,\"\"))","v":""}]
[{"$nulls":22},{"$f":"IF(data!A82=\"\",\"\",IF(data!E82=SMALL(data!E82:'data'!E10080,1),data!A82,\"\"))","v":""}]
[{"$nulls":22},{"$f":"IF(data!A83=\"\",\"\",IF(data!E83=SMALL(data!E83:'data'!E10081,1),data!A83,\"\"))","v":""}]
[{"$nulls":22},{"$f":"IF(data!A84=\"\",\"\",IF(data!E84=SMALL(data!E84:'data'!E10082,1),data!A84,\"\"))","v":""}]
[{"$nulls":22},{"$f":"IF(data!A85=\"\",\"\",IF(data!E85=SMALL(data!E85:'data'!E10083,1),data!A85,\"\"))","v":""}]
[{"$nulls":22},{"$f":"IF(data!A86=\"\",\"\",IF(data!E86=SMALL(data!E86:'data'!E10084,1),data!A86,\"\"))","v":""}]
[{"$nulls":22},{"$f":"IF(data!A87=\"\",\"\",IF(data!E87=SMALL(data!E87:'data'!E10085,1),data!A87,\"\"))","v":""}]
[{"$nulls":22},{"$f":"IF(data!A88=\"\",\"\",IF(data!E88=SMALL(data!E88:'data'!E10086,1),data!A88,\"\"))","v":""}]
[{"$nulls":22},{"$f":"IF(data!A89=\"\",\"\",IF(data!E89=SMALL(data!E89:'data'!E10087,1),data!A89,\"\"))","v":""}]
[{"$nulls":22},{"$f":"IF(data!A90=\"\",\"\",IF(data!E90=SMALL(data!E90:'data'!E10088,1),data!A90,\"\"))","v":""}]
[{"$nulls":22},{"$f":"IF(data!A91=\"\",\"\",IF(data!E91=SMALL(data!E91:'data'!E10089,1),data!A91,\"\"))","v":""}]
[{"$nulls":22},{"$f":"IF(data!A92=\"\",\"\",IF(data!E92=SMALL(data!E92:'data'!E10090,1),data!A92,\"\"))","v":""}]
[{"$nulls":22},{"$f":"IF(data!A93=\"\",\"\",IF(data!E93=SMALL(data!E93:'data'!E10091,1),data!A93,\"\"))","v":""}]
[{"$nulls":22},{"$f":"IF(data!A94=\"\",\"\",IF(data!E94=SMALL(data!E94:'data'!E10092,1),data!A94,\"\"))","v":""}]
[{"$nulls":22},{"$f":"IF(data!A95=\"\",\"\",IF(data!E95=SMALL(data!E95:'data'!E10093,1),data!A95,\"\"))","v":""}]
[{"$nulls":22},{"$f":"IF(data!A96=\"\",\"\",IF(data!E96=SMALL(data!E96:'data'!E10094,1),data!A96,\"\"))","v":""}]
[{"$nulls":22},{"$f":"IF(data!A97=\"\",\"\",IF(data!E97=SMALL(data!E97:'data'!E10095,1),data!A97,\"\"))","v":""}]
[{"$nulls":22},{"$f":"IF(data!A98=\"\",\"\",IF(data!E98=SMALL(data!E98:'data'!E10096,1),data!A98,\"\"))","v":""}]
[{"$nulls":22},{"$f":"IF(data!A99=\"\",\"\",IF(data!E99=SMALL(data!E99:'data'!E10097,1),data!A99,\"\"))","v":""}]
[{"$nulls":22},{"$f":"IF(data!A100=\"\",\"\",IF(data!E100=SMALL(data!E100:'data'!E10098,1),data!A100,\"\"))","v":""}]
[{"$nulls":22},{"$f":"IF(data!A101=\"\",\"\",IF(data!E101=SMALL(data!E101:'data'!E10099,1),data!A101,\"\"))","v":""}]
[{"$nulls":22},{"$f":"IF(data!A102=\"\",\"\",IF(data!E102=SMALL(data!E102:'data'!E10100,1),data!A102,\"\"))","v":""}]
[{"$nulls":22},{"$f":"IF(data!A103=\"\",\"\",IF(data!E103=SMALL(data!E103:'data'!E10101,1),data!A103,\"\"))","v":""}]
[{"$nulls":22},{"$f":"IF(data!A104=\"\",\"\",IF(data!E104=SMALL(data!E104:'data'!E10102,1),data!A104,\"\"))","v":""}]
[{"$nulls":22},{"$f":"IF(data!A105=\"\",\"\",IF(data!E105=SMALL(data!E105:'data'!E10103,1),data!A105,\"\"))","v":""}]
[{"$nulls":22},{"$f":"IF(data!A106=\"\",\"\",IF(data!E106=SMALL(data!E106:'data'!E10104,1),data!A106,\"\"))","v":""}]
[{"$nulls":22},{"$f":"IF(data!A107=\"\",\"\",IF(data!E107=SMALL(data!E107:'data'!E10105,1),data!A107,\"\"))","v":""}]
[{"$nulls":22},{"$f":"IF(data!A108=\"\",\"\",IF(data!E108=SMALL(data!E108:'data'!E10106,1),data!A108,\"\"))","v":""}]
[{"$nulls":22},{"$f":"IF(data!A109=\"\",\"\",IF(data!E109=SMALL(data!E109:'data'!E10107,1),data!A109,\"\"))","v":""}]
[{"$nulls":22},{"$f":"IF(data!A110=\"\",\"\",IF(data!E110=SMALL(data!E110:'data'!E10108,1),data!A110,\"\"))","v":""}]
[{"$nulls":22},{"$f":"IF(data!A111=\"\",\"\",IF(data!E111=SMALL(data!E111:'data'!E10109,1),data!A111,\"\"))","v":""}]
[{"$nulls":22},{"$f":"IF(data!A112=\"\",\"\",IF(data!E112=SMALL(data!E112:'data'!E10110,1),data!A112,\"\"))","v":""}]
[{"$nulls":22},{"$f":"IF(data!A113=\"\",\"\",IF(data!E113=SMALL(data!E113:'data'!E10111,1),data!A113,\"\"))","v":""}]
[{"$nulls":22},{"$f":"IF(data!A114=\"\",\"\",IF(data!E114=SMALL(data!E114:'data'!E10112,1),data!A114,\"\"))","v":""}]
[{"$nulls":22},{"$f":"IF(data!A115=\"\",\"\",IF(data!E115=SMALL(data!E115:'data'!E10113,1),data!A115,\"\"))","v":""}]
[{"$nulls":22},{"$f":"IF(data!A116=\"\",\"\",IF(data!E116=SMALL(data!E116:'data'!E10114,1),data!A116,\"\"))","v":""}]
[{"$nulls":22},{"$f":"IF(data!A117=\"\",\"\",IF(data!E117=SMALL(data!E117:'data'!E10115,1),data!A117,\"\"))","v":""}]
[{"$nulls":22},{"$f":"IF(data!A118=\"\",\"\",IF(data!E118=SMALL(data!E118:'data'!E10116,1),data!A118,\"\"))","v":""}]
[{"$nulls":22},{"$f":"IF(data!A119=\"\",\"\",IF(data!E119=SMALL(data!E119:'data'!E10117,1),data!A119,\"\"))","v":""}]
[{"$nulls":22},{"$f":"IF(data!A120=\"\",\"\",IF(data!E120=SMALL(data!E120:'data'!E10118,1),data!A120,\"\"))","v":""}]
[{"$nulls":22},{"$f":"IF(data!A121=\"\",\"\",IF(data!E121=SMALL(data!E121:'data'!E10119,1),data!A121,\"\"))","v":""}]
[{"$nulls":22},{"$f":"IF(data!A122=\"\",\"\",IF(data!E122=SMALL(data!E122:'data'!E10120,1),data!A122,\"\"))","v":""}]
[{"$nulls":22},{"$f":"IF(data!A123=\"\",\"\",IF(data!E123=SMALL(data!E123:'data'!E10121,1),data!A123,\"\"))","v":""}]
[{"$nulls":22},{"$f":"IF(data!A124=\"\",\"\",IF(data!E124=SMALL(data!E124:'data'!E10122,1),data!A124,\"\"))","v":""}]
[{"$nulls":22},{"$f":"IF(data!A125=\"\",\"\",IF(data!E125=SMALL(data!E125:'data'!E10123,1),data!A125,\"\"))","v":""}]
[{"$nulls":22},{"$f":"IF(data!A126=\"\",\"\",IF(data!E126=SMALL(data!E126:'data'!E10124,1),data!A126,\"\"))","v":""}]
[{"$nulls":22},{"$f":"IF(data!A127=\"\",\"\",IF(data!E127=SMALL(data!E127:'data'!E10125,1),data!A127,\"\"))","v":""}]
[{"$nulls":22},{"$f":"IF(data!A128=\"\",\"\",IF(data!E128=SMALL(data!E128:'data'!E10126,1),data!A128,\"\"))","v":""}]
[{"$nulls":22},{"$f":"IF(data!A129=\"\",\"\",IF(data!E129=SMALL(data!E129:'data'!E10127,1),data!A129,\"\"))","v":""}]
[{"$nulls":22},{"$f":"IF(data!A130=\"\",\"\",IF(data!E130=SMALL(data!E130:'data'!E10128,1),data!A130,\"\"))","v":""}]
[{"$nulls":22},{"$f":"IF(data!A131=\"\",\"\",IF(data!E131=SMALL(data!E131:'data'!E10129,1),data!A131,\"\"))","v":""}]
[{"$nulls":22},{"$f":"IF(data!A132=\"\",\"\",IF(data!E132=SMALL(data!E132:'data'!E10130,1),data!A132,\"\"))","v":""}]
[{"$nulls":22},{"$f":"IF(data!A133=\"\",\"\",IF(data!E133=SMALL(data!E133:'data'!E10131,1),data!A133,\"\"))","v":""}]
[{"$nulls":22},{"$f":"IF(data!A134=\"\",\"\",IF(data!E134=SMALL(data!E134:'data'!E10132,1),data!A134,\"\"))","v":""}]
[{"$nulls":22},{"$f":"IF(data!A135=\"\",\"\",IF(data!E135=SMALL(data!E135:'data'!E10133,1),data!A135,\"\"))","v":""}]
[{"$nulls":22},{"$f":"IF(data!A136=\"\",\"\",IF(data!E136=SMALL(data!E136:'data'!E10134,1),data!A136,\"\"))","v":""}]
[{"$nulls":22},{"$f":"IF(data!A137=\"\",\"\",IF(data!E137=SMALL(data!E137:'data'!E10135,1),data!A137,\"\"))","v":""}]
[{"$nulls":22},{"$f":"IF(data!A138=\"\",\"\",IF(data!E138=SMALL(data!E138:'data'!E10136,1),data!A138,\"\"))","v":""}]
[{"$nulls":22},{"$f":"IF(data!A139=\"\",\"\",IF(data!E139=SMALL(data!E139:'data'!E10137,1),data!A139,\"\"))","v":""}]
[{"$nulls":22},{"$f":"IF(data!A140=\"\",\"\",IF(data!E140=SMALL(data!E140:'data'!E10138,1),data!A140,\"\"))","v":""}]
[{"$nulls":22},{"$f":"IF(data!A141=\"\",\"\",IF(data!E141=SMALL(data!E141:'data'!E10139,1),data!A141,\"\"))","v":""}]
[{"$nulls":22},{"$f":"IF(data!A142=\"\",\"\",IF(data!E142=SMALL(data!E142:'data'!E10140,1),data!A142,\"\"))","v":""}]
[{"$nulls":22},{"$f":"IF(data!A143=\"\",\"\",IF(data!E143=SMALL(data!E143:'data'!E10141,1),data!A143,\"\"))","v":""}]
[{"$nulls":22},{"$f":"IF(data!A144=\"\",\"\",IF(data!E144=SMALL(data!E144:'data'!E10142,1),data!A144,\"\"))","v":""}]
[{"$nulls":22},{"$f":"IF(data!A145=\"\",\"\",IF(data!E145=SMALL(data!E145:'data'!E10143,1),data!A145,\"\"))","v":""}]
[{"$nulls":22},{"$f":"IF(data!A146=\"\",\"\",IF(data!E146=SMALL(data!E146:'data'!E10144,1),data!A146,\"\"))","v":""}]
[{"$nulls":22},{"$f":"IF(data!A147=\"\",\"\",IF(data!E147=SMALL(data!E147:'data'!E10145,1),data!A147,\"\"))","v":""}]
[{"$nulls":22},{"$f":"IF(data!A148=\"\",\"\",IF(data!E148=SMALL(data!E148:'data'!E10146,1),data!A148,\"\"))","v":""}]
[{"$nulls":22},{"$f":"IF(data!A149=\"\",\"\",IF(data!E149=SMALL(data!E149:'data'!E10147,1),data!A149,\"\"))","v":""}]
[{"$nulls":22},{"$f":"IF(data!A150=\"\",\"\",IF(data!E150=SMALL(data!E150:'data'!E10148,1),data!A150,\"\"))","v":""}]
[{"$nulls":22},{"$f":"IF(data!A151=\"\",\"\",IF(data!E151=SMALL(data!E151:'data'!E10149,1),data!A151,\"\"))","v":""}]
[{"$nulls":22},{"$f":"IF(data!A152=\"\",\"\",IF(data!E152=SMALL(data!E152:'data'!E10150,1),data!A152,\"\"))","v":""}]
[{"$nulls":22},{"$f":"IF(data!A153=\"\",\"\",IF(data!E153=SMALL(data!E153:'data'!E10151,1),data!A153,\"\"))","v":""}]
[{"$nulls":22},{"$f":"IF(data!A154=\"\",\"\",IF(data!E154=SMALL(data!E154:'data'!E10152,1),data!A154,\"\"))","v":""}]
[{"$nulls":22},{"$f":"IF(data!A155=\"\",\"\",IF(data!E155=SMALL(data!E155:'data'!E10153,1),data!A155,\"\"))","v":""}]
[{"$nulls":22},{"$f":"IF(data!A156=\"\",\"\",IF(data!E156=SMALL(data!E156:'data'!E10154,1),data!A156,\"\"))","v":""}]
[{"$nulls":22},{"$f":"IF(data!A157=\"\",\"\",IF(data!E157=SMALL(data!E157:'data'!E10155,1),data!A157,\"\"))","v":""}]
[{"$nulls":22},{"$f":"IF(data!A158=\"\",\"\",IF(data!E158=SMALL(data!E158:'data'!E10156,1),data!A158,\"\"))","v":""}]
[{"$nulls":22},{"$f":"IF(data!A159=\"\",\"\",IF(data!E159=SMALL(data!E159:'data'!E10157,1),data!A159,\"\"))","v":""}]
[{"$nulls":22},{"$f":"IF(data!A160=\"\",\"\",IF(data!E160=SMALL(data!E160:'data'!E10158,1),data!A160,\"\"))","v":""}]
[{"$nulls":22},{"$f":"IF(data!A161=\"\",\"\",IF(data!E161=SMALL(data!E161:'data'!E10159,1),data!A161,\"\"))","v":""}]
[{"$nulls":22},{"$f":"IF(data!A162=\"\",\"\",IF(data!E162=SMALL(data!E162:'data'!E10160,1),data!A162,\"\"))","v":""}]
[{"$nulls":22},{"$f":"IF(data!A163=\"\",\"\",IF(data!E163=SMALL(data!E163:'data'!E10161,1),data!A163,\"\"))","v":""}]
[{"$nulls":22},{"$f":"IF(data!A164=\"\",\"\",IF(data!E164=SMALL(data!E164:'data'!E10162,1),data!A164,\"\"))","v":""}]
[{"$nulls":22},{"$f":"IF(data!A165=\"\",\"\",IF(data!E165=SMALL(data!E165:'data'!E10163,1),data!A165,\"\"))","v":""}]
[{"$nulls":22},{"$f":"IF(data!A166=\"\",\"\",IF(data!E166=SMALL(data!E166:'data'!E10164,1),data!A166,\"\"))","v":""}]
[{"$nulls":22},{"$f":"IF(data!A167=\"\",\"\",IF(data!E167=SMALL(data!E167:'data'!E10165,1),data!A167,\"\"))","v":""}]
[{"$nulls":22},{"$f":"IF(data!A168=\"\",\"\",IF(data!E168=SMALL(data!E168:'data'!E10166,1),data!A168,\"\"))","v":""}]
[{"$nulls":22},{"$f":"IF(data!A169=\"\",\"\",IF(data!E169=SMALL(data!E169:'data'!E10167,1),data!A169,\"\"))","v":""}]
[{"$nulls":22},{"$f":"IF(data!A170=\"\",\"\",IF(data!E170=SMALL(data!E170:'data'!E10168,1),data!A170,\"\"))","v":""}]
[{"$nulls":22},{"$f":"IF(data!A171=\"\",\"\",IF(data!E171=SMALL(data!E171:'data'!E10169,1),data!A171,\"\"))","v":""}]
[{"$nulls":22},{"$f":"IF(data!A172=\"\",\"\",IF(data!E172=SMALL(data!E172:'data'!E10170,1),data!A172,\"\"))","v":""}]
[{"$nulls":22},{"$f":"IF(data!A173=\"\",\"\",IF(data!E173=SMALL(data!E173:'data'!E10171,1),data!A173,\"\"))","v":""}]
[{"$nulls":22},{"$f":"IF(data!A174=\"\",\"\",IF(data!E174=SMALL(data!E174:'data'!E10172,1),data!A174,\"\"))","v":""}]
[{"$nulls":22},{"$f":"IF(data!A175=\"\",\"\",IF(data!E175=SMALL(data!E175:'data'!E10173,1),data!A175,\"\"))","v":""}]
[{"$nulls":22},{"$f":"IF(data!A176=\"\",\"\",IF(data!E176=SMALL(data!E176:'data'!E10174,1),data!A176,\"\"))","v":""}]
[{"$nulls":22},{"$f":"IF(data!A177=\"\",\"\",IF(data!E177=SMALL(data!E177:'data'!E10175,1),data!A177,\"\"))","v":""}]
[{"$nulls":22},{"$f":"IF(data!A178=\"\",\"\",IF(data!E178=SMALL(data!E178:'data'!E10176,1),data!A178,\"\"))","v":""}]
[{"$nulls":22},{"$f":"IF(data!A179=\"\",\"\",IF(data!E179=SMALL(data!E179:'data'!E10177,1),data!A179,\"\"))","v":""}]
[{"$nulls":22},{"$f":"IF(data!A180=\"\",\"\",IF(data!E180=SMALL(data!E180:'data'!E10178,1),data!A180,\"\"))","v":""}]
[{"$nulls":22},{"$f":"IF(data!A181=\"\",\"\",IF(data!E181=SMALL(data!E181:'data'!E10179,1),data!A181,\"\"))","v":""}]
[{"$nulls":22},{"$f":"IF(data!A182=\"\",\"\",IF(data!E182=SMALL(data!E182:'data'!E10180,1),data!A182,\"\"))","v":""}]
[{"$nulls":22},{"$f":"IF(data!A183=\"\",\"\",IF(data!E183=SMALL(data!E183:'data'!E10181,1),data!A183,\"\"))","v":""}]
[{"$nulls":22},{"$f":"IF(data!A184=\"\",\"\",IF(data!E184=SMALL(data!E184:'data'!E10182,1),data!A184,\"\"))","v":""}]
[{"$nulls":22},{"$f":"IF(data!A185=\"\",\"\",IF(data!E185=SMALL(data!E185:'data'!E10183,1),data!A185,\"\"))","v":""}]
[{"$nulls":22},{"$f":"IF(data!A186=\"\",\"\",IF(data!E186=SMALL(data!E186:'data'!E10184,1),data!A186,\"\"))","v":""}]
[{"$nulls":22},{"$f":"IF(data!A187=\"\",\"\",IF(data!E187=SMALL(data!E187:'data'!E10185,1),data!A187,\"\"))","v":""}]
[{"$nulls":22},{"$f":"IF(data!A188=\"\",\"\",IF(data!E188=SMALL(data!E188:'data'!E10186,1),data!A188,\"\"))","v":""}]
[{"$nulls":22},{"$f":"IF(data!A189=\"\",\"\",IF(data!E189=SMALL(data!E189:'data'!E10187,1),data!A189,\"\"))","v":""}]
[{"$nulls":22},{"$f":"IF(data!A190=\"\",\"\",IF(data!E190=SMALL(data!E190:'data'!E10188,1),data!A190,\"\"))","v":""}]
[{"$nulls":22},{"$f":"IF(data!A191=\"\",\"\",IF(data!E191=SMALL(data!E191:'data'!E10189,1),data!A191,\"\"))","v":""}]
[{"$nulls":22},{"$f":"IF(data!A192=\"\",\"\",IF(data!E192=SMALL(data!E192:'data'!E10190,1),data!A192,\"\"))","v":""}]
[{"$nulls":22},{"$f":"IF(data!A193=\"\",\"\",IF(data!E193=SMALL(data!E193:'data'!E10191,1),data!A193,\"\"))","v":""}]
[{"$nulls":22},{"$f":"IF(data!A194=\"\",\"\",IF(data!E194=SMALL(data!E194:'data'!E10192,1),data!A194,\"\"))","v":""}]
[{"$nulls":22},{"$f":"IF(data!A195=\"\",\"\",IF(data!E195=SMALL(data!E195:'data'!E10193,1),data!A195,\"\"))","v":""}]
[{"$nulls":22},{"$f":"IF(data!A196=\"\",\"\",IF(data!E196=SMALL(data!E196:'data'!E10194,1),data!A196,\"\"))","v":""}]
[{"$nulls":22},{"$f":"IF(data!A197=\"\",\"\",IF(data!E197=SMALL(data!E197:'data'!E10195,1),data!A197,\"\"))","v":""}]
[{"$nulls":22},{"$f":"IF(data!A198=\"\",\"\",IF(data!E198=SMALL(data!E198:'data'!E10196,1),data!A198,\"\"))","v":""}]
[{"$nulls":22},{"$f":"IF(data!A199=\"\",\"\",IF(data!E199=SMALL(data!E199:'data'!E10197,1),data!A199,\"\"))","v":""}]
[{"$nulls":22},{"$f":"IF(data!A200=\"\",\"\",IF(data!E200=SMALL(data!E200:'data'!E10198,1),data!A200,\"\"))","v":""}]
[{"$nulls":22},{"$f":"IF(data!A201=\"\",\"\",IF(data!E201=SMALL(data!E201:'data'!E10199,1),data!A201,\"\"))","v":""}]
[{"$nulls":22},{"$f":"IF(data!A202=\"\",\"\",IF(data!E202=SMALL(data!E202:'data'!E10200,1),data!A202,\"\"))","v":""}]
[{"$nulls":22},{"$f":"IF(data!A203=\"\",\"\",IF(data!E203=SMALL(data!E203:'data'!E10201,1),data!A203,\"\"))","v":""}]
[{"$nulls":22},{"$f":"IF(data!A204=\"\",\"\",IF(data!E204=SMALL(data!E204:'data'!E10202,1),data!A204,\"\"))","v":""}]
[{"$nulls":22},{"$f":"IF(data!A205=\"\",\"\",IF(data!E205=SMALL(data!E205:'data'!E10203,1),data!A205,\"\"))","v":""}]
[{"$nulls":22},{"$f":"IF(data!A206=\"\",\"\",IF(data!E206=SMALL(data!E206:'data'!E10204,1),data!A206,\"\"))","v":""}]
[{"$nulls":22},{"$f":"IF(data!A207=\"\",\"\",IF(data!E207=SMALL(data!E207:'data'!E10205,1),data!A207,\"\"))","v":""}]
[{"$nulls":22},{"$f":"IF(data!A208=\"\",\"\",IF(data!E208=SMALL(data!E208:'data'!E10206,1),data!A208,\"\"))","v":""}]
[{"$nulls":22},{"$f":"IF(data!A209=\"\",\"\",IF(data!E209=SMALL(data!E209:'data'!E10207,1),data!A209,\"\"))","v":""}]
[{"$nulls":22},{"$f":"IF(data!A210=\"\",\"\",IF(data!E210=SMALL(data!E210:'data'!E10208,1),data!A210,\"\"))","v":""}]
[{"$nulls":22},{"$f":"IF(data!A211=\"\",\"\",IF(data!E211=SMALL(data!E211:'data'!E10209,1),data!A211,\"\"))","v":""}]
[{"$nulls":22},{"$f":"IF(data!A212=\"\",\"\",IF(data!E212=SMALL(data!E212:'data'!E10210,1),data!A212,\"\"))","v":""}]
[{"$nulls":22},{"$f":"IF(data!A213=\"\",\"\",IF(data!E213=SMALL(data!E213:'data'!E10211,1),data!A213,\"\"))","v":""}]
[{"$nulls":22},{"$f":"IF(data!A214=\"\",\"\",IF(data!E214=SMALL(data!E214:'data'!E10212,1),data!A214,\"\"))","v":""}]
[{"$nulls":22},{"$f":"IF(data!A215=\"\",\"\",IF(data!E215=SMALL(data!E215:'data'!E10213,1),data!A215,\"\"))","v":""}]
[{"$nulls":22},{"$f":"IF(data!A216=\"\",\"\",IF(data!E216=SMALL(data!E216:'data'!E10214,1),data!A216,\"\"))","v":""}]
[{"$nulls":22},{"$f":"IF(data!A217=\"\",\"\",IF(data!E217=SMALL(data!E217:'data'!E10215,1),data!A217,\"\"))","v":""}]
[{"$nulls":22},{"$f":"IF(data!A218=\"\",\"\",IF(data!E218=SMALL(data!E218:'data'!E10216,1),data!A218,\"\"))","v":""}]
[{"$nulls":22},{"$f":"IF(data!A219=\"\",\"\",IF(data!E219=SMALL(data!E219:'data'!E10217,1),data!A219,\"\"))","v":""}]
[{"$nulls":22},{"$f":"IF(data!A220=\"\",\"\",IF(data!E220=SMALL(data!E220:'data'!E10218,1),data!A220,\"\"))","v":""}]
[{"$nulls":22},{"$f":"IF(data!A221=\"\",\"\",IF(data!E221=SMALL(data!E221:'data'!E10219,1),data!A221,\"\"))","v":""}]
[{"$nulls":22},{"$f":"IF(data!A222=\"\",\"\",IF(data!E222=SMALL(data!E222:'data'!E10220,1),data!A222,\"\"))","v":""}]
[{"$nulls":22},{"$f":"IF(data!A223=\"\",\"\",IF(data!E223=SMALL(data!E223:'data'!E10221,1),data!A223,\"\"))","v":""}]
[{"$nulls":22},{"$f":"IF(data!A224=\"\",\"\",IF(data!E224=SMALL(data!E224:'data'!E10222,1),data!A224,\"\"))","v":""}]
[{"$nulls":22},{"$f":"IF(data!A225=\"\",\"\",IF(data!E225=SMALL(data!E225:'data'!E10223,1),data!A225,\"\"))","v":""}]
[{"$nulls":22},{"$f":"IF(data!A226=\"\",\"\",IF(data!E226=SMALL(data!E226:'data'!E10224,1),data!A226,\"\"))","v":""}]
[{"$nulls":22},{"$f":"IF(data!A227=\"\",\"\",IF(data!E227=SMALL(data!E227:'data'!E10225,1),data!A227,\"\"))","v":""}]
[{"$nulls":22},{"$f":"IF(data!A228=\"\",\"\",IF(data!E228=SMALL(data!E228:'data'!E10226,1),data!A228,\"\"))","v":""}]
[{"$nulls":22},{"$f":"IF(data!A229=\"\",\"\",IF(data!E229=SMALL(data!E229:'data'!E10227,1),data!A229,\"\"))","v":""}]
[{"$nulls":22},{"$f":"IF(data!A230=\"\",\"\",IF(data!E230=SMALL(data!E230:'data'!E10228,1),data!A230,\"\"))","v":""}]
[{"$nulls":22},{"$f":"IF(data!A231=\"\",\"\",IF(data!E231=SMALL(data!E231:'data'!E10229,1),data!A231,\"\"))","v":""}]
[{"$nulls":22},{"$f":"IF(data!A232=\"\",\"\",IF(data!E232=SMALL(data!E232:'data'!E10230,1),data!A232,\"\"))","v":""}]
[{"$nulls":22},{"$f":"IF(data!A233=\"\",\"\",IF(data!E233=SMALL(data!E233:'data'!E10231,1),data!A233,\"\"))","v":""}]
[{"$nulls":22},{"$f":"IF(data!A234=\"\",\"\",IF(data!E234=SMALL(data!E234:'data'!E10232,1),data!A234,\"\"))","v":""}]
[{"$nulls":22},{"$f":"IF(data!A235=\"\",\"\",IF(data!E235=SMALL(data!E235:'data'!E10233,1),data!A235,\"\"))","v":""}]
[{"$nulls":22},{"$f":"IF(data!A236=\"\",\"\",IF(data!E236=SMALL(data!E236:'data'!E10234,1),data!A236,\"\"))","v":""}]
[{"$nulls":22},{"$f":"IF(data!A237=\"\",\"\",IF(data!E237=SMALL(data!E237:'data'!E10235,1),data!A237,\"\"))","v":""}]
[{"$nulls":22},{"$f":"IF(data!A238=\"\",\"\",IF(data!E238=SMALL(data!E238:'data'!E10236,1),data!A238,\"\"))","v":""}]
[{"$nulls":22},{"$f":"IF(data!A239=\"\",\"\",IF(data!E239=SMALL(data!E239:'data'!E10237,1),data!A239,\"\"))","v":""}]
[{"$nulls":22},{"$f":"IF(data!A240=\"\",\"\",IF(data!E240=SMALL(data!E240:'data'!E10238,1),data!A240,\"\"))","v":""}]
[{"$nulls":22},{"$f":"IF(data!A241=\"\",\"\",IF(data!E241=SMALL(data!E241:'data'!E10239,1),data!A241,\"\"))","v":""}]
[{"$nulls":22},{"$f":"IF(data!A242=\"\",\"\",IF(data!E242=SMALL(data!E242:'data'!E10240,1),data!A242,\"\"))","v":""}]
[{"$nulls":22},{"$f":"IF(data!A243=\"\",\"\",IF(data!E243=SMALL(data!E243:'data'!E10241,1),data!A243,\"\"))","v":""}]
[{"$nulls":22},{"$f":"IF(data!A244=\"\",\"\",IF(data!E244=SMALL(data!E244:'data'!E10242,1),data!A244,\"\"))","v":""}]
[{"$nulls":22},{"$f":"IF(data!A245=\"\",\"\",IF(data!E245=SMALL(data!E245:'data'!E10243,1),data!A245,\"\"))","v":""}]
[{"$nulls":22},{"$f":"IF(data!A246=\"\",\"\",IF(data!E246=SMALL(data!E246:'data'!E10244,1),data!A246,\"\"))","v":""}]
[{"$nulls":22},{"$f":"IF(data!A247=\"\",\"\",IF(data!E247=SMALL(data!E247:'data'!E10245,1),data!A247,\"\"))","v":""}]
[{"$nulls":22},{"$f":"IF(data!A248=\"\",\"\",IF(data!E248=SMALL(data!E248:'data'!E10246,1),data!A248,\"\"))","v":""}]
[{"$nulls":22},{"$f":"IF(data!A249=\"\",\"\",IF(data!E249=SMALL(data!E249:'data'!E10247,1),data!A249,\"\"))","v":""}]
[{"$nulls":22},{"$f":"IF(data!A250=\"\",\"\",IF(data!E250=SMALL(data!E250:'data'!E10248,1),data!A250,\"\"))","v":""}]
[{"$nulls":22},{"$f":"IF(data!A251=\"\",\"\",IF(data!E251=SMALL(data!E251:'data'!E10249,1),data!A251,\"\"))","v":""}]
[{"$nulls":22},{"$f":"IF(data!A252=\"\",\"\",IF(data!E252=SMALL(data!E252:'data'!E10250,1),data!A252,\"\"))","v":""}]
[{"$nulls":22},{"$f":"IF(data!A253=\"\",\"\",IF(data!E253=SMALL(data!E253:'data'!E10251,1),data!A253,\"\"))","v":""}]
[{"$nulls":22},{"$f":"IF(data!A254=\"\",\"\",IF(data!E254=SMALL(data!E254:'data'!E10252,1),data!A254,\"\"))","v":""}]
[{"$nulls":22},{"$f":"IF(data!A255=\"\",\"\",IF(data!E255=SMALL(data!E255:'data'!E10253,1),data!A255,\"\"))","v":""}]
[{"$nulls":22},{"$f":"IF(data!A256=\"\",\"\",IF(data!E256=SMALL(data!E256:'data'!E10254,1),data!A256,\"\"))","v":""}]
[{"$nulls":22},{"$f":"IF(data!A257=\"\",\"\",IF(data!E257=SMALL(data!E257:'data'!E10255,1),data!A257,\"\"))","v":""}]
[{"$nulls":22},{"$f":"IF(data!A258=\"\",\"\",IF(data!E258=SMALL(data!E258:'data'!E10256,1),data!A258,\"\"))","v":""}]
[{"$nulls":22},{"$f":"IF(data!A259=\"\",\"\",IF(data!E259=SMALL(data!E259:'data'!E10257,1),data!A259,\"\"))","v":""}]
[{"$nulls":22},{"$f":"IF(data!A260=\"\",\"\",IF(data!E260=SMALL(data!E260:'data'!E10258,1),data!A260,\"\"))","v":""}]
[{"$nulls":22},{"$f":"IF(data!A261=\"\",\"\",IF(data!E261=SMALL(data!E261:'data'!E10259,1),data!A261,\"\"))","v":""}]
[{"$nulls":22},{"$f":"IF(data!A262=\"\",\"\",IF(data!E262=SMALL(data!E262:'data'!E10260,1),data!A262,\"\"))","v":""}]
[{"$nulls":22},{"$f":"IF(data!A263=\"\",\"\",IF(data!E263=SMALL(data!E263:'data'!E10261,1),data!A263,\"\"))","v":""}]
[{"$nulls":22},{"$f":"IF(data!A264=\"\",\"\",IF(data!E264=SMALL(data!E264:'data'!E10262,1),data!A264,\"\"))","v":""}]
[{"$nulls":22},{"$f":"IF(data!A265=\"\",\"\",IF(data!E265=SMALL(data!E265:'data'!E10263,1),data!A265,\"\"))","v":""}]
[{"$nulls":22},{"$f":"IF(data!A266=\"\",\"\",IF(data!E266=SMALL(data!E266:'data'!E10264,1),data!A266,\"\"))","v":""}]
[{"$nulls":22},{"$f":"IF(data!A267=\"\",\"\",IF(data!E267=SMALL(data!E267:'data'!E10265,1),data!A267,\"\"))","v":""}]
[{"$nulls":22},{"$f":"IF(data!A268=\"\",\"\",IF(data!E268=SMALL(data!E268:'data'!E10266,1),data!A268,\"\"))","v":""}]
[{"$nulls":22},{"$f":"IF(data!A269=\"\",\"\",IF(data!E269=SMALL(data!E269:'data'!E10267,1),data!A269,\"\"))","v":""}]
[{"$nulls":22},{"$f":"IF(data!A270=\"\",\"\",IF(data!E270=SMALL(data!E270:'data'!E10268,1),data!A270,\"\"))","v":""}]
[{"$nulls":22},{"$f":"IF(data!A271=\"\",\"\",IF(data!E271=SMALL(data!E271:'data'!E10269,1),data!A271,\"\"))","v":""}]
[{"$nulls":22},{"$f":"IF(data!A272=\"\",\"\",IF(data!E272=SMALL(data!E272:'data'!E10270,1),data!A272,\"\"))","v":""}]
[{"$nulls":22},{"$f":"IF(data!A273=\"\",\"\",IF(data!E273=SMALL(data!E273:'data'!E10271,1),data!A273,\"\"))","v":""}]
[{"$nulls":22},{"$f":"IF(data!A274=\"\",\"\",IF(data!E274=SMALL(data!E274:'data'!E10272,1),data!A274,\"\"))","v":""}]
[{"$nulls":22},{"$f":"IF(data!A275=\"\",\"\",IF(data!E275=SMALL(data!E275:'data'!E10273,1),data!A275,\"\"))","v":""}]
[{"$nulls":22},{"$f":"IF(data!A276=\"\",\"\",IF(data!E276=SMALL(data!E276:'data'!E10274,1),data!A276,\"\"))","v":""}]
[{"$nulls":22},{"$f":"IF(data!A277=\"\",\"\",IF(data!E277=SMALL(data!E277:'data'!E10275,1),data!A277,\"\"))","v":""}]
[{"$nulls":22},{"$f":"IF(data!A278=\"\",\"\",IF(data!E278=SMALL(data!E278:'data'!E10276,1),data!A278,\"\"))","v":""}]
[{"$nulls":22},{"$f":"IF(data!A279=\"\",\"\",IF(data!E279=SMALL(data!E279:'data'!E10277,1),data!A279,\"\"))","v":""}]
[{"$nulls":22},{"$f":"IF(data!A280=\"\",\"\",IF(data!E280=SMALL(data!E280:'data'!E10278,1),data!A280,\"\"))","v":""}]
[{"$nulls":22},{"$f":"IF(data!A281=\"\",\"\",IF(data!E281=SMALL(data!E281:'data'!E10279,1),data!A281,\"\"))","v":""}]
[{"$nulls":22},{"$f":"IF(data!A282=\"\",\"\",IF(data!E282=SMALL(data!E282:'data'!E10280,1),data!A282,\"\"))","v":""}]
[{"$nulls":22},{"$f":"IF(data!A283=\"\",\"\",IF(data!E283=SMALL(data!E283:'data'!E10281,1),data!A283,\"\"))","v":""}]
[{"$nulls":22},{"$f":"IF(data!A284=\"\",\"\",IF(data!E284=SMALL(data!E284:'data'!E10282,1),data!A284,\"\"))","v":""}]
[{"$nulls":22},{"$f":"IF(data!A285=\"\",\"\",IF(data!E285=SMALL(data!E285:'data'!E10283,1),data!A285,\"\"))","v":""}]
[{"$nulls":22},{"$f":"IF(data!A286=\"\",\"\",IF(data!E286=SMALL(data!E286:'data'!E10284,1),data!A286,\"\"))","v":""}]
[{"$nulls":22},{"$f":"IF(data!A287=\"\",\"\",IF(data!E287=SMALL(data!E287:'data'!E10285,1),data!A287,\"\"))","v":""}]
[{"$nulls":22},{"$f":"IF(data!A288=\"\",\"\",IF(data!E288=SMALL(data!E288:'data'!E10286,1),data!A288,\"\"))","v":""}]
[{"$nulls":22},{"$f":"IF(data!A289=\"\",\"\",IF(data!E289=SMALL(data!E289:'data'!E10287,1),data!A289,\"\"))","v":""}]
[{"$nulls":22},{"$f":"IF(data!A290=\"\",\"\",IF(data!E290=SMALL(data!E290:'data'!E10288,1),data!A290,\"\"))","v":""}]
[{"$nulls":22},{"$f":"IF(data!A291=\"\",\"\",IF(data!E291=SMALL(data!E291:'data'!E10289,1),data!A291,\"\"))","v":""}]
[{"$nulls":22},{"$f":"IF(data!A292=\"\",\"\",IF(data!E292=SMALL(data!E292:'data'!E10290,1),data!A292,\"\"))","v":""}]
[{"$nulls":22},{"$f":"IF(data!A293=\"\",\"\",IF(data!E293=SMALL(data!E293:'data'!E10291,1),data!A293,\"\"))","v":""}]
[{"$nulls":22},{"$f":"IF(data!A294=\"\",\"\",IF(data!E294=SMALL(data!E294:'data'!E10292,1),data!A294,\"\"))","v":""}]
[{"$nulls":22},{"$f":"IF(data!A295=\"\",\"\",IF(data!E295=SMALL(data!E295:'data'!E10293,1),data!A295,\"\"))","v":""}]
[{"$nulls":22},{"$f":"IF(data!A296=\"\",\"\",IF(data!E296=SMALL(data!E296:'data'!E10294,1),data!A296,\"\"))","v":""}]
[{"$nulls":22},{"$f":"IF(data!A297=\"\",\"\",IF(data!E297=SMALL(data!E297:'data'!E10295,1),data!A297,\"\"))","v":""}]
[{"$nulls":22},{"$f":"IF(data!A298=\"\",\"\",IF(data!E298=SMALL(data!E298:'data'!E10296,1),data!A298,\"\"))","v":""}]
[{"$nulls":22},{"$f":"IF(data!A299=\"\",\"\",IF(data!E299=SMALL(data!E299:'data'!E10297,1),data!A299,\"\"))","v":""}]
[{"$nulls":22},{"$f":"IF(data!A300=\"\",\"\",IF(data!E300=SMALL(data!E300:'data'!E10298,1),data!A300,\"\"))","v":""}]
[{"$nulls":22},{"$f":"IF(data!A301=\"\",\"\",IF(data!E301=SMALL(data!E301:'data'!E10299,1),data!A301,\"\"))","v":""}]
[{"$nulls":22},{"$f":"IF(data!A302=\"\",\"\",IF(data!E302=SMALL(data!E302:'data'!E10300,1),data!A302,\"\"))","v":""}]
[{"$nulls":22},{"$f":"IF(data!A303=\"\",\"\",IF(data!E303=SMALL(data!E303:'data'!E10301,1),data!A303,\"\"))","v":""}]
[{"$nulls":22},{"$f":"IF(data!A304=\"\",\"\",IF(data!E304=SMALL(data!E304:'data'!E10302,1),data!A304,\"\"))","v":""}]
[{"$nulls":22},{"$f":"IF(data!A305=\"\",\"\",IF(data!E305=SMALL(data!E305:'data'!E10303,1),data!A305,\"\"))","v":""}]
[{"$nulls":22},{"$f":"IF(data!A306=\"\",\"\",IF(data!E306=SMALL(data!E306:'data'!E10304,1),data!A306,\"\"))","v":""}]
[{"$nulls":22},{"$f":"IF(data!A307=\"\",\"\",IF(data!E307=SMALL(data!E307:'data'!E10305,1),data!A307,\"\"))","v":""}]
[{"$nulls":22},{"$f":"IF(data!A308=\"\",\"\",IF(data!E308=SMALL(data!E308:'data'!E10306,1),data!A308,\"\"))","v":""}]
[{"$nulls":22},{"$f":"IF(data!A309=\"\",\"\",IF(data!E309=SMALL(data!E309:'data'!E10307,1),data!A309,\"\"))","v":""}]
[{"$nulls":22},{"$f":"IF(data!A310=\"\",\"\",IF(data!E310=SMALL(data!E310:'data'!E10308,1),data!A310,\"\"))","v":""}]
[{"$nulls":22},{"$f":"IF(data!A311=\"\",\"\",IF(data!E311=SMALL(data!E311:'data'!E10309,1),data!A311,\"\"))","v":""}]
[{"$nulls":22},{"$f":"IF(data!A312=\"\",\"\",IF(data!E312=SMALL(data!E312:'data'!E10310,1),data!A312,\"\"))","v":""}]
[{"$nulls":22},{"$f":"IF(data!A313=\"\",\"\",IF(data!E313=SMALL(data!E313:'data'!E10311,1),data!A313,\"\"))","v":""}]
[{"$nulls":22},{"$f":"IF(data!A314=\"\",\"\",IF(data!E314=SMALL(data!E314:'data'!E10312,1),data!A314,\"\"))","v":""}]
[{"$nulls":22},{"$f":"IF(data!A315=\"\",\"\",IF(data!E315=SMALL(data!E315:'data'!E10313,1),data!A315,\"\"))","v":""}]
[{"$nulls":22},{"$f":"IF(data!A316=\"\",\"\",IF(data!E316=SMALL(data!E316:'data'!E10314,1),data!A316,\"\"))","v":""}]
[{"$nulls":22},{"$f":"IF(data!A317=\"\",\"\",IF(data!E317=SMALL(data!E317:'data'!E10315,1),data!A317,\"\"))","v":""}]
[{"$nulls":22},{"$f":"IF(data!A318=\"\",\"\",IF(data!E318=SMALL(data!E318:'data'!E10316,1),data!A318,\"\"))","v":""}]
[{"$nulls":22},{"$f":"IF(data!A319=\"\",\"\",IF(data!E319=SMALL(data!E319:'data'!E10317,1),data!A319,\"\"))","v":""}]
[{"$nulls":22},{"$f":"IF(data!A320=\"\",\"\",IF(data!E320=SMALL(data!E320:'data'!E10318,1),data!A320,\"\"))","v":""}]
[{"$nulls":22},{"$f":"IF(data!A321=\"\",\"\",IF(data!E321=SMALL(data!E321:'data'!E10319,1),data!A321,\"\"))","v":""}]
[{"$nulls":22},{"$f":"IF(data!A322=\"\",\"\",IF(data!E322=SMALL(data!E322:'data'!E10320,1),data!A322,\"\"))","v":""}]
[{"$nulls":22},{"$f":"IF(data!A323=\"\",\"\",IF(data!E323=SMALL(data!E323:'data'!E10321,1),data!A323,\"\"))","v":""}]
[{"$nulls":22},{"$f":"IF(data!A324=\"\",\"\",IF(data!E324=SMALL(data!E324:'data'!E10322,1),data!A324,\"\"))","v":""}]
[{"$nulls":22},{"$f":"IF(data!A325=\"\",\"\",IF(data!E325=SMALL(data!E325:'data'!E10323,1),data!A325,\"\"))","v":""}]
[{"$nulls":22},{"$f":"IF(data!A326=\"\",\"\",IF(data!E326=SMALL(data!E326:'data'!E10324,1),data!A326,\"\"))","v":""}]
[{"$nulls":22},{"$f":"IF(data!A327=\"\",\"\",IF(data!E327=SMALL(data!E327:'data'!E10325,1),data!A327,\"\"))","v":""}]
[{"$nulls":22},{"$f":"IF(data!A328=\"\",\"\",IF(data!E328=SMALL(data!E328:'data'!E10326,1),data!A328,\"\"))","v":""}]
[{"$nulls":22},{"$f":"IF(data!A329=\"\",\"\",IF(data!E329=SMALL(data!E329:'data'!E10327,1),data!A329,\"\"))","v":""}]
[{"$nulls":22},{"$f":"IF(data!A330=\"\",\"\",IF(data!E330=SMALL(data!E330:'data'!E10328,1),data!A330,\"\"))","v":""}]
[{"$nulls":22},{"$f":"IF(data!A331=\"\",\"\",IF(data!E331=SMALL(data!E331:'data'!E10329,1),data!A331,\"\"))","v":""}]
[{"$nulls":22},{"$f":"IF(data!A332=\"\",\"\",IF(data!E332=SMALL(data!E332:'data'!E10330,1),data!A332,\"\"))","v":""}]
[{"$nulls":22},{"$f":"IF(data!A333=\"\",\"\",IF(data!E333=SMALL(data!E333:'data'!E10331,1),data!A333,\"\"))","v":""}]
[{"$nulls":22},{"$f":"IF(data!A334=\"\",\"\",IF(data!E334=SMALL(data!E334:'data'!E10332,1),data!A334,\"\"))","v":""}]
[{"$nulls":22},{"$f":"IF(data!A335=\"\",\"\",IF(data!E335=SMALL(data!E335:'data'!E10333,1),data!A335,\"\"))","v":""}]
[{"$nulls":22},{"$f":"IF(data!A336=\"\",\"\",IF(data!E336=SMALL(data!E336:'data'!E10334,1),data!A336,\"\"))","v":""}]
[{"$nulls":22},{"$f":"IF(data!A337=\"\",\"\",IF(data!E337=SMALL(data!E337:'data'!E10335,1),data!A337,\"\"))","v":""}]
[{"$nulls":22},{"$f":"IF(data!A338=\"\",\"\",IF(data!E338=SMALL(data!E338:'data'!E10336,1),data!A338,\"\"))","v":""}]
[{"$nulls":22},{"$f":"IF(data!A339=\"\",\"\",IF(data!E339=SMALL(data!E339:'data'!E10337,1),data!A339,\"\"))","v":""}]
[{"$nulls":22},{"$f":"IF(data!A340=\"\",\"\",IF(data!E340=SMALL(data!E340:'data'!E10338,1),data!A340,\"\"))","v":""}]
[{"$nulls":22},{"$f":"IF(data!A341=\"\",\"\",IF(data!E341=SMALL(data!E341:'data'!E10339,1),data!A341,\"\"))","v":""}]
[{"$nulls":22},{"$f":"IF(data!A342=\"\",\"\",IF(data!E342=SMALL(data!E342:'data'!E10340,1),data!A342,\"\"))","v":""}]
[{"$nulls":22},{"$f":"IF(data!A343=\"\",\"\",IF(data!E343=SMALL(data!E343:'data'!E10341,1),data!A343,\"\"))","v":""}]
[{"$nulls":22},{"$f":"IF(data!A344=\"\",\"\",IF(data!E344=SMALL(data!E344:'data'!E10342,1),data!A344,\"\"))","v":""}]
[{"$nulls":22},{"$f":"IF(data!A345=\"\",\"\",IF(data!E345=SMALL(data!E345:'data'!E10343,1),data!A345,\"\"))","v":""}]
[{"$nulls":22},{"$f":"IF(data!A346=\"\",\"\",IF(data!E346=SMALL(data!E346:'data'!E10344,1),data!A346,\"\"))","v":""}]
[{"$nulls":22},{"$f":"IF(data!A347=\"\",\"\",IF(data!E347=SMALL(data!E347:'data'!E10345,1),data!A347,\"\"))","v":""}]
[{"$nulls":22},{"$f":"IF(data!A348=\"\",\"\",IF(data!E348=SMALL(data!E348:'data'!E10346,1),data!A348,\"\"))","v":""}]
[{"$nulls":22},{"$f":"IF(data!A349=\"\",\"\",IF(data!E349=SMALL(data!E349:'data'!E10347,1),data!A349,\"\"))","v":""}]
[{"$nulls":22},{"$f":"IF(data!A350=\"\",\"\",IF(data!E350=SMALL(data!E350:'data'!E10348,1),data!A350,\"\"))","v":""}]
[{"$nulls":22},{"$f":"IF(data!A351=\"\",\"\",IF(data!E351=SMALL(data!E351:'data'!E10349,1),data!A351,\"\"))","v":""}]
[{"$nulls":22},{"$f":"IF(data!A352=\"\",\"\",IF(data!E352=SMALL(data!E352:'data'!E10350,1),data!A352,\"\"))","v":""}]
[{"$nulls":22},{"$f":"IF(data!A353=\"\",\"\",IF(data!E353=SMALL(data!E353:'data'!E10351,1),data!A353,\"\"))","v":""}]
[{"$nulls":22},{"$f":"IF(data!A354=\"\",\"\",IF(data!E354=SMALL(data!E354:'data'!E10352,1),data!A354,\"\"))","v":""}]
[{"$nulls":22},{"$f":"IF(data!A355=\"\",\"\",IF(data!E355=SMALL(data!E355:'data'!E10353,1),data!A355,\"\"))","v":""}]
[{"$nulls":22},{"$f":"IF(data!A356=\"\",\"\",IF(data!E356=SMALL(data!E356:'data'!E10354,1),data!A356,\"\"))","v":""}]
[{"$nulls":22},{"$f":"IF(data!A357=\"\",\"\",IF(data!E357=SMALL(data!E357:'data'!E10355,1),data!A357,\"\"))","v":""}]
[{"$nulls":22},{"$f":"IF(data!A358=\"\",\"\",IF(data!E358=SMALL(data!E358:'data'!E10356,1),data!A358,\"\"))","v":""}]
[{"$nulls":22},{"$f":"IF(data!A359=\"\",\"\",IF(data!E359=SMALL(data!E359:'data'!E10357,1),data!A359,\"\"))","v":""}]
[{"$nulls":22},{"$f":"IF(data!A360=\"\",\"\",IF(data!E360=SMALL(data!E360:'data'!E10358,1),data!A360,\"\"))","v":""}]
[{"$nulls":22},{"$f":"IF(data!A361=\"\",\"\",IF(data!E361=SMALL(data!E361:'data'!E10359,1),data!A361,\"\"))","v":""}]
[{"$nulls":22},{"$f":"IF(data!A362=\"\",\"\",IF(data!E362=SMALL(data!E362:'data'!E10360,1),data!A362,\"\"))","v":""}]
[{"$nulls":22},{"$f":"IF(data!A363=\"\",\"\",IF(data!E363=SMALL(data!E363:'data'!E10361,1),data!A363,\"\"))","v":""}]
[{"$nulls":22},{"$f":"IF(data!A364=\"\",\"\",IF(data!E364=SMALL(data!E364:'data'!E10362,1),data!A364,\"\"))","v":""}]
[{"$nulls":22},{"$f":"IF(data!A365=\"\",\"\",IF(data!E365=SMALL(data!E365:'data'!E10363,1),data!A365,\"\"))","v":""}]
[{"$nulls":22},{"$f":"IF(data!A366=\"\",\"\",IF(data!E366=SMALL(data!E366:'data'!E10364,1),data!A366,\"\"))","v":""}]
[{"$nulls":22},{"$f":"IF(data!A367=\"\",\"\",IF(data!E367=SMALL(data!E367:'data'!E10365,1),data!A367,\"\"))","v":""}]
[{"$nulls":22},{"$f":"IF(data!A368=\"\",\"\",IF(data!E368=SMALL(data!E368:'data'!E10366,1),data!A368,\"\"))","v":""}]
[{"$nulls":22},{"$f":"IF(data!A369=\"\",\"\",IF(data!E369=SMALL(data!E369:'data'!E10367,1),data!A369,\"\"))","v":""}]
[{"$nulls":22},{"$f":"IF(data!A370=\"\",\"\",IF(data!E370=SMALL(data!E370:'data'!E10368,1),data!A370,\"\"))","v":""}]
[{"$nulls":22},{"$f":"IF(data!A371=\"\",\"\",IF(data!E371=SMALL(data!E371:'data'!E10369,1),data!A371,\"\"))","v":""}]
[{"$nulls":22},{"$f":"IF(data!A372=\"\",\"\",IF(data!E372=SMALL(data!E372:'data'!E10370,1),data!A372,\"\"))","v":""}]
[{"$nulls":22},{"$f":"IF(data!A373=\"\",\"\",IF(data!E373=SMALL(data!E373:'data'!E10371,1),data!A373,\"\"))","v":""}]
[{"$nulls":22},{"$f":"IF(data!A374=\"\",\"\",IF(data!E374=SMALL(data!E374:'data'!E10372,1),data!A374,\"\"))","v":""}]
[{"$nulls":22},{"$f":"IF(data!A375=\"\",\"\",IF(data!E375=SMALL(data!E375:'data'!E10373,1),data!A375,\"\"))","v":""}]
[{"$nulls":22},{"$f":"IF(data!A376=\"\",\"\",IF(data!E376=SMALL(data!E376:'data'!E10374,1),data!A376,\"\"))","v":""}]
[{"$nulls":22},{"$f":"IF(data!A377=\"\",\"\",IF(data!E377=SMALL(data!E377:'data'!E10375,1),data!A377,\"\"))","v":""}]
[{"$nulls":22},{"$f":"IF(data!A378=\"\",\"\",IF(data!E378=SMALL(data!E378:'data'!E10376,1),data!A378,\"\"))","v":""}]
[{"$nulls":22},{"$f":"IF(data!A379=\"\",\"\",IF(data!E379=SMALL(data!E379:'data'!E10377,1),data!A379,\"\"))","v":""}]
[{"$nulls":22},{"$f":"IF(data!A380=\"\",\"\",IF(data!E380=SMALL(data!E380:'data'!E10378,1),data!A380,\"\"))","v":""}]
[{"$nulls":22},{"$f":"IF(data!A381=\"\",\"\",IF(data!E381=SMALL(data!E381:'data'!E10379,1),data!A381,\"\"))","v":""}]
[{"$nulls":22},{"$f":"IF(data!A382=\"\",\"\",IF(data!E382=SMALL(data!E382:'data'!E10380,1),data!A382,\"\"))","v":""}]
[{"$nulls":22},{"$f":"IF(data!A383=\"\",\"\",IF(data!E383=SMALL(data!E383:'data'!E10381,1),data!A383,\"\"))","v":""}]
[{"$nulls":22},{"$f":"IF(data!A384=\"\",\"\",IF(data!E384=SMALL(data!E384:'data'!E10382,1),data!A384,\"\"))","v":""}]
[{"$nulls":22},{"$f":"IF(data!A385=\"\",\"\",IF(data!E385=SMALL(data!E385:'data'!E10383,1),data!A385,\"\"))","v":""}]
[{"$nulls":22},{"$f":"IF(data!A386=\"\",\"\",IF(data!E386=SMALL(data!E386:'data'!E10384,1),data!A386,\"\"))","v":""}]
[{"$nulls":22},{"$f":"IF(data!A387=\"\",\"\",IF(data!E387=SMALL(data!E387:'data'!E10385,1),data!A387,\"\"))","v":""}]
[{"$nulls":22},{"$f":"IF(data!A388=\"\",\"\",IF(data!E388=SMALL(data!E388:'data'!E10386,1),data!A388,\"\"))","v":""}]
[{"$nulls":22},{"$f":"IF(data!A389=\"\",\"\",IF(data!E389=SMALL(data!E389:'data'!E10387,1),data!A389,\"\"))","v":""}]
[{"$nulls":22},{"$f":"IF(data!A390=\"\",\"\",IF(data!E390=SMALL(data!E390:'data'!E10388,1),data!A390,\"\"))","v":""}]
[{"$nulls":22},{"$f":"IF(data!A391=\"\",\"\",IF(data!E391=SMALL(data!E391:'data'!E10389,1),data!A391,\"\"))","v":""}]
[{"$nulls":22},{"$f":"IF(data!A392=\"\",\"\",IF(data!E392=SMALL(data!E392:'data'!E10390,1),data!A392,\"\"))","v":""}]
[{"$nulls":22},{"$f":"IF(data!A393=\"\",\"\",IF(data!E393=SMALL(data!E393:'data'!E10391,1),data!A393,\"\"))","v":""}]
[{"$nulls":22},{"$f":"IF(data!A394=\"\",\"\",IF(data!E394=SMALL(data!E394:'data'!E10392,1),data!A394,\"\"))","v":""}]
[{"$nulls":22},{"$f":"IF(data!A395=\"\",\"\",IF(data!E395=SMALL(data!E395:'data'!E10393,1),data!A395,\"\"))","v":""}]
[{"$nulls":22},{"$f":"IF(data!A396=\"\",\"\",IF(data!E396=SMALL(data!E396:'data'!E10394,1),data!A396,\"\"))","v":""}]
[{"$nulls":22},{"$f":"IF(data!A397=\"\",\"\",IF(data!E397=SMALL(data!E397:'data'!E10395,1),data!A397,\"\"))","v":""}]
[{"$nulls":22},{"$f":"IF(data!A398=\"\",\"\",IF(data!E398=SMALL(data!E398:'data'!E10396,1),data!A398,\"\"))","v":""}]
[{"$nulls":22},{"$f":"IF(data!A399=\"\",\"\",IF(data!E399=SMALL(data!E399:'data'!E10397,1),data!A399,\"\"))","v":""}]
[{"$nulls":22},{"$f":"IF(data!A400=\"\",\"\",IF(data!E400=SMALL(data!E400:'data'!E10398,1),data!A400,\"\"))","v":""}]
[{"$nulls":22},{"$f":"IF(data!A401=\"\",\"\",IF(data!E401=SMALL(data!E401:'data'!E10399,1),data!A401,\"\"))","v":""}]
[{"$nulls":22},{"$f":"IF(data!A402=\"\",\"\",IF(data!E402=SMALL(data!E402:'data'!E10400,1),data!A402,\"\"))","v":""}]
[{"$nulls":22},{"$f":"IF(data!A403=\"\",\"\",IF(data!E403=SMALL(data!E403:'data'!E10401,1),data!A403,\"\"))","v":""}]
[{"$nulls":22},{"$f":"IF(data!A404=\"\",\"\",IF(data!E404=SMALL(data!E404:'data'!E10402,1),data!A404,\"\"))","v":""}]
[{"$nulls":22},{"$f":"IF(data!A405=\"\",\"\",IF(data!E405=SMALL(data!E405:'data'!E10403,1),data!A405,\"\"))","v":""}]
[{"$nulls":22},{"$f":"IF(data!A406=\"\",\"\",IF(data!E406=SMALL(data!E406:'data'!E10404,1),data!A406,\"\"))","v":""}]
[{"$nulls":22},{"$f":"IF(data!A407=\"\",\"\",IF(data!E407=SMALL(data!E407:'data'!E10405,1),data!A407,\"\"))","v":""}]
[{"$nulls":22},{"$f":"IF(data!A408=\"\",\"\",IF(data!E408=SMALL(data!E408:'data'!E10406,1),data!A408,\"\"))","v":""}]
[{"$nulls":22},{"$f":"IF(data!A409=\"\",\"\",IF(data!E409=SMALL(data!E409:'data'!E10407,1),data!A409,\"\"))","v":""}]
[{"$nulls":22},{"$f":"IF(data!A410=\"\",\"\",IF(data!E410=SMALL(data!E410:'data'!E10408,1),data!A410,\"\"))","v":""}]
[{"$nulls":22},{"$f":"IF(data!A411=\"\",\"\",IF(data!E411=SMALL(data!E411:'data'!E10409,1),data!A411,\"\"))","v":""}]
[{"$nulls":22},{"$f":"IF(data!A412=\"\",\"\",IF(data!E412=SMALL(data!E412:'data'!E10410,1),data!A412,\"\"))","v":""}]
[{"$nulls":22},{"$f":"IF(data!A413=\"\",\"\",IF(data!E413=SMALL(data!E413:'data'!E10411,1),data!A413,\"\"))","v":""}]
[{"$nulls":22},{"$f":"IF(data!A414=\"\",\"\",IF(data!E414=SMALL(data!E414:'data'!E10412,1),data!A414,\"\"))","v":""}]
[{"$nulls":22},{"$f":"IF(data!A415=\"\",\"\",IF(data!E415=SMALL(data!E415:'data'!E10413,1),data!A415,\"\"))","v":""}]
[{"$nulls":22},{"$f":"IF(data!A416=\"\",\"\",IF(data!E416=SMALL(data!E416:'data'!E10414,1),data!A416,\"\"))","v":""}]
[{"$nulls":22},{"$f":"IF(data!A417=\"\",\"\",IF(data!E417=SMALL(data!E417:'data'!E10415,1),data!A417,\"\"))","v":""}]
[{"$nulls":22},{"$f":"IF(data!A418=\"\",\"\",IF(data!E418=SMALL(data!E418:'data'!E10416,1),data!A418,\"\"))","v":""}]
[{"$nulls":22},{"$f":"IF(data!A419=\"\",\"\",IF(data!E419=SMALL(data!E419:'data'!E10417,1),data!A419,\"\"))","v":""}]
[{"$nulls":22},{"$f":"IF(data!A420=\"\",\"\",IF(data!E420=SMALL(data!E420:'data'!E10418,1),data!A420,\"\"))","v":""}]
[{"$nulls":22},{"$f":"IF(data!A421=\"\",\"\",IF(data!E421=SMALL(data!E421:'data'!E10419,1),data!A421,\"\"))","v":""}]
[{"$nulls":22},{"$f":"IF(data!A422=\"\",\"\",IF(data!E422=SMALL(data!E422:'data'!E10420,1),data!A422,\"\"))","v":""}]
[{"$nulls":22},{"$f":"IF(data!A423=\"\",\"\",IF(data!E423=SMALL(data!E423:'data'!E10421,1),data!A423,\"\"))","v":""}]
[{"$nulls":22},{"$f":"IF(data!A424=\"\",\"\",IF(data!E424=SMALL(data!E424:'data'!E10422,1),data!A424,\"\"))","v":""}]
[{"$nulls":22},{"$f":"IF(data!A425=\"\",\"\",IF(data!E425=SMALL(data!E425:'data'!E10423,1),data!A425,\"\"))","v":""}]
[{"$nulls":22},{"$f":"IF(data!A426=\"\",\"\",IF(data!E426=SMALL(data!E426:'data'!E10424,1),data!A426,\"\"))","v":""}]
[{"$nulls":22},{"$f":"IF(data!A427=\"\",\"\",IF(data!E427=SMALL(data!E427:'data'!E10425,1),data!A427,\"\"))","v":""}]
[{"$nulls":22},{"$f":"IF(data!A428=\"\",\"\",IF(data!E428=SMALL(data!E428:'data'!E10426,1),data!A428,\"\"))","v":""}]
[{"$nulls":22},{"$f":"IF(data!A429=\"\",\"\",IF(data!E429=SMALL(data!E429:'data'!E10427,1),data!A429,\"\"))","v":""}]
[{"$nulls":22},{"$f":"IF(data!A430=\"\",\"\",IF(data!E430=SMALL(data!E430:'data'!E10428,1),data!A430,\"\"))","v":""}]
[{"$nulls":22},{"$f":"IF(data!A431=\"\",\"\",IF(data!E431=SMALL(data!E431:'data'!E10429,1),data!A431,\"\"))","v":""}]
[{"$nulls":22},{"$f":"IF(data!A432=\"\",\"\",IF(data!E432=SMALL(data!E432:'data'!E10430,1),data!A432,\"\"))","v":""}]
[{"$nulls":22},{"$f":"IF(data!A433=\"\",\"\",IF(data!E433=SMALL(data!E433:'data'!E10431,1),data!A433,\"\"))","v":""}]
[{"$nulls":22},{"$f":"IF(data!A434=\"\",\"\",IF(data!E434=SMALL(data!E434:'data'!E10432,1),data!A434,\"\"))","v":""}]
[{"$nulls":22},{"$f":"IF(data!A435=\"\",\"\",IF(data!E435=SMALL(data!E435:'data'!E10433,1),data!A435,\"\"))","v":""}]
[{"$nulls":22},{"$f":"IF(data!A436=\"\",\"\",IF(data!E436=SMALL(data!E436:'data'!E10434,1),data!A436,\"\"))","v":""}]
[{"$nulls":22},{"$f":"IF(data!A437=\"\",\"\",IF(data!E437=SMALL(data!E437:'data'!E10435,1),data!A437,\"\"))","v":""}]
[{"$nulls":22},{"$f":"IF(data!A438=\"\",\"\",IF(data!E438=SMALL(data!E438:'data'!E10436,1),data!A438,\"\"))","v":""}]
[{"$nulls":22},{"$f":"IF(data!A439=\"\",\"\",IF(data!E439=SMALL(data!E439:'data'!E10437,1),data!A439,\"\"))","v":""}]
[{"$nulls":22},{"$f":"IF(data!A440=\"\",\"\",IF(data!E440=SMALL(data!E440:'data'!E10438,1),data!A440,\"\"))","v":""}]
[{"$nulls":22},{"$f":"IF(data!A441=\"\",\"\",IF(data!E441=SMALL(data!E441:'data'!E10439,1),data!A441,\"\"))","v":""}]
[{"$nulls":22},{"$f":"IF(data!A442=\"\",\"\",IF(data!E442=SMALL(data!E442:'data'!E10440,1),data!A442,\"\"))","v":""}]
[{"$nulls":22},{"$f":"IF(data!A443=\"\",\"\",IF(data!E443=SMALL(data!E443:'data'!E10441,1),data!A443,\"\"))","v":""}]
[{"$nulls":22},{"$f":"IF(data!A444=\"\",\"\",IF(data!E444=SMALL(data!E444:'data'!E10442,1),data!A444,\"\"))","v":""}]
[{"$nulls":22},{"$f":"IF(data!A445=\"\",\"\",IF(data!E445=SMALL(data!E445:'data'!E10443,1),data!A445,\"\"))","v":""}]
[{"$nulls":22},{"$f":"IF(data!A446=\"\",\"\",IF(data!E446=SMALL(data!E446:'data'!E10444,1),data!A446,\"\"))","v":""}]
[{"$nulls":22},{"$f":"IF(data!A447=\"\",\"\",IF(data!E447=SMALL(data!E447:'data'!E10445,1),data!A447,\"\"))","v":""}]
[{"$nulls":22},{"$f":"IF(data!A448=\"\",\"\",IF(data!E448=SMALL(data!E448:'data'!E10446,1),data!A448,\"\"))","v":""}]
[{"$nulls":22},{"$f":"IF(data!A449=\"\",\"\",IF(data!E449=SMALL(data!E449:'data'!E10447,1),data!A449,\"\"))","v":""}]
[{"$nulls":22},{"$f":"IF(data!A450=\"\",\"\",IF(data!E450=SMALL(data!E450:'data'!E10448,1),data!A450,\"\"))","v":""}]
[{"$nulls":22},{"$f":"IF(data!A451=\"\",\"\",IF(data!E451=SMALL(data!E451:'data'!E10449,1),data!A451,\"\"))","v":""}]
[{"$nulls":22},{"$f":"IF(data!A452=\"\",\"\",IF(data!E452=SMALL(data!E452:'data'!E10450,1),data!A452,\"\"))","v":""}]
[{"$nulls":22},{"$f":"IF(data!A453=\"\",\"\",IF(data!E453=SMALL(data!E453:'data'!E10451,1),data!A453,\"\"))","v":""}]
[{"$nulls":22},{"$f":"IF(data!A454=\"\",\"\",IF(data!E454=SMALL(data!E454:'data'!E10452,1),data!A454,\"\"))","v":""}]
[{"$nulls":22},{"$f":"IF(data!A455=\"\",\"\",IF(data!E455=SMALL(data!E455:'data'!E10453,1),data!A455,\"\"))","v":""}]
[{"$nulls":22},{"$f":"IF(data!A456=\"\",\"\",IF(data!E456=SMALL(data!E456:'data'!E10454,1),data!A456,\"\"))","v":""}]
[{"$nulls":22},{"$f":"IF(data!A457=\"\",\"\",IF(data!E457=SMALL(data!E457:'data'!E10455,1),data!A457,\"\"))","v":""}]
[{"$nulls":22},{"$f":"IF(data!A458=\"\",\"\",IF(data!E458=SMALL(data!E458:'data'!E10456,1),data!A458,\"\"))","v":""}]
[{"$nulls":22},{"$f":"IF(data!A459=\"\",\"\",IF(data!E459=SMALL(data!E459:'data'!E10457,1),data!A459,\"\"))","v":""}]
[{"$nulls":22},{"$f":"IF(data!A460=\"\",\"\",IF(data!E460=SMALL(data!E460:'data'!E10458,1),data!A460,\"\"))","v":""}]
[{"$nulls":22},{"$f":"IF(data!A461=\"\",\"\",IF(data!E461=SMALL(data!E461:'data'!E10459,1),data!A461,\"\"))","v":""}]
[{"$nulls":22},{"$f":"IF(data!A462=\"\",\"\",IF(data!E462=SMALL(data!E462:'data'!E10460,1),data!A462,\"\"))","v":""}]
[{"$nulls":22},{"$f":"IF(data!A463=\"\",\"\",IF(data!E463=SMALL(data!E463:'data'!E10461,1),data!A463,\"\"))","v":""}]
[{"$nulls":22},{"$f":"IF(data!A464=\"\",\"\",IF(data!E464=SMALL(data!E464:'data'!E10462,1),data!A464,\"\"))","v":""}]
[{"$nulls":22},{"$f":"IF(data!A465=\"\",\"\",IF(data!E465=SMALL(data!E465:'data'!E10463,1),data!A465,\"\"))","v":""}]
[{"$nulls":22},{"$f":"IF(data!A466=\"\",\"\",IF(data!E466=SMALL(data!E466:'data'!E10464,1),data!A466,\"\"))","v":""}]
[{"$nulls":22},{"$f":"IF(data!A467=\"\",\"\",IF(data!E467=SMALL(data!E467:'data'!E10465,1),data!A467,\"\"))","v":""}]
[{"$nulls":22},{"$f":"IF(data!A468=\"\",\"\",IF(data!E468=SMALL(data!E468:'data'!E10466,1),data!A468,\"\"))","v":""}]
[{"$nulls":22},{"$f":"IF(data!A469=\"\",\"\",IF(data!E469=SMALL(data!E469:'data'!E10467,1),data!A469,\"\"))","v":""}]
[{"$nulls":22},{"$f":"IF(data!A470=\"\",\"\",IF(data!E470=SMALL(data!E470:'data'!E10468,1),data!A470,\"\"))","v":""}]
[{"$nulls":22},{"$f":"IF(data!A471=\"\",\"\",IF(data!E471=SMALL(data!E471:'data'!E10469,1),data!A471,\"\"))","v":""}]
[{"$nulls":22},{"$f":"IF(data!A472=\"\",\"\",IF(data!E472=SMALL(data!E472:'data'!E10470,1),data!A472,\"\"))","v":""}]
[{"$nulls":22},{"$f":"IF(data!A473=\"\",\"\",IF(data!E473=SMALL(data!E473:'data'!E10471,1),data!A473,\"\"))","v":""}]
[{"$nulls":22},{"$f":"IF(data!A474=\"\",\"\",IF(data!E474=SMALL(data!E474:'data'!E10472,1),data!A474,\"\"))","v":""}]
[{"$nulls":22},{"$f":"IF(data!A475=\"\",\"\",IF(data!E475=SMALL(data!E475:'data'!E10473,1),data!A475,\"\"))","v":""}]
[{"$nulls":22},{"$f":"IF(data!A476=\"\",\"\",IF(data!E476=SMALL(data!E476:'data'!E10474,1),data!A476,\"\"))","v":""}]
[{"$nulls":22},{"$f":"IF(data!A477=\"\",\"\",IF(data!E477=SMALL(data!E477:'data'!E10475,1),data!A477,\"\"))","v":""}]
[{"$nulls":22},{"$f":"IF(data!A478=\"\",\"\",IF(data!E478=SMALL(data!E478:'data'!E10476,1),data!A478,\"\"))","v":""}]
[{"$nulls":22},{"$f":"IF(data!A479=\"\",\"\",IF(data!E479=SMALL(data!E479:'data'!E10477,1),data!A479,\"\"))","v":""}]
[{"$nulls":22},{"$f":"IF(data!A480=\"\",\"\",IF(data!E480=SMALL(data!E480:'data'!E10478,1),data!A480,\"\"))","v":""}]
[{"$nulls":22},{"$f":"IF(data!A481=\"\",\"\",IF(data!E481=SMALL(data!E481:'data'!E10479,1),data!A481,\"\"))","v":""}]
[{"$nulls":22},{"$f":"IF(data!A482=\"\",\"\",IF(data!E482=SMALL(data!E482:'data'!E10480,1),data!A482,\"\"))","v":""}]
[{"$nulls":22},{"$f":"IF(data!A483=\"\",\"\",IF(data!E483=SMALL(data!E483:'data'!E10481,1),data!A483,\"\"))","v":""}]
[{"$nulls":22},{"$f":"IF(data!A484=\"\",\"\",IF(data!E484=SMALL(data!E484:'data'!E10482,1),data!A484,\"\"))","v":""}]
[{"$nulls":22},{"$f":"IF(data!A485=\"\",\"\",IF(data!E485=SMALL(data!E485:'data'!E10483,1),data!A485,\"\"))","v":""}]
[{"$nulls":22},{"$f":"IF(data!A486=\"\",\"\",IF(data!E486=SMALL(data!E486:'data'!E10484,1),data!A486,\"\"))","v":""}]
[{"$nulls":22},{"$f":"IF(data!A487=\"\",\"\",IF(data!E487=SMALL(data!E487:'data'!E10485,1),data!A487,\"\"))","v":""}]
[{"$nulls":22},{"$f":"IF(data!A488=\"\",\"\",IF(data!E488=SMALL(data!E488:'data'!E10486,1),data!A488,\"\"))","v":""}]
[{"$nulls":22},{"$f":"IF(data!A489=\"\",\"\",IF(data!E489=SMALL(data!E489:'data'!E10487,1),data!A489,\"\"))","v":""}]
[{"$nulls":22},{"$f":"IF(data!A490=\"\",\"\",IF(data!E490=SMALL(data!E490:'data'!E10488,1),data!A490,\"\"))","v":""}]
[{"$nulls":22},{"$f":"IF(data!A491=\"\",\"\",IF(data!E491=SMALL(data!E491:'data'!E10489,1),data!A491,\"\"))","v":""}]
[{"$nulls":22},{"$f":"IF(data!A492=\"\",\"\",IF(data!E492=SMALL(data!E492:'data'!E10490,1),data!A492,\"\"))","v":""}]
[{"$nulls":22},{"$f":"IF(data!A493=\"\",\"\",IF(data!E493=SMALL(data!E493:'data'!E10491,1),data!A493,\"\"))","v":""}]
[{"$nulls":22},{"$f":"IF(data!A494=\"\",\"\",IF(data!E494=SMALL(data!E494:'data'!E10492,1),data!A494,\"\"))","v":""}]
[{"$nulls":22},{"$f":"IF(data!A495=\"\",\"\",IF(data!E495=SMALL(data!E495:'data'!E10493,1),data!A495,\"\"))","v":""}]
[{"$nulls":22},{"$f":"IF(data!A496=\"\",\"\",IF(data!E496=SMALL(data!E496:'data'!E10494,1),data!A496,\"\"))","v":""}]
[{"$nulls":22},{"$f":"IF(data!A497=\"\",\"\",IF(data!E497=SMALL(data!E497:'data'!E10495,1),data!A497,\"\"))","v":""}]
[{"$nulls":22},{"$f":"IF(data!A498=\"\",\"\",IF(data!E498=SMALL(data!E498:'data'!E10496,1),data!A498,\"\"))","v":""}]
[{"$nulls":22},{"$f":"IF(data!A499=\"\",\"\",IF(data!E499=SMALL(data!E499:'data'!E10497,1),data!A499,\"\"))","v":""}]
[{"$nulls":22},{"$f":"IF(data!A500=\"\",\"\",IF(data!E500=SMALL(data!E500:'data'!E10498,1),data!A500,\"\"))","v":""}]
[{"$nulls":22},{"$f":"IF(data!A501=\"\",\"\",IF(data!E501=SMALL(data!E501:'data'!E10499,1),data!A501,\"\"))","v":""}]
[{"$nulls":22},{"$f":"IF(data!A502=\"\",\"\",IF(data!E502=SMALL(data!E502:'data'!E10500,1),data!A502,\"\"))","v":""}]
[{"$nulls":22},{"$f":"IF(data!A503=\"\",\"\",IF(data!E503=SMALL(data!E503:'data'!E10501,1),data!A503,\"\"))","v":""}]
[{"$nulls":22},{"$f":"IF(data!A504=\"\",\"\",IF(data!E504=SMALL(data!E504:'data'!E10502,1),data!A504,\"\"))","v":""}]
[{"$nulls":22},{"$f":"IF(data!A505=\"\",\"\",IF(data!E505=SMALL(data!E505:'data'!E10503,1),data!A505,\"\"))","v":""}]
[{"$nulls":22},{"$f":"IF(data!A506=\"\",\"\",IF(data!E506=SMALL(data!E506:'data'!E10504,1),data!A506,\"\"))","v":""}]
[{"$nulls":22},{"$f":"IF(data!A507=\"\",\"\",IF(data!E507=SMALL(data!E507:'data'!E10505,1),data!A507,\"\"))","v":""}]
[{"$nulls":22},{"$f":"IF(data!A508=\"\",\"\",IF(data!E508=SMALL(data!E508:'data'!E10506,1),data!A508,\"\"))","v":""}]
[{"$nulls":22},{"$f":"IF(data!A509=\"\",\"\",IF(data!E509=SMALL(data!E509:'data'!E10507,1),data!A509,\"\"))","v":""}]
[{"$nulls":22},{"$f":"IF(data!A510=\"\",\"\",IF(data!E510=SMALL(data!E510:'data'!E10508,1),data!A510,\"\"))","v":""}]
[{"$nulls":22},{"$f":"IF(data!A511=\"\",\"\",IF(data!E511=SMALL(data!E511:'data'!E10509,1),data!A511,\"\"))","v":""}]
[{"$nulls":22},{"$f":"IF(data!A512=\"\",\"\",IF(data!E512=SMALL(data!E512:'data'!E10510,1),data!A512,\"\"))","v":""}]
[{"$nulls":22},{"$f":"IF(data!A513=\"\",\"\",IF(data!E513=SMALL(data!E513:'data'!E10511,1),data!A513,\"\"))","v":""}]
[{"$nulls":22},{"$f":"IF(data!A514=\"\",\"\",IF(data!E514=SMALL(data!E514:'data'!E10512,1),data!A514,\"\"))","v":""}]
[{"$nulls":22},{"$f":"IF(data!A515=\"\",\"\",IF(data!E515=SMALL(data!E515:'data'!E10513,1),data!A515,\"\"))","v":""}]
[{"$nulls":22},{"$f":"IF(data!A516=\"\",\"\",IF(data!E516=SMALL(data!E516:'data'!E10514,1),data!A516,\"\"))","v":""}]
[{"$nulls":22},{"$f":"IF(data!A517=\"\",\"\",IF(data!E517=SMALL(data!E517:'data'!E10515,1),data!A517,\"\"))","v":""}]
[{"$nulls":22},{"$f":"IF(data!A518=\"\",\"\",IF(data!E518=SMALL(data!E518:'data'!E10516,1),data!A518,\"\"))","v":""}]
[{"$nulls":22},{"$f":"IF(data!A519=\"\",\"\",IF(data!E519=SMALL(data!E519:'data'!E10517,1),data!A519,\"\"))","v":""}]
[{"$nulls":22},{"$f":"IF(data!A520=\"\",\"\",IF(data!E520=SMALL(data!E520:'data'!E10518,1),data!A520,\"\"))","v":""}]
[{"$nulls":22},{"$f":"IF(data!A521=\"\",\"\",IF(data!E521=SMALL(data!E521:'data'!E10519,1),data!A521,\"\"))","v":""}]
[{"$nulls":22},{"$f":"IF(data!A522=\"\",\"\",IF(data!E522=SMALL(data!E522:'data'!E10520,1),data!A522,\"\"))","v":""}]
[{"$nulls":22},{"$f":"IF(data!A523=\"\",\"\",IF(data!E523=SMALL(data!E523:'data'!E10521,1),data!A523,\"\"))","v":""}]
[{"$nulls":22},{"$f":"IF(data!A524=\"\",\"\",IF(data!E524=SMALL(data!E524:'data'!E10522,1),data!A524,\"\"))","v":""}]
[{"$nulls":22},{"$f":"IF(data!A525=\"\",\"\",IF(data!E525=SMALL(data!E525:'data'!E10523,1),data!A525,\"\"))","v":""}]
[{"$nulls":22},{"$f":"IF(data!A526=\"\",\"\",IF(data!E526=SMALL(data!E526:'data'!E10524,1),data!A526,\"\"))","v":""}]
[{"$nulls":22},{"$f":"IF(data!A527=\"\",\"\",IF(data!E527=SMALL(data!E527:'data'!E10525,1),data!A527,\"\"))","v":""}]
[{"$nulls":22},{"$f":"IF(data!A528=\"\",\"\",IF(data!E528=SMALL(data!E528:'data'!E10526,1),data!A528,\"\"))","v":""}]
[{"$nulls":22},{"$f":"IF(data!A529=\"\",\"\",IF(data!E529=SMALL(data!E529:'data'!E10527,1),data!A529,\"\"))","v":""}]
[{"$nulls":22},{"$f":"IF(data!A530=\"\",\"\",IF(data!E530=SMALL(data!E530:'data'!E10528,1),data!A530,\"\"))","v":""}]
[{"$nulls":22},{"$f":"IF(data!A531=\"\",\"\",IF(data!E531=SMALL(data!E531:'data'!E10529,1),data!A531,\"\"))","v":""}]
[{"$nulls":22},{"$f":"IF(data!A532=\"\",\"\",IF(data!E532=SMALL(data!E532:'data'!E10530,1),data!A532,\"\"))","v":""}]
[{"$nulls":22},{"$f":"IF(data!A533=\"\",\"\",IF(data!E533=SMALL(data!E533:'data'!E10531,1),data!A533,\"\"))","v":""}]
[{"$nulls":22},{"$f":"IF(data!A534=\"\",\"\",IF(data!E534=SMALL(data!E534:'data'!E10532,1),data!A534,\"\"))","v":""}]
[{"$nulls":22},{"$f":"IF(data!A535=\"\",\"\",IF(data!E535=SMALL(data!E535:'data'!E10533,1),data!A535,\"\"))","v":""}]
[{"$nulls":22},{"$f":"IF(data!A536=\"\",\"\",IF(data!E536=SMALL(data!E536:'data'!E10534,1),data!A536,\"\"))","v":""}]
[{"$nulls":22},{"$f":"IF(data!A537=\"\",\"\",IF(data!E537=SMALL(data!E537:'data'!E10535,1),data!A537,\"\"))","v":""}]
[{"$nulls":22},{"$f":"IF(data!A538=\"\",\"\",IF(data!E538=SMALL(data!E538:'data'!E10536,1),data!A538,\"\"))","v":""}]
[{"$nulls":22},{"$f":"IF(data!A539=\"\",\"\",IF(data!E539=SMALL(data!E539:'data'!E10537,1),data!A539,\"\"))","v":""}]
[{"$nulls":22},{"$f":"IF(data!A540=\"\",\"\",IF(data!E540=SMALL(data!E540:'data'!E10538,1),data!A540,\"\"))","v":""}]
[{"$nulls":22},{"$f":"IF(data!A541=\"\",\"\",IF(data!E541=SMALL(data!E541:'data'!E10539,1),data!A541,\"\"))","v":""}]
[{"$nulls":22},{"$f":"IF(data!A542=\"\",\"\",IF(data!E542=SMALL(data!E542:'data'!E10540,1),data!A542,\"\"))","v":""}]
[{"$nulls":22},{"$f":"IF(data!A543=\"\",\"\",IF(data!E543=SMALL(data!E543:'data'!E10541,1),data!A543,\"\"))","v":""}]
[{"$nulls":22},{"$f":"IF(data!A544=\"\",\"\",IF(data!E544=SMALL(data!E544:'data'!E10542,1),data!A544,\"\"))","v":""}]
[{"$nulls":22},{"$f":"IF(data!A545=\"\",\"\",IF(data!E545=SMALL(data!E545:'data'!E10543,1),data!A545,\"\"))","v":""}]
[{"$nulls":22},{"$f":"IF(data!A546=\"\",\"\",IF(data!E546=SMALL(data!E546:'data'!E10544,1),data!A546,\"\"))","v":""}]
[{"$nulls":22},{"$f":"IF(data!A547=\"\",\"\",IF(data!E547=SMALL(data!E547:'data'!E10545,1),data!A547,\"\"))","v":""}]
[{"$nulls":22},{"$f":"IF(data!A548=\"\",\"\",IF(data!E548=SMALL(data!E548:'data'!E10546,1),data!A548,\"\"))","v":""}]
[{"$nulls":22},{"$f":"IF(data!A549=\"\",\"\",IF(data!E549=SMALL(data!E549:'data'!E10547,1),data!A549,\"\"))","v":""}]
[{"$nulls":22},{"$f":"IF(data!A550=\"\",\"\",IF(data!E550=SMALL(data!E550:'data'!E10548,1),data!A550,\"\"))","v":""}]
[{"$nulls":22},{"$f":"IF(data!A551=\"\",\"\",IF(data!E551=SMALL(data!E551:'data'!E10549,1),data!A551,\"\"))","v":""}]
[{"$nulls":22},{"$f":"IF(data!A552=\"\",\"\",IF(data!E552=SMALL(data!E552:'data'!E10550,1),data!A552,\"\"))","v":""}]
[{"$nulls":22},{"$f":"IF(data!A553=\"\",\"\",IF(data!E553=SMALL(data!E553:'data'!E10551,1),data!A553,\"\"))","v":""}]
[{"$nulls":22},{"$f":"IF(data!A554=\"\",\"\",IF(data!E554=SMALL(data!E554:'data'!E10552,1),data!A554,\"\"))","v":""}]
[{"$nulls":22},{"$f":"IF(data!A555=\"\",\"\",IF(data!E555=SMALL(data!E555:'data'!E10553,1),data!A555,\"\"))","v":""}]
[{"$nulls":22},{"$f":"IF(data!A556=\"\",\"\",IF(data!E556=SMALL(data!E556:'data'!E10554,1),data!A556,\"\"))","v":""}]
[{"$nulls":22},{"$f":"IF(data!A557=\"\",\"\",IF(data!E557=SMALL(data!E557:'data'!E10555,1),data!A557,\"\"))","v":""}]
[{"$nulls":22},{"$f":"IF(data!A558=\"\",\"\",IF(data!E558=SMALL(data!E558:'data'!E10556,1),data!A558,\"\"))","v":""}]
[{"$nulls":22},{"$f":"IF(data!A559=\"\",\"\",IF(data!E559=SMALL(data!E559:'data'!E10557,1),data!A559,\"\"))","v":""}]
[{"$nulls":22},{"$f":"IF(data!A560=\"\",\"\",IF(data!E560=SMALL(data!E560:'data'!E10558,1),data!A560,\"\"))","v":""}]
[{"$nulls":22},{"$f":"IF(data!A561=\"\",\"\",IF(data!E561=SMALL(data!E561:'data'!E10559,1),data!A561,\"\"))","v":""}]
[{"$nulls":22},{"$f":"IF(data!A562=\"\",\"\",IF(data!E562=SMALL(data!E562:'data'!E10560,1),data!A562,\"\"))","v":""}]
[{"$nulls":22},{"$f":"IF(data!A563=\"\",\"\",IF(data!E563=SMALL(data!E563:'data'!E10561,1),data!A563,\"\"))","v":""}]
[{"$nulls":22},{"$f":"IF(data!A564=\"\",\"\",IF(data!E564=SMALL(data!E564:'data'!E10562,1),data!A564,\"\"))","v":""}]
[{"$nulls":22},{"$f":"IF(data!A565=\"\",\"\",IF(data!E565=SMALL(data!E565:'data'!E10563,1),data!A565,\"\"))","v":""}]
[{"$nulls":22},{"$f":"IF(data!A566=\"\",\"\",IF(data!E566=SMALL(data!E566:'data'!E10564,1),data!A566,\"\"))","v":""}]
[{"$nulls":22},{"$f":"IF(data!A567=\"\",\"\",IF(data!E567=SMALL(data!E567:'data'!E10565,1),data!A567,\"\"))","v":""}]
[{"$nulls":22},{"$f":"IF(data!A568=\"\",\"\",IF(data!E568=SMALL(data!E568:'data'!E10566,1),data!A568,\"\"))","v":""}]
[{"$nulls":22},{"$f":"IF(data!A569=\"\",\"\",IF(data!E569=SMALL(data!E569:'data'!E10567,1),data!A569,\"\"))","v":""}]
[{"$nulls":22},{"$f":"IF(data!A570=\"\",\"\",IF(data!E570=SMALL(data!E570:'data'!E10568,1),data!A570,\"\"))","v":""}]
[{"$nulls":22},{"$f":"IF(data!A571=\"\",\"\",IF(data!E571=SMALL(data!E571:'data'!E10569,1),data!A571,\"\"))","v":""}]
[{"$nulls":22},{"$f":"IF(data!A572=\"\",\"\",IF(data!E572=SMALL(data!E572:'data'!E10570,1),data!A572,\"\"))","v":""}]
[{"$nulls":22},{"$f":"IF(data!A573=\"\",\"\",IF(data!E573=SMALL(data!E573:'data'!E10571,1),data!A573,\"\"))","v":""}]
[{"$nulls":22},{"$f":"IF(data!A574=\"\",\"\",IF(data!E574=SMALL(data!E574:'data'!E10572,1),data!A574,\"\"))","v":""}]
[{"$nulls":22},{"$f":"IF(data!A575=\"\",\"\",IF(data!E575=SMALL(data!E575:'data'!E10573,1),data!A575,\"\"))","v":""}]
[{"$nulls":22},{"$f":"IF(data!A576=\"\",\"\",IF(data!E576=SMALL(data!E576:'data'!E10574,1),data!A576,\"\"))","v":""}]
[{"$nulls":22},{"$f":"IF(data!A577=\"\",\"\",IF(data!E577=SMALL(data!E577:'data'!E10575,1),data!A577,\"\"))","v":""}]
[{"$nulls":22},{"$f":"IF(data!A578=\"\",\"\",IF(data!E578=SMALL(data!E578:'data'!E10576,1),data!A578,\"\"))","v":""}]
[{"$nulls":22},{"$f":"IF(data!A579=\"\",\"\",IF(data!E579=SMALL(data!E579:'data'!E10577,1),data!A579,\"\"))","v":""}]
[{"$nulls":22},{"$f":"IF(data!A580=\"\",\"\",IF(data!E580=SMALL(data!E580:'data'!E10578,1),data!A580,\"\"))","v":""}]
[{"$nulls":22},{"$f":"IF(data!A581=\"\",\"\",IF(data!E581=SMALL(data!E581:'data'!E10579,1),data!A581,\"\"))","v":""}]
[{"$nulls":22},{"$f":"IF(data!A582=\"\",\"\",IF(data!E582=SMALL(data!E582:'data'!E10580,1),data!A582,\"\"))","v":""}]
[{"$nulls":22},{"$f":"IF(data!A583=\"\",\"\",IF(data!E583=SMALL(data!E583:'data'!E10581,1),data!A583,\"\"))","v":""}]
[{"$nulls":22},{"$f":"IF(data!A584=\"\",\"\",IF(data!E584=SMALL(data!E584:'data'!E10582,1),data!A584,\"\"))","v":""}]
[{"$nulls":22},{"$f":"IF(data!A585=\"\",\"\",IF(data!E585=SMALL(data!E585:'data'!E10583,1),data!A585,\"\"))","v":""}]
[{"$nulls":22},{"$f":"IF(data!A586=\"\",\"\",IF(data!E586=SMALL(data!E586:'data'!E10584,1),data!A586,\"\"))","v":""}]
[{"$nulls":22},{"$f":"IF(data!A587=\"\",\"\",IF(data!E587=SMALL(data!E587:'data'!E10585,1),data!A587,\"\"))","v":""}]
[{"$nulls":22},{"$f":"IF(data!A588=\"\",\"\",IF(data!E588=SMALL(data!E588:'data'!E10586,1),data!A588,\"\"))","v":""}]
[{"$nulls":22},{"$f":"IF(data!A589=\"\",\"\",IF(data!E589=SMALL(data!E589:'data'!E10587,1),data!A589,\"\"))","v":""}]
[{"$nulls":22},{"$f":"IF(data!A590=\"\",\"\",IF(data!E590=SMALL(data!E590:'data'!E10588,1),data!A590,\"\"))","v":""}]
[{"$nulls":22},{"$f":"IF(data!A591=\"\",\"\",IF(data!E591=SMALL(data!E591:'data'!E10589,1),data!A591,\"\"))","v":""}]
[{"$nulls":22},{"$f":"IF(data!A592=\"\",\"\",IF(data!E592=SMALL(data!E592:'data'!E10590,1),data!A592,\"\"))","v":""}]
[{"$nulls":22},{"$f":"IF(data!A593=\"\",\"\",IF(data!E593=SMALL(data!E593:'data'!E10591,1),data!A593,\"\"))","v":""}]
[{"$nulls":22},{"$f":"IF(data!A594=\"\",\"\",IF(data!E594=SMALL(data!E594:'data'!E10592,1),data!A594,\"\"))","v":""}]
[{"$nulls":22},{"$f":"IF(data!A595=\"\",\"\",IF(data!E595=SMALL(data!E595:'data'!E10593,1),data!A595,\"\"))","v":""}]
[{"$nulls":22},{"$f":"IF(data!A596=\"\",\"\",IF(data!E596=SMALL(data!E596:'data'!E10594,1),data!A596,\"\"))","v":""}]
[{"$nulls":22},{"$f":"IF(data!A597=\"\",\"\",IF(data!E597=SMALL(data!E597:'data'!E10595,1),data!A597,\"\"))","v":""}]
[{"$nulls":22},{"$f":"IF(data!A598=\"\",\"\",IF(data!E598=SMALL(data!E598:'data'!E10596,1),data!A598,\"\"))","v":""}]
[{"$nulls":22},{"$f":"IF(data!A599=\"\",\"\",IF(data!E599=SMALL(data!E599:'data'!E10597,1),data!A599,\"\"))","v":""}]
[{"$nulls":22},{"$f":"IF(data!A600=\"\",\"\",IF(data!E600=SMALL(data!E600:'data'!E10598,1),data!A600,\"\"))","v":""}]
[{"$nulls":22},{"$f":"IF(data!A601=\"\",\"\",IF(data!E601=SMALL(data!E601:'data'!E10599,1),data!A601,\"\"))","v":""}]
[{"$nulls":22},{"$f":"IF(data!A602=\"\",\"\",IF(data!E602=SMALL(data!E602:'data'!E10600,1),data!A602,\"\"))","v":""}]
[{"$nulls":22},{"$f":"IF(data!A603=\"\",\"\",IF(data!E603=SMALL(data!E603:'data'!E10601,1),data!A603,\"\"))","v":""}]
[{"$nulls":22},{"$f":"IF(data!A604=\"\",\"\",IF(data!E604=SMALL(data!E604:'data'!E10602,1),data!A604,\"\"))","v":""}]
[{"$nulls":22},{"$f":"IF(data!A605=\"\",\"\",IF(data!E605=SMALL(data!E605:'data'!E10603,1),data!A605,\"\"))","v":""}]
[{"$nulls":22},{"$f":"IF(data!A606=\"\",\"\",IF(data!E606=SMALL(data!E606:'data'!E10604,1),data!A606,\"\"))","v":""}]
[{"$nulls":22},{"$f":"IF(data!A607=\"\",\"\",IF(data!E607=SMALL(data!E607:'data'!E10605,1),data!A607,\"\"))","v":""}]
[{"$nulls":22},{"$f":"IF(data!A608=\"\",\"\",IF(data!E608=SMALL(data!E608:'data'!E10606,1),data!A608,\"\"))","v":""}]
[{"$nulls":22},{"$f":"IF(data!A609=\"\",\"\",IF(data!E609=SMALL(data!E609:'data'!E10607,1),data!A609,\"\"))","v":""}]
[{"$nulls":22},{"$f":"IF(data!A610=\"\",\"\",IF(data!E610=SMALL(data!E610:'data'!E10608,1),data!A610,\"\"))","v":""}]
[{"$nulls":22},{"$f":"IF(data!A611=\"\",\"\",IF(data!E611=SMALL(data!E611:'data'!E10609,1),data!A611,\"\"))","v":""}]
[{"$nulls":22},{"$f":"IF(data!A612=\"\",\"\",IF(data!E612=SMALL(data!E612:'data'!E10610,1),data!A612,\"\"))","v":""}]
[{"$nulls":22},{"$f":"IF(data!A613=\"\",\"\",IF(data!E613=SMALL(data!E613:'data'!E10611,1),data!A613,\"\"))","v":""}]
[{"$nulls":22},{"$f":"IF(data!A614=\"\",\"\",IF(data!E614=SMALL(data!E614:'data'!E10612,1),data!A614,\"\"))","v":""}]
[{"$nulls":22},{"$f":"IF(data!A615=\"\",\"\",IF(data!E615=SMALL(data!E615:'data'!E10613,1),data!A615,\"\"))","v":""}]
[{"$nulls":22},{"$f":"IF(data!A616=\"\",\"\",IF(data!E616=SMALL(data!E616:'data'!E10614,1),data!A616,\"\"))","v":""}]
[{"$nulls":22},{"$f":"IF(data!A617=\"\",\"\",IF(data!E617=SMALL(data!E617:'data'!E10615,1),data!A617,\"\"))","v":""}]
[{"$nulls":22},{"$f":"IF(data!A618=\"\",\"\",IF(data!E618=SMALL(data!E618:'data'!E10616,1),data!A618,\"\"))","v":""}]
[{"$nulls":22},{"$f":"IF(data!A619=\"\",\"\",IF(data!E619=SMALL(data!E619:'data'!E10617,1),data!A619,\"\"))","v":""}]
[{"$nulls":22},{"$f":"IF(data!A620=\"\",\"\",IF(data!E620=SMALL(data!E620:'data'!E10618,1),data!A620,\"\"))","v":""}]
[{"$nulls":22},{"$f":"IF(data!A621=\"\",\"\",IF(data!E621=SMALL(data!E621:'data'!E10619,1),data!A621,\"\"))","v":""}]
[{"$nulls":22},{"$f":"IF(data!A622=\"\",\"\",IF(data!E622=SMALL(data!E622:'data'!E10620,1),data!A622,\"\"))","v":""}]
[{"$nulls":22},{"$f":"IF(data!A623=\"\",\"\",IF(data!E623=SMALL(data!E623:'data'!E10621,1),data!A623,\"\"))","v":""}]
[{"$nulls":22},{"$f":"IF(data!A624=\"\",\"\",IF(data!E624=SMALL(data!E624:'data'!E10622,1),data!A624,\"\"))","v":""}]
[{"$nulls":22},{"$f":"IF(data!A625=\"\",\"\",IF(data!E625=SMALL(data!E625:'data'!E10623,1),data!A625,\"\"))","v":""}]
[{"$nulls":22},{"$f":"IF(data!A626=\"\",\"\",IF(data!E626=SMALL(data!E626:'data'!E10624,1),data!A626,\"\"))","v":""}]
[{"$nulls":22},{"$f":"IF(data!A627=\"\",\"\",IF(data!E627=SMALL(data!E627:'data'!E10625,1),data!A627,\"\"))","v":""}]
[{"$nulls":22},{"$f":"IF(data!A628=\"\",\"\",IF(data!E628=SMALL(data!E628:'data'!E10626,1),data!A628,\"\"))","v":""}]
[{"$nulls":22},{"$f":"IF(data!A629=\"\",\"\",IF(data!E629=SMALL(data!E629:'data'!E10627,1),data!A629,\"\"))","v":""}]
[{"$nulls":22},{"$f":"IF(data!A630=\"\",\"\",IF(data!E630=SMALL(data!E630:'data'!E10628,1),data!A630,\"\"))","v":""}]
[{"$nulls":22},{"$f":"IF(data!A631=\"\",\"\",IF(data!E631=SMALL(data!E631:'data'!E10629,1),data!A631,\"\"))","v":""}]
[{"$nulls":22},{"$f":"IF(data!A632=\"\",\"\",IF(data!E632=SMALL(data!E632:'data'!E10630,1),data!A632,\"\"))","v":""}]
[{"$nulls":22},{"$f":"IF(data!A633=\"\",\"\",IF(data!E633=SMALL(data!E633:'data'!E10631,1),data!A633,\"\"))","v":""}]
[{"$nulls":22},{"$f":"IF(data!A634=\"\",\"\",IF(data!E634=SMALL(data!E634:'data'!E10632,1),data!A634,\"\"))","v":""}]
[{"$nulls":22},{"$f":"IF(data!A635=\"\",\"\",IF(data!E635=SMALL(data!E635:'data'!E10633,1),data!A635,\"\"))","v":""}]
[{"$nulls":22},{"$f":"IF(data!A636=\"\",\"\",IF(data!E636=SMALL(data!E636:'data'!E10634,1),data!A636,\"\"))","v":""}]
[{"$nulls":22},{"$f":"IF(data!A637=\"\",\"\",IF(data!E637=SMALL(data!E637:'data'!E10635,1),data!A637,\"\"))","v":""}]
[{"$nulls":22},{"$f":"IF(data!A638=\"\",\"\",IF(data!E638=SMALL(data!E638:'data'!E10636,1),data!A638,\"\"))","v":""}]
[{"$nulls":22},{"$f":"IF(data!A639=\"\",\"\",IF(data!E639=SMALL(data!E639:'data'!E10637,1),data!A639,\"\"))","v":""}]
[{"$nulls":22},{"$f":"IF(data!A640=\"\",\"\",IF(data!E640=SMALL(data!E640:'data'!E10638,1),data!A640,\"\"))","v":""}]
[{"$nulls":22},{"$f":"IF(data!A641=\"\",\"\",IF(data!E641=SMALL(data!E641:'data'!E10639,1),data!A641,\"\"))","v":""}]
[{"$nulls":22},{"$f":"IF(data!A642=\"\",\"\",IF(data!E642=SMALL(data!E642:'data'!E10640,1),data!A642,\"\"))","v":""}]
[{"$nulls":22},{"$f":"IF(data!A643=\"\",\"\",IF(data!E643=SMALL(data!E643:'data'!E10641,1),data!A643,\"\"))","v":""}]
[{"$nulls":22},{"$f":"IF(data!A644=\"\",\"\",IF(data!E644=SMALL(data!E644:'data'!E10642,1),data!A644,\"\"))","v":""}]
[{"$nulls":22},{"$f":"IF(data!A645=\"\",\"\",IF(data!E645=SMALL(data!E645:'data'!E10643,1),data!A645,\"\"))","v":""}]
[{"$nulls":22},{"$f":"IF(data!A646=\"\",\"\",IF(data!E646=SMALL(data!E646:'data'!E10644,1),data!A646,\"\"))","v":""}]
[{"$nulls":22},{"$f":"IF(data!A647=\"\",\"\",IF(data!E647=SMALL(data!E647:'data'!E10645,1),data!A647,\"\"))","v":""}]
[{"$nulls":22},{"$f":"IF(data!A648=\"\",\"\",IF(data!E648=SMALL(data!E648:'data'!E10646,1),data!A648,\"\"))","v":""}]
[{"$nulls":22},{"$f":"IF(data!A649=\"\",\"\",IF(data!E649=SMALL(data!E649:'data'!E10647,1),data!A649,\"\"))","v":""}]
[{"$nulls":22},{"$f":"IF(data!A650=\"\",\"\",IF(data!E650=SMALL(data!E650:'data'!E10648,1),data!A650,\"\"))","v":""}]
[{"$nulls":22},{"$f":"IF(data!A651=\"\",\"\",IF(data!E651=SMALL(data!E651:'data'!E10649,1),data!A651,\"\"))","v":""}]
[{"$nulls":22},{"$f":"IF(data!A652=\"\",\"\",IF(data!E652=SMALL(data!E652:'data'!E10650,1),data!A652,\"\"))","v":""}]
[{"$nulls":22},{"$f":"IF(data!A653=\"\",\"\",IF(data!E653=SMALL(data!E653:'data'!E10651,1),data!A653,\"\"))","v":""}]
[{"$nulls":22},{"$f":"IF(data!A654=\"\",\"\",IF(data!E654=SMALL(data!E654:'data'!E10652,1),data!A654,\"\"))","v":""}]
[{"$nulls":22},{"$f":"IF(data!A655=\"\",\"\",IF(data!E655=SMALL(data!E655:'data'!E10653,1),data!A655,\"\"))","v":""}]
[{"$nulls":22},{"$f":"IF(data!A656=\"\",\"\",IF(data!E656=SMALL(data!E656:'data'!E10654,1),data!A656,\"\"))","v":""}]
[{"$nulls":22},{"$f":"IF(data!A657=\"\",\"\",IF(data!E657=SMALL(data!E657:'data'!E10655,1),data!A657,\"\"))","v":""}]
[{"$nulls":22},{"$f":"IF(data!A658=\"\",\"\",IF(data!E658=SMALL(data!E658:'data'!E10656,1),data!A658,\"\"))","v":""}]
[{"$nulls":22},{"$f":"IF(data!A659=\"\",\"\",IF(data!E659=SMALL(data!E659:'data'!E10657,1),data!A659,\"\"))","v":""}]
[{"$nulls":22},{"$f":"IF(data!A660=\"\",\"\",IF(data!E660=SMALL(data!E660:'data'!E10658,1),data!A660,\"\"))","v":""}]
[{"$nulls":22},{"$f":"IF(data!A661=\"\",\"\",IF(data!E661=SMALL(data!E661:'data'!E10659,1),data!A661,\"\"))","v":""}]
[{"$nulls":22},{"$f":"IF(data!A662=\"\",\"\",IF(data!E662=SMALL(data!E662:'data'!E10660,1),data!A662,\"\"))","v":""}]
[{"$nulls":22},{"$f":"IF(data!A663=\"\",\"\",IF(data!E663=SMALL(data!E663:'data'!E10661,1),data!A663,\"\"))","v":""}]
[{"$nulls":22},{"$f":"IF(data!A664=\"\",\"\",IF(data!E664=SMALL(data!E664:'data'!E10662,1),data!A664,\"\"))","v":""}]
[{"$nulls":22},{"$f":"IF(data!A665=\"\",\"\",IF(data!E665=SMALL(data!E665:'data'!E10663,1),data!A665,\"\"))","v":""}]
[{"$nulls":22},{"$f":"IF(data!A666=\"\",\"\",IF(data!E666=SMALL(data!E666:'data'!E10664,1),data!A666,\"\"))","v":""}]
[{"$nulls":22},{"$f":"IF(data!A667=\"\",\"\",IF(data!E667=SMALL(data!E667:'data'!E10665,1),data!A667,\"\"))","v":""}]
[{"$nulls":22},{"$f":"IF(data!A668=\"\",\"\",IF(data!E668=SMALL(data!E668:'data'!E10666,1),data!A668,\"\"))","v":""}]
[{"$nulls":22},{"$f":"IF(data!A669=\"\",\"\",IF(data!E669=SMALL(data!E669:'data'!E10667,1),data!A669,\"\"))","v":""}]
[{"$nulls":22},{"$f":"IF(data!A670=\"\",\"\",IF(data!E670=SMALL(data!E670:'data'!E10668,1),data!A670,\"\"))","v":""}]
[{"$nulls":22},{"$f":"IF(data!A671=\"\",\"\",IF(data!E671=SMALL(data!E671:'data'!E10669,1),data!A671,\"\"))","v":""}]
[{"$nulls":22},{"$f":"IF(data!A672=\"\",\"\",IF(data!E672=SMALL(data!E672:'data'!E10670,1),data!A672,\"\"))","v":""}]
[{"$nulls":22},{"$f":"IF(data!A673=\"\",\"\",IF(data!E673=SMALL(data!E673:'data'!E10671,1),data!A673,\"\"))","v":""}]
[{"$nulls":22},{"$f":"IF(data!A674=\"\",\"\",IF(data!E674=SMALL(data!E674:'data'!E10672,1),data!A674,\"\"))","v":""}]
[{"$nulls":22},{"$f":"IF(data!A675=\"\",\"\",IF(data!E675=SMALL(data!E675:'data'!E10673,1),data!A675,\"\"))","v":""}]
[{"$nulls":22},{"$f":"IF(data!A676=\"\",\"\",IF(data!E676=SMALL(data!E676:'data'!E10674,1),data!A676,\"\"))","v":""}]
[{"$nulls":22},{"$f":"IF(data!A677=\"\",\"\",IF(data!E677=SMALL(data!E677:'data'!E10675,1),data!A677,\"\"))","v":""}]
[{"$nulls":22},{"$f":"IF(data!A678=\"\",\"\",IF(data!E678=SMALL(data!E678:'data'!E10676,1),data!A678,\"\"))","v":""}]
[{"$nulls":22},{"$f":"IF(data!A679=\"\",\"\",IF(data!E679=SMALL(data!E679:'data'!E10677,1),data!A679,\"\"))","v":""}]
[{"$nulls":22},{"$f":"IF(data!A680=\"\",\"\",IF(data!E680=SMALL(data!E680:'data'!E10678,1),data!A680,\"\"))","v":""}]
[{"$nulls":22},{"$f":"IF(data!A681=\"\",\"\",IF(data!E681=SMALL(data!E681:'data'!E10679,1),data!A681,\"\"))","v":""}]
[{"$nulls":22},{"$f":"IF(data!A682=\"\",\"\",IF(data!E682=SMALL(data!E682:'data'!E10680,1),data!A682,\"\"))","v":""}]
[{"$nulls":22},{"$f":"IF(data!A683=\"\",\"\",IF(data!E683=SMALL(data!E683:'data'!E10681,1),data!A683,\"\"))","v":""}]
[{"$nulls":22},{"$f":"IF(data!A684=\"\",\"\",IF(data!E684=SMALL(data!E684:'data'!E10682,1),data!A684,\"\"))","v":""}]
[{"$nulls":22},{"$f":"IF(data!A685=\"\",\"\",IF(data!E685=SMALL(data!E685:'data'!E10683,1),data!A685,\"\"))","v":""}]
[{"$nulls":22},{"$f":"IF(data!A686=\"\",\"\",IF(data!E686=SMALL(data!E686:'data'!E10684,1),data!A686,\"\"))","v":""}]
[{"$nulls":22},{"$f":"IF(data!A687=\"\",\"\",IF(data!E687=SMALL(data!E687:'data'!E10685,1),data!A687,\"\"))","v":""}]
[{"$nulls":22},{"$f":"IF(data!A688=\"\",\"\",IF(data!E688=SMALL(data!E688:'data'!E10686,1),data!A688,\"\"))","v":""}]
[{"$nulls":22},{"$f":"IF(data!A689=\"\",\"\",IF(data!E689=SMALL(data!E689:'data'!E10687,1),data!A689,\"\"))","v":""}]
[{"$nulls":22},{"$f":"IF(data!A690=\"\",\"\",IF(data!E690=SMALL(data!E690:'data'!E10688,1),data!A690,\"\"))","v":""}]
[{"$nulls":22},{"$f":"IF(data!A691=\"\",\"\",IF(data!E691=SMALL(data!E691:'data'!E10689,1),data!A691,\"\"))","v":""}]
[{"$nulls":22},{"$f":"IF(data!A692=\"\",\"\",IF(data!E692=SMALL(data!E692:'data'!E10690,1),data!A692,\"\"))","v":""}]
[{"$nulls":22},{"$f":"IF(data!A693=\"\",\"\",IF(data!E693=SMALL(data!E693:'data'!E10691,1),data!A693,\"\"))","v":""}]
[{"$nulls":22},{"$f":"IF(data!A694=\"\",\"\",IF(data!E694=SMALL(data!E694:'data'!E10692,1),data!A694,\"\"))","v":""}]
[{"$nulls":22},{"$f":"IF(data!A695=\"\",\"\",IF(data!E695=SMALL(data!E695:'data'!E10693,1),data!A695,\"\"))","v":""}]
[{"$nulls":22},{"$f":"IF(data!A696=\"\",\"\",IF(data!E696=SMALL(data!E696:'data'!E10694,1),data!A696,\"\"))","v":""}]
[{"$nulls":22},{"$f":"IF(data!A697=\"\",\"\",IF(data!E697=SMALL(data!E697:'data'!E10695,1),data!A697,\"\"))","v":""}]
[{"$nulls":22},{"$f":"IF(data!A698=\"\",\"\",IF(data!E698=SMALL(data!E698:'data'!E10696,1),data!A698,\"\"))","v":""}]
[{"$nulls":22},{"$f":"IF(data!A699=\"\",\"\",IF(data!E699=SMALL(data!E699:'data'!E10697,1),data!A699,\"\"))","v":""}]
[{"$nulls":22},{"$f":"IF(data!A700=\"\",\"\",IF(data!E700=SMALL(data!E700:'data'!E10698,1),data!A700,\"\"))","v":""}]
[{"$nulls":22},{"$f":"IF(data!A701=\"\",\"\",IF(data!E701=SMALL(data!E701:'data'!E10699,1),data!A701,\"\"))","v":""}]
[{"$nulls":22},{"$f":"IF(data!A702=\"\",\"\",IF(data!E702=SMALL(data!E702:'data'!E10700,1),data!A702,\"\"))","v":""}]
[{"$nulls":22},{"$f":"IF(data!A703=\"\",\"\",IF(data!E703=SMALL(data!E703:'data'!E10701,1),data!A703,\"\"))","v":""}]
[{"$nulls":22},{"$f":"IF(data!A704=\"\",\"\",IF(data!E704=SMALL(data!E704:'data'!E10702,1),data!A704,\"\"))","v":""}]
[{"$nulls":22},{"$f":"IF(data!A705=\"\",\"\",IF(data!E705=SMALL(data!E705:'data'!E10703,1),data!A705,\"\"))","v":""}]
[{"$nulls":22},{"$f":"IF(data!A706=\"\",\"\",IF(data!E706=SMALL(data!E706:'data'!E10704,1),data!A706,\"\"))","v":""}]
[{"$nulls":22},{"$f":"IF(data!A707=\"\",\"\",IF(data!E707=SMALL(data!E707:'data'!E10705,1),data!A707,\"\"))","v":""}]
[{"$nulls":22},{"$f":"IF(data!A708=\"\",\"\",IF(data!E708=SMALL(data!E708:'data'!E10706,1),data!A708,\"\"))","v":""}]
[{"$nulls":22},{"$f":"IF(data!A709=\"\",\"\",IF(data!E709=SMALL(data!E709:'data'!E10707,1),data!A709,\"\"))","v":""}]
[{"$nulls":22},{"$f":"IF(data!A710=\"\",\"\",IF(data!E710=SMALL(data!E710:'data'!E10708,1),data!A710,\"\"))","v":""}]
[{"$nulls":22},{"$f":"IF(data!A711=\"\",\"\",IF(data!E711=SMALL(data!E711:'data'!E10709,1),data!A711,\"\"))","v":""}]
[{"$nulls":22},{"$f":"IF(data!A712=\"\",\"\",IF(data!E712=SMALL(data!E712:'data'!E10710,1),data!A712,\"\"))","v":""}]
[{"$nulls":22},{"$f":"IF(data!A713=\"\",\"\",IF(data!E713=SMALL(data!E713:'data'!E10711,1),data!A713,\"\"))","v":""}]
[{"$nulls":22},{"$f":"IF(data!A714=\"\",\"\",IF(data!E714=SMALL(data!E714:'data'!E10712,1),data!A714,\"\"))","v":""}]
[{"$nulls":22},{"$f":"IF(data!A715=\"\",\"\",IF(data!E715=SMALL(data!E715:'data'!E10713,1),data!A715,\"\"))","v":""}]
[{"$nulls":22},{"$f":"IF(data!A716=\"\",\"\",IF(data!E716=SMALL(data!E716:'data'!E10714,1),data!A716,\"\"))","v":""}]
[{"$nulls":22},{"$f":"IF(data!A717=\"\",\"\",IF(data!E717=SMALL(data!E717:'data'!E10715,1),data!A717,\"\"))","v":""}]
[{"$nulls":22},{"$f":"IF(data!A718=\"\",\"\",IF(data!E718=SMALL(data!E718:'data'!E10716,1),data!A718,\"\"))","v":""}]
[{"$nulls":22},{"$f":"IF(data!A719=\"\",\"\",IF(data!E719=SMALL(data!E719:'data'!E10717,1),data!A719,\"\"))","v":""}]
[{"$nulls":22},{"$f":"IF(data!A720=\"\",\"\",IF(data!E720=SMALL(data!E720:'data'!E10718,1),data!A720,\"\"))","v":""}]
[{"$nulls":22},{"$f":"IF(data!A721=\"\",\"\",IF(data!E721=SMALL(data!E721:'data'!E10719,1),data!A721,\"\"))","v":""}]
[{"$nulls":22},{"$f":"IF(data!A722=\"\",\"\",IF(data!E722=SMALL(data!E722:'data'!E10720,1),data!A722,\"\"))","v":""}]
[{"$nulls":22},{"$f":"IF(data!A723=\"\",\"\",IF(data!E723=SMALL(data!E723:'data'!E10721,1),data!A723,\"\"))","v":""}]
[{"$nulls":22},{"$f":"IF(data!A724=\"\",\"\",IF(data!E724=SMALL(data!E724:'data'!E10722,1),data!A724,\"\"))","v":""}]
[{"$nulls":22},{"$f":"IF(data!A725=\"\",\"\",IF(data!E725=SMALL(data!E725:'data'!E10723,1),data!A725,\"\"))","v":""}]
[{"$nulls":22},{"$f":"IF(data!A726=\"\",\"\",IF(data!E726=SMALL(data!E726:'data'!E10724,1),data!A726,\"\"))","v":""}]
[{"$nulls":22},{"$f":"IF(data!A727=\"\",\"\",IF(data!E727=SMALL(data!E727:'data'!E10725,1),data!A727,\"\"))","v":""}]
[{"$nulls":22},{"$f":"IF(data!A728=\"\",\"\",IF(data!E728=SMALL(data!E728:'data'!E10726,1),data!A728,\"\"))","v":""}]
[{"$nulls":22},{"$f":"IF(data!A729=\"\",\"\",IF(data!E729=SMALL(data!E729:'data'!E10727,1),data!A729,\"\"))","v":""}]
[{"$nulls":22},{"$f":"IF(data!A730=\"\",\"\",IF(data!E730=SMALL(data!E730:'data'!E10728,1),data!A730,\"\"))","v":""}]
[{"$nulls":22},{"$f":"IF(data!A731=\"\",\"\",IF(data!E731=SMALL(data!E731:'data'!E10729,1),data!A731,\"\"))","v":""}]
[{"$nulls":22},{"$f":"IF(data!A732=\"\",\"\",IF(data!E732=SMALL(data!E732:'data'!E10730,1),data!A732,\"\"))","v":""}]
[{"$nulls":22},{"$f":"IF(data!A733=\"\",\"\",IF(data!E733=SMALL(data!E733:'data'!E10731,1),data!A733,\"\"))","v":""}]
[{"$nulls":22},{"$f":"IF(data!A734=\"\",\"\",IF(data!E734=SMALL(data!E734:'data'!E10732,1),data!A734,\"\"))","v":""}]
[{"$nulls":22},{"$f":"IF(data!A735=\"\",\"\",IF(data!E735=SMALL(data!E735:'data'!E10733,1),data!A735,\"\"))","v":""}]
[{"$nulls":22},{"$f":"IF(data!A736=\"\",\"\",IF(data!E736=SMALL(data!E736:'data'!E10734,1),data!A736,\"\"))","v":""}]
[{"$nulls":22},{"$f":"IF(data!A737=\"\",\"\",IF(data!E737=SMALL(data!E737:'data'!E10735,1),data!A737,\"\"))","v":""}]
[{"$nulls":22},{"$f":"IF(data!A738=\"\",\"\",IF(data!E738=SMALL(data!E738:'data'!E10736,1),data!A738,\"\"))","v":""}]
[{"$nulls":22},{"$f":"IF(data!A739=\"\",\"\",IF(data!E739=SMALL(data!E739:'data'!E10737,1),data!A739,\"\"))","v":""}]
[{"$nulls":22},{"$f":"IF(data!A740=\"\",\"\",IF(data!E740=SMALL(data!E740:'data'!E10738,1),data!A740,\"\"))","v":""}]
[{"$nulls":22},{"$f":"IF(data!A741=\"\",\"\",IF(data!E741=SMALL(data!E741:'data'!E10739,1),data!A741,\"\"))","v":""}]
[{"$nulls":22},{"$f":"IF(data!A742=\"\",\"\",IF(data!E742=SMALL(data!E742:'data'!E10740,1),data!A742,\"\"))","v":""}]
[{"$nulls":22},{"$f":"IF(data!A743=\"\",\"\",IF(data!E743=SMALL(data!E743:'data'!E10741,1),data!A743,\"\"))","v":""}]
[{"$nulls":22},{"$f":"IF(data!A744=\"\",\"\",IF(data!E744=SMALL(data!E744:'data'!E10742,1),data!A744,\"\"))","v":""}]
[{"$nulls":22},{"$f":"IF(data!A745=\"\",\"\",IF(data!E745=SMALL(data!E745:'data'!E10743,1),data!A745,\"\"))","v":""}]
[{"$nulls":22},{"$f":"IF(data!A746=\"\",\"\",IF(data!E746=SMALL(data!E746:'data'!E10744,1),data!A746,\"\"))","v":""}]
[{"$nulls":22},{"$f":"IF(data!A747=\"\",\"\",IF(data!E747=SMALL(data!E747:'data'!E10745,1),data!A747,\"\"))","v":""}]
[{"$nulls":22},{"$f":"IF(data!A748=\"\",\"\",IF(data!E748=SMALL(data!E748:'data'!E10746,1),data!A748,\"\"))","v":""}]
[{"$nulls":22},{"$f":"IF(data!A749=\"\",\"\",IF(data!E749=SMALL(data!E749:'data'!E10747,1),data!A749,\"\"))","v":""}]
[{"$nulls":22},{"$f":"IF(data!A750=\"\",\"\",IF(data!E750=SMALL(data!E750:'data'!E10748,1),data!A750,\"\"))","v":""}]
[{"$nulls":22},{"$f":"IF(data!A751=\"\",\"\",IF(data!E751=SMALL(data!E751:'data'!E10749,1),data!A751,\"\"))","v":""}]
[{"$nulls":22},{"$f":"IF(data!A752=\"\",\"\",IF(data!E752=SMALL(data!E752:'data'!E10750,1),data!A752,\"\"))","v":""}]
[{"$nulls":22},{"$f":"IF(data!A753=\"\",\"\",IF(data!E753=SMALL(data!E753:'data'!E10751,1),data!A753,\"\"))","v":""}]
[{"$nulls":22},{"$f":"IF(data!A754=\"\",\"\",IF(data!E754=SMALL(data!E754:'data'!E10752,1),data!A754,\"\"))","v":""}]
[{"$nulls":22},{"$f":"IF(data!A755=\"\",\"\",IF(data!E755=SMALL(data!E755:'data'!E10753,1),data!A755,\"\"))","v":""}]
[{"$nulls":22},{"$f":"IF(data!A756=\"\",\"\",IF(data!E756=SMALL(data!E756:'data'!E10754,1),data!A756,\"\"))","v":""}]
[{"$nulls":22},{"$f":"IF(data!A757=\"\",\"\",IF(data!E757=SMALL(data!E757:'data'!E10755,1),data!A757,\"\"))","v":""}]
[{"$nulls":22},{"$f":"IF(data!A758=\"\",\"\",IF(data!E758=SMALL(data!E758:'data'!E10756,1),data!A758,\"\"))","v":""}]
[{"$nulls":22},{"$f":"IF(data!A759=\"\",\"\",IF(data!E759=SMALL(data!E759:'data'!E10757,1),data!A759,\"\"))","v":""}]
[{"$nulls":22},{"$f":"IF(data!A760=\"\",\"\",IF(data!E760=SMALL(data!E760:'data'!E10758,1),data!A760,\"\"))","v":""}]
[{"$nulls":22},{"$f":"IF(data!A761=\"\",\"\",IF(data!E761=SMALL(data!E761:'data'!E10759,1),data!A761,\"\"))","v":""}]
[{"$nulls":22},{"$f":"IF(data!A762=\"\",\"\",IF(data!E762=SMALL(data!E762:'data'!E10760,1),data!A762,\"\"))","v":""}]
[{"$nulls":22},{"$f":"IF(data!A763=\"\",\"\",IF(data!E763=SMALL(data!E763:'data'!E10761,1),data!A763,\"\"))","v":""}]
[{"$nulls":22},{"$f":"IF(data!A764=\"\",\"\",IF(data!E764=SMALL(data!E764:'data'!E10762,1),data!A764,\"\"))","v":""}]
[{"$nulls":22},{"$f":"IF(data!A765=\"\",\"\",IF(data!E765=SMALL(data!E765:'data'!E10763,1),data!A765,\"\"))","v":""}]
[{"$nulls":22},{"$f":"IF(data!A766=\"\",\"\",IF(data!E766=SMALL(data!E766:'data'!E10764,1),data!A766,\"\"))","v":""}]
[{"$nulls":22},{"$f":"IF(data!A767=\"\",\"\",IF(data!E767=SMALL(data!E767:'data'!E10765,1),data!A767,\"\"))","v":""}]
[{"$nulls":22},{"$f":"IF(data!A768=\"\",\"\",IF(data!E768=SMALL(data!E768:'data'!E10766,1),data!A768,\"\"))","v":""}]
[{"$nulls":22},{"$f":"IF(data!A769=\"\",\"\",IF(data!E769=SMALL(data!E769:'data'!E10767,1),data!A769,\"\"))","v":""}]
[{"$nulls":22},{"$f":"IF(data!A770=\"\",\"\",IF(data!E770=SMALL(data!E770:'data'!E10768,1),data!A770,\"\"))","v":""}]
[{"$nulls":22},{"$f":"IF(data!A771=\"\",\"\",IF(data!E771=SMALL(data!E771:'data'!E10769,1),data!A771,\"\"))","v":""}]
[{"$nulls":22},{"$f":"IF(data!A772=\"\",\"\",IF(data!E772=SMALL(data!E772:'data'!E10770,1),data!A772,\"\"))","v":""}]
[{"$nulls":22},{"$f":"IF(data!A773=\"\",\"\",IF(data!E773=SMALL(data!E773:'data'!E10771,1),data!A773,\"\"))","v":""}]
[{"$nulls":22},{"$f":"IF(data!A774=\"\",\"\",IF(data!E774=SMALL(data!E774:'data'!E10772,1),data!A774,\"\"))","v":""}]
[{"$nulls":22},{"$f":"IF(data!A775=\"\",\"\",IF(data!E775=SMALL(data!E775:'data'!E10773,1),data!A775,\"\"))","v":""}]
[{"$nulls":22},{"$f":"IF(data!A776=\"\",\"\",IF(data!E776=SMALL(data!E776:'data'!E10774,1),data!A776,\"\"))","v":""}]
[{"$nulls":22},{"$f":"IF(data!A777=\"\",\"\",IF(data!E777=SMALL(data!E777:'data'!E10775,1),data!A777,\"\"))","v":""}]
[{"$nulls":22},{"$f":"IF(data!A778=\"\",\"\",IF(data!E778=SMALL(data!E778:'data'!E10776,1),data!A778,\"\"))","v":""}]
[{"$nulls":22},{"$f":"IF(data!A779=\"\",\"\",IF(data!E779=SMALL(data!E779:'data'!E10777,1),data!A779,\"\"))","v":""}]
[{"$nulls":22},{"$f":"IF(data!A780=\"\",\"\",IF(data!E780=SMALL(data!E780:'data'!E10778,1),data!A780,\"\"))","v":""}]
[{"$nulls":22},{"$f":"IF(data!A781=\"\",\"\",IF(data!E781=SMALL(data!E781:'data'!E10779,1),data!A781,\"\"))","v":""}]
[{"$nulls":22},{"$f":"IF(data!A782=\"\",\"\",IF(data!E782=SMALL(data!E782:'data'!E10780,1),data!A782,\"\"))","v":""}]
[{"$nulls":22},{"$f":"IF(data!A783=\"\",\"\",IF(data!E783=SMALL(data!E783:'data'!E10781,1),data!A783,\"\"))","v":""}]
[{"$nulls":22},{"$f":"IF(data!A784=\"\",\"\",IF(data!E784=SMALL(data!E784:'data'!E10782,1),data!A784,\"\"))","v":""}]
[{"$nulls":22},{"$f":"IF(data!A785=\"\",\"\",IF(data!E785=SMALL(data!E785:'data'!E10783,1),data!A785,\"\"))","v":""}]
[{"$nulls":22},{"$f":"IF(data!A786=\"\",\"\",IF(data!E786=SMALL(data!E786:'data'!E10784,1),data!A786,\"\"))","v":""}]
[{"$nulls":22},{"$f":"IF(data!A787=\"\",\"\",IF(data!E787=SMALL(data!E787:'data'!E10785,1),data!A787,\"\"))","v":""}]
[{"$nulls":22},{"$f":"IF(data!A788=\"\",\"\",IF(data!E788=SMALL(data!E788:'data'!E10786,1),data!A788,\"\"))","v":""}]
[{"$nulls":22},{"$f":"IF(data!A789=\"\",\"\",IF(data!E789=SMALL(data!E789:'data'!E10787,1),data!A789,\"\"))","v":""}]
[{"$nulls":22},{"$f":"IF(data!A790=\"\",\"\",IF(data!E790=SMALL(data!E790:'data'!E10788,1),data!A790,\"\"))","v":""}]
[{"$nulls":22},{"$f":"IF(data!A791=\"\",\"\",IF(data!E791=SMALL(data!E791:'data'!E10789,1),data!A791,\"\"))","v":""}]
[{"$nulls":22},{"$f":"IF(data!A792=\"\",\"\",IF(data!E792=SMALL(data!E792:'data'!E10790,1),data!A792,\"\"))","v":""}]
[{"$nulls":22},{"$f":"IF(data!A793=\"\",\"\",IF(data!E793=SMALL(data!E793:'data'!E10791,1),data!A793,\"\"))","v":""}]
[{"$nulls":22},{"$f":"IF(data!A794=\"\",\"\",IF(data!E794=SMALL(data!E794:'data'!E10792,1),data!A794,\"\"))","v":""}]
[{"$nulls":22},{"$f":"IF(data!A795=\"\",\"\",IF(data!E795=SMALL(data!E795:'data'!E10793,1),data!A795,\"\"))","v":""}]
[{"$nulls":22},{"$f":"IF(data!A796=\"\",\"\",IF(data!E796=SMALL(data!E796:'data'!E10794,1),data!A796,\"\"))","v":""}]
[{"$nulls":22},{"$f":"IF(data!A797=\"\",\"\",IF(data!E797=SMALL(data!E797:'data'!E10795,1),data!A797,\"\"))","v":""}]
[{"$nulls":22},{"$f":"IF(data!A798=\"\",\"\",IF(data!E798=SMALL(data!E798:'data'!E10796,1),data!A798,\"\"))","v":""}]
[{"$nulls":22},{"$f":"IF(data!A799=\"\",\"\",IF(data!E799=SMALL(data!E799:'data'!E10797,1),data!A799,\"\"))","v":""}]
[{"$nulls":22},{"$f":"IF(data!A800=\"\",\"\",IF(data!E800=SMALL(data!E800:'data'!E10798,1),data!A800,\"\"))","v":""}]
[{"$nulls":22},{"$f":"IF(data!A801=\"\",\"\",IF(data!E801=SMALL(data!E801:'data'!E10799,1),data!A801,\"\"))","v":""}]
[{"$nulls":22},{"$f":"IF(data!A802=\"\",\"\",IF(data!E802=SMALL(data!E802:'data'!E10800,1),data!A802,\"\"))","v":""}]
[{"$nulls":22},{"$f":"IF(data!A803=\"\",\"\",IF(data!E803=SMALL(data!E803:'data'!E10801,1),data!A803,\"\"))","v":""}]
[{"$nulls":22},{"$f":"IF(data!A804=\"\",\"\",IF(data!E804=SMALL(data!E804:'data'!E10802,1),data!A804,\"\"))","v":""}]
[{"$nulls":22},{"$f":"IF(data!A805=\"\",\"\",IF(data!E805=SMALL(data!E805:'data'!E10803,1),data!A805,\"\"))","v":""}]
[{"$nulls":22},{"$f":"IF(data!A806=\"\",\"\",IF(data!E806=SMALL(data!E806:'data'!E10804,1),data!A806,\"\"))","v":""}]
[{"$nulls":22},{"$f":"IF(data!A807=\"\",\"\",IF(data!E807=SMALL(data!E807:'data'!E10805,1),data!A807,\"\"))","v":""}]
[{"$nulls":22},{"$f":"IF(data!A808=\"\",\"\",IF(data!E808=SMALL(data!E808:'data'!E10806,1),data!A808,\"\"))","v":""}]
[{"$nulls":22},{"$f":"IF(data!A809=\"\",\"\",IF(data!E809=SMALL(data!E809:'data'!E10807,1),data!A809,\"\"))","v":""}]
[{"$nulls":22},{"$f":"IF(data!A810=\"\",\"\",IF(data!E810=SMALL(data!E810:'data'!E10808,1),data!A810,\"\"))","v":""}]
[{"$nulls":22},{"$f":"IF(data!A811=\"\",\"\",IF(data!E811=SMALL(data!E811:'data'!E10809,1),data!A811,\"\"))","v":""}]
[{"$nulls":22},{"$f":"IF(data!A812=\"\",\"\",IF(data!E812=SMALL(data!E812:'data'!E10810,1),data!A812,\"\"))","v":""}]
[{"$nulls":22},{"$f":"IF(data!A813=\"\",\"\",IF(data!E813=SMALL(data!E813:'data'!E10811,1),data!A813,\"\"))","v":""}]
[{"$nulls":22},{"$f":"IF(data!A814=\"\",\"\",IF(data!E814=SMALL(data!E814:'data'!E10812,1),data!A814,\"\"))","v":""}]
[{"$nulls":22},{"$f":"IF(data!A815=\"\",\"\",IF(data!E815=SMALL(data!E815:'data'!E10813,1),data!A815,\"\"))","v":""}]
[{"$nulls":22},{"$f":"IF(data!A816=\"\",\"\",IF(data!E816=SMALL(data!E816:'data'!E10814,1),data!A816,\"\"))","v":""}]
[{"$nulls":22},{"$f":"IF(data!A817=\"\",\"\",IF(data!E817=SMALL(data!E817:'data'!E10815,1),data!A817,\"\"))","v":""}]
[{"$nulls":22},{"$f":"IF(data!A818=\"\",\"\",IF(data!E818=SMALL(data!E818:'data'!E10816,1),data!A818,\"\"))","v":""}]
[{"$nulls":22},{"$f":"IF(data!A819=\"\",\"\",IF(data!E819=SMALL(data!E819:'data'!E10817,1),data!A819,\"\"))","v":""}]
[{"$nulls":22},{"$f":"IF(data!A820=\"\",\"\",IF(data!E820=SMALL(data!E820:'data'!E10818,1),data!A820,\"\"))","v":""}]
[{"$nulls":22},{"$f":"IF(data!A821=\"\",\"\",IF(data!E821=SMALL(data!E821:'data'!E10819,1),data!A821,\"\"))","v":""}]
[{"$nulls":22},{"$f":"IF(data!A822=\"\",\"\",IF(data!E822=SMALL(data!E822:'data'!E10820,1),data!A822,\"\"))","v":""}]
[{"$nulls":22},{"$f":"IF(data!A823=\"\",\"\",IF(data!E823=SMALL(data!E823:'data'!E10821,1),data!A823,\"\"))","v":""}]
[{"$nulls":22},{"$f":"IF(data!A824=\"\",\"\",IF(data!E824=SMALL(data!E824:'data'!E10822,1),data!A824,\"\"))","v":""}]
[{"$nulls":22},{"$f":"IF(data!A825=\"\",\"\",IF(data!E825=SMALL(data!E825:'data'!E10823,1),data!A825,\"\"))","v":""}]
[{"$nulls":22},{"$f":"IF(data!A826=\"\",\"\",IF(data!E826=SMALL(data!E826:'data'!E10824,1),data!A826,\"\"))","v":""}]
[{"$nulls":22},{"$f":"IF(data!A827=\"\",\"\",IF(data!E827=SMALL(data!E827:'data'!E10825,1),data!A827,\"\"))","v":""}]
[{"$nulls":22},{"$f":"IF(data!A828=\"\",\"\",IF(data!E828=SMALL(data!E828:'data'!E10826,1),data!A828,\"\"))","v":""}]
[{"$nulls":22},{"$f":"IF(data!A829=\"\",\"\",IF(data!E829=SMALL(data!E829:'data'!E10827,1),data!A829,\"\"))","v":""}]
[{"$nulls":22},{"$f":"IF(data!A830=\"\",\"\",IF(data!E830=SMALL(data!E830:'data'!E10828,1),data!A830,\"\"))","v":""}]
[{"$nulls":22},{"$f":"IF(data!A831=\"\",\"\",IF(data!E831=SMALL(data!E831:'data'!E10829,1),data!A831,\"\"))","v":""}]
[{"$nulls":22},{"$f":"IF(data!A832=\"\",\"\",IF(data!E832=SMALL(data!E832:'data'!E10830,1),data!A832,\"\"))","v":""}]
[{"$nulls":22},{"$f":"IF(data!A833=\"\",\"\",IF(data!E833=SMALL(data!E833:'data'!E10831,1),data!A833,\"\"))","v":""}]
[{"$nulls":22},{"$f":"IF(data!A834=\"\",\"\",IF(data!E834=SMALL(data!E834:'data'!E10832,1),data!A834,\"\"))","v":""}]
[{"$nulls":22},{"$f":"IF(data!A835=\"\",\"\",IF(data!E835=SMALL(data!E835:'data'!E10833,1),data!A835,\"\"))","v":""}]
[{"$nulls":22},{"$f":"IF(data!A836=\"\",\"\",IF(data!E836=SMALL(data!E836:'data'!E10834,1),data!A836,\"\"))","v":""}]
[{"$nulls":22},{"$f":"IF(data!A837=\"\",\"\",IF(data!E837=SMALL(data!E837:'data'!E10835,1),data!A837,\"\"))","v":""}]
[{"$nulls":22},{"$f":"IF(data!A838=\"\",\"\",IF(data!E838=SMALL(data!E838:'data'!E10836,1),data!A838,\"\"))","v":""}]
[{"$nulls":22},{"$f":"IF(data!A839=\"\",\"\",IF(data!E839=SMALL(data!E839:'data'!E10837,1),data!A839,\"\"))","v":""}]
[{"$nulls":22},{"$f":"IF(data!A840=\"\",\"\",IF(data!E840=SMALL(data!E840:'data'!E10838,1),data!A840,\"\"))","v":""}]
[{"$nulls":22},{"$f":"IF(data!A841=\"\",\"\",IF(data!E841=SMALL(data!E841:'data'!E10839,1),data!A841,\"\"))","v":""}]
[{"$nulls":22},{"$f":"IF(data!A842=\"\",\"\",IF(data!E842=SMALL(data!E842:'data'!E10840,1),data!A842,\"\"))","v":""}]
[{"$nulls":22},{"$f":"IF(data!A843=\"\",\"\",IF(data!E843=SMALL(data!E843:'data'!E10841,1),data!A843,\"\"))","v":""}]
[{"$nulls":22},{"$f":"IF(data!A844=\"\",\"\",IF(data!E844=SMALL(data!E844:'data'!E10842,1),data!A844,\"\"))","v":""}]
[{"$nulls":22},{"$f":"IF(data!A845=\"\",\"\",IF(data!E845=SMALL(data!E845:'data'!E10843,1),data!A845,\"\"))","v":""}]
[{"$nulls":22},{"$f":"IF(data!A846=\"\",\"\",IF(data!E846=SMALL(data!E846:'data'!E10844,1),data!A846,\"\"))","v":""}]
[{"$nulls":22},{"$f":"IF(data!A847=\"\",\"\",IF(data!E847=SMALL(data!E847:'data'!E10845,1),data!A847,\"\"))","v":""}]
[{"$nulls":22},{"$f":"IF(data!A848=\"\",\"\",IF(data!E848=SMALL(data!E848:'data'!E10846,1),data!A848,\"\"))","v":""}]
[{"$nulls":22},{"$f":"IF(data!A849=\"\",\"\",IF(data!E849=SMALL(data!E849:'data'!E10847,1),data!A849,\"\"))","v":""}]
[{"$nulls":22},{"$f":"IF(data!A850=\"\",\"\",IF(data!E850=SMALL(data!E850:'data'!E10848,1),data!A850,\"\"))","v":""}]
[{"$nulls":22},{"$f":"IF(data!A851=\"\",\"\",IF(data!E851=SMALL(data!E851:'data'!E10849,1),data!A851,\"\"))","v":""}]
[{"$nulls":22},{"$f":"IF(data!A852=\"\",\"\",IF(data!E852=SMALL(data!E852:'data'!E10850,1),data!A852,\"\"))","v":""}]
[{"$nulls":22},{"$f":"IF(data!A853=\"\",\"\",IF(data!E853=SMALL(data!E853:'data'!E10851,1),data!A853,\"\"))","v":""}]
[{"$nulls":22},{"$f":"IF(data!A854=\"\",\"\",IF(data!E854=SMALL(data!E854:'data'!E10852,1),data!A854,\"\"))","v":""}]
[{"$nulls":22},{"$f":"IF(data!A855=\"\",\"\",IF(data!E855=SMALL(data!E855:'data'!E10853,1),data!A855,\"\"))","v":""}]
[{"$nulls":22},{"$f":"IF(data!A856=\"\",\"\",IF(data!E856=SMALL(data!E856:'data'!E10854,1),data!A856,\"\"))","v":""}]
[{"$nulls":22},{"$f":"IF(data!A857=\"\",\"\",IF(data!E857=SMALL(data!E857:'data'!E10855,1),data!A857,\"\"))","v":""}]
[{"$nulls":22},{"$f":"IF(data!A858=\"\",\"\",IF(data!E858=SMALL(data!E858:'data'!E10856,1),data!A858,\"\"))","v":""}]
[{"$nulls":22},{"$f":"IF(data!A859=\"\",\"\",IF(data!E859=SMALL(data!E859:'data'!E10857,1),data!A859,\"\"))","v":""}]
[{"$nulls":22},{"$f":"IF(data!A860=\"\",\"\",IF(data!E860=SMALL(data!E860:'data'!E10858,1),data!A860,\"\"))","v":""}]
[{"$nulls":22},{"$f":"IF(data!A861=\"\",\"\",IF(data!E861=SMALL(data!E861:'data'!E10859,1),data!A861,\"\"))","v":""}]
[{"$nulls":22},{"$f":"IF(data!A862=\"\",\"\",IF(data!E862=SMALL(data!E862:'data'!E10860,1),data!A862,\"\"))","v":""}]
[{"$nulls":22},{"$f":"IF(data!A863=\"\",\"\",IF(data!E863=SMALL(data!E863:'data'!E10861,1),data!A863,\"\"))","v":""}]
[{"$nulls":22},{"$f":"IF(data!A864=\"\",\"\",IF(data!E864=SMALL(data!E864:'data'!E10862,1),data!A864,\"\"))","v":""}]
[{"$nulls":22},{"$f":"IF(data!A865=\"\",\"\",IF(data!E865=SMALL(data!E865:'data'!E10863,1),data!A865,\"\"))","v":""}]
[{"$nulls":22},{"$f":"IF(data!A866=\"\",\"\",IF(data!E866=SMALL(data!E866:'data'!E10864,1),data!A866,\"\"))","v":""}]
[{"$nulls":22},{"$f":"IF(data!A867=\"\",\"\",IF(data!E867=SMALL(data!E867:'data'!E10865,1),data!A867,\"\"))","v":""}]
[{"$nulls":22},{"$f":"IF(data!A868=\"\",\"\",IF(data!E868=SMALL(data!E868:'data'!E10866,1),data!A868,\"\"))","v":""}]
[{"$nulls":22},{"$f":"IF(data!A869=\"\",\"\",IF(data!E869=SMALL(data!E869:'data'!E10867,1),data!A869,\"\"))","v":""}]
[{"$nulls":22},{"$f":"IF(data!A870=\"\",\"\",IF(data!E870=SMALL(data!E870:'data'!E10868,1),data!A870,\"\"))","v":""}]
[{"$nulls":22},{"$f":"IF(data!A871=\"\",\"\",IF(data!E871=SMALL(data!E871:'data'!E10869,1),data!A871,\"\"))","v":""}]
[{"$nulls":22},{"$f":"IF(data!A872=\"\",\"\",IF(data!E872=SMALL(data!E872:'data'!E10870,1),data!A872,\"\"))","v":""}]
[{"$nulls":22},{"$f":"IF(data!A873=\"\",\"\",IF(data!E873=SMALL(data!E873:'data'!E10871,1),data!A873,\"\"))","v":""}]
[{"$nulls":22},{"$f":"IF(data!A874=\"\",\"\",IF(data!E874=SMALL(data!E874:'data'!E10872,1),data!A874,\"\"))","v":""}]
[{"$nulls":22},{"$f":"IF(data!A875=\"\",\"\",IF(data!E875=SMALL(data!E875:'data'!E10873,1),data!A875,\"\"))","v":""}]
[{"$nulls":22},{"$f":"IF(data!A876=\"\",\"\",IF(data!E876=SMALL(data!E876:'data'!E10874,1),data!A876,\"\"))","v":""}]
[{"$nulls":22},{"$f":"IF(data!A877=\"\",\"\",IF(data!E877=SMALL(data!E877:'data'!E10875,1),data!A877,\"\"))","v":""}]
[{"$nulls":22},{"$f":"IF(data!A878=\"\",\"\",IF(data!E878=SMALL(data!E878:'data'!E10876,1),data!A878,\"\"))","v":""}]
[{"$nulls":22},{"$f":"IF(data!A879=\"\",\"\",IF(data!E879=SMALL(data!E879:'data'!E10877,1),data!A879,\"\"))","v":""}]
[{"$nulls":22},{"$f":"IF(data!A880=\"\",\"\",IF(data!E880=SMALL(data!E880:'data'!E10878,1),data!A880,\"\"))","v":""}]
[{"$nulls":22},{"$f":"IF(data!A881=\"\",\"\",IF(data!E881=SMALL(data!E881:'data'!E10879,1),data!A881,\"\"))","v":""}]
[{"$nulls":22},{"$f":"IF(data!A882=\"\",\"\",IF(data!E882=SMALL(data!E882:'data'!E10880,1),data!A882,\"\"))","v":""}]
[{"$nulls":22},{"$f":"IF(data!A883=\"\",\"\",IF(data!E883=SMALL(data!E883:'data'!E10881,1),data!A883,\"\"))","v":""}]
[{"$nulls":22},{"$f":"IF(data!A884=\"\",\"\",IF(data!E884=SMALL(data!E884:'data'!E10882,1),data!A884,\"\"))","v":""}]
[{"$nulls":22},{"$f":"IF(data!A885=\"\",\"\",IF(data!E885=SMALL(data!E885:'data'!E10883,1),data!A885,\"\"))","v":""}]
[{"$nulls":22},{"$f":"IF(data!A886=\"\",\"\",IF(data!E886=SMALL(data!E886:'data'!E10884,1),data!A886,\"\"))","v":""}]
[{"$nulls":22},{"$f":"IF(data!A887=\"\",\"\",IF(data!E887=SMALL(data!E887:'data'!E10885,1),data!A887,\"\"))","v":""}]
[{"$nulls":22},{"$f":"IF(data!A888=\"\",\"\",IF(data!E888=SMALL(data!E888:'data'!E10886,1),data!A888,\"\"))","v":""}]
[{"$nulls":22},{"$f":"IF(data!A889=\"\",\"\",IF(data!E889=SMALL(data!E889:'data'!E10887,1),data!A889,\"\"))","v":""}]
[{"$nulls":22},{"$f":"IF(data!A890=\"\",\"\",IF(data!E890=SMALL(data!E890:'data'!E10888,1),data!A890,\"\"))","v":""}]
[{"$nulls":22},{"$f":"IF(data!A891=\"\",\"\",IF(data!E891=SMALL(data!E891:'data'!E10889,1),data!A891,\"\"))","v":""}]
[{"$nulls":22},{"$f":"IF(data!A892=\"\",\"\",IF(data!E892=SMALL(data!E892:'data'!E10890,1),data!A892,\"\"))","v":""}]
[{"$nulls":22},{"$f":"IF(data!A893=\"\",\"\",IF(data!E893=SMALL(data!E893:'data'!E10891,1),data!A893,\"\"))","v":""}]
[{"$nulls":22},{"$f":"IF(data!A894=\"\",\"\",IF(data!E894=SMALL(data!E894:'data'!E10892,1),data!A894,\"\"))","v":""}]
[{"$nulls":22},{"$f":"IF(data!A895=\"\",\"\",IF(data!E895=SMALL(data!E895:'data'!E10893,1),data!A895,\"\"))","v":""}]
[{"$nulls":22},{"$f":"IF(data!A896=\"\",\"\",IF(data!E896=SMALL(data!E896:'data'!E10894,1),data!A896,\"\"))","v":""}]
[{"$nulls":22},{"$f":"IF(data!A897=\"\",\"\",IF(data!E897=SMALL(data!E897:'data'!E10895,1),data!A897,\"\"))","v":""}]
[{"$nulls":22},{"$f":"IF(data!A898=\"\",\"\",IF(data!E898=SMALL(data!E898:'data'!E10896,1),data!A898,\"\"))","v":""}]
[{"$nulls":22},{"$f":"IF(data!A899=\"\",\"\",IF(data!E899=SMALL(data!E899:'data'!E10897,1),data!A899,\"\"))","v":""}]
[{"$nulls":22},{"$f":"IF(data!A900=\"\",\"\",IF(data!E900=SMALL(data!E900:'data'!E10898,1),data!A900,\"\"))","v":""}]
[{"$nulls":22},{"$f":"IF(data!A901=\"\",\"\",IF(data!E901=SMALL(data!E901:'data'!E10899,1),data!A901,\"\"))","v":""}]
[{"$nulls":22},{"$f":"IF(data!A902=\"\",\"\",IF(data!E902=SMALL(data!E902:'data'!E10900,1),data!A902,\"\"))","v":""}]
[{"$nulls":22},{"$f":"IF(data!A903=\"\",\"\",IF(data!E903=SMALL(data!E903:'data'!E10901,1),data!A903,\"\"))","v":""}]
[{"$nulls":22},{"$f":"IF(data!A904=\"\",\"\",IF(data!E904=SMALL(data!E904:'data'!E10902,1),data!A904,\"\"))","v":""}]
[{"$nulls":22},{"$f":"IF(data!A905=\"\",\"\",IF(data!E905=SMALL(data!E905:'data'!E10903,1),data!A905,\"\"))","v":""}]
[{"$nulls":22},{"$f":"IF(data!A906=\"\",\"\",IF(data!E906=SMALL(data!E906:'data'!E10904,1),data!A906,\"\"))","v":""}]
[{"$nulls":22},{"$f":"IF(data!A907=\"\",\"\",IF(data!E907=SMALL(data!E907:'data'!E10905,1),data!A907,\"\"))","v":""}]
[{"$nulls":22},{"$f":"IF(data!A908=\"\",\"\",IF(data!E908=SMALL(data!E908:'data'!E10906,1),data!A908,\"\"))","v":""}]
[{"$nulls":22},{"$f":"IF(data!A909=\"\",\"\",IF(data!E909=SMALL(data!E909:'data'!E10907,1),data!A909,\"\"))","v":""}]
[{"$nulls":22},{"$f":"IF(data!A910=\"\",\"\",IF(data!E910=SMALL(data!E910:'data'!E10908,1),data!A910,\"\"))","v":""}]
[{"$nulls":22},{"$f":"IF(data!A911=\"\",\"\",IF(data!E911=SMALL(data!E911:'data'!E10909,1),data!A911,\"\"))","v":""}]
[{"$nulls":22},{"$f":"IF(data!A912=\"\",\"\",IF(data!E912=SMALL(data!E912:'data'!E10910,1),data!A912,\"\"))","v":""}]
[{"$nulls":22},{"$f":"IF(data!A913=\"\",\"\",IF(data!E913=SMALL(data!E913:'data'!E10911,1),data!A913,\"\"))","v":""}]
[{"$nulls":22},{"$f":"IF(data!A914=\"\",\"\",IF(data!E914=SMALL(data!E914:'data'!E10912,1),data!A914,\"\"))","v":""}]
[{"$nulls":22},{"$f":"IF(data!A915=\"\",\"\",IF(data!E915=SMALL(data!E915:'data'!E10913,1),data!A915,\"\"))","v":""}]
[{"$nulls":22},{"$f":"IF(data!A916=\"\",\"\",IF(data!E916=SMALL(data!E916:'data'!E10914,1),data!A916,\"\"))","v":""}]
[{"$nulls":22},{"$f":"IF(data!A917=\"\",\"\",IF(data!E917=SMALL(data!E917:'data'!E10915,1),data!A917,\"\"))","v":""}]
[{"$nulls":22},{"$f":"IF(data!A918=\"\",\"\",IF(data!E918=SMALL(data!E918:'data'!E10916,1),data!A918,\"\"))","v":""}]
[{"$nulls":22},{"$f":"IF(data!A919=\"\",\"\",IF(data!E919=SMALL(data!E919:'data'!E10917,1),data!A919,\"\"))","v":""}]
[{"$nulls":22},{"$f":"IF(data!A920=\"\",\"\",IF(data!E920=SMALL(data!E920:'data'!E10918,1),data!A920,\"\"))","v":""}]
[{"$nulls":22},{"$f":"IF(data!A921=\"\",\"\",IF(data!E921=SMALL(data!E921:'data'!E10919,1),data!A921,\"\"))","v":""}]
[{"$nulls":22},{"$f":"IF(data!A922=\"\",\"\",IF(data!E922=SMALL(data!E922:'data'!E10920,1),data!A922,\"\"))","v":""}]
[{"$nulls":22},{"$f":"IF(data!A923=\"\",\"\",IF(data!E923=SMALL(data!E923:'data'!E10921,1),data!A923,\"\"))","v":""}]
[{"$nulls":22},{"$f":"IF(data!A924=\"\",\"\",IF(data!E924=SMALL(data!E924:'data'!E10922,1),data!A924,\"\"))","v":""}]
[{"$nulls":22},{"$f":"IF(data!A925=\"\",\"\",IF(data!E925=SMALL(data!E925:'data'!E10923,1),data!A925,\"\"))","v":""}]
[{"$nulls":22},{"$f":"IF(data!A926=\"\",\"\",IF(data!E926=SMALL(data!E926:'data'!E10924,1),data!A926,\"\"))","v":""}]
[{"$nulls":22},{"$f":"IF(data!A927=\"\",\"\",IF(data!E927=SMALL(data!E927:'data'!E10925,1),data!A927,\"\"))","v":""}]
[{"$nulls":22},{"$f":"IF(data!A928=\"\",\"\",IF(data!E928=SMALL(data!E928:'data'!E10926,1),data!A928,\"\"))","v":""}]
[{"$nulls":22},{"$f":"IF(data!A929=\"\",\"\",IF(data!E929=SMALL(data!E929:'data'!E10927,1),data!A929,\"\"))","v":""}]
[{"$nulls":22},{"$f":"IF(data!A930=\"\",\"\",IF(data!E930=SMALL(data!E930:'data'!E10928,1),data!A930,\"\"))","v":""}]
[{"$nulls":22},{"$f":"IF(data!A931=\"\",\"\",IF(data!E931=SMALL(data!E931:'data'!E10929,1),data!A931,\"\"))","v":""}]
[{"$nulls":22},{"$f":"IF(data!A932=\"\",\"\",IF(data!E932=SMALL(data!E932:'data'!E10930,1),data!A932,\"\"))","v":""}]
[{"$nulls":22},{"$f":"IF(data!A933=\"\",\"\",IF(data!E933=SMALL(data!E933:'data'!E10931,1),data!A933,\"\"))","v":""}]
[{"$nulls":22},{"$f":"IF(data!A934=\"\",\"\",IF(data!E934=SMALL(data!E934:'data'!E10932,1),data!A934,\"\"))","v":""}]
[{"$nulls":22},{"$f":"IF(data!A935=\"\",\"\",IF(data!E935=SMALL(data!E935:'data'!E10933,1),data!A935,\"\"))","v":""}]
[{"$nulls":22},{"$f":"IF(data!A936=\"\",\"\",IF(data!E936=SMALL(data!E936:'data'!E10934,1),data!A936,\"\"))","v":""}]
[{"$nulls":22},{"$f":"IF(data!A937=\"\",\"\",IF(data!E937=SMALL(data!E937:'data'!E10935,1),data!A937,\"\"))","v":""}]
[{"$nulls":22},{"$f":"IF(data!A938=\"\",\"\",IF(data!E938=SMALL(data!E938:'data'!E10936,1),data!A938,\"\"))","v":""}]
[{"$nulls":22},{"$f":"IF(data!A939=\"\",\"\",IF(data!E939=SMALL(data!E939:'data'!E10937,1),data!A939,\"\"))","v":""}]
[{"$nulls":22},{"$f":"IF(data!A940=\"\",\"\",IF(data!E940=SMALL(data!E940:'data'!E10938,1),data!A940,\"\"))","v":""}]
[{"$nulls":22},{"$f":"IF(data!A941=\"\",\"\",IF(data!E941=SMALL(data!E941:'data'!E10939,1),data!A941,\"\"))","v":""}]
[{"$nulls":22},{"$f":"IF(data!A942=\"\",\"\",IF(data!E942=SMALL(data!E942:'data'!E10940,1),data!A942,\"\"))","v":""}]
[{"$nulls":22},{"$f":"IF(data!A943=\"\",\"\",IF(data!E943=SMALL(data!E943:'data'!E10941,1),data!A943,\"\"))","v":""}]
[{"$nulls":22},{"$f":"IF(data!A944=\"\",\"\",IF(data!E944=SMALL(data!E944:'data'!E10942,1),data!A944,\"\"))","v":""}]
[{"$nulls":22},{"$f":"IF(data!A945=\"\",\"\",IF(data!E945=SMALL(data!E945:'data'!E10943,1),data!A945,\"\"))","v":""}]
[{"$nulls":22},{"$f":"IF(data!A946=\"\",\"\",IF(data!E946=SMALL(data!E946:'data'!E10944,1),data!A946,\"\"))","v":""}]
[{"$nulls":22},{"$f":"IF(data!A947=\"\",\"\",IF(data!E947=SMALL(data!E947:'data'!E10945,1),data!A947,\"\"))","v":""}]
[{"$nulls":22},{"$f":"IF(data!A948=\"\",\"\",IF(data!E948=SMALL(data!E948:'data'!E10946,1),data!A948,\"\"))","v":""}]
[{"$nulls":22},{"$f":"IF(data!A949=\"\",\"\",IF(data!E949=SMALL(data!E949:'data'!E10947,1),data!A949,\"\"))","v":""}]
[{"$nulls":22},{"$f":"IF(data!A950=\"\",\"\",IF(data!E950=SMALL(data!E950:'data'!E10948,1),data!A950,\"\"))","v":""}]
[{"$nulls":22},{"$f":"IF(data!A951=\"\",\"\",IF(data!E951=SMALL(data!E951:'data'!E10949,1),data!A951,\"\"))","v":""}]
[{"$nulls":22},{"$f":"IF(data!A952=\"\",\"\",IF(data!E952=SMALL(data!E952:'data'!E10950,1),data!A952,\"\"))","v":""}]
[{"$nulls":22},{"$f":"IF(data!A953=\"\",\"\",IF(data!E953=SMALL(data!E953:'data'!E10951,1),data!A953,\"\"))","v":""}]
[{"$nulls":22},{"$f":"IF(data!A954=\"\",\"\",IF(data!E954=SMALL(data!E954:'data'!E10952,1),data!A954,\"\"))","v":""}]
[{"$nulls":22},{"$f":"IF(data!A955=\"\",\"\",IF(data!E955=SMALL(data!E955:'data'!E10953,1),data!A955,\"\"))","v":""}]
[{"$nulls":22},{"$f":"IF(data!A956=\"\",\"\",IF(data!E956=SMALL(data!E956:'data'!E10954,1),data!A956,\"\"))","v":""}]
[{"$nulls":22},{"$f":"IF(data!A957=\"\",\"\",IF(data!E957=SMALL(data!E957:'data'!E10955,1),data!A957,\"\"))","v":""}]
[{"$nulls":22},{"$f":"IF(data!A958=\"\",\"\",IF(data!E958=SMALL(data!E958:'data'!E10956,1),data!A958,\"\"))","v":""}]
[{"$nulls":22},{"$f":"IF(data!A959=\"\",\"\",IF(data!E959=SMALL(data!E959:'data'!E10957,1),data!A959,\"\"))","v":""}]
[{"$nulls":22},{"$f":"IF(data!A960=\"\",\"\",IF(data!E960=SMALL(data!E960:'data'!E10958,1),data!A960,\"\"))","v":""}]
[{"$nulls":22},{"$f":"IF(data!A961=\"\",\"\",IF(data!E961=SMALL(data!E961:'data'!E10959,1),data!A961,\"\"))","v":""}]
[{"$nulls":22},{"$f":"IF(data!A962=\"\",\"\",IF(data!E962=SMALL(data!E962:'data'!E10960,1),data!A962,\"\"))","v":""}]
[{"$nulls":22},{"$f":"IF(data!A963=\"\",\"\",IF(data!E963=SMALL(data!E963:'data'!E10961,1),data!A963,\"\"))","v":""}]
[{"$nulls":22},{"$f":"IF(data!A964=\"\",\"\",IF(data!E964=SMALL(data!E964:'data'!E10962,1),data!A964,\"\"))","v":""}]
[{"$nulls":22},{"$f":"IF(data!A965=\"\",\"\",IF(data!E965=SMALL(data!E965:'data'!E10963,1),data!A965,\"\"))","v":""}]
[{"$nulls":22},{"$f":"IF(data!A966=\"\",\"\",IF(data!E966=SMALL(data!E966:'data'!E10964,1),data!A966,\"\"))","v":""}]
[{"$nulls":22},{"$f":"IF(data!A967=\"\",\"\",IF(data!E967=SMALL(data!E967:'data'!E10965,1),data!A967,\"\"))","v":""}]
[{"$nulls":22},{"$f":"IF(data!A968=\"\",\"\",IF(data!E968=SMALL(data!E968:'data'!E10966,1),data!A968,\"\"))","v":""}]
[{"$nulls":22},{"$f":"IF(data!A969=\"\",\"\",IF(data!E969=SMALL(data!E969:'data'!E10967,1),data!A969,\"\"))","v":""}]
[{"$nulls":22},{"$f":"IF(data!A970=\"\",\"\",IF(data!E970=SMALL(data!E970:'data'!E10968,1),data!A970,\"\"))","v":""}]
[{"$nulls":22},{"$f":"IF(data!A971=\"\",\"\",IF(data!E971=SMALL(data!E971:'data'!E10969,1),data!A971,\"\"))","v":""}]
[{"$nulls":22},{"$f":"IF(data!A972=\"\",\"\",IF(data!E972=SMALL(data!E972:'data'!E10970,1),data!A972,\"\"))","v":""}]
[{"$nulls":22},{"$f":"IF(data!A973=\"\",\"\",IF(data!E973=SMALL(data!E973:'data'!E10971,1),data!A973,\"\"))","v":""}]
[{"$nulls":22},{"$f":"IF(data!A974=\"\",\"\",IF(data!E974=SMALL(data!E974:'data'!E10972,1),data!A974,\"\"))","v":""}]
[{"$nulls":22},{"$f":"IF(data!A975=\"\",\"\",IF(data!E975=SMALL(data!E975:'data'!E10973,1),data!A975,\"\"))","v":""}]
[{"$nulls":22},{"$f":"IF(data!A976=\"\",\"\",IF(data!E976=SMALL(data!E976:'data'!E10974,1),data!A976,\"\"))","v":""}]
[{"$nulls":22},{"$f":"IF(data!A977=\"\",\"\",IF(data!E977=SMALL(data!E977:'data'!E10975,1),data!A977,\"\"))","v":""}]
[{"$nulls":22},{"$f":"IF(data!A978=\"\",\"\",IF(data!E978=SMALL(data!E978:'data'!E10976,1),data!A978,\"\"))","v":""}]
[{"$nulls":22},{"$f":"IF(data!A979=\"\",\"\",IF(data!E979=SMALL(data!E979:'data'!E10977,1),data!A979,\"\"))","v":""}]
[{"$nulls":22},{"$f":"IF(data!A980=\"\",\"\",IF(data!E980=SMALL(data!E980:'data'!E10978,1),data!A980,\"\"))","v":""}]
[{"$nulls":22},{"$f":"IF(data!A981=\"\",\"\",IF(data!E981=SMALL(data!E981:'data'!E10979,1),data!A981,\"\"))","v":""}]
[{"$nulls":22},{"$f":"IF(data!A982=\"\",\"\",IF(data!E982=SMALL(data!E982:'data'!E10980,1),data!A982,\"\"))","v":""}]
[{"$nulls":22},{"$f":"IF(data!A983=\"\",\"\",IF(data!E983=SMALL(data!E983:'data'!E10981,1),data!A983,\"\"))","v":""}]
[{"$nulls":22},{"$f":"IF(data!A984=\"\",\"\",IF(data!E984=SMALL(data!E984:'data'!E10982,1),data!A984,\"\"))","v":""}]
[{"$nulls":22},{"$f":"IF(data!A985=\"\",\"\",IF(data!E985=SMALL(data!E985:'data'!E10983,1),data!A985,\"\"))","v":""}]
[{"$nulls":22},{"$f":"IF(data!A986=\"\",\"\",IF(data!E986=SMALL(data!E986:'data'!E10984,1),data!A986,\"\"))","v":""}]
[{"$nulls":22},{"$f":"IF(data!A987=\"\",\"\",IF(data!E987=SMALL(data!E987:'data'!E10985,1),data!A987,\"\"))","v":""}]
[{"$nulls":22},{"$f":"IF(data!A988=\"\",\"\",IF(data!E988=SMALL(data!E988:'data'!E10986,1),data!A988,\"\"))","v":""}]
[{"$nulls":22},{"$f":"IF(data!A989=\"\",\"\",IF(data!E989=SMALL(data!E989:'data'!E10987,1),data!A989,\"\"))","v":""}]
[{"$nulls":22},{"$f":"IF(data!A990=\"\",\"\",IF(data!E990=SMALL(data!E990:'data'!E10988,1),data!A990,\"\"))","v":""}]
[{"$nulls":22},{"$f":"IF(data!A991=\"\",\"\",IF(data!E991=SMALL(data!E991:'data'!E10989,1),data!A991,\"\"))","v":""}]
[{"$nulls":22},{"$f":"IF(data!A992=\"\",\"\",IF(data!E992=SMALL(data!E992:'data'!E10990,1),data!A992,\"\"))","v":""}]
[{"$nulls":22},{"$f":"IF(data!A993=\"\",\"\",IF(data!E993=SMALL(data!E993:'data'!E10991,1),data!A993,\"\"))","v":""}]
[{"$nulls":22},{"$f":"IF(data!A994=\"\",\"\",IF(data!E994=SMALL(data!E994:'data'!E10992,1),data!A994,\"\"))","v":""}]
[{"$nulls":22},{"$f":"IF(data!A995=\"\",\"\",IF(data!E995=SMALL(data!E995:'data'!E10993,1),data!A995,\"\"))","v":""}]
[{"$nulls":22},{"$f":"IF(data!A996=\"\",\"\",IF(data!E996=SMALL(data!E996:'data'!E10994,1),data!A996,\"\"))","v":""}]
[{"$nulls":22},{"$f":"IF(data!A997=\"\",\"\",IF(data!E997=SMALL(data!E997:'data'!E10995,1),data!A997,\"\"))","v":""}]
[{"$nulls":22},{"$f":"IF(data!A998=\"\",\"\",IF(data!E998=SMALL(data!E998:'data'!E10996,1),data!A998,\"\"))","v":""}]
[{"$nulls":22},{"$f":"IF(data!A999=\"\",\"\",IF(data!E999=SMALL(data!E999:'data'!E10997,1),data!A999,\"\"))","v":""}]
[{"$nulls":22},{"$f":"IF(data!A1000=\"\",\"\",IF(data!E1000=SMALL(data!E1000:'data'!E10998,1),data!A1000,\"\"))","v":""}]
[{"$nulls":22},{"$f":"IF(data!A1001=\"\",\"\",IF(data!E1001=SMALL(data!E1001:'data'!E10999,1),data!A1001,\"\"))","v":""}]
[{"$nulls":22},{"$f":"IF(data!A1002=\"\",\"\",IF(data!E1002=SMALL(data!E1002:'data'!E11000,1),data!A1002,\"\"))","v":""}]
[{"$nulls":22},{"$f":"IF(data!A1003=\"\",\"\",IF(data!E1003=SMALL(data!E1003:'data'!E11001,1),data!A1003,\"\"))","v":""}]
[{"$nulls":22},{"$f":"IF(data!A1004=\"\",\"\",IF(data!E1004=SMALL(data!E1004:'data'!E11002,1),data!A1004,\"\"))","v":""}]
[{"$nulls":22},{"$f":"IF(data!A1005=\"\",\"\",IF(data!E1005=SMALL(data!E1005:'data'!E11003,1),data!A1005,\"\"))","v":""}]
[{"$nulls":22},{"$f":"IF(data!A1006=\"\",\"\",IF(data!E1006=SMALL(data!E1006:'data'!E11004,1),data!A1006,\"\"))","v":""}]
[{"$nulls":22},{"$f":"IF(data!A1007=\"\",\"\",IF(data!E1007=SMALL(data!E1007:'data'!E11005,1),data!A1007,\"\"))","v":""}]
[{"$nulls":22},{"$f":"IF(data!A1008=\"\",\"\",IF(data!E1008=SMALL(data!E1008:'data'!E11006,1),data!A1008,\"\"))","v":""}]
[{"$nulls":22},{"$f":"IF(data!A1009=\"\",\"\",IF(data!E1009=SMALL(data!E1009:'data'!E11007,1),data!A1009,\"\"))","v":""}]
[{"$nulls":22},{"$f":"IF(data!A1010=\"\",\"\",IF(data!E1010=SMALL(data!E1010:'data'!E11008,1),data!A1010,\"\"))","v":""}]
[{"$nulls":22},{"$f":"IF(data!A1011=\"\",\"\",IF(data!E1011=SMALL(data!E1011:'data'!E11009,1),data!A1011,\"\"))","v":""}]
[{"$nulls":22},{"$f":"IF(data!A1012=\"\",\"\",IF(data!E1012=SMALL(data!E1012:'data'!E11010,1),data!A1012,\"\"))","v":""}]
[{"$nulls":22},{"$f":"IF(data!A1013=\"\",\"\",IF(data!E1013=SMALL(data!E1013:'data'!E11011,1),data!A1013,\"\"))","v":""}]
[{"$nulls":22},{"$f":"IF(data!A1014=\"\",\"\",IF(data!E1014=SMALL(data!E1014:'data'!E11012,1),data!A1014,\"\"))","v":""}]
[{"$nulls":22},{"$f":"IF(data!A1015=\"\",\"\",IF(data!E1015=SMALL(data!E1015:'data'!E11013,1),data!A1015,\"\"))","v":""}]
[{"$nulls":22},{"$f":"IF(data!A1016=\"\",\"\",IF(data!E1016=SMALL(data!E1016:'data'!E11014,1),data!A1016,\"\"))","v":""}]
[{"$nulls":22},{"$f":"IF(data!A1017=\"\",\"\",IF(data!E1017=SMALL(data!E1017:'data'!E11015,1),data!A1017,\"\"))","v":""}]
[{"$nulls":22},{"$f":"IF(data!A1018=\"\",\"\",IF(data!E1018=SMALL(data!E1018:'data'!E11016,1),data!A1018,\"\"))","v":""}]
[{"$nulls":22},{"$f":"IF(data!A1019=\"\",\"\",IF(data!E1019=SMALL(data!E1019:'data'!E11017,1),data!A1019,\"\"))","v":""}]
[{"$nulls":22},{"$f":"IF(data!A1020=\"\",\"\",IF(data!E1020=SMALL(data!E1020:'data'!E11018,1),data!A1020,\"\"))","v":""}]
[{"$nulls":22},{"$f":"IF(data!A1021=\"\",\"\",IF(data!E1021=SMALL(data!E1021:'data'!E11019,1),data!A1021,\"\"))","v":""}]
[{"$nulls":22},{"$f":"IF(data!A1022=\"\",\"\",IF(data!E1022=SMALL(data!E1022:'data'!E11020,1),data!A1022,\"\"))","v":""}]
[{"$nulls":22},{"$f":"IF(data!A1023=\"\",\"\",IF(data!E1023=SMALL(data!E1023:'data'!E11021,1),data!A1023,\"\"))","v":""}]
[{"$nulls":22},{"$f":"IF(data!A1024=\"\",\"\",IF(data!E1024=SMALL(data!E1024:'data'!E11022,1),data!A1024,\"\"))","v":""}]
[{"$nulls":22},{"$f":"IF(data!A1025=\"\",\"\",IF(data!E1025=SMALL(data!E1025:'data'!E11023,1),data!A1025,\"\"))","v":""}]
[{"$nulls":22},{"$f":"IF(data!A1026=\"\",\"\",IF(data!E1026=SMALL(data!E1026:'data'!E11024,1),data!A1026,\"\"))","v":""}]
[{"$nulls":22},{"$f":"IF(data!A1027=\"\",\"\",IF(data!E1027=SMALL(data!E1027:'data'!E11025,1),data!A1027,\"\"))","v":""}]
[{"$nulls":22},{"$f":"IF(data!A1028=\"\",\"\",IF(data!E1028=SMALL(data!E1028:'data'!E11026,1),data!A1028,\"\"))","v":""}]
[{"$nulls":22},{"$f":"IF(data!A1029=\"\",\"\",IF(data!E1029=SMALL(data!E1029:'data'!E11027,1),data!A1029,\"\"))","v":""}]
[{"$nulls":22},{"$f":"IF(data!A1030=\"\",\"\",IF(data!E1030=SMALL(data!E1030:'data'!E11028,1),data!A1030,\"\"))","v":""}]
[{"$nulls":22},{"$f":"IF(data!A1031=\"\",\"\",IF(data!E1031=SMALL(data!E1031:'data'!E11029,1),data!A1031,\"\"))","v":""}]
[{"$nulls":22},{"$f":"IF(data!A1032=\"\",\"\",IF(data!E1032=SMALL(data!E1032:'data'!E11030,1),data!A1032,\"\"))","v":""}]
[{"$nulls":22},{"$f":"IF(data!A1033=\"\",\"\",IF(data!E1033=SMALL(data!E1033:'data'!E11031,1),data!A1033,\"\"))","v":""}]
[{"$nulls":22},{"$f":"IF(data!A1034=\"\",\"\",IF(data!E1034=SMALL(data!E1034:'data'!E11032,1),data!A1034,\"\"))","v":""}]
[{"$nulls":22},{"$f":"IF(data!A1035=\"\",\"\",IF(data!E1035=SMALL(data!E1035:'data'!E11033,1),data!A1035,\"\"))","v":""}]
[{"$nulls":22},{"$f":"IF(data!A1036=\"\",\"\",IF(data!E1036=SMALL(data!E1036:'data'!E11034,1),data!A1036,\"\"))","v":""}]
[{"$nulls":22},{"$f":"IF(data!A1037=\"\",\"\",IF(data!E1037=SMALL(data!E1037:'data'!E11035,1),data!A1037,\"\"))","v":""}]
[{"$nulls":22},{"$f":"IF(data!A1038=\"\",\"\",IF(data!E1038=SMALL(data!E1038:'data'!E11036,1),data!A1038,\"\"))","v":""}]
[{"$nulls":22},{"$f":"IF(data!A1039=\"\",\"\",IF(data!E1039=SMALL(data!E1039:'data'!E11037,1),data!A1039,\"\"))","v":""}]
[{"$nulls":22},{"$f":"IF(data!A1040=\"\",\"\",IF(data!E1040=SMALL(data!E1040:'data'!E11038,1),data!A1040,\"\"))","v":""}]
[{"$nulls":22},{"$f":"IF(data!A1041=\"\",\"\",IF(data!E1041=SMALL(data!E1041:'data'!E11039,1),data!A1041,\"\"))","v":""}]
[{"$nulls":22},{"$f":"IF(data!A1042=\"\",\"\",IF(data!E1042=SMALL(data!E1042:'data'!E11040,1),data!A1042,\"\"))","v":""}]
[{"$nulls":22},{"$f":"IF(data!A1043=\"\",\"\",IF(data!E1043=SMALL(data!E1043:'data'!E11041,1),data!A1043,\"\"))","v":""}]
[{"$nulls":22},{"$f":"IF(data!A1044=\"\",\"\",IF(data!E1044=SMALL(data!E1044:'data'!E11042,1),data!A1044,\"\"))","v":""}]
[{"$nulls":22},{"$f":"IF(data!A1045=\"\",\"\",IF(data!E1045=SMALL(data!E1045:'data'!E11043,1),data!A1045,\"\"))","v":""}]
[{"$nulls":22},{"$f":"IF(data!A1046=\"\",\"\",IF(data!E1046=SMALL(data!E1046:'data'!E11044,1),data!A1046,\"\"))","v":""}]
[{"$nulls":22},{"$f":"IF(data!A1047=\"\",\"\",IF(data!E1047=SMALL(data!E1047:'data'!E11045,1),data!A1047,\"\"))","v":""}]
[{"$nulls":22},{"$f":"IF(data!A1048=\"\",\"\",IF(data!E1048=SMALL(data!E1048:'data'!E11046,1),data!A1048,\"\"))","v":""}]
[{"$nulls":22},{"$f":"IF(data!A1049=\"\",\"\",IF(data!E1049=SMALL(data!E1049:'data'!E11047,1),data!A1049,\"\"))","v":""}]
[{"$nulls":22},{"$f":"IF(data!A1050=\"\",\"\",IF(data!E1050=SMALL(data!E1050:'data'!E11048,1),data!A1050,\"\"))","v":""}]
[{"$nulls":22},{"$f":"IF(data!A1051=\"\",\"\",IF(data!E1051=SMALL(data!E1051:'data'!E11049,1),data!A1051,\"\"))","v":""}]
[{"$nulls":22},{"$f":"IF(data!A1052=\"\",\"\",IF(data!E1052=SMALL(data!E1052:'data'!E11050,1),data!A1052,\"\"))","v":""}]
[{"$nulls":22},{"$f":"IF(data!A1053=\"\",\"\",IF(data!E1053=SMALL(data!E1053:'data'!E11051,1),data!A1053,\"\"))","v":""}]
[{"$nulls":22},{"$f":"IF(data!A1054=\"\",\"\",IF(data!E1054=SMALL(data!E1054:'data'!E11052,1),data!A1054,\"\"))","v":""}]
[{"$nulls":22},{"$f":"IF(data!A1055=\"\",\"\",IF(data!E1055=SMALL(data!E1055:'data'!E11053,1),data!A1055,\"\"))","v":""}]
[{"$nulls":22},{"$f":"IF(data!A1056=\"\",\"\",IF(data!E1056=SMALL(data!E1056:'data'!E11054,1),data!A1056,\"\"))","v":""}]
[{"$nulls":22},{"$f":"IF(data!A1057=\"\",\"\",IF(data!E1057=SMALL(data!E1057:'data'!E11055,1),data!A1057,\"\"))","v":""}]
[{"$nulls":22},{"$f":"IF(data!A1058=\"\",\"\",IF(data!E1058=SMALL(data!E1058:'data'!E11056,1),data!A1058,\"\"))","v":""}]
[{"$nulls":22},{"$f":"IF(data!A1059=\"\",\"\",IF(data!E1059=SMALL(data!E1059:'data'!E11057,1),data!A1059,\"\"))","v":""}]
[{"$nulls":22},{"$f":"IF(data!A1060=\"\",\"\",IF(data!E1060=SMALL(data!E1060:'data'!E11058,1),data!A1060,\"\"))","v":""}]
[{"$nulls":22},{"$f":"IF(data!A1061=\"\",\"\",IF(data!E1061=SMALL(data!E1061:'data'!E11059,1),data!A1061,\"\"))","v":""}]
[{"$nulls":22},{"$f":"IF(data!A1062=\"\",\"\",IF(data!E1062=SMALL(data!E1062:'data'!E11060,1),data!A1062,\"\"))","v":""}]
[{"$nulls":22},{"$f":"IF(data!A1063=\"\",\"\",IF(data!E1063=SMALL(data!E1063:'data'!E11061,1),data!A1063,\"\"))","v":""}]
[{"$nulls":22},{"$f":"IF(data!A1064=\"\",\"\",IF(data!E1064=SMALL(data!E1064:'data'!E11062,1),data!A1064,\"\"))","v":""}]
[{"$nulls":22},{"$f":"IF(data!A1065=\"\",\"\",IF(data!E1065=SMALL(data!E1065:'data'!E11063,1),data!A1065,\"\"))","v":""}]
[{"$nulls":22},{"$f":"IF(data!A1066=\"\",\"\",IF(data!E1066=SMALL(data!E1066:'data'!E11064,1),data!A1066,\"\"))","v":""}]
[{"$nulls":22},{"$f":"IF(data!A1067=\"\",\"\",IF(data!E1067=SMALL(data!E1067:'data'!E11065,1),data!A1067,\"\"))","v":""}]
[{"$nulls":22},{"$f":"IF(data!A1068=\"\",\"\",IF(data!E1068=SMALL(data!E1068:'data'!E11066,1),data!A1068,\"\"))","v":""}]
[{"$nulls":22},{"$f":"IF(data!A1069=\"\",\"\",IF(data!E1069=SMALL(data!E1069:'data'!E11067,1),data!A1069,\"\"))","v":""}]
[{"$nulls":22},{"$f":"IF(data!A1070=\"\",\"\",IF(data!E1070=SMALL(data!E1070:'data'!E11068,1),data!A1070,\"\"))","v":""}]
[{"$nulls":22},{"$f":"IF(data!A1071=\"\",\"\",IF(data!E1071=SMALL(data!E1071:'data'!E11069,1),data!A1071,\"\"))","v":""}]
[{"$nulls":22},{"$f":"IF(data!A1072=\"\",\"\",IF(data!E1072=SMALL(data!E1072:'data'!E11070,1),data!A1072,\"\"))","v":""}]
[{"$nulls":22},{"$f":"IF(data!A1073=\"\",\"\",IF(data!E1073=SMALL(data!E1073:'data'!E11071,1),data!A1073,\"\"))","v":""}]
[{"$nulls":22},{"$f":"IF(data!A1074=\"\",\"\",IF(data!E1074=SMALL(data!E1074:'data'!E11072,1),data!A1074,\"\"))","v":""}]
[{"$nulls":22},{"$f":"IF(data!A1075=\"\",\"\",IF(data!E1075=SMALL(data!E1075:'data'!E11073,1),data!A1075,\"\"))","v":""}]
[{"$nulls":22},{"$f":"IF(data!A1076=\"\",\"\",IF(data!E1076=SMALL(data!E1076:'data'!E11074,1),data!A1076,\"\"))","v":""}]
[{"$nulls":22},{"$f":"IF(data!A1077=\"\",\"\",IF(data!E1077=SMALL(data!E1077:'data'!E11075,1),data!A1077,\"\"))","v":""}]
[{"$nulls":22},{"$f":"IF(data!A1078=\"\",\"\",IF(data!E1078=SMALL(data!E1078:'data'!E11076,1),data!A1078,\"\"))","v":""}]
[{"$nulls":22},{"$f":"IF(data!A1079=\"\",\"\",IF(data!E1079=SMALL(data!E1079:'data'!E11077,1),data!A1079,\"\"))","v":""}]
[{"$nulls":22},{"$f":"IF(data!A1080=\"\",\"\",IF(data!E1080=SMALL(data!E1080:'data'!E11078,1),data!A1080,\"\"))","v":""}]
[{"$nulls":22},{"$f":"IF(data!A1081=\"\",\"\",IF(data!E1081=SMALL(data!E1081:'data'!E11079,1),data!A1081,\"\"))","v":""}]
[{"$nulls":22},{"$f":"IF(data!A1082=\"\",\"\",IF(data!E1082=SMALL(data!E1082:'data'!E11080,1),data!A1082,\"\"))","v":""}]
[{"$nulls":22},{"$f":"IF(data!A1083=\"\",\"\",IF(data!E1083=SMALL(data!E1083:'data'!E11081,1),data!A1083,\"\"))","v":""}]
[{"$nulls":22},{"$f":"IF(data!A1084=\"\",\"\",IF(data!E1084=SMALL(data!E1084:'data'!E11082,1),data!A1084,\"\"))","v":""}]
[{"$nulls":22},{"$f":"IF(data!A1085=\"\",\"\",IF(data!E1085=SMALL(data!E1085:'data'!E11083,1),data!A1085,\"\"))","v":""}]
[{"$nulls":22},{"$f":"IF(data!A1086=\"\",\"\",IF(data!E1086=SMALL(data!E1086:'data'!E11084,1),data!A1086,\"\"))","v":""}]
[{"$nulls":22},{"$f":"IF(data!A1087=\"\",\"\",IF(data!E1087=SMALL(data!E1087:'data'!E11085,1),data!A1087,\"\"))","v":""}]
[{"$nulls":22},{"$f":"IF(data!A1088=\"\",\"\",IF(data!E1088=SMALL(data!E1088:'data'!E11086,1),data!A1088,\"\"))","v":""}]
[{"$nulls":22},{"$f":"IF(data!A1089=\"\",\"\",IF(data!E1089=SMALL(data!E1089:'data'!E11087,1),data!A1089,\"\"))","v":""}]
[{"$nulls":22},{"$f":"IF(data!A1090=\"\",\"\",IF(data!E1090=SMALL(data!E1090:'data'!E11088,1),data!A1090,\"\"))","v":""}]
[{"$nulls":22},{"$f":"IF(data!A1091=\"\",\"\",IF(data!E1091=SMALL(data!E1091:'data'!E11089,1),data!A1091,\"\"))","v":""}]
[{"$nulls":22},{"$f":"IF(data!A1092=\"\",\"\",IF(data!E1092=SMALL(data!E1092:'data'!E11090,1),data!A1092,\"\"))","v":""}]
[{"$nulls":22},{"$f":"IF(data!A1093=\"\",\"\",IF(data!E1093=SMALL(data!E1093:'data'!E11091,1),data!A1093,\"\"))","v":""}]
[{"$nulls":22},{"$f":"IF(data!A1094=\"\",\"\",IF(data!E1094=SMALL(data!E1094:'data'!E11092,1),data!A1094,\"\"))","v":""}]
[{"$nulls":22},{"$f":"IF(data!A1095=\"\",\"\",IF(data!E1095=SMALL(data!E1095:'data'!E11093,1),data!A1095,\"\"))","v":""}]
[{"$nulls":22},{"$f":"IF(data!A1096=\"\",\"\",IF(data!E1096=SMALL(data!E1096:'data'!E11094,1),data!A1096,\"\"))","v":""}]
[{"$nulls":22},{"$f":"IF(data!A1097=\"\",\"\",IF(data!E1097=SMALL(data!E1097:'data'!E11095,1),data!A1097,\"\"))","v":""}]
[{"$nulls":22},{"$f":"IF(data!A1098=\"\",\"\",IF(data!E1098=SMALL(data!E1098:'data'!E11096,1),data!A1098,\"\"))","v":""}]
[{"$nulls":22},{"$f":"IF(data!A1099=\"\",\"\",IF(data!E1099=SMALL(data!E1099:'data'!E11097,1),data!A1099,\"\"))","v":""}]
[{"$nulls":22},{"$f":"IF(data!A1100=\"\",\"\",IF(data!E1100=SMALL(data!E1100:'data'!E11098,1),data!A1100,\"\"))","v":""}]
[{"$nulls":22},{"$f":"IF(data!A1101=\"\",\"\",IF(data!E1101=SMALL(data!E1101:'data'!E11099,1),data!A1101,\"\"))","v":""}]
[{"$nulls":22},{"$f":"IF(data!A1102=\"\",\"\",IF(data!E1102=SMALL(data!E1102:'data'!E11100,1),data!A1102,\"\"))","v":""}]
[{"$nulls":22},{"$f":"IF(data!A1103=\"\",\"\",IF(data!E1103=SMALL(data!E1103:'data'!E11101,1),data!A1103,\"\"))","v":""}]
[{"$nulls":22},{"$f":"IF(data!A1104=\"\",\"\",IF(data!E1104=SMALL(data!E1104:'data'!E11102,1),data!A1104,\"\"))","v":""}]
[{"$nulls":22},{"$f":"IF(data!A1105=\"\",\"\",IF(data!E1105=SMALL(data!E1105:'data'!E11103,1),data!A1105,\"\"))","v":""}]
[{"$nulls":22},{"$f":"IF(data!A1106=\"\",\"\",IF(data!E1106=SMALL(data!E1106:'data'!E11104,1),data!A1106,\"\"))","v":""}]
[{"$nulls":22},{"$f":"IF(data!A1107=\"\",\"\",IF(data!E1107=SMALL(data!E1107:'data'!E11105,1),data!A1107,\"\"))","v":""}]
[{"$nulls":22},{"$f":"IF(data!A1108=\"\",\"\",IF(data!E1108=SMALL(data!E1108:'data'!E11106,1),data!A1108,\"\"))","v":""}]
[{"$nulls":22},{"$f":"IF(data!A1109=\"\",\"\",IF(data!E1109=SMALL(data!E1109:'data'!E11107,1),data!A1109,\"\"))","v":""}]
[{"$nulls":22},{"$f":"IF(data!A1110=\"\",\"\",IF(data!E1110=SMALL(data!E1110:'data'!E11108,1),data!A1110,\"\"))","v":""}]
[{"$nulls":22},{"$f":"IF(data!A1111=\"\",\"\",IF(data!E1111=SMALL(data!E1111:'data'!E11109,1),data!A1111,\"\"))","v":""}]
[{"$nulls":22},{"$f":"IF(data!A1112=\"\",\"\",IF(data!E1112=SMALL(data!E1112:'data'!E11110,1),data!A1112,\"\"))","v":""}]
[{"$nulls":22},{"$f":"IF(data!A1113=\"\",\"\",IF(data!E1113=SMALL(data!E1113:'data'!E11111,1),data!A1113,\"\"))","v":""}]
[{"$nulls":22},{"$f":"IF(data!A1114=\"\",\"\",IF(data!E1114=SMALL(data!E1114:'data'!E11112,1),data!A1114,\"\"))","v":""}]
[{"$nulls":22},{"$f":"IF(data!A1115=\"\",\"\",IF(data!E1115=SMALL(data!E1115:'data'!E11113,1),data!A1115,\"\"))","v":""}]
[{"$nulls":22},{"$f":"IF(data!A1116=\"\",\"\",IF(data!E1116=SMALL(data!E1116:'data'!E11114,1),data!A1116,\"\"))","v":""}]
[{"$nulls":22},{"$f":"IF(data!A1117=\"\",\"\",IF(data!E1117=SMALL(data!E1117:'data'!E11115,1),data!A1117,\"\"))","v":""}]
[{"$nulls":22},{"$f":"IF(data!A1118=\"\",\"\",IF(data!E1118=SMALL(data!E1118:'data'!E11116,1),data!A1118,\"\"))","v":""}]
[{"$nulls":22},{"$f":"IF(data!A1119=\"\",\"\",IF(data!E1119=SMALL(data!E1119:'data'!E11117,1),data!A1119,\"\"))","v":""}]
[{"$nulls":22},{"$f":"IF(data!A1120=\"\",\"\",IF(data!E1120=SMALL(data!E1120:'data'!E11118,1),data!A1120,\"\"))","v":""}]
[{"$nulls":22},{"$f":"IF(data!A1121=\"\",\"\",IF(data!E1121=SMALL(data!E1121:'data'!E11119,1),data!A1121,\"\"))","v":""}]
[{"$nulls":22},{"$f":"IF(data!A1122=\"\",\"\",IF(data!E1122=SMALL(data!E1122:'data'!E11120,1),data!A1122,\"\"))","v":""}]
[{"$nulls":22},{"$f":"IF(data!A1123=\"\",\"\",IF(data!E1123=SMALL(data!E1123:'data'!E11121,1),data!A1123,\"\"))","v":""}]
[{"$nulls":22},{"$f":"IF(data!A1124=\"\",\"\",IF(data!E1124=SMALL(data!E1124:'data'!E11122,1),data!A1124,\"\"))","v":""}]
[{"$nulls":22},{"$f":"IF(data!A1125=\"\",\"\",IF(data!E1125=SMALL(data!E1125:'data'!E11123,1),data!A1125,\"\"))","v":""}]
[{"$nulls":22},{"$f":"IF(data!A1126=\"\",\"\",IF(data!E1126=SMALL(data!E1126:'data'!E11124,1),data!A1126,\"\"))","v":""}]
[{"$nulls":22},{"$f":"IF(data!A1127=\"\",\"\",IF(data!E1127=SMALL(data!E1127:'data'!E11125,1),data!A1127,\"\"))","v":""}]
[{"$nulls":22},{"$f":"IF(data!A1128=\"\",\"\",IF(data!E1128=SMALL(data!E1128:'data'!E11126,1),data!A1128,\"\"))","v":""}]
[{"$nulls":22},{"$f":"IF(data!A1129=\"\",\"\",IF(data!E1129=SMALL(data!E1129:'data'!E11127,1),data!A1129,\"\"))","v":""}]
[{"$nulls":22},{"$f":"IF(data!A1130=\"\",\"\",IF(data!E1130=SMALL(data!E1130:'data'!E11128,1),data!A1130,\"\"))","v":""}]
[{"$nulls":22},{"$f":"IF(data!A1131=\"\",\"\",IF(data!E1131=SMALL(data!E1131:'data'!E11129,1),data!A1131,\"\"))","v":""}]
[{"$nulls":22},{"$f":"IF(data!A1132=\"\",\"\",IF(data!E1132=SMALL(data!E1132:'data'!E11130,1),data!A1132,\"\"))","v":""}]
[{"$nulls":22},{"$f":"IF(data!A1133=\"\",\"\",IF(data!E1133=SMALL(data!E1133:'data'!E11131,1),data!A1133,\"\"))","v":""}]
[{"$nulls":22},{"$f":"IF(data!A1134=\"\",\"\",IF(data!E1134=SMALL(data!E1134:'data'!E11132,1),data!A1134,\"\"))","v":""}]
[{"$nulls":22},{"$f":"IF(data!A1135=\"\",\"\",IF(data!E1135=SMALL(data!E1135:'data'!E11133,1),data!A1135,\"\"))","v":""}]
[{"$nulls":22},{"$f":"IF(data!A1136=\"\",\"\",IF(data!E1136=SMALL(data!E1136:'data'!E11134,1),data!A1136,\"\"))","v":""}]
[{"$nulls":22},{"$f":"IF(data!A1137=\"\",\"\",IF(data!E1137=SMALL(data!E1137:'data'!E11135,1),data!A1137,\"\"))","v":""}]
[{"$nulls":22},{"$f":"IF(data!A1138=\"\",\"\",IF(data!E1138=SMALL(data!E1138:'data'!E11136,1),data!A1138,\"\"))","v":""}]
[{"$nulls":22},{"$f":"IF(data!A1139=\"\",\"\",IF(data!E1139=SMALL(data!E1139:'data'!E11137,1),data!A1139,\"\"))","v":""}]
[{"$nulls":22},{"$f":"IF(data!A1140=\"\",\"\",IF(data!E1140=SMALL(data!E1140:'data'!E11138,1),data!A1140,\"\"))","v":""}]
[{"$nulls":22},{"$f":"IF(data!A1141=\"\",\"\",IF(data!E1141=SMALL(data!E1141:'data'!E11139,1),data!A1141,\"\"))","v":""}]
[{"$nulls":22},{"$f":"IF(data!A1142=\"\",\"\",IF(data!E1142=SMALL(data!E1142:'data'!E11140,1),data!A1142,\"\"))","v":""}]
[{"$nulls":22},{"$f":"IF(data!A1143=\"\",\"\",IF(data!E1143=SMALL(data!E1143:'data'!E11141,1),data!A1143,\"\"))","v":""}]
[{"$nulls":22},{"$f":"IF(data!A1144=\"\",\"\",IF(data!E1144=SMALL(data!E1144:'data'!E11142,1),data!A1144,\"\"))","v":""}]
[{"$nulls":22},{"$f":"IF(data!A1145=\"\",\"\",IF(data!E1145=SMALL(data!E1145:'data'!E11143,1),data!A1145,\"\"))","v":""}]
[{"$nulls":22},{"$f":"IF(data!A1146=\"\",\"\",IF(data!E1146=SMALL(data!E1146:'data'!E11144,1),data!A1146,\"\"))","v":""}]
[{"$nulls":22},{"$f":"IF(data!A1147=\"\",\"\",IF(data!E1147=SMALL(data!E1147:'data'!E11145,1),data!A1147,\"\"))","v":""}]
[{"$nulls":22},{"$f":"IF(data!A1148=\"\",\"\",IF(data!E1148=SMALL(data!E1148:'data'!E11146,1),data!A1148,\"\"))","v":""}]
[{"$nulls":22},{"$f":"IF(data!A1149=\"\",\"\",IF(data!E1149=SMALL(data!E1149:'data'!E11147,1),data!A1149,\"\"))","v":""}]
[{"$nulls":22},{"$f":"IF(data!A1150=\"\",\"\",IF(data!E1150=SMALL(data!E1150:'data'!E11148,1),data!A1150,\"\"))","v":""}]
[{"$nulls":22},{"$f":"IF(data!A1151=\"\",\"\",IF(data!E1151=SMALL(data!E1151:'data'!E11149,1),data!A1151,\"\"))","v":""}]
[{"$nulls":22},{"$f":"IF(data!A1152=\"\",\"\",IF(data!E1152=SMALL(data!E1152:'data'!E11150,1),data!A1152,\"\"))","v":""}]
[{"$nulls":22},{"$f":"IF(data!A1153=\"\",\"\",IF(data!E1153=SMALL(data!E1153:'data'!E11151,1),data!A1153,\"\"))","v":""}]
[{"$nulls":22},{"$f":"IF(data!A1154=\"\",\"\",IF(data!E1154=SMALL(data!E1154:'data'!E11152,1),data!A1154,\"\"))","v":""}]
[{"$nulls":22},{"$f":"IF(data!A1155=\"\",\"\",IF(data!E1155=SMALL(data!E1155:'data'!E11153,1),data!A1155,\"\"))","v":""}]
[{"$nulls":22},{"$f":"IF(data!A1156=\"\",\"\",IF(data!E1156=SMALL(data!E1156:'data'!E11154,1),data!A1156,\"\"))","v":""}]
[{"$nulls":22},{"$f":"IF(data!A1157=\"\",\"\",IF(data!E1157=SMALL(data!E1157:'data'!E11155,1),data!A1157,\"\"))","v":""}]
[{"$nulls":22},{"$f":"IF(data!A1158=\"\",\"\",IF(data!E1158=SMALL(data!E1158:'data'!E11156,1),data!A1158,\"\"))","v":""}]
[{"$nulls":22},{"$f":"IF(data!A1159=\"\",\"\",IF(data!E1159=SMALL(data!E1159:'data'!E11157,1),data!A1159,\"\"))","v":""}]
[{"$nulls":22},{"$f":"IF(data!A1160=\"\",\"\",IF(data!E1160=SMALL(data!E1160:'data'!E11158,1),data!A1160,\"\"))","v":""}]
[{"$nulls":22},{"$f":"IF(data!A1161=\"\",\"\",IF(data!E1161=SMALL(data!E1161:'data'!E11159,1),data!A1161,\"\"))","v":""}]
[{"$nulls":22},{"$f":"IF(data!A1162=\"\",\"\",IF(data!E1162=SMALL(data!E1162:'data'!E11160,1),data!A1162,\"\"))","v":""}]
[{"$nulls":22},{"$f":"IF(data!A1163=\"\",\"\",IF(data!E1163=SMALL(data!E1163:'data'!E11161,1),data!A1163,\"\"))","v":""}]
[{"$nulls":22},{"$f":"IF(data!A1164=\"\",\"\",IF(data!E1164=SMALL(data!E1164:'data'!E11162,1),data!A1164,\"\"))","v":""}]
[{"$nulls":22},{"$f":"IF(data!A1165=\"\",\"\",IF(data!E1165=SMALL(data!E1165:'data'!E11163,1),data!A1165,\"\"))","v":""}]
[{"$nulls":22},{"$f":"IF(data!A1166=\"\",\"\",IF(data!E1166=SMALL(data!E1166:'data'!E11164,1),data!A1166,\"\"))","v":""}]
[{"$nulls":22},{"$f":"IF(data!A1167=\"\",\"\",IF(data!E1167=SMALL(data!E1167:'data'!E11165,1),data!A1167,\"\"))","v":""}]
[{"$nulls":22},{"$f":"IF(data!A1168=\"\",\"\",IF(data!E1168=SMALL(data!E1168:'data'!E11166,1),data!A1168,\"\"))","v":""}]
[{"$nulls":22},{"$f":"IF(data!A1169=\"\",\"\",IF(data!E1169=SMALL(data!E1169:'data'!E11167,1),data!A1169,\"\"))","v":""}]
[{"$nulls":22},{"$f":"IF(data!A1170=\"\",\"\",IF(data!E1170=SMALL(data!E1170:'data'!E11168,1),data!A1170,\"\"))","v":""}]
[{"$nulls":22},{"$f":"IF(data!A1171=\"\",\"\",IF(data!E1171=SMALL(data!E1171:'data'!E11169,1),data!A1171,\"\"))","v":""}]
[{"$nulls":22},{"$f":"IF(data!A1172=\"\",\"\",IF(data!E1172=SMALL(data!E1172:'data'!E11170,1),data!A1172,\"\"))","v":""}]
[{"$nulls":22},{"$f":"IF(data!A1173=\"\",\"\",IF(data!E1173=SMALL(data!E1173:'data'!E11171,1),data!A1173,\"\"))","v":""}]
[{"$nulls":22},{"$f":"IF(data!A1174=\"\",\"\",IF(data!E1174=SMALL(data!E1174:'data'!E11172,1),data!A1174,\"\"))","v":""}]
[{"$nulls":22},{"$f":"IF(data!A1175=\"\",\"\",IF(data!E1175=SMALL(data!E1175:'data'!E11173,1),data!A1175,\"\"))","v":""}]
[{"$nulls":22},{"$f":"IF(data!A1176=\"\",\"\",IF(data!E1176=SMALL(data!E1176:'data'!E11174,1),data!A1176,\"\"))","v":""}]
[{"$nulls":22},{"$f":"IF(data!A1177=\"\",\"\",IF(data!E1177=SMALL(data!E1177:'data'!E11175,1),data!A1177,\"\"))","v":""}]
[{"$nulls":22},{"$f":"IF(data!A1178=\"\",\"\",IF(data!E1178=SMALL(data!E1178:'data'!E11176,1),data!A1178,\"\"))","v":""}]
[{"$nulls":22},{"$f":"IF(data!A1179=\"\",\"\",IF(data!E1179=SMALL(data!E1179:'data'!E11177,1),data!A1179,\"\"))","v":""}]
[{"$nulls":22},{"$f":"IF(data!A1180=\"\",\"\",IF(data!E1180=SMALL(data!E1180:'data'!E11178,1),data!A1180,\"\"))","v":""}]
[{"$nulls":22},{"$f":"IF(data!A1181=\"\",\"\",IF(data!E1181=SMALL(data!E1181:'data'!E11179,1),data!A1181,\"\"))","v":""}]
[{"$nulls":22},{"$f":"IF(data!A1182=\"\",\"\",IF(data!E1182=SMALL(data!E1182:'data'!E11180,1),data!A1182,\"\"))","v":""}]
[{"$nulls":22},{"$f":"IF(data!A1183=\"\",\"\",IF(data!E1183=SMALL(data!E1183:'data'!E11181,1),data!A1183,\"\"))","v":""}]
[{"$nulls":22},{"$f":"IF(data!A1184=\"\",\"\",IF(data!E1184=SMALL(data!E1184:'data'!E11182,1),data!A1184,\"\"))","v":""}]
[{"$nulls":22},{"$f":"IF(data!A1185=\"\",\"\",IF(data!E1185=SMALL(data!E1185:'data'!E11183,1),data!A1185,\"\"))","v":""}]
[{"$nulls":22},{"$f":"IF(data!A1186=\"\",\"\",IF(data!E1186=SMALL(data!E1186:'data'!E11184,1),data!A1186,\"\"))","v":""}]
[{"$nulls":22},{"$f":"IF(data!A1187=\"\",\"\",IF(data!E1187=SMALL(data!E1187:'data'!E11185,1),data!A1187,\"\"))","v":""}]
[{"$nulls":22},{"$f":"IF(data!A1188=\"\",\"\",IF(data!E1188=SMALL(data!E1188:'data'!E11186,1),data!A1188,\"\"))","v":""}]
[{"$nulls":22},{"$f":"IF(data!A1189=\"\",\"\",IF(data!E1189=SMALL(data!E1189:'data'!E11187,1),data!A1189,\"\"))","v":""}]
[{"$nulls":22},{"$f":"IF(data!A1190=\"\",\"\",IF(data!E1190=SMALL(data!E1190:'data'!E11188,1),data!A1190,\"\"))","v":""}]
[{"$nulls":22},{"$f":"IF(data!A1191=\"\",\"\",IF(data!E1191=SMALL(data!E1191:'data'!E11189,1),data!A1191,\"\"))","v":""}]
[{"$nulls":22},{"$f":"IF(data!A1192=\"\",\"\",IF(data!E1192=SMALL(data!E1192:'data'!E11190,1),data!A1192,\"\"))","v":""}]
[{"$nulls":22},{"$f":"IF(data!A1193=\"\",\"\",IF(data!E1193=SMALL(data!E1193:'data'!E11191,1),data!A1193,\"\"))","v":""}]
[{"$nulls":22},{"$f":"IF(data!A1194=\"\",\"\",IF(data!E1194=SMALL(data!E1194:'data'!E11192,1),data!A1194,\"\"))","v":""}]
[{"$nulls":22},{"$f":"IF(data!A1195=\"\",\"\",IF(data!E1195=SMALL(data!E1195:'data'!E11193,1),data!A1195,\"\"))","v":""}]
[{"$nulls":22},{"$f":"IF(data!A1196=\"\",\"\",IF(data!E1196=SMALL(data!E1196:'data'!E11194,1),data!A1196,\"\"))","v":""}]
[{"$nulls":22},{"$f":"IF(data!A1197=\"\",\"\",IF(data!E1197=SMALL(data!E1197:'data'!E11195,1),data!A1197,\"\"))","v":""}]
[{"$nulls":22},{"$f":"IF(data!A1198=\"\",\"\",IF(data!E1198=SMALL(data!E1198:'data'!E11196,1),data!A1198,\"\"))","v":""}]
[{"$nulls":22},{"$f":"IF(data!A1199=\"\",\"\",IF(data!E1199=SMALL(data!E1199:'data'!E11197,1),data!A1199,\"\"))","v":""}]
[{"$nulls":22},{"$f":"IF(data!A1200=\"\",\"\",IF(data!E1200=SMALL(data!E1200:'data'!E11198,1),data!A1200,\"\"))","v":""}]
[{"$nulls":22},{"$f":"IF(data!A1201=\"\",\"\",IF(data!E1201=SMALL(data!E1201:'data'!E11199,1),data!A1201,\"\"))","v":""}]
[{"$nulls":22},{"$f":"IF(data!A1202=\"\",\"\",IF(data!E1202=SMALL(data!E1202:'data'!E11200,1),data!A1202,\"\"))","v":""}]
[{"$nulls":22},{"$f":"IF(data!A1203=\"\",\"\",IF(data!E1203=SMALL(data!E1203:'data'!E11201,1),data!A1203,\"\"))","v":""}]
[{"$nulls":22},{"$f":"IF(data!A1204=\"\",\"\",IF(data!E1204=SMALL(data!E1204:'data'!E11202,1),data!A1204,\"\"))","v":""}]
[{"$nulls":22},{"$f":"IF(data!A1205=\"\",\"\",IF(data!E1205=SMALL(data!E1205:'data'!E11203,1),data!A1205,\"\"))","v":""}]
[{"$nulls":22},{"$f":"IF(data!A1206=\"\",\"\",IF(data!E1206=SMALL(data!E1206:'data'!E11204,1),data!A1206,\"\"))","v":""}]
[{"$nulls":22},{"$f":"IF(data!A1207=\"\",\"\",IF(data!E1207=SMALL(data!E1207:'data'!E11205,1),data!A1207,\"\"))","v":""}]
[{"$nulls":22},{"$f":"IF(data!A1208=\"\",\"\",IF(data!E1208=SMALL(data!E1208:'data'!E11206,1),data!A1208,\"\"))","v":""}]
[{"$nulls":22},{"$f":"IF(data!A1209=\"\",\"\",IF(data!E1209=SMALL(data!E1209:'data'!E11207,1),data!A1209,\"\"))","v":""}]
[{"$nulls":22},{"$f":"IF(data!A1210=\"\",\"\",IF(data!E1210=SMALL(data!E1210:'data'!E11208,1),data!A1210,\"\"))","v":""}]
[{"$nulls":22},{"$f":"IF(data!A1211=\"\",\"\",IF(data!E1211=SMALL(data!E1211:'data'!E11209,1),data!A1211,\"\"))","v":""}]
[{"$nulls":22},{"$f":"IF(data!A1212=\"\",\"\",IF(data!E1212=SMALL(data!E1212:'data'!E11210,1),data!A1212,\"\"))","v":""}]
[{"$nulls":22},{"$f":"IF(data!A1213=\"\",\"\",IF(data!E1213=SMALL(data!E1213:'data'!E11211,1),data!A1213,\"\"))","v":""}]
[{"$nulls":22},{"$f":"IF(data!A1214=\"\",\"\",IF(data!E1214=SMALL(data!E1214:'data'!E11212,1),data!A1214,\"\"))","v":""}]
[{"$nulls":22},{"$f":"IF(data!A1215=\"\",\"\",IF(data!E1215=SMALL(data!E1215:'data'!E11213,1),data!A1215,\"\"))","v":""}]
[{"$nulls":22},{"$f":"IF(data!A1216=\"\",\"\",IF(data!E1216=SMALL(data!E1216:'data'!E11214,1),data!A1216,\"\"))","v":""}]
[{"$nulls":22},{"$f":"IF(data!A1217=\"\",\"\",IF(data!E1217=SMALL(data!E1217:'data'!E11215,1),data!A1217,\"\"))","v":""}]
[{"$nulls":22},{"$f":"IF(data!A1218=\"\",\"\",IF(data!E1218=SMALL(data!E1218:'data'!E11216,1),data!A1218,\"\"))","v":""}]
[{"$nulls":22},{"$f":"IF(data!A1219=\"\",\"\",IF(data!E1219=SMALL(data!E1219:'data'!E11217,1),data!A1219,\"\"))","v":""}]
[{"$nulls":22},{"$f":"IF(data!A1220=\"\",\"\",IF(data!E1220=SMALL(data!E1220:'data'!E11218,1),data!A1220,\"\"))","v":""}]
[{"$nulls":22},{"$f":"IF(data!A1221=\"\",\"\",IF(data!E1221=SMALL(data!E1221:'data'!E11219,1),data!A1221,\"\"))","v":""}]
[{"$nulls":22},{"$f":"IF(data!A1222=\"\",\"\",IF(data!E1222=SMALL(data!E1222:'data'!E11220,1),data!A1222,\"\"))","v":""}]
[{"$nulls":22},{"$f":"IF(data!A1223=\"\",\"\",IF(data!E1223=SMALL(data!E1223:'data'!E11221,1),data!A1223,\"\"))","v":""}]
[{"$nulls":22},{"$f":"IF(data!A1224=\"\",\"\",IF(data!E1224=SMALL(data!E1224:'data'!E11222,1),data!A1224,\"\"))","v":""}]
[{"$nulls":22},{"$f":"IF(data!A1225=\"\",\"\",IF(data!E1225=SMALL(data!E1225:'data'!E11223,1),data!A1225,\"\"))","v":""}]
[{"$nulls":22},{"$f":"IF(data!A1226=\"\",\"\",IF(data!E1226=SMALL(data!E1226:'data'!E11224,1),data!A1226,\"\"))","v":""}]
[{"$nulls":22},{"$f":"IF(data!A1227=\"\",\"\",IF(data!E1227=SMALL(data!E1227:'data'!E11225,1),data!A1227,\"\"))","v":""}]
[{"$nulls":22},{"$f":"IF(data!A1228=\"\",\"\",IF(data!E1228=SMALL(data!E1228:'data'!E11226,1),data!A1228,\"\"))","v":""}]
[{"$nulls":22},{"$f":"IF(data!A1229=\"\",\"\",IF(data!E1229=SMALL(data!E1229:'data'!E11227,1),data!A1229,\"\"))","v":""}]
[{"$nulls":22},{"$f":"IF(data!A1230=\"\",\"\",IF(data!E1230=SMALL(data!E1230:'data'!E11228,1),data!A1230,\"\"))","v":""}]
[{"$nulls":22},{"$f":"IF(data!A1231=\"\",\"\",IF(data!E1231=SMALL(data!E1231:'data'!E11229,1),data!A1231,\"\"))","v":""}]
[{"$nulls":22},{"$f":"IF(data!A1232=\"\",\"\",IF(data!E1232=SMALL(data!E1232:'data'!E11230,1),data!A1232,\"\"))","v":""}]
[{"$nulls":22},{"$f":"IF(data!A1233=\"\",\"\",IF(data!E1233=SMALL(data!E1233:'data'!E11231,1),data!A1233,\"\"))","v":""}]
[{"$nulls":22},{"$f":"IF(data!A1234=\"\",\"\",IF(data!E1234=SMALL(data!E1234:'data'!E11232,1),data!A1234,\"\"))","v":""}]
[{"$nulls":22},{"$f":"IF(data!A1235=\"\",\"\",IF(data!E1235=SMALL(data!E1235:'data'!E11233,1),data!A1235,\"\"))","v":""}]
[{"$nulls":22},{"$f":"IF(data!A1236=\"\",\"\",IF(data!E1236=SMALL(data!E1236:'data'!E11234,1),data!A1236,\"\"))","v":""}]
[{"$nulls":22},{"$f":"IF(data!A1237=\"\",\"\",IF(data!E1237=SMALL(data!E1237:'data'!E11235,1),data!A1237,\"\"))","v":""}]
[{"$nulls":22},{"$f":"IF(data!A1238=\"\",\"\",IF(data!E1238=SMALL(data!E1238:'data'!E11236,1),data!A1238,\"\"))","v":""}]
[{"$nulls":22},{"$f":"IF(data!A1239=\"\",\"\",IF(data!E1239=SMALL(data!E1239:'data'!E11237,1),data!A1239,\"\"))","v":""}]
[{"$nulls":22},{"$f":"IF(data!A1240=\"\",\"\",IF(data!E1240=SMALL(data!E1240:'data'!E11238,1),data!A1240,\"\"))","v":""}]
[{"$nulls":22},{"$f":"IF(data!A1241=\"\",\"\",IF(data!E1241=SMALL(data!E1241:'data'!E11239,1),data!A1241,\"\"))","v":""}]
[{"$nulls":22},{"$f":"IF(data!A1242=\"\",\"\",IF(data!E1242=SMALL(data!E1242:'data'!E11240,1),data!A1242,\"\"))","v":""}]
[{"$nulls":22},{"$f":"IF(data!A1243=\"\",\"\",IF(data!E1243=SMALL(data!E1243:'data'!E11241,1),data!A1243,\"\"))","v":""}]
[{"$nulls":22},{"$f":"IF(data!A1244=\"\",\"\",IF(data!E1244=SMALL(data!E1244:'data'!E11242,1),data!A1244,\"\"))","v":""}]
[{"$nulls":22},{"$f":"IF(data!A1245=\"\",\"\",IF(data!E1245=SMALL(data!E1245:'data'!E11243,1),data!A1245,\"\"))","v":""}]
[{"$nulls":22},{"$f":"IF(data!A1246=\"\",\"\",IF(data!E1246=SMALL(data!E1246:'data'!E11244,1),data!A1246,\"\"))","v":""}]
[{"$nulls":22},{"$f":"IF(data!A1247=\"\",\"\",IF(data!E1247=SMALL(data!E1247:'data'!E11245,1),data!A1247,\"\"))","v":""}]
[{"$nulls":22},{"$f":"IF(data!A1248=\"\",\"\",IF(data!E1248=SMALL(data!E1248:'data'!E11246,1),data!A1248,\"\"))","v":""}]
[{"$nulls":22},{"$f":"IF(data!A1249=\"\",\"\",IF(data!E1249=SMALL(data!E1249:'data'!E11247,1),data!A1249,\"\"))","v":""}]
[{"$nulls":22},{"$f":"IF(data!A1250=\"\",\"\",IF(data!E1250=SMALL(data!E1250:'data'!E11248,1),data!A1250,\"\"))","v":""}]
[{"$nulls":22},{"$f":"IF(data!A1251=\"\",\"\",IF(data!E1251=SMALL(data!E1251:'data'!E11249,1),data!A1251,\"\"))","v":""}]
[{"$nulls":22},{"$f":"IF(data!A1252=\"\",\"\",IF(data!E1252=SMALL(data!E1252:'data'!E11250,1),data!A1252,\"\"))","v":""}]
[{"$nulls":22},{"$f":"IF(data!A1253=\"\",\"\",IF(data!E1253=SMALL(data!E1253:'data'!E11251,1),data!A1253,\"\"))","v":""}]
[{"$nulls":22},{"$f":"IF(data!A1254=\"\",\"\",IF(data!E1254=SMALL(data!E1254:'data'!E11252,1),data!A1254,\"\"))","v":""}]
[{"$nulls":22},{"$f":"IF(data!A1255=\"\",\"\",IF(data!E1255=SMALL(data!E1255:'data'!E11253,1),data!A1255,\"\"))","v":""}]
[{"$nulls":22},{"$f":"IF(data!A1256=\"\",\"\",IF(data!E1256=SMALL(data!E1256:'data'!E11254,1),data!A1256,\"\"))","v":""}]
[{"$nulls":22},{"$f":"IF(data!A1257=\"\",\"\",IF(data!E1257=SMALL(data!E1257:'data'!E11255,1),data!A1257,\"\"))","v":""}]
[{"$nulls":22},{"$f":"IF(data!A1258=\"\",\"\",IF(data!E1258=SMALL(data!E1258:'data'!E11256,1),data!A1258,\"\"))","v":""}]
[{"$nulls":22},{"$f":"IF(data!A1259=\"\",\"\",IF(data!E1259=SMALL(data!E1259:'data'!E11257,1),data!A1259,\"\"))","v":""}]
[{"$nulls":22},{"$f":"IF(data!A1260=\"\",\"\",IF(data!E1260=SMALL(data!E1260:'data'!E11258,1),data!A1260,\"\"))","v":""}]
[{"$nulls":22},{"$f":"IF(data!A1261=\"\",\"\",IF(data!E1261=SMALL(data!E1261:'data'!E11259,1),data!A1261,\"\"))","v":""}]
[{"$nulls":22},{"$f":"IF(data!A1262=\"\",\"\",IF(data!E1262=SMALL(data!E1262:'data'!E11260,1),data!A1262,\"\"))","v":""}]
[{"$nulls":22},{"$f":"IF(data!A1263=\"\",\"\",IF(data!E1263=SMALL(data!E1263:'data'!E11261,1),data!A1263,\"\"))","v":""}]
[{"$nulls":22},{"$f":"IF(data!A1264=\"\",\"\",IF(data!E1264=SMALL(data!E1264:'data'!E11262,1),data!A1264,\"\"))","v":""}]
[{"$nulls":22},{"$f":"IF(data!A1265=\"\",\"\",IF(data!E1265=SMALL(data!E1265:'data'!E11263,1),data!A1265,\"\"))","v":""}]
[{"$nulls":22},{"$f":"IF(data!A1266=\"\",\"\",IF(data!E1266=SMALL(data!E1266:'data'!E11264,1),data!A1266,\"\"))","v":""}]
[{"$nulls":22},{"$f":"IF(data!A1267=\"\",\"\",IF(data!E1267=SMALL(data!E1267:'data'!E11265,1),data!A1267,\"\"))","v":""}]
[{"$nulls":22},{"$f":"IF(data!A1268=\"\",\"\",IF(data!E1268=SMALL(data!E1268:'data'!E11266,1),data!A1268,\"\"))","v":""}]
[{"$nulls":22},{"$f":"IF(data!A1269=\"\",\"\",IF(data!E1269=SMALL(data!E1269:'data'!E11267,1),data!A1269,\"\"))","v":""}]
[{"$nulls":22},{"$f":"IF(data!A1270=\"\",\"\",IF(data!E1270=SMALL(data!E1270:'data'!E11268,1),data!A1270,\"\"))","v":""}]
[{"$nulls":22},{"$f":"IF(data!A1271=\"\",\"\",IF(data!E1271=SMALL(data!E1271:'data'!E11269,1),data!A1271,\"\"))","v":""}]
[{"$nulls":22},{"$f":"IF(data!A1272=\"\",\"\",IF(data!E1272=SMALL(data!E1272:'data'!E11270,1),data!A1272,\"\"))","v":""}]
[{"$nulls":22},{"$f":"IF(data!A1273=\"\",\"\",IF(data!E1273=SMALL(data!E1273:'data'!E11271,1),data!A1273,\"\"))","v":""}]
[{"$nulls":22},{"$f":"IF(data!A1274=\"\",\"\",IF(data!E1274=SMALL(data!E1274:'data'!E11272,1),data!A1274,\"\"))","v":""}]
[{"$nulls":22},{"$f":"IF(data!A1275=\"\",\"\",IF(data!E1275=SMALL(data!E1275:'data'!E11273,1),data!A1275,\"\"))","v":""}]
[{"$nulls":22},{"$f":"IF(data!A1276=\"\",\"\",IF(data!E1276=SMALL(data!E1276:'data'!E11274,1),data!A1276,\"\"))","v":""}]
[{"$nulls":22},{"$f":"IF(data!A1277=\"\",\"\",IF(data!E1277=SMALL(data!E1277:'data'!E11275,1),data!A1277,\"\"))","v":""}]
[{"$nulls":22},{"$f":"IF(data!A1278=\"\",\"\",IF(data!E1278=SMALL(data!E1278:'data'!E11276,1),data!A1278,\"\"))","v":""}]
[{"$nulls":22},{"$f":"IF(data!A1279=\"\",\"\",IF(data!E1279=SMALL(data!E1279:'data'!E11277,1),data!A1279,\"\"))","v":""}]
[{"$nulls":22},{"$f":"IF(data!A1280=\"\",\"\",IF(data!E1280=SMALL(data!E1280:'data'!E11278,1),data!A1280,\"\"))","v":""}]
[{"$nulls":22},{"$f":"IF(data!A1281=\"\",\"\",IF(data!E1281=SMALL(data!E1281:'data'!E11279,1),data!A1281,\"\"))","v":""}]
[{"$nulls":22},{"$f":"IF(data!A1282=\"\",\"\",IF(data!E1282=SMALL(data!E1282:'data'!E11280,1),data!A1282,\"\"))","v":""}]
[{"$nulls":22},{"$f":"IF(data!A1283=\"\",\"\",IF(data!E1283=SMALL(data!E1283:'data'!E11281,1),data!A1283,\"\"))","v":""}]
[{"$nulls":22},{"$f":"IF(data!A1284=\"\",\"\",IF(data!E1284=SMALL(data!E1284:'data'!E11282,1),data!A1284,\"\"))","v":""}]
[{"$nulls":22},{"$f":"IF(data!A1285=\"\",\"\",IF(data!E1285=SMALL(data!E1285:'data'!E11283,1),data!A1285,\"\"))","v":""}]
[{"$nulls":22},{"$f":"IF(data!A1286=\"\",\"\",IF(data!E1286=SMALL(data!E1286:'data'!E11284,1),data!A1286,\"\"))","v":""}]
[{"$nulls":22},{"$f":"IF(data!A1287=\"\",\"\",IF(data!E1287=SMALL(data!E1287:'data'!E11285,1),data!A1287,\"\"))","v":""}]
[{"$nulls":22},{"$f":"IF(data!A1288=\"\",\"\",IF(data!E1288=SMALL(data!E1288:'data'!E11286,1),data!A1288,\"\"))","v":""}]
[{"$nulls":22},{"$f":"IF(data!A1289=\"\",\"\",IF(data!E1289=SMALL(data!E1289:'data'!E11287,1),data!A1289,\"\"))","v":""}]
[{"$nulls":22},{"$f":"IF(data!A1290=\"\",\"\",IF(data!E1290=SMALL(data!E1290:'data'!E11288,1),data!A1290,\"\"))","v":""}]
[{"$nulls":22},{"$f":"IF(data!A1291=\"\",\"\",IF(data!E1291=SMALL(data!E1291:'data'!E11289,1),data!A1291,\"\"))","v":""}]
[{"$nulls":22},{"$f":"IF(data!A1292=\"\",\"\",IF(data!E1292=SMALL(data!E1292:'data'!E11290,1),data!A1292,\"\"))","v":""}]
[{"$nulls":22},{"$f":"IF(data!A1293=\"\",\"\",IF(data!E1293=SMALL(data!E1293:'data'!E11291,1),data!A1293,\"\"))","v":""}]
[{"$nulls":22},{"$f":"IF(data!A1294=\"\",\"\",IF(data!E1294=SMALL(data!E1294:'data'!E11292,1),data!A1294,\"\"))","v":""}]
[{"$nulls":22},{"$f":"IF(data!A1295=\"\",\"\",IF(data!E1295=SMALL(data!E1295:'data'!E11293,1),data!A1295,\"\"))","v":""}]
[{"$nulls":22},{"$f":"IF(data!A1296=\"\",\"\",IF(data!E1296=SMALL(data!E1296:'data'!E11294,1),data!A1296,\"\"))","v":""}]
[{"$nulls":22},{"$f":"IF(data!A1297=\"\",\"\",IF(data!E1297=SMALL(data!E1297:'data'!E11295,1),data!A1297,\"\"))","v":""}]
[{"$nulls":22},{"$f":"IF(data!A1298=\"\",\"\",IF(data!E1298=SMALL(data!E1298:'data'!E11296,1),data!A1298,\"\"))","v":""}]
[{"$nulls":22},{"$f":"IF(data!A1299=\"\",\"\",IF(data!E1299=SMALL(data!E1299:'data'!E11297,1),data!A1299,\"\"))","v":""}]
[{"$nulls":22},{"$f":"IF(data!A1300=\"\",\"\",IF(data!E1300=SMALL(data!E1300:'data'!E11298,1),data!A1300,\"\"))","v":""}]
[{"$nulls":22},{"$f":"IF(data!A1301=\"\",\"\",IF(data!E1301=SMALL(data!E1301:'data'!E11299,1),data!A1301,\"\"))","v":""}]
[{"$nulls":22},{"$f":"IF(data!A1302=\"\",\"\",IF(data!E1302=SMALL(data!E1302:'data'!E11300,1),data!A1302,\"\"))","v":""}]
[{"$nulls":22},{"$f":"IF(data!A1303=\"\",\"\",IF(data!E1303=SMALL(data!E1303:'data'!E11301,1),data!A1303,\"\"))","v":""}]
[{"$nulls":22},{"$f":"IF(data!A1304=\"\",\"\",IF(data!E1304=SMALL(data!E1304:'data'!E11302,1),data!A1304,\"\"))","v":""}]
[{"$nulls":22},{"$f":"IF(data!A1305=\"\",\"\",IF(data!E1305=SMALL(data!E1305:'data'!E11303,1),data!A1305,\"\"))","v":""}]
[{"$nulls":22},{"$f":"IF(data!A1306=\"\",\"\",IF(data!E1306=SMALL(data!E1306:'data'!E11304,1),data!A1306,\"\"))","v":""}]
[{"$nulls":22},{"$f":"IF(data!A1307=\"\",\"\",IF(data!E1307=SMALL(data!E1307:'data'!E11305,1),data!A1307,\"\"))","v":""}]
[{"$nulls":22},{"$f":"IF(data!A1308=\"\",\"\",IF(data!E1308=SMALL(data!E1308:'data'!E11306,1),data!A1308,\"\"))","v":""}]
[{"$nulls":22},{"$f":"IF(data!A1309=\"\",\"\",IF(data!E1309=SMALL(data!E1309:'data'!E11307,1),data!A1309,\"\"))","v":""}]
[{"$nulls":22},{"$f":"IF(data!A1310=\"\",\"\",IF(data!E1310=SMALL(data!E1310:'data'!E11308,1),data!A1310,\"\"))","v":""}]
[{"$nulls":22},{"$f":"IF(data!A1311=\"\",\"\",IF(data!E1311=SMALL(data!E1311:'data'!E11309,1),data!A1311,\"\"))","v":""}]
[{"$nulls":22},{"$f":"IF(data!A1312=\"\",\"\",IF(data!E1312=SMALL(data!E1312:'data'!E11310,1),data!A1312,\"\"))","v":""}]
[{"$nulls":22},{"$f":"IF(data!A1313=\"\",\"\",IF(data!E1313=SMALL(data!E1313:'data'!E11311,1),data!A1313,\"\"))","v":""}]
[{"$nulls":22},{"$f":"IF(data!A1314=\"\",\"\",IF(data!E1314=SMALL(data!E1314:'data'!E11312,1),data!A1314,\"\"))","v":""}]
[{"$nulls":22},{"$f":"IF(data!A1315=\"\",\"\",IF(data!E1315=SMALL(data!E1315:'data'!E11313,1),data!A1315,\"\"))","v":""}]
[{"$nulls":22},{"$f":"IF(data!A1316=\"\",\"\",IF(data!E1316=SMALL(data!E1316:'data'!E11314,1),data!A1316,\"\"))","v":""}]
[{"$nulls":22},{"$f":"IF(data!A1317=\"\",\"\",IF(data!E1317=SMALL(data!E1317:'data'!E11315,1),data!A1317,\"\"))","v":""}]
[{"$nulls":22},{"$f":"IF(data!A1318=\"\",\"\",IF(data!E1318=SMALL(data!E1318:'data'!E11316,1),data!A1318,\"\"))","v":""}]
[{"$nulls":22},{"$f":"IF(data!A1319=\"\",\"\",IF(data!E1319=SMALL(data!E1319:'data'!E11317,1),data!A1319,\"\"))","v":""}]
[{"$nulls":22},{"$f":"IF(data!A1320=\"\",\"\",IF(data!E1320=SMALL(data!E1320:'data'!E11318,1),data!A1320,\"\"))","v":""}]
[{"$nulls":22},{"$f":"IF(data!A1321=\"\",\"\",IF(data!E1321=SMALL(data!E1321:'data'!E11319,1),data!A1321,\"\"))","v":""}]
[{"$nulls":22},{"$f":"IF(data!A1322=\"\",\"\",IF(data!E1322=SMALL(data!E1322:'data'!E11320,1),data!A1322,\"\"))","v":""}]
[{"$nulls":22},{"$f":"IF(data!A1323=\"\",\"\",IF(data!E1323=SMALL(data!E1323:'data'!E11321,1),data!A1323,\"\"))","v":""}]
[{"$nulls":22},{"$f":"IF(data!A1324=\"\",\"\",IF(data!E1324=SMALL(data!E1324:'data'!E11322,1),data!A1324,\"\"))","v":""}]
[{"$nulls":22},{"$f":"IF(data!A1325=\"\",\"\",IF(data!E1325=SMALL(data!E1325:'data'!E11323,1),data!A1325,\"\"))","v":""}]
[{"$nulls":22},{"$f":"IF(data!A1326=\"\",\"\",IF(data!E1326=SMALL(data!E1326:'data'!E11324,1),data!A1326,\"\"))","v":""}]
[{"$nulls":22},{"$f":"IF(data!A1327=\"\",\"\",IF(data!E1327=SMALL(data!E1327:'data'!E11325,1),data!A1327,\"\"))","v":""}]
[{"$nulls":22},{"$f":"IF(data!A1328=\"\",\"\",IF(data!E1328=SMALL(data!E1328:'data'!E11326,1),data!A1328,\"\"))","v":""}]
[{"$nulls":22},{"$f":"IF(data!A1329=\"\",\"\",IF(data!E1329=SMALL(data!E1329:'data'!E11327,1),data!A1329,\"\"))","v":""}]
[{"$nulls":22},{"$f":"IF(data!A1330=\"\",\"\",IF(data!E1330=SMALL(data!E1330:'data'!E11328,1),data!A1330,\"\"))","v":""}]
[{"$nulls":22},{"$f":"IF(data!A1331=\"\",\"\",IF(data!E1331=SMALL(data!E1331:'data'!E11329,1),data!A1331,\"\"))","v":""}]
[{"$nulls":22},{"$f":"IF(data!A1332=\"\",\"\",IF(data!E1332=SMALL(data!E1332:'data'!E11330,1),data!A1332,\"\"))","v":""}]
[{"$nulls":22},{"$f":"IF(data!A1333=\"\",\"\",IF(data!E1333=SMALL(data!E1333:'data'!E11331,1),data!A1333,\"\"))","v":""}]
[{"$nulls":22},{"$f":"IF(data!A1334=\"\",\"\",IF(data!E1334=SMALL(data!E1334:'data'!E11332,1),data!A1334,\"\"))","v":""}]
[{"$nulls":22},{"$f":"IF(data!A1335=\"\",\"\",IF(data!E1335=SMALL(data!E1335:'data'!E11333,1),data!A1335,\"\"))","v":""}]
[{"$nulls":22},{"$f":"IF(data!A1336=\"\",\"\",IF(data!E1336=SMALL(data!E1336:'data'!E11334,1),data!A1336,\"\"))","v":""}]
[{"$nulls":22},{"$f":"IF(data!A1337=\"\",\"\",IF(data!E1337=SMALL(data!E1337:'data'!E11335,1),data!A1337,\"\"))","v":""}]
[{"$nulls":22},{"$f":"IF(data!A1338=\"\",\"\",IF(data!E1338=SMALL(data!E1338:'data'!E11336,1),data!A1338,\"\"))","v":""}]
[{"$nulls":22},{"$f":"IF(data!A1339=\"\",\"\",IF(data!E1339=SMALL(data!E1339:'data'!E11337,1),data!A1339,\"\"))","v":""}]
[{"$nulls":22},{"$f":"IF(data!A1340=\"\",\"\",IF(data!E1340=SMALL(data!E1340:'data'!E11338,1),data!A1340,\"\"))","v":""}]
[{"$nulls":22},{"$f":"IF(data!A1341=\"\",\"\",IF(data!E1341=SMALL(data!E1341:'data'!E11339,1),data!A1341,\"\"))","v":""}]
[{"$nulls":22},{"$f":"IF(data!A1342=\"\",\"\",IF(data!E1342=SMALL(data!E1342:'data'!E11340,1),data!A1342,\"\"))","v":""}]
[{"$nulls":22},{"$f":"IF(data!A1343=\"\",\"\",IF(data!E1343=SMALL(data!E1343:'data'!E11341,1),data!A1343,\"\"))","v":""}]
[{"$nulls":22},{"$f":"IF(data!A1344=\"\",\"\",IF(data!E1344=SMALL(data!E1344:'data'!E11342,1),data!A1344,\"\"))","v":""}]
[{"$nulls":22},{"$f":"IF(data!A1345=\"\",\"\",IF(data!E1345=SMALL(data!E1345:'data'!E11343,1),data!A1345,\"\"))","v":""}]
[{"$nulls":22},{"$f":"IF(data!A1346=\"\",\"\",IF(data!E1346=SMALL(data!E1346:'data'!E11344,1),data!A1346,\"\"))","v":""}]
[{"$nulls":22},{"$f":"IF(data!A1347=\"\",\"\",IF(data!E1347=SMALL(data!E1347:'data'!E11345,1),data!A1347,\"\"))","v":""}]
[{"$nulls":22},{"$f":"IF(data!A1348=\"\",\"\",IF(data!E1348=SMALL(data!E1348:'data'!E11346,1),data!A1348,\"\"))","v":""}]
[{"$nulls":22},{"$f":"IF(data!A1349=\"\",\"\",IF(data!E1349=SMALL(data!E1349:'data'!E11347,1),data!A1349,\"\"))","v":""}]
[{"$nulls":22},{"$f":"IF(data!A1350=\"\",\"\",IF(data!E1350=SMALL(data!E1350:'data'!E11348,1),data!A1350,\"\"))","v":""}]
[{"$nulls":22},{"$f":"IF(data!A1351=\"\",\"\",IF(data!E1351=SMALL(data!E1351:'data'!E11349,1),data!A1351,\"\"))","v":""}]
[{"$nulls":22},{"$f":"IF(data!A1352=\"\",\"\",IF(data!E1352=SMALL(data!E1352:'data'!E11350,1),data!A1352,\"\"))","v":""}]
[{"$nulls":22},{"$f":"IF(data!A1353=\"\",\"\",IF(data!E1353=SMALL(data!E1353:'data'!E11351,1),data!A1353,\"\"))","v":""}]
[{"$nulls":22},{"$f":"IF(data!A1354=\"\",\"\",IF(data!E1354=SMALL(data!E1354:'data'!E11352,1),data!A1354,\"\"))","v":""}]
[{"$nulls":22},{"$f":"IF(data!A1355=\"\",\"\",IF(data!E1355=SMALL(data!E1355:'data'!E11353,1),data!A1355,\"\"))","v":""}]
[{"$nulls":22},{"$f":"IF(data!A1356=\"\",\"\",IF(data!E1356=SMALL(data!E1356:'data'!E11354,1),data!A1356,\"\"))","v":""}]
[{"$nulls":22},{"$f":"IF(data!A1357=\"\",\"\",IF(data!E1357=SMALL(data!E1357:'data'!E11355,1),data!A1357,\"\"))","v":""}]
[{"$nulls":22},{"$f":"IF(data!A1358=\"\",\"\",IF(data!E1358=SMALL(data!E1358:'data'!E11356,1),data!A1358,\"\"))","v":""}]
[{"$nulls":22},{"$f":"IF(data!A1359=\"\",\"\",IF(data!E1359=SMALL(data!E1359:'data'!E11357,1),data!A1359,\"\"))","v":""}]
[{"$nulls":22},{"$f":"IF(data!A1360=\"\",\"\",IF(data!E1360=SMALL(data!E1360:'data'!E11358,1),data!A1360,\"\"))","v":""}]
[{"$nulls":22},{"$f":"IF(data!A1361=\"\",\"\",IF(data!E1361=SMALL(data!E1361:'data'!E11359,1),data!A1361,\"\"))","v":""}]
[{"$nulls":22},{"$f":"IF(data!A1362=\"\",\"\",IF(data!E1362=SMALL(data!E1362:'data'!E11360,1),data!A1362,\"\"))","v":""}]
[{"$nulls":22},{"$f":"IF(data!A1363=\"\",\"\",IF(data!E1363=SMALL(data!E1363:'data'!E11361,1),data!A1363,\"\"))","v":""}]
[{"$nulls":22},{"$f":"IF(data!A1364=\"\",\"\",IF(data!E1364=SMALL(data!E1364:'data'!E11362,1),data!A1364,\"\"))","v":""}]
[{"$nulls":22},{"$f":"IF(data!A1365=\"\",\"\",IF(data!E1365=SMALL(data!E1365:'data'!E11363,1),data!A1365,\"\"))","v":""}]
[{"$nulls":22},{"$f":"IF(data!A1366=\"\",\"\",IF(data!E1366=SMALL(data!E1366:'data'!E11364,1),data!A1366,\"\"))","v":""}]
[{"$nulls":22},{"$f":"IF(data!A1367=\"\",\"\",IF(data!E1367=SMALL(data!E1367:'data'!E11365,1),data!A1367,\"\"))","v":""}]
[{"$nulls":22},{"$f":"IF(data!A1368=\"\",\"\",IF(data!E1368=SMALL(data!E1368:'data'!E11366,1),data!A1368,\"\"))","v":""}]
[{"$nulls":22},{"$f":"IF(data!A1369=\"\",\"\",IF(data!E1369=SMALL(data!E1369:'data'!E11367,1),data!A1369,\"\"))","v":""}]
[{"$nulls":22},{"$f":"IF(data!A1370=\"\",\"\",IF(data!E1370=SMALL(data!E1370:'data'!E11368,1),data!A1370,\"\"))","v":""}]
[{"$nulls":22},{"$f":"IF(data!A1371=\"\",\"\",IF(data!E1371=SMALL(data!E1371:'data'!E11369,1),data!A1371,\"\"))","v":""}]
[{"$nulls":22},{"$f":"IF(data!A1372=\"\",\"\",IF(data!E1372=SMALL(data!E1372:'data'!E11370,1),data!A1372,\"\"))","v":""}]
[{"$nulls":22},{"$f":"IF(data!A1373=\"\",\"\",IF(data!E1373=SMALL(data!E1373:'data'!E11371,1),data!A1373,\"\"))","v":""}]
[{"$nulls":22},{"$f":"IF(data!A1374=\"\",\"\",IF(data!E1374=SMALL(data!E1374:'data'!E11372,1),data!A1374,\"\"))","v":""}]
[{"$nulls":22},{"$f":"IF(data!A1375=\"\",\"\",IF(data!E1375=SMALL(data!E1375:'data'!E11373,1),data!A1375,\"\"))","v":""}]
[{"$nulls":22},{"$f":"IF(data!A1376=\"\",\"\",IF(data!E1376=SMALL(data!E1376:'data'!E11374,1),data!A1376,\"\"))","v":""}]
[{"$nulls":22},{"$f":"IF(data!A1377=\"\",\"\",IF(data!E1377=SMALL(data!E1377:'data'!E11375,1),data!A1377,\"\"))","v":""}]
[{"$nulls":22},{"$f":"IF(data!A1378=\"\",\"\",IF(data!E1378=SMALL(data!E1378:'data'!E11376,1),data!A1378,\"\"))","v":""}]
[{"$nulls":22},{"$f":"IF(data!A1379=\"\",\"\",IF(data!E1379=SMALL(data!E1379:'data'!E11377,1),data!A1379,\"\"))","v":""}]
[{"$nulls":22},{"$f":"IF(data!A1380=\"\",\"\",IF(data!E1380=SMALL(data!E1380:'data'!E11378,1),data!A1380,\"\"))","v":""}]
[{"$nulls":22},{"$f":"IF(data!A1381=\"\",\"\",IF(data!E1381=SMALL(data!E1381:'data'!E11379,1),data!A1381,\"\"))","v":""}]
[{"$nulls":22},{"$f":"IF(data!A1382=\"\",\"\",IF(data!E1382=SMALL(data!E1382:'data'!E11380,1),data!A1382,\"\"))","v":""}]
[{"$nulls":22},{"$f":"IF(data!A1383=\"\",\"\",IF(data!E1383=SMALL(data!E1383:'data'!E11381,1),data!A1383,\"\"))","v":""}]
[{"$nulls":22},{"$f":"IF(data!A1384=\"\",\"\",IF(data!E1384=SMALL(data!E1384:'data'!E11382,1),data!A1384,\"\"))","v":""}]
[{"$nulls":22},{"$f":"IF(data!A1385=\"\",\"\",IF(data!E1385=SMALL(data!E1385:'data'!E11383,1),data!A1385,\"\"))","v":""}]
[{"$nulls":22},{"$f":"IF(data!A1386=\"\",\"\",IF(data!E1386=SMALL(data!E1386:'data'!E11384,1),data!A1386,\"\"))","v":""}]
[{"$nulls":22},{"$f":"IF(data!A1387=\"\",\"\",IF(data!E1387=SMALL(data!E1387:'data'!E11385,1),data!A1387,\"\"))","v":""}]
[{"$nulls":22},{"$f":"IF(data!A1388=\"\",\"\",IF(data!E1388=SMALL(data!E1388:'data'!E11386,1),data!A1388,\"\"))","v":""}]
[{"$nulls":22},{"$f":"IF(data!A1389=\"\",\"\",IF(data!E1389=SMALL(data!E1389:'data'!E11387,1),data!A1389,\"\"))","v":""}]
[{"$nulls":22},{"$f":"IF(data!A1390=\"\",\"\",IF(data!E1390=SMALL(data!E1390:'data'!E11388,1),data!A1390,\"\"))","v":""}]
[{"$nulls":22},{"$f":"IF(data!A1391=\"\",\"\",IF(data!E1391=SMALL(data!E1391:'data'!E11389,1),data!A1391,\"\"))","v":""}]
[{"$nulls":22},{"$f":"IF(data!A1392=\"\",\"\",IF(data!E1392=SMALL(data!E1392:'data'!E11390,1),data!A1392,\"\"))","v":""}]
[{"$nulls":22},{"$f":"IF(data!A1393=\"\",\"\",IF(data!E1393=SMALL(data!E1393:'data'!E11391,1),data!A1393,\"\"))","v":""}]
[{"$nulls":22},{"$f":"IF(data!A1394=\"\",\"\",IF(data!E1394=SMALL(data!E1394:'data'!E11392,1),data!A1394,\"\"))","v":""}]
[{"$nulls":22},{"$f":"IF(data!A1395=\"\",\"\",IF(data!E1395=SMALL(data!E1395:'data'!E11393,1),data!A1395,\"\"))","v":""}]
[{"$nulls":22},{"$f":"IF(data!A1396=\"\",\"\",IF(data!E1396=SMALL(data!E1396:'data'!E11394,1),data!A1396,\"\"))","v":""}]
[{"$nulls":22},{"$f":"IF(data!A1397=\"\",\"\",IF(data!E1397=SMALL(data!E1397:'data'!E11395,1),data!A1397,\"\"))","v":""}]
[{"$nulls":22},{"$f":"IF(data!A1398=\"\",\"\",IF(data!E1398=SMALL(data!E1398:'data'!E11396,1),data!A1398,\"\"))","v":""}]
[{"$nulls":22},{"$f":"IF(data!A1399=\"\",\"\",IF(data!E1399=SMALL(data!E1399:'data'!E11397,1),data!A1399,\"\"))","v":""}]
[{"$nulls":22},{"$f":"IF(data!A1400=\"\",\"\",IF(data!E1400=SMALL(data!E1400:'data'!E11398,1),data!A1400,\"\"))","v":""}]
[{"$nulls":22},{"$f":"IF(data!A1401=\"\",\"\",IF(data!E1401=SMALL(data!E1401:'data'!E11399,1),data!A1401,\"\"))","v":""}]
[{"$nulls":22},{"$f":"IF(data!A1402=\"\",\"\",IF(data!E1402=SMALL(data!E1402:'data'!E11400,1),data!A1402,\"\"))","v":""}]
[{"$nulls":22},{"$f":"IF(data!A1403=\"\",\"\",IF(data!E1403=SMALL(data!E1403:'data'!E11401,1),data!A1403,\"\"))","v":""}]
[{"$nulls":22},{"$f":"IF(data!A1404=\"\",\"\",IF(data!E1404=SMALL(data!E1404:'data'!E11402,1),data!A1404,\"\"))","v":""}]
[{"$nulls":22},{"$f":"IF(data!A1405=\"\",\"\",IF(data!E1405=SMALL(data!E1405:'data'!E11403,1),data!A1405,\"\"))","v":""}]
[{"$nulls":22},{"$f":"IF(data!A1406=\"\",\"\",IF(data!E1406=SMALL(data!E1406:'data'!E11404,1),data!A1406,\"\"))","v":""}]
[{"$nulls":22},{"$f":"IF(data!A1407=\"\",\"\",IF(data!E1407=SMALL(data!E1407:'data'!E11405,1),data!A1407,\"\"))","v":""}]
[{"$nulls":22},{"$f":"IF(data!A1408=\"\",\"\",IF(data!E1408=SMALL(data!E1408:'data'!E11406,1),data!A1408,\"\"))","v":""}]
[{"$nulls":22},{"$f":"IF(data!A1409=\"\",\"\",IF(data!E1409=SMALL(data!E1409:'data'!E11407,1),data!A1409,\"\"))","v":""}]
[{"$nulls":22},{"$f":"IF(data!A1410=\"\",\"\",IF(data!E1410=SMALL(data!E1410:'data'!E11408,1),data!A1410,\"\"))","v":""}]
[{"$nulls":22},{"$f":"IF(data!A1411=\"\",\"\",IF(data!E1411=SMALL(data!E1411:'data'!E11409,1),data!A1411,\"\"))","v":""}]
[{"$nulls":22},{"$f":"IF(data!A1412=\"\",\"\",IF(data!E1412=SMALL(data!E1412:'data'!E11410,1),data!A1412,\"\"))","v":""}]
[{"$nulls":22},{"$f":"IF(data!A1413=\"\",\"\",IF(data!E1413=SMALL(data!E1413:'data'!E11411,1),data!A1413,\"\"))","v":""}]
[{"$nulls":22},{"$f":"IF(data!A1414=\"\",\"\",IF(data!E1414=SMALL(data!E1414:'data'!E11412,1),data!A1414,\"\"))","v":""}]
[{"$nulls":22},{"$f":"IF(data!A1415=\"\",\"\",IF(data!E1415=SMALL(data!E1415:'data'!E11413,1),data!A1415,\"\"))","v":""}]
[{"$nulls":22},{"$f":"IF(data!A1416=\"\",\"\",IF(data!E1416=SMALL(data!E1416:'data'!E11414,1),data!A1416,\"\"))","v":""}]
[{"$nulls":22},{"$f":"IF(data!A1417=\"\",\"\",IF(data!E1417=SMALL(data!E1417:'data'!E11415,1),data!A1417,\"\"))","v":""}]
[{"$nulls":22},{"$f":"IF(data!A1418=\"\",\"\",IF(data!E1418=SMALL(data!E1418:'data'!E11416,1),data!A1418,\"\"))","v":""}]
[{"$nulls":22},{"$f":"IF(data!A1419=\"\",\"\",IF(data!E1419=SMALL(data!E1419:'data'!E11417,1),data!A1419,\"\"))","v":""}]
[{"$nulls":22},{"$f":"IF(data!A1420=\"\",\"\",IF(data!E1420=SMALL(data!E1420:'data'!E11418,1),data!A1420,\"\"))","v":""}]
[{"$nulls":22},{"$f":"IF(data!A1421=\"\",\"\",IF(data!E1421=SMALL(data!E1421:'data'!E11419,1),data!A1421,\"\"))","v":""}]
[{"$nulls":22},{"$f":"IF(data!A1422=\"\",\"\",IF(data!E1422=SMALL(data!E1422:'data'!E11420,1),data!A1422,\"\"))","v":""}]
[{"$nulls":22},{"$f":"IF(data!A1423=\"\",\"\",IF(data!E1423=SMALL(data!E1423:'data'!E11421,1),data!A1423,\"\"))","v":""}]
[{"$nulls":22},{"$f":"IF(data!A1424=\"\",\"\",IF(data!E1424=SMALL(data!E1424:'data'!E11422,1),data!A1424,\"\"))","v":""}]
[{"$nulls":22},{"$f":"IF(data!A1425=\"\",\"\",IF(data!E1425=SMALL(data!E1425:'data'!E11423,1),data!A1425,\"\"))","v":""}]
[{"$nulls":22},{"$f":"IF(data!A1426=\"\",\"\",IF(data!E1426=SMALL(data!E1426:'data'!E11424,1),data!A1426,\"\"))","v":""}]
[{"$nulls":22},{"$f":"IF(data!A1427=\"\",\"\",IF(data!E1427=SMALL(data!E1427:'data'!E11425,1),data!A1427,\"\"))","v":""}]
[{"$nulls":22},{"$f":"IF(data!A1428=\"\",\"\",IF(data!E1428=SMALL(data!E1428:'data'!E11426,1),data!A1428,\"\"))","v":""}]
[{"$nulls":22},{"$f":"IF(data!A1429=\"\",\"\",IF(data!E1429=SMALL(data!E1429:'data'!E11427,1),data!A1429,\"\"))","v":""}]
[{"$nulls":22},{"$f":"IF(data!A1430=\"\",\"\",IF(data!E1430=SMALL(data!E1430:'data'!E11428,1),data!A1430,\"\"))","v":""}]
[{"$nulls":22},{"$f":"IF(data!A1431=\"\",\"\",IF(data!E1431=SMALL(data!E1431:'data'!E11429,1),data!A1431,\"\"))","v":""}]
[{"$nulls":22},{"$f":"IF(data!A1432=\"\",\"\",IF(data!E1432=SMALL(data!E1432:'data'!E11430,1),data!A1432,\"\"))","v":""}]
[{"$nulls":22},{"$f":"IF(data!A1433=\"\",\"\",IF(data!E1433=SMALL(data!E1433:'data'!E11431,1),data!A1433,\"\"))","v":""}]
[{"$nulls":22},{"$f":"IF(data!A1434=\"\",\"\",IF(data!E1434=SMALL(data!E1434:'data'!E11432,1),data!A1434,\"\"))","v":""}]
[{"$nulls":22},{"$f":"IF(data!A1435=\"\",\"\",IF(data!E1435=SMALL(data!E1435:'data'!E11433,1),data!A1435,\"\"))","v":""}]
[{"$nulls":22},{"$f":"IF(data!A1436=\"\",\"\",IF(data!E1436=SMALL(data!E1436:'data'!E11434,1),data!A1436,\"\"))","v":""}]
[{"$nulls":22},{"$f":"IF(data!A1437=\"\",\"\",IF(data!E1437=SMALL(data!E1437:'data'!E11435,1),data!A1437,\"\"))","v":""}]
[{"$nulls":22},{"$f":"IF(data!A1438=\"\",\"\",IF(data!E1438=SMALL(data!E1438:'data'!E11436,1),data!A1438,\"\"))","v":""}]
[{"$nulls":22},{"$f":"IF(data!A1439=\"\",\"\",IF(data!E1439=SMALL(data!E1439:'data'!E11437,1),data!A1439,\"\"))","v":""}]
[{"$nulls":22},{"$f":"IF(data!A1440=\"\",\"\",IF(data!E1440=SMALL(data!E1440:'data'!E11438,1),data!A1440,\"\"))","v":""}]
[{"$nulls":22},{"$f":"IF(data!A1441=\"\",\"\",IF(data!E1441=SMALL(data!E1441:'data'!E11439,1),data!A1441,\"\"))","v":""}]
[{"$nulls":22},{"$f":"IF(data!A1442=\"\",\"\",IF(data!E1442=SMALL(data!E1442:'data'!E11440,1),data!A1442,\"\"))","v":""}]
[{"$nulls":22},{"$f":"IF(data!A1443=\"\",\"\",IF(data!E1443=SMALL(data!E1443:'data'!E11441,1),data!A1443,\"\"))","v":""}]
[{"$nulls":22},{"$f":"IF(data!A1444=\"\",\"\",IF(data!E1444=SMALL(data!E1444:'data'!E11442,1),data!A1444,\"\"))","v":""}]
[{"$nulls":22},{"$f":"IF(data!A1445=\"\",\"\",IF(data!E1445=SMALL(data!E1445:'data'!E11443,1),data!A1445,\"\"))","v":""}]
[{"$nulls":22},{"$f":"IF(data!A1446=\"\",\"\",IF(data!E1446=SMALL(data!E1446:'data'!E11444,1),data!A1446,\"\"))","v":""}]
[{"$nulls":22},{"$f":"IF(data!A1447=\"\",\"\",IF(data!E1447=SMALL(data!E1447:'data'!E11445,1),data!A1447,\"\"))","v":""}]
[{"$nulls":22},{"$f":"IF(data!A1448=\"\",\"\",IF(data!E1448=SMALL(data!E1448:'data'!E11446,1),data!A1448,\"\"))","v":""}]
[{"$nulls":22},{"$f":"IF(data!A1449=\"\",\"\",IF(data!E1449=SMALL(data!E1449:'data'!E11447,1),data!A1449,\"\"))","v":""}]
[{"$nulls":22},{"$f":"IF(data!A1450=\"\",\"\",IF(data!E1450=SMALL(data!E1450:'data'!E11448,1),data!A1450,\"\"))","v":""}]
[{"$nulls":22},{"$f":"IF(data!A1451=\"\",\"\",IF(data!E1451=SMALL(data!E1451:'data'!E11449,1),data!A1451,\"\"))","v":""}]
[{"$nulls":22},{"$f":"IF(data!A1452=\"\",\"\",IF(data!E1452=SMALL(data!E1452:'data'!E11450,1),data!A1452,\"\"))","v":""}]
[{"$nulls":22},{"$f":"IF(data!A1453=\"\",\"\",IF(data!E1453=SMALL(data!E1453:'data'!E11451,1),data!A1453,\"\"))","v":""}]
[{"$nulls":22},{"$f":"IF(data!A1454=\"\",\"\",IF(data!E1454=SMALL(data!E1454:'data'!E11452,1),data!A1454,\"\"))","v":""}]
[{"$nulls":22},{"$f":"IF(data!A1455=\"\",\"\",IF(data!E1455=SMALL(data!E1455:'data'!E11453,1),data!A1455,\"\"))","v":""}]
[{"$nulls":22},{"$f":"IF(data!A1456=\"\",\"\",IF(data!E1456=SMALL(data!E1456:'data'!E11454,1),data!A1456,\"\"))","v":""}]
[{"$nulls":22},{"$f":"IF(data!A1457=\"\",\"\",IF(data!E1457=SMALL(data!E1457:'data'!E11455,1),data!A1457,\"\"))","v":""}]
[{"$nulls":22},{"$f":"IF(data!A1458=\"\",\"\",IF(data!E1458=SMALL(data!E1458:'data'!E11456,1),data!A1458,\"\"))","v":""}]
[{"$nulls":22},{"$f":"IF(data!A1459=\"\",\"\",IF(data!E1459=SMALL(data!E1459:'data'!E11457,1),data!A1459,\"\"))","v":""}]
[{"$nulls":22},{"$f":"IF(data!A1460=\"\",\"\",IF(data!E1460=SMALL(data!E1460:'data'!E11458,1),data!A1460,\"\"))","v":""}]
[{"$nulls":22},{"$f":"IF(data!A1461=\"\",\"\",IF(data!E1461=SMALL(data!E1461:'data'!E11459,1),data!A1461,\"\"))","v":""}]
[{"$nulls":22},{"$f":"IF(data!A1462=\"\",\"\",IF(data!E1462=SMALL(data!E1462:'data'!E11460,1),data!A1462,\"\"))","v":""}]
[{"$nulls":22},{"$f":"IF(data!A1463=\"\",\"\",IF(data!E1463=SMALL(data!E1463:'data'!E11461,1),data!A1463,\"\"))","v":""}]
[{"$nulls":22},{"$f":"IF(data!A1464=\"\",\"\",IF(data!E1464=SMALL(data!E1464:'data'!E11462,1),data!A1464,\"\"))","v":""}]
[{"$nulls":22},{"$f":"IF(data!A1465=\"\",\"\",IF(data!E1465=SMALL(data!E1465:'data'!E11463,1),data!A1465,\"\"))","v":""}]
[{"$nulls":22},{"$f":"IF(data!A1466=\"\",\"\",IF(data!E1466=SMALL(data!E1466:'data'!E11464,1),data!A1466,\"\"))","v":""}]
[{"$nulls":22},{"$f":"IF(data!A1467=\"\",\"\",IF(data!E1467=SMALL(data!E1467:'data'!E11465,1),data!A1467,\"\"))","v":""}]
[{"$nulls":22},{"$f":"IF(data!A1468=\"\",\"\",IF(data!E1468=SMALL(data!E1468:'data'!E11466,1),data!A1468,\"\"))","v":""}]
[{"$nulls":22},{"$f":"IF(data!A1469=\"\",\"\",IF(data!E1469=SMALL(data!E1469:'data'!E11467,1),data!A1469,\"\"))","v":""}]
[{"$nulls":22},{"$f":"IF(data!A1470=\"\",\"\",IF(data!E1470=SMALL(data!E1470:'data'!E11468,1),data!A1470,\"\"))","v":""}]
[{"$nulls":22},{"$f":"IF(data!A1471=\"\",\"\",IF(data!E1471=SMALL(data!E1471:'data'!E11469,1),data!A1471,\"\"))","v":""}]
[{"$nulls":22},{"$f":"IF(data!A1472=\"\",\"\",IF(data!E1472=SMALL(data!E1472:'data'!E11470,1),data!A1472,\"\"))","v":""}]
[{"$nulls":22},{"$f":"IF(data!A1473=\"\",\"\",IF(data!E1473=SMALL(data!E1473:'data'!E11471,1),data!A1473,\"\"))","v":""}]
[{"$nulls":22},{"$f":"IF(data!A1474=\"\",\"\",IF(data!E1474=SMALL(data!E1474:'data'!E11472,1),data!A1474,\"\"))","v":""}]
[{"$nulls":22},{"$f":"IF(data!A1475=\"\",\"\",IF(data!E1475=SMALL(data!E1475:'data'!E11473,1),data!A1475,\"\"))","v":""}]
[{"$nulls":22},{"$f":"IF(data!A1476=\"\",\"\",IF(data!E1476=SMALL(data!E1476:'data'!E11474,1),data!A1476,\"\"))","v":""}]
[{"$nulls":22},{"$f":"IF(data!A1477=\"\",\"\",IF(data!E1477=SMALL(data!E1477:'data'!E11475,1),data!A1477,\"\"))","v":""}]
[{"$nulls":22},{"$f":"IF(data!A1478=\"\",\"\",IF(data!E1478=SMALL(data!E1478:'data'!E11476,1),data!A1478,\"\"))","v":""}]
[{"$nulls":22},{"$f":"IF(data!A1479=\"\",\"\",IF(data!E1479=SMALL(data!E1479:'data'!E11477,1),data!A1479,\"\"))","v":""}]
[{"$nulls":22},{"$f":"IF(data!A1480=\"\",\"\",IF(data!E1480=SMALL(data!E1480:'data'!E11478,1),data!A1480,\"\"))","v":""}]
[{"$nulls":22},{"$f":"IF(data!A1481=\"\",\"\",IF(data!E1481=SMALL(data!E1481:'data'!E11479,1),data!A1481,\"\"))","v":""}]
[{"$nulls":22},{"$f":"IF(data!A1482=\"\",\"\",IF(data!E1482=SMALL(data!E1482:'data'!E11480,1),data!A1482,\"\"))","v":""}]
[{"$nulls":22},{"$f":"IF(data!A1483=\"\",\"\",IF(data!E1483=SMALL(data!E1483:'data'!E11481,1),data!A1483,\"\"))","v":""}]
[{"$nulls":22},{"$f":"IF(data!A1484=\"\",\"\",IF(data!E1484=SMALL(data!E1484:'data'!E11482,1),data!A1484,\"\"))","v":""}]
[{"$nulls":22},{"$f":"IF(data!A1485=\"\",\"\",IF(data!E1485=SMALL(data!E1485:'data'!E11483,1),data!A1485,\"\"))","v":""}]
[{"$nulls":22},{"$f":"IF(data!A1486=\"\",\"\",IF(data!E1486=SMALL(data!E1486:'data'!E11484,1),data!A1486,\"\"))","v":""}]
[{"$nulls":22},{"$f":"IF(data!A1487=\"\",\"\",IF(data!E1487=SMALL(data!E1487:'data'!E11485,1),data!A1487,\"\"))","v":""}]
[{"$nulls":22},{"$f":"IF(data!A1488=\"\",\"\",IF(data!E1488=SMALL(data!E1488:'data'!E11486,1),data!A1488,\"\"))","v":""}]
[{"$nulls":22},{"$f":"IF(data!A1489=\"\",\"\",IF(data!E1489=SMALL(data!E1489:'data'!E11487,1),data!A1489,\"\"))","v":""}]
[{"$nulls":22},{"$f":"IF(data!A1490=\"\",\"\",IF(data!E1490=SMALL(data!E1490:'data'!E11488,1),data!A1490,\"\"))","v":""}]
[{"$nulls":22},{"$f":"IF(data!A1491=\"\",\"\",IF(data!E1491=SMALL(data!E1491:'data'!E11489,1),data!A1491,\"\"))","v":""}]
[{"$nulls":22},{"$f":"IF(data!A1492=\"\",\"\",IF(data!E1492=SMALL(data!E1492:'data'!E11490,1),data!A1492,\"\"))","v":""}]
[{"$nulls":22},{"$f":"IF(data!A1493=\"\",\"\",IF(data!E1493=SMALL(data!E1493:'data'!E11491,1),data!A1493,\"\"))","v":""}]
[{"$nulls":22},{"$f":"IF(data!A1494=\"\",\"\",IF(data!E1494=SMALL(data!E1494:'data'!E11492,1),data!A1494,\"\"))","v":""}]
[{"$nulls":22},{"$f":"IF(data!A1495=\"\",\"\",IF(data!E1495=SMALL(data!E1495:'data'!E11493,1),data!A1495,\"\"))","v":""}]
[{"$nulls":22},{"$f":"IF(data!A1496=\"\",\"\",IF(data!E1496=SMALL(data!E1496:'data'!E11494,1),data!A1496,\"\"))","v":""}]
[{"$nulls":22},{"$f":"IF(data!A1497=\"\",\"\",IF(data!E1497=SMALL(data!E1497:'data'!E11495,1),data!A1497,\"\"))","v":""}]
[{"$nulls":22},{"$f":"IF(data!A1498=\"\",\"\",IF(data!E1498=SMALL(data!E1498:'data'!E11496,1),data!A1498,\"\"))","v":""}]
[{"$nulls":22},{"$f":"IF(data!A1499=\"\",\"\",IF(data!E1499=SMALL(data!E1499:'data'!E11497,1),data!A1499,\"\"))","v":""}]
[{"$nulls":22},{"$f":"IF(data!A1500=\"\",\"\",IF(data!E1500=SMALL(data!E1500:'data'!E11498,1),data!A1500,\"\"))","v":""}]
[{"$nulls":22},{"$f":"IF(data!A1501=\"\",\"\",IF(data!E1501=SMALL(data!E1501:'data'!E11499,1),data!A1501,\"\"))","v":""}]
[{"$nulls":22},{"$f":"IF(data!A1502=\"\",\"\",IF(data!E1502=SMALL(data!E1502:'data'!E11500,1),data!A1502,\"\"))","v":""}]
[{"$nulls":22},{"$f":"IF(data!A1503=\"\",\"\",IF(data!E1503=SMALL(data!E1503:'data'!E11501,1),data!A1503,\"\"))","v":""}]
[{"$nulls":22},{"$f":"IF(data!A1504=\"\",\"\",IF(data!E1504=SMALL(data!E1504:'data'!E11502,1),data!A1504,\"\"))","v":""}]
[{"$nulls":22},{"$f":"IF(data!A1505=\"\",\"\",IF(data!E1505=SMALL(data!E1505:'data'!E11503,1),data!A1505,\"\"))","v":""}]
[{"$nulls":22},{"$f":"IF(data!A1506=\"\",\"\",IF(data!E1506=SMALL(data!E1506:'data'!E11504,1),data!A1506,\"\"))","v":""}]
[{"$nulls":22},{"$f":"IF(data!A1507=\"\",\"\",IF(data!E1507=SMALL(data!E1507:'data'!E11505,1),data!A1507,\"\"))","v":""}]
[{"$nulls":22},{"$f":"IF(data!A1508=\"\",\"\",IF(data!E1508=SMALL(data!E1508:'data'!E11506,1),data!A1508,\"\"))","v":""}]
[{"$nulls":22},{"$f":"IF(data!A1509=\"\",\"\",IF(data!E1509=SMALL(data!E1509:'data'!E11507,1),data!A1509,\"\"))","v":""}]
[{"$nulls":22},{"$f":"IF(data!A1510=\"\",\"\",IF(data!E1510=SMALL(data!E1510:'data'!E11508,1),data!A1510,\"\"))","v":""}]
[{"$nulls":22},{"$f":"IF(data!A1511=\"\",\"\",IF(data!E1511=SMALL(data!E1511:'data'!E11509,1),data!A1511,\"\"))","v":""}]
[{"$nulls":22},{"$f":"IF(data!A1512=\"\",\"\",IF(data!E1512=SMALL(data!E1512:'data'!E11510,1),data!A1512,\"\"))","v":""}]
[{"$nulls":22},{"$f":"IF(data!A1513=\"\",\"\",IF(data!E1513=SMALL(data!E1513:'data'!E11511,1),data!A1513,\"\"))","v":""}]
[{"$nulls":22},{"$f":"IF(data!A1514=\"\",\"\",IF(data!E1514=SMALL(data!E1514:'data'!E11512,1),data!A1514,\"\"))","v":""}]
[{"$nulls":22},{"$f":"IF(data!A1515=\"\",\"\",IF(data!E1515=SMALL(data!E1515:'data'!E11513,1),data!A1515,\"\"))","v":""}]
[{"$nulls":22},{"$f":"IF(data!A1516=\"\",\"\",IF(data!E1516=SMALL(data!E1516:'data'!E11514,1),data!A1516,\"\"))","v":""}]
[{"$nulls":22},{"$f":"IF(data!A1517=\"\",\"\",IF(data!E1517=SMALL(data!E1517:'data'!E11515,1),data!A1517,\"\"))","v":""}]
[{"$nulls":22},{"$f":"IF(data!A1518=\"\",\"\",IF(data!E1518=SMALL(data!E1518:'data'!E11516,1),data!A1518,\"\"))","v":""}]
[{"$nulls":22},{"$f":"IF(data!A1519=\"\",\"\",IF(data!E1519=SMALL(data!E1519:'data'!E11517,1),data!A1519,\"\"))","v":""}]
[{"$nulls":22},{"$f":"IF(data!A1520=\"\",\"\",IF(data!E1520=SMALL(data!E1520:'data'!E11518,1),data!A1520,\"\"))","v":""}]
[{"$nulls":22},{"$f":"IF(data!A1521=\"\",\"\",IF(data!E1521=SMALL(data!E1521:'data'!E11519,1),data!A1521,\"\"))","v":""}]
[{"$nulls":22},{"$f":"IF(data!A1522=\"\",\"\",IF(data!E1522=SMALL(data!E1522:'data'!E11520,1),data!A1522,\"\"))","v":""}]
[{"$nulls":22},{"$f":"IF(data!A1523=\"\",\"\",IF(data!E1523=SMALL(data!E1523:'data'!E11521,1),data!A1523,\"\"))","v":""}]
[{"$nulls":22},{"$f":"IF(data!A1524=\"\",\"\",IF(data!E1524=SMALL(data!E1524:'data'!E11522,1),data!A1524,\"\"))","v":""}]
[{"$nulls":22},{"$f":"IF(data!A1525=\"\",\"\",IF(data!E1525=SMALL(data!E1525:'data'!E11523,1),data!A1525,\"\"))","v":""}]
[{"$nulls":22},{"$f":"IF(data!A1526=\"\",\"\",IF(data!E1526=SMALL(data!E1526:'data'!E11524,1),data!A1526,\"\"))","v":""}]
[{"$nulls":22},{"$f":"IF(data!A1527=\"\",\"\",IF(data!E1527=SMALL(data!E1527:'data'!E11525,1),data!A1527,\"\"))","v":""}]
[{"$nulls":22},{"$f":"IF(data!A1528=\"\",\"\",IF(data!E1528=SMALL(data!E1528:'data'!E11526,1),data!A1528,\"\"))","v":""}]
[{"$nulls":22},{"$f":"IF(data!A1529=\"\",\"\",IF(data!E1529=SMALL(data!E1529:'data'!E11527,1),data!A1529,\"\"))","v":""}]
[{"$nulls":22},{"$f":"IF(data!A1530=\"\",\"\",IF(data!E1530=SMALL(data!E1530:'data'!E11528,1),data!A1530,\"\"))","v":""}]
[{"$nulls":22},{"$f":"IF(data!A1531=\"\",\"\",IF(data!E1531=SMALL(data!E1531:'data'!E11529,1),data!A1531,\"\"))","v":""}]
[{"$nulls":22},{"$f":"IF(data!A1532=\"\",\"\",IF(data!E1532=SMALL(data!E1532:'data'!E11530,1),data!A1532,\"\"))","v":""}]
[{"$nulls":22},{"$f":"IF(data!A1533=\"\",\"\",IF(data!E1533=SMALL(data!E1533:'data'!E11531,1),data!A1533,\"\"))","v":""}]
[{"$nulls":22},{"$f":"IF(data!A1534=\"\",\"\",IF(data!E1534=SMALL(data!E1534:'data'!E11532,1),data!A1534,\"\"))","v":""}]
[{"$nulls":22},{"$f":"IF(data!A1535=\"\",\"\",IF(data!E1535=SMALL(data!E1535:'data'!E11533,1),data!A1535,\"\"))","v":""}]
[{"$nulls":22},{"$f":"IF(data!A1536=\"\",\"\",IF(data!E1536=SMALL(data!E1536:'data'!E11534,1),data!A1536,\"\"))","v":""}]
[{"$nulls":22},{"$f":"IF(data!A1537=\"\",\"\",IF(data!E1537=SMALL(data!E1537:'data'!E11535,1),data!A1537,\"\"))","v":""}]
[{"$nulls":22},{"$f":"IF(data!A1538=\"\",\"\",IF(data!E1538=SMALL(data!E1538:'data'!E11536,1),data!A1538,\"\"))","v":""}]
[{"$nulls":22},{"$f":"IF(data!A1539=\"\",\"\",IF(data!E1539=SMALL(data!E1539:'data'!E11537,1),data!A1539,\"\"))","v":""}]
[{"$nulls":22},{"$f":"IF(data!A1540=\"\",\"\",IF(data!E1540=SMALL(data!E1540:'data'!E11538,1),data!A1540,\"\"))","v":""}]
[{"$nulls":22},{"$f":"IF(data!A1541=\"\",\"\",IF(data!E1541=SMALL(data!E1541:'data'!E11539,1),data!A1541,\"\"))","v":""}]
[{"$nulls":22},{"$f":"IF(data!A1542=\"\",\"\",IF(data!E1542=SMALL(data!E1542:'data'!E11540,1),data!A1542,\"\"))","v":""}]
[{"$nulls":22},{"$f":"IF(data!A1543=\"\",\"\",IF(data!E1543=SMALL(data!E1543:'data'!E11541,1),data!A1543,\"\"))","v":""}]
[{"$nulls":22},{"$f":"IF(data!A1544=\"\",\"\",IF(data!E1544=SMALL(data!E1544:'data'!E11542,1),data!A1544,\"\"))","v":""}]
[{"$nulls":22},{"$f":"IF(data!A1545=\"\",\"\",IF(data!E1545=SMALL(data!E1545:'data'!E11543,1),data!A1545,\"\"))","v":""}]
[{"$nulls":22},{"$f":"IF(data!A1546=\"\",\"\",IF(data!E1546=SMALL(data!E1546:'data'!E11544,1),data!A1546,\"\"))","v":""}]
[{"$nulls":22},{"$f":"IF(data!A1547=\"\",\"\",IF(data!E1547=SMALL(data!E1547:'data'!E11545,1),data!A1547,\"\"))","v":""}]
[{"$nulls":22},{"$f":"IF(data!A1548=\"\",\"\",IF(data!E1548=SMALL(data!E1548:'data'!E11546,1),data!A1548,\"\"))","v":""}]
[{"$nulls":22},{"$f":"IF(data!A1549=\"\",\"\",IF(data!E1549=SMALL(data!E1549:'data'!E11547,1),data!A1549,\"\"))","v":""}]
[{"$nulls":22},{"$f":"IF(data!A1550=\"\",\"\",IF(data!E1550=SMALL(data!E1550:'data'!E11548,1),data!A1550,\"\"))","v":""}]
[{"$nulls":22},{"$f":"IF(data!A1551=\"\",\"\",IF(data!E1551=SMALL(data!E1551:'data'!E11549,1),data!A1551,\"\"))","v":""}]
[{"$nulls":22},{"$f":"IF(data!A1552=\"\",\"\",IF(data!E1552=SMALL(data!E1552:'data'!E11550,1),data!A1552,\"\"))","v":""}]
[{"$nulls":22},{"$f":"IF(data!A1553=\"\",\"\",IF(data!E1553=SMALL(data!E1553:'data'!E11551,1),data!A1553,\"\"))","v":""}]
[{"$nulls":22},{"$f":"IF(data!A1554=\"\",\"\",IF(data!E1554=SMALL(data!E1554:'data'!E11552,1),data!A1554,\"\"))","v":""}]
[{"$nulls":22},{"$f":"IF(data!A1555=\"\",\"\",IF(data!E1555=SMALL(data!E1555:'data'!E11553,1),data!A1555,\"\"))","v":""}]
[{"$nulls":22},{"$f":"IF(data!A1556=\"\",\"\",IF(data!E1556=SMALL(data!E1556:'data'!E11554,1),data!A1556,\"\"))","v":""}]
[{"$nulls":22},{"$f":"IF(data!A1557=\"\",\"\",IF(data!E1557=SMALL(data!E1557:'data'!E11555,1),data!A1557,\"\"))","v":""}]
[{"$nulls":22},{"$f":"IF(data!A1558=\"\",\"\",IF(data!E1558=SMALL(data!E1558:'data'!E11556,1),data!A1558,\"\"))","v":""}]
[{"$nulls":22},{"$f":"IF(data!A1559=\"\",\"\",IF(data!E1559=SMALL(data!E1559:'data'!E11557,1),data!A1559,\"\"))","v":""}]
[{"$nulls":22},{"$f":"IF(data!A1560=\"\",\"\",IF(data!E1560=SMALL(data!E1560:'data'!E11558,1),data!A1560,\"\"))","v":""}]
[{"$nulls":22},{"$f":"IF(data!A1561=\"\",\"\",IF(data!E1561=SMALL(data!E1561:'data'!E11559,1),data!A1561,\"\"))","v":""}]
[{"$nulls":22},{"$f":"IF(data!A1562=\"\",\"\",IF(data!E1562=SMALL(data!E1562:'data'!E11560,1),data!A1562,\"\"))","v":""}]
[{"$nulls":22},{"$f":"IF(data!A1563=\"\",\"\",IF(data!E1563=SMALL(data!E1563:'data'!E11561,1),data!A1563,\"\"))","v":""}]
[{"$nulls":22},{"$f":"IF(data!A1564=\"\",\"\",IF(data!E1564=SMALL(data!E1564:'data'!E11562,1),data!A1564,\"\"))","v":""}]
[{"$nulls":22},{"$f":"IF(data!A1565=\"\",\"\",IF(data!E1565=SMALL(data!E1565:'data'!E11563,1),data!A1565,\"\"))","v":""}]
[{"$nulls":22},{"$f":"IF(data!A1566=\"\",\"\",IF(data!E1566=SMALL(data!E1566:'data'!E11564,1),data!A1566,\"\"))","v":""}]
[{"$nulls":22},{"$f":"IF(data!A1567=\"\",\"\",IF(data!E1567=SMALL(data!E1567:'data'!E11565,1),data!A1567,\"\"))","v":""}]
[{"$nulls":22},{"$f":"IF(data!A1568=\"\",\"\",IF(data!E1568=SMALL(data!E1568:'data'!E11566,1),data!A1568,\"\"))","v":""}]
[{"$nulls":22},{"$f":"IF(data!A1569=\"\",\"\",IF(data!E1569=SMALL(data!E1569:'data'!E11567,1),data!A1569,\"\"))","v":""}]
[{"$nulls":22},{"$f":"IF(data!A1570=\"\",\"\",IF(data!E1570=SMALL(data!E1570:'data'!E11568,1),data!A1570,\"\"))","v":""}]
[{"$nulls":22},{"$f":"IF(data!A1571=\"\",\"\",IF(data!E1571=SMALL(data!E1571:'data'!E11569,1),data!A1571,\"\"))","v":""}]
[{"$nulls":22},{"$f":"IF(data!A1572=\"\",\"\",IF(data!E1572=SMALL(data!E1572:'data'!E11570,1),data!A1572,\"\"))","v":""}]
[{"$nulls":22},{"$f":"IF(data!A1573=\"\",\"\",IF(data!E1573=SMALL(data!E1573:'data'!E11571,1),data!A1573,\"\"))","v":""}]
[{"$nulls":22},{"$f":"IF(data!A1574=\"\",\"\",IF(data!E1574=SMALL(data!E1574:'data'!E11572,1),data!A1574,\"\"))","v":""}]
[{"$nulls":22},{"$f":"IF(data!A1575=\"\",\"\",IF(data!E1575=SMALL(data!E1575:'data'!E11573,1),data!A1575,\"\"))","v":""}]
[{"$nulls":22},{"$f":"IF(data!A1576=\"\",\"\",IF(data!E1576=SMALL(data!E1576:'data'!E11574,1),data!A1576,\"\"))","v":""}]
[{"$nulls":22},{"$f":"IF(data!A1577=\"\",\"\",IF(data!E1577=SMALL(data!E1577:'data'!E11575,1),data!A1577,\"\"))","v":""}]
[{"$nulls":22},{"$f":"IF(data!A1578=\"\",\"\",IF(data!E1578=SMALL(data!E1578:'data'!E11576,1),data!A1578,\"\"))","v":""}]
[{"$nulls":22},{"$f":"IF(data!A1579=\"\",\"\",IF(data!E1579=SMALL(data!E1579:'data'!E11577,1),data!A1579,\"\"))","v":""}]
[{"$nulls":22},{"$f":"IF(data!A1580=\"\",\"\",IF(data!E1580=SMALL(data!E1580:'data'!E11578,1),data!A1580,\"\"))","v":""}]
[{"$nulls":22},{"$f":"IF(data!A1581=\"\",\"\",IF(data!E1581=SMALL(data!E1581:'data'!E11579,1),data!A1581,\"\"))","v":""}]
[{"$nulls":22},{"$f":"IF(data!A1582=\"\",\"\",IF(data!E1582=SMALL(data!E1582:'data'!E11580,1),data!A1582,\"\"))","v":""}]
[{"$nulls":22},{"$f":"IF(data!A1583=\"\",\"\",IF(data!E1583=SMALL(data!E1583:'data'!E11581,1),data!A1583,\"\"))","v":""}]
[{"$nulls":22},{"$f":"IF(data!A1584=\"\",\"\",IF(data!E1584=SMALL(data!E1584:'data'!E11582,1),data!A1584,\"\"))","v":""}]
[{"$nulls":22},{"$f":"IF(data!A1585=\"\",\"\",IF(data!E1585=SMALL(data!E1585:'data'!E11583,1),data!A1585,\"\"))","v":""}]
[{"$nulls":22},{"$f":"IF(data!A1586=\"\",\"\",IF(data!E1586=SMALL(data!E1586:'data'!E11584,1),data!A1586,\"\"))","v":""}]
[{"$nulls":22},{"$f":"IF(data!A1587=\"\",\"\",IF(data!E1587=SMALL(data!E1587:'data'!E11585,1),data!A1587,\"\"))","v":""}]
[{"$nulls":22},{"$f":"IF(data!A1588=\"\",\"\",IF(data!E1588=SMALL(data!E1588:'data'!E11586,1),data!A1588,\"\"))","v":""}]
[{"$nulls":22},{"$f":"IF(data!A1589=\"\",\"\",IF(data!E1589=SMALL(data!E1589:'data'!E11587,1),data!A1589,\"\"))","v":""}]
[{"$nulls":22},{"$f":"IF(data!A1590=\"\",\"\",IF(data!E1590=SMALL(data!E1590:'data'!E11588,1),data!A1590,\"\"))","v":""}]
[{"$nulls":22},{"$f":"IF(data!A1591=\"\",\"\",IF(data!E1591=SMALL(data!E1591:'data'!E11589,1),data!A1591,\"\"))","v":""}]
[{"$nulls":22},{"$f":"IF(data!A1592=\"\",\"\",IF(data!E1592=SMALL(data!E1592:'data'!E11590,1),data!A1592,\"\"))","v":""}]
[{"$nulls":22},{"$f":"IF(data!A1593=\"\",\"\",IF(data!E1593=SMALL(data!E1593:'data'!E11591,1),data!A1593,\"\"))","v":""}]
[{"$nulls":22},{"$f":"IF(data!A1594=\"\",\"\",IF(data!E1594=SMALL(data!E1594:'data'!E11592,1),data!A1594,\"\"))","v":""}]
[{"$nulls":22},{"$f":"IF(data!A1595=\"\",\"\",IF(data!E1595=SMALL(data!E1595:'data'!E11593,1),data!A1595,\"\"))","v":""}]
[{"$nulls":22},{"$f":"IF(data!A1596=\"\",\"\",IF(data!E1596=SMALL(data!E1596:'data'!E11594,1),data!A1596,\"\"))","v":""}]
[{"$nulls":22},{"$f":"IF(data!A1597=\"\",\"\",IF(data!E1597=SMALL(data!E1597:'data'!E11595,1),data!A1597,\"\"))","v":""}]
[{"$nulls":22},{"$f":"IF(data!A1598=\"\",\"\",IF(data!E1598=SMALL(data!E1598:'data'!E11596,1),data!A1598,\"\"))","v":""}]
[{"$nulls":22},{"$f":"IF(data!A1599=\"\",\"\",IF(data!E1599=SMALL(data!E1599:'data'!E11597,1),data!A1599,\"\"))","v":""}]
[{"$nulls":22},{"$f":"IF(data!A1600=\"\",\"\",IF(data!E1600=SMALL(data!E1600:'data'!E11598,1),data!A1600,\"\"))","v":""}]
[{"$nulls":22},{"$f":"IF(data!A1601=\"\",\"\",IF(data!E1601=SMALL(data!E1601:'data'!E11599,1),data!A1601,\"\"))","v":""}]
[{"$nulls":22},{"$f":"IF(data!A1602=\"\",\"\",IF(data!E1602=SMALL(data!E1602:'data'!E11600,1),data!A1602,\"\"))","v":""}]
[{"$nulls":22},{"$f":"IF(data!A1603=\"\",\"\",IF(data!E1603=SMALL(data!E1603:'data'!E11601,1),data!A1603,\"\"))","v":""}]
[{"$nulls":22},{"$f":"IF(data!A1604=\"\",\"\",IF(data!E1604=SMALL(data!E1604:'data'!E11602,1),data!A1604,\"\"))","v":""}]
[{"$nulls":22},{"$f":"IF(data!A1605=\"\",\"\",IF(data!E1605=SMALL(data!E1605:'data'!E11603,1),data!A1605,\"\"))","v":""}]
[{"$nulls":22},{"$f":"IF(data!A1606=\"\",\"\",IF(data!E1606=SMALL(data!E1606:'data'!E11604,1),data!A1606,\"\"))","v":""}]
[{"$nulls":22},{"$f":"IF(data!A1607=\"\",\"\",IF(data!E1607=SMALL(data!E1607:'data'!E11605,1),data!A1607,\"\"))","v":""}]
[{"$nulls":22},{"$f":"IF(data!A1608=\"\",\"\",IF(data!E1608=SMALL(data!E1608:'data'!E11606,1),data!A1608,\"\"))","v":""}]
[{"$nulls":22},{"$f":"IF(data!A1609=\"\",\"\",IF(data!E1609=SMALL(data!E1609:'data'!E11607,1),data!A1609,\"\"))","v":""}]
[{"$nulls":22},{"$f":"IF(data!A1610=\"\",\"\",IF(data!E1610=SMALL(data!E1610:'data'!E11608,1),data!A1610,\"\"))","v":""}]
[{"$nulls":22},{"$f":"IF(data!A1611=\"\",\"\",IF(data!E1611=SMALL(data!E1611:'data'!E11609,1),data!A1611,\"\"))","v":""}]
[{"$nulls":22},{"$f":"IF(data!A1612=\"\",\"\",IF(data!E1612=SMALL(data!E1612:'data'!E11610,1),data!A1612,\"\"))","v":""}]
[{"$nulls":22},{"$f":"IF(data!A1613=\"\",\"\",IF(data!E1613=SMALL(data!E1613:'data'!E11611,1),data!A1613,\"\"))","v":""}]
[{"$nulls":22},{"$f":"IF(data!A1614=\"\",\"\",IF(data!E1614=SMALL(data!E1614:'data'!E11612,1),data!A1614,\"\"))","v":""}]
[{"$nulls":22},{"$f":"IF(data!A1615=\"\",\"\",IF(data!E1615=SMALL(data!E1615:'data'!E11613,1),data!A1615,\"\"))","v":""}]
[{"$nulls":22},{"$f":"IF(data!A1616=\"\",\"\",IF(data!E1616=SMALL(data!E1616:'data'!E11614,1),data!A1616,\"\"))","v":""}]
[{"$nulls":22},{"$f":"IF(data!A1617=\"\",\"\",IF(data!E1617=SMALL(data!E1617:'data'!E11615,1),data!A1617,\"\"))","v":""}]
[{"$nulls":22},{"$f":"IF(data!A1618=\"\",\"\",IF(data!E1618=SMALL(data!E1618:'data'!E11616,1),data!A1618,\"\"))","v":""}]
[{"$nulls":22},{"$f":"IF(data!A1619=\"\",\"\",IF(data!E1619=SMALL(data!E1619:'data'!E11617,1),data!A1619,\"\"))","v":""}]
[{"$nulls":22},{"$f":"IF(data!A1620=\"\",\"\",IF(data!E1620=SMALL(data!E1620:'data'!E11618,1),data!A1620,\"\"))","v":""}]
[{"$nulls":22},{"$f":"IF(data!A1621=\"\",\"\",IF(data!E1621=SMALL(data!E1621:'data'!E11619,1),data!A1621,\"\"))","v":""}]
[{"$nulls":22},{"$f":"IF(data!A1622=\"\",\"\",IF(data!E1622=SMALL(data!E1622:'data'!E11620,1),data!A1622,\"\"))","v":""}]
[{"$nulls":22},{"$f":"IF(data!A1623=\"\",\"\",IF(data!E1623=SMALL(data!E1623:'data'!E11621,1),data!A1623,\"\"))","v":""}]
[{"$nulls":22},{"$f":"IF(data!A1624=\"\",\"\",IF(data!E1624=SMALL(data!E1624:'data'!E11622,1),data!A1624,\"\"))","v":""}]
[{"$nulls":22},{"$f":"IF(data!A1625=\"\",\"\",IF(data!E1625=SMALL(data!E1625:'data'!E11623,1),data!A1625,\"\"))","v":""}]
[{"$nulls":22},{"$f":"IF(data!A1626=\"\",\"\",IF(data!E1626=SMALL(data!E1626:'data'!E11624,1),data!A1626,\"\"))","v":""}]
[{"$nulls":22},{"$f":"IF(data!A1627=\"\",\"\",IF(data!E1627=SMALL(data!E1627:'data'!E11625,1),data!A1627,\"\"))","v":""}]
[{"$nulls":22},{"$f":"IF(data!A1628=\"\",\"\",IF(data!E1628=SMALL(data!E1628:'data'!E11626,1),data!A1628,\"\"))","v":""}]
[{"$nulls":22},{"$f":"IF(data!A1629=\"\",\"\",IF(data!E1629=SMALL(data!E1629:'data'!E11627,1),data!A1629,\"\"))","v":""}]
[{"$nulls":22},{"$f":"IF(data!A1630=\"\",\"\",IF(data!E1630=SMALL(data!E1630:'data'!E11628,1),data!A1630,\"\"))","v":""}]
[{"$nulls":22},{"$f":"IF(data!A1631=\"\",\"\",IF(data!E1631=SMALL(data!E1631:'data'!E11629,1),data!A1631,\"\"))","v":""}]
[{"$nulls":22},{"$f":"IF(data!A1632=\"\",\"\",IF(data!E1632=SMALL(data!E1632:'data'!E11630,1),data!A1632,\"\"))","v":""}]
[{"$nulls":22},{"$f":"IF(data!A1633=\"\",\"\",IF(data!E1633=SMALL(data!E1633:'data'!E11631,1),data!A1633,\"\"))","v":""}]
[{"$nulls":22},{"$f":"IF(data!A1634=\"\",\"\",IF(data!E1634=SMALL(data!E1634:'data'!E11632,1),data!A1634,\"\"))","v":""}]
[{"$nulls":22},{"$f":"IF(data!A1635=\"\",\"\",IF(data!E1635=SMALL(data!E1635:'data'!E11633,1),data!A1635,\"\"))","v":""}]
[{"$nulls":22},{"$f":"IF(data!A1636=\"\",\"\",IF(data!E1636=SMALL(data!E1636:'data'!E11634,1),data!A1636,\"\"))","v":""}]
[{"$nulls":22},{"$f":"IF(data!A1637=\"\",\"\",IF(data!E1637=SMALL(data!E1637:'data'!E11635,1),data!A1637,\"\"))","v":""}]
[{"$nulls":22},{"$f":"IF(data!A1638=\"\",\"\",IF(data!E1638=SMALL(data!E1638:'data'!E11636,1),data!A1638,\"\"))","v":""}]
[{"$nulls":22},{"$f":"IF(data!A1639=\"\",\"\",IF(data!E1639=SMALL(data!E1639:'data'!E11637,1),data!A1639,\"\"))","v":""}]
[{"$nulls":22},{"$f":"IF(data!A1640=\"\",\"\",IF(data!E1640=SMALL(data!E1640:'data'!E11638,1),data!A1640,\"\"))","v":""}]
[{"$nulls":22},{"$f":"IF(data!A1641=\"\",\"\",IF(data!E1641=SMALL(data!E1641:'data'!E11639,1),data!A1641,\"\"))","v":""}]
[{"$nulls":22},{"$f":"IF(data!A1642=\"\",\"\",IF(data!E1642=SMALL(data!E1642:'data'!E11640,1),data!A1642,\"\"))","v":""}]
[{"$nulls":22},{"$f":"IF(data!A1643=\"\",\"\",IF(data!E1643=SMALL(data!E1643:'data'!E11641,1),data!A1643,\"\"))","v":""}]
[{"$nulls":22},{"$f":"IF(data!A1644=\"\",\"\",IF(data!E1644=SMALL(data!E1644:'data'!E11642,1),data!A1644,\"\"))","v":""}]
[{"$nulls":22},{"$f":"IF(data!A1645=\"\",\"\",IF(data!E1645=SMALL(data!E1645:'data'!E11643,1),data!A1645,\"\"))","v":""}]
[{"$nulls":22},{"$f":"IF(data!A1646=\"\",\"\",IF(data!E1646=SMALL(data!E1646:'data'!E11644,1),data!A1646,\"\"))","v":""}]
[{"$nulls":22},{"$f":"IF(data!A1647=\"\",\"\",IF(data!E1647=SMALL(data!E1647:'data'!E11645,1),data!A1647,\"\"))","v":""}]
[{"$nulls":22},{"$f":"IF(data!A1648=\"\",\"\",IF(data!E1648=SMALL(data!E1648:'data'!E11646,1),data!A1648,\"\"))","v":""}]
[{"$nulls":22},{"$f":"IF(data!A1649=\"\",\"\",IF(data!E1649=SMALL(data!E1649:'data'!E11647,1),data!A1649,\"\"))","v":""}]
[{"$nulls":22},{"$f":"IF(data!A1650=\"\",\"\",IF(data!E1650=SMALL(data!E1650:'data'!E11648,1),data!A1650,\"\"))","v":""}]
[{"$nulls":22},{"$f":"IF(data!A1651=\"\",\"\",IF(data!E1651=SMALL(data!E1651:'data'!E11649,1),data!A1651,\"\"))","v":""}]
[{"$nulls":22},{"$f":"IF(data!A1652=\"\",\"\",IF(data!E1652=SMALL(data!E1652:'data'!E11650,1),data!A1652,\"\"))","v":""}]
[{"$nulls":22},{"$f":"IF(data!A1653=\"\",\"\",IF(data!E1653=SMALL(data!E1653:'data'!E11651,1),data!A1653,\"\"))","v":""}]
[{"$nulls":22},{"$f":"IF(data!A1654=\"\",\"\",IF(data!E1654=SMALL(data!E1654:'data'!E11652,1),data!A1654,\"\"))","v":""}]
[{"$nulls":22},{"$f":"IF(data!A1655=\"\",\"\",IF(data!E1655=SMALL(data!E1655:'data'!E11653,1),data!A1655,\"\"))","v":""}]
[{"$nulls":22},{"$f":"IF(data!A1656=\"\",\"\",IF(data!E1656=SMALL(data!E1656:'data'!E11654,1),data!A1656,\"\"))","v":""}]
[{"$nulls":22},{"$f":"IF(data!A1657=\"\",\"\",IF(data!E1657=SMALL(data!E1657:'data'!E11655,1),data!A1657,\"\"))","v":""}]
[{"$nulls":22},{"$f":"IF(data!A1658=\"\",\"\",IF(data!E1658=SMALL(data!E1658:'data'!E11656,1),data!A1658,\"\"))","v":""}]
[{"$nulls":22},{"$f":"IF(data!A1659=\"\",\"\",IF(data!E1659=SMALL(data!E1659:'data'!E11657,1),data!A1659,\"\"))","v":""}]
[{"$nulls":22},{"$f":"IF(data!A1660=\"\",\"\",IF(data!E1660=SMALL(data!E1660:'data'!E11658,1),data!A1660,\"\"))","v":""}]
[{"$nulls":22},{"$f":"IF(data!A1661=\"\",\"\",IF(data!E1661=SMALL(data!E1661:'data'!E11659,1),data!A1661,\"\"))","v":""}]
[{"$nulls":22},{"$f":"IF(data!A1662=\"\",\"\",IF(data!E1662=SMALL(data!E1662:'data'!E11660,1),data!A1662,\"\"))","v":""}]
[{"$nulls":22},{"$f":"IF(data!A1663=\"\",\"\",IF(data!E1663=SMALL(data!E1663:'data'!E11661,1),data!A1663,\"\"))","v":""}]
[{"$nulls":22},{"$f":"IF(data!A1664=\"\",\"\",IF(data!E1664=SMALL(data!E1664:'data'!E11662,1),data!A1664,\"\"))","v":""}]
[{"$nulls":22},{"$f":"IF(data!A1665=\"\",\"\",IF(data!E1665=SMALL(data!E1665:'data'!E11663,1),data!A1665,\"\"))","v":""}]
[{"$nulls":22},{"$f":"IF(data!A1666=\"\",\"\",IF(data!E1666=SMALL(data!E1666:'data'!E11664,1),data!A1666,\"\"))","v":""}]
[{"$nulls":22},{"$f":"IF(data!A1667=\"\",\"\",IF(data!E1667=SMALL(data!E1667:'data'!E11665,1),data!A1667,\"\"))","v":""}]
[{"$nulls":22},{"$f":"IF(data!A1668=\"\",\"\",IF(data!E1668=SMALL(data!E1668:'data'!E11666,1),data!A1668,\"\"))","v":""}]
[{"$nulls":22},{"$f":"IF(data!A1669=\"\",\"\",IF(data!E1669=SMALL(data!E1669:'data'!E11667,1),data!A1669,\"\"))","v":""}]
[{"$nulls":22},{"$f":"IF(data!A1670=\"\",\"\",IF(data!E1670=SMALL(data!E1670:'data'!E11668,1),data!A1670,\"\"))","v":""}]
[{"$nulls":22},{"$f":"IF(data!A1671=\"\",\"\",IF(data!E1671=SMALL(data!E1671:'data'!E11669,1),data!A1671,\"\"))","v":""}]
[{"$nulls":22},{"$f":"IF(data!A1672=\"\",\"\",IF(data!E1672=SMALL(data!E1672:'data'!E11670,1),data!A1672,\"\"))","v":""}]
[{"$nulls":22},{"$f":"IF(data!A1673=\"\",\"\",IF(data!E1673=SMALL(data!E1673:'data'!E11671,1),data!A1673,\"\"))","v":""}]
[{"$nulls":22},{"$f":"IF(data!A1674=\"\",\"\",IF(data!E1674=SMALL(data!E1674:'data'!E11672,1),data!A1674,\"\"))","v":""}]
[{"$nulls":22},{"$f":"IF(data!A1675=\"\",\"\",IF(data!E1675=SMALL(data!E1675:'data'!E11673,1),data!A1675,\"\"))","v":""}]
[{"$nulls":22},{"$f":"IF(data!A1676=\"\",\"\",IF(data!E1676=SMALL(data!E1676:'data'!E11674,1),data!A1676,\"\"))","v":""}]
[{"$nulls":22},{"$f":"IF(data!A1677=\"\",\"\",IF(data!E1677=SMALL(data!E1677:'data'!E11675,1),data!A1677,\"\"))","v":""}]
[{"$nulls":22},{"$f":"IF(data!A1678=\"\",\"\",IF(data!E1678=SMALL(data!E1678:'data'!E11676,1),data!A1678,\"\"))","v":""}]
[{"$nulls":22},{"$f":"IF(data!A1679=\"\",\"\",IF(data!E1679=SMALL(data!E1679:'data'!E11677,1),data!A1679,\"\"))","v":""}]
[{"$nulls":22},{"$f":"IF(data!A1680=\"\",\"\",IF(data!E1680=SMALL(data!E1680:'data'!E11678,1),data!A1680,\"\"))","v":""}]
[{"$nulls":22},{"$f":"IF(data!A1681=\"\",\"\",IF(data!E1681=SMALL(data!E1681:'data'!E11679,1),data!A1681,\"\"))","v":""}]
[{"$nulls":22},{"$f":"IF(data!A1682=\"\",\"\",IF(data!E1682=SMALL(data!E1682:'data'!E11680,1),data!A1682,\"\"))","v":""}]
[{"$nulls":22},{"$f":"IF(data!A1683=\"\",\"\",IF(data!E1683=SMALL(data!E1683:'data'!E11681,1),data!A1683,\"\"))","v":""}]
[{"$nulls":22},{"$f":"IF(data!A1684=\"\",\"\",IF(data!E1684=SMALL(data!E1684:'data'!E11682,1),data!A1684,\"\"))","v":""}]
[{"$nulls":22},{"$f":"IF(data!A1685=\"\",\"\",IF(data!E1685=SMALL(data!E1685:'data'!E11683,1),data!A1685,\"\"))","v":""}]
[{"$nulls":22},{"$f":"IF(data!A1686=\"\",\"\",IF(data!E1686=SMALL(data!E1686:'data'!E11684,1),data!A1686,\"\"))","v":""}]
[{"$nulls":22},{"$f":"IF(data!A1687=\"\",\"\",IF(data!E1687=SMALL(data!E1687:'data'!E11685,1),data!A1687,\"\"))","v":""}]
[{"$nulls":22},{"$f":"IF(data!A1688=\"\",\"\",IF(data!E1688=SMALL(data!E1688:'data'!E11686,1),data!A1688,\"\"))","v":""}]
[{"$nulls":22},{"$f":"IF(data!A1689=\"\",\"\",IF(data!E1689=SMALL(data!E1689:'data'!E11687,1),data!A1689,\"\"))","v":""}]
[{"$nulls":22},{"$f":"IF(data!A1690=\"\",\"\",IF(data!E1690=SMALL(data!E1690:'data'!E11688,1),data!A1690,\"\"))","v":""}]
[{"$nulls":22},{"$f":"IF(data!A1691=\"\",\"\",IF(data!E1691=SMALL(data!E1691:'data'!E11689,1),data!A1691,\"\"))","v":""}]
[{"$nulls":22},{"$f":"IF(data!A1692=\"\",\"\",IF(data!E1692=SMALL(data!E1692:'data'!E11690,1),data!A1692,\"\"))","v":""}]
[{"$nulls":22},{"$f":"IF(data!A1693=\"\",\"\",IF(data!E1693=SMALL(data!E1693:'data'!E11691,1),data!A1693,\"\"))","v":""}]
[{"$nulls":22},{"$f":"IF(data!A1694=\"\",\"\",IF(data!E1694=SMALL(data!E1694:'data'!E11692,1),data!A1694,\"\"))","v":""}]
[{"$nulls":22},{"$f":"IF(data!A1695=\"\",\"\",IF(data!E1695=SMALL(data!E1695:'data'!E11693,1),data!A1695,\"\"))","v":""}]
[{"$nulls":22},{"$f":"IF(data!A1696=\"\",\"\",IF(data!E1696=SMALL(data!E1696:'data'!E11694,1),data!A1696,\"\"))","v":""}]
[{"$nulls":22},{"$f":"IF(data!A1697=\"\",\"\",IF(data!E1697=SMALL(data!E1697:'data'!E11695,1),data!A1697,\"\"))","v":""}]
[{"$nulls":22},{"$f":"IF(data!A1698=\"\",\"\",IF(data!E1698=SMALL(data!E1698:'data'!E11696,1),data!A1698,\"\"))","v":""}]
[{"$nulls":22},{"$f":"IF(data!A1699=\"\",\"\",IF(data!E1699=SMALL(data!E1699:'data'!E11697,1),data!A1699,\"\"))","v":""}]
[{"$nulls":22},{"$f":"IF(data!A1700=\"\",\"\",IF(data!E1700=SMALL(data!E1700:'data'!E11698,1),data!A1700,\"\"))","v":""}]
[{"$nulls":22},{"$f":"IF(data!A1701=\"\",\"\",IF(data!E1701=SMALL(data!E1701:'data'!E11699,1),data!A1701,\"\"))","v":""}]
[{"$nulls":22},{"$f":"IF(data!A1702=\"\",\"\",IF(data!E1702=SMALL(data!E1702:'data'!E11700,1),data!A1702,\"\"))","v":""}]
[{"$nulls":22},{"$f":"IF(data!A1703=\"\",\"\",IF(data!E1703=SMALL(data!E1703:'data'!E11701,1),data!A1703,\"\"))","v":""}]
[{"$nulls":22},{"$f":"IF(data!A1704=\"\",\"\",IF(data!E1704=SMALL(data!E1704:'data'!E11702,1),data!A1704,\"\"))","v":""}]
[{"$nulls":22},{"$f":"IF(data!A1705=\"\",\"\",IF(data!E1705=SMALL(data!E1705:'data'!E11703,1),data!A1705,\"\"))","v":""}]
[{"$nulls":22},{"$f":"IF(data!A1706=\"\",\"\",IF(data!E1706=SMALL(data!E1706:'data'!E11704,1),data!A1706,\"\"))","v":""}]
[{"$nulls":22},{"$f":"IF(data!A1707=\"\",\"\",IF(data!E1707=SMALL(data!E1707:'data'!E11705,1),data!A1707,\"\"))","v":""}]
[{"$nulls":22},{"$f":"IF(data!A1708=\"\",\"\",IF(data!E1708=SMALL(data!E1708:'data'!E11706,1),data!A1708,\"\"))","v":""}]
[{"$nulls":22},{"$f":"IF(data!A1709=\"\",\"\",IF(data!E1709=SMALL(data!E1709:'data'!E11707,1),data!A1709,\"\"))","v":""}]
[{"$nulls":22},{"$f":"IF(data!A1710=\"\",\"\",IF(data!E1710=SMALL(data!E1710:'data'!E11708,1),data!A1710,\"\"))","v":""}]
[{"$nulls":22},{"$f":"IF(data!A1711=\"\",\"\",IF(data!E1711=SMALL(data!E1711:'data'!E11709,1),data!A1711,\"\"))","v":""}]
[{"$nulls":22},{"$f":"IF(data!A1712=\"\",\"\",IF(data!E1712=SMALL(data!E1712:'data'!E11710,1),data!A1712,\"\"))","v":""}]
[{"$nulls":22},{"$f":"IF(data!A1713=\"\",\"\",IF(data!E1713=SMALL(data!E1713:'data'!E11711,1),data!A1713,\"\"))","v":""}]
[{"$nulls":22},{"$f":"IF(data!A1714=\"\",\"\",IF(data!E1714=SMALL(data!E1714:'data'!E11712,1),data!A1714,\"\"))","v":""}]
[{"$nulls":22},{"$f":"IF(data!A1715=\"\",\"\",IF(data!E1715=SMALL(data!E1715:'data'!E11713,1),data!A1715,\"\"))","v":""}]
[{"$nulls":22},{"$f":"IF(data!A1716=\"\",\"\",IF(data!E1716=SMALL(data!E1716:'data'!E11714,1),data!A1716,\"\"))","v":""}]
[{"$nulls":22},{"$f":"IF(data!A1717=\"\",\"\",IF(data!E1717=SMALL(data!E1717:'data'!E11715,1),data!A1717,\"\"))","v":""}]
[{"$nulls":22},{"$f":"IF(data!A1718=\"\",\"\",IF(data!E1718=SMALL(data!E1718:'data'!E11716,1),data!A1718,\"\"))","v":""}]
[{"$nulls":22},{"$f":"IF(data!A1719=\"\",\"\",IF(data!E1719=SMALL(data!E1719:'data'!E11717,1),data!A1719,\"\"))","v":""}]
[{"$nulls":22},{"$f":"IF(data!A1720=\"\",\"\",IF(data!E1720=SMALL(data!E1720:'data'!E11718,1),data!A1720,\"\"))","v":""}]
[{"$nulls":22},{"$f":"IF(data!A1721=\"\",\"\",IF(data!E1721=SMALL(data!E1721:'data'!E11719,1),data!A1721,\"\"))","v":""}]
[{"$nulls":22},{"$f":"IF(data!A1722=\"\",\"\",IF(data!E1722=SMALL(data!E1722:'data'!E11720,1),data!A1722,\"\"))","v":""}]
[{"$nulls":22},{"$f":"IF(data!A1723=\"\",\"\",IF(data!E1723=SMALL(data!E1723:'data'!E11721,1),data!A1723,\"\"))","v":""}]
[{"$nulls":22},{"$f":"IF(data!A1724=\"\",\"\",IF(data!E1724=SMALL(data!E1724:'data'!E11722,1),data!A1724,\"\"))","v":""}]
[{"$nulls":22},{"$f":"IF(data!A1725=\"\",\"\",IF(data!E1725=SMALL(data!E1725:'data'!E11723,1),data!A1725,\"\"))","v":""}]
[{"$nulls":22},{"$f":"IF(data!A1726=\"\",\"\",IF(data!E1726=SMALL(data!E1726:'data'!E11724,1),data!A1726,\"\"))","v":""}]
[{"$nulls":22},{"$f":"IF(data!A1727=\"\",\"\",IF(data!E1727=SMALL(data!E1727:'data'!E11725,1),data!A1727,\"\"))","v":""}]
[{"$nulls":22},{"$f":"IF(data!A1728=\"\",\"\",IF(data!E1728=SMALL(data!E1728:'data'!E11726,1),data!A1728,\"\"))","v":""}]
[{"$nulls":22},{"$f":"IF(data!A1729=\"\",\"\",IF(data!E1729=SMALL(data!E1729:'data'!E11727,1),data!A1729,\"\"))","v":""}]
[{"$nulls":22},{"$f":"IF(data!A1730=\"\",\"\",IF(data!E1730=SMALL(data!E1730:'data'!E11728,1),data!A1730,\"\"))","v":""}]
[{"$nulls":22},{"$f":"IF(data!A1731=\"\",\"\",IF(data!E1731=SMALL(data!E1731:'data'!E11729,1),data!A1731,\"\"))","v":""}]
[{"$nulls":22},{"$f":"IF(data!A1732=\"\",\"\",IF(data!E1732=SMALL(data!E1732:'data'!E11730,1),data!A1732,\"\"))","v":""}]
[{"$nulls":22},{"$f":"IF(data!A1733=\"\",\"\",IF(data!E1733=SMALL(data!E1733:'data'!E11731,1),data!A1733,\"\"))","v":""}]
[{"$nulls":22},{"$f":"IF(data!A1734=\"\",\"\",IF(data!E1734=SMALL(data!E1734:'data'!E11732,1),data!A1734,\"\"))","v":""}]
[{"$nulls":22},{"$f":"IF(data!A1735=\"\",\"\",IF(data!E1735=SMALL(data!E1735:'data'!E11733,1),data!A1735,\"\"))","v":""}]
[{"$nulls":22},{"$f":"IF(data!A1736=\"\",\"\",IF(data!E1736=SMALL(data!E1736:'data'!E11734,1),data!A1736,\"\"))","v":""}]
[{"$nulls":22},{"$f":"IF(data!A1737=\"\",\"\",IF(data!E1737=SMALL(data!E1737:'data'!E11735,1),data!A1737,\"\"))","v":""}]
[{"$nulls":22},{"$f":"IF(data!A1738=\"\",\"\",IF(data!E1738=SMALL(data!E1738:'data'!E11736,1),data!A1738,\"\"))","v":""}]
[{"$nulls":22},{"$f":"IF(data!A1739=\"\",\"\",IF(data!E1739=SMALL(data!E1739:'data'!E11737,1),data!A1739,\"\"))","v":""}]
[{"$nulls":22},{"$f":"IF(data!A1740=\"\",\"\",IF(data!E1740=SMALL(data!E1740:'data'!E11738,1),data!A1740,\"\"))","v":""}]
[{"$nulls":22},{"$f":"IF(data!A1741=\"\",\"\",IF(data!E1741=SMALL(data!E1741:'data'!E11739,1),data!A1741,\"\"))","v":""}]
[{"$nulls":22},{"$f":"IF(data!A1742=\"\",\"\",IF(data!E1742=SMALL(data!E1742:'data'!E11740,1),data!A1742,\"\"))","v":""}]
[{"$nulls":22},{"$f":"IF(data!A1743=\"\",\"\",IF(data!E1743=SMALL(data!E1743:'data'!E11741,1),data!A1743,\"\"))","v":""}]
[{"$nulls":22},{"$f":"IF(data!A1744=\"\",\"\",IF(data!E1744=SMALL(data!E1744:'data'!E11742,1),data!A1744,\"\"))","v":""}]
[{"$nulls":22},{"$f":"IF(data!A1745=\"\",\"\",IF(data!E1745=SMALL(data!E1745:'data'!E11743,1),data!A1745,\"\"))","v":""}]
[{"$nulls":22},{"$f":"IF(data!A1746=\"\",\"\",IF(data!E1746=SMALL(data!E1746:'data'!E11744,1),data!A1746,\"\"))","v":""}]
[{"$nulls":22},{"$f":"IF(data!A1747=\"\",\"\",IF(data!E1747=SMALL(data!E1747:'data'!E11745,1),data!A1747,\"\"))","v":""}]
[{"$nulls":22},{"$f":"IF(data!A1748=\"\",\"\",IF(data!E1748=SMALL(data!E1748:'data'!E11746,1),data!A1748,\"\"))","v":""}]
[{"$nulls":22},{"$f":"IF(data!A1749=\"\",\"\",IF(data!E1749=SMALL(data!E1749:'data'!E11747,1),data!A1749,\"\"))","v":""}]
[{"$nulls":22},{"$f":"IF(data!A1750=\"\",\"\",IF(data!E1750=SMALL(data!E1750:'data'!E11748,1),data!A1750,\"\"))","v":""}]
[{"$nulls":22},{"$f":"IF(data!A1751=\"\",\"\",IF(data!E1751=SMALL(data!E1751:'data'!E11749,1),data!A1751,\"\"))","v":""}]
[{"$nulls":22},{"$f":"IF(data!A1752=\"\",\"\",IF(data!E1752=SMALL(data!E1752:'data'!E11750,1),data!A1752,\"\"))","v":""}]
[{"$nulls":22},{"$f":"IF(data!A1753=\"\",\"\",IF(data!E1753=SMALL(data!E1753:'data'!E11751,1),data!A1753,\"\"))","v":""}]
[{"$nulls":22},{"$f":"IF(data!A1754=\"\",\"\",IF(data!E1754=SMALL(data!E1754:'data'!E11752,1),data!A1754,\"\"))","v":""}]
[{"$nulls":22},{"$f":"IF(data!A1755=\"\",\"\",IF(data!E1755=SMALL(data!E1755:'data'!E11753,1),data!A1755,\"\"))","v":""}]
[{"$nulls":22},{"$f":"IF(data!A1756=\"\",\"\",IF(data!E1756=SMALL(data!E1756:'data'!E11754,1),data!A1756,\"\"))","v":""}]
[{"$nulls":22},{"$f":"IF(data!A1757=\"\",\"\",IF(data!E1757=SMALL(data!E1757:'data'!E11755,1),data!A1757,\"\"))","v":""}]
[{"$nulls":22},{"$f":"IF(data!A1758=\"\",\"\",IF(data!E1758=SMALL(data!E1758:'data'!E11756,1),data!A1758,\"\"))","v":""}]
[{"$nulls":22},{"$f":"IF(data!A1759=\"\",\"\",IF(data!E1759=SMALL(data!E1759:'data'!E11757,1),data!A1759,\"\"))","v":""}]
[{"$nulls":22},{"$f":"IF(data!A1760=\"\",\"\",IF(data!E1760=SMALL(data!E1760:'data'!E11758,1),data!A1760,\"\"))","v":""}]
[{"$nulls":22},{"$f":"IF(data!A1761=\"\",\"\",IF(data!E1761=SMALL(data!E1761:'data'!E11759,1),data!A1761,\"\"))","v":""}]
[{"$nulls":22},{"$f":"IF(data!A1762=\"\",\"\",IF(data!E1762=SMALL(data!E1762:'data'!E11760,1),data!A1762,\"\"))","v":""}]
[{"$nulls":22},{"$f":"IF(data!A1763=\"\",\"\",IF(data!E1763=SMALL(data!E1763:'data'!E11761,1),data!A1763,\"\"))","v":""}]
[{"$nulls":22},{"$f":"IF(data!A1764=\"\",\"\",IF(data!E1764=SMALL(data!E1764:'data'!E11762,1),data!A1764,\"\"))","v":""}]
[{"$nulls":22},{"$f":"IF(data!A1765=\"\",\"\",IF(data!E1765=SMALL(data!E1765:'data'!E11763,1),data!A1765,\"\"))","v":""}]
[{"$nulls":22},{"$f":"IF(data!A1766=\"\",\"\",IF(data!E1766=SMALL(data!E1766:'data'!E11764,1),data!A1766,\"\"))","v":""}]
[{"$nulls":22},{"$f":"IF(data!A1767=\"\",\"\",IF(data!E1767=SMALL(data!E1767:'data'!E11765,1),data!A1767,\"\"))","v":""}]
[{"$nulls":22},{"$f":"IF(data!A1768=\"\",\"\",IF(data!E1768=SMALL(data!E1768:'data'!E11766,1),data!A1768,\"\"))","v":""}]
[{"$nulls":22},{"$f":"IF(data!A1769=\"\",\"\",IF(data!E1769=SMALL(data!E1769:'data'!E11767,1),data!A1769,\"\"))","v":""}]
[{"$nulls":22},{"$f":"IF(data!A1770=\"\",\"\",IF(data!E1770=SMALL(data!E1770:'data'!E11768,1),data!A1770,\"\"))","v":""}]
[{"$nulls":22},{"$f":"IF(data!A1771=\"\",\"\",IF(data!E1771=SMALL(data!E1771:'data'!E11769,1),data!A1771,\"\"))","v":""}]
[{"$nulls":22},{"$f":"IF(data!A1772=\"\",\"\",IF(data!E1772=SMALL(data!E1772:'data'!E11770,1),data!A1772,\"\"))","v":""}]
[{"$nulls":22},{"$f":"IF(data!A1773=\"\",\"\",IF(data!E1773=SMALL(data!E1773:'data'!E11771,1),data!A1773,\"\"))","v":""}]
[{"$nulls":22},{"$f":"IF(data!A1774=\"\",\"\",IF(data!E1774=SMALL(data!E1774:'data'!E11772,1),data!A1774,\"\"))","v":""}]
[{"$nulls":22},{"$f":"IF(data!A1775=\"\",\"\",IF(data!E1775=SMALL(data!E1775:'data'!E11773,1),data!A1775,\"\"))","v":""}]
[{"$nulls":22},{"$f":"IF(data!A1776=\"\",\"\",IF(data!E1776=SMALL(data!E1776:'data'!E11774,1),data!A1776,\"\"))","v":""}]
[{"$nulls":22},{"$f":"IF(data!A1777=\"\",\"\",IF(data!E1777=SMALL(data!E1777:'data'!E11775,1),data!A1777,\"\"))","v":""}]
[{"$nulls":22},{"$f":"IF(data!A1778=\"\",\"\",IF(data!E1778=SMALL(data!E1778:'data'!E11776,1),data!A1778,\"\"))","v":""}]
[{"$nulls":22},{"$f":"IF(data!A1779=\"\",\"\",IF(data!E1779=SMALL(data!E1779:'data'!E11777,1),data!A1779,\"\"))","v":""}]
[{"$nulls":22},{"$f":"IF(data!A1780=\"\",\"\",IF(data!E1780=SMALL(data!E1780:'data'!E11778,1),data!A1780,\"\"))","v":""}]
[{"$nulls":22},{"$f":"IF(data!A1781=\"\",\"\",IF(data!E1781=SMALL(data!E1781:'data'!E11779,1),data!A1781,\"\"))","v":""}]
[{"$nulls":22},{"$f":"IF(data!A1782=\"\",\"\",IF(data!E1782=SMALL(data!E1782:'data'!E11780,1),data!A1782,\"\"))","v":""}]
[{"$nulls":22},{"$f":"IF(data!A1783=\"\",\"\",IF(data!E1783=SMALL(data!E1783:'data'!E11781,1),data!A1783,\"\"))","v":""}]
[{"$nulls":22},{"$f":"IF(data!A1784=\"\",\"\",IF(data!E1784=SMALL(data!E1784:'data'!E11782,1),data!A1784,\"\"))","v":""}]
[{"$nulls":22},{"$f":"IF(data!A1785=\"\",\"\",IF(data!E1785=SMALL(data!E1785:'data'!E11783,1),data!A1785,\"\"))","v":""}]
[{"$nulls":22},{"$f":"IF(data!A1786=\"\",\"\",IF(data!E1786=SMALL(data!E1786:'data'!E11784,1),data!A1786,\"\"))","v":""}]
[{"$nulls":22},{"$f":"IF(data!A1787=\"\",\"\",IF(data!E1787=SMALL(data!E1787:'data'!E11785,1),data!A1787,\"\"))","v":""}]
[{"$nulls":22},{"$f":"IF(data!A1788=\"\",\"\",IF(data!E1788=SMALL(data!E1788:'data'!E11786,1),data!A1788,\"\"))","v":""}]
[{"$nulls":22},{"$f":"IF(data!A1789=\"\",\"\",IF(data!E1789=SMALL(data!E1789:'data'!E11787,1),data!A1789,\"\"))","v":""}]
[{"$nulls":22},{"$f":"IF(data!A1790=\"\",\"\",IF(data!E1790=SMALL(data!E1790:'data'!E11788,1),data!A1790,\"\"))","v":""}]
[{"$nulls":22},{"$f":"IF(data!A1791=\"\",\"\",IF(data!E1791=SMALL(data!E1791:'data'!E11789,1),data!A1791,\"\"))","v":""}]
[{"$nulls":22},{"$f":"IF(data!A1792=\"\",\"\",IF(data!E1792=SMALL(data!E1792:'data'!E11790,1),data!A1792,\"\"))","v":""}]
[{"$nulls":22},{"$f":"IF(data!A1793=\"\",\"\",IF(data!E1793=SMALL(data!E1793:'data'!E11791,1),data!A1793,\"\"))","v":""}]
[{"$nulls":22},{"$f":"IF(data!A1794=\"\",\"\",IF(data!E1794=SMALL(data!E1794:'data'!E11792,1),data!A1794,\"\"))","v":""}]
[{"$nulls":22},{"$f":"IF(data!A1795=\"\",\"\",IF(data!E1795=SMALL(data!E1795:'data'!E11793,1),data!A1795,\"\"))","v":""}]
[{"$nulls":22},{"$f":"IF(data!A1796=\"\",\"\",IF(data!E1796=SMALL(data!E1796:'data'!E11794,1),data!A1796,\"\"))","v":""}]
[{"$nulls":22},{"$f":"IF(data!A1797=\"\",\"\",IF(data!E1797=SMALL(data!E1797:'data'!E11795,1),data!A1797,\"\"))","v":""}]
[{"$nulls":22},{"$f":"IF(data!A1798=\"\",\"\",IF(data!E1798=SMALL(data!E1798:'data'!E11796,1),data!A1798,\"\"))","v":""}]
[{"$nulls":22},{"$f":"IF(data!A1799=\"\",\"\",IF(data!E1799=SMALL(data!E1799:'data'!E11797,1),data!A1799,\"\"))","v":""}]
[{"$nulls":22},{"$f":"IF(data!A1800=\"\",\"\",IF(data!E1800=SMALL(data!E1800:'data'!E11798,1),data!A1800,\"\"))","v":""}]
[{"$nulls":22},{"$f":"IF(data!A1801=\"\",\"\",IF(data!E1801=SMALL(data!E1801:'data'!E11799,1),data!A1801,\"\"))","v":""}]
[{"$nulls":22},{"$f":"IF(data!A1802=\"\",\"\",IF(data!E1802=SMALL(data!E1802:'data'!E11800,1),data!A1802,\"\"))","v":""}]
[{"$nulls":22},{"$f":"IF(data!A1803=\"\",\"\",IF(data!E1803=SMALL(data!E1803:'data'!E11801,1),data!A1803,\"\"))","v":""}]
[{"$nulls":22},{"$f":"IF(data!A1804=\"\",\"\",IF(data!E1804=SMALL(data!E1804:'data'!E11802,1),data!A1804,\"\"))","v":""}]
[{"$nulls":22},{"$f":"IF(data!A1805=\"\",\"\",IF(data!E1805=SMALL(data!E1805:'data'!E11803,1),data!A1805,\"\"))","v":""}]
[{"$nulls":22},{"$f":"IF(data!A1806=\"\",\"\",IF(data!E1806=SMALL(data!E1806:'data'!E11804,1),data!A1806,\"\"))","v":""}]
[{"$nulls":22},{"$f":"IF(data!A1807=\"\",\"\",IF(data!E1807=SMALL(data!E1807:'data'!E11805,1),data!A1807,\"\"))","v":""}]
[{"$nulls":22},{"$f":"IF(data!A1808=\"\",\"\",IF(data!E1808=SMALL(data!E1808:'data'!E11806,1),data!A1808,\"\"))","v":""}]
[{"$nulls":22},{"$f":"IF(data!A1809=\"\",\"\",IF(data!E1809=SMALL(data!E1809:'data'!E11807,1),data!A1809,\"\"))","v":""}]
[{"$nulls":22},{"$f":"IF(data!A1810=\"\",\"\",IF(data!E1810=SMALL(data!E1810:'data'!E11808,1),data!A1810,\"\"))","v":""}]
[{"$nulls":22},{"$f":"IF(data!A1811=\"\",\"\",IF(data!E1811=SMALL(data!E1811:'data'!E11809,1),data!A1811,\"\"))","v":""}]
[{"$nulls":22},{"$f":"IF(data!A1812=\"\",\"\",IF(data!E1812=SMALL(data!E1812:'data'!E11810,1),data!A1812,\"\"))","v":""}]
[{"$nulls":22},{"$f":"IF(data!A1813=\"\",\"\",IF(data!E1813=SMALL(data!E1813:'data'!E11811,1),data!A1813,\"\"))","v":""}]
[{"$nulls":22},{"$f":"IF(data!A1814=\"\",\"\",IF(data!E1814=SMALL(data!E1814:'data'!E11812,1),data!A1814,\"\"))","v":""}]
[{"$nulls":22},{"$f":"IF(data!A1815=\"\",\"\",IF(data!E1815=SMALL(data!E1815:'data'!E11813,1),data!A1815,\"\"))","v":""}]
[{"$nulls":22},{"$f":"IF(data!A1816=\"\",\"\",IF(data!E1816=SMALL(data!E1816:'data'!E11814,1),data!A1816,\"\"))","v":""}]
[{"$nulls":22},{"$f":"IF(data!A1817=\"\",\"\",IF(data!E1817=SMALL(data!E1817:'data'!E11815,1),data!A1817,\"\"))","v":""}]
[{"$nulls":22},{"$f":"IF(data!A1818=\"\",\"\",IF(data!E1818=SMALL(data!E1818:'data'!E11816,1),data!A1818,\"\"))","v":""}]
[{"$nulls":22},{"$f":"IF(data!A1819=\"\",\"\",IF(data!E1819=SMALL(data!E1819:'data'!E11817,1),data!A1819,\"\"))","v":""}]
[{"$nulls":22},{"$f":"IF(data!A1820=\"\",\"\",IF(data!E1820=SMALL(data!E1820:'data'!E11818,1),data!A1820,\"\"))","v":""}]
[{"$nulls":22},{"$f":"IF(data!A1821=\"\",\"\",IF(data!E1821=SMALL(data!E1821:'data'!E11819,1),data!A1821,\"\"))","v":""}]
[{"$nulls":22},{"$f":"IF(data!A1822=\"\",\"\",IF(data!E1822=SMALL(data!E1822:'data'!E11820,1),data!A1822,\"\"))","v":""}]
[{"$nulls":22},{"$f":"IF(data!A1823=\"\",\"\",IF(data!E1823=SMALL(data!E1823:'data'!E11821,1),data!A1823,\"\"))","v":""}]
[{"$nulls":22},{"$f":"IF(data!A1824=\"\",\"\",IF(data!E1824=SMALL(data!E1824:'data'!E11822,1),data!A1824,\"\"))","v":""}]
[{"$nulls":22},{"$f":"IF(data!A1825=\"\",\"\",IF(data!E1825=SMALL(data!E1825:'data'!E11823,1),data!A1825,\"\"))","v":""}]
[{"$nulls":22},{"$f":"IF(data!A1826=\"\",\"\",IF(data!E1826=SMALL(data!E1826:'data'!E11824,1),data!A1826,\"\"))","v":""}]
[{"$nulls":22},{"$f":"IF(data!A1827=\"\",\"\",IF(data!E1827=SMALL(data!E1827:'data'!E11825,1),data!A1827,\"\"))","v":""}]
[{"$nulls":22},{"$f":"IF(data!A1828=\"\",\"\",IF(data!E1828=SMALL(data!E1828:'data'!E11826,1),data!A1828,\"\"))","v":""}]
[{"$nulls":22},{"$f":"IF(data!A1829=\"\",\"\",IF(data!E1829=SMALL(data!E1829:'data'!E11827,1),data!A1829,\"\"))","v":""}]
[{"$nulls":22},{"$f":"IF(data!A1830=\"\",\"\",IF(data!E1830=SMALL(data!E1830:'data'!E11828,1),data!A1830,\"\"))","v":""}]
[{"$nulls":22},{"$f":"IF(data!A1831=\"\",\"\",IF(data!E1831=SMALL(data!E1831:'data'!E11829,1),data!A1831,\"\"))","v":""}]
[{"$nulls":22},{"$f":"IF(data!A1832=\"\",\"\",IF(data!E1832=SMALL(data!E1832:'data'!E11830,1),data!A1832,\"\"))","v":""}]
[{"$nulls":22},{"$f":"IF(data!A1833=\"\",\"\",IF(data!E1833=SMALL(data!E1833:'data'!E11831,1),data!A1833,\"\"))","v":""}]
[{"$nulls":22},{"$f":"IF(data!A1834=\"\",\"\",IF(data!E1834=SMALL(data!E1834:'data'!E11832,1),data!A1834,\"\"))","v":""}]
[{"$nulls":22},{"$f":"IF(data!A1835=\"\",\"\",IF(data!E1835=SMALL(data!E1835:'data'!E11833,1),data!A1835,\"\"))","v":""}]
[{"$nulls":22},{"$f":"IF(data!A1836=\"\",\"\",IF(data!E1836=SMALL(data!E1836:'data'!E11834,1),data!A1836,\"\"))","v":""}]
[{"$nulls":22},{"$f":"IF(data!A1837=\"\",\"\",IF(data!E1837=SMALL(data!E1837:'data'!E11835,1),data!A1837,\"\"))","v":""}]
[{"$nulls":22},{"$f":"IF(data!A1838=\"\",\"\",IF(data!E1838=SMALL(data!E1838:'data'!E11836,1),data!A1838,\"\"))","v":""}]
[{"$nulls":22},{"$f":"IF(data!A1839=\"\",\"\",IF(data!E1839=SMALL(data!E1839:'data'!E11837,1),data!A1839,\"\"))","v":""}]
[{"$nulls":22},{"$f":"IF(data!A1840=\"\",\"\",IF(data!E1840=SMALL(data!E1840:'data'!E11838,1),data!A1840,\"\"))","v":""}]
[{"$nulls":22},{"$f":"IF(data!A1841=\"\",\"\",IF(data!E1841=SMALL(data!E1841:'data'!E11839,1),data!A1841,\"\"))","v":""}]
[{"$nulls":22},{"$f":"IF(data!A1842=\"\",\"\",IF(data!E1842=SMALL(data!E1842:'data'!E11840,1),data!A1842,\"\"))","v":""}]
[{"$nulls":22},{"$f":"IF(data!A1843=\"\",\"\",IF(data!E1843=SMALL(data!E1843:'data'!E11841,1),data!A1843,\"\"))","v":""}]
[{"$nulls":22},{"$f":"IF(data!A1844=\"\",\"\",IF(data!E1844=SMALL(data!E1844:'data'!E11842,1),data!A1844,\"\"))","v":""}]
[{"$nulls":22},{"$f":"IF(data!A1845=\"\",\"\",IF(data!E1845=SMALL(data!E1845:'data'!E11843,1),data!A1845,\"\"))","v":""}]
[{"$nulls":22},{"$f":"IF(data!A1846=\"\",\"\",IF(data!E1846=SMALL(data!E1846:'data'!E11844,1),data!A1846,\"\"))","v":""}]
[{"$nulls":22},{"$f":"IF(data!A1847=\"\",\"\",IF(data!E1847=SMALL(data!E1847:'data'!E11845,1),data!A1847,\"\"))","v":""}]
[{"$nulls":22},{"$f":"IF(data!A1848=\"\",\"\",IF(data!E1848=SMALL(data!E1848:'data'!E11846,1),data!A1848,\"\"))","v":""}]
[{"$nulls":22},{"$f":"IF(data!A1849=\"\",\"\",IF(data!E1849=SMALL(data!E1849:'data'!E11847,1),data!A1849,\"\"))","v":""}]
[{"$nulls":22},{"$f":"IF(data!A1850=\"\",\"\",IF(data!E1850=SMALL(data!E1850:'data'!E11848,1),data!A1850,\"\"))","v":""}]
[{"$nulls":22},{"$f":"IF(data!A1851=\"\",\"\",IF(data!E1851=SMALL(data!E1851:'data'!E11849,1),data!A1851,\"\"))","v":""}]
[{"$nulls":22},{"$f":"IF(data!A1852=\"\",\"\",IF(data!E1852=SMALL(data!E1852:'data'!E11850,1),data!A1852,\"\"))","v":""}]
[{"$nulls":22},{"$f":"IF(data!A1853=\"\",\"\",IF(data!E1853=SMALL(data!E1853:'data'!E11851,1),data!A1853,\"\"))","v":""}]
[{"$nulls":22},{"$f":"IF(data!A1854=\"\",\"\",IF(data!E1854=SMALL(data!E1854:'data'!E11852,1),data!A1854,\"\"))","v":""}]
[{"$nulls":22},{"$f":"IF(data!A1855=\"\",\"\",IF(data!E1855=SMALL(data!E1855:'data'!E11853,1),data!A1855,\"\"))","v":""}]
[{"$nulls":22},{"$f":"IF(data!A1856=\"\",\"\",IF(data!E1856=SMALL(data!E1856:'data'!E11854,1),data!A1856,\"\"))","v":""}]
[{"$nulls":22},{"$f":"IF(data!A1857=\"\",\"\",IF(data!E1857=SMALL(data!E1857:'data'!E11855,1),data!A1857,\"\"))","v":""}]
[{"$nulls":22},{"$f":"IF(data!A1858=\"\",\"\",IF(data!E1858=SMALL(data!E1858:'data'!E11856,1),data!A1858,\"\"))","v":""}]
[{"$nulls":22},{"$f":"IF(data!A1859=\"\",\"\",IF(data!E1859=SMALL(data!E1859:'data'!E11857,1),data!A1859,\"\"))","v":""}]
[{"$nulls":22},{"$f":"IF(data!A1860=\"\",\"\",IF(data!E1860=SMALL(data!E1860:'data'!E11858,1),data!A1860,\"\"))","v":""}]
[{"$nulls":22},{"$f":"IF(data!A1861=\"\",\"\",IF(data!E1861=SMALL(data!E1861:'data'!E11859,1),data!A1861,\"\"))","v":""}]
[{"$nulls":22},{"$f":"IF(data!A1862=\"\",\"\",IF(data!E1862=SMALL(data!E1862:'data'!E11860,1),data!A1862,\"\"))","v":""}]
[{"$nulls":22},{"$f":"IF(data!A1863=\"\",\"\",IF(data!E1863=SMALL(data!E1863:'data'!E11861,1),data!A1863,\"\"))","v":""}]
[{"$nulls":22},{"$f":"IF(data!A1864=\"\",\"\",IF(data!E1864=SMALL(data!E1864:'data'!E11862,1),data!A1864,\"\"))","v":""}]
[{"$nulls":22},{"$f":"IF(data!A1865=\"\",\"\",IF(data!E1865=SMALL(data!E1865:'data'!E11863,1),data!A1865,\"\"))","v":""}]
[{"$nulls":22},{"$f":"IF(data!A1866=\"\",\"\",IF(data!E1866=SMALL(data!E1866:'data'!E11864,1),data!A1866,\"\"))","v":""}]
[{"$nulls":22},{"$f":"IF(data!A1867=\"\",\"\",IF(data!E1867=SMALL(data!E1867:'data'!E11865,1),data!A1867,\"\"))","v":""}]
[{"$nulls":22},{"$f":"IF(data!A1868=\"\",\"\",IF(data!E1868=SMALL(data!E1868:'data'!E11866,1),data!A1868,\"\"))","v":""}]
[{"$nulls":22},{"$f":"IF(data!A1869=\"\",\"\",IF(data!E1869=SMALL(data!E1869:'data'!E11867,1),data!A1869,\"\"))","v":""}]
[{"$nulls":22},{"$f":"IF(data!A1870=\"\",\"\",IF(data!E1870=SMALL(data!E1870:'data'!E11868,1),data!A1870,\"\"))","v":""}]
[{"$nulls":22},{"$f":"IF(data!A1871=\"\",\"\",IF(data!E1871=SMALL(data!E1871:'data'!E11869,1),data!A1871,\"\"))","v":""}]
[{"$nulls":22},{"$f":"IF(data!A1872=\"\",\"\",IF(data!E1872=SMALL(data!E1872:'data'!E11870,1),data!A1872,\"\"))","v":""}]
[{"$nulls":22},{"$f":"IF(data!A1873=\"\",\"\",IF(data!E1873=SMALL(data!E1873:'data'!E11871,1),data!A1873,\"\"))","v":""}]
[{"$nulls":22},{"$f":"IF(data!A1874=\"\",\"\",IF(data!E1874=SMALL(data!E1874:'data'!E11872,1),data!A1874,\"\"))","v":""}]
[{"$nulls":22},{"$f":"IF(data!A1875=\"\",\"\",IF(data!E1875=SMALL(data!E1875:'data'!E11873,1),data!A1875,\"\"))","v":""}]
[{"$nulls":22},{"$f":"IF(data!A1876=\"\",\"\",IF(data!E1876=SMALL(data!E1876:'data'!E11874,1),data!A1876,\"\"))","v":""}]
[{"$nulls":22},{"$f":"IF(data!A1877=\"\",\"\",IF(data!E1877=SMALL(data!E1877:'data'!E11875,1),data!A1877,\"\"))","v":""}]
[{"$nulls":22},{"$f":"IF(data!A1878=\"\",\"\",IF(data!E1878=SMALL(data!E1878:'data'!E11876,1),data!A1878,\"\"))","v":""}]
[{"$nulls":22},{"$f":"IF(data!A1879=\"\",\"\",IF(data!E1879=SMALL(data!E1879:'data'!E11877,1),data!A1879,\"\"))","v":""}]
[{"$nulls":22},{"$f":"IF(data!A1880=\"\",\"\",IF(data!E1880=SMALL(data!E1880:'data'!E11878,1),data!A1880,\"\"))","v":""}]
[{"$nulls":22},{"$f":"IF(data!A1881=\"\",\"\",IF(data!E1881=SMALL(data!E1881:'data'!E11879,1),data!A1881,\"\"))","v":""}]
[{"$nulls":22},{"$f":"IF(data!A1882=\"\",\"\",IF(data!E1882=SMALL(data!E1882:'data'!E11880,1),data!A1882,\"\"))","v":""}]
[{"$nulls":22},{"$f":"IF(data!A1883=\"\",\"\",IF(data!E1883=SMALL(data!E1883:'data'!E11881,1),data!A1883,\"\"))","v":""}]
[{"$nulls":22},{"$f":"IF(data!A1884=\"\",\"\",IF(data!E1884=SMALL(data!E1884:'data'!E11882,1),data!A1884,\"\"))","v":""}]
[{"$nulls":22},{"$f":"IF(data!A1885=\"\",\"\",IF(data!E1885=SMALL(data!E1885:'data'!E11883,1),data!A1885,\"\"))","v":""}]
[{"$nulls":22},{"$f":"IF(data!A1886=\"\",\"\",IF(data!E1886=SMALL(data!E1886:'data'!E11884,1),data!A1886,\"\"))","v":""}]
[{"$nulls":22},{"$f":"IF(data!A1887=\"\",\"\",IF(data!E1887=SMALL(data!E1887:'data'!E11885,1),data!A1887,\"\"))","v":""}]
[{"$nulls":22},{"$f":"IF(data!A1888=\"\",\"\",IF(data!E1888=SMALL(data!E1888:'data'!E11886,1),data!A1888,\"\"))","v":""}]
[{"$nulls":22},{"$f":"IF(data!A1889=\"\",\"\",IF(data!E1889=SMALL(data!E1889:'data'!E11887,1),data!A1889,\"\"))","v":""}]
[{"$nulls":22},{"$f":"IF(data!A1890=\"\",\"\",IF(data!E1890=SMALL(data!E1890:'data'!E11888,1),data!A1890,\"\"))","v":""}]
[{"$nulls":22},{"$f":"IF(data!A1891=\"\",\"\",IF(data!E1891=SMALL(data!E1891:'data'!E11889,1),data!A1891,\"\"))","v":""}]
[{"$nulls":22},{"$f":"IF(data!A1892=\"\",\"\",IF(data!E1892=SMALL(data!E1892:'data'!E11890,1),data!A1892,\"\"))","v":""}]
[{"$nulls":22},{"$f":"IF(data!A1893=\"\",\"\",IF(data!E1893=SMALL(data!E1893:'data'!E11891,1),data!A1893,\"\"))","v":""}]
[{"$nulls":22},{"$f":"IF(data!A1894=\"\",\"\",IF(data!E1894=SMALL(data!E1894:'data'!E11892,1),data!A1894,\"\"))","v":""}]
[{"$nulls":22},{"$f":"IF(data!A1895=\"\",\"\",IF(data!E1895=SMALL(data!E1895:'data'!E11893,1),data!A1895,\"\"))","v":""}]
[{"$nulls":22},{"$f":"IF(data!A1896=\"\",\"\",IF(data!E1896=SMALL(data!E1896:'data'!E11894,1),data!A1896,\"\"))","v":""}]
[{"$nulls":22},{"$f":"IF(data!A1897=\"\",\"\",IF(data!E1897=SMALL(data!E1897:'data'!E11895,1),data!A1897,\"\"))","v":""}]
[{"$nulls":22},{"$f":"IF(data!A1898=\"\",\"\",IF(data!E1898=SMALL(data!E1898:'data'!E11896,1),data!A1898,\"\"))","v":""}]
[{"$nulls":22},{"$f":"IF(data!A1899=\"\",\"\",IF(data!E1899=SMALL(data!E1899:'data'!E11897,1),data!A1899,\"\"))","v":""}]
[{"$nulls":22},{"$f":"IF(data!A1900=\"\",\"\",IF(data!E1900=SMALL(data!E1900:'data'!E11898,1),data!A1900,\"\"))","v":""}]
[{"$nulls":22},{"$f":"IF(data!A1901=\"\",\"\",IF(data!E1901=SMALL(data!E1901:'data'!E11899,1),data!A1901,\"\"))","v":""}]
[{"$nulls":22},{"$f":"IF(data!A1902=\"\",\"\",IF(data!E1902=SMALL(data!E1902:'data'!E11900,1),data!A1902,\"\"))","v":""}]
[{"$nulls":22},{"$f":"IF(data!A1903=\"\",\"\",IF(data!E1903=SMALL(data!E1903:'data'!E11901,1),data!A1903,\"\"))","v":""}]
[{"$nulls":22},{"$f":"IF(data!A1904=\"\",\"\",IF(data!E1904=SMALL(data!E1904:'data'!E11902,1),data!A1904,\"\"))","v":""}]
[{"$nulls":22},{"$f":"IF(data!A1905=\"\",\"\",IF(data!E1905=SMALL(data!E1905:'data'!E11903,1),data!A1905,\"\"))","v":""}]
[{"$nulls":22},{"$f":"IF(data!A1906=\"\",\"\",IF(data!E1906=SMALL(data!E1906:'data'!E11904,1),data!A1906,\"\"))","v":""}]
[{"$nulls":22},{"$f":"IF(data!A1907=\"\",\"\",IF(data!E1907=SMALL(data!E1907:'data'!E11905,1),data!A1907,\"\"))","v":""}]
[{"$nulls":22},{"$f":"IF(data!A1908=\"\",\"\",IF(data!E1908=SMALL(data!E1908:'data'!E11906,1),data!A1908,\"\"))","v":""}]
[{"$nulls":22},{"$f":"IF(data!A1909=\"\",\"\",IF(data!E1909=SMALL(data!E1909:'data'!E11907,1),data!A1909,\"\"))","v":""}]
[{"$nulls":22},{"$f":"IF(data!A1910=\"\",\"\",IF(data!E1910=SMALL(data!E1910:'data'!E11908,1),data!A1910,\"\"))","v":""}]
[{"$nulls":22},{"$f":"IF(data!A1911=\"\",\"\",IF(data!E1911=SMALL(data!E1911:'data'!E11909,1),data!A1911,\"\"))","v":""}]
[{"$nulls":22},{"$f":"IF(data!A1912=\"\",\"\",IF(data!E1912=SMALL(data!E1912:'data'!E11910,1),data!A1912,\"\"))","v":""}]
[{"$nulls":22},{"$f":"IF(data!A1913=\"\",\"\",IF(data!E1913=SMALL(data!E1913:'data'!E11911,1),data!A1913,\"\"))","v":""}]
[{"$nulls":22},{"$f":"IF(data!A1914=\"\",\"\",IF(data!E1914=SMALL(data!E1914:'data'!E11912,1),data!A1914,\"\"))","v":""}]
[{"$nulls":22},{"$f":"IF(data!A1915=\"\",\"\",IF(data!E1915=SMALL(data!E1915:'data'!E11913,1),data!A1915,\"\"))","v":""}]
[{"$nulls":22},{"$f":"IF(data!A1916=\"\",\"\",IF(data!E1916=SMALL(data!E1916:'data'!E11914,1),data!A1916,\"\"))","v":""}]
[{"$nulls":22},{"$f":"IF(data!A1917=\"\",\"\",IF(data!E1917=SMALL(data!E1917:'data'!E11915,1),data!A1917,\"\"))","v":""}]
[{"$nulls":22},{"$f":"IF(data!A1918=\"\",\"\",IF(data!E1918=SMALL(data!E1918:'data'!E11916,1),data!A1918,\"\"))","v":""}]
[{"$nulls":22},{"$f":"IF(data!A1919=\"\",\"\",IF(data!E1919=SMALL(data!E1919:'data'!E11917,1),data!A1919,\"\"))","v":""}]
[{"$nulls":22},{"$f":"IF(data!A1920=\"\",\"\",IF(data!E1920=SMALL(data!E1920:'data'!E11918,1),data!A1920,\"\"))","v":""}]
[{"$nulls":22},{"$f":"IF(data!A1921=\"\",\"\",IF(data!E1921=SMALL(data!E1921:'data'!E11919,1),data!A1921,\"\"))","v":""}]
[{"$nulls":22},{"$f":"IF(data!A1922=\"\",\"\",IF(data!E1922=SMALL(data!E1922:'data'!E11920,1),data!A1922,\"\"))","v":""}]
[{"$nulls":22},{"$f":"IF(data!A1923=\"\",\"\",IF(data!E1923=SMALL(data!E1923:'data'!E11921,1),data!A1923,\"\"))","v":""}]
[{"$nulls":22},{"$f":"IF(data!A1924=\"\",\"\",IF(data!E1924=SMALL(data!E1924:'data'!E11922,1),data!A1924,\"\"))","v":""}]
[{"$nulls":22},{"$f":"IF(data!A1925=\"\",\"\",IF(data!E1925=SMALL(data!E1925:'data'!E11923,1),data!A1925,\"\"))","v":""}]
[{"$nulls":22},{"$f":"IF(data!A1926=\"\",\"\",IF(data!E1926=SMALL(data!E1926:'data'!E11924,1),data!A1926,\"\"))","v":""}]
[{"$nulls":22},{"$f":"IF(data!A1927=\"\",\"\",IF(data!E1927=SMALL(data!E1927:'data'!E11925,1),data!A1927,\"\"))","v":""}]
[{"$nulls":22},{"$f":"IF(data!A1928=\"\",\"\",IF(data!E1928=SMALL(data!E1928:'data'!E11926,1),data!A1928,\"\"))","v":""}]
[{"$nulls":22},{"$f":"IF(data!A1929=\"\",\"\",IF(data!E1929=SMALL(data!E1929:'data'!E11927,1),data!A1929,\"\"))","v":""}]
[{"$nulls":22},{"$f":"IF(data!A1930=\"\",\"\",IF(data!E1930=SMALL(data!E1930:'data'!E11928,1),data!A1930,\"\"))","v":""}]
[{"$nulls":22},{"$f":"IF(data!A1931=\"\",\"\",IF(data!E1931=SMALL(data!E1931:'data'!E11929,1),data!A1931,\"\"))","v":""}]
[{"$nulls":22},{"$f":"IF(data!A1932=\"\",\"\",IF(data!E1932=SMALL(data!E1932:'data'!E11930,1),data!A1932,\"\"))","v":""}]
[{"$nulls":22},{"$f":"IF(data!A1933=\"\",\"\",IF(data!E1933=SMALL(data!E1933:'data'!E11931,1),data!A1933,\"\"))","v":""}]
[{"$nulls":22},{"$f":"IF(data!A1934=\"\",\"\",IF(data!E1934=SMALL(data!E1934:'data'!E11932,1),data!A1934,\"\"))","v":""}]
[{"$nulls":22},{"$f":"IF(data!A1935=\"\",\"\",IF(data!E1935=SMALL(data!E1935:'data'!E11933,1),data!A1935,\"\"))","v":""}]
[{"$nulls":22},{"$f":"IF(data!A1936=\"\",\"\",IF(data!E1936=SMALL(data!E1936:'data'!E11934,1),data!A1936,\"\"))","v":""}]
[{"$nulls":22},{"$f":"IF(data!A1937=\"\",\"\",IF(data!E1937=SMALL(data!E1937:'data'!E11935,1),data!A1937,\"\"))","v":""}]
[{"$nulls":22},{"$f":"IF(data!A1938=\"\",\"\",IF(data!E1938=SMALL(data!E1938:'data'!E11936,1),data!A1938,\"\"))","v":""}]
[{"$nulls":22},{"$f":"IF(data!A1939=\"\",\"\",IF(data!E1939=SMALL(data!E1939:'data'!E11937,1),data!A1939,\"\"))","v":""}]
[{"$nulls":22},{"$f":"IF(data!A1940=\"\",\"\",IF(data!E1940=SMALL(data!E1940:'data'!E11938,1),data!A1940,\"\"))","v":""}]
[{"$nulls":22},{"$f":"IF(data!A1941=\"\",\"\",IF(data!E1941=SMALL(data!E1941:'data'!E11939,1),data!A1941,\"\"))","v":""}]
[{"$nulls":22},{"$f":"IF(data!A1942=\"\",\"\",IF(data!E1942=SMALL(data!E1942:'data'!E11940,1),data!A1942,\"\"))","v":""}]
[{"$nulls":22},{"$f":"IF(data!A1943=\"\",\"\",IF(data!E1943=SMALL(data!E1943:'data'!E11941,1),data!A1943,\"\"))","v":""}]
[{"$nulls":22},{"$f":"IF(data!A1944=\"\",\"\",IF(data!E1944=SMALL(data!E1944:'data'!E11942,1),data!A1944,\"\"))","v":""}]
[{"$nulls":22},{"$f":"IF(data!A1945=\"\",\"\",IF(data!E1945=SMALL(data!E1945:'data'!E11943,1),data!A1945,\"\"))","v":""}]
[{"$nulls":22},{"$f":"IF(data!A1946=\"\",\"\",IF(data!E1946=SMALL(data!E1946:'data'!E11944,1),data!A1946,\"\"))","v":""}]
[{"$nulls":22},{"$f":"IF(data!A1947=\"\",\"\",IF(data!E1947=SMALL(data!E1947:'data'!E11945,1),data!A1947,\"\"))","v":""}]
[{"$nulls":22},{"$f":"IF(data!A1948=\"\",\"\",IF(data!E1948=SMALL(data!E1948:'data'!E11946,1),data!A1948,\"\"))","v":""}]
[{"$nulls":22},{"$f":"IF(data!A1949=\"\",\"\",IF(data!E1949=SMALL(data!E1949:'data'!E11947,1),data!A1949,\"\"))","v":""}]
[{"$nulls":22},{"$f":"IF(data!A1950=\"\",\"\",IF(data!E1950=SMALL(data!E1950:'data'!E11948,1),data!A1950,\"\"))","v":""}]
[{"$nulls":22},{"$f":"IF(data!A1951=\"\",\"\",IF(data!E1951=SMALL(data!E1951:'data'!E11949,1),data!A1951,\"\"))","v":""}]
[{"$nulls":22},{"$f":"IF(data!A1952=\"\",\"\",IF(data!E1952=SMALL(data!E1952:'data'!E11950,1),data!A1952,\"\"))","v":""}]
[{"$nulls":22},{"$f":"IF(data!A1953=\"\",\"\",IF(data!E1953=SMALL(data!E1953:'data'!E11951,1),data!A1953,\"\"))","v":""}]
[{"$nulls":22},{"$f":"IF(data!A1954=\"\",\"\",IF(data!E1954=SMALL(data!E1954:'data'!E11952,1),data!A1954,\"\"))","v":""}]
[{"$nulls":22},{"$f":"IF(data!A1955=\"\",\"\",IF(data!E1955=SMALL(data!E1955:'data'!E11953,1),data!A1955,\"\"))","v":""}]
[{"$nulls":22},{"$f":"IF(data!A1956=\"\",\"\",IF(data!E1956=SMALL(data!E1956:'data'!E11954,1),data!A1956,\"\"))","v":""}]
[{"$nulls":22},{"$f":"IF(data!A1957=\"\",\"\",IF(data!E1957=SMALL(data!E1957:'data'!E11955,1),data!A1957,\"\"))","v":""}]
[{"$nulls":22},{"$f":"IF(data!A1958=\"\",\"\",IF(data!E1958=SMALL(data!E1958:'data'!E11956,1),data!A1958,\"\"))","v":""}]
[{"$nulls":22},{"$f":"IF(data!A1959=\"\",\"\",IF(data!E1959=SMALL(data!E1959:'data'!E11957,1),data!A1959,\"\"))","v":""}]
[{"$nulls":22},{"$f":"IF(data!A1960=\"\",\"\",IF(data!E1960=SMALL(data!E1960:'data'!E11958,1),data!A1960,\"\"))","v":""}]
[{"$nulls":22},{"$f":"IF(data!A1961=\"\",\"\",IF(data!E1961=SMALL(data!E1961:'data'!E11959,1),data!A1961,\"\"))","v":""}]
[{"$nulls":22},{"$f":"IF(data!A1962=\"\",\"\",IF(data!E1962=SMALL(data!E1962:'data'!E11960,1),data!A1962,\"\"))","v":""}]
[{"$nulls":22},{"$f":"IF(data!A1963=\"\",\"\",IF(data!E1963=SMALL(data!E1963:'data'!E11961,1),data!A1963,\"\"))","v":""}]
[{"$nulls":22},{"$f":"IF(data!A1964=\"\",\"\",IF(data!E1964=SMALL(data!E1964:'data'!E11962,1),data!A1964,\"\"))","v":""}]
[{"$nulls":22},{"$f":"IF(data!A1965=\"\",\"\",IF(data!E1965=SMALL(data!E1965:'data'!E11963,1),data!A1965,\"\"))","v":""}]
[{"$nulls":22},{"$f":"IF(data!A1966=\"\",\"\",IF(data!E1966=SMALL(data!E1966:'data'!E11964,1),data!A1966,\"\"))","v":""}]
[{"$nulls":22},{"$f":"IF(data!A1967=\"\",\"\",IF(data!E1967=SMALL(data!E1967:'data'!E11965,1),data!A1967,\"\"))","v":""}]
[{"$nulls":22},{"$f":"IF(data!A1968=\"\",\"\",IF(data!E1968=SMALL(data!E1968:'data'!E11966,1),data!A1968,\"\"))","v":""}]
[{"$nulls":22},{"$f":"IF(data!A1969=\"\",\"\",IF(data!E1969=SMALL(data!E1969:'data'!E11967,1),data!A1969,\"\"))","v":""}]
[{"$nulls":22},{"$f":"IF(data!A1970=\"\",\"\",IF(data!E1970=SMALL(data!E1970:'data'!E11968,1),data!A1970,\"\"))","v":""}]
[{"$nulls":22},{"$f":"IF(data!A1971=\"\",\"\",IF(data!E1971=SMALL(data!E1971:'data'!E11969,1),data!A1971,\"\"))","v":""}]
[{"$nulls":22},{"$f":"IF(data!A1972=\"\",\"\",IF(data!E1972=SMALL(data!E1972:'data'!E11970,1),data!A1972,\"\"))","v":""}]
[{"$nulls":22},{"$f":"IF(data!A1973=\"\",\"\",IF(data!E1973=SMALL(data!E1973:'data'!E11971,1),data!A1973,\"\"))","v":""}]
[{"$nulls":22},{"$f":"IF(data!A1974=\"\",\"\",IF(data!E1974=SMALL(data!E1974:'data'!E11972,1),data!A1974,\"\"))","v":""}]
[{"$nulls":22},{"$f":"IF(data!A1975=\"\",\"\",IF(data!E1975=SMALL(data!E1975:'data'!E11973,1),data!A1975,\"\"))","v":""}]
[{"$nulls":22},{"$f":"IF(data!A1976=\"\",\"\",IF(data!E1976=SMALL(data!E1976:'data'!E11974,1),data!A1976,\"\"))","v":""}]
[{"$nulls":22},{"$f":"IF(data!A1977=\"\",\"\",IF(data!E1977=SMALL(data!E1977:'data'!E11975,1),data!A1977,\"\"))","v":""}]
[{"$nulls":22},{"$f":"IF(data!A1978=\"\",\"\",IF(data!E1978=SMALL(data!E1978:'data'!E11976,1),data!A1978,\"\"))","v":""}]
[{"$nulls":22},{"$f":"IF(data!A1979=\"\",\"\",IF(data!E1979=SMALL(data!E1979:'data'!E11977,1),data!A1979,\"\"))","v":""}]
[{"$nulls":22},{"$f":"IF(data!A1980=\"\",\"\",IF(data!E1980=SMALL(data!E1980:'data'!E11978,1),data!A1980,\"\"))","v":""}]
[{"$nulls":22},{"$f":"IF(data!A1981=\"\",\"\",IF(data!E1981=SMALL(data!E1981:'data'!E11979,1),data!A1981,\"\"))","v":""}]
[{"$nulls":22},{"$f":"IF(data!A1982=\"\",\"\",IF(data!E1982=SMALL(data!E1982:'data'!E11980,1),data!A1982,\"\"))","v":""}]
[{"$nulls":22},{"$f":"IF(data!A1983=\"\",\"\",IF(data!E1983=SMALL(data!E1983:'data'!E11981,1),data!A1983,\"\"))","v":""}]
[{"$nulls":22},{"$f":"IF(data!A1984=\"\",\"\",IF(data!E1984=SMALL(data!E1984:'data'!E11982,1),data!A1984,\"\"))","v":""}]
[{"$nulls":22},{"$f":"IF(data!A1985=\"\",\"\",IF(data!E1985=SMALL(data!E1985:'data'!E11983,1),data!A1985,\"\"))","v":""}]
[{"$nulls":22},{"$f":"IF(data!A1986=\"\",\"\",IF(data!E1986=SMALL(data!E1986:'data'!E11984,1),data!A1986,\"\"))","v":""}]
[{"$nulls":22},{"$f":"IF(data!A1987=\"\",\"\",IF(data!E1987=SMALL(data!E1987:'data'!E11985,1),data!A1987,\"\"))","v":""}]
[{"$nulls":22},{"$f":"IF(data!A1988=\"\",\"\",IF(data!E1988=SMALL(data!E1988:'data'!E11986,1),data!A1988,\"\"))","v":""}]
[{"$nulls":22},{"$f":"IF(data!A1989=\"\",\"\",IF(data!E1989=SMALL(data!E1989:'data'!E11987,1),data!A1989,\"\"))","v":""}]
[{"$nulls":22},{"$f":"IF(data!A1990=\"\",\"\",IF(data!E1990=SMALL(data!E1990:'data'!E11988,1),data!A1990,\"\"))","v":""}]
[{"$nulls":22},{"$f":"IF(data!A1991=\"\",\"\",IF(data!E1991=SMALL(data!E1991:'data'!E11989,1),data!A1991,\"\"))","v":""}]
[{"$nulls":22},{"$f":"IF(data!A1992=\"\",\"\",IF(data!E1992=SMALL(data!E1992:'data'!E11990,1),data!A1992,\"\"))","v":""}]
[{"$nulls":22},{"$f":"IF(data!A1993=\"\",\"\",IF(data!E1993=SMALL(data!E1993:'data'!E11991,1),data!A1993,\"\"))","v":""}]
[{"$nulls":22},{"$f":"IF(data!A1994=\"\",\"\",IF(data!E1994=SMALL(data!E1994:'data'!E11992,1),data!A1994,\"\"))","v":""}]
[{"$nulls":22},{"$f":"IF(data!A1995=\"\",\"\",IF(data!E1995=SMALL(data!E1995:'data'!E11993,1),data!A1995,\"\"))","v":""}]
[{"$nulls":22},{"$f":"IF(data!A1996=\"\",\"\",IF(data!E1996=SMALL(data!E1996:'data'!E11994,1),data!A1996,\"\"))","v":""}]
[{"$nulls":22},{"$f":"IF(data!A1997=\"\",\"\",IF(data!E1997=SMALL(data!E1997:'data'!E11995,1),data!A1997,\"\"))","v":""}]
[{"$nulls":22},{"$f":"IF(data!A1998=\"\",\"\",IF(data!E1998=SMALL(data!E1998:'data'!E11996,1),data!A1998,\"\"))","v":""}]
[{"$nulls":22},{"$f":"IF(data!A1999=\"\",\"\",IF(data!E1999=SMALL(data!E1999:'data'!E11997,1),data!A1999,\"\"))","v":""}]
[{"$nulls":22},{"$f":"IF(data!A2000=\"\",\"\",IF(data!E2000=SMALL(data!E2000:'data'!E11998,1),data!A2000,\"\"))","v":""}]
[{"$nulls":22},{"$f":"IF(data!A2001=\"\",\"\",IF(data!E2001=SMALL(data!E2001:'data'!E11999,1),data!A2001,\"\"))","v":""}]
[{"$nulls":22},{"$f":"IF(data!A2002=\"\",\"\",IF(data!E2002=SMALL(data!E2002:'data'!E12000,1),data!A2002,\"\"))","v":""}]
[{"$nulls":22},{"$f":"IF(data!A2003=\"\",\"\",IF(data!E2003=SMALL(data!E2003:'data'!E12001,1),data!A2003,\"\"))","v":""}]
[{"$nulls":22},{"$f":"IF(data!A2004=\"\",\"\",IF(data!E2004=SMALL(data!E2004:'data'!E12002,1),data!A2004,\"\"))","v":""}]
[{"$nulls":22},{"$f":"IF(data!A2005=\"\",\"\",IF(data!E2005=SMALL(data!E2005:'data'!E12003,1),data!A2005,\"\"))","v":""}]
[{"$nulls":22},{"$f":"IF(data!A2006=\"\",\"\",IF(data!E2006=SMALL(data!E2006:'data'!E12004,1),data!A2006,\"\"))","v":""}]
[{"$nulls":22},{"$f":"IF(data!A2007=\"\",\"\",IF(data!E2007=SMALL(data!E2007:'data'!E12005,1),data!A2007,\"\"))","v":""}]
[{"$nulls":22},{"$f":"IF(data!A2008=\"\",\"\",IF(data!E2008=SMALL(data!E2008:'data'!E12006,1),data!A2008,\"\"))","v":""}]
[{"$nulls":22},{"$f":"IF(data!A2009=\"\",\"\",IF(data!E2009=SMALL(data!E2009:'data'!E12007,1),data!A2009,\"\"))","v":""}]
[{"$nulls":22},{"$f":"IF(data!A2010=\"\",\"\",IF(data!E2010=SMALL(data!E2010:'data'!E12008,1),data!A2010,\"\"))","v":""}]
[{"$nulls":22},{"$f":"IF(data!A2011=\"\",\"\",IF(data!E2011=SMALL(data!E2011:'data'!E12009,1),data!A2011,\"\"))","v":""}]
[{"$nulls":22},{"$f":"IF(data!A2012=\"\",\"\",IF(data!E2012=SMALL(data!E2012:'data'!E12010,1),data!A2012,\"\"))","v":""}]
[{"$nulls":22},{"$f":"IF(data!A2013=\"\",\"\",IF(data!E2013=SMALL(data!E2013:'data'!E12011,1),data!A2013,\"\"))","v":""}]
[{"$nulls":22},{"$f":"IF(data!A2014=\"\",\"\",IF(data!E2014=SMALL(data!E2014:'data'!E12012,1),data!A2014,\"\"))","v":""}]
[{"$nulls":22},{"$f":"IF(data!A2015=\"\",\"\",IF(data!E2015=SMALL(data!E2015:'data'!E12013,1),data!A2015,\"\"))","v":""}]
[{"$nulls":22},{"$f":"IF(data!A2016=\"\",\"\",IF(data!E2016=SMALL(data!E2016:'data'!E12014,1),data!A2016,\"\"))","v":""}]
[{"$nulls":22},{"$f":"IF(data!A2017=\"\",\"\",IF(data!E2017=SMALL(data!E2017:'data'!E12015,1),data!A2017,\"\"))","v":""}]
[{"$nulls":22},{"$f":"IF(data!A2018=\"\",\"\",IF(data!E2018=SMALL(data!E2018:'data'!E12016,1),data!A2018,\"\"))","v":""}]
[{"$nulls":22},{"$f":"IF(data!A2019=\"\",\"\",IF(data!E2019=SMALL(data!E2019:'data'!E12017,1),data!A2019,\"\"))","v":""}]
[{"$nulls":22},{"$f":"IF(data!A2020=\"\",\"\",IF(data!E2020=SMALL(data!E2020:'data'!E12018,1),data!A2020,\"\"))","v":""}]
[{"$nulls":22},{"$f":"IF(data!A2021=\"\",\"\",IF(data!E2021=SMALL(data!E2021:'data'!E12019,1),data!A2021,\"\"))","v":""}]
[{"$nulls":22},{"$f":"IF(data!A2022=\"\",\"\",IF(data!E2022=SMALL(data!E2022:'data'!E12020,1),data!A2022,\"\"))","v":""}]
[{"$nulls":22},{"$f":"IF(data!A2023=\"\",\"\",IF(data!E2023=SMALL(data!E2023:'data'!E12021,1),data!A2023,\"\"))","v":""}]
[{"$nulls":22},{"$f":"IF(data!A2024=\"\",\"\",IF(data!E2024=SMALL(data!E2024:'data'!E12022,1),data!A2024,\"\"))","v":""}]
[{"$nulls":22},{"$f":"IF(data!A2025=\"\",\"\",IF(data!E2025=SMALL(data!E2025:'data'!E12023,1),data!A2025,\"\"))","v":""}]
[{"$nulls":22},{"$f":"IF(data!A2026=\"\",\"\",IF(data!E2026=SMALL(data!E2026:'data'!E12024,1),data!A2026,\"\"))","v":""}]
[{"$nulls":22},{"$f":"IF(data!A2027=\"\",\"\",IF(data!E2027=SMALL(data!E2027:'data'!E12025,1),data!A2027,\"\"))","v":""}]
[{"$nulls":22},{"$f":"IF(data!A2028=\"\",\"\",IF(data!E2028=SMALL(data!E2028:'data'!E12026,1),data!A2028,\"\"))","v":""}]
[{"$nulls":22},{"$f":"IF(data!A2029=\"\",\"\",IF(data!E2029=SMALL(data!E2029:'data'!E12027,1),data!A2029,\"\"))","v":""}]
[{"$nulls":22},{"$f":"IF(data!A2030=\"\",\"\",IF(data!E2030=SMALL(data!E2030:'data'!E12028,1),data!A2030,\"\"))","v":""}]
[{"$nulls":22},{"$f":"IF(data!A2031=\"\",\"\",IF(data!E2031=SMALL(data!E2031:'data'!E12029,1),data!A2031,\"\"))","v":""}]
[{"$nulls":22},{"$f":"IF(data!A2032=\"\",\"\",IF(data!E2032=SMALL(data!E2032:'data'!E12030,1),data!A2032,\"\"))","v":""}]
[{"$nulls":22},{"$f":"IF(data!A2033=\"\",\"\",IF(data!E2033=SMALL(data!E2033:'data'!E12031,1),data!A2033,\"\"))","v":""}]
[{"$nulls":22},{"$f":"IF(data!A2034=\"\",\"\",IF(data!E2034=SMALL(data!E2034:'data'!E12032,1),data!A2034,\"\"))","v":""}]
[{"$nulls":22},{"$f":"IF(data!A2035=\"\",\"\",IF(data!E2035=SMALL(data!E2035:'data'!E12033,1),data!A2035,\"\"))","v":""}]
[{"$nulls":22},{"$f":"IF(data!A2036=\"\",\"\",IF(data!E2036=SMALL(data!E2036:'data'!E12034,1),data!A2036,\"\"))","v":""}]
[{"$nulls":22},{"$f":"IF(data!A2037=\"\",\"\",IF(data!E2037=SMALL(data!E2037:'data'!E12035,1),data!A2037,\"\"))","v":""}]
[{"$nulls":22},{"$f":"IF(data!A2038=\"\",\"\",IF(data!E2038=SMALL(data!E2038:'data'!E12036,1),data!A2038,\"\"))","v":""}]
[{"$nulls":22},{"$f":"IF(data!A2039=\"\",\"\",IF(data!E2039=SMALL(data!E2039:'data'!E12037,1),data!A2039,\"\"))","v":""}]
[{"$nulls":22},{"$f":"IF(data!A2040=\"\",\"\",IF(data!E2040=SMALL(data!E2040:'data'!E12038,1),data!A2040,\"\"))","v":""}]
[{"$nulls":22},{"$f":"IF(data!A2041=\"\",\"\",IF(data!E2041=SMALL(data!E2041:'data'!E12039,1),data!A2041,\"\"))","v":""}]
[{"$nulls":22},{"$f":"IF(data!A2042=\"\",\"\",IF(data!E2042=SMALL(data!E2042:'data'!E12040,1),data!A2042,\"\"))","v":""}]
[{"$nulls":22},{"$f":"IF(data!A2043=\"\",\"\",IF(data!E2043=SMALL(data!E2043:'data'!E12041,1),data!A2043,\"\"))","v":""}]
[{"$nulls":22},{"$f":"IF(data!A2044=\"\",\"\",IF(data!E2044=SMALL(data!E2044:'data'!E12042,1),data!A2044,\"\"))","v":""}]
[{"$nulls":22},{"$f":"IF(data!A2045=\"\",\"\",IF(data!E2045=SMALL(data!E2045:'data'!E12043,1),data!A2045,\"\"))","v":""}]
[{"$nulls":22},{"$f":"IF(data!A2046=\"\",\"\",IF(data!E2046=SMALL(data!E2046:'data'!E12044,1),data!A2046,\"\"))","v":""}]
[{"$nulls":22},{"$f":"IF(data!A2047=\"\",\"\",IF(data!E2047=SMALL(data!E2047:'data'!E12045,1),data!A2047,\"\"))","v":""}]
[{"$nulls":22},{"$f":"IF(data!A2048=\"\",\"\",IF(data!E2048=SMALL(data!E2048:'data'!E12046,1),data!A2048,\"\"))","v":""}]
[{"$nulls":22},{"$f":"IF(data!A2049=\"\",\"\",IF(data!E2049=SMALL(data!E2049:'data'!E12047,1),data!A2049,\"\"))","v":""}]
[{"$nulls":22},{"$f":"IF(data!A2050=\"\",\"\",IF(data!E2050=SMALL(data!E2050:'data'!E12048,1),data!A2050,\"\"))","v":""}]
[{"$nulls":22},{"$f":"IF(data!A2051=\"\",\"\",IF(data!E2051=SMALL(data!E2051:'data'!E12049,1),data!A2051,\"\"))","v":""}]
[{"$nulls":22},{"$f":"IF(data!A2052=\"\",\"\",IF(data!E2052=SMALL(data!E2052:'data'!E12050,1),data!A2052,\"\"))","v":""}]
[{"$nulls":22},{"$f":"IF(data!A2053=\"\",\"\",IF(data!E2053=SMALL(data!E2053:'data'!E12051,1),data!A2053,\"\"))","v":""}]
[{"$nulls":22},{"$f":"IF(data!A2054=\"\",\"\",IF(data!E2054=SMALL(data!E2054:'data'!E12052,1),data!A2054,\"\"))","v":""}]
[{"$nulls":22},{"$f":"IF(data!A2055=\"\",\"\",IF(data!E2055=SMALL(data!E2055:'data'!E12053,1),data!A2055,\"\"))","v":""}]
[{"$nulls":22},{"$f":"IF(data!A2056=\"\",\"\",IF(data!E2056=SMALL(data!E2056:'data'!E12054,1),data!A2056,\"\"))","v":""}]
[{"$nulls":22},{"$f":"IF(data!A2057=\"\",\"\",IF(data!E2057=SMALL(data!E2057:'data'!E12055,1),data!A2057,\"\"))","v":""}]
[{"$nulls":22},{"$f":"IF(data!A2058=\"\",\"\",IF(data!E2058=SMALL(data!E2058:'data'!E12056,1),data!A2058,\"\"))","v":""}]
[{"$nulls":22},{"$f":"IF(data!A2059=\"\",\"\",IF(data!E2059=SMALL(data!E2059:'data'!E12057,1),data!A2059,\"\"))","v":""}]
[{"$nulls":22},{"$f":"IF(data!A2060=\"\",\"\",IF(data!E2060=SMALL(data!E2060:'data'!E12058,1),data!A2060,\"\"))","v":""}]
[{"$nulls":22},{"$f":"IF(data!A2061=\"\",\"\",IF(data!E2061=SMALL(data!E2061:'data'!E12059,1),data!A2061,\"\"))","v":""}]
[{"$nulls":22},{"$f":"IF(data!A2062=\"\",\"\",IF(data!E2062=SMALL(data!E2062:'data'!E12060,1),data!A2062,\"\"))","v":""}]
[{"$nulls":22},{"$f":"IF(data!A2063=\"\",\"\",IF(data!E2063=SMALL(data!E2063:'data'!E12061,1),data!A2063,\"\"))","v":""}]
[{"$nulls":22},{"$f":"IF(data!A2064=\"\",\"\",IF(data!E2064=SMALL(data!E2064:'data'!E12062,1),data!A2064,\"\"))","v":""}]
[{"$nulls":22},{"$f":"IF(data!A2065=\"\",\"\",IF(data!E2065=SMALL(data!E2065:'data'!E12063,1),data!A2065,\"\"))","v":""}]
[{"$nulls":22},{"$f":"IF(data!A2066=\"\",\"\",IF(data!E2066=SMALL(data!E2066:'data'!E12064,1),data!A2066,\"\"))","v":""}]
[{"$nulls":22},{"$f":"IF(data!A2067=\"\",\"\",IF(data!E2067=SMALL(data!E2067:'data'!E12065,1),data!A2067,\"\"))","v":""}]
[{"$nulls":22},{"$f":"IF(data!A2068=\"\",\"\",IF(data!E2068=SMALL(data!E2068:'data'!E12066,1),data!A2068,\"\"))","v":""}]
[{"$nulls":22},{"$f":"IF(data!A2069=\"\",\"\",IF(data!E2069=SMALL(data!E2069:'data'!E12067,1),data!A2069,\"\"))","v":""}]
[{"$nulls":22},{"$f":"IF(data!A2070=\"\",\"\",IF(data!E2070=SMALL(data!E2070:'data'!E12068,1),data!A2070,\"\"))","v":""}]
[{"$nulls":22},{"$f":"IF(data!A2071=\"\",\"\",IF(data!E2071=SMALL(data!E2071:'data'!E12069,1),data!A2071,\"\"))","v":""}]
[{"$nulls":22},{"$f":"IF(data!A2072=\"\",\"\",IF(data!E2072=SMALL(data!E2072:'data'!E12070,1),data!A2072,\"\"))","v":""}]
[{"$nulls":22},{"$f":"IF(data!A2073=\"\",\"\",IF(data!E2073=SMALL(data!E2073:'data'!E12071,1),data!A2073,\"\"))","v":""}]
[{"$nulls":22},{"$f":"IF(data!A2074=\"\",\"\",IF(data!E2074=SMALL(data!E2074:'data'!E12072,1),data!A2074,\"\"))","v":""}]
[{"$nulls":22},{"$f":"IF(data!A2075=\"\",\"\",IF(data!E2075=SMALL(data!E2075:'data'!E12073,1),data!A2075,\"\"))","v":""}]
[{"$nulls":22},{"$f":"IF(data!A2076=\"\",\"\",IF(data!E2076=SMALL(data!E2076:'data'!E12074,1),data!A2076,\"\"))","v":""}]
[{"$nulls":22},{"$f":"IF(data!A2077=\"\",\"\",IF(data!E2077=SMALL(data!E2077:'data'!E12075,1),data!A2077,\"\"))","v":""}]
[{"$nulls":22},{"$f":"IF(data!A2078=\"\",\"\",IF(data!E2078=SMALL(data!E2078:'data'!E12076,1),data!A2078,\"\"))","v":""}]
[{"$nulls":22},{"$f":"IF(data!A2079=\"\",\"\",IF(data!E2079=SMALL(data!E2079:'data'!E12077,1),data!A2079,\"\"))","v":""}]
[{"$nulls":22},{"$f":"IF(data!A2080=\"\",\"\",IF(data!E2080=SMALL(data!E2080:'data'!E12078,1),data!A2080,\"\"))","v":""}]
[{"$nulls":22},{"$f":"IF(data!A2081=\"\",\"\",IF(data!E2081=SMALL(data!E2081:'data'!E12079,1),data!A2081,\"\"))","v":""}]
[{"$nulls":22},{"$f":"IF(data!A2082=\"\",\"\",IF(data!E2082=SMALL(data!E2082:'data'!E12080,1),data!A2082,\"\"))","v":""}]
[{"$nulls":22},{"$f":"IF(data!A2083=\"\",\"\",IF(data!E2083=SMALL(data!E2083:'data'!E12081,1),data!A2083,\"\"))","v":""}]
[{"$nulls":22},{"$f":"IF(data!A2084=\"\",\"\",IF(data!E2084=SMALL(data!E2084:'data'!E12082,1),data!A2084,\"\"))","v":""}]
[{"$nulls":22},{"$f":"IF(data!A2085=\"\",\"\",IF(data!E2085=SMALL(data!E2085:'data'!E12083,1),data!A2085,\"\"))","v":""}]
[{"$nulls":22},{"$f":"IF(data!A2086=\"\",\"\",IF(data!E2086=SMALL(data!E2086:'data'!E12084,1),data!A2086,\"\"))","v":""}]
[{"$nulls":22},{"$f":"IF(data!A2087=\"\",\"\",IF(data!E2087=SMALL(data!E2087:'data'!E12085,1),data!A2087,\"\"))","v":""}]
[{"$nulls":22},{"$f":"IF(data!A2088=\"\",\"\",IF(data!E2088=SMALL(data!E2088:'data'!E12086,1),data!A2088,\"\"))","v":""}]
[{"$nulls":22},{"$f":"IF(data!A2089=\"\",\"\",IF(data!E2089=SMALL(data!E2089:'data'!E12087,1),data!A2089,\"\"))","v":""}]
[{"$nulls":22},{"$f":"IF(data!A2090=\"\",\"\",IF(data!E2090=SMALL(data!E2090:'data'!E12088,1),data!A2090,\"\"))","v":""}]
[{"$nulls":22},{"$f":"IF(data!A2091=\"\",\"\",IF(data!E2091=SMALL(data!E2091:'data'!E12089,1),data!A2091,\"\"))","v":""}]
[{"$nulls":22},{"$f":"IF(data!A2092=\"\",\"\",IF(data!E2092=SMALL(data!E2092:'data'!E12090,1),data!A2092,\"\"))","v":""}]
[{"$nulls":22},{"$f":"IF(data!A2093=\"\",\"\",IF(data!E2093=SMALL(data!E2093:'data'!E12091,1),data!A2093,\"\"))","v":""}]
[{"$nulls":22},{"$f":"IF(data!A2094=\"\",\"\",IF(data!E2094=SMALL(data!E2094:'data'!E12092,1),data!A2094,\"\"))","v":""}]
[{"$nulls":22},{"$f":"IF(data!A2095=\"\",\"\",IF(data!E2095=SMALL(data!E2095:'data'!E12093,1),data!A2095,\"\"))","v":""}]
[{"$nulls":22},{"$f":"IF(data!A2096=\"\",\"\",IF(data!E2096=SMALL(data!E2096:'data'!E12094,1),data!A2096,\"\"))","v":""}]
[{"$nulls":22},{"$f":"IF(data!A2097=\"\",\"\",IF(data!E2097=SMALL(data!E2097:'data'!E12095,1),data!A2097,\"\"))","v":""}]
[{"$nulls":22},{"$f":"IF(data!A2098=\"\",\"\",IF(data!E2098=SMALL(data!E2098:'data'!E12096,1),data!A2098,\"\"))","v":""}]
[{"$nulls":22},{"$f":"IF(data!A2099=\"\",\"\",IF(data!E2099=SMALL(data!E2099:'data'!E12097,1),data!A2099,\"\"))","v":""}]
[{"$nulls":22},{"$f":"IF(data!A2100=\"\",\"\",IF(data!E2100=SMALL(data!E2100:'data'!E12098,1),data!A2100,\"\"))","v":""}]
[{"$nulls":22},{"$f":"IF(data!A2101=\"\",\"\",IF(data!E2101=SMALL(data!E2101:'data'!E12099,1),data!A2101,\"\"))","v":""}]
[{"$nulls":22},{"$f":"IF(data!A2102=\"\",\"\",IF(data!E2102=SMALL(data!E2102:'data'!E12100,1),data!A2102,\"\"))","v":""}]
[{"$nulls":22},{"$f":"IF(data!A2103=\"\",\"\",IF(data!E2103=SMALL(data!E2103:'data'!E12101,1),data!A2103,\"\"))","v":""}]
[{"$nulls":22},{"$f":"IF(data!A2104=\"\",\"\",IF(data!E2104=SMALL(data!E2104:'data'!E12102,1),data!A2104,\"\"))","v":""}]
[{"$nulls":22},{"$f":"IF(data!A2105=\"\",\"\",IF(data!E2105=SMALL(data!E2105:'data'!E12103,1),data!A2105,\"\"))","v":""}]
[{"$nulls":22},{"$f":"IF(data!A2106=\"\",\"\",IF(data!E2106=SMALL(data!E2106:'data'!E12104,1),data!A2106,\"\"))","v":""}]
[{"$nulls":22},{"$f":"IF(data!A2107=\"\",\"\",IF(data!E2107=SMALL(data!E2107:'data'!E12105,1),data!A2107,\"\"))","v":""}]
[{"$nulls":22},{"$f":"IF(data!A2108=\"\",\"\",IF(data!E2108=SMALL(data!E2108:'data'!E12106,1),data!A2108,\"\"))","v":""}]
[{"$nulls":22},{"$f":"IF(data!A2109=\"\",\"\",IF(data!E2109=SMALL(data!E2109:'data'!E12107,1),data!A2109,\"\"))","v":""}]
[{"$nulls":22},{"$f":"IF(data!A2110=\"\",\"\",IF(data!E2110=SMALL(data!E2110:'data'!E12108,1),data!A2110,\"\"))","v":""}]
[{"$nulls":22},{"$f":"IF(data!A2111=\"\",\"\",IF(data!E2111=SMALL(data!E2111:'data'!E12109,1),data!A2111,\"\"))","v":""}]
[{"$nulls":22},{"$f":"IF(data!A2112=\"\",\"\",IF(data!E2112=SMALL(data!E2112:'data'!E12110,1),data!A2112,\"\"))","v":""}]
[{"$nulls":22},{"$f":"IF(data!A2113=\"\",\"\",IF(data!E2113=SMALL(data!E2113:'data'!E12111,1),data!A2113,\"\"))","v":""}]
[{"$nulls":22},{"$f":"IF(data!A2114=\"\",\"\",IF(data!E2114=SMALL(data!E2114:'data'!E12112,1),data!A2114,\"\"))","v":""}]
[{"$nulls":22},{"$f":"IF(data!A2115=\"\",\"\",IF(data!E2115=SMALL(data!E2115:'data'!E12113,1),data!A2115,\"\"))","v":""}]
[{"$nulls":22},{"$f":"IF(data!A2116=\"\",\"\",IF(data!E2116=SMALL(data!E2116:'data'!E12114,1),data!A2116,\"\"))","v":""}]
[{"$nulls":22},{"$f":"IF(data!A2117=\"\",\"\",IF(data!E2117=SMALL(data!E2117:'data'!E12115,1),data!A2117,\"\"))","v":""}]
[{"$nulls":22},{"$f":"IF(data!A2118=\"\",\"\",IF(data!E2118=SMALL(data!E2118:'data'!E12116,1),data!A2118,\"\"))","v":""}]
[{"$nulls":22},{"$f":"IF(data!A2119=\"\",\"\",IF(data!E2119=SMALL(data!E2119:'data'!E12117,1),data!A2119,\"\"))","v":""}]
[{"$nulls":22},{"$f":"IF(data!A2120=\"\",\"\",IF(data!E2120=SMALL(data!E2120:'data'!E12118,1),data!A2120,\"\"))","v":""}]
[{"$nulls":22},{"$f":"IF(data!A2121=\"\",\"\",IF(data!E2121=SMALL(data!E2121:'data'!E12119,1),data!A2121,\"\"))","v":""}]
[{"$nulls":22},{"$f":"IF(data!A2122=\"\",\"\",IF(data!E2122=SMALL(data!E2122:'data'!E12120,1),data!A2122,\"\"))","v":""}]
[{"$nulls":22},{"$f":"IF(data!A2123=\"\",\"\",IF(data!E2123=SMALL(data!E2123:'data'!E12121,1),data!A2123,\"\"))","v":""}]
[{"$nulls":22},{"$f":"IF(data!A2124=\"\",\"\",IF(data!E2124=SMALL(data!E2124:'data'!E12122,1),data!A2124,\"\"))","v":""}]
[{"$nulls":22},{"$f":"IF(data!A2125=\"\",\"\",IF(data!E2125=SMALL(data!E2125:'data'!E12123,1),data!A2125,\"\"))","v":""}]
[{"$nulls":22},{"$f":"IF(data!A2126=\"\",\"\",IF(data!E2126=SMALL(data!E2126:'data'!E12124,1),data!A2126,\"\"))","v":""}]
[{"$nulls":22},{"$f":"IF(data!A2127=\"\",\"\",IF(data!E2127=SMALL(data!E2127:'data'!E12125,1),data!A2127,\"\"))","v":""}]
[{"$nulls":22},{"$f":"IF(data!A2128=\"\",\"\",IF(data!E2128=SMALL(data!E2128:'data'!E12126,1),data!A2128,\"\"))","v":""}]
[{"$nulls":22},{"$f":"IF(data!A2129=\"\",\"\",IF(data!E2129=SMALL(data!E2129:'data'!E12127,1),data!A2129,\"\"))","v":""}]
[{"$nulls":22},{"$f":"IF(data!A2130=\"\",\"\",IF(data!E2130=SMALL(data!E2130:'data'!E12128,1),data!A2130,\"\"))","v":""}]
[{"$nulls":22},{"$f":"IF(data!A2131=\"\",\"\",IF(data!E2131=SMALL(data!E2131:'data'!E12129,1),data!A2131,\"\"))","v":""}]
[{"$nulls":22},{"$f":"IF(data!A2132=\"\",\"\",IF(data!E2132=SMALL(data!E2132:'data'!E12130,1),data!A2132,\"\"))","v":""}]
[{"$nulls":22},{"$f":"IF(data!A2133=\"\",\"\",IF(data!E2133=SMALL(data!E2133:'data'!E12131,1),data!A2133,\"\"))","v":""}]
[{"$nulls":22},{"$f":"IF(data!A2134=\"\",\"\",IF(data!E2134=SMALL(data!E2134:'data'!E12132,1),data!A2134,\"\"))","v":""}]
[{"$nulls":22},{"$f":"IF(data!A2135=\"\",\"\",IF(data!E2135=SMALL(data!E2135:'data'!E12133,1),data!A2135,\"\"))","v":""}]
[{"$nulls":22},{"$f":"IF(data!A2136=\"\",\"\",IF(data!E2136=SMALL(data!E2136:'data'!E12134,1),data!A2136,\"\"))","v":""}]
[{"$nulls":22},{"$f":"IF(data!A2137=\"\",\"\",IF(data!E2137=SMALL(data!E2137:'data'!E12135,1),data!A2137,\"\"))","v":""}]
[{"$nulls":22},{"$f":"IF(data!A2138=\"\",\"\",IF(data!E2138=SMALL(data!E2138:'data'!E12136,1),data!A2138,\"\"))","v":""}]
[{"$nulls":22},{"$f":"IF(data!A2139=\"\",\"\",IF(data!E2139=SMALL(data!E2139:'data'!E12137,1),data!A2139,\"\"))","v":""}]
[{"$nulls":22},{"$f":"IF(data!A2140=\"\",\"\",IF(data!E2140=SMALL(data!E2140:'data'!E12138,1),data!A2140,\"\"))","v":""}]
[{"$nulls":22},{"$f":"IF(data!A2141=\"\",\"\",IF(data!E2141=SMALL(data!E2141:'data'!E12139,1),data!A2141,\"\"))","v":""}]
[{"$nulls":22},{"$f":"IF(data!A2142=\"\",\"\",IF(data!E2142=SMALL(data!E2142:'data'!E12140,1),data!A2142,\"\"))","v":""}]
[{"$nulls":22},{"$f":"IF(data!A2143=\"\",\"\",IF(data!E2143=SMALL(data!E2143:'data'!E12141,1),data!A2143,\"\"))","v":""}]
[{"$nulls":22},{"$f":"IF(data!A2144=\"\",\"\",IF(data!E2144=SMALL(data!E2144:'data'!E12142,1),data!A2144,\"\"))","v":""}]
[{"$nulls":22},{"$f":"IF(data!A2145=\"\",\"\",IF(data!E2145=SMALL(data!E2145:'data'!E12143,1),data!A2145,\"\"))","v":""}]
[{"$nulls":22},{"$f":"IF(data!A2146=\"\",\"\",IF(data!E2146=SMALL(data!E2146:'data'!E12144,1),data!A2146,\"\"))","v":""}]
[{"$nulls":22},{"$f":"IF(data!A2147=\"\",\"\",IF(data!E2147=SMALL(data!E2147:'data'!E12145,1),data!A2147,\"\"))","v":""}]
[{"$nulls":22},{"$f":"IF(data!A2148=\"\",\"\",IF(data!E2148=SMALL(data!E2148:'data'!E12146,1),data!A2148,\"\"))","v":""}]
[{"$nulls":22},{"$f":"IF(data!A2149=\"\",\"\",IF(data!E2149=SMALL(data!E2149:'data'!E12147,1),data!A2149,\"\"))","v":""}]
[{"$nulls":22},{"$f":"IF(data!A2150=\"\",\"\",IF(data!E2150=SMALL(data!E2150:'data'!E12148,1),data!A2150,\"\"))","v":""}]
[{"$nulls":22},{"$f":"IF(data!A2151=\"\",\"\",IF(data!E2151=SMALL(data!E2151:'data'!E12149,1),data!A2151,\"\"))","v":""}]
[{"$nulls":22},{"$f":"IF(data!A2152=\"\",\"\",IF(data!E2152=SMALL(data!E2152:'data'!E12150,1),data!A2152,\"\"))","v":""}]
[{"$nulls":22},{"$f":"IF(data!A2153=\"\",\"\",IF(data!E2153=SMALL(data!E2153:'data'!E12151,1),data!A2153,\"\"))","v":""}]
[{"$nulls":22},{"$f":"IF(data!A2154=\"\",\"\",IF(data!E2154=SMALL(data!E2154:'data'!E12152,1),data!A2154,\"\"))","v":""}]
[{"$nulls":22},{"$f":"IF(data!A2155=\"\",\"\",IF(data!E2155=SMALL(data!E2155:'data'!E12153,1),data!A2155,\"\"))","v":""}]
[{"$nulls":22},{"$f":"IF(data!A2156=\"\",\"\",IF(data!E2156=SMALL(data!E2156:'data'!E12154,1),data!A2156,\"\"))","v":""}]
[{"$nulls":22},{"$f":"IF(data!A2157=\"\",\"\",IF(data!E2157=SMALL(data!E2157:'data'!E12155,1),data!A2157,\"\"))","v":""}]
[{"$nulls":22},{"$f":"IF(data!A2158=\"\",\"\",IF(data!E2158=SMALL(data!E2158:'data'!E12156,1),data!A2158,\"\"))","v":""}]
[{"$nulls":22},{"$f":"IF(data!A2159=\"\",\"\",IF(data!E2159=SMALL(data!E2159:'data'!E12157,1),data!A2159,\"\"))","v":""}]
[{"$nulls":22},{"$f":"IF(data!A2160=\"\",\"\",IF(data!E2160=SMALL(data!E2160:'data'!E12158,1),data!A2160,\"\"))","v":""}]
[{"$nulls":22},{"$f":"IF(data!A2161=\"\",\"\",IF(data!E2161=SMALL(data!E2161:'data'!E12159,1),data!A2161,\"\"))","v":""}]
[{"$nulls":22},{"$f":"IF(data!A2162=\"\",\"\",IF(data!E2162=SMALL(data!E2162:'data'!E12160,1),data!A2162,\"\"))","v":""}]
[{"$nulls":22},{"$f":"IF(data!A2163=\"\",\"\",IF(data!E2163=SMALL(data!E2163:'data'!E12161,1),data!A2163,\"\"))","v":""}]
[{"$nulls":22},{"$f":"IF(data!A2164=\"\",\"\",IF(data!E2164=SMALL(data!E2164:'data'!E12162,1),data!A2164,\"\"))","v":""}]
[{"$nulls":22},{"$f":"IF(data!A2165=\"\",\"\",IF(data!E2165=SMALL(data!E2165:'data'!E12163,1),data!A2165,\"\"))","v":""}]
[{"$nulls":22},{"$f":"IF(data!A2166=\"\",\"\",IF(data!E2166=SMALL(data!E2166:'data'!E12164,1),data!A2166,\"\"))","v":""}]
[{"$nulls":22},{"$f":"IF(data!A2167=\"\",\"\",IF(data!E2167=SMALL(data!E2167:'data'!E12165,1),data!A2167,\"\"))","v":""}]
[{"$nulls":22},{"$f":"IF(data!A2168=\"\",\"\",IF(data!E2168=SMALL(data!E2168:'data'!E12166,1),data!A2168,\"\"))","v":""}]
[{"$nulls":22},{"$f":"IF(data!A2169=\"\",\"\",IF(data!E2169=SMALL(data!E2169:'data'!E12167,1),data!A2169,\"\"))","v":""}]
[{"$nulls":22},{"$f":"IF(data!A2170=\"\",\"\",IF(data!E2170=SMALL(data!E2170:'data'!E12168,1),data!A2170,\"\"))","v":""}]
[{"$nulls":22},{"$f":"IF(data!A2171=\"\",\"\",IF(data!E2171=SMALL(data!E2171:'data'!E12169,1),data!A2171,\"\"))","v":""}]
[{"$nulls":22},{"$f":"IF(data!A2172=\"\",\"\",IF(data!E2172=SMALL(data!E2172:'data'!E12170,1),data!A2172,\"\"))","v":""}]
[{"$nulls":22},{"$f":"IF(data!A2173=\"\",\"\",IF(data!E2173=SMALL(data!E2173:'data'!E12171,1),data!A2173,\"\"))","v":""}]
[{"$nulls":22},{"$f":"IF(data!A2174=\"\",\"\",IF(data!E2174=SMALL(data!E2174:'data'!E12172,1),data!A2174,\"\"))","v":""}]
[{"$nulls":22},{"$f":"IF(data!A2175=\"\",\"\",IF(data!E2175=SMALL(data!E2175:'data'!E12173,1),data!A2175,\"\"))","v":""}]
[{"$nulls":22},{"$f":"IF(data!A2176=\"\",\"\",IF(data!E2176=SMALL(data!E2176:'data'!E12174,1),data!A2176,\"\"))","v":""}]
[{"$nulls":22},{"$f":"IF(data!A2177=\"\",\"\",IF(data!E2177=SMALL(data!E2177:'data'!E12175,1),data!A2177,\"\"))","v":""}]
[{"$nulls":22},{"$f":"IF(data!A2178=\"\",\"\",IF(data!E2178=SMALL(data!E2178:'data'!E12176,1),data!A2178,\"\"))","v":""}]
[{"$nulls":22},{"$f":"IF(data!A2179=\"\",\"\",IF(data!E2179=SMALL(data!E2179:'data'!E12177,1),data!A2179,\"\"))","v":""}]
[{"$nulls":22},{"$f":"IF(data!A2180=\"\",\"\",IF(data!E2180=SMALL(data!E2180:'data'!E12178,1),data!A2180,\"\"))","v":""}]
[{"$nulls":22},{"$f":"IF(data!A2181=\"\",\"\",IF(data!E2181=SMALL(data!E2181:'data'!E12179,1),data!A2181,\"\"))","v":""}]
[{"$nulls":22},{"$f":"IF(data!A2182=\"\",\"\",IF(data!E2182=SMALL(data!E2182:'data'!E12180,1),data!A2182,\"\"))","v":""}]
[{"$nulls":22},{"$f":"IF(data!A2183=\"\",\"\",IF(data!E2183=SMALL(data!E2183:'data'!E12181,1),data!A2183,\"\"))","v":""}]
[{"$nulls":22},{"$f":"IF(data!A2184=\"\",\"\",IF(data!E2184=SMALL(data!E2184:'data'!E12182,1),data!A2184,\"\"))","v":""}]
[{"$nulls":22},{"$f":"IF(data!A2185=\"\",\"\",IF(data!E2185=SMALL(data!E2185:'data'!E12183,1),data!A2185,\"\"))","v":""}]
[{"$nulls":22},{"$f":"IF(data!A2186=\"\",\"\",IF(data!E2186=SMALL(data!E2186:'data'!E12184,1),data!A2186,\"\"))","v":""}]
[{"$nulls":22},{"$f":"IF(data!A2187=\"\",\"\",IF(data!E2187=SMALL(data!E2187:'data'!E12185,1),data!A2187,\"\"))","v":""}]
[{"$nulls":22},{"$f":"IF(data!A2188=\"\",\"\",IF(data!E2188=SMALL(data!E2188:'data'!E12186,1),data!A2188,\"\"))","v":""}]
[{"$nulls":22},{"$f":"IF(data!A2189=\"\",\"\",IF(data!E2189=SMALL(data!E2189:'data'!E12187,1),data!A2189,\"\"))","v":""}]
[{"$nulls":22},{"$f":"IF(data!A2190=\"\",\"\",IF(data!E2190=SMALL(data!E2190:'data'!E12188,1),data!A2190,\"\"))","v":""}]
[{"$nulls":22},{"$f":"IF(data!A2191=\"\",\"\",IF(data!E2191=SMALL(data!E2191:'data'!E12189,1),data!A2191,\"\"))","v":""}]
[{"$nulls":22},{"$f":"IF(data!A2192=\"\",\"\",IF(data!E2192=SMALL(data!E2192:'data'!E12190,1),data!A2192,\"\"))","v":""}]
[{"$nulls":22},{"$f":"IF(data!A2193=\"\",\"\",IF(data!E2193=SMALL(data!E2193:'data'!E12191,1),data!A2193,\"\"))","v":""}]
[{"$nulls":22},{"$f":"IF(data!A2194=\"\",\"\",IF(data!E2194=SMALL(data!E2194:'data'!E12192,1),data!A2194,\"\"))","v":""}]
[{"$nulls":22},{"$f":"IF(data!A2195=\"\",\"\",IF(data!E2195=SMALL(data!E2195:'data'!E12193,1),data!A2195,\"\"))","v":""}]
[{"$nulls":22},{"$f":"IF(data!A2196=\"\",\"\",IF(data!E2196=SMALL(data!E2196:'data'!E12194,1),data!A2196,\"\"))","v":""}]
[{"$nulls":22},{"$f":"IF(data!A2197=\"\",\"\",IF(data!E2197=SMALL(data!E2197:'data'!E12195,1),data!A2197,\"\"))","v":""}]
[{"$nulls":22},{"$f":"IF(data!A2198=\"\",\"\",IF(data!E2198=SMALL(data!E2198:'data'!E12196,1),data!A2198,\"\"))","v":""}]
[{"$nulls":22},{"$f":"IF(data!A2199=\"\",\"\",IF(data!E2199=SMALL(data!E2199:'data'!E12197,1),data!A2199,\"\"))","v":""}]
[{"$nulls":22},{"$f":"IF(data!A2200=\"\",\"\",IF(data!E2200=SMALL(data!E2200:'data'!E12198,1),data!A2200,\"\"))","v":""}]
[{"$nulls":22},{"$f":"IF(data!A2201=\"\",\"\",IF(data!E2201=SMALL(data!E2201:'data'!E12199,1),data!A2201,\"\"))","v":""}]
[{"$nulls":22},{"$f":"IF(data!A2202=\"\",\"\",IF(data!E2202=SMALL(data!E2202:'data'!E12200,1),data!A2202,\"\"))","v":""}]
[{"$nulls":22},{"$f":"IF(data!A2203=\"\",\"\",IF(data!E2203=SMALL(data!E2203:'data'!E12201,1),data!A2203,\"\"))","v":""}]
[{"$nulls":22},{"$f":"IF(data!A2204=\"\",\"\",data!A2204)","v":""}]
[{"$nulls":22},{"$f":"IF(data!A2205=\"\",\"\",data!A2205)","v":""}]
[{"$nulls":22},{"$f":"IF(data!A2206=\"\",\"\",data!A2206)","v":""}]
[{"$nulls":22},{"$f":"IF(data!A2207=\"\",\"\",data!A2207)","v":""}]
[{"$nulls":22},{"$f":"IF(data!A2208=\"\",\"\",data!A2208)","v":""}]
[{"$nulls":22},{"$f":"IF(data!A2209=\"\",\"\",data!A2209)","v":""}]

{"sheet":"manual","index":2,"n_rows":26,"n_cols":2,"rows_kept":26,"cut":false,"hidden":false,"merged":[]}
["лист 'data\":"]
[null,"Столбец А - игровые дни, вводятся в формате дд.мм"]
[null,"столбец B - бай-ин турнира"]
[null,"столбец C - затраты на ребаи/аддон в турнире"]
[null,"столбец D - призовые турнира"]
[null,"столбцы E-I заполняются автоматически"]
[null,"столбцы J-K нужны, если на турнир были проданы доли, J - процент проданной доли, K - кэф"]
[null,"всё что правее столбца K трогать не надо, там ведутся расчеты"]
["лист 'statistics':"]
[null,"первые табличка/график показывают результаты за определённый месяц, номер которого вводится в поле D3"]
[null,"табличка выводит результаты сама, график нужно менять вручную, нажав на него правой кнопкой мыши, кликнуть \"выбрать данные\","]
[null,"и в \"=data!$AB$2:$AB$127\" поменять числа 2 и 127 на те, что отображаются в клетках C5 и M5 соответственно"]
[]
[null,"под этим графиком - итоговые результаты по всем данным из таблицы, с графиком то же самое, только второе число должно быть"]
[null,"номером строки листа 'data', в которой введён последний сыгранный турнир"]
[]
[null,"правее этих графиков 2 таблички:"]
[null,"первая считает статистику по вводимому в P3 бай-ину, можно вводить \">10\" например, "]
[null,"под ней график, который показывает картину на указанных лимитах, точно также надо менять данные, "]
[null,"первое число это всегда \"1\", второе - количество турниров в соответствующем окошке выше"]
[null,"вторая - только по ребайникам, аналогично по вводимому в P12 бай-ину"]
[]
[null,"в качестве примера оставляю первый месяц, когда я начал пользоваться этой таблицей."]
[null,"со всеми вопросами - ко мне в блог!"]
[]
[null,"by aJarov"]